Workbook

Sheet CONSOLIDADO HABILITADOS 
A1: CONSOLIDADO TÉCNICO | B1: 1. CICCE | D1: 2. U COPERATIVA DE COLOMBIA | F1: 3. CONSORCIO BI COLOMBIA | H1: 4. UMERANI | J1: 5. CIDOR | L1: 6. UT SUPERSALUD POLCOLAN | N1: 7. U EAN | P1: 8. U CHICAMOCHA | R1: 9. U POLITECNICO | T1: 10. U SANTIAGO DE CALI | V1: 11. ESUMER | X1: 13. U COMPENSAR | Z1: 14. CUN | AB1: 15. UT PIC 2024 | AD1: 16. SOCOLDES
B4: ESTADO | C4: OBSERVACIÓN | D4: ESTADO | E4: OBSERVACIÓN | F4: ESTADO | G4: OBSERVACIÓN | H4: ESTADO | I4: OBSERVACIÓN | J4: ESTADO | K4: OBSERVACIÓN | L4: ESTADO | M4: OBSERVACIÓN | N4: ESTADO | O4: OBSERVACIÓN | P4: ESTADO | Q4: OBSERVACIÓN | R4: ESTADO | S4: OBSERVACIÓN | T4: ESTADO | U4: OBSERVACIÓN | V4: ESTADO | W4: OBSERVACIÓN | X4: ESTADO | Y4: OBSERVACIÓN | Z4: ESTADO | AA4: OBSERVACIÓN | AB4: ESTADO | AC4: OBSERVACIÓN | AD4: ESTADO | AE4: OBSERVACIÓN
A5: EXPERIENCIA DEL PROPONENTE | B5: =+'1. CICCE'!BG21 -> SI CUMPLE | C5: NO HABILITADO | D5: =+'2. COOPERATIVA'!BG22 -> NO CUMPLE | E5: NO HABILITADO | F5: =+'3. CONSORCIO BI'!BJ24 -> SI CUMPLE | G5: HABILITADO | H5: =+'4. UMERANI'!BG21 -> SI CUMPLE | I5: HABILITADO | J5: =+'5. CIDOR'!BG23 -> NO CUMPLE | K5: NO HABILITADO | L5: =+'6. UT POLCOLAN'!BJ24 -> SI CUMPLE | M5: NO HABILITADO | N5: =+'7. EAN'!BG22 -> SI CUMPLE | O5: NO HABILITADO | P5: =+'8. CHICAMOCHA'!BG22 -> NO CUMPLE | Q5: NO HABILITADO | R5: =+'9. POLITECNICO'!BG22 -> NO CUMPLE | S5: NO HABILITADO | T5: =+'10. SANTIAGO CALI'!BG22 -> SI CUMPLE | U5: NO HABILITADO | V5: =+'11. ESUMER'!BG22 -> NO CUMPLE | W5: NO HABILITADO | X5: =+'13. COMPENSAR'!BG22 -> SI CUMPLE | Y5: NO HABILITADO | Z5: =+'14. CUN'!BG22 -> NO CUMPLE | AA5: NO HABILITADO | AB5: =+'15. UT PIC 2024'!BJ24 -> NO CUMPLE | AC5: NO HABILITADO | AD5: =+'16. SOCOLDES'!BG20 -> NO CUMPLE | AE5: NO HABILITADO
A6: PERSONAL MÍMIMO REQUERIDO | B6: =+'1. CICCE'!BO34 -> NO CUMPLE | D6: =+'2. COOPERATIVA'!BO30 -> NO CUMPLE | F6: =+'3. CONSORCIO BI'!BO31 -> SI CUMPLE | H6: =+'4. UMERANI'!BO28 -> SI CUMPLE | J6: =+'5. CIDOR'!BO30 -> SI CUMPLE | L6: =+'6. UT POLCOLAN'!BO31 -> NO CUMPLE | N6: =+'7. EAN'!BO36 -> NO CUMPLE | P6: =+'8. CHICAMOCHA'!BO31 -> NO CUMPLE | R6: =+'9. POLITECNICO'!BO29 -> SI CUMPLE | T6: =+'10. SANTIAGO CALI'!BO30 -> NO CUMPLE | V6: =+'11. ESUMER'!BO39 -> NO CUMPLE | X6: =+'13. COMPENSAR'!BO29 -> NO CUMPLE | Z6: =+'14. CUN'!BO32 -> NO CUMPLE | AB6: =+'15. UT PIC 2024'!BO34 -> SI CUMPLE | AD6: =+'16. SOCOLDES'!BO28 -> NO CUMPLE
A7: SEDE | B7: =+'1. CICCE'!AE38 -> NO CUMPLE | D7: =+'2. COOPERATIVA'!AE43 -> SI CUMPLE | F7: =+'3. CONSORCIO BI'!AE38 -> SI CUMPLE | H7: =+'4. UMERANI'!AE38 -> SI CUMPLE | J7: =+'5. CIDOR'!AE36 -> SI CUMPLE | L7: =+'6. UT POLCOLAN'!AE38 -> SI CUMPLE | N7: =+'7. EAN'!AE42 -> SI CUMPLE | P7: =+'8. CHICAMOCHA'!AE37 -> SI CUMPLE | R7: =+'9. POLITECNICO'!AE35 -> SI CUMPLE | T7: =+'10. SANTIAGO CALI'!AE36 -> NO CUMPLE | V7: =+'11. ESUMER'!AE43 -> NO CUMPLE | X7: =+'13. COMPENSAR'!AE35 -> SI CUMPLE | Z7: =+'14. CUN'!AE38 -> NO CUMPLE | AB7: =+'15. UT PIC 2024'!AE40 -> NO CUMPLE | AD7: =+'16. SOCOLDES'!AE34 -> NO CUMPLE
A8: PROPUESTA TÉCNICA | B8: =+'1. CICCE'!J45 -> SI CUMPLE | D8: =+'2. COOPERATIVA'!J50 -> SI CUMPLE | F8: =+'3. CONSORCIO BI'!J45 -> SI CUMPLE | H8: =+'4. UMERANI'!J45 -> SI CUMPLE | J8: =+'5. CIDOR'!J43 -> SI CUMPLE | L8: =+'6. UT POLCOLAN'!J45 -> SI CUMPLE | N8: =+'7. EAN'!J49 -> SI CUMPLE | P8: =+'8. CHICAMOCHA'!J44 -> SI CUMPLE | R8: =+'9. POLITECNICO'!J42 -> SI CUMPLE | T8: =+'10. SANTIAGO CALI'!J43 -> SI CUMPLE | V8: =+'11. ESUMER'!J50 -> SI CUMPLE | X8: =+'13. COMPENSAR'!J42 -> SI CUMPLE | Z8: =+'14. CUN'!J45 -> SI CUMPLE | AB8: =+'15. UT PIC 2024'!J47 -> SI CUMPLE | AD8: =+'16. SOCOLDES'!J41 -> SI CUMPLE
A13: Nota.
A15: La presente evaluación se suscribe por el comité técnico designado por el ordenador del gasto
A27: Lorena Velasquez Grajales | C27: Camila Andrea Jaime de la Rosa
A28: Directora Talento Humano | C28: Coordinadora Grupo Desarrollo
A35: Yina Pattricia Mejia Rodriguez | C35: Alejandro Bojaca Barreto
A36: Profesional Especializado | C36: Profesional Especializado

Sheet GRUPO 2
A2: OBJETO | C2: Prestar los servicios de formación y capacitación a los funcionarios de la Superintendencia Nacional de Salud para fortalecer sus competencias, de acuerdo con lo identificado en el Plan Institucional de Capacitación para la vigencia 2024.
A3: GRUPO 2 | C3: Demás capacitaciones:
A4: TEMATICAS | C4: 1. Análisis y Gestión de la Información estadística. | S4: 4. Auditoría y supervisión en salud (basada en riesgos). | AH4: 7. Argumentación jurídica, ortografía, Construcción y redacción de textos. (Virtualvía teams)
C5: 2. Definición, Formulación e interpretación de indicadores KIP y OKR. | S5: 5. Diplomado en seguridad del paciente. | AH5: 8. Control Interno y Auditoría interna.,
C6: 3. Control social con enfoque de la administración pública, participación y Orientación al ciudadano. | S6: 6. Actualización y fortalecimiento de técnicas y herramientas para la inspección, vigilancia y control. | AH6: 9. Marco lógico y formulación de proyectos, planes y programas con perspectiva de género y enfoques diferenciales, acoso laboral y sexual.
AH7: 10. Comunicación asertiva y trabajo bajo presión Inteligencia emocional y manejo del estrés.
A9: NOMBRE DEL PROPONENTE
A10: NOMBRE DEL REPRESENTANTE LEGAL
A11: NIT
A12: MIPYME | G12: NO APLICA
A13: PRESUPUESTO OFICIAL | G13: 252.71
A15: 4.3.1. EXPERIENCIA DEL PROPONENTE
AV16: 902.97
A17: E X P E R I E N C I A
A18: NUMERO CONTRATO (SI APLICA) | D18: CODIGO UNSPC | G18: ENTIDAD CONTRATANTE | Q18: FECHA INICIO | T18: FECHA FIN | W18: OBJETO CONTRACTUAL ("Prestar los servicios de formación y/o capacitación en cualquiera de las tematicas del grupo 1.") | AI18: CAPACITACION RELACIONADA | AL18: APORTA CERTIFICACION | AO18: EJECUTADA EN CONSORCIO O UNION TEMPORAL | AR18: PORCENTAJE DE PARTICIPACION | AU18: VALOR DEL CONTRATO (ser igual o superior a 252,71 SMMLV) | AX18: NÚMERO INSCRIPCIÓN RUP | BA18: RUP VIGENTE Y EN FIRME | BD18: FORMATO RELACIONES DE CERTIFICACIONES SI/ NO | BG18: CUMPLE SI/ NO | BJ18: OBSERVACIONES
D19: 80111500 86101600 86101700 86101800 86111500 86111600 86132000 86141500 86141700 | BG19: NO CUMPLE
D20: 80111500 86101600 86101700 86101800 86111500 86111600 86132000 86141500 86141700 | BG20: NO CUMPLE
D21: 80111500 86101600 86101700 86101800 86111500 86111600 86132000 86141500 86141700 | BG21: NO CUMPLE
AR22: SUMATORIA | AU22: =SUM(AU19:AW21) -> 0 | BG22: NO CUMPLE
A24: 4.3.2. PERSONAL MÍNIMO REQUERIDO:
A26: P E R S O N A L M I N I M O R E Q UE R I D O .
A27: NOMBRES Y APELLIDOS | G27: HOJA DE VIDA SI /NO | J27: CEDULA CIUDADANIA | M27: TITULO PROFESIONAL | Q27: FECHA GRADO | T27: Copia de la Tarjeta o matricula profesional vigente | Y27: Certificado de vigencia de la tarjeta profesional | AD27: APORTA TITULO PROFESIONAL | AI27: NOMBRE O RAZON SOCIAL DEL CONTRATANTE | AN27: CERTIFICADO CUMPLE (cargo y/o rol específico y/o objeto, funciones y/o obligaciones y/o actividades desempeñadas relacionadas con el perfil, y el tiempo laborado y/o de ejecución | AS27: EXPERIENCIA RELACIONADA COMO COORDINADOR | AV27: CERTIFICA MISMO PROPONENTE | AY27: APORTA CONTRATO | BB27: APORTA FORMATO EQUIPO DE TRABAJO | BD27: FECHA INICIO | BG27: FECHA FIN | BJ27: AÑO | BK27: MES | BL27: DIA | BM27: TOTAL TIEMPO EXPERIENCIA | BO27: CUMPLE SI/ NO | BR27: OBSERVACIONES
BO28: NO CUMPLE
A33: 4.3.3. SEDES
A35: S E D E S
A36: SEDE | G36: DOCUMENTO SOPORTE | M36: EXPEDIDO | Q36: FECHA EXPEDICION | U36: ÚBICACIÓN DEL INMUEBLE | Y36: BOGOTA | AB36: CUMPLE | AE36: CUMPLE SI/ NO | AH36: OBSERVACIONES
AE37: NO CUMPLE
A40: 4.3.4. PROPUESTA TÉCNICA
A42: P R O P U E S T A T E C N I C A
A43: ANEXO TÉCNICO – FICHA DE ESPECIFICACIONES TÉCNICAS MÍNIMAS. | G43: CUMPLE | J43: CUMPLE SI/ NO | M43: OBSERVACIONES
A44: El proponente con la suscripción de la Carta de Presentación manifiesta que ha leído entiende, acepta y cumplirá todos los requerimientos establecidos en el Anexo No. 1 Especificaciones Técnicas Mínimas, para realizar todas las actividades y entregables descritos en el citado documento. | G44: SI | J44: =+IF(G44="SI","SI CUMPLE","NO CUMPLE") -> SI CUMPLE | M44: El proponente aporta FORMATO N° 1 DE CARTA DE PRESENTACION DE LA OFERTA en el cual en el literal D "Manifiesta que he leído entiendo, acepto y cumpliré todos los requerimientos establecidos en el ANEXO 1 - FICHA TÉCNICA, para realizar todas las actividades y entregables descritos en el citado documento"

Sheet 1. CICCE
A2: OBJETO | C2: Prestar los servicios de formación y capacitación a los funcionarios de la Superintendencia Nacional de Salud para fortalecer sus competencias, de acuerdo con lo identificado en el Plan Institucional de Capacitación para la vigencia 2024.
A3: GRUPO 2 | C3: Demás capacitaciones:
A4: TEMATICAS | C4: 1. Análisis y Gestión de la Información estadística. | S4: 4. Auditoría y supervisión en salud (basada en riesgos). | AH4: 7. Argumentación jurídica, ortografía, Construcción y redacción de textos. (Virtualvía teams)
C5: 2. Definición, Formulación e interpretación de indicadores KIP y OKR. | S5: 5. Diplomado en seguridad del paciente. | AH5: 8. Control Interno y Auditoría interna.,
C6: 3. Control social con enfoque de la administración pública, participación y Orientación al ciudadano. | S6: 6. Actualización y fortalecimiento de técnicas y herramientas para la inspección, vigilancia y control. | AH6: 9. Marco lógico y formulación de proyectos, planes y programas con perspectiva de género y enfoques diferenciales, acoso laboral y sexual.
AH7: 10. Comunicación asertiva y trabajo bajo presión Inteligencia emocional y manejo del estrés.
A9: NOMBRE DEL PROPONENTE | G9: CORPORACION INSTITUTO COLOMBIANO DE CUALIFICACION EMPRESARIAL CICCE
A10: NOMBRE DEL REPRESENTANTE LEGAL | G10: CLAUDIA MILENA MANJARREZ ALZATE
A11: NIT | G11: 900.350.416-6
A12: MIPYME | G12: NO APLICA
A13: PRESUPUESTO OFICIAL | G13: 252.71
A15: 4.3.1. EXPERIENCIA DEL PROPONENTE
A17: E X P E R I E N C I A
A18: NUMERO CONTRATO (SI APLICA) | D18: CODIGO UNSPC | G18: ENTIDAD CONTRATANTE | Q18: FECHA INICIO | T18: FECHA FIN | W18: OBJETO CONTRACTUAL ("Prestar los servicios de formación y/o capacitación en cualquiera de las tematicas del grupo 2.") | AI18: CAPACITACION RELACIONADA | AL18: APORTA CERTIFICACION | AO18: EJECUTADA EN CONSORCIO O UNION TEMPORAL | AR18: PORCENTAJE DE PARTICIPACION | AU18: VALOR DEL CONTRATO (ser igual o superior a 252,71 SMMLV) | AX18: NÚMERO INSCRIPCIÓN RUP | BA18: RUP VIGENTE Y EN FIRME | BD18: FORMATO RELACIONES DE CERTIFICACIONES SI/ NO | BG18: CUMPLE SI/ NO | BJ18: OBSERVACIONES
A19: 012-2018 | D19: 80111500X 86101600X 86101700X 86101800X 86111500X 86111600X 86132000X 86141500X 86141700X | G19: SICLIC COLOMBIA SAS | Q19: 43205 | T19: 43390 | W19: Brindar proceso formativo experiencial en espacios abiertos y metodologías vivenciales para el personal de las diferentes empresas aliadas, con el objetivo de alcanzar competencias de trabajo en equipo, comunicación asertiva, liderazgo, resolución de problemas, cultura y clima organización, entre otros, mediante el uso de nuevas metodologías como Lego Serios Play, Cocinando en equipo, actividades lúdicas como ferias, desing thinkin, entre otros | AI19: SI CUMPLE | AL19: SI | AO19: NO | AR19: NO APLICA | AU19: 448 | AX19: 52 | BA19: SI | BD19: SI | BG19: SI CUMPLE
A20: 063-2017 | D20: 80111500X 86101600X 86101700X 86101800X 86111500X 86111600X 86132000X 86141500X 86141700X | G20: FUNDACION JUNTOS POR EL PRESENTE | Q20: 42781 | T20: 43389 | W20: Brindar apoyo en la sensibilización de 350 personas de población vulnerable y victimas de conflicto armado a través de la formación, el teatro, actividades artísticas y manuales, con el fin de mitigar la violencia intrafamiliar, y lograr igualdad de género, incluyendo logística, aulas, refrigerios, y viáticos para la correcta ejecución del proyecto | AI20: SI CUMPLE | AL20: SI | AO20: NO | AR20: NO APLICA | AU20: 390.4 | AX20: 69 | BA20: SI | BD20: SI | BG20: SI CUMPLE
AR21: SUMATORIA | AU21: =SUM(AU19:AW20) -> 838.4 | BG21: SI CUMPLE
A23: 4.3.2. PERSONAL MÍNIMO REQUERIDO:
A25: P E R S O N A L M I N I M O R E Q U ER I D O .
A26: NOMBRES Y APELLIDOS | G26: HOJA DE VIDA SI /NO | J26: CEDULA CIUDADANIA | M26: TITULO PROFESIONAL | Q26: FECHA GRADO | T26: Copia de la Tarjeta o matricula profesional vigente | Y26: Certificado de vigencia de la tarjeta profesional | AD26: APORTA TITULO PROFESIONAL | AI26: NOMBRE O RAZON SOCIAL DEL CONTRATANTE | AN26: CERTIFICADO CUMPLE (cargo y/o rol específico y/o objeto, funciones y/o obligaciones y/o actividades desempeñadas relacionadas con el perfil, y el tiempo laborado y/o de ejecución | AS26: EXPERIENCIA RELACIONADA COMO COORDINADOR | AV26: CERTIFICA MISMO PROPONENTE | AY26: APORTA CONTRATO | BB26: APORTA FORMATO EQUIPO DE TRABAJO | BD26: FECHA INICIO | BG26: FECHA FIN | BJ26: AÑO | BK26: MES | BL26: DIA | BM26: TOTAL TIEMPO EXPERIENCIA | BO26: CUMPLE SI/ NO | BR26: OBSERVACIONES
A27: CLAUDIA MILENA MANJARREZ ALZATE | G27: SI | J27: NO | M27: ADMINISTRACION DE EMPRESAS | Q27: 38058 | T27: SI | Y27: SI | AD27: SI | AI27: SERVICIO NACIONAL DE APRENDIZAJE SENA | AN27: NO | AS27: NO | AV27: NO | AY27: NO APLICA | BB27: NO | BD27: NO SE EVIDENCIA | BG27: NO SE EVIDENCIA | BJ27: 0 | BK27: 0 | BL27: 0 | BO27: NO CUMPLE | BR27: Aporta certificaciones de experiencia las cuales no se tienen en cuenta porque no cumple con el perfil requerido en el pliego de condiciones para Coordinador de programas académicos.
AI28: SERVICIO NACIONAL DE APRENDIZAJE SENA | AN28: NO | AS28: NO | AV28: NO | AY28: NO APLICA | BB28: NO | BD28: 39835 | BG28: NO SE EVIDENCIA | BJ28: 0 | BK28: 0 | BL28: 0 | BO28: NO CUMPLE
AI29: SERVICIO NACIONAL DE APRENDIZAJE SENA | AN29: NO | AS29: NO | AV29: NO | AY29: NO APLICA | BB29: NO | BD29: 39213 | BG29: NO SE EVIDENCIA | BJ29: 0 | BK29: 0 | BL29: 0 | BO29: NO CUMPLE
AI30: SERVICIO NACIONAL DE APRENDIZAJE SENA (CONTRATO 190, 565, 239, 402 Y 025) | AN30: NO | AS30: NO | AV30: NO | AY30: NO APLICA | BB30: NO | BJ30: =DATEDIF(BD30,BG30,"Y") -> 0 | BK30: =DATEDIF(BD30,BG30,"YM") -> 0 | BL30: =DATEDIF(BD30,BG30,"MD") -> 0 | BO30: NO CUMPLE
AI31: ASOCIACION HOTELERA DE COLOMBIA COTELCO | AN31: NO | AS31: NO | AV31: NO | AY31: NO APLICA | BB31: NO | BD31: 41502 | BG31: 41502 | BJ31: =DATEDIF(BD31,BG31,"Y") -> 0 | BK31: =DATEDIF(BD31,BG31,"YM") -> 0 | BL31: =DATEDIF(BD31,BG31,"MD") -> 0 | BO31: NO CUMPLE
AI32: ASOCIACION HOTELERA DE COLOMBIA COTELCO | AN32: NO | AS32: NO | AV32: NO | AY32: NO APLICA | BB32: NO | BD32: 41351 | BG32: 41355 | BJ32: =DATEDIF(BD32,BG32,"Y") -> 0 | BK32: =DATEDIF(BD32,BG32,"YM") -> 0 | BL32: =DATEDIF(BD32,BG32,"MD") -> 4 | BO32: NO CUMPLE
AI33: CORPORACIOON CICCE | AN33: SI | AS33: SI | AV33: SI | AY33: NO | BB33: NO | BD33: 40220 | BG33: 43278 | BJ33: =DATEDIF(BD33,BG33,"Y") -> 8 | BK33: =DATEDIF(BD33,BG33,"YM") -> 4 | BL33: =DATEDIF(BD33,BG33,"MD") -> 16 | BO33: NO CUMPLE | BR33: El proponente para el coordinador propuesto: No aportó cédula de ciudadanía No aportó Formato “Relación de equipo de trabajo mínimo habilitante” La certificación del empleador CICCE aportada para el coordinador, si bien cumple con el perfil requerido en el pliego de condiciones para Coordinador de programas académicos, por ser certificado por el mismo proponente, debe adjuntar adicionalmente copia del respectivo contrato celebrado con el profesional propuesto y/o el contrato del proyecto en el cual el profesional ejecutó su actividad. SUBSANACIÓN: Deberá aportar para el coordinador propuesto: Cédula de ciudadanía Deberá aportar los documentos con el fin de acreditar las condiciones exigidas al coordinador de acuerdo con lo establecido en el numeral 4.3.2 EQUIPO DE TRABAJO MÍNIMO HABILITANTE Formato “Relación de equipo de trabajo mínimo habilitante”
BO34: NO CUMPLE
A35: S E D E S
A36: SEDE | G36: DOCUMENTO SOPORTE | M36: EXPEDIDO | Q36: FECHA EXPEDICION | U36: ÚBICACIÓN DEL INMUEBLE | Y36: BOGOTA | AB36: CUMPLE | AE36: CUMPLE SI/ NO | AH36: OBSERVACIONES
A37: ARRENDADA | G37: CONTRATO DE ARRIENDO | M37: DIANA ALEJANDRA PEREZ FORERO | Q37: 42632 | U37: BOGOTA | Y37: SI | AB37: NO | AE37: NO CUMPLE | AH37: El proponente aporta el contrato de arrendamiento, una vez revisadas las cláusulas se tiene como fecha de inicio: 1 de octubre de 2016 y fecha de terminación: 30 de septiembre de 2017. PARÁGRAFO: Este contrato será renovado anualmente durante los cinco (5) años; así las cosas, el contrato finalizó el 30 de septiembre de 2022. SUBSANACIÓN: Deberá aportar documento contractual con el nuevo plazo.
AE38: NO CUMPLE
A40: 4.3.4. PROPUESTA TÉCNICA
A42: P R O P U E S T A T E C N I C A
A43: ANEXO TÉCNICO – FICHA DE ESPECIFICACIONES TÉCNICAS MÍNIMAS. | G43: CUMPLE | J43: CUMPLE SI/ NO | M43: OBSERVACIONES
A44: El proponente con la suscripción de la Carta de Presentación manifiesta que ha leído entiende, acepta y cumplirá todos los requerimientos establecidos en el Anexo No. 1 Especificaciones Técnicas Mínimas, para realizar todas las actividades y entregables descritos en el citado documento. | G44: SI | J44: =+IF(G44="SI","SI CUMPLE","NO CUMPLE") -> SI CUMPLE | M44: El proponente aporta FORMATO N° 1 DE CARTA DE PRESENTACION DE LA OFERTA en el cual en el literal D "Manifiesta que he leído entiendo, acepto y cumpliré todos los requerimientos establecidos en el ANEXO 1 - FICHA TÉCNICA, para realizar todas las actividades y entregables descritos en el citado documento"
J45: =+J44 -> SI CUMPLE

Sheet 2. COOPERATIVA
A2: OBJETO | C2: Prestar los servicios de formación y capacitación a los funcionarios de la Superintendencia Nacional de Salud para fortalecer sus competencias, de acuerdo con lo identificado en el Plan Institucional de Capacitación para la vigencia 2024.
A3: GRUPO 2 | C3: Demás capacitaciones:
A4: TEMATICAS | C4: 1. Análisis y Gestión de la Información estadística. | S4: 4. Auditoría y supervisión en salud (basada en riesgos). | AH4: 7. Argumentación jurídica, ortografía, Construcción y redacción de textos. (Virtualvía teams)
C5: 2. Definición, Formulación e interpretación de indicadores KIP y OKR. | S5: 5. Diplomado en seguridad del paciente. | AH5: 8. Control Interno y Auditoría interna.,
C6: 3. Control social con enfoque de la administración pública, participación y Orientación al ciudadano. | S6: 6. Actualización y fortalecimiento de técnicas y herramientas para la inspección, vigilancia y control. | AH6: 9. Marco lógico y formulación de proyectos, planes y programas con perspectiva de género y enfoques diferenciales, acoso laboral y sexual.
AH7: 10. Comunicación asertiva y trabajo bajo presión Inteligencia emocional y manejo del estrés.
A9: NOMBRE DEL PROPONENTE | G9: UNIVERSIDAD COOPERATIVA DE COLOMBIA
A10: NOMBRE DEL REPRESENTANTE LEGAL | G10: MARITZA RONDON
A11: NIT | G11: 860029924-7
A12: MIPYME | G12: NO APLICA | AZ12: =252.71+226.89 -> 479.6
A13: PRESUPUESTO OFICIAL | G13: 252.71
A15: 4.3.1. EXPERIENCIA DEL PROPONENTE
A17: E X P E R I E N C I A
A18: NUMERO CONTRATO (SI APLICA) | D18: CODIGO UNSPC | G18: ENTIDAD CONTRATANTE | Q18: FECHA INICIO | T18: FECHA FIN | W18: OBJETO CONTRACTUAL ("Prestar los servicios de formación y/o capacitación en cualquiera de las tematicas del grupo 2") | AI18: CAPACITACION RELACIONADA | AL18: APORTA CERTIFICACION | AO18: EJECUTADA EN CONSORCIO O UNION TEMPORAL | AR18: PORCENTAJE DE PARTICIPACION | AU18: VALOR DEL CONTRATO (ser igual o superior a 252,71 SMMLV) | AX18: NÚMERO INSCRIPCIÓN RUP | BA18: RUP VIGENTE Y EN FIRME | BD18: FORMATO RELACIONES DE CERTIFICACIONES SI/ NO | BG18: CUMPLE SI/ NO | BJ18: OBSERVACIONES
A19: 209 | D19: 80111500 86101600 86101700 (X) 86101800 (X) 86111500 86111600 (X) 86132000 (X) 86141500 86141700 | G19: ASCOOP - SENA | Q19: 43665 | T19: 43798 | W19: “El Contratista, Se Obliga Para Con El Contratante A Ejecutar Un Programa De Formación Continua Especializada, Identificada Para El Personal Vinculado A Las Organizaciones Asociadas A Ascoop, Y Su Cadena Productiva En Los Niveles Alta Dirección, Medio Y Operativo En La Siguiente Acción De Formación: • Diplomado Virtual: Herramientas Pedagógicas Para El Aprovechamiento De Las Tic En El Aula. • Diplomado Virtual: Fortalecimiento De Organizaciones De Economía Social Y Solidaria En Colombia Entorno A Las Tic. • Curso Presencial: Gestión De Proyectos De Impacto Local, Regional Y Nacional Con Énfasis En Los Focos CTE”. | AI19: NO CUMPLE | AL19: SI | AO19: NO APLICA | AR19: NO APLICA | AU19: 1031.96 | AX19: 129 | BA19: SI | BD19: SI | BG19: NO CUMPLE | BJ19: El proponente aportó Certificado de experiencia que NO Cumple con las temáticas del Grupo. SUBSANACIÓN: Deberá aportar el Certificado de Experiencia y acreditar la experiencia conforme a lo establecido en el pliego de condiciones, numeral 4.3.1 EXPERIENCIA.
A20: 903- 2023 | D20: 80111500 (X) 86101600 (X) 86101700 (X) 86101800 (X) 86111500 86111600 (X) 86132000 (X) 86141500 (X) 86141700 | G20: SECRETARIA DE SALUD DE CUNDINAMARCA | Q20: 45152 | T20: 45275 | W20: Realizar Un Diplomado En Verificación De Condiciones De Habilitación, Como Componente Del Sistema Obligatorio De Garantías De La Calidad En Salud Para Los Funcionarios De La Secretaria De Salud | AI20: NO CUMPLE | AL20: NO | AO20: NO APLICA | AR20: NO APLICA | AU20: 81.46 | AX20: 226 | BA20: SI | BD20: SI | BG20: NO CUMPLE | BJ20: El proponente no aportó Certificado de experiencia y por el contrario aportó un contrato con un acta de liquidación de la Secretaría de Salud de Cundinamarca, con la cual NO CUMPLE con el requisito de las temáticas del Grupo 2. SUBSANACIÓN: Deberá aportar el Certificado de Experiencia que Cumpla con la acreditación de las temáticas conforme a lo establecido en el pliego de condiciones, numeral 4.3.1 EXPERIENCIA. NOTA: Así mismo debe tener en cuenta que para el presente caso, se está acreditando la misma experiencia para los dos grupos. Por lo tanto, la suma de las certificaciones aportadas debe ser el valor total de presupuesto oficial en Salarios Mínimos Legales Mensuales Vigentes, es decir 479,60. Lo anterior, en cumplimiento a la NOTA 3: Para acreditar la experiencia el proponente podrá aportar mínimo uno (1) y máximo tres (3) contratos para cada uno de los grupos o lotes, o podrá aportar los mismos para todos los grupos o lotes siempre y cuando cumplan con todas las condiciones establecidas para cada grupo. En la verificación del número de contratos frente al presupuesto oficial, el valor a certificar debe ser con relación al valor del presupuesto oficial del respectivo grupo o lote expresado en SMMLV, si se presenta para los dos grupos, será la sumatoria de los dos grupos a presentarse.
A21: 418 - 2022 | D21: 80111500 86101600 86101700 (X) 86101800 (X) 86111500 (X) 86111600 (X) 86132000 (X) 86141500 (X) 86141700 (X) | G21: INPEC | Q21: NO SE EVIDENCIA PORQUE ES UN ACTA DE RECIBO PARCIAL | T21: NO SE EVIDENCIA PORQUE ES UN ACTA DE RECIBO PARCIAL | W21: Contratar La Capacitación Para Los Servidores Públicos Penitenciarios Del INPEC, Mediante La Modalidad De Diplomado, Conforme La Necesidad Presentada En El Plan Institucional De Capacitación Para La Vigencia 2022 | AI21: SI CUMPLE | AL21: NO | AO21: NO APLICA | AR21: NO APLICA | AU21: 285 | AX21: 195 | BA21: SI | BD21: SI | BG21: NO CUMPLE | BJ21: El proponente no aportó Certificado de experiencia y por el contrario aportó el contrato con un acta de recibo parcial de la Escuela de Formación del INPEC, con la cual NO CUMPLE con el requisito, toda vez que se debe aportar es el Certificado de Experiencia donde se evidencie la información de la Nota 2, del numeral 4.3.1 Experiencia. Por lo tanto, no se puede tener en cuenta esta experiencia. SUBSANACIÓN: Deberá aportar el Certificado de Experiencia conforme a lo establecido en el pliego de condiciones, numeral 4.3.1 EXPERIENCIA. NOTA: Así mismo debe tener en cuenta que para el presente caso, se está acreditando la misma experiencia para los dos grupos. Por lo tanto, la suma de las certificaciones aportadas debe ser el valor total de presupuesto oficial en Salarios Mínimos Legales Mensuales Vigentes, es decir 479,60. Lo anterior, en cumplimiento a la NOTA 3: Para acreditar la experiencia el proponente podrá aportar mínimo uno (1) y máximo tres (3) contratos para cada uno de los grupos o lotes, o podrá aportar los mismos para todos los grupos o lotes siempre y cuando cumplan con todas las condiciones establecidas para cada grupo. En la verificación del número de contratos frente al presupuesto oficial, el valor a certificar debe ser con relación al valor del presupuesto oficial del respectivo grupo o lote expresado en SMMLV, si se presenta para los dos grupos, será la sumatoria de los dos grupos a presentarse.
AR22: SUMATORIA | AU22: 0 | BG22: NO CUMPLE
A24: 4.3.2. PERSONAL MÍNIMO REQUERIDO:
A26: P E R S O N A L M I N I M O R E Q UE R I D O .
A27: NOMBRES Y APELLIDOS | G27: HOJA DE VIDA SI /NO | J27: CEDULA CIUDADANIA | M27: TITULO PROFESIONAL | Q27: FECHA GRADO | T27: Copia de la Tarjeta o matricula profesional vigente | Y27: Certificado de vigencia de la tarjeta profesional | AD27: APORTA TITULO PROFESIONAL | AI27: NOMBRE O RAZON SOCIAL DEL CONTRATANTE | AN27: CERTIFICADO CUMPLE (cargo y/o rol específico y/o objeto, funciones y/o obligaciones y/o actividades desempeñadas relacionadas con el perfil, y el tiempo laborado y/o de ejecución | AS27: EXPERIENCIA RELACIONADA COMO COORDINADOR | AV27: CERTIFICA MISMO PROPONENTE | AY27: APORTA CONTRATO | BB27: APORTA FORMATO EQUIPO DE TRABAJO | BD27: FECHA INICIO | BG27: FECHA FIN | BJ27: AÑO | BK27: MES | BL27: DIA | BM27: TOTAL TIEMPO EXPERIENCIA | BO27: CUMPLE SI/ NO | BR27: OBSERVACIONES
A28: JAZMITH ADRIANA ROJAS MARTINEZ | G28: SI | J28: SI | M28: ECONOMISTA | Q28: 34208 | T28: SI | Y28: NO | AD28: SI | AI28: CENTRO DE INVESTIGACION CIENTIFICA PARA EL DESARROLLO ECONOMICO LA CALIDAD DE VIDA Y SUPERACION DE LA POBREZA | AN28: NO | AS28: NO | AV28: NO | AY28: NO APLICA | BB28: SI | BD28: 42451 | BG28: 42990 | BJ28: =DATEDIF(BD28,BG28,"Y") -> 1 | BK28: =DATEDIF(BD28,BG28,"YM") -> 5 | BL28: =DATEDIF(BD28,BG28,"MD") -> 21 | BO28: NO CUMPLE | BR28: Para el coordinador propuesto: No se aportó el certificado de vigencia de la tarjeta profesional, El certificado de experiencia del Centro De Investigación Científica para el Desarrollo Económico ya Calidad De Vida y Superación De La Pobreza no tiene funciones, obligaciones o actividades, que puedan permitir verificar experiencia relacionada exigida. SUBSANACIÓN: Deberá aportar: Certificado de vigencia de la tarjeta profesional. Acreditar la experiencia del coordinador de acuerdo con lo establecido en la observación anterior y cumpliendo con 4.3.2 EQUIPO DE TRABAJO MÍNIMO HABILITANTE
AI29: UNIVERSIDAD DE CIENCIAS APLICADAS UDCA | AN29: NO | AS29: NO | AV29: NO | AY29: NO APLICA | BB29: SI | BD29: 41554 | BG29: 43343 | BJ29: =DATEDIF(BD29,BG29,"Y") -> 4 | BK29: =DATEDIF(BD29,BG29,"YM") -> 10 | BL29: =DATEDIF(BD29,BG29,"MD") -> 24 | BO29: NO CUMPLE | BR29: Para el coordinador propuesto: No se aportó el certificado de vigencia de la tarjeta profesional, El certificado de experiencia del UDCA no tiene funciones, obligaciones o actividades, que puedan permitir verificar experiencia relacionada exigida. SUBSANACIÓN: Deberá aportar: Certificado de vigencia de la tarjeta profesional. Acreditar la experiencia del coordinador de acuerdo con lo establecido en la observación anterior y cumpliendo con 4.3.2 EQUIPO DE TRABAJO MÍNIMO HABILITANTE.
BJ30: =SUM(BJ28:BJ29) -> 5 | BK30: =SUM(BK28:BK29) -> 15 | BL30: =SUM(BL28:BL29) -> 45 | BO30: NO CUMPLE
A31: 4.3.3. SEDES | BJ31: =+BJ30*12 -> 60 | BK31: =+BK30 -> 15 | BL31: =+BL30/30 -> 1.5
BJ32: =+BJ31+BK31+BL31 -> 76.5 | BK32: MESES
A33: S E D E S
A34: SEDE | G34: DOCUMENTO SOPORTE | M34: EXPEDIDO | Q34: FECHA EXPEDICION | U34: ÚBICACIÓN DEL INMUEBLE | Y34: BOGOTA | AB34: CUMPLE | AE34: CUMPLE SI/ NO | AH34: OBSERVACIONES
A35: PROPIA | G35: CERTIFICADO DE TRADICION Y LIBERTAD | M35: OFICINA DE REGISTRO E INSTRUMENTOS PUBLICOS ZONA CENTRO | Q35: 45497 | U35: BOGOTA | Y35: SI | AB35: SI | AE35: SI CUMPLE | AH35: N° 50 C - 1470770
A36: PROPIA | G36: CERTIFICADO DE TRADICION Y LIBERTAD | M36: OFICINA DE REGISTRO E INSTRUMENTOS PUBLICOS ZONA CENTRO | Q36: 45497 | U36: BOGOTA | Y36: SI | AB36: SI | AE36: SI CUMPLE | AH36: N° 50 C - 37952
A37: PROPIA | G37: CERTIFICADO DE TRADICION Y LIBERTAD | M37: OFICINA DE REGISTRO E INSTRUMENTOS PUBLICOS ZONA CENTRO | Q37: 45497 | U37: BOGOTA | Y37: SI | AB37: SI | AE37: SI CUMPLE | AH37: N° 50 C - 37954
A38: PROPIA | G38: CERTIFICADO DE TRADICION Y LIBERTAD | M38: OFICINA DE REGISTRO E INSTRUMENTOS PUBLICOS ZONA CENTRO | Q38: 45498 | U38: BOGOTA | Y38: SI | AB38: SI | AE38: SI CUMPLE | AH38: N° 50 C - 37956
A39: PROPIA | G39: CERTIFICADO DE TRADICION Y LIBERTAD | M39: OFICINA DE REGISTRO E INSTRUMENTOS PUBLICOS ZONA CENTRO | Q39: 45499 | U39: BOGOTA | Y39: SI | AB39: SI | AE39: SI CUMPLE | AH39: N° 50 C - 37958
A40: PROPIA | G40: CERTIFICADO DE TRADICION Y LIBERTAD | M40: OFICINA DE REGISTRO E INSTRUMENTOS PUBLICOS ZONA CENTRO | Q40: 45500 | U40: BOGOTA | Y40: SI | AB40: SI | AE40: SI CUMPLE | AH40: 50 C 151554
A41: PROPIA | G41: CERTIFICADO DE TRADICION Y LIBERTAD | M41: OFICINA DE REGISTRO E INSTRUMENTOS PUBLICOS ZONA CENTRO | Q41: 45501 | U41: BOGOTA | Y41: SI | AB41: SI | AE41: SI CUMPLE | AH41: 50 C - 1526522
A42: PROPIA | G42: CERTIFICADO DE TRADICION Y LIBERTAD | M42: OFICINA DE REGISTRO E INSTRUMENTOS PUBLICOS ZONA CENTRO | Q42: 45502 | U42: BOGOTA | Y42: SI | AB42: SI | AE42: SI CUMPLE | AH42: 50 C - 1526521
AE43: =+AE36 -> SI CUMPLE
A45: 4.3.4. PROPUESTA TÉCNICA
A47: P R O P U E S T A T E C N I C A
A48: ANEXO TÉCNICO – FICHA DE ESPECIFICACIONES TÉCNICAS MÍNIMAS. | G48: CUMPLE | J48: CUMPLE SI/ NO | M48: OBSERVACIONES
...

Sheet 3. CONSORCIO BI
A2: OBJETO | C2: Prestar los servicios de formación y capacitación a los funcionarios de la Superintendencia Nacional de Salud para fortalecer sus competencias, de acuerdo con lo identificado en el Plan Institucional de Capacitación para la vigencia 2024.
A3: GRUPO 2 | C3: Demás capacitaciones:
A4: TEMATICAS | C4: 1. Análisis y Gestión de la Información estadística. | S4: 4. Auditoría y supervisión en salud (basada en riesgos). | AH4: 7. Argumentación jurídica, ortografía, Construcción y redacción de textos. (Virtualvía teams)
C5: 2. Definición, Formulación e interpretación de indicadores KIP y OKR. | S5: 5. Diplomado en seguridad del paciente. | AH5: 8. Control Interno y Auditoría interna.,
C6: 3. Control social con enfoque de la administración pública, participación y Orientación al ciudadano. | S6: 6. Actualización y fortalecimiento de técnicas y herramientas para la inspección, vigilancia y control. | AH6: 9. Marco lógico y formulación de proyectos, planes y programas con perspectiva de género y enfoques diferenciales, acoso laboral y sexual.
AH7: 10. Comunicación asertiva y trabajo bajo presión Inteligencia emocional y manejo del estrés.
A9: NOMBRE DEL PROPONENTE | G9: CONSORCIO BI COLOMBIA | W9: BETA GROUP COLOMBIA SAS | AE9: NIT 901660647-3 | AG9: 0.5 | AI9: PEQUEÑA EMPRESA
A10: NOMBRE DEL REPRESENTANTE LEGAL | G10: ROBERTO GARCIA BETANCUR | W10: INSTITUTO COLOMBIANO DE APRENDIZAJE INCAP | AE10: NIT 800216673-7 | AG10: 0.5 | AI10: MEDIANA EMPRESA
A11: NIT
A12: MIPYME | G12: SI
A13: PRESUPUESTO OFICIAL | G13: 252.71
A15: 4.3.1. EXPERIENCIA DEL PROPONENTE
A17: E X P E R I E N C I A
A18: NUMERO CONTRATO (SI APLICA) | D18: CODIGO UNSPC | G18: ENTIDAD CONTRATANTE | Q18: FECHA INICIO | T18: FECHA FIN | W18: OBJETO CONTRACTUAL ("Prestar los servicios de formación y/o capacitación en cualquiera de las tematicas del grupo 2.") | AI18: CAPACITACION RELACIONADA | AL18: APORTA CERTIFICACION | AO18: EJECUTADA EN CONSORCIO O UNION TEMPORAL | AR18: PORCENTAJE DE PARTICIPACION | AU18: VALOR DEL CONTRATO | AX18: VALOR DEL CONTRATO (ser igual o superior a 252,71 SMMLV) | BA18: NÚMERO INSCRIPCIÓN RUP | BD18: RUP VIGENTE Y EN FIRME | BG18: FORMATO RELACIONES DE CERTIFICACIONES SI/ NO | BJ18: CUMPLE SI/ NO | BM18: OBSERVACIONES
A19: EXPERIENCIA APORTADA POR BETA GROUP COLOMBIA SAS
A20: SC 0349-18 | D20: 80111500 (X) 86101600 (X) 86101700 (X) 86101800 (X) 86111500 86111600 (X) 86132000 (X) 86141500 (X) 86141700 (X) | G20: AGENCIA DE RENOVACIÓN DEL TERRITORIO ART | Q20: 43241 | T20: 43465 | W20: Diseñar, implementar y validar la metodología y herramientas para fortalecer las capacidades de instituciones públicas y organizaciones sociales, comunitarias y productivas rurales con enfoque territorial que sean estratégicas | AI20: SI CUMPLE | AL20: SI | AO20: NO | AR20: NO APLICA | AU20: 2466.82 | AX20: =+AU20*AG9 -> 1233.41 | BA20: 7 | BD20: SI | BG20: SI | BJ20: SI CUMPLE
A21: EXPERIENCIA APORTADA POR INCAP
A22: PO 40202105 | D22: 80111500 (X) 86101600 (X) 86101700 86101800 (X) 86111500 (X) 86111600 (X) 86132000 (X) 86141500 (X) 86141700 (X) | G22: ORGANIZACIÓN INTERNACIONAL DEL TRABAJO | Q22: 43040 | T22: 43342 | W22: Realizar la convocatoria, selección, formación, diseño, seguimiento y monitoreo dentro de la estrategia de formación para el trabajo y desarrollo humano y de vinculación a prácticas laborales de 2,062 alumnos, en el marco del Proyecto: “FORTALECIMIENTO DEL TALENTO HUMANO PARA LA INDUSTRIA TI EN COLOMBIA”. | AI22: SI CUMPLE | AL22: SI | AO22: NO | AR22: NO APLICA | AU22: 7916.62 | AX22: =+AU22*$AG$10 -> 3958.31 | BA22: 17 | BD22: SI | BG22: SI | BJ22: SI CUMPLE
A23: OC 403 50216 | D23: 80111500 (X) 86101600 (X) 86101700 (X) 86101800 (X) 86111500 (X) 86111600 (X) 86132000 (X) 86141500 (X) 86141700 (X) | G23: ORGANIZACIÓN INTERNACIONAL DEL TRABAJO | Q23: 44457 | T23: 44642 | W23: Apoyar a la OIT en la implementación de la estrategia de Promoción del Emprendimiento y Fortalecimiento Empresarial para la localidad de Puente Aranda, a través de la implementación de acciones para la formación, fortalecimiento de habilidades blandas, acompañamiento psicosocial, entregas de auxilios, compra y entrega de activos productivos para algunos emprendimientos. | AI23: SI CUMPLE | AL23: SI | AO23: NO | AR23: NO APLICA | AU23: 536.48 | AX23: =+AU23*$AG$10 -> 268.24 | BA23: 37 | BD23: SI | BG23: SI | BJ23: SI CUMPLE
AR24: SUMATORIA | AX24: =+AX20+AX22 -> 5191.72 | BJ24: SI CUMPLE
A26: 4.3.2. PERSONAL MÍNIMO REQUERIDO:
A28: P E R S O N A L M I N I M O R E Q UE R I D O .
A29: NOMBRES Y APELLIDOS | G29: HOJA DE VIDA SI /NO | J29: CEDULA CIUDADANIA | M29: TITULO PROFESIONAL | Q29: FECHA GRADO | T29: Copia de la Tarjeta o matricula profesional vigente | Y29: Certificado de vigencia de la tarjeta profesional | AD29: APORTA TITULO PROFESIONAL | AI29: NOMBRE O RAZON SOCIAL DEL CONTRATANTE | AN29: CERTIFICADO CUMPLE (cargo y/o rol específico y/o objeto, funciones y/o obligaciones y/o actividades desempeñadas relacionadas con el perfil, y el tiempo laborado y/o de ejecución | AS29: EXPERIENCIA RELACIONADA COMO COORDINADOR | AV29: CERTIFICA MISMO PROPONENTE | AY29: APORTA CONTRATO | BB29: APORTA FORMATO EQUIPO DE TRABAJO | BD29: FECHA INICIO | BG29: FECHA FIN | BJ29: AÑO | BK29: MES | BL29: DIA | BM29: TOTAL TIEMPO EXPERIENCIA | BO29: CUMPLE SI/ NO | BR29: OBSERVACIONES
A30: OLGA CECILIA RAMÍREZ ROA | G30: SI | J30: SI | M30: Licenciada en Lingüística y Literatura | Q30: 32506 | T30: NO | Y30: NO APLICA | AD30: SI | AI30: GIMNASIO NUEVA VILLA MAYOR | AN30: SI | AS30: SI | AV30: NO | AY30: NO APLICA | BB30: SI | BD30: 42287 | BG30: 45492 | BJ30: =DATEDIF(BD30,BG30,"Y") -> 8 | BK30: =DATEDIF(BD30,BG30,"YM") -> 9 | BL30: =DATEDIF(BD30,BG30,"MD") -> 9 | BO30: SI CUMPLE
BO31: SI CUMPLE
A32: 4.3.3. SEDES
A34: S E D E S
A35: SEDE | G35: DOCUMENTO SOPORTE | M35: EXPEDIDO | Q35: FECHA EXPEDICION | U35: ÚBICACIÓN DEL INMUEBLE | Y35: BOGOTA | AB35: CUMPLE | AE35: CUMPLE SI/ NO | AH35: OBSERVACIONES
A36: PROPIA | G36: CERTIFICADO DE TRADICION Y LIBERTAD | M36: OFICINA INSTRUMENTOS PUBLICOS DE BOGOTA | Q36: 45490 | U36: BOGOTA | Y36: SI | AB36: SI | AE36: SI CUMPLE
A37: PROPIA | G37: CERTIFICADO DE TRADICION Y LIBERTAD | M37: OFICINA INSTRUMENTOS PUBLICOS DE BOGOTA | Q37: 45490 | U37: BOGOTA | Y37: SI | AB37: SI | AE37: SI CUMPLE
AE38: =+AE37 -> SI CUMPLE
A40: 4.3.4. PROPUESTA TÉCNICA
A42: P R O P U E S T A T E C N I C A
A43: ANEXO TÉCNICO – FICHA DE ESPECIFICACIONES TÉCNICAS MÍNIMAS. | G43: CUMPLE | J43: CUMPLE SI/ NO | M43: OBSERVACIONES
A44: El proponente con la suscripción de la Carta de Presentación manifiesta que ha leído entiende, acepta y cumplirá todos los requerimientos establecidos en el Anexo No. 1 Especificaciones Técnicas Mínimas, para realizar todas las actividades y entregables descritos en el citado documento. | G44: SI | J44: =+IF(G44="SI","SI CUMPLE","NO CUMPLE") -> SI CUMPLE | M44: El proponente aporta FORMATO N° 1 DE CARTA DE PRESENTACION DE LA OFERTA en el cual en el literal D "Manifiesta que he leído entiendo, acepto y cumpliré todos los requerimientos establecidos en el ANEXO 1 - FICHA TÉCNICA, para realizar todas las actividades y entregables descritos en el citado documento"
J45: =+J44 -> SI CUMPLE

Sheet 4. UMERANI
A2: OBJETO | C2: Prestar los servicios de formación y capacitación a los funcionarios de la Superintendencia Nacional de Salud para fortalecer sus competencias, de acuerdo con lo identificado en el Plan Institucional de Capacitación para la vigencia 2024.
A3: GRUPO 2 | C3: Demás capacitaciones:
A4: TEMATICAS | C4: 1. Análisis y Gestión de la Información estadística. | S4: 4. Auditoría y supervisión en salud (basada en riesgos). | AH4: 7. Argumentación jurídica, ortografía, Construcción y redacción de textos. (Virtualvía teams)
C5: 2. Definición, Formulación e interpretación de indicadores KIP y OKR. | S5: 5. Diplomado en seguridad del paciente. | AH5: 8. Control Interno y Auditoría interna.,
C6: 3. Control social con enfoque de la administración pública, participación y Orientación al ciudadano. | S6: 6. Actualización y fortalecimiento de técnicas y herramientas para la inspección, vigilancia y control. | AH6: 9. Marco lógico y formulación de proyectos, planes y programas con perspectiva de género y enfoques diferenciales, acoso laboral y sexual.
AH7: 10. Comunicación asertiva y trabajo bajo presión Inteligencia emocional y manejo del estrés.
A9: NOMBRE DEL PROPONENTE | G9: FUNDACION DE EDUCACION SUPERIOR ALBERTO MERANI
A10: NOMBRE DEL REPRESENTANTE LEGAL | G10: JUAN SEBASTIAN DE ZUBIRIA RAGO
A11: NIT | G11: 900019885 1
A12: MIPYME | G12: NO APLICA
A13: PRESUPUESTO OFICIAL | G13: 252.71
A15: 4.3.1. EXPERIENCIA DEL PROPONENTE
A17: E X P E R I E N C I A
A18: NUMERO CONTRATO (SI APLICA) | D18: CODIGO UNSPC | G18: ENTIDAD CONTRATANTE | Q18: FECHA INICIO | T18: FECHA FIN | W18: OBJETO CONTRACTUAL ("Prestar los servicios de formación y/o capacitación en cualquiera de las tematicas del grupo 2.") | AI18: CAPACITACION RELACIONADA | AL18: APORTA CERTIFICACION | AO18: EJECUTADA EN CONSORCIO O UNION TEMPORAL | AR18: PORCENTAJE DE PARTICIPACION | AU18: VALOR DEL CONTRATO (ser igual o superior a 252,71 SMMLV) | AX18: NÚMERO INSCRIPCIÓN RUP | BA18: RUP VIGENTE Y EN FIRME | BD18: FORMATO RELACIONES DE CERTIFICACIONES SI/ NO | BG18: CUMPLE SI/ NO | BJ18: OBSERVACIONES
A19: 210529 - 2021 | D19: 80111500 (X) 86101600 (X) 86101700 (X) 86101800 (X) 86111500 (X) 86111600 (X) 86132000 (X) 86141500 (X) 86141700 (X) | G19: SECRETARIA DISTRITAL DE HACIENDA DE BOGOTA | Q19: 44526 | T19: 44888 | W19: Desarrollar las jornadas de capacitación previstas en el Plan Institucional de Capacitación - PIC dirigidas a los funcionarios de la Secretaría Distrital de Hacienda. | AI19: SI CUMPLE | AL19: SI | AO19: NO APLICA | AR19: NO APLICA | AU19: 215.78 | AX19: 32 | BA19: SI | BD19: SI | BG19: SI CUMPLE
A20: 818- 2022 | D20: 80111500 (X) 86101600 (X) 86101700 (X) 86101800 (X) 86111500 (X) 86111600 (X) 86132000 (X) 86141500 (X) 86141700 (X) | G20: MINISTERIO DE VIVIENDA CIUDAD Y TERRITORIO | Q20: 44690 | T20: 44926 | W20: Prestar servicios en el fortalecimiento de las competencias laborales de los servidores públicos del Ministerio de Vivienda, Ciudad y Territorio de conformidad con lo estipulado en el Plan Institucional de Capacitación – PIC 2022 | AI20: SI CUMPLE | AL20: SI | AO20: NO APLICA | AR20: NO APLICA | AU20: 174.8 | AX20: 31 | BA20: SI | BD20: SI | BG20: SI CUMPLE
AR21: SUMATORIA | AU21: =+AU20+AU19 -> 390.58 | BG21: SI CUMPLE
A23: 4.3.2. PERSONAL MÍNIMO REQUERIDO:
A25: P E R S O N A L M I N I M O R E Q UE R I D O .
A26: NOMBRES Y APELLIDOS | G26: HOJA DE VIDA SI /NO | J26: CEDULA CIUDADANIA | M26: TITULO PROFESIONAL | Q26: FECHA GRADO | T26: Copia de la Tarjeta o matricula profesional vigente | Y26: Certificado de vigencia de la tarjeta profesional | AD26: APORTA TITULO PROFESIONAL | AI26: NOMBRE O RAZON SOCIAL DEL CONTRATANTE | AN26: CERTIFICADO CUMPLE (cargo y/o rol específico y/o objeto, funciones y/o obligaciones y/o actividades desempeñadas relacionadas con el perfil, y el tiempo laborado y/o de ejecución | AS26: EXPERIENCIA RELACIONADA COMO COORDINADOR | AV26: CERTIFICA MISMO PROPONENTE | AY26: APORTA CONTRATO | BB26: APORTA FORMATO EQUIPO DE TRABAJO | BD26: FECHA INICIO | BG26: FECHA FIN | BJ26: AÑO | BK26: MES | BL26: DIA | BM26: TOTAL TIEMPO EXPERIENCIA | BO26: CUMPLE SI/ NO | BR26: OBSERVACIONES
A27: LUCELI CASTILLO QUINTERO | G27: SI | J27: SI | M27: ADMINISTRADORA SISTEMAS DE INFORMACION | Q27: 40052 | T27: SI | Y27: SI | AD27: SI | AI27: CORPORACION INTERNACIONAL PARA EL DESARROLLO EDUCATIVO CIDE | AN27: SI | AS27: SI | AV27: NO | AY27: NO APLICA | BB27: SI | BD27: 44382 | BG27: 45458 | BJ27: =DATEDIF(BD27,BG27,"Y") -> 2 | BK27: =DATEDIF(BD27,BG27,"YM") -> 11 | BL27: =DATEDIF(BD27,BG27,"MD") -> 10 | BO27: SI CUMPLE
BJ28: =SUM(BJ27:BJ27) -> 2 | BK28: =SUM(BK27:BK27) -> 11 | BL28: =SUM(BL27:BL27) -> 10 | BO28: SI CUMPLE
A29: 4.3.3. SEDES | BJ29: =+BJ28*12 -> 24 | BK29: =+BK28 -> 11 | BL29: =+BL28/30 -> 0.33333333
BJ30: =+BJ29+BK29+BL29 -> 35.333333 | BK30: MESES
A31: S E D E S
A32: SEDE | G32: DOCUMENTO SOPORTE | M32: EXPEDIDO | Q32: FECHA EXPEDICION | U32: ÚBICACIÓN DEL INMUEBLE | Y32: BOGOTA | AB32: CUMPLE | AE32: CUMPLE SI/ NO | AH32: OBSERVACIONES
A33: PROPIA | G33: CERTIFICADO DE TRADICION Y LIBERTAD | M33: OFICINA DE REGISTRO E INSTRUMENTOS PUBLICOS ZONA CENTRO | Q33: 45497 | U33: BOGOTA | Y33: SI | AB33: SI | AE33: SI CUMPLE | AH33: 50C-80672
A34: PROPIA | G34: CERTIFICADO DE TRADICION Y LIBERTAD | M34: OFICINA DE REGISTRO E INSTRUMENTOS PUBLICOS ZONA CENTRO | Q34: 45497 | U34: BOGOTA | Y34: SI | AB34: SI | AE34: SI CUMPLE | AH34: 50C-106788
A35: PROPIA | G35: CERTIFICADO DE TRADICION Y LIBERTAD | M35: OFICINA DE REGISTRO E INSTRUMENTOS PUBLICOS ZONA CENTRO | Q35: 45497 | U35: BOGOTA | Y35: SI | AB35: SI | AE35: SI CUMPLE | AH35: 50C-136206
A36: PROPIA | G36: CERTIFICADO DE TRADICION Y LIBERTAD | M36: OFICINA DE REGISTRO E INSTRUMENTOS PUBLICOS ZONA CENTRO | Q36: 45497 | U36: BOGOTA | Y36: SI | AB36: SI | AE36: SI CUMPLE | AH36: 50C-312486
A37: PROPIA | G37: CERTIFICADO DE TRADICION Y LIBERTAD | M37: OFICINA DE REGISTRO E INSTRUMENTOS PUBLICOS ZONA CENTRO | Q37: 45497 | U37: BOGOTA | Y37: SI | AB37: SI | AE37: SI CUMPLE | AH37: 50C-499292
AE38: SI CUMPLE
A40: 4.3.4. PROPUESTA TÉCNICA
A42: P R O P U E S T A T E C N I C A
A43: ANEXO TÉCNICO – FICHA DE ESPECIFICACIONES TÉCNICAS MÍNIMAS. | G43: CUMPLE | J43: CUMPLE SI/ NO | M43: OBSERVACIONES
A44: El proponente con la suscripción de la Carta de Presentación manifiesta que ha leído entiende, acepta y cumplirá todos los requerimientos establecidos en el Anexo No. 1 Especificaciones Técnicas Mínimas, para realizar todas las actividades y entregables descritos en el citado documento. | G44: SI | J44: =+IF(G44="SI","SI CUMPLE","NO CUMPLE") -> SI CUMPLE | M44: El proponente aporta FORMATO N° 1 DE CARTA DE PRESENTACION DE LA OFERTA en el cual en el literal D "Manifiesta que he leído entiendo, acepto y cumpliré todos los requerimientos establecidos en el ANEXO 1 - FICHA TÉCNICA, para realizar todas las actividades y entregables descritos en el citado documento"
J45: =+J44 -> SI CUMPLE

Sheet 5. CIDOR
A2: OBJETO | C2: Prestar los servicios de formación y capacitación a los funcionarios de la Superintendencia Nacional de Salud para fortalecer sus competencias, de acuerdo con lo identificado en el Plan Institucional de Capacitación para la vigencia 2024.
A3: GRUPO 2 | C3: Demás capacitaciones:
A4: TEMATICAS | C4: 1. Análisis y Gestión de la Información estadística. | S4: 4. Auditoría y supervisión en salud (basada en riesgos). | AH4: 7. Argumentación jurídica, ortografía, Construcción y redacción de textos. (Virtualvía teams)
C5: 2. Definición, Formulación e interpretación de indicadores KIP y OKR. | S5: 5. Diplomado en seguridad del paciente. | AH5: 8. Control Interno y Auditoría interna.,
C6: 3. Control social con enfoque de la administración pública, participación y Orientación al ciudadano. | S6: 6. Actualización y fortalecimiento de técnicas y herramientas para la inspección, vigilancia y control. | AH6: 9. Marco lógico y formulación de proyectos, planes y programas con perspectiva de género y enfoques diferenciales, acoso laboral y sexual.
AH7: 10. Comunicación asertiva y trabajo bajo presión Inteligencia emocional y manejo del estrés.
A9: NOMBRE DEL PROPONENTE | G9: CIDOR CONSULTING ALLIANCE SAS
A10: NOMBRE DEL REPRESENTANTE LEGAL | G10: ANA PAOLA CORREA GONZALEZ
A11: NIT | G11: 830144794-9
A12: MIPYME | G12: SI
A13: PRESUPUESTO OFICIAL | G13: 252.71
A15: 4.3.1. EXPERIENCIA DEL PROPONENTE
A17: E X P E R I E N C I A
A18: NUMERO CONTRATO (SI APLICA) | D18: CODIGO UNSPC | G18: ENTIDAD CONTRATANTE | Q18: FECHA INICIO | T18: FECHA FIN | W18: OBJETO CONTRACTUAL ("Prestar los servicios de formación y/o capacitación en cualquiera de las tematicas del grupo 2.") | AI18: CAPACITACION RELACIONADA | AL18: APORTA CERTIFICACION | AO18: EJECUTADA EN CONSORCIO O UNION TEMPORAL | AR18: PORCENTAJE DE PARTICIPACION | AU18: VALOR DEL CONTRATO (ser igual o superior a 252,71 SMMLV) | AX18: NÚMERO INSCRIPCIÓN RUP | BA18: RUP VIGENTE Y EN FIRME | BD18: FORMATO RELACIONES DE CERTIFICACIONES SI/ NO | BG18: CUMPLE SI/ NO | BJ18: OBSERVACIONES
A19: 418- 2023 | D19: NO SE PUEDE EVIDENCIAR | G19: COMISION NACIONAL DEL SERVICIO CIVIL | Q19: NO SE PUEDE EVIDENCIAR | T19: NO SE PUEDE EVIDENCIAR | W19: Prestar el servicio de capacitación a los servidores de la entidad, para apoyar la ejecución del plan institucional de capacitación de la Comisión, vigencia 2023 | AI19: NO CUMPLE | AL19: NO | AO19: NO APLICA | AR19: NO APLICA | AU19: NO SE PUEDE EVIDENCIAR | AX19: NO SE PUEDE EVIDENCIAR | BA19: NO | BD19: NO | BG19: NO CUMPLE | BJ19: El proponente no aportó Certificado de Experiencia y por el contrario aportó un contrato de la Comisión Nacional del Servicio Civil, con la cual NO CUMPLE con el requisito, toda vez que se debe aportar es el Certificado de Experiencia donde se evidencie la información de la Nota 2, del numeral 4.3.1 Experiencia. Por lo tanto, no se puede tener en cuenta esta experiencia porque no permite verificar toda la información requerida. SUBSANANCIÓN: Deberá aportar el Certificado de Experiencia conforme a lo establecido en el pliego de condiciones, numeral 4.3.1 EXPERIENCIA.
A20: 1104333- 2019 | D20: 80111500 86101600 (X) 86101700 (X) 86101800 (X) 86111500 (X) 86111600 (X) 86132000 (X) 86141500 (X) 86141700 (X) | G20: FONDO FINACIERO DISTRITAL DE SALUD | Q20: NO SE PUEDE EVIDENCIAR PORQUE ES UN INFORME DE SUPERVISION | T20: NO SE PUEDE EVIDENCIAR PORQUE ES UN INFORME DE SUPERVISION | W20: NO SE PUEDE EVIDENCIAR POR QUE EL INFORME TIENE UN OBJETO DIFERENTE AL FORMATO N° 3 | AI20: NO CUMPLE | AL20: NO | AO20: NO APLICA | AR20: NO APLICA | AU20: 267.74 | AX20: 54 | BA20: SI | BD20: SI | BG20: NO CUMPLE | BJ20: El proponente no aportó Certificado de Experiencia y por el contrario aportó un contrato con un informe final de supervisión del Fondo Financiero Distrital de Salud, con la cual NO CUMPLE con el requisito, toda vez que se debe aportar es el Certificado de Experiencia donde se evidencie la información de la Nota 2, del numeral 4.3.1 Experiencia. Por lo tanto, no se puede tener en cuenta esta experiencia porque no permite verificar toda la información requerida y cumplida. SUBSANACIÓN: Deberá aportar el Certificado de Experiencia conforme a lo establecido en el pliego de condiciones, numeral 4.3.1 EXPERIENCIA.
A21: 792 - 2018 | D21: 80111500 (X) 86101600 (X) 86101700 (X) 86101800 (X) 86111500 (X) 86111600 (X) 86132000 (X) 86141500 (X) 86141700 (X) | G21: FONDO ÚNICO DE LAS TENOLOGIAS DE LA INFORMACIÓN Y LAS COMUNICACIONES | Q21: 43346 | T21: 43449 | W21: Capacitar a un grupo de servidores del Ministerio de Técnologias de la información y las Comunicaciones en temáticas aprobadas en el plan institucional de capacitación 2018 , para el fortalecimiento de sus competencias. | AI21: SI CUMPLE | AL21: NO | AO21: NO APLICA | AR21: NO APLICA | AU21: 413.3 | AX21: 35 | BA21: NO | BD21: SI | BG21: NO CUMPLE | BJ21: El proponente no aportó Certificado de Experiencia y por el contrario aportó un contrato con un informe final de supervisión del FONDO ÚNICO DE LAS TENOLOGIAS DE LA INFORMACIÓN Y LAS COMUNICACIONES, con la cual NO CUMPLE con el requisito, toda vez que se debe aportar es el Certificado de Experiencia donde se evidencie la información de la Nota 2, del numeral 4.3.1 Experiencia. Por lo tanto, no se puede tener en cuenta esta experiencia porque no permite verificar toda la información requerida y cumplida. SUBSANACIÓN: Deberá aportar el Certificado de Experiencia conforme a lo establecido en el pliego de condiciones, numeral 4.3.1 EXPERIENCIA.
A22: 2017- 1872 | D22: 80111500 (X) 86101600 (X) 86101700 (X) 86101800 (X) 86111500 86111600 (X) 86132000 (X) 86141500 (X) 86141700 (X) | G22: SECRETARIA DISTRITAL DE MOVILIDAD | Q22: NO SE PUEDE EVIDENCIAR | T22: NO SE PUEDE EVIDENCIAR | W22: Desarrollar actividades de capacitación dirigidas a los servidores públicos de la Secretaria Distrital de Movilidad y SETRAB-PONAL | AI22: NO CUMPLE | AL22: NO | AO22: NO APLICA | AR22: NO APLICA | AU22: 341.01 | AX22: 39 | BA22: SI | BD22: SI | BG22: NO CUMPLE | BJ22: El proponente no aportó Certificado de Experiencia y por el contrario aportó un contrato con acta sin las firmas completas con la Secretaría de Movilidad, con la cual NO CUMPLE con el requisito, toda vez que se debe aportar es el Certificado de Experiencia donde se evidencie la información de la Nota 2, del numeral 4.3.1 Experiencia. Por lo tanto, no se puede tener en cuenta esta experiencia porque no permite verificar toda la información requerida y cumplida. SUBSANACIÓN: Deberá aportar el Certificado de Experiencia conforme a lo establecido en el pliego de condiciones, numeral 4.3.1 EXPERIENCIA.
AR23: SUMATORIA | AU23: =SUM(AU19:AW19) -> 0 | BG23: NO CUMPLE
A25: 4.3.2. PERSONAL MÍNIMO REQUERIDO:
A27: P E R S O N A L M I N I M O R E Q UE R I D O .
A28: NOMBRES Y APELLIDOS | G28: HOJA DE VIDA SI /NO | J28: CEDULA CIUDADANIA | M28: TITULO PROFESIONAL | Q28: FECHA GRADO | T28: Copia de la Tarjeta o matricula profesional vigente | Y28: Certificado de vigencia de la tarjeta profesional | AD28: APORTA TITULO PROFESIONAL | AI28: NOMBRE O RAZON SOCIAL DEL CONTRATANTE | AN28: CERTIFICADO CUMPLE (cargo y/o rol específico y/o objeto, funciones y/o obligaciones y/o actividades desempeñadas relacionadas con el perfil, y el tiempo laborado y/o de ejecución | AS28: EXPERIENCIA RELACIONADA COMO COORDINADOR | AV28: CERTIFICA MISMO PROPONENTE | AY28: APORTA CONTRATO | BB28: APORTA FORMATO EQUIPO DE TRABAJO | BD28: FECHA INICIO | BG28: FECHA FIN | BJ28: AÑO | BK28: MES | BL28: DIA | BM28: TOTAL TIEMPO EXPERIENCIA | BO28: CUMPLE SI/ NO | BR28: OBSERVACIONES
A29: HAROLD ANTONIO MOLINA AGARZON | G29: SI | J29: SI | M29: ADMINISTRADOR DE EMPRESAS | Q29: 43175 | T29: SI | Y29: SI | AD29: SI | AI29: PROYECTOS AMBIENTALES SEGURIDAD Y SALUD EN EL TRABAJO SAS | AN29: SI | AS29: SI | AV29: NO | AY29: NO APLICA | BB29: SI | BD29: 44607 | BG29: 45379 | BJ29: =DATEDIF(BD29,BG29,"Y") -> 2 | BK29: =DATEDIF(BD29,BG29,"YM") -> 1 | BL29: =DATEDIF(BD29,BG29,"MD") -> 13 | BO29: SI CUMPLE
BJ30: =SUM(BJ29:BJ29) -> 2 | BK30: =SUM(BK29:BK29) -> 1 | BL30: =SUM(BL29:BL29) -> 13 | BO30: SI CUMPLE
A31: 4.3.3. SEDES | BJ31: =+BJ30*12 -> 24 | BK31: =+BK30 -> 1 | BL31: =+BL30/30 -> 0.43333333
BJ32: =+BJ31+BK31+BL31 -> 25.433333 | BK32: MESES
A33: S E D E S
A34: SEDE | G34: DOCUMENTO SOPORTE | M34: EXPEDIDO | Q34: FECHA EXPEDICION | U34: ÚBICACIÓN DEL INMUEBLE | Y34: BOGOTA | AB34: CUMPLE | AE34: CUMPLE SI/ NO | AH34: OBSERVACIONES
A35: ARRENDADA | G35: CONTRATO DE ARRIENDO | M35: CENTRO DE EVENTOS Y EXPOSICIONES LAS AMERICAS | Q35: 45124 | U35: BOGOTA | Y35: SI | AB35: SI | AE35: SI CUMPLE
AE36: =+AE35 -> SI CUMPLE
A38: 4.3.4. PROPUESTA TÉCNICA
A40: P R O P U E S T A T E C N I C A
A41: ANEXO TÉCNICO – FICHA DE ESPECIFICACIONES TÉCNICAS MÍNIMAS. | G41: CUMPLE | J41: CUMPLE SI/ NO | M41: OBSERVACIONES
A42: El proponente con la suscripción de la Carta de Presentación manifiesta que ha leído entiende, acepta y cumplirá todos los requerimientos establecidos en el Anexo No. 1 Especificaciones Técnicas Mínimas, para realizar todas las actividades y entregables descritos en el citado documento. | G42: SI | J42: =+IF(G42="SI","SI CUMPLE","NO CUMPLE") -> SI CUMPLE | M42: El proponente aporta FORMATO N° 1 DE CARTA DE PRESENTACION DE LA OFERTA en el cual en el literal D "Manifiesta que he leído entiendo, acepto y cumpliré todos los requerimientos establecidos en el ANEXO 1 - FICHA TÉCNICA, para realizar todas las actividades y entregables descritos en el citado documento"
J43: =+J42 -> SI CUMPLE

Sheet 6. UT POLCOLAN
A2: OBJETO | C2: Prestar los servicios de formación y capacitación a los funcionarios de la Superintendencia Nacional de Salud para fortalecer sus competencias, de acuerdo con lo identificado en el Plan Institucional de Capacitación para la vigencia 2024.
A3: GRUPO 2 | C3: Demás capacitaciones:
A4: TEMATICAS | C4: 1. Análisis y Gestión de la Información estadística. | S4: 4. Auditoría y supervisión en salud (basada en riesgos). | AH4: 7. Argumentación jurídica, ortografía, Construcción y redacción de textos. (Virtualvía teams)
C5: 2. Definición, Formulación e interpretación de indicadores KIP y OKR. | S5: 5. Diplomado en seguridad del paciente. | AH5: 8. Control Interno y Auditoría interna.,
C6: 3. Control social con enfoque de la administración pública, participación y Orientación al ciudadano. | S6: 6. Actualización y fortalecimiento de técnicas y herramientas para la inspección, vigilancia y control. | AH6: 9. Marco lógico y formulación de proyectos, planes y programas con perspectiva de género y enfoques diferenciales, acoso laboral y sexual.
AH7: 10. Comunicación asertiva y trabajo bajo presión Inteligencia emocional y manejo del estrés.
A9: NOMBRE DEL PROPONENTE | G9: UNIÓN TEMPORAL SUPERSALUD 24-018 BS-POLCOLAN | W9: BUSINESS SUPPORT S.A.S. | AE9: NIT 900006572-3 | AG9: 0.9 | AI9: NO APLICA | AM9: 431.64
A10: NOMBRE DEL REPRESENTANTE LEGAL | G10: DIONISIA ELIZABETH HERNÁNDEZ AGUILERA | W10: CORPORACIÓN POLITÉCNICO COLOMBO ANDINO-POLCOLAN | AE10: NIT 860508517-8 | AG10: 0.1 | AI10: MEDIANA EMPRESA | AM10: 47.96
A11: NIT
A12: MIPYME | G12: SI
A13: PRESUPUESTO OFICIAL | G13: 252.71 | AM13: =SUM(AM9:AM12) -> 479.6
A15: 4.3.1. EXPERIENCIA DEL PROPONENTE
A17: E X P E R I E N C I A
A18: NUMERO CONTRATO (SI APLICA) | D18: CODIGO UNSPC | G18: ENTIDAD CONTRATANTE | Q18: FECHA INICIO | T18: FECHA FIN | W18: OBJETO CONTRACTUAL ("Prestar los servicios de formación y/o capacitación en cualquiera de las tematicas del grupo 2.") | AI18: CAPACITACION RELACIONADA | AL18: APORTA CERTIFICACION | AO18: EJECUTADA EN CONSORCIO O UNION TEMPORAL | AR18: PORCENTAJE DE PARTICIPACION | AU18: VALOR DEL CONTRATO | AX18: VALOR DEL CONTRATO (ser igual o superior a 252,71 SMMLV) | BA18: NÚMERO INSCRIPCIÓN RUP | BD18: RUP VIGENTE Y EN FIRME | BG18: FORMATO RELACIONES DE CERTIFICACIONES SI/ NO | BJ18: CUMPLE SI/ NO | BM18: OBSERVACIONES
A19: EXPERIENCIA APORTADA POR BUSINESS SUPPORT S.A.S.
A20: 4150985 | D20: 80111500 (X) 86101600 (X) 86101700 (X) 86101800 (X) 86111500 (X) 86111600 (X) 86132000 (X) 86141500 (X) 86141700 (X) | G20: FONDO FINANCIERO DISTRITAL DE SALUD | Q20: 44875 | T20: 45116 | W20: Prestar servicios en el fortalecimiento de las competencias laborales de los servidores públicos de la secretaría distrital de salud mediante la implementación del plan institucional de capacitación. | AI20: SI CUMPLE | AL20: SI | AO20: NO | AR20: NO APLICA | AU20: 177.98 | AX20: 0 | BA20: 133 | BD20: SI | BG20: SI | BJ20: SI CUMPLE
A21: 407 de 2019 | D21: 80111500 (X) 86101600 86101700 (X) 86101800 (X) 86111500 86111600 (X) 86132000 (X) 86141500 86141700 (X) | G21: SECRETARIA DISTRITAL DE LA MUJER | Q21: 43703 | T21: 43830 | W21: FORTALECER LAS COMPETENCIAS DE LAS SERVIDORAS Y SERVIDORES PÚBLICOS DE LA SECRETARÍA DISTRITAL DE LA MUJER, A TRAVÉS DE PROCESOS DE FORMACIÓN, ENTRENAMIENTO Y CAPACITACIÓN, DE ACUERDO CON EL PLAN INSTITUCIONAL DE FORMACIÓN Y CAPACITACIÓN 2019 | AI21: SI CUMPLE | AL21: SI | AO21: NO | AR21: NO APLICA | AU21: 104.11 | AX21: 0 | BA21: 84 | BD21: SI | BG21: SI | BJ21: SI CUMPLE
A22: 4600015568 | D22: 80111500 (X) 86101600 (X) 86101700 (X) 86101800 (X) 86111500 (X) 86111600 (X) 86132000 (X) 86141500 (X) 86141700 (X) | G22: COMUNICACION CELULAR S A COMCEL S A | Q22: 44304 | T22: 45340 | W22: Prestar servicios de formación a través de un programa integral, estructurado y modular que permita fortalecer y apalancar habilidades blandas y los conocimientos técnicos necesarios para la operación de TMK. Generar un plan de trabajo que incluya etapas de diagnóstico, diseño, ejecución, puesta en marcha, evaluación y presentación de resultados que apalanquen el uso de metodologías innovadoras de educación virtual y presencial con los estándares de oportunidad y calidad que se fijen en los acuerdos de niveles de servicio, en respuesta a la contribución y movilización de las metas estratégicas de compañía | AI22: SI CUMPLE | AL22: SI | AO22: NO | AR22: NO APLICA | AU22: 3583.03 | AX22: =+AU22*$AG$9 -> 3224.727 | BA22: 134 | BD22: SI | BG22: SI | BJ22: SI CUMPLE
A23: 855 DE 2021 | D23: 80111500 (X) 86101600 (X) 86101700 (X) 86101800 (X) 86111500 (X) 86111600 (X) 86132000 (X) 86141500 (X) 86141700 (X) | G23: FONDO ÚNICO DE TECNOLOGÍAS DE LA INFORMACIÓN Y LAS COMUNICACIONES | Q23: 44371 | T23: 44561 | W23: Prestar servicios para apoyar en el fortalecimiento del modelo de gestión, mediante la evolución de las estrategias y mecanismos de gestión del conocimiento, que promuevan el aprendizaje institucional y la transformación de las prácticas institucionales al interior de la entidad. | AI23: SI CUMPLE | AL23: SI | AO23: NO | AR23: NO APLICA | AU23: 822.56 | AX23: =+AU23*$AG$9 -> 740.304 | BA23: 100 | BD23: SI | BG23: SI | BJ23: SI CUMPLE
AR24: SUMATORIA | AX24: =+AX20+AX21+AX22+AX23 -> 3965.031 | BJ24: SI CUMPLE
A26: 4.3.2. PERSONAL MÍNIMO REQUERIDO:
A28: P E R S O N A L M I N I M O R E Q UE R I D O .
A29: NOMBRES Y APELLIDOS | G29: HOJA DE VIDA SI /NO | J29: CEDULA CIUDADANIA | M29: TITULO PROFESIONAL | Q29: FECHA GRADO | T29: Copia de la Tarjeta o matricula profesional vigente | Y29: Certificado de vigencia de la tarjeta profesional | AD29: APORTA TITULO PROFESIONAL | AI29: NOMBRE O RAZON SOCIAL DEL CONTRATANTE | AN29: CERTIFICADO CUMPLE (cargo y/o rol específico y/o objeto, funciones y/o obligaciones y/o actividades desempeñadas relacionadas con el perfil, y el tiempo laborado y/o de ejecución | AS29: EXPERIENCIA RELACIONADA COMO COORDINADOR | AV29: CERTIFICA MISMO PROPONENTE | AY29: APORTA CONTRATO | BB29: APORTA FORMATO EQUIPO DE TRABAJO | BD29: FECHA INICIO | BG29: FECHA FIN | BJ29: AÑO | BK29: MES | BL29: DIA | BM29: TOTAL TIEMPO EXPERIENCIA | BO29: CUMPLE SI/ NO | BR29: OBSERVACIONES
