Workbook

Sheet Evaluación Financiera
A1: FONDO DE DESARROLLO LOCAL DE ANTONIO NARIÑO
A3: PROCESO CONTRATACION | C3: CONCURSO DE MERITOS No. FDLAN-CMA-003-2024
A4: OBJETO | C4: REALIZAR LA INTERVENTORÍA TÉCNICA, ADMINISTRATIVA, JURÍDICA (LEGAL), FINANCIERA (CONTABLE), AMBIENTAL, SOCIAL Y SST AL CONTRATO DE OBRA QUE TIENE POR OBJETO: REALIZAR A TRAVÉS DEL SISTEMA DE PRECIOS UNITARIOS FIJOS Y A MONTO AGOTABLE, LAS ACTIVIDADES DE CONSERVACIÓN (MANTENIMIENTO, PARCHEO, BACHEO, RECONSTRUCCIÓN O REHABILITACIÓN) DE LA MALLA VIAL PRIORIZADOS POR EL FONDO DE DESARROLLO LOCAL DE ANTONIO NARIÑO PARA EL CUMPLIMIENTO DE LAS METAS DEFINIDAS EN LA VIGENCIA 2024.
A5: PRESUPUESTO OFICIAL | C5: 382832288
A6: FECHA DE CIERRE | C6: 30 DE JULIO 2023
A8: REQUISITOS HABILITANTES FINANCIEROS
A9: INDICADORES | D9: PROPONENTE 1: CONSORCIO VIAL 24 | H9: PROPONENTE 2: CONSORCIO METRO CINCO | L9: PROPONENTE 3: CONSORCIO VÍAS GMI | P9: PROPONENTE 4: CONSORCIO AESA - BALER | T9: PROPONENTE 5: ALDEIC SAS BIC | X9: PROPONENTE 6: CONSERVACION AN | AB9: PROPONENTE 7: INTERSA S.A. | AF9: PROPONENTE 8: Consorcio Inper 003 | AJ9: PROPONENTE 9: CONSORCIO MALLA VIAL | AN9: PROPONENTE 10: Consultores Donovan S.A.S | AR9: PROPONENTE 11: PROES INGENIERÍA S.A.S | AV9: PROPONENTE 12: LOGIA 3 ASOCIADOS SAS – BIC | AZ9: PROPONENTE 13: CONSORCIO HUPERNIKAO ANTONIO NARIÑO | BD9: PROPONENTE 14: GEOTECNIA Y CIMIENTOS INGEOCIM S.A.S | BH9: PROPONENTE 15: SESAC S.A | BL9: PROPONENTE 16: CONSORCIO INTER L&J | BP9: PROPONENTE 17: GRUPO POSSO S.A.S L&J | BT9: PROPONENTE 18: NOGAALL S.A.S | BX9: PROPONENTE 19: NPROYECTOS Y CONSULTORÍAS ORIÓN SAS | CB9: PROPONENTE 20: VELNEC S.A. | CF9: PROPONENTE 21: INCORDIS SAS | CJ9: PROPONENTE 22: CONSORCIO ANTONIO NARIÑO JINT 3 | CN9: PROPONENTE 23: ROBLE INGENIERIA S.A.S. | CR9: PROPONENTE 24: CONSORCIO PI VIAL | CV9: PROPONENTE 25: JESAK SAS | CZ9: PROPONENTE 26: INTERVENTORIA Y CONSTRUCIVILES S.A.S | DD9: PROPONENTE 27: PROYECTISTAS DE COLOMBIA & CIA. S.A.S PROYECTCOL S.A.S | DH9: PROPONENTE 28: CIVING INGENIEROS CONTRATISTAS S.A.S - BIC | DL9: PROPONENTE 29: CONSORCIO FCA INGENIERIA | DP9: PROPONENTE 30: CONSTRUCCIONES AXIOMA LTDA | DT9: PROPONENTE 31: CONSORCIO INTERVIAL ICL3 | DX9: PROPONENTE 32: CONSORCIO SF 2023 | EB9: PROPONENTE 33: CONSORCIO INTERVENTORES S&C | EF9: PROPONENTE 34: CONSORCIO YIWU | EJ9: PROPONENTE 35: ARG SAS | EN9: PROPONENTE 36: CONSORCIO SUMAPAZ CI | ER9: PROPONENTE 37: CONSORCIO VÍAS NARIÑO 2024 | EV9: PROPONENTE 38: CONSORCIO INTER-VIAL 2024 | EZ9: PROPONENTE 39: CONSORCIO CAP-OPH-QP. | FD9: PROPONENTE 40: CONSORCIO INTERVIAS ANTONIO NARIÑO 2024 | FH9: PROPONENTE 41: CONSORCIO CODINE-DHE | FL9: PROPONENTE 42: CONSORCIO PMCA CAMINOS | FP9: PROPONENTE 43: INGESCOR LTDA | FT9: PROPONENTE 44: CONSORCIO INTERVIAL MMJ | FX9: PROPONENTE 45: CONSORCIO CB-TALATAA. | GB9: PROPONENTE 46: ING INGENIERIA S.A.S. | GF9: PROPONENTE 47: ARQUITECTURA URBANA LTDA | GJ9: PROPONENTE 48: CONSORCIO R&A, | GN9: PROPONENTE 49: INTERVIAS AN | GR9: PROPONENTE 50: CONSORCIO PROSPERAR VIAS PRIORIZADAS. | GV9: PROPONENTE 51: ALMA Interventoría & Consultoría S.A.S | GZ9: PROPONENTE 52: CONSORCIO CATEK INTERVENTORES. | HD9: PROPONENTE 53: GERMÁN RAMÍREZ BARBOSA, | HH9: PROPONENTE 54: LEMOINE RIVERA INGENEIROS ASOCIADOS S.A.S | HL9: PROPONENTE 55: CONSORCIO DESARROLLO VIAL 2T. | HP9: PROPONENTE 56: CONSORCIO HGR-INCON | HT9: PROPONENTE 57: PROJEKTA LTDA | HX9: PROPONENTE 58: EQUILATERO ARQUITECTURA E INGENIERÍA SAS | IB9: PROPONENTE 59: GEOTECNIA & CIMENTACIONES S.A.S. | IF9: PROPONENTE 60: PRAN CONSTRUCCIONES S.A.S. | IJ9: PROPONENTE 61: JET INGENIERIA SAS | IN9: PROPONENTE 62: Consorcio Interventores Nariño | IR9: PROPONENTE 63: RL CONSORCIO DF10 | IV9: PROPONENTE 64: Soluciones para la ingenierìa | IZ9: PROPONENTE 65: CONSORCIO VIAL GR | JD9: PROPONENTE 66: INGENIEROS CONSTRUCTORES Y ASESORES S.A.S | JH9: PROPONENTE 67: CONSORCIO VIAS ANTONIO NARIÑO | JL9: PROPONENTE 68: CONSORCIO INTERVIAS NARIÑO | JP9: PROPONENTE 69: CONSORCIO MALLA VIAL PROYECTEV 006 | JT9: PROPONENTE 70: CONSORCIO INTERVIAS NARIÑO | JX9: PROPONENTE 71: R&M CONSTRUCCIONES E INTERVENTORIA SAS | KB9: PROPONENTE 72: CONSORCIO INTERVENTORES PRIVIAL
A11: CIFRAS A | D11: =OPERACIONES!C4 -> 45481 | H11: =OPERACIONES!C8 -> 45462 | L11: =OPERACIONES!C12 -> 45484 | P11: =OPERACIONES!C15 -> 45475 | T11: =OPERACIONES!C17 -> 45481 | X11: =OPERACIONES!C20 -> 45483 | AB11: =OPERACIONES!C22 -> 45483 | AF11: =OPERACIONES!C24 -> 45572 | AJ11: =OPERACIONES!C28 -> 45483 | AN11: =OPERACIONES!C30 -> 45460 | AR11: =OPERACIONES!C32 -> 45462 | AV11: =OPERACIONES!C34 -> 45457 | AZ11: =OPERACIONES!C37 -> 45482 | BD11: =OPERACIONES!C39 -> 45463 | BH11: =OPERACIONES!C41 -> 45463 | BL11: =OPERACIONES!C43 -> 45484 | BP11: =OPERACIONES!C46 -> 45483 | BT11: =OPERACIONES!C49 -> 45479 | BX11: =OPERACIONES!C52 -> 45484 | CB11: =OPERACIONES!C54 -> 45484 | CF11: 45291 | CJ11: 45291 | CN11: 45291 | CR11: 45291 | CV11: 45291 | CZ11: 45291 | DD11: 45291 | DH11: 45291 | DL11: 45291 | DP11: 45291 | DT11: 45291 | DX11: 45291 | EB11: 45291 | EF11: 45291 | EJ11: 45291 | EN11: 45291 | ER11: 45291 | EV11: 45291 | EZ11: 45291 | FD11: 45291 | FH11: 45483 | FL11: 45477 | FP11: 45464 | FT11: 45478 | FX11: 45478 | GB11: 45115 | GF11: 45470 | GJ11: 45470 | GN11: 45483 | GR11: 45483 | GV11: 45483 | GZ11: 45471 | HD11: 45484 | HH11: 45464 | HL11: 45463 | HP11: 45483 | HT11: 45484 | HX11: 45476 | IB11: 31/12/2023 | IF11: 45484 | IJ11: 45482 | IN11: 45470 | IR11: 45472 | IV11: 45483 | IZ11: 45460 | JD11: 45468 | JH11: 45484 | JL11: 45482 | JP11: 45477 | JT11: 45482 | JX11: 45470 | KB11: 45464
A12: DETALLE DEL INDICADOR | B12: ÍNDICES REQUERIDOS | C12: VARIABLES DEL PROPONENTE | D12: VALOR VARIABLES SEGÚN RUP E INDICADORES FINANCIEROS | E12: ÍNDICE DEL PROPONENTE | F12: CALIFICACIÓN DEL INDICADOR | H12: VALOR VARIABLES SEGÚN RUP E INDICADORES FINANCIEROS | I12: ÍNDICE DEL PROPONENTE | J12: CALIFICACIÓN DEL INDICADOR | L12: VALOR VARIABLES SEGÚN RUP E INDICADORES FINANCIEROS | M12: ÍNDICE DEL PROPONENTE | N12: CALIFICACIÓN DEL INDICADOR | P12: VALOR VARIABLES SEGÚN RUP E INDICADORES FINANCIEROS | Q12: ÍNDICE DEL PROPONENTE | R12: CALIFICACIÓN DEL INDICADOR | T12: VALOR VARIABLES SEGÚN RUP E INDICADORES FINANCIEROS | U12: ÍNDICE DEL PROPONENTE | V12: CALIFICACIÓN DEL INDICADOR | X12: VALOR VARIABLES SEGÚN RUP E INDICADORES FINANCIEROS | Y12: ÍNDICE DEL PROPONENTE | Z12: CALIFICACIÓN DEL INDICADOR | AB12: VALOR VARIABLES SEGÚN RUP E INDICADORES FINANCIEROS | AC12: ÍNDICE DEL PROPONENTE | AD12: CALIFICACIÓN DEL INDICADOR | AF12: VALOR VARIABLES SEGÚN RUP E INDICADORES FINANCIEROS | AG12: ÍNDICE DEL PROPONENTE | AH12: CALIFICACIÓN DEL INDICADOR | AJ12: VALOR VARIABLES SEGÚN RUP E INDICADORES FINANCIEROS | AK12: ÍNDICE DEL PROPONENTE | AL12: CALIFICACIÓN DEL INDICADOR | AN12: VALOR VARIABLES SEGÚN RUP E INDICADORES FINANCIEROS | AO12: ÍNDICE DEL PROPONENTE | AP12: CALIFICACIÓN DEL INDICADOR | AR12: VALOR VARIABLES SEGÚN RUP E INDICADORES FINANCIEROS | AS12: ÍNDICE DEL PROPONENTE | AT12: CALIFICACIÓN DEL INDICADOR | AV12: VALOR VARIABLES SEGÚN RUP E INDICADORES FINANCIEROS | AW12: ÍNDICE DEL PROPONENTE | AX12: CALIFICACIÓN DEL INDICADOR | AZ12: VALOR VARIABLES SEGÚN RUP E INDICADORES FINANCIEROS | BA12: ÍNDICE DEL PROPONENTE | BB12: CALIFICACIÓN DEL INDICADOR | BD12: VALOR VARIABLES SEGÚN RUP E INDICADORES FINANCIEROS | BE12: ÍNDICE DEL PROPONENTE | BF12: CALIFICACIÓN DEL INDICADOR | BH12: VALOR VARIABLES SEGÚN RUP E INDICADORES FINANCIEROS | BI12: ÍNDICE DEL PROPONENTE | BJ12: CALIFICACIÓN DEL INDICADOR | BL12: VALOR VARIABLES SEGÚN RUP E INDICADORES FINANCIEROS | BM12: ÍNDICE DEL PROPONENTE | BN12: CALIFICACIÓN DEL INDICADOR | BP12: VALOR VARIABLES SEGÚN RUP E INDICADORES FINANCIEROS | BQ12: ÍNDICE DEL PROPONENTE | BR12: CALIFICACIÓN DEL INDICADOR | BT12: VALOR VARIABLES SEGÚN RUP E INDICADORES FINANCIEROS | BU12: ÍNDICE DEL PROPONENTE | BV12: CALIFICACIÓN DEL INDICADOR | BX12: VALOR VARIABLES SEGÚN RUP E INDICADORES FINANCIEROS | BY12: ÍNDICE DEL PROPONENTE | BZ12: CALIFICACIÓN DEL INDICADOR | CB12: VALOR VARIABLES SEGÚN RUP E INDICADORES FINANCIEROS | CC12: ÍNDICE DEL PROPONENTE | CD12: CALIFICACIÓN DEL INDICADOR | CF12: VALOR VARIABLES SEGÚN RUP E INDICADORES FINANCIEROS | CG12: ÍNDICE DEL PROPONENTE | CH12: CALIFICACIÓN DEL INDICADOR | CJ12: VALOR VARIABLES SEGÚN RUP E INDICADORES FINANCIEROS | CK12: ÍNDICE DEL PROPONENTE | CL12: CALIFICACIÓN DEL INDICADOR | CN12: VALOR VARIABLES SEGÚN RUP E INDICADORES FINANCIEROS | CO12: ÍNDICE DEL PROPONENTE | CP12: CALIFICACIÓN DEL INDICADOR | CR12: VALOR VARIABLES SEGÚN RUP E INDICADORES FINANCIEROS | CS12: ÍNDICE DEL PROPONENTE | CT12: CALIFICACIÓN DEL INDICADOR | CV12: VALOR VARIABLES SEGÚN RUP E INDICADORES FINANCIEROS | CW12: ÍNDICE DEL PROPONENTE | CX12: CALIFICACIÓN DEL INDICADOR | CZ12: VALOR VARIABLES SEGÚN RUP E INDICADORES FINANCIEROS | DA12: ÍNDICE DEL PROPONENTE | DB12: CALIFICACIÓN DEL INDICADOR | DD12: VALOR VARIABLES SEGÚN RUP E INDICADORES FINANCIEROS | DE12: ÍNDICE DEL PROPONENTE | DF12: CALIFICACIÓN DEL INDICADOR | DH12: VALOR VARIABLES SEGÚN RUP E INDICADORES FINANCIEROS | DI12: ÍNDICE DEL PROPONENTE | DJ12: CALIFICACIÓN DEL INDICADOR | DL12: VALOR VARIABLES SEGÚN RUP E INDICADORES FINANCIEROS | DM12: ÍNDICE DEL PROPONENTE | DN12: CALIFICACIÓN DEL INDICADOR | DP12: VALOR VARIABLES SEGÚN RUP E INDICADORES FINANCIEROS | DQ12: ÍNDICE DEL PROPONENTE | DR12: CALIFICACIÓN DEL INDICADOR | DT12: VALOR VARIABLES SEGÚN RUP E INDICADORES FINANCIEROS | DU12: ÍNDICE DEL PROPONENTE | DV12: CALIFICACIÓN DEL INDICADOR | DX12: VALOR VARIABLES SEGÚN RUP E INDICADORES FINANCIEROS | DY12: ÍNDICE DEL PROPONENTE | DZ12: CALIFICACIÓN DEL INDICADOR | EB12: VALOR VARIABLES SEGÚN RUP E INDICADORES FINANCIEROS | EC12: ÍNDICE DEL PROPONENTE | ED12: CALIFICACIÓN DEL INDICADOR | EF12: VALOR VARIABLES SEGÚN RUP E INDICADORES FINANCIEROS | EG12: ÍNDICE DEL PROPONENTE | EH12: CALIFICACIÓN DEL INDICADOR | EJ12: VALOR VARIABLES SEGÚN RUP E INDICADORES FINANCIEROS | EK12: ÍNDICE DEL PROPONENTE | EL12: CALIFICACIÓN DEL INDICADOR | EN12: VALOR VARIABLES SEGÚN RUP E INDICADORES FINANCIEROS | EO12: ÍNDICE DEL PROPONENTE | EP12: CALIFICACIÓN DEL INDICADOR | ER12: VALOR VARIABLES SEGÚN RUP E INDICADORES FINANCIEROS | ES12: ÍNDICE DEL PROPONENTE | ET12: CALIFICACIÓN DEL INDICADOR | EV12: VALOR VARIABLES SEGÚN RUP E INDICADORES FINANCIEROS | EW12: ÍNDICE DEL PROPONENTE | EX12: CALIFICACIÓN DEL INDICADOR | EZ12: VALOR VARIABLES SEGÚN RUP E INDICADORES FINANCIEROS | FA12: ÍNDICE DEL PROPONENTE | FB12: CALIFICACIÓN DEL INDICADOR | FD12: VALOR VARIABLES SEGÚN RUP E INDICADORES FINANCIEROS | FE12: ÍNDICE DEL PROPONENTE | FF12: CALIFICACIÓN DEL INDICADOR | FH12: VALOR VARIABLES SEGÚN RUP E INDICADORES FINANCIEROS | FI12: ÍNDICE DEL PROPONENTE | FJ12: CALIFICACIÓN DEL INDICADOR | FL12: VALOR VARIABLES SEGÚN RUP E INDICADORES FINANCIEROS | FM12: ÍNDICE DEL PROPONENTE | FN12: CALIFICACIÓN DEL INDICADOR | FP12: VALOR VARIABLES SEGÚN RUP E INDICADORES FINANCIEROS | FQ12: ÍNDICE DEL PROPONENTE | FR12: CALIFICACIÓN DEL INDICADOR | FT12: VALOR VARIABLES SEGÚN RUP E INDICADORES FINANCIEROS | FU12: ÍNDICE DEL PROPONENTE | FV12: CALIFICACIÓN DEL INDICADOR | FX12: VALOR VARIABLES SEGÚN RUP E INDICADORES FINANCIEROS | FY12: ÍNDICE DEL PROPONENTE | FZ12: CALIFICACIÓN DEL INDICADOR | GB12: VALOR VARIABLES SEGÚN RUP E INDICADORES FINANCIEROS | GC12: ÍNDICE DEL PROPONENTE | GD12: CALIFICACIÓN DEL INDICADOR | GF12: VALOR VARIABLES SEGÚN RUP E INDICADORES FINANCIEROS | GG12: ÍNDICE DEL PROPONENTE | GH12: CALIFICACIÓN DEL INDICADOR | GJ12: VALOR VARIABLES SEGÚN RUP E INDICADORES FINANCIEROS | GK12: ÍNDICE DEL PROPONENTE | GL12: CALIFICACIÓN DEL INDICADOR | GN12: VALOR VARIABLES SEGÚN RUP E INDICADORES FINANCIEROS | GO12: ÍNDICE DEL PROPONENTE | GP12: CALIFICACIÓN DEL INDICADOR | GR12: VALOR VARIABLES SEGÚN RUP E INDICADORES FINANCIEROS | GS12: ÍNDICE DEL PROPONENTE | GT12: CALIFICACIÓN DEL INDICADOR | GV12: VALOR VARIABLES SEGÚN RUP E INDICADORES FINANCIEROS | GW12: ÍNDICE DEL PROPONENTE | GX12: CALIFICACIÓN DEL INDICADOR | GZ12: VALOR VARIABLES SEGÚN RUP E INDICADORES FINANCIEROS | HA12: ÍNDICE DEL PROPONENTE | HB12: CALIFICACIÓN DEL INDICADOR | HD12: VALOR VARIABLES SEGÚN RUP E INDICADORES FINANCIEROS | HE12: ÍNDICE DEL PROPONENTE | HF12: CALIFICACIÓN DEL INDICADOR | HH12: VALOR VARIABLES SEGÚN RUP E INDICADORES FINANCIEROS | HI12: ÍNDICE DEL PROPONENTE | HJ12: CALIFICACIÓN DEL INDICADOR | HL12: VALOR VARIABLES SEGÚN RUP E INDICADORES FINANCIEROS | HM12: ÍNDICE DEL PROPONENTE | HN12: CALIFICACIÓN DEL INDICADOR | HP12: VALOR VARIABLES SEGÚN RUP E INDICADORES FINANCIEROS | HQ12: ÍNDICE DEL PROPONENTE | HR12: CALIFICACIÓN DEL INDICADOR | HT12: VALOR VARIABLES SEGÚN RUP E INDICADORES FINANCIEROS | HU12: ÍNDICE DEL PROPONENTE | HV12: CALIFICACIÓN DEL INDICADOR | HX12: VALOR VARIABLES SEGÚN RUP E INDICADORES FINANCIEROS | HY12: ÍNDICE DEL PROPONENTE | HZ12: CALIFICACIÓN DEL INDICADOR | IB12: VALOR VARIABLES SEGÚN RUP E INDICADORES FINANCIEROS | IC12: ÍNDICE DEL PROPONENTE | ID12: CALIFICACIÓN DEL INDICADOR | IF12: VALOR VARIABLES SEGÚN RUP E INDICADORES FINANCIEROS | IG12: ÍNDICE DEL PROPONENTE | IH12: CALIFICACIÓN DEL INDICADOR | IJ12: VALOR VARIABLES SEGÚN RUP E INDICADORES FINANCIEROS | IK12: ÍNDICE DEL PROPONENTE | IL12: CALIFICACIÓN DEL INDICADOR | IN12: VALOR VARIABLES SEGÚN RUP E INDICADORES FINANCIEROS | IO12: ÍNDICE DEL PROPONENTE | IP12: CALIFICACIÓN DEL INDICADOR | IR12: VALOR VARIABLES SEGÚN RUP E INDICADORES FINANCIEROS | IS12: ÍNDICE DEL PROPONENTE | IT12: CALIFICACIÓN DEL INDICADOR | IV12: VALOR VARIABLES SEGÚN RUP E INDICADORES FINANCIEROS | IW12: ÍNDICE DEL PROPONENTE | IX12: CALIFICACIÓN DEL INDICADOR | IZ12: VALOR VARIABLES SEGÚN RUP E INDICADORES FINANCIEROS | JA12: ÍNDICE DEL PROPONENTE | JB12: CALIFICACIÓN DEL INDICADOR | JD12: VALOR VARIABLES SEGÚN RUP E INDICADORES FINANCIEROS | JE12: ÍNDICE DEL PROPONENTE | JF12: CALIFICACIÓN DEL INDICADOR | JH12: VALOR VARIABLES SEGÚN RUP E INDICADORES FINANCIEROS | JI12: ÍNDICE DEL PROPONENTE | JJ12: CALIFICACIÓN DEL INDICADOR | JL12: VALOR VARIABLES SEGÚN RUP E INDICADORES FINANCIEROS | JM12: ÍNDICE DEL PROPONENTE | JN12: CALIFICACIÓN DEL INDICADOR | JP12: VALOR VARIABLES SEGÚN RUP E INDICADORES FINANCIEROS | JQ12: ÍNDICE DEL PROPONENTE | JR12: CALIFICACIÓN DEL INDICADOR | JT12: VALOR VARIABLES SEGÚN RUP E INDICADORES FINANCIEROS | JU12: ÍNDICE DEL PROPONENTE | JV12: CALIFICACIÓN DEL INDICADOR | JX12: VALOR VARIABLES SEGÚN RUP E INDICADORES FINANCIEROS | JY12: ÍNDICE DEL PROPONENTE | JZ12: CALIFICACIÓN DEL INDICADOR | KB12: VALOR VARIABLES SEGÚN RUP E INDICADORES FINANCIEROS | KC12: ÍNDICE DEL PROPONENTE | KD12: CALIFICACIÓN DEL INDICADOR
A13: REQUISITOS HABILITANTES FINANCIEROS
A14: LIQUIDEZ | B14: Mipyme Mayor o igual a 1,11 Gran empresa Mayor o igual a 1,21 (Activo corriente dividido por pasivo corriente) | C14: ACTIVO CORRIENTE | D14: 216386000 | E14: =+D14/D15 -> 0.42947204 | F14: =IF(OR(E14>=1.11,E14="INDETERMINADO"),"CUMPLE","NO CUMPLE") -> NO CUMPLE | H14: 4963426321 | I14: =+H14/H15 -> 22.354347 | J14: =IF(OR(I14>=1.11,I14="INDETERMINADO"),"CUMPLE","NO CUMPLE") -> CUMPLE | L14: 1807164114 | M14: =+L14/L15 -> 2.526777 | N14: =IF(OR(M14>=1.11,M14="INDETERMINADO"),"CUMPLE","NO CUMPLE") -> CUMPLE | P14: 1153707113 | Q14: =+P14/P15 -> 6.6660601 | R14: =IF(OR(Q14>=1.11,Q14="INDETERMINADO"),"CUMPLE","NO CUMPLE") -> CUMPLE | T14: 1497049088 | U14: =+T14/T15 -> 20.642319 | V14: =IF(OR(U14>=1.21,U14="INDETERMINADO"),"CUMPLE","NO CUMPLE") -> CUMPLE | X14: 13755169072 | Y14: =+X14/X15 -> 7.2934539 | Z14: =IF(OR(Y14>=1.11,Y14="INDETERMINADO"),"CUMPLE","NO CUMPLE") -> CUMPLE | AB14: 3238017000 | AC14: =+AB14/AB15 -> 3.3319651 | AD14: =IF(OR(AC14>=1.21,AC14="INDETERMINADO"),"CUMPLE","NO CUMPLE") -> CUMPLE | AF14: 601678164 | AG14: =+AF14/AF15 -> 30.393407 | AH14: =IF(OR(AG14>=1.11,AG14="INDETERMINADO"),"CUMPLE","NO CUMPLE") -> CUMPLE | AJ14: 3281950102 | AK14: =+AJ14/AJ15 -> 20.420253 | AL14: =IF(OR(AK14>=1.11,AK14="INDETERMINADO"),"CUMPLE","NO CUMPLE") -> CUMPLE | AN14: 5047281689 | AO14: =+AN14/AN15 -> 6.0995554 | AP14: =IF(OR(AO14>=1.21,AO14="INDETERMINADO"),"CUMPLE","NO CUMPLE") -> CUMPLE | AR14: 2034116355 | AS14: =+AR14/AR15 -> 1.9200626 | AT14: =IF(OR(AS14>=1.21,AS14="INDETERMINADO"),"CUMPLE","NO CUMPLE") -> CUMPLE | AV14: 1695535303 | AW14: =+AV14/AV15 -> 6.1945349 | AX14: =IF(OR(AW14>=1.21,AW14="INDETERMINADO"),"CUMPLE","NO CUMPLE") -> CUMPLE | AZ14: 1077840129 | BA14: =+AZ14/AZ15 -> 5.1678787 | BB14: =IF(OR(BA14>=1.11,BA14="INDETERMINADO"),"CUMPLE","NO CUMPLE") -> CUMPLE | BD14: 16807870436 | BE14: =+BD14/BD15 -> 3.4461372 | BF14: =IF(OR(BE14>=1.21,BE14="INDETERMINADO"),"CUMPLE","NO CUMPLE") -> CUMPLE | BH14: 3596832567 | BI14: =+BH14/BH15 -> 7.7613843 | BJ14: =IF(OR(BI14>=1.21,BI14="INDETERMINADO"),"CUMPLE","NO CUMPLE") -> CUMPLE | BL14: 883576406 | BM14: =+BL14/BL15 -> 12.851018 | BN14: =IF(OR(BM14>=1.11,BM14="INDETERMINADO"),"CUMPLE","NO CUMPLE") -> CUMPLE | BP14: 7592210005 | BQ14: =+BP14/BP15 -> 2.119529 | BR14: =IF(OR(BQ14>=1.11,BQ14="INDETERMINADO"),"CUMPLE","NO CUMPLE") -> CUMPLE | BT14: 5426605201 | BU14: =+BT14/BT15 -> 3.7189943 | BV14: =IF(OR(BU14>=1.21,BU14="INDETERMINADO"),"CUMPLE","NO CUMPLE") -> CUMPLE | BX14: 1204143200 | BY14: =+BX14/BX15 -> 5.2839301 | BZ14: =IF(OR(BY14>=1.11,BY14="INDETERMINADO"),"CUMPLE","NO CUMPLE") -> CUMPLE | CB14: 6718327378 | CC14: =+CB14/CB15 -> 2.4518036 | CD14: =IF(OR(CC14>=1.21,CC14="INDETERMINADO"),"CUMPLE","NO CUMPLE") -> CUMPLE | CF14: 2.8992158e+09 | CG14: =+CF14/CF15 -> 4.5660743 | CH14: =IF(OR(CG14>=1.11,CG14="INDETERMINADO"),"CUMPLE","NO CUMPLE") -> CUMPLE | CJ14: 5491361600 | CK14: =+CJ14/CJ15 -> 6.4297464 | CL14: =IF(OR(CK14>=1.11,CK14="INDETERMINADO"),"CUMPLE","NO CUMPLE") -> CUMPLE | CN14: 349152723 | CO14: =+CN14/CN15 -> 1.9823566 | CP14: =IF(OR(CO14>=1.21,CO14="INDETERMINADO"),"CUMPLE","NO CUMPLE") -> CUMPLE | CR14: 7.7435938e+09 | CS14: =+CR14/CR15 -> 4.911641 | CT14: =IF(OR(CS14>=1.21,CS14="INDETERMINADO"),"CUMPLE","NO CUMPLE") -> CUMPLE | CV14: 714874822 | CW14: =+CV14/CV15 -> 7.9057648 | CX14: =IF(OR(CW14>=1.11,CW14="INDETERMINADO"),"CUMPLE","NO CUMPLE") -> CUMPLE | CZ14: 2431206980 | DA14: =+CZ14/CZ15 -> 4.1381293 | DB14: =IF(OR(DA14>=1.21,DA14="INDETERMINADO"),"CUMPLE","NO CUMPLE") -> CUMPLE | DD14: 2857627624 | DE14: =+DD14/DD15 -> 23.814773 | DF14: =IF(OR(DE14>=1.11,DE14="INDETERMINADO"),"CUMPLE","NO CUMPLE") -> CUMPLE | DH14: 4642280968 | DI14: =+DH14/DH15 -> 46.550838 | DJ14: =IF(OR(DI14>=1.11,DI14="INDETERMINADO"),"CUMPLE","NO CUMPLE") -> CUMPLE | DL14: 3.2907398e+09 | DM14: =+DL14/DL15 -> 3.0890042 | DN14: =IF(OR(DM14>=1.11,DM14="INDETERMINADO"),"CUMPLE","NO CUMPLE") -> CUMPLE | DP14: 915134000 | DQ14: =+DP14/DP15 -> 11.749509 | DR14: =IF(OR(DQ14>=1.11,DQ14="INDETERMINADO"),"CUMPLE","NO CUMPLE") -> CUMPLE | DT14: 1.5963865e+09 | DU14: =+DT14/DT15 -> 7.5635757 | DV14: =IF(OR(DU14>=1.11,DU14="INDETERMINADO"),"CUMPLE","NO CUMPLE") -> CUMPLE | DX14: 6.8977499e+08 | DY14: =+DX14/DX15 -> 7.4822294 | DZ14: =IF(OR(DY14>=1.11,DY14="INDETERMINADO"),"CUMPLE","NO CUMPLE") -> CUMPLE | EB14: 5.4958881e+09 | EC14: =+EB14/EB15 -> 2.6068604 | ED14: =IF(OR(EC14>=1.21,EC14="INDETERMINADO"),"CUMPLE","NO CUMPLE") -> CUMPLE | EF14: 4.7344584e+09 | EG14: =+EF14/EF15 -> 62.346264 | EH14: =IF(OR(EG14>=1.11,EG14="INDETERMINADO"),"CUMPLE","NO CUMPLE") -> CUMPLE | EJ14: 1341461675 | EK14: =+EJ14/EJ15 -> 5.4598148 | EL14: =IF(OR(EK14>=1.21,EK14="INDETERMINADO"),"CUMPLE","NO CUMPLE") -> CUMPLE | EN14: 2.7966834e+09 | EO14: =+EN14/EN15 -> 3.3810262 | EP14: =IF(OR(EO14>=1.11,EO14="INDETERMINADO"),"CUMPLE","NO CUMPLE") -> CUMPLE | ER14: 2262853500 | ES14: =+ER14/ER15 -> 12.316826 | ET14: =IF(OR(ES14>=1.11,ES14="INDETERMINADO"),"CUMPLE","NO CUMPLE") -> CUMPLE | EV14: 5.1990805e+08 | EW14: =+EV14/EV15 -> 20.155784 | EX14: =IF(OR(EW14>=1.21,EW14="INDETERMINADO"),"CUMPLE","NO CUMPLE") -> CUMPLE | EZ14: 7.7405173e+08 | FA14: =+EZ14/EZ15 -> 169.86638 | FB14: =IF(OR(FA14>=1.21,FA14="INDETERMINADO"),"CUMPLE","NO CUMPLE") -> CUMPLE | FD14: 1165610672 | FE14: =+FD14/FD15 -> 13.729971 | FF14: =IF(OR(FE14>=1.11,FE14="INDETERMINADO"),"CUMPLE","NO CUMPLE") -> CUMPLE | FH14: 47072601 | FI14: =FH14/FH15 -> 539.77141 | FJ14: =IF(OR(FI14>=1.11,FI14="INDETERMINADO"),"CUMPLE","NO CUMPLE") -> CUMPLE | FL14: 7.4259444e+08 | FM14: =+FL14/FL15 -> 82.64824 | FN14: =IF(OR(FM14>=1.11,FM14="INDETERMINADO"),"CUMPLE","NO CUMPLE") -> CUMPLE | FP14: 9935202000 | FQ14: =+FP14/FP15 -> 20.874378 | FR14: =IF(OR(FQ14>=1.11,FQ14="INDETERMINADO"),"CUMPLE","NO CUMPLE") -> CUMPLE | FT14: 3.4690192e+09 | FU14: =+FT14/FT15 -> 95.313921 | FV14: =IF(OR(FU14>=1.11,FU14="INDETERMINADO"),"CUMPLE","NO CUMPLE") -> CUMPLE | FX14: 7.7529194e+08 | FY14: =+FX14/FX15 -> 8890.147 | FZ14: =IF(OR(FY14>=1.11,FY14="INDETERMINADO"),"CUMPLE","NO CUMPLE") -> CUMPLE | GB14: 7820788987 | GC14: =+GB14/GB15 -> 5.1091808 | GD14: =IF(OR(GC14>=1.11,GC14="INDETERMINADO"),"CUMPLE","NO CUMPLE") -> CUMPLE | GF14: 1443112217 | GG14: =+GF14/GF15 -> 8.4229379 | GH14: =IF(OR(GG14>=1.11,GG14="INDETERMINADO"),"CUMPLE","NO CUMPLE") -> CUMPLE | GJ14: 112588691 | GK14: =+GJ14/GJ15 -> 529.57992 | GL14: =IF(OR(GK14>=1.11,GK14="INDETERMINADO"),"CUMPLE","NO CUMPLE") -> CUMPLE | GN14: 6.3262081e+08 | GO14: =+GN14/GN15 -> 26.921052 | GP14: =IF(OR(GO14>=1.11,GO14="INDETERMINADO"),"CUMPLE","NO CUMPLE") -> CUMPLE | GR14: 1.1228737e+10 | GS14: =+GR14/GR15 -> 5.6079553 | GT14: =IF(OR(GS14>=1.11,GS14="INDETERMINADO"),"CUMPLE","NO CUMPLE") -> CUMPLE | GV14: 1806657067 | GW14: =+GV14/GV15 -> 3.8519312 | GX14: =IF(OR(GW14>=1.11,GW14="INDETERMINADO"),"CUMPLE","NO CUMPLE") -> CUMPLE | GZ14: 2.5804843e+09 | HA14: =+GZ14/GZ15 -> 2.1769313 | HB14: =IF(OR(HA14>=1.11,HA14="INDETERMINADO"),"CUMPLE","NO CUMPLE") -> CUMPLE | HD14: 3372957000 | HE14: =+HD14/HD15 -> 28.032987 | HF14: =IF(OR(HE14>=1.11,HE14="INDETERMINADO"),"CUMPLE","NO CUMPLE") -> CUMPLE | HH14: 983293161 | HI14: =+HH14/HH15 -> 12.937283 | HJ14: =IF(OR(HI14>=1.11,HI14="INDETERMINADO"),"CUMPLE","NO CUMPLE") -> CUMPLE | HL14: 2.2596872e+09 | HM14: =+HL14/HL15 -> 5.0485034 | HN14: =IF(OR(HM14>=1.11,HM14="INDETERMINADO"),"CUMPLE","NO CUMPLE") -> CUMPLE | HP14: 2.4115026e+09 | HQ14: =+HP14/HP15 -> 2.0650604 | HR14: =IF(OR(HQ14>=1.11,HQ14="INDETERMINADO"),"CUMPLE","NO CUMPLE") -> CUMPLE | HT14: 2372629126 | HU14: =+HT14/HT15 -> 2.0674989 | HV14: =IF(OR(HU14>=1.11,HU14="INDETERMINADO"),"CUMPLE","NO CUMPLE") -> CUMPLE | HX14: 585747642 | HY14: =+HX14/HX15 -> 6.9268468 | HZ14: =IF(OR(HY14>=1.11,HY14="INDETERMINADO"),"CUMPLE","NO CUMPLE") -> CUMPLE | IB14: 6544801535 | IC14: =+IB14/IB15 -> 5.5864049 | ID14: =IF(OR(IC14>=1.11,IC14="INDETERMINADO"),"CUMPLE","NO CUMPLE") -> CUMPLE | IF14: 1834807134 | IG14: =+IF14/IF15 -> 61.160238 | IH14: =IF(OR(IG14>=1.11,IG14="INDETERMINADO"),"CUMPLE","NO CUMPLE") -> CUMPLE | IJ14: 3368364361 | IK14: 3.3650182 | IL14: CUMPLE | IN14: 5.1909025e+08 | IO14: 4.3111572 | IP14: CUMPLE | IR14: 1.4106566e+09 | IS14: 1.7076285 | IT14: CUMPLE | IV14: 1248453000 | IW14: 118.90029 | IX14: CUMPLE | IZ14: 55005683 | JA14: 12.039685 | JB14: CUMPLE | JD14: 7097414473 | JE14: 6.4464695 | JF14: CUMPLE | JH14: 1.8591555e+09 | JI14: 1.8174831 | JJ14: CUMPLE | JL14: 2069696238 | JM14: 7.6937251 | JN14: CUMPLE | JP14: 4245152113 | JQ14: 8.4453895 | JR14: CUMPLE | JT14: 2069696238 | JU14: 7.6937251 | JV14: CUMPLE | JX14: 4491555369 | JY14: 3.7043482 | JZ14: CUMPLE | KB14: 2066005500 | KC14: 0.84111396 | KD14: NO CUMPLE
C15: PASIVO CORRIENTE | D15: 503841885 | H15: 222034051 | L15: 715205212 | P15: 173071815 | T15: 72523300 | X15: 1885960924 | AB15: 971804000 | AF15: 19796338 | AJ15: 160720347 | AN15: 827483542 | AR15: 1059401070 | AV15: 273714705 | AZ15: 208565291 | BD15: 4877307408 | BH15: 463426683 | BL15: 68755365 | BP15: 3582026933 | BT15: 1459159314 | BX15: 227887800 | CB15: 2740157238 | CF15: 6.3494714e+08 | CJ15: 854055700 | CN15: 176130127 | CR15: 1.5765798e+09 | CV15: 90424499 | CZ15: 587513530 | DD15: 119993906 | DH15: 99724970 | DL15: 1.0653076e+09 | DP15: 77887000 | DT15: 211062405 | DX15: 92188431 | EB15: 2.1082402e+09 | EF15: 75938125 | EJ15: 245697285 | EN15: 8.2716999e+08 | ER15: 183720500 | EV15: 25794485 | EZ15: 4556827.2 | FD15: 84895350 | FH15: 87208.4 | FL15: 8985000 | FP15: 475952000 | FT15: 36395724 | FX15: 87208 | GB15: 1530732491 | GF15: 171331219 | GJ15: 212600 | GN15: 23499112 | GR15: 2.0022871e+09 | GV15: 469026306 | GZ15: 1.185377e+09 | HD15: 120321000 | HH15: 76004612 | HL15: 4.4759545e+08 | HP15: 1.1677637e+09 | HT15: 1147584222 | HX15: 84561945 | IB15: 1171558751 | IF15: 30000000 | IJ15: 1000994390 | IN15: 120406244 | IR15: 826090991 | IV15: 10500000 | IZ15: 4568698 | JD15: 1100976967 | JH15: 1.0229286e+09 | JL15: 269010943 | JP15: 5.0265913e+08 | JT15: 269010943 | JX15: 1212508964 | KB15: 2456273000
A16: NIVEL DE ENDEUDAMIENTO | B16: Mipyme Menor o igual a 0.75 Gran empresa Menor o igual a 70% (Pasivo total sobre activo Total)X100 | C16: PASIVO TOTAL | D16: 5255852373 | E16: =D16/D17 -> 2.1199616 | F16: =IF(OR(E16<=0.75,E16="INDETERMINADO"),"CUMPLE","NO CUMPLE") -> NO CUMPLE | H16: 489082692 | I16: =H16/H17 -> 0.089777062 | J16: =IF(OR(I16<=0.75,I16="INDETERMINADO"),"CUMPLE","NO CUMPLE") -> CUMPLE | L16: 715205212 | M16: =L16/L17 -> 0.38801666 | N16: =IF(OR(M16<=0.75,M16="INDETERMINADO"),"CUMPLE","NO CUMPLE") -> CUMPLE | P16: 569992833 | Q16: =P16/P17 -> 0.44519024 | R16: =IF(OR(Q16<=0.75,Q16="INDETERMINADO"),"CUMPLE","NO CUMPLE") -> CUMPLE | T16: 277523300 | U16: =T16/T17 -> 0.18538023 | V16: =IF(OR(U16<=0.7,U16="INDETERMINADO"),"CUMPLE","NO CUMPLE") -> CUMPLE | X16: 2792413008 | Y16: =X16/X17 -> 0.18712909 | Z16: =IF(OR(Y16<=0.75,Y16="INDETERMINADO"),"CUMPLE","NO CUMPLE") -> CUMPLE | AB16: 1304923000 | AC16: =AB16/AB17 -> 0.39691073 | AD16: =IF(OR(AC16<=0.7,AC16="INDETERMINADO"),"CUMPLE","NO CUMPLE") -> CUMPLE | AF16: 146698115 | AG16: =AF16/AF17 -> 0.14569332 | AH16: =IF(OR(AG16<=0.75,AG16="INDETERMINADO"),"CUMPLE","NO CUMPLE") -> CUMPLE | AJ16: 487881187 | AK16: =AJ16/AJ17 -> 0.6048638 | AL16: =IF(OR(AK16<=0.75,AK16="INDETERMINADO"),"CUMPLE","NO CUMPLE") -> CUMPLE | AN16: 2287133103 | AO16: =AN16/AN17 -> 0.44288853 | AP16: =IF(OR(AO16<=0.7,AO16="INDETERMINADO"),"CUMPLE","NO CUMPLE") -> CUMPLE | AR16: 2086464752 | AS16: =AR16/AR17 -> 0.67662703 | AT16: =IF(OR(AS16<=0.7,AS16="INDETERMINADO"),"CUMPLE","NO CUMPLE") -> CUMPLE | AV16: 323714705 | AW16: =AV16/AV17 -> 0.17394382 | AX16: =IF(OR(AW16<=0.7,AW16="INDETERMINADO"),"CUMPLE","NO CUMPLE") -> CUMPLE | AZ16: 347918787 | BA16: =AZ16/AZ17 -> 0.28568278 | BB16: =IF(OR(BA16<=0.75,BA16="INDETERMINADO"),"CUMPLE","NO CUMPLE") -> CUMPLE | BD16: 7639557061 | BE16: =BD16/BD17 -> 0.44882166 | BF16: =IF(OR(BE16<=0.7,BE16="INDETERMINADO"),"CUMPLE","NO CUMPLE") -> CUMPLE | BH16: 592968124 | BI16: =BH16/BH17 -> 0.15282749 | BJ16: =IF(OR(BI16<=0.7,BI16="INDETERMINADO"),"CUMPLE","NO CUMPLE") -> CUMPLE | BL16: 186640865 | BM16: =BL16/BL17 -> 0.10522508 | BN16: =IF(OR(BM16<=0.75,BM16="INDETERMINADO"),"CUMPLE","NO CUMPLE") -> CUMPLE | BP16: 4106628414 | BQ16: =BP16/BP17 -> 0.36830859 | BR16: =IF(OR(BQ16<=0.75,BQ16="INDETERMINADO"),"CUMPLE","NO CUMPLE") -> CUMPLE | BT16: 4358658015 | BU16: =BT16/BT17 -> 0.4918834 | BV16: =IF(OR(BU16<=0.7,BU16="INDETERMINADO"),"CUMPLE","NO CUMPLE") -> CUMPLE | BX16: 227887800 | BY16: =BX16/BX17 -> 0.13165589 | BZ16: =IF(OR(BY16<=0.75,BY16="INDETERMINADO"),"CUMPLE","NO CUMPLE") -> CUMPLE | CB16: 4928180379 | CC16: =CB16/CB17 -> 0.42894826 | CD16: =IF(OR(CC16<=0.7,CC16="INDETERMINADO"),"CUMPLE","NO CUMPLE") -> CUMPLE | CF16: 1.4285577e+09 | CG16: =CF16/CF17 -> 0.35686786 | CH16: =IF(OR(CG16<=0.75,CG16="INDETERMINADO"),"CUMPLE","NO CUMPLE") -> CUMPLE | CJ16: 1670528600 | CK16: =CJ16/CJ17 -> 0.26688798 | CL16: =IF(OR(CK16<=0.75,CK16="INDETERMINADO"),"CUMPLE","NO CUMPLE") -> CUMPLE | CN16: 176130127 | CO16: =CN16/CN17 -> 0.5044501 | CP16: =IF(OR(CO16<=0.7,CO16="INDETERMINADO"),"CUMPLE","NO CUMPLE") -> CUMPLE | CR16: 1.7347964e+09 | CS16: =CR16/CR17 -> 0.2045785 | CT16: =IF(OR(CS16<=0.7,CS16="INDETERMINADO"),"CUMPLE","NO CUMPLE") -> CUMPLE | CV16: 90424499 | CW16: =CV16/CV17 -> 0.12173307 | CX16: =IF(OR(CW16<=0.75,CW16="INDETERMINADO"),"CUMPLE","NO CUMPLE") -> CUMPLE | CZ16: 587513530 | DA16: =CZ16/CZ17 -> 0.15328061 | DB16: =IF(OR(DA16<=0.7,DA16="INDETERMINADO"),"CUMPLE","NO CUMPLE") -> CUMPLE | DD16: 119993906 | DE16: =DD16/DD17 -> 0.041307824 | DF16: =IF(OR(DE16<=0.75,DE16="INDETERMINADO"),"CUMPLE","NO CUMPLE") -> CUMPLE | DH16: 99724970 | DI16: =DH16/DH17 -> 0.020861605 | DJ16: =IF(OR(DI16<=0.75,DI16="INDETERMINADO"),"CUMPLE","NO CUMPLE") -> CUMPLE | DL16: 1.7759784e+09 | DM16: =DL16/DL17 -> 0.53126759 | DN16: =IF(OR(DM16<=0.75,DM16="INDETERMINADO"),"CUMPLE","NO CUMPLE") -> CUMPLE | DP16: 132260000 | DQ16: =DP16/DP17 -> 0.13717171 | DR16: =IF(OR(DQ16<=0.75,DQ16="INDETERMINADO"),"CUMPLE","NO CUMPLE") -> CUMPLE | DT16: 3.5868764e+08 | DU16: =DT16/DT17 -> 0.19308351 | DV16: =IF(OR(DU16<=0.75,DU16="INDETERMINADO"),"CUMPLE","NO CUMPLE") -> CUMPLE | DX16: 98887401 | DY16: =DX16/DX17 -> 0.14247366 | DZ16: =IF(OR(DY16<=0.75,DY16="INDETERMINADO"),"CUMPLE","NO CUMPLE") -> CUMPLE | EB16: 4.7681539e+09 | EC16: =EB16/EB17 -> 0.5702123 | ED16: =IF(OR(EC16<=0.7,EC16="INDETERMINADO"),"CUMPLE","NO CUMPLE") -> CUMPLE | EF16: 141263965 | EG16: =EF16/EF17 -> 0.029759986 | EH16: =IF(OR(EG16<=0.75,EG16="INDETERMINADO"),"CUMPLE","NO CUMPLE") -> CUMPLE | EJ16: 562473937 | EK16: =EJ16/EJ17 -> 0.35631512 | EL16: =IF(OR(EK16<=0.7,EK16="INDETERMINADO"),"CUMPLE","NO CUMPLE") -> CUMPLE | EN16: 1.3301262e+09 | EO16: =EN16/EN17 -> 0.47123744 | EP16: =IF(OR(EO16<=0.75,EO16="INDETERMINADO"),"CUMPLE","NO CUMPLE") -> CUMPLE | ER16: 216822500 | ES16: =ER16/ER17 -> 0.052939304 | ET16: =IF(OR(ES16<=0.75,ES16="INDETERMINADO"),"CUMPLE","NO CUMPLE") -> CUMPLE | EV16: 40164918 | EW16: =EV16/EV17 -> 0.075325377 | EX16: =IF(OR(EW16<=0.7,EW16="INDETERMINADO"),"CUMPLE","NO CUMPLE") -> CUMPLE | EZ16: 4556827.2 | FA16: =EZ16/EZ17 -> 0.00493797 | FB16: =IF(OR(FA16<=0.7,FA16="INDETERMINADO"),"CUMPLE","NO CUMPLE") -> CUMPLE | FD16: 290356539 | FE16: =FD16/FD17 -> 0.17632324 | FF16: =IF(OR(FE16<=0.75,FE16="INDETERMINADO"),"CUMPLE","NO CUMPLE") -> CUMPLE | FH16: 87208.4 | FI16: =FH16/FH17 -> 0.0018526361 | FJ16: =IF(OR(FI16<=0.75,FI16="INDETERMINADO"),"CUMPLE","NO CUMPLE") -> CUMPLE | FL16: 95385000 | FM16: =FL16/FL17 -> 0.048593547 | FN16: =IF(OR(FM16<=0.75,FM16="INDETERMINADO"),"CUMPLE","NO CUMPLE") -> CUMPLE | FP16: 5198760 | FQ16: =FP16/FP17 -> 0.00042353217 | FR16: =IF(OR(FQ16<=0.75,FQ16="INDETERMINADO"),"CUMPLE","NO CUMPLE") -> CUMPLE | FT16: 4.9782535e+08 | FU16: =FT16/FT17 -> 0.10755542 | FV16: =IF(OR(FU16<=0.75,FU16="INDETERMINADO"),"CUMPLE","NO CUMPLE") -> CUMPLE | FX16: 87208 | FY16: =FX16/FX17 -> 0.00010452678 | FZ16: =IF(OR(FY16<=0.75,FY16="INDETERMINADO"),"CUMPLE","NO CUMPLE") -> CUMPLE | GB16: 6167156515 | GC16: =GB16/GB17 -> 0.64762189 | GD16: =IF(OR(GC16<=0.75,GC16="INDETERMINADO"),"CUMPLE","NO CUMPLE") -> CUMPLE | GF16: 361723446 | GG16: =GF16/GF17 -> 0.24525296 | GH16: =IF(OR(GG16<=0.75,GG16="INDETERMINADO"),"CUMPLE","NO CUMPLE") -> CUMPLE | GJ16: 212600 | GK16: =GJ16/GJ17 -> 0.0018567065 | GL16: =IF(OR(GK16<=0.75,GK16="INDETERMINADO"),"CUMPLE","NO CUMPLE") -> CUMPLE | GN16: 72320862 | GO16: =GN16/GN17 -> 0.097994757 | GP16: =IF(OR(GO16<=0.75,GO16="INDETERMINADO"),"CUMPLE","NO CUMPLE") -> CUMPLE | GR16: 2.0356604e+09 | GS16: =GR16/GR17 -> 0.1698045 | GT16: =IF(OR(GS16<=0.75,GS16="INDETERMINADO"),"CUMPLE","NO CUMPLE") -> CUMPLE | GV16: 1956698884 | GW16: =GV16/GV17 -> 0.6406984 | GX16: =IF(OR(GW16<=0.75,GW16="INDETERMINADO"),"CUMPLE","NO CUMPLE") -> CUMPLE | GZ16: 1.185377e+09 | HA16: =GZ16/GZ17 -> 0.44935084 | HB16: =IF(OR(HA16<=0.75,HA16="INDETERMINADO"),"CUMPLE","NO CUMPLE") -> CUMPLE | HD16: 716220000 | HE16: =HD16/HD17 -> 0.206015 | HF16: =IF(OR(HE16<=0.75,HE16="INDETERMINADO"),"CUMPLE","NO CUMPLE") -> CUMPLE | HH16: 76004612 | HI16: =HH16/HH17 -> 0.074372866 | HJ16: =IF(OR(HI16<=0.75,HI16="INDETERMINADO"),"CUMPLE","NO CUMPLE") -> CUMPLE | HL16: 4.4835545e+08 | HM16: =HL16/HL17 -> 0.18460371 | HN16: =IF(OR(HM16<=0.75,HM16="INDETERMINADO"),"CUMPLE","NO CUMPLE") -> CUMPLE | HP16: 1.2152637e+09 | HQ16: =HP16/HP17 -> 0.39984395 | HR16: =IF(OR(HQ16<=0.75,HQ16="INDETERMINADO"),"CUMPLE","NO CUMPLE") -> CUMPLE | HT16: 1147584222 | HU16: =HT16/HT17 -> 0.45512144 | HV16: =IF(OR(HU16<=0.75,HU16="INDETERMINADO"),"CUMPLE","NO CUMPLE") -> CUMPLE | HX16: 84561945 | HY16: =HX16/HX17 -> 0.1236742 | HZ16: =IF(OR(HY16<=0.75,HY16="INDETERMINADO"),"CUMPLE","NO CUMPLE") -> CUMPLE | IB16: 2678241413 | IC16: =IB16/IB17 -> 0.39899826 | ID16: =IF(OR(IC16<=0.75,IC16="INDETERMINADO"),"CUMPLE","NO CUMPLE") -> CUMPLE | IF16: 30000000 | IG16: =IF16/IF17 -> 0.011594305 | IH16: =IF(OR(IG16<=0.75,IG16="INDETERMINADO"),"CUMPLE","NO CUMPLE") -> CUMPLE | IJ16: 1350636960 | IK16: 1 | IL16: =IF(OR(IK16<=0.75,IK16="INDETERMINADO"),"CUMPLE","NO CUMPLE") -> NO CUMPLE | IN16: 3.3138881e+08 | IO16: 0.63840307 | IP16: CUMPLE | IR16: 826090991 | IS16: 0.55373178 | IT16: CUMPLE | IV16: 10500000 | IW16: 0.0054240664 | IX16: CUMPLE | IZ16: 4568698 | JA16: 0.074889712 | JB16: CUMPLE | JD16: 2522901800 | JE16: 0.27892723 | JF16: CUMPLE | JH16: 1.405727e+09 | JI16: 0.61672115 | JJ16: CUMPLE | JL16: 1.2424408e+09 | JM16: 0.44914921 | JN16: CUMPLE | JP16: 2941793769 | JQ16: 0.51413899 | JR16: CUMPLE | JT16: 1.2424408e+09 | JU16: 0.44914921 | JV16: CUMPLE | JX16: 1212508964 | JY16: 0.17294481 | JZ16: CUMPLE | KB16: 570768500 | KC16: 0.19836679 | KD16: CUMPLE
C17: ACTIVO TOTAL | D17: 2479220530 | H17: 5447746658 | L17: 1843233244 | P17: 1280335427 | T17: 1497049088 | X17: 14922388852 | AB17: 3287699000 | AF17: 1006896627 | AJ17: 806596770 | AN17: 5164128096 | AR17: 3083626064 | AV17: 1861030267 | AZ17: 1217850029 | BD17: 17021364369 | BH17: 3879983491 | BL17: 1773729901 | BP17: 11149966472 | BT17: 8861161094 | BX17: 1730935100 | CB17: 11488985605 | CF17: 4.0030439e+09 | CJ17: 6259287500 | CN17: 349152723 | CR17: 8.4798572e+09 | CV17: 742809622 | CZ17: 3832927868 | DD17: 2904871124 | DH17: 4780311522 | DL17: 3.3429076e+09 | DP17: 964193000 | DT17: 1.8576814e+09 | DX17: 6.9407499e+08 | EB17: 8.3620678e+09 | EF17: 4.7467753e+09 | EJ17: 1578585675 | EN17: 2822624181 | ER17: 4095681000 | EV17: 5.3321894e+08 | EZ17: 9.2281387e+08 | FD17: 1646728689 | FH17: 47072601 | FL17: 1.9629149e+09 | FP17: 12274770000 | FT17: 4.6285471e+09 | FX17: 8.3431248e+08 | GB17: 9522773343 | GF17: 1474899403 | GJ17: 1.1450383e+08 | GN17: 738007462 | GR17: 1.198826e+10 | GV17: 3054009333 | GZ17: 2.6379766e+09 | HD17: 3476543000 | HH17: 1021940078 | HL17: 2.4287457e+09 | HP17: 3.039345e+09 | HT17: 2521490126 | HX17: 683747642 | IB17: 6712413756 | IF17: 2587477134 | IJ17: 1350636960 | IN17: 5.1909025e+08 | IR17: 1.4918613e+09 | IV17: 1935817000 | IZ17: 61005683 | JD17: 9045018085 | JH17: 2.2793559e+09 | JL17: 2.7662095e+09 | JP17: 5.7217869e+09 | JT17: 2.7662095e+09 | JX17: 7010958887 | KB17: 2877339000
A18: COBERTURA DE INTERESES | B18: Mipyme Mayor o igual a 0 Gran empresa Mayor o igual a 1 y/o indeterminado (Utilidad Operacional/Gastos de Intereses) | C18: UTILIDAD OPERACIONAL | D18: 173234820 | E18: =D18/D19 -> 9.7033772 | F18: =IF(OR(E18>=0,E18="INDETERMINADO"),"CUMPLE","NO CUMPLE") -> CUMPLE | H18: 11007282404 | I18: =H18/H19 -> 2401.1092 | J18: =IF(OR(I18>=0,I18="INDETERMINADO"),"CUMPLE","NO CUMPLE") -> CUMPLE | L18: 219925492 | M18: =L18/L19 -> 4043.2683 | N18: =IF(OR(M18>=0,M18="INDETERMINADO"),"CUMPLE","NO CUMPLE") -> CUMPLE | P18: 158432154 | Q18: =P18/P19 -> 141.52008 | R18: =IF(OR(Q18>=0,Q18="INDETERMINADO"),"CUMPLE","NO CUMPLE") -> CUMPLE | T18: 177585959 | U18: INDETERMINADO | V18: =IF(OR(U18>=1,U18="INDETERMINADO"),"CUMPLE","NO CUMPLE") -> CUMPLE | X18: 781900874 | Y18: =X18/X19 -> 6.5232608 | Z18: =IF(OR(Y18>=0,Y18="INDETERMINADO"),"CUMPLE","NO CUMPLE") -> CUMPLE | AB18: 185931000 | AC18: =AB18/AB19 -> 3.4550675 | AD18: =IF(OR(AC18>=0,AC18="INDETERMINADO"),"CUMPLE","NO CUMPLE") -> CUMPLE | AF18: 371001418 | AG18: =AF18/AF19 -> 21.285331 | AH18: =IF(OR(AG18>=0,AG18="INDETERMINADO"),"CUMPLE","NO CUMPLE") -> CUMPLE | AJ18: 33269808 | AK18: =AJ18/AJ19 -> 17.488978 | AL18: =IF(OR(AK18>=0,AK18="INDETERMINADO"),"CUMPLE","NO CUMPLE") -> CUMPLE | AN18: 26464971 | AO18: =AN18/AN19 -> 1.1751611 | AP18: =IF(OR(AO18>=0,AO18="INDETERMINADO"),"CUMPLE","NO CUMPLE") -> CUMPLE | AR18: 928960127 | AS18: =AR18/AR19 -> 13.105904 | AT18: =IF(OR(AS18>=1,AS18="INDETERMINADO"),"CUMPLE","NO CUMPLE") -> CUMPLE | AV18: 553611804 | AW18: =AV18/AV19 -> 97.866881 | AX18: =IF(OR(AW18>=0,AW18="INDETERMINADO"),"CUMPLE","NO CUMPLE") -> CUMPLE | AZ18: 208715872 | BA18: =AZ18/AZ19 -> 284.45248 | BB18: =IF(OR(BA18>=0,BA18="INDETERMINADO"),"CUMPLE","NO CUMPLE") -> CUMPLE | BD18: 1552515219 | BE18: =BD18/BD19 -> 514.37561 | BF18: =IF(OR(BE18>=1,BE18="INDETERMINADO"),"CUMPLE","NO CUMPLE") -> CUMPLE | BH18: 718766255 | BI18: =BH18/BH19 -> 8.6810101 | BJ18: =IF(OR(BI18>=1,BI18="INDETERMINADO"),"CUMPLE","NO CUMPLE") -> CUMPLE | BL18: 147242183 | BM18: =BL18/BL19 -> 85.326872 | BN18: =IF(OR(BM18>=0,BM18="INDETERMINADO"),"CUMPLE","NO CUMPLE") -> CUMPLE | BP18: 1106712255 | BQ18: =BP18/BP19 -> 2.6754156 | BR18: =IF(OR(BQ18>=0,BQ18="INDETERMINADO"),"CUMPLE","NO CUMPLE") -> CUMPLE | BT18: 1027197682 | BU18: =BT18/BT19 -> 22.33488 | BV18: =IF(OR(BU18>=1,BU18="INDETERMINADO"),"CUMPLE","NO CUMPLE") -> CUMPLE | BX18: 355862300 | BY18: =BX18/BX19 -> 78.039978 | BZ18: =IF(OR(BY18>=0,BY18="INDETERMINADO"),"CUMPLE","NO CUMPLE") -> CUMPLE | CB18: 603418107 | CC18: =CB18/CB19 -> 4.9629809 | CD18: =IF(OR(CC18>=1,CC18="INDETERMINADO"),"CUMPLE","NO CUMPLE") -> CUMPLE | CF18: 5.2202903e+08 | CG18: =IFERROR(CF18/CF19,"INDETERMINADO") -> 3.3916521 | CH18: =IF(OR(CG18>=0,CG18="INDETERMINADO"),"CUMPLE","NO CUMPLE") -> CUMPLE | CJ18: 161347000 | CK18: =IFERROR(CJ18/CJ19,"INDETERMINADO") -> 66.422543 | CL18: =IF(OR(CK18>=0,CK18="INDETERMINADO"),"CUMPLE","NO CUMPLE") -> CUMPLE | CN18: 45034128 | CO18: =IFERROR(CN18/CN19,"INDETERMINADO") -> INDETERMINADO | CP18: =IF(OR(CO18>=1,CO18="INDETERMINADO"),"CUMPLE","NO CUMPLE") -> CUMPLE | CR18: 1.121082e+09 | CS18: =IFERROR(CR18/CR19,"INDETERMINADO") -> 2894.3145 | CT18: =IF(OR(CS18>=1,CS18="INDETERMINADO"),"CUMPLE","NO CUMPLE") -> CUMPLE | CV18: 218461352 | CW18: =IFERROR(CV18/CV19,"INDETERMINADO") -> INDETERMINADO | CX18: =IF(OR(CW18>=0,CW18="INDETERMINADO"),"CUMPLE","NO CUMPLE") -> CUMPLE | CZ18: 409976496 | DA18: =IFERROR(CZ18/CZ19,"INDETERMINADO") -> INDETERMINADO | DB18: =IF(OR(DA18>=1,DA18="INDETERMINADO"),"CUMPLE","NO CUMPLE") -> CUMPLE | DD18: 56021945 | DE18: =IFERROR(DD18/DD19,"INDETERMINADO") -> 7.9718353 | DF18: =IF(OR(DE18>=0,DE18="INDETERMINADO"),"CUMPLE","NO CUMPLE") -> CUMPLE | DH18: 21266861 | DI18: =IFERROR(DH18/DH19,"INDETERMINADO") -> INDETERMINADO | DJ18: =IF(OR(DI18>=0,DI18="INDETERMINADO"),"CUMPLE","NO CUMPLE") -> CUMPLE | DL18: 671953059 | DM18: =IFERROR(DL18/DL19,"INDETERMINADO") -> 2078.7958 | DN18: =IF(OR(DM18>=0,DM18="INDETERMINADO"),"CUMPLE","NO CUMPLE") -> CUMPLE | DP18: 162050000 | DQ18: =IFERROR(DP18/DP19,"INDETERMINADO") -> 73.22639 | DR18: =IF(OR(DQ18>=0,DQ18="INDETERMINADO"),"CUMPLE","NO CUMPLE") -> CUMPLE | DT18: 1.6225815e+08 | DU18: =IFERROR(DT18/DT19,"INDETERMINADO") -> 70.296398 | DV18: =IF(OR(DU18>=0,DU18="INDETERMINADO"),"CUMPLE","NO CUMPLE") -> CUMPLE | DX18: 2.276621e+08 | DY18: =IFERROR(DX18/DX19,"INDETERMINADO") -> 202.87543 | DZ18: =IF(OR(DY18>=0,DY18="INDETERMINADO"),"CUMPLE","NO CUMPLE") -> CUMPLE | EB18: 2.1540074e+08 | EC18: =IFERROR(EB18/EB19,"INDETERMINADO") -> 3.7144894 | ED18: =IF(OR(EC18>=1,EC18="INDETERMINADO"),"CUMPLE","NO CUMPLE") -> CUMPLE | EF18: 487615695 | EG18: =IFERROR(EF18/EF19,"INDETERMINADO") -> 5455.8216 | EH18: =IF(OR(EG18>=0,EG18="INDETERMINADO"),"CUMPLE","NO CUMPLE") -> CUMPLE | EJ18: 107230238 | EK18: =IFERROR(EJ18/EJ19,"INDETERMINADO") -> 3.0366475 | EL18: =IF(OR(EK18>=1,EK18="INDETERMINADO"),"CUMPLE","NO CUMPLE") -> CUMPLE | EN18: 1.7126103e+08 | EO18: =IFERROR(EN18/EN19,"INDETERMINADO") -> 22.08532 | EP18: =IF(OR(EO18>=0,EO18="INDETERMINADO"),"CUMPLE","NO CUMPLE") -> CUMPLE | ER18: 642224500 | ES18: =IFERROR(ER18/ER19,"INDETERMINADO") -> INDETERMINADO | ET18: =IF(OR(ES18>=0,ES18="INDETERMINADO"),"CUMPLE","NO CUMPLE") -> CUMPLE | EV18: 1.1338809e+08 | EW18: =IFERROR(EV18/EV19,"INDETERMINADO") -> 91.147984 | EX18: =IF(OR(EW18>=1,EW18="INDETERMINADO"),"CUMPLE","NO CUMPLE") -> CUMPLE | EZ18: 1.6082143e+08 | FA18: =IFERROR(EZ18/EZ19,"INDETERMINADO") -> 49.008187 | FB18: =IF(OR(FA18>=1,FA18="INDETERMINADO"),"CUMPLE","NO CUMPLE") -> CUMPLE | FD18: 80495284 | FE18: =IFERROR(FD18/FD19,"INDETERMINADO") -> 5.3048514 | FF18: =IF(OR(FE18>=0,FE18="INDETERMINADO"),"CUMPLE","NO CUMPLE") -> CUMPLE | FH18: 631449.8 | FI18: INDERTERMINADO | FJ18: =IF(OR(FI18>=0,FI18="INDETERMINADO"),"CUMPLE","NO CUMPLE") -> CUMPLE | FL18: 233530103 | FM18: =FL18/FL19 -> 166.98695 | FN18: =IF(OR(FM18>=0,FM18="INDETERMINADO"),"CUMPLE","NO CUMPLE") -> CUMPLE | FP18: 724480000 | FQ18: =FP18/FP19 -> 6.1917134 | FR18: =IF(OR(FQ18>=0,FQ18="INDETERMINADO"),"CUMPLE","NO CUMPLE") -> CUMPLE | FT18: 2.8243318e+08 | FU18: =FT18/FT19 -> 587.15505 | FV18: =IF(OR(FU18>=0,FU18="INDETERMINADO"),"CUMPLE","NO CUMPLE") -> CUMPLE | FX18: 631450 | FY18: INDETERMINADO | FZ18: =IF(OR(FY18>=0,FY18="INDETERMINADO"),"CUMPLE","NO CUMPLE") -> CUMPLE | GB18: 1507592252 | GC18: INDETERMINADO | GD18: =IF(OR(GC18>=0,GC18="INDETERMINADO"),"CUMPLE","NO CUMPLE") -> CUMPLE | GF18: 107684847 | GG18: =GF18/GF19 -> 43.520142 | GH18: =IF(OR(GG18>=0,GG18="INDETERMINADO"),"CUMPLE","NO CUMPLE") -> CUMPLE | GJ18: 21523748 | GK18: INDERTEMINADO | GL18: =IF(OR(GK18>=0,GK18="INDETERMINADO"),"CUMPLE","NO CUMPLE") -> CUMPLE | GN18: 53711263 | GO18: INDERTEMINADO | GP18: =IF(OR(GO18>=0,GO18="INDETERMINADO"),"CUMPLE","NO CUMPLE") -> CUMPLE | GR18: 2.7773278e+09 | GS18: INDERTEMINADO | GT18: =IF(OR(GS18>=0,GS18="INDETERMINADO"),"CUMPLE","NO CUMPLE") -> CUMPLE | GV18: 556702646 | GW18: =GV18/GV19 -> 625.93057 | GX18: =IF(OR(GW18>=0,GW18="INDETERMINADO"),"CUMPLE","NO CUMPLE") -> CUMPLE | GZ18: 105954535 | HA18: =GZ18/GZ19 -> 41.993667 | HB18: =IF(OR(HA18>=0,HA18="INDETERMINADO"),"CUMPLE","NO CUMPLE") -> CUMPLE | HD18: 86427000 | HE18: =HD18/HD19 -> 3.9458978 | HF18: =IF(OR(HE18>=0,HE18="INDETERMINADO"),"CUMPLE","NO CUMPLE") -> CUMPLE | HH18: 852957155 | HI18: =HH18/HH19 -> 533098.22 | HJ18: =IF(OR(HI18>=0,HI18="INDETERMINADO"),"CUMPLE","NO CUMPLE") -> CUMPLE | HL18: 4.46985e+08 | HM18: INDETERMINADO | HN18: =IF(OR(HM18>=0,HM18="INDETERMINADO"),"CUMPLE","NO CUMPLE") -> CUMPLE | HP18: 6.324501e+08 | HQ18: INDETERMINADO | HR18: =IF(OR(HQ18>=0,HQ18="INDETERMINADO"),"CUMPLE","NO CUMPLE") -> CUMPLE | HT18: 39590602 | HU18: =HT18/HT19 -> 486.37103 | HV18: =IF(OR(HU18>=0,HU18="INDETERMINADO"),"CUMPLE","NO CUMPLE") -> CUMPLE | HX18: 162890223 | HY18: =HX18/HX19 -> 440.80617 | HZ18: =IF(OR(HY18>=0,HY18="INDETERMINADO"),"CUMPLE","NO CUMPLE") -> CUMPLE | IB18: 237990711 | IC18: =IB18/IB19 -> 2.7738734 | ID18: =IF(OR(IC18>=0,IC18="INDETERMINADO"),"CUMPLE","NO CUMPLE") -> CUMPLE | IF18: 408058312 | IG18: INDERTERMINADO | IH18: =IF(OR(IG18>=0,IG18="INDETERMINADO"),"CUMPLE","NO CUMPLE") -> CUMPLE | IJ18: 915984132 | IK18: 12.828332 | IL18: CUMPLE | IN18: 60975836 | IO18: 74.372975 | IP18: CUMPLE | IR18: 131084969 | IS18: 361.11562 | IT18: CUMPLE | IV18: 402798000 | IW18: 38.288783 | IX18: CUMPLE | IZ18: 3796932 | JA18: INDETERMINADO | JB18: CUMPLE | JD18: 1514398544 | JE18: 576.14641 | JF18: CUMPLE | JH18: 1.032143e+08 | JI18: 52.694768 | JJ18: CUMPLE | JL18: 4.7440249e+08 | JM18: 41.283851 | JN18: CUMPLE | JP18: 7.3728542e+08 | JQ18: 6.4723132 | JR18: CUMPLE | JT18: 4.7440249e+08 | JU18: 41.283851 | JV18: CUMPLE | JX18: 1411671166 | JY18: 56.197177 | JZ18: CUMPLE | KB18: 900985000 | KC18: 82451.155 | KD18: CUMPLE
C19: GASTOS DE INTERESES | D19: 17853044 | H19: 4584249 | L19: 54393 | P19: 1119503 | T19: 0 | X19: 119863500 | AB19: 53814000 | AF19: 17429911 | AJ19: 1902330 | AN19: 22520291 | AR19: 70881043 | AV19: 5656784 | AZ19: 733746 | BD19: 3018252 | BH19: 82797537 | BL19: 1725625 | BP19: 413659944 | BT19: 45990742 | BX19: 4560000 | CB19: 121583805 | CF19: 1.5391585e+08 | CJ19: 2429100 | CN19: 0 | CR19: 387339.4 | CV19: 0 | CZ19: 0 | DD19: 7027484 | DH19: 0 | DL19: 323241.5 | DP19: 2213000 | DT19: 2308200 | DX19: 1122176.8 | EB19: 57989328 | EF19: 89375.3 | EJ19: 35312047 | EN19: 7754518.8 | ER19: 0 | EV19: 1244000 | EZ19: 3281521.8 | FD19: 15173900 | FH19: 0 | FL19: 1398493.1 | FP19: 117008000 | FT19: 481019.75 | FX19: 0 | GB19: 0 | GF19: 2474368 | GJ19: 0 | GN19: 0 | GR19: 0 | GV19: 889400 | GZ19: 2523107.5 | HD19: 21903000 | HH19: 1600 | HL19: 0 | HP19: 61428914 | HT19: 81400 | HX19: 369528 | IB19: 85797250 | IF19: 0 | IJ19: 71403213 | IN19: 819865.5 | IR19: 363000 | IV19: 10520000 | IZ19: 0 | JD19: 2628496 | JH19: 1958720 | JL19: 11491236 | JP19: 1.1391374e+08 | JT19: 11491236 | JX19: 25119966 | KB19: 10927.5
A20: REQUISITOS CAPACIDAD ORGANIZACIONAL
A21: Rentabilidad sobre Patrimonio (ROE) | B21: Mipyme Mayor o igual a 0 Gran empresa Mayor o igual a 0,04 (Utilidad Operacional dividido por el Patrimonio) | C21: UTILIDAD OPERACIONAL | D21: =+D18 -> 173234820 | E21: =+D21/D22 -> 0.088685187 | F21: =IF(OR(E21>=0.04,E21="INDETERMINADO"),"CUMPLE","NO CUMPLE") -> CUMPLE | H21: =+H18 -> 11007282404 | I21: =+H21/H22 -> 2.2198081 | J21: =IF(OR(I21>=0.04,I21="INDETERMINADO"),"CUMPLE","NO CUMPLE") -> CUMPLE | L21: =+L18 -> 219925492 | M21: =+L21/L22 -> 0.19496456 | N21: =IF(OR(M21>=0.04,M21="INDETERMINADO"),"CUMPLE","NO CUMPLE") -> CUMPLE | P21: =+P18 -> 158432154 | Q21: =+P21/P22 -> 0.22303626 | R21: =IF(OR(Q21>=0.04,Q21="INDETERMINADO"),"CUMPLE","NO CUMPLE") -> CUMPLE | T21: =+T18 -> 177585959 | U21: =+T21/T22 -> 0.14561886 | V21: =IF(OR(U21>=0.04,U21="INDETERMINADO"),"CUMPLE","NO CUMPLE") -> CUMPLE | X21: =+X18 -> 781900874 | Y21: =+X21/X22 -> 0.064460217 | Z21: =IF(OR(Y21>=0.04,Y21="INDETERMINADO"),"CUMPLE","NO CUMPLE") -> CUMPLE | AB21: =+AB18 -> 185931000 | AC21: =+AB21/AB22 -> 3.4550675 | AD21: =IF(OR(AC21>=0.04,AC21="INDETERMINADO"),"CUMPLE","NO CUMPLE") -> CUMPLE | AF21: =+AF18 -> 371001418 | AG21: =+AF21/AF22 -> 0.43129744 | AH21: =IF(OR(AG21>=0.04,AG21="INDETERMINADO"),"CUMPLE","NO CUMPLE") -> CUMPLE | AJ21: =AJ18 -> 33269808 | AK21: =+AJ21/AJ22 -> 0.10438714 | AL21: =IF(OR(AK21>=0.04,AK21="INDETERMINADO"),"CUMPLE","NO CUMPLE") -> CUMPLE | AN21: =+AN18 -> 26464971 | AO21: =+AN21/AN22 -> 0.0091988241 | AP21: =IF(OR(AO21>=0.04,AO21="INDETERMINADO"),"CUMPLE","NO CUMPLE") -> NO CUMPLE | AR21: =+AR18 -> 928960127 | AS21: =+AR21/AR22 -> 0.44974028 | AT21: =IF(OR(AS21>=0.04,AS21="INDETERMINADO"),"CUMPLE","NO CUMPLE") -> CUMPLE | AV21: =+AV18 -> 553611804 | AW21: =+AV21/AV22 -> 0.36011592 | AX21: =IF(OR(AW21>=0.04,AW21="INDETERMINADO"),"CUMPLE","NO CUMPLE") -> CUMPLE | AZ21: =+AZ18 -> 208715872 | BA21: =+AZ21/AZ22 -> 0.23992226 | BB21: =IF(OR(BA21>=0.04,BA21="INDETERMINADO"),"CUMPLE","NO CUMPLE") -> CUMPLE | BD21: =+BD18 -> 1552515219 | BE21: =+BD21/BD22 -> 0.16548147 | BF21: =IF(OR(BE21>=0.04,BE21="INDETERMINADO"),"CUMPLE","NO CUMPLE") -> CUMPLE | BH21: =+BH18 -> 718766255 | BI21: =+BH21/BH22 -> 0.21866836 | BJ21: =IF(OR(BI21>=0.04,BI21="INDETERMINADO"),"CUMPLE","NO CUMPLE") -> CUMPLE | BL21: =+BL18 -> 147242183 | BM21: =+BL21/BL22 -> 0.092774999 | BN21: =IF(OR(BM21>=0.04,BM21="INDETERMINADO"),"CUMPLE","NO CUMPLE") -> CUMPLE | BP21: =+BP18 -> 1106712255 | BQ21: =+BP21/BP22 -> 0.15712894 | BR21: =IF(OR(BQ21>=0.04,BQ21="INDETERMINADO"),"CUMPLE","NO CUMPLE") -> CUMPLE | BT21: =+BT18 -> 1027197682 | BU21: =+BT21/BT22 -> 0.22813925 | BV21: =IF(OR(BU21>=0.04,BU21="INDETERMINADO"),"CUMPLE","NO CUMPLE") -> CUMPLE | BX21: =BX18 -> 355862300 | BY21: =+BX21/BX22 -> 0.23676055 | BZ21: =IF(OR(BY21>=0.04,BY21="INDETERMINADO"),"CUMPLE","NO CUMPLE") -> CUMPLE | CB21: =CB18 -> 603418107 | CC21: =+CB21/CB22 -> 0.091973178 | CD21: =IF(OR(CC21>=0.04,CC21="INDETERMINADO"),"CUMPLE","NO CUMPLE") -> CUMPLE | CF21: 5.2202903e+08 | CG21: =+CF21/CF22 -> 0.20277018 | CH21: =IF(OR(CG21>=0,CG21="INDETERMINADO"),"CUMPLE","NO CUMPLE") -> CUMPLE | CJ21: 161347000 | CK21: 0.035161359 | CL21: CUMPLE | CN21: 45034128 | CO21: =+CN21/CN22 -> 0.26027888 | CP21: =IF(OR(CO21>=0.04,CO21="INDETERMINADO"),"CUMPLE","NO CUMPLE") -> CUMPLE | CR21: 1.121082e+09 | CS21: =+CR21/CR22 -> 0.16620785 | CT21: =IF(OR(CS21>=0.04,CS21="INDETERMINADO"),"CUMPLE","NO CUMPLE") -> CUMPLE | CV21: 218461352 | CW21: =+CV21/CV22 -> 0.33486563 | CX21: =IF(OR(CW21>=0,CW21="INDETERMINADO"),"CUMPLE","NO CUMPLE") -> CUMPLE | CZ21: 409976496 | DA21: =+CZ21/CZ22 -> 0.12632486 | DB21: =IF(OR(DA21>=0.04,DA21="INDETERMINADO"),"CUMPLE","NO CUMPLE") -> CUMPLE | DD21: 56021945 | DE21: =+DD21/DD22 -> 0.020116487 | DF21: =IF(OR(DE21>=0,DE21="INDETERMINADO"),"CUMPLE","NO CUMPLE") -> CUMPLE | DH21: 21266861 | DI21: =+DH21/DH22 -> 0.0045436316 | DJ21: =IF(OR(DI21>=0,DI21="INDETERMINADO"),"CUMPLE","NO CUMPLE") -> CUMPLE | DL21: 671953059 | DM21: =+DL21/DL22 -> 0.42883437 | DN21: =IF(OR(DM21>=0,DM21="INDETERMINADO"),"CUMPLE","NO CUMPLE") -> CUMPLE | DP21: 162050000 | DQ21: =+DP21/DP22 -> 0.19478732 | DR21: =IF(OR(DQ21>=0,DQ21="INDETERMINADO"),"CUMPLE","NO CUMPLE") -> CUMPLE | DT21: 1.6225815e+08 | DU21: =+DT21/DT22 -> 0.10824471 | DV21: =IF(OR(DU21>=0,DU21="INDETERMINADO"),"CUMPLE","NO CUMPLE") -> CUMPLE | DX21: 2.276621e+08 | DY21: =+DX21/DX22 -> 0.38250479 | DZ21: =IF(OR(DY21>=0,DY21="INDETERMINADO"),"CUMPLE","NO CUMPLE") -> CUMPLE | EB21: 2.1540074e+08 | EC21: =+EB21/EB22 -> 0.059934865 | ED21: =IF(OR(EC21>=0.04,EC21="INDETERMINADO"),"CUMPLE","NO CUMPLE") -> CUMPLE | EF21: 487615695 | EG21: =+EF21/EF22 -> 0.10587656 | EH21: =IF(OR(EG21>=0,EG21="INDETERMINADO"),"CUMPLE","NO CUMPLE") -> CUMPLE | EJ21: 107230238 | EK21: =+EJ21/EJ22 -> 0.10552997 | EL21: =IF(OR(EK21>=0.04,EK21="INDETERMINADO"),"CUMPLE","NO CUMPLE") -> CUMPLE | EN21: 1.7126103e+08 | EO21: =+EN21/EN22 -> 0.11474791 | EP21: =IF(OR(EO21>=0,EO21="INDETERMINADO"),"CUMPLE","NO CUMPLE") -> CUMPLE | ER21: 642224500 | ES21: =+ER21/ER22 -> 0.16557049 | ET21: =IF(OR(ES21>=0,ES21="INDETERMINADO"),"CUMPLE","NO CUMPLE") -> CUMPLE | EV21: 1.1338809e+08 | EW21: =+EV21/EV22 -> 0.22997093 | EX21: =IF(OR(EW21>=0.04,EW21="INDETERMINADO"),"CUMPLE","NO CUMPLE") -> CUMPLE | EZ21: 1.6082143e+08 | FA21: =+EZ21/EZ22 -> 0.17513771 | FB21: =IF(OR(FA21>=0.04,FA21="INDETERMINADO"),"CUMPLE","NO CUMPLE") -> CUMPLE | FD21: 80495284 | FE21: =+FD21/FD22 -> 0.059346017 | FF21: =IF(OR(FE21>=0,FE21="INDETERMINADO"),"CUMPLE","NO CUMPLE") -> CUMPLE | FH21: =+FH18 -> 631449.8 | FI21: =+FH21/FH22 -> 0.013439279 | FJ21: =IF(OR(FI21>=0,FI21="INDETERMINADO"),"CUMPLE","NO CUMPLE") -> CUMPLE | FL21: =+FL18 -> 233530103 | FM21: =+FL21/FL22 -> 0.12504758 | FN21: =IF(OR(FM21>=0,FM21="INDETERMINADO"),"CUMPLE","NO CUMPLE") -> CUMPLE | FP21: =+FP18 -> 724480000 | FQ21: =+FP21/FP22 -> 0.10238538 | FR21: =IF(OR(FQ21>=0,FQ21="INDETERMINADO"),"CUMPLE","NO CUMPLE") -> CUMPLE | FT21: =+FT18 -> 2.8243318e+08 | FU21: =+FT21/FT22 -> 0.068373808 | FV21: =IF(OR(FU21>=0,FU21="INDETERMINADO"),"CUMPLE","NO CUMPLE") -> CUMPLE | FX21: =+FX18 -> 631450 | FY21: =+FX21/FX22 -> 0.00080022752 | FZ21: =IF(OR(FY21>=0,FY21="INDETERMINADO"),"CUMPLE","NO CUMPLE") -> CUMPLE | GB21: =+GB18 -> 1507592252 | GC21: =+GB21/GB22 -> 0.44927426 | GD21: =IF(OR(GC21>=0,GC21="INDETERMINADO"),"CUMPLE","NO CUMPLE") -> CUMPLE | GF21: =+GF18 -> 107684847 | GG21: =+GF21/GF22 -> 0.096736591 | GH21: =IF(OR(GG21>=0,GG21="INDETERMINADO"),"CUMPLE","NO CUMPLE") -> CUMPLE | GJ21: =+GJ18 -> 21523748 | GK21: =+GJ21/GJ22 -> 0.028177929 | GL21: =IF(OR(GK21>=0,GK21="INDETERMINADO"),"CUMPLE","NO CUMPLE") -> CUMPLE | GN21: =GN18 -> 53711263 | GO21: =+GN21/GN22 -> 0.08068551 | GP21: =IF(OR(GO21>=0,GO21="INDETERMINADO"),"CUMPLE","NO CUMPLE") -> CUMPLE | GR21: =+GR18 -> 2.7773278e+09 | GS21: =+GR21/GR22 -> 0.27905552 | GT21: =IF(OR(GS21>=0,GS21="INDETERMINADO"),"CUMPLE","NO CUMPLE") -> CUMPLE | GV21: =+GV18 -> 556702646 | GW21: =+GV21/GV22 -> 0.50733377 | GX21: =IF(OR(GW21>=0,GW21="INDETERMINADO"),"CUMPLE","NO CUMPLE") -> CUMPLE | GZ21: =+GZ18 -> 105954535 | HA21: =+GZ21/GZ22 -> 0.072941323 | HB21: =IF(OR(HA21>=0,HA21="INDETERMINADO"),"CUMPLE","NO CUMPLE") -> CUMPLE | HD21: =+HD18 -> 86427000 | HE21: =+HD21/HD22 -> 0.031310466 | HF21: =IF(OR(HE21>=0,HE21="INDETERMINADO"),"CUMPLE","NO CUMPLE") -> CUMPLE | HH21: =+HH18 -> 852957155 | HI21: =+HH21/HH22 -> 0.90170755 | HJ21: =IF(OR(HI21>=0,HI21="INDETERMINADO"),"CUMPLE","NO CUMPLE") -> CUMPLE | HL21: =+HL18 -> 4.46985e+08 | HM21: =+HL21/HL22 -> 0.22570552 | HN21: =IF(OR(HM21>=0,HM21="INDETERMINADO"),"CUMPLE","NO CUMPLE") -> CUMPLE | HP21: =+HP18 -> 6.324501e+08 | HQ21: =+HP21/HP22 -> 0.34672254 | HR21: =IF(OR(HQ21>=0,HQ21="INDETERMINADO"),"CUMPLE","NO CUMPLE") -> CUMPLE | HT21: =+HT18 -> 39590602 | HU21: =+HT21/HT22 -> 0.028816094 | HV21: =IF(OR(HU21>=0,HU21="INDETERMINADO"),"CUMPLE","NO CUMPLE") -> CUMPLE | HX21: =+HX18 -> 162890223 | HY21: =+HX21/HX22 -> 0.27185266 | HZ21: =IF(OR(HY21>=0,HY21="INDETERMINADO"),"CUMPLE","NO CUMPLE") -> CUMPLE | IB21: =IB18 -> 237990711 | IC21: =+IB21/IB22 -> 0.05899369 | ID21: =IF(OR(IC21>=0,IC21="INDETERMINADO"),"CUMPLE","NO CUMPLE") -> CUMPLE | IF21: =IF18 -> 408058312 | IG21: =+IF21/IF22 -> 0.15955502 | IH21: =IF(OR(IG21>=0,IG21="INDETERMINADO"),"CUMPLE","NO CUMPLE") -> CUMPLE | IJ21: 915984132 | IK21: 0.33154081 | IL21: CUMPLE | IN21: 60975836 | IO21: 0.32485545 | IP21: CUMPLE | IR21: 131084969 | IS21: 0.1968922 | IT21: CUMPLE | IV21: 402798000 | IW21: 0.20921126 | IX21: CUMPLE | IZ21: 3796932 | JA21: 0.067277371 | JB21: CUMPLE | JD21: 1514398544 | JE21: 0.23219435 | JF21: CUMPLE | JH21: 1.032143e+08 | JI21: 0.11814432 | JJ21: CUMPLE | JL21: 4.7440249e+08 | JM21: 0.31133499 | JN21: CUMPLE | JP21: 7.3728542e+08 | JQ21: 0.26521124 | JR21: CUMPLE | JT21: 4.7440249e+08 | JU21: 0.31133499 | JV21: CUMPLE | JX21: 1411671166 | JY21: 0.68343663 | JZ21: CUMPLE | KB21: 900985000 | KC21: 0.39061672 | KD21: CUMPLE
C22: PATRIMONIO | D22: 1953368157 | H22: 4958663966 | L22: 1128028032 | P22: 710342594 | T22: 1219525788 | X22: 12129975844 | AB22: 53814000 | AF22: 860198512 | AJ22: 318715583 | AN22: 2876994993 | AR22: 2065547999 | AV22: 1537315562 | AZ22: 869931242 | BD22: 9381807308 | BH22: 3287015367 | BL22: 1587089036 | BP22: 7043338058 | BT22: 4502503079 | BX22: 1503047300 | CB22: 6560805226 | CF22: 2.5744862e+09 | CJ22: 4588758900 | CN22: 173022596 | CR22: 6.7450607e+09 | CV22: 652385123 | CZ22: 3245414338 | DD22: 2784877218 | DH22: 4680586552 | DL22: 1.5669291e+09 | DP22: 831933000 | DT22: 1.4989937e+09 | DX22: 5.9518759e+08 | EB22: 3.5939138e+09 | EF22: 4.6055113e+09 | EJ22: 1016111738 | EN22: 1.492498e+09 | ER22: 3878858500 | EV22: 4.9305402e+08 | EZ22: 9.1825704e+08 | FD22: 1356372150 | FH22: 46985392 | FL22: 1.8675299e+09 | FP22: 7076010000 | FT22: 4.1307218e+09 | FX22: 7.8908809e+08 | GB22: 3355616828 | GF22: 1113175957 | GJ22: 763851333 | GN22: 665686600 | GR22: 9.9525991e+09 | GV22: 1097310449 | GZ22: 1452599586 | HD22: 2760323000 | HH22: 945935466 | HL22: 1980390240 | HP22: 1.8240813e+09 | HT22: 1373905904 | HX22: 599185697 | IB22: 4034172343 | IF22: 2557477134 | IJ22: 2762809563 | IN22: 187701439 | IR22: 6.6577027e+08 | IV22: 1925317000 | IZ22: 56436985 | JD22: 6522116285 | JH22: 873628912 | JL22: 1523768657 | JP22: 2.7799932e+09 | JT22: 1523768657 | JX22: 2065547999 | KB22: 2306570500
