Workbook
Name smlmv: SMLMV!$A$6:$C$40

Sheet SMLMV
A1: Salario mínimo legal en Colombia
A3: 1.1.1 Serie histórica en pesos colombianos
A4: Información disponible desde 1 de julio de 1984
A5: Año | B5: Salario mínimo diario | C5: Salario mínimo mensual | D5: Variación % anual * | E5: Decretos del Gobierno Nacional
A6: 1984 | B6: 376.6 | C6: 11298 | D6: 0 | E6: N/A
A7: 1985 | B7: 451.92 | C7: 13558 | D7: 20 | E7: 0001 de enero de 1985
A8: 1986 | B8: 560.38 | C8: 16811 | D8: 24 | E8: 3754 de diciembre de 1985
A9: 1987 | B9: 683.66 | C9: 20510 | D9: 22 | E9: 3732 de diciembre de 1986
A10: 1988 | B10: 854.58 | C10: 25637 | D10: 25 | E10: 2545 de diciembre de 1987
A11: 1989 | B11: 1085.32 | C11: 32560 | D11: 27 | E11: 2662 de diciembre de 1988
A12: 1990 | B12: 1367.5 | C12: 41025 | D12: 26 | E12: 3000 de diciembre de 1989
A13: 1991 | B13: 1723.87 | C13: 51716 | D13: 26.1 | E13: 3074 de diciembre de 1990
A14: 1992 | B14: 2173 | C14: 65190 | D14: 26.1 | E14: 2867 de diciembre de 1991
A15: 1993 | B15: 2717 | C15: 81510 | D15: 25 | E15: 2061 de diciembre de 1992
A16: 1994 | B16: 3290 | C16: 98700 | D16: 21.1 | E16: 2548 de diciembre de 1993
A17: 1995 | B17: 3964.45 | C17: 118934 | D17: 20.5 | E17: 2872 de diciembre de 1994
... A38: 2016 | B38: 22981.83 | C38: 689455 | D38: 7 | E38: 2552 de diciembre 30 de 2015
A39: 2017 | B39: 24590.57 | C39: 737717 | E39: Decreto 2209 de 30-12-2016.
A40: 2018 | B40: =C40/30 -> 26041.4 | C40: 781242 | D40: 5.9 | E40: Decreto 2209 de 30-12-2016.
A41: Fuente: Ministerio del Trabajo y decretos del Gobierno nacional.
A42: Nota: desde el 1 de julio de 1984 se unificó el salario mínimo para todos los sectores de la economía.
A43: * Variación porcentual con respecto al dato del año imediatamente anterior.

Sheet IDPC-CM-001-2020
D3: ="INSTITUTO DISTRITAL DE PATRIMONIO CULTURAL"&CHAR(10)&"PROCESO DE LICITACIÓN PÚBLICA "&MID(CELL("nombrearchivo",C5),FIND("]",CELL("nombrearchivo",C5))+1,31)&CHAR(10)&"PLANILLA RESULTADOS DE LA EVALUACIÓN TÉCNICA" -> INSTITUTO DISTRITAL DE PATRIMONIO CULTURAL PROCESO DE LICITACIÓN PÚBLICA IDPC-CM-001-2020 PLANILLA RESULTADOS DE LA EVALUACIÓN TÉCNICA
C6: OBJETO | D6: “SELECCIONAR A UN INTERMEDIARIO DE SEGUROS LEGALMENTE ESTABLECIDO EN COLOMBIA Y AUTORIZADO POR LA SUPERINTENDENCIA FINANCIERA DE COLOMBIA, PARA QUE PRESTE LOS SERVICIOS DE INTERMEDIACIÓN Y ASESORÍA INTREGRAL EN LA FORMULACIÓN Y MANEJO DEL PROGRAMA DE SEGUROS DEL INSTITUTO DISTRITAL DE PATRIMONIO CULTURAL, PARA LA ADECUADA PROTECCIÓN DE LAS PERSONAS, BIENES E INTERESES PATRIMONIALES DE SU PROPIEDAD O AQUELLOS POR LOS QUE SEA O LLEGARE A SER LEGALMENTE RESPOPNSABLE”
C8: PRESUPUESTO OFICIAL ESTIMADO (POE) | E8: N/A
C9: PRESUPUESTO OFICIAL ESTIMADO EN SMLMV | E9: =IFERROR($E$8/VLOOKUP(2018,smlmv,3,0),"-") -> -
E10: 1 | F10: 2 | G10: 3 | H10: 4 | I10: 5
C11: PROPONENTES | E11: REQUISITOS TÉCNICOS HABILITANTES | J11: OFERTA ECONÓMICA | N11: HABILITADO / NO HABILITADO | O11: OBSERVACIONES
E12: ='1'!D16 -> 40.1 EXPERIENCIA DEL PROPONENTE | F12: ='1'!D24 -> 40.2 EXPERIENCIA DEL PROPONENTE EN EL MANEJO DE PROGRAMAS DE SEGUROS | G12: ='1'!D31 -> 40.3 EXPERIENCIA ESPECÍFICA DEL EQUIPO MÍNIMO | H12: ='1'!D39 -> 40.4 ACREDITACIÓN MONTO DE INGRESOS POR COMISIONES | I12: ='1'!D44 -> 40.5 SEGURO DE RESPONSABILIDAD CIVIL PROFESIONAL /ERRORES U OMISIONES | J12: VALOR OFERTADO | K12: OFERTA TOTAL | L12: OFERTA INFERIOR AL POE | M12: CONCEPTO
C13: 1 | D13: =IFERROR(INDIRECT(ADDRESS(11,5,1,1,$C13))&" "&INDIRECT(ADDRESS(9,4,1,1,$C13)),"") -> 860.069.265 – 2 AON RISK SERVICES COLOMBIA S.A. CORREDORES DE SEGUROS, | E13: =IF(IFERROR(VLOOKUP(E$10,INDIRECT("'"&$C13&"'!$A:$V"),11,0),"")="SI","CUMPLE",IF(IFERROR(VLOOKUP(E$10,INDIRECT("'"&$C13&"'!$A:$V"),11,0),"")="NO","NO CUMPLE","")) -> CUMPLE | F13: =IF(IFERROR(VLOOKUP(F$10,INDIRECT("'"&$C13&"'!$A:$V"),7,0),"")="SI","CUMPLE",IF(IFERROR(VLOOKUP(F$10,INDIRECT("'"&$C13&"'!$A:$V"),7,0),"")="NO","NO CUMPLE","")) -> CUMPLE | G13: =IF(IFERROR(VLOOKUP(G$10,INDIRECT("'"&$C13&"'!$A:$V"),7,0),"")="SI","CUMPLE",IF(IFERROR(VLOOKUP(G$10,INDIRECT("'"&$C13&"'!$A:$V"),7,0),"")="NO","NO CUMPLE","")) -> CUMPLE | H13: =IF(IFERROR(VLOOKUP(H$10,INDIRECT("'"&$C13&"'!$A:$V"),7,0),"")="SI","CUMPLE",IF(IFERROR(VLOOKUP(H$10,INDIRECT("'"&$C13&"'!$A:$V"),7,0),"")="NO","NO CUMPLE","")) -> CUMPLE | I13: =IF(IFERROR(VLOOKUP(I$10,INDIRECT("'"&$C13&"'!$A:$V"),7,0),"")="SI","CUMPLE",IF(IFERROR(VLOOKUP(I$10,INDIRECT("'"&$C13&"'!$A:$V"),7,0),"")="NO","NO CUMPLE","")) -> CUMPLE | L13: =IF(J13="","",IF($J13<=E8,"SI","NO")) | M13: =IF(AND(K13="SI",L13="SI"),"HABILITADA",IF($J13="","","RECHAZADA")) | N13: =IF(E13="","",IF($J13="RECHAZADA","RECHAZADO",IFERROR(IF(MATCH("NO CUMPLE",$E13:$I13,0)<=5,"NO HABILITADO",""),"HABILITADO"))) -> HABILITADO | O13: 1. ) SE EVIDENCIO QUE EL VALOR DE LA POLIZA ESTA EXPRESADA EN DOLARES. SUBSANADO 2.) EL PROPONENTE ALLEGA EL DESARROLLAR DEL NUMERAL 5.1 ESPECIFICACIONES TÉCNICAS EN ESTE SENTIDO, ATENDIO LO INDICADO EN: PREVENCIÓN DE PÉRDIDAS- CAPACIDAD TÉCNICA E INFRAESTRUCTURA SOPORTE TÉCNICO. SUBSANADO
C14: =OFFSET(C14,-1,0)+1 -> 2 | D14: =IFERROR(INDIRECT(ADDRESS(11,5,1,1,$C14))&" "&INDIRECT(ADDRESS(9,4,1,1,$C14)),"") -> 800.018.165-8 JARGU S.A. CORREDORES DE SEGUROS | E14: =IF(IFERROR(VLOOKUP(E$10,INDIRECT("'"&$C14&"'!$A:$V"),11,0),"")="SI","CUMPLE",IF(IFERROR(VLOOKUP(E$10,INDIRECT("'"&$C14&"'!$A:$V"),11,0),"")="NO","NO CUMPLE","")) -> CUMPLE | F14: =IF(IFERROR(VLOOKUP(F$10,INDIRECT("'"&$C14&"'!$A:$V"),7,0),"")="SI","CUMPLE",IF(IFERROR(VLOOKUP(F$10,INDIRECT("'"&$C14&"'!$A:$V"),7,0),"")="NO","NO CUMPLE","")) -> CUMPLE | G14: =IF(IFERROR(VLOOKUP(G$10,INDIRECT("'"&$C14&"'!$A:$V"),7,0),"")="SI","CUMPLE",IF(IFERROR(VLOOKUP(G$10,INDIRECT("'"&$C14&"'!$A:$V"),7,0),"")="NO","NO CUMPLE","")) -> CUMPLE | H14: =IF(IFERROR(VLOOKUP(H$10,INDIRECT("'"&$C14&"'!$A:$V"),7,0),"")="SI","CUMPLE",IF(IFERROR(VLOOKUP(H$10,INDIRECT("'"&$C14&"'!$A:$V"),7,0),"")="NO","NO CUMPLE","")) -> CUMPLE | I14: =IF(IFERROR(VLOOKUP(I$10,INDIRECT("'"&$C14&"'!$A:$V"),7,0),"")="SI","CUMPLE",IF(IFERROR(VLOOKUP(I$10,INDIRECT("'"&$C14&"'!$A:$V"),7,0),"")="NO","NO CUMPLE","")) -> CUMPLE | L14: =IF(J14="","",IF($J14<=#REF!,"SI","NO")) | M14: =IF(AND(K14="SI",L14="SI"),"HABILITADA",IF($J14="","","RECHAZADA")) | N14: =IF(E14="","",IF($J14="RECHAZADA","RECHAZADO",IFERROR(IF(MATCH("NO CUMPLE",$E14:$I14,0)<=5,"NO HABILITADO",""),"HABILITADO"))) -> HABILITADO | O14: 1.) ALLEG0 LA MANIFESTACION QUE EN CASO DE RESULTAR ADJUDICATARIO MANTENDRA VIGENTE LA POLIZA DE RESPONSABILIDAD CIVIL PROFESIONAL/ ERRORES U OMISIONES SEGÚN LO REQUERIDO EN EL NUMERAL 40.5 DEL PLIEGO DE CONDICIONES DEFINITIVO- SUBSANADO. 2.) ALLEGO EL COMPROMISO JURAMENTADO QUE CUMPLIRÁ CON TODAS LAS ESPECIFICACIONES TÉCNICAS EN CASO DE SER ADJUDICATARIO, SUBSANADO
C15: =OFFSET(C15,-1,0)+1 -> 3 | D15: =IFERROR(INDIRECT(ADDRESS(11,5,1,1,$C15))&" "&INDIRECT(ADDRESS(9,4,1,1,$C15)),"") | E15: =IF(IFERROR(VLOOKUP(E$10,INDIRECT("'"&$C15&"'!$A:$V"),11,0),"")="SI","CUMPLE",IF(IFERROR(VLOOKUP(E$10,INDIRECT("'"&$C15&"'!$A:$V"),11,0),"")="NO","NO CUMPLE","")) | I15: =IF(IFERROR(VLOOKUP(I$10,INDIRECT("'"&$C15&"'!$A:$V"),7,0),"")="SI","CUMPLE",IF(IFERROR(VLOOKUP(I$10,INDIRECT("'"&$C15&"'!$A:$V"),7,0),"")="NO","NO CUMPLE","")) | L15: =IF(J15="","",IF($J15<=#REF!,"SI","NO")) | M15: =IF(AND(K15="SI",L15="SI"),"HABILITADA",IF($J15="","","RECHAZADA")) | N15: =IF(E15="","",IF($J15="RECHAZADA","RECHAZADO",IFERROR(IF(MATCH("NO CUMPLE",$E15:$I15,0)<=5,"NO HABILITADO",""),"HABILITADO"))) | O15: =IFERROR(VLOOKUP(E$10,INDIRECT("'"&$C15&"'!$A:$V"),12,0),"")&IF(IFERROR(VLOOKUP(E$10,INDIRECT("'"&$C15&"'!$A:$V"),12,0),"")<>"",". ","")&IFERROR(VLOOKUP(I$10,INDIRECT("'"&$C15&"'!$A:$V"),8,0),"")
C16: =OFFSET(C16,-1,0)+1 -> 4 | D16: =IFERROR(INDIRECT(ADDRESS(11,5,1,1,$C16))&" "&INDIRECT(ADDRESS(9,4,1,1,$C16)),"") | E16: =IF(IFERROR(VLOOKUP(E$10,INDIRECT("'"&$C16&"'!$A:$V"),11,0),"")="SI","CUMPLE",IF(IFERROR(VLOOKUP(E$10,INDIRECT("'"&$C16&"'!$A:$V"),11,0),"")="NO","NO CUMPLE","")) | I16: =IF(IFERROR(VLOOKUP(I$10,INDIRECT("'"&$C16&"'!$A:$V"),7,0),"")="SI","CUMPLE",IF(IFERROR(VLOOKUP(I$10,INDIRECT("'"&$C16&"'!$A:$V"),7,0),"")="NO","NO CUMPLE","")) | L16: =IF(J16="","",IF($J16<=#REF!,"SI","NO")) | M16: =IF(AND(K16="SI",L16="SI"),"HABILITADA",IF($J16="","","RECHAZADA")) | N16: =IF(E16="","",IF($J16="RECHAZADA","RECHAZADO",IFERROR(IF(MATCH("NO CUMPLE",$E16:$I16,0)<=5,"NO HABILITADO",""),"HABILITADO"))) | O16: =IFERROR(VLOOKUP(E$10,INDIRECT("'"&$C16&"'!$A:$V"),12,0),"")&IF(IFERROR(VLOOKUP(E$10,INDIRECT("'"&$C16&"'!$A:$V"),12,0),"")<>"",". ","")&IFERROR(VLOOKUP(I$10,INDIRECT("'"&$C16&"'!$A:$V"),8,0),"")
C17: =OFFSET(C17,-1,0)+1 -> 5 | D17: =IFERROR(INDIRECT(ADDRESS(11,5,1,1,$C17))&" "&INDIRECT(ADDRESS(9,4,1,1,$C17)),"") | E17: =IF(IFERROR(VLOOKUP(E$10,INDIRECT("'"&$C17&"'!$A:$V"),11,0),"")="SI","CUMPLE",IF(IFERROR(VLOOKUP(E$10,INDIRECT("'"&$C17&"'!$A:$V"),11,0),"")="NO","NO CUMPLE","")) | I17: =IF(IFERROR(VLOOKUP(I$10,INDIRECT("'"&$C17&"'!$A:$V"),7,0),"")="SI","CUMPLE",IF(IFERROR(VLOOKUP(I$10,INDIRECT("'"&$C17&"'!$A:$V"),7,0),"")="NO","NO CUMPLE","")) | L17: =IF(J17="","",IF($J17<=#REF!,"SI","NO")) | M17: =IF(AND(K17="SI",L17="SI"),"HABILITADA",IF($J17="","","RECHAZADA")) | N17: =IF(E17="","",IF($J17="RECHAZADA","RECHAZADO",IFERROR(IF(MATCH("NO CUMPLE",$E17:$I17,0)<=5,"NO HABILITADO",""),"HABILITADO"))) | O17: =IFERROR(VLOOKUP(E$10,INDIRECT("'"&$C17&"'!$A:$V"),12,0),"")&IF(IFERROR(VLOOKUP(E$10,INDIRECT("'"&$C17&"'!$A:$V"),12,0),"")<>"",". ","")&IFERROR(VLOOKUP(I$10,INDIRECT("'"&$C17&"'!$A:$V"),8,0),"")
C18: =OFFSET(C18,-1,0)+1 -> 6 | D18: =IFERROR(INDIRECT(ADDRESS(11,5,1,1,$C18))&" "&INDIRECT(ADDRESS(9,4,1,1,$C18)),"") | E18: =IF(IFERROR(VLOOKUP(E$10,INDIRECT("'"&$C18&"'!$A:$V"),11,0),"")="SI","CUMPLE",IF(IFERROR(VLOOKUP(E$10,INDIRECT("'"&$C18&"'!$A:$V"),11,0),"")="NO","NO CUMPLE","")) | I18: =IF(IFERROR(VLOOKUP(I$10,INDIRECT("'"&$C18&"'!$A:$V"),7,0),"")="SI","CUMPLE",IF(IFERROR(VLOOKUP(I$10,INDIRECT("'"&$C18&"'!$A:$V"),7,0),"")="NO","NO CUMPLE","")) | L18: =IF(J18="","",IF($J18<=#REF!,"SI","NO")) | M18: =IF(AND(K18="SI",L18="SI"),"HABILITADA",IF($J18="","","RECHAZADA")) | N18: =IF(E18="","",IF($J18="RECHAZADA","RECHAZADO",IFERROR(IF(MATCH("NO CUMPLE",$E18:$I18,0)<=5,"NO HABILITADO",""),"HABILITADO"))) | O18: =IFERROR(VLOOKUP(E$10,INDIRECT("'"&$C18&"'!$A:$V"),12,0),"")&IF(IFERROR(VLOOKUP(E$10,INDIRECT("'"&$C18&"'!$A:$V"),12,0),"")<>"",". ","")&IFERROR(VLOOKUP(I$10,INDIRECT("'"&$C18&"'!$A:$V"),8,0),"")
C19: =OFFSET(C19,-1,0)+1 -> 7 | D19: =IFERROR(INDIRECT(ADDRESS(11,5,1,1,$C19))&" "&INDIRECT(ADDRESS(9,4,1,1,$C19)),"") | E19: =IF(IFERROR(VLOOKUP(E$10,INDIRECT("'"&$C19&"'!$A:$V"),11,0),"")="SI","CUMPLE",IF(IFERROR(VLOOKUP(E$10,INDIRECT("'"&$C19&"'!$A:$V"),11,0),"")="NO","NO CUMPLE","")) | I19: =IF(IFERROR(VLOOKUP(I$10,INDIRECT("'"&$C19&"'!$A:$V"),7,0),"")="SI","CUMPLE",IF(IFERROR(VLOOKUP(I$10,INDIRECT("'"&$C19&"'!$A:$V"),7,0),"")="NO","NO CUMPLE","")) | L19: =IF(J19="","",IF($J19<=#REF!,"SI","NO")) | M19: =IF(AND(K19="SI",L19="SI"),"HABILITADA",IF($J19="","","RECHAZADA")) | N19: =IF(E19="","",IF($J19="RECHAZADA","RECHAZADO",IFERROR(IF(MATCH("NO CUMPLE",$E19:$I19,0)<=5,"NO HABILITADO",""),"HABILITADO"))) | O19: =IFERROR(VLOOKUP(E$10,INDIRECT("'"&$C19&"'!$A:$V"),12,0),"")&IF(IFERROR(VLOOKUP(E$10,INDIRECT("'"&$C19&"'!$A:$V"),12,0),"")<>"",". ","")&IFERROR(VLOOKUP(I$10,INDIRECT("'"&$C19&"'!$A:$V"),8,0),"")
C20: =OFFSET(C20,-1,0)+1 -> 8 | D20: =IFERROR(INDIRECT(ADDRESS(11,5,1,1,$C20))&" "&INDIRECT(ADDRESS(9,4,1,1,$C20)),"") | E20: =IF(IFERROR(VLOOKUP(E$10,INDIRECT("'"&$C20&"'!$A:$V"),11,0),"")="SI","CUMPLE",IF(IFERROR(VLOOKUP(E$10,INDIRECT("'"&$C20&"'!$A:$V"),11,0),"")="NO","NO CUMPLE","")) | I20: =IF(IFERROR(VLOOKUP(I$10,INDIRECT("'"&$C20&"'!$A:$V"),7,0),"")="SI","CUMPLE",IF(IFERROR(VLOOKUP(I$10,INDIRECT("'"&$C20&"'!$A:$V"),7,0),"")="NO","NO CUMPLE","")) | L20: =IF(J20="","",IF($J20<=#REF!,"SI","NO")) | M20: =IF(AND(K20="SI",L20="SI"),"HABILITADA",IF($J20="","","RECHAZADA")) | N20: =IF(E20="","",IF($J20="RECHAZADA","RECHAZADO",IFERROR(IF(MATCH("NO CUMPLE",$E20:$I20,0)<=5,"NO HABILITADO",""),"HABILITADO"))) | O20: =IFERROR(VLOOKUP(E$10,INDIRECT("'"&$C20&"'!$A:$V"),12,0),"")&IF(IFERROR(VLOOKUP(E$10,INDIRECT("'"&$C20&"'!$A:$V"),12,0),"")<>"",". ","")&IFERROR(VLOOKUP(I$10,INDIRECT("'"&$C20&"'!$A:$V"),8,0),"")
C21: =OFFSET(C21,-1,0)+1 -> 9 | D21: =IFERROR(INDIRECT(ADDRESS(11,5,1,1,$C21))&" "&INDIRECT(ADDRESS(9,4,1,1,$C21)),"") | E21: =IF(IFERROR(VLOOKUP(E$10,INDIRECT("'"&$C21&"'!$A:$V"),11,0),"")="SI","CUMPLE",IF(IFERROR(VLOOKUP(E$10,INDIRECT("'"&$C21&"'!$A:$V"),11,0),"")="NO","NO CUMPLE","")) | I21: =IF(IFERROR(VLOOKUP(I$10,INDIRECT("'"&$C21&"'!$A:$V"),7,0),"")="SI","CUMPLE",IF(IFERROR(VLOOKUP(I$10,INDIRECT("'"&$C21&"'!$A:$V"),7,0),"")="NO","NO CUMPLE","")) | L21: =IF(J21="","",IF($J21<=#REF!,"SI","NO")) | M21: =IF(AND(K21="SI",L21="SI"),"HABILITADA",IF($J21="","","RECHAZADA")) | N21: =IF(E21="","",IF($J21="RECHAZADA","RECHAZADO",IFERROR(IF(MATCH("NO CUMPLE",$E21:$I21,0)<=5,"NO HABILITADO",""),"HABILITADO"))) | O21: =IFERROR(VLOOKUP(E$10,INDIRECT("'"&$C21&"'!$A:$V"),12,0),"")&IF(IFERROR(VLOOKUP(E$10,INDIRECT("'"&$C21&"'!$A:$V"),12,0),"")<>"",". ","")&IFERROR(VLOOKUP(I$10,INDIRECT("'"&$C21&"'!$A:$V"),8,0),"")
C22: =OFFSET(C22,-1,0)+1 -> 10 | D22: =IFERROR(INDIRECT(ADDRESS(11,5,1,1,$C22))&" "&INDIRECT(ADDRESS(9,4,1,1,$C22)),"") | E22: =IF(IFERROR(VLOOKUP(E$10,INDIRECT("'"&$C22&"'!$A:$V"),11,0),"")="SI","CUMPLE",IF(IFERROR(VLOOKUP(E$10,INDIRECT("'"&$C22&"'!$A:$V"),11,0),"")="NO","NO CUMPLE","")) | I22: =IF(IFERROR(VLOOKUP(I$10,INDIRECT("'"&$C22&"'!$A:$V"),7,0),"")="SI","CUMPLE",IF(IFERROR(VLOOKUP(I$10,INDIRECT("'"&$C22&"'!$A:$V"),7,0),"")="NO","NO CUMPLE","")) | L22: =IF(J22="","",IF($J22<=#REF!,"SI","NO")) | M22: =IF(AND(K22="SI",L22="SI"),"HABILITADA",IF($J22="","","RECHAZADA")) | N22: =IF(E22="","",IF($J22="RECHAZADA","RECHAZADO",IFERROR(IF(MATCH("NO CUMPLE",$E22:$I22,0)<=5,"NO HABILITADO",""),"HABILITADO"))) | O22: =IFERROR(VLOOKUP(E$10,INDIRECT("'"&$C22&"'!$A:$V"),12,0),"")&IF(IFERROR(VLOOKUP(E$10,INDIRECT("'"&$C22&"'!$A:$V"),12,0),"")<>"",". ","")&IFERROR(VLOOKUP(I$10,INDIRECT("'"&$C22&"'!$A:$V"),8,0),"")
C23: =OFFSET(C23,-1,0)+1 -> 11 | D23: =IFERROR(INDIRECT(ADDRESS(11,5,1,1,$C23))&" "&INDIRECT(ADDRESS(9,4,1,1,$C23)),"") | E23: =IF(IFERROR(VLOOKUP(E$10,INDIRECT("'"&$C23&"'!$A:$V"),11,0),"")="SI","CUMPLE",IF(IFERROR(VLOOKUP(E$10,INDIRECT("'"&$C23&"'!$A:$V"),11,0),"")="NO","NO CUMPLE","")) | I23: =IF(IFERROR(VLOOKUP(I$10,INDIRECT("'"&$C23&"'!$A:$V"),7,0),"")="SI","CUMPLE",IF(IFERROR(VLOOKUP(I$10,INDIRECT("'"&$C23&"'!$A:$V"),7,0),"")="NO","NO CUMPLE","")) | L23: =IF(J23="","",IF($J23<=#REF!,"SI","NO")) | M23: =IF(AND(K23="SI",L23="SI"),"HABILITADA",IF($J23="","","RECHAZADA")) | N23: =IF(E23="","",IF($J23="RECHAZADA","RECHAZADO",IFERROR(IF(MATCH("NO CUMPLE",$E23:$I23,0)<=5,"NO HABILITADO",""),"HABILITADO"))) | O23: =IFERROR(VLOOKUP(E$10,INDIRECT("'"&$C23&"'!$A:$V"),12,0),"")&IF(IFERROR(VLOOKUP(E$10,INDIRECT("'"&$C23&"'!$A:$V"),12,0),"")<>"",". ","")&IFERROR(VLOOKUP(I$10,INDIRECT("'"&$C23&"'!$A:$V"),8,0),"")
C24: =OFFSET(C24,-1,0)+1 -> 12 | D24: =IFERROR(INDIRECT(ADDRESS(11,5,1,1,$C24))&" "&INDIRECT(ADDRESS(9,4,1,1,$C24)),"") | E24: =IF(IFERROR(VLOOKUP(E$10,INDIRECT("'"&$C24&"'!$A:$V"),11,0),"")="SI","CUMPLE",IF(IFERROR(VLOOKUP(E$10,INDIRECT("'"&$C24&"'!$A:$V"),11,0),"")="NO","NO CUMPLE","")) | I24: =IF(IFERROR(VLOOKUP(I$10,INDIRECT("'"&$C24&"'!$A:$V"),7,0),"")="SI","CUMPLE",IF(IFERROR(VLOOKUP(I$10,INDIRECT("'"&$C24&"'!$A:$V"),7,0),"")="NO","NO CUMPLE","")) | L24: =IF(J24="","",IF($J24<=#REF!,"SI","NO")) | M24: =IF(AND(K24="SI",L24="SI"),"HABILITADA",IF($J24="","","RECHAZADA")) | N24: =IF(E24="","",IF($J24="RECHAZADA","RECHAZADO",IFERROR(IF(MATCH("NO CUMPLE",$E24:$I24,0)<=5,"NO HABILITADO",""),"HABILITADO"))) | O24: =IFERROR(VLOOKUP(E$10,INDIRECT("'"&$C24&"'!$A:$V"),12,0),"")&IF(IFERROR(VLOOKUP(E$10,INDIRECT("'"&$C24&"'!$A:$V"),12,0),"")<>"",". ","")&IFERROR(VLOOKUP(I$10,INDIRECT("'"&$C24&"'!$A:$V"),8,0),"")
C25: =OFFSET(C25,-1,0)+1 -> 13 | D25: =IFERROR(INDIRECT(ADDRESS(11,5,1,1,$C25))&" "&INDIRECT(ADDRESS(9,4,1,1,$C25)),"") | E25: =IF(IFERROR(VLOOKUP(E$10,INDIRECT("'"&$C25&"'!$A:$V"),11,0),"")="SI","CUMPLE",IF(IFERROR(VLOOKUP(E$10,INDIRECT("'"&$C25&"'!$A:$V"),11,0),"")="NO","NO CUMPLE","")) | I25: =IF(IFERROR(VLOOKUP(I$10,INDIRECT("'"&$C25&"'!$A:$V"),7,0),"")="SI","CUMPLE",IF(IFERROR(VLOOKUP(I$10,INDIRECT("'"&$C25&"'!$A:$V"),7,0),"")="NO","NO CUMPLE","")) | L25: =IF(J25="","",IF($J25<=#REF!,"SI","NO")) | M25: =IF(AND(K25="SI",L25="SI"),"HABILITADA",IF($J25="","","RECHAZADA")) | N25: =IF(E25="","",IF($J25="RECHAZADA","RECHAZADO",IFERROR(IF(MATCH("NO CUMPLE",$E25:$I25,0)<=5,"NO HABILITADO",""),"HABILITADO"))) | O25: =IFERROR(VLOOKUP(E$10,INDIRECT("'"&$C25&"'!$A:$V"),12,0),"")&IF(IFERROR(VLOOKUP(E$10,INDIRECT("'"&$C25&"'!$A:$V"),12,0),"")<>"",". ","")&IFERROR(VLOOKUP(I$10,INDIRECT("'"&$C25&"'!$A:$V"),8,0),"")
C26: =OFFSET(C26,-1,0)+1 -> 14 | D26: =IFERROR(INDIRECT(ADDRESS(11,5,1,1,$C26))&" "&INDIRECT(ADDRESS(9,4,1,1,$C26)),"") | E26: =IF(IFERROR(VLOOKUP(E$10,INDIRECT("'"&$C26&"'!$A:$V"),11,0),"")="SI","CUMPLE",IF(IFERROR(VLOOKUP(E$10,INDIRECT("'"&$C26&"'!$A:$V"),11,0),"")="NO","NO CUMPLE","")) | I26: =IF(IFERROR(VLOOKUP(I$10,INDIRECT("'"&$C26&"'!$A:$V"),7,0),"")="SI","CUMPLE",IF(IFERROR(VLOOKUP(I$10,INDIRECT("'"&$C26&"'!$A:$V"),7,0),"")="NO","NO CUMPLE","")) | L26: =IF(J26="","",IF($J26<=#REF!,"SI","NO")) | M26: =IF(AND(K26="SI",L26="SI"),"HABILITADA",IF($J26="","","RECHAZADA")) | N26: =IF(E26="","",IF($J26="RECHAZADA","RECHAZADO",IFERROR(IF(MATCH("NO CUMPLE",$E26:$I26,0)<=5,"NO HABILITADO",""),"HABILITADO"))) | O26: =IFERROR(VLOOKUP(E$10,INDIRECT("'"&$C26&"'!$A:$V"),12,0),"")&IF(IFERROR(VLOOKUP(E$10,INDIRECT("'"&$C26&"'!$A:$V"),12,0),"")<>"",". ","")&IFERROR(VLOOKUP(I$10,INDIRECT("'"&$C26&"'!$A:$V"),8,0),"")
... C28: =OFFSET(C28,-1,0)+1 -> 16 | D28: =IFERROR(INDIRECT(ADDRESS(11,5,1,1,$C28))&" "&INDIRECT(ADDRESS(9,4,1,1,$C28)),"") | E28: =IF(IFERROR(VLOOKUP(E$10,INDIRECT("'"&$C28&"'!$A:$V"),11,0),"")="SI","CUMPLE",IF(IFERROR(VLOOKUP(E$10,INDIRECT("'"&$C28&"'!$A:$V"),11,0),"")="NO","NO CUMPLE","")) | I28: =IF(IFERROR(VLOOKUP(I$10,INDIRECT("'"&$C28&"'!$A:$V"),7,0),"")="SI","CUMPLE",IF(IFERROR(VLOOKUP(I$10,INDIRECT("'"&$C28&"'!$A:$V"),7,0),"")="NO","NO CUMPLE","")) | L28: =IF(J28="","",IF($J28<=#REF!,"SI","NO")) | M28: =IF(AND(K28="SI",L28="SI"),"HABILITADA",IF($J28="","","RECHAZADA")) | N28: =IF(E28="","",IF($J28="RECHAZADA","RECHAZADO",IFERROR(IF(MATCH("NO CUMPLE",$E28:$I28,0)<=5,"NO HABILITADO",""),"HABILITADO"))) | O28: =IFERROR(VLOOKUP(E$10,INDIRECT("'"&$C28&"'!$A:$V"),12,0),"")&IF(IFERROR(VLOOKUP(E$10,INDIRECT("'"&$C28&"'!$A:$V"),12,0),"")<>"",". ","")&IFERROR(VLOOKUP(I$10,INDIRECT("'"&$C28&"'!$A:$V"),8,0),"")
C30: EVALUADORES TÉCNICOS
D33: FIRMA QUIEN REVISA | N33: FIRMA QUIEN REVISA
D34: NOMBRE SANDRA ROMO | N34: NOMBRE JUAN CARLOS ALVARADO PEÑA
D35: ABOGADA | N35: CONTRATISTA

Sheet 1
C3: ='IDPC-CM-001-2020'!D3 -> INSTITUTO DISTRITAL DE PATRIMONIO CULTURAL PROCESO DE LICITACIÓN PÚBLICA IDPC-CM-001-2020 PLANILLA RESULTADOS DE LA EVALUACIÓN TÉCNICA
C4: VERIFICACIÓN DE REQUISITOS TÉCNICOS HABILITANTES
C6: PROYECTO | D6: ='IDPC-CM-001-2020'!$D$6 -> “SELECCIONAR A UN INTERMEDIARIO DE SEGUROS LEGALMENTE ESTABLECIDO EN COLOMBIA Y AUTORIZADO POR LA SUPERINTENDENCIA FINANCIERA DE COLOMBIA, PARA QUE PRESTE LOS SERVICIOS DE INTERMEDIACIÓN Y ASESORÍA INTREGRAL EN LA FORMULACIÓN Y MANEJO DEL PROGRAMA DE SEGUROS DEL INSTITUTO DISTRITAL DE PATRIMONIO CULTURAL, PARA LA ADECUADA PROTECCIÓN DE LAS PERSONAS, BIENES E INTERESES PATRIMONIALES DE SU PROPIEDAD O AQUELLOS POR LOS QUE SEA O LLEGARE A SER LEGALMENTE RESPOPNSABLE”
C9: PROPONENTE (Persona Natural, Jurídica, Consorcio o Unión Temporal) | D9: AON RISK SERVICES COLOMBIA S.A. CORREDORES DE SEGUROS, | F9: INTEGRANTE 1 | J9: PORCENTAJE DE PARTICIPACIÓN
F10: INTEGRANTE 2 | J10: PORCENTAJE DE PARTICIPACIÓN
D11: NIT | E11: 860.069.265 – 2 | F11: INTEGRANTE 3 | J11: PORCENTAJE DE PARTICIPACIÓN
C13: PRESUPUESTO OFICIAL ESTIMADO (POE) | E13: ='IDPC-CM-001-2020'!$E$8 -> N/A | F13: POE EN SMLMV - 2020 | G13: =IFERROR($E$13/VLOOKUP(2018,smlmv,3,0),"-") -> - | H13: SUMATORIA 3 CONTRATOS | I13: 737.76
C15: REQUISITO TÉCNICO HABILITANTE
C16: ="REQUISITO "&A21 -> REQUISITO 1 | D16: 40.1 EXPERIENCIA DEL PROPONENTE
D17: En atención a lo dispuesto en el numeral 1° del artículo 2.2.1.1.1.5.3., del Decreto 1082 de 2015, la experiencia del proponente (Persona Jurídica, Consorcio o Unión Temporal), se demostrará con la información contenida en el Registro Único de Proponentes – RUP de la Cámara de Comercio, en la ejecución de hasta tres (3) CONTRATOS suscritos con Entidades Públicas y privadas. La sumatoria del valor de los contratos debe ser igual o superior al valor del presupuesto oficial para el programa de seguros del estimado para este proceso de selección esto es (737.76), expresado en salarios mínimos legales mensuales vigentes (SMLMV).
D18: CÓDIGOS UNSPSC REQUERIDOS | F18: 84131500 | G18: 84131600 | H18: - | I18: - | J18: - | K18: - | L18: -
D19: CONTRATO REGISTRADO EN EL RUP | E19: ENTIDAD CONTRATANTE | F19: CODIGOS UNSPSC SEGÚN REQUISITO | G19: NOMBRE DEL PARTICIPANTE QUE APORTA LA EXPERIENCIA | H19: % PARTICIPACIÓN EN LA FIGURA ASOCIATIVA | I19: SMLMV DE EXPERIENCIA | J19: SUMATORIA SMLMV | K19: RESULTADO
K20: ¿CUMPLE? | L20: OBSERVACIONES
A21: 1 | D21: 25 | E21: INSTITUTO NACIONAL DE VÍAS-INVIAS | F21: 84131500 / 84131600 | I21: 9094 | J21: =SUM(I21:I23) -> 19269 | K21: SI
D22: 14 | E22: INSTITUTO NACIONAL DE VÍAS-INVIAS | F22: 84131500 / 84131600 | I22: 10175
C24: ="REQUISITO "&A28 -> REQUISITO 2 | D24: 40.2 EXPERIENCIA DEL PROPONENTE EN EL MANEJO DE PROGRAMAS DE SEGUROS
D25: El Proponente deberá acreditar experiencia en el manejo de programas de Seguros de Entidades Públicas y/o privadas diferentes, mediante la presentación de tres (3) certificaciones de contratos ejecutados en los últimos diez (10) años, en los que se evidencie la intermediación y/o administración del programa de seguros iguales o similares de entidades estatales y/o privadas
D26: AÑO DE EJECUCION | E26: ENTIDADO EMPRESA QUE CERTIFICA | F26: PORCENTAJE DE PARTICIPACION EXPRESADOS EN SMLMV | G26: RESULTADO
G27: ¿CUMPLE? | H27: OBSERVACIONES
A28: 2 | D28: Marzo de 2011 | E28: FISCALÍA GENERAL DE LA NACIÓN | F28: Participación 40% 8511,15 SMLMV | G28: SI
D29: Noviembre de 2010 | E29: MINISTERIO DE DEFENSA NACIONAL | F29: Participación 30% 8479,12 SMLMV
D30: Diciembre de 2012 | E30: MUNICIPIO DE SANTIAGO DE CALI | F30: Participación 50% 4942,67 SMLMV
C31: ="REQUISITO "&A35 -> REQUISITO 3 | D31: 40.3 EXPERIENCIA ESPECÍFICA DEL EQUIPO MÍNIMO
D32: El proponente nacional o extranjero con domicilio en la ciudad de Bogotá, D. C., debe presentar un equipo técnico requerido mínimo.
D33: EQUIPO | E33: TITULO Y/O CERTIFICACIONES | F33: EXPERIENCIA | G33: RESULTADO
G34: ¿CUMPLE? | H34: OBSERVACIONES
A35: 3 | D35: DIRECTOR DEL CONTRATO | E35: ADMINISTRADOR DE NEGOCIOS CON ENFASIS EN GERENCIA | F35: 11 AÑOS | G35: SI
D36: PROFESIONAL JURIDICO | E36: ABOGADO | F36: 11 AÑOS
D37: PROFESIONAL EN RIESGOS | E37: INGENIERO INDUSTRIAL | F37: 11 AÑOS
D38: TÉCNICO O TECNÓLOGO EN SEGUROS- EJECUTIVO DE CUENTA | E38: TECNICO PROFESIONAL EN SEGUROS GENERALES | F38: 20 AÑOS
C39: ="REQUISITO "&A43 -> REQUISITO 4 | D39: 40.4 ACREDITACIÓN MONTO DE INGRESOS POR COMISIONES
D40: El proponente deberá acreditar por concepto de ingresos por comisiones en el año 2019, de mínimo 6 mil millones, de modo que se cuente con un oferente con la capacidad adecuada para el manejo del programa de seguros de la Entidad; y en el caso de consorcios o uniones temporales, exigir que cada uno de los integrantes certifique que ha recibido dichas comisiones, lo cual demuestra su capacidad y respaldo para la atención y manejo de la cuenta.
D41: INGRESOS 2019 | G41: RESULTADO
G42: ¿CUMPLE? | H42: OBSERVACIONES
A43: 4 | D43: COMISIONES CAUSADAS EN EL 2019 $ 111.631.319.160 | G43: SI
C44: ="REQUISITO "&A48 -> REQUISITO 5 | D44: 40.5 SEGURO DE RESPONSABILIDAD CIVIL PROFESIONAL /ERRORES U OMISIONES
D45: El proponente deberá aportar copia de la póliza en la cual conste que la constituyó por un valor asegurado de más de DIEZ MIL MILLONES DE PESOS MONEDA LEGAL ($10.000.000.000 M/L).
D46: ASEGURADORA | E46: POLIZA NÙMERO | F46: VALOR ASEGURADO | G46: RESULTADO
G47: ¿CUMPLE? | H47: OBSERVACIONES
A48: 5 | D48: COMPAÑÍA ASEGUIRADORA AXA | E48: 8001483064 | F48: ($21.239.160.000, M/L). | G48: SI | H48: SE EVIDENCIO QUE EL VALOR DE LA POLIZA ESTA EXPRESADA EN DOLARES. SUBSANADO
...

Sheet 2
C3: ='IDPC-CM-001-2020'!D3 -> INSTITUTO DISTRITAL DE PATRIMONIO CULTURAL PROCESO DE LICITACIÓN PÚBLICA IDPC-CM-001-2020 PLANILLA RESULTADOS DE LA EVALUACIÓN TÉCNICA
C4: VERIFICACIÓN DE REQUISITOS TÉCNICOS HABILITANTES
C6: PROYECTO | D6: ='IDPC-CM-001-2020'!$D$6 -> “SELECCIONAR A UN INTERMEDIARIO DE SEGUROS LEGALMENTE ESTABLECIDO EN COLOMBIA Y AUTORIZADO POR LA SUPERINTENDENCIA FINANCIERA DE COLOMBIA, PARA QUE PRESTE LOS SERVICIOS DE INTERMEDIACIÓN Y ASESORÍA INTREGRAL EN LA FORMULACIÓN Y MANEJO DEL PROGRAMA DE SEGUROS DEL INSTITUTO DISTRITAL DE PATRIMONIO CULTURAL, PARA LA ADECUADA PROTECCIÓN DE LAS PERSONAS, BIENES E INTERESES PATRIMONIALES DE SU PROPIEDAD O AQUELLOS POR LOS QUE SEA O LLEGARE A SER LEGALMENTE RESPOPNSABLE”
C9: PROPONENTE (Persona Natural, Jurídica, Consorcio o Unión Temporal) | D9: JARGU S.A. CORREDORES DE SEGUROS | F9: INTEGRANTE 1 | J9: PORCENTAJE DE PARTICIPACIÓN
F10: INTEGRANTE 2 | J10: PORCENTAJE DE PARTICIPACIÓN
D11: NIT | E11: 800.018.165-8 | F11: INTEGRANTE 3 | J11: PORCENTAJE DE PARTICIPACIÓN
C13: PRESUPUESTO OFICIAL ESTIMADO (POE) | E13: ='IDPC-CM-001-2020'!$E$8 -> N/A | F13: POE EN SMLMV - 2020 | G13: =IFERROR($E$13/VLOOKUP(2018,smlmv,3,0),"-") -> - | H13: SUMATORIA 3 CONTRATOS | I13: 737.76
C15: REQUISITO TÉCNICO HABILITANTE
C16: ="REQUISITO "&A21 -> REQUISITO 1 | D16: 40.1 EXPERIENCIA DEL PROPONENTE
D17: En atención a lo dispuesto en el numeral 1° del artículo 2.2.1.1.1.5.3., del Decreto 1082 de 2015, la experiencia del proponente (Persona Jurídica, Consorcio o Unión Temporal), se demostrará con la información contenida en el Registro Único de Proponentes – RUP de la Cámara de Comercio, en la ejecución de hasta tres (3) CONTRATOS suscritos con Entidades Públicas y privadas. La sumatoria del valor de los contratos debe ser igual o superior al valor del presupuesto oficial para el programa de seguros del estimado para este proceso de selección esto es (737.76), expresado en salarios mínimos legales mensuales vigentes (SMLMV).
D18: CÓDIGOS UNSPSC REQUERIDOS | F18: 84131500 | G18: 84131600 | H18: - | I18: - | J18: - | K18: - | L18: -
D19: CONTRATO REGISTRADO EN EL RUP | E19: ENTIDAD CONTRATANTE | F19: CODIGOS UNSPSC SEGÚN REQUISITO | G19: NOMBRE DEL PARTICIPANTE QUE APORTA LA EXPERIENCIA | H19: % PARTICIPACIÓN EN LA FIGURA ASOCIATIVA | I19: SMLMV DE EXPERIENCIA | J19: SUMATORIA SMLMV | K19: RESULTADO
K20: ¿CUMPLE? | L20: OBSERVACIONES
A21: 1 | D21: 247 | E21: AGENCIA NACIONAL DE HIDROCARBUROS - ANH | F21: 84131500 / 84131600 | I21: 4114.7 | J21: =SUM(I21:I23) -> 35621.4 | K21: SI
D22: 229 | E22: FONDO DE VIGILANCIA DE BOGOTÁ D.C. | F22: 84131500 / 84131600 | I22: 12436
D23: 197 | E23: INSTITUTO DE DESARROLLO URBANO - IDU | F23: 84131500 / 84131600 | I23: 19070.7
C24: ="REQUISITO "&A28 -> REQUISITO 2 | D24: 40.2 EXPERIENCIA DEL PROPONENTE EN EL MANEJO DE PROGRAMAS DE SEGUROS
D25: El Proponente deberá acreditar experiencia en el manejo de programas de Seguros de Entidades Públicas y/o privadas diferentes, mediante la presentación de tres (3) certificaciones de contratos ejecutados en los últimos diez (10) años, en los que se evidencie la intermediación y/o administración del programa de seguros iguales o similares de entidades estatales y/o privadas
D26: AÑO DE EJECUCION | E26: ENTIDADO EMPRESA QUE CERTIFICA | F26: PORCENTAJE DE PARTICIPACION EXPRESADOS EN SMLMV | G26: RESULTADO
G27: ¿CUMPLE? | H27: OBSERVACIONES
A28: 2 | D28: JULIO DE 2011 | E28: SERVICIO NACIONAL DE APRENDIZAJE – SENA | F28: Participación 100% 24.353,1 SMLMV | G28: SI
D29: JULIO DE 2013 | E29: CONSEJO SUPERIOR DE LA JUDICATURA | F29: Participación 100% 37.182,7 SMLMV
D30: JULIO DE 2015 | E30: CONSEJO SUPERIOR DE LA JUDICATURA | F30: Participación 100% 27.848,6 SMLMV
C31: ="REQUISITO "&A35 -> REQUISITO 3 | D31: 40.3 EXPERIENCIA ESPECÍFICA DEL EQUIPO MÍNIMO
D32: El proponente nacional o extranjero con domicilio en la ciudad de Bogotá, D. C., debe presentar un equipo técnico requerido mínimo.
D33: EQUIPO | E33: TITULO Y/O CERTIFICACIONES | F33: EXPERIENCIA | G33: RESULTADO
G34: ¿CUMPLE? | H34: OBSERVACIONES
A35: 3 | D35: DIRECTOR DEL CONTRATO | E35: Administrador de Empresas | F35: 18 AÑOS | G35: SI
D36: PROFESIONAL JURIDICO | E36: Abogada | F36: 10 AÑOS
D37: PROFESIONAL EN RIESGOS | E37: Economista | F37: 28 AÑOS
D38: TÉCNICO O TECNÓLOGO EN SEGUROS- EJECUTIVO DE CUENTA | E38: Tecnólogo en Administración de Seguros | F38: 19 AÑOS
C39: ="REQUISITO "&A43 -> REQUISITO 4 | D39: 40.4 ACREDITACIÓN MONTO DE INGRESOS POR COMISIONES
D40: El proponente deberá acreditar por concepto de ingresos por comisiones en el año 2019, de mínimo 6 mil millones, de modo que se cuente con un oferente con la capacidad adecuada para el manejo del programa de seguros de la Entidad; y en el caso de consorcios o uniones temporales, exigir que cada uno de los integrantes certifique que ha recibido dichas comisiones, lo cual demuestra su capacidad y respaldo para la atención y manejo de la cuenta.
D41: INGRESOS 2019 | G41: RESULTADO
G42: ¿CUMPLE? | H42: OBSERVACIONES
A43: 4 | D43: COMISIONES CAUSADAS EN EL 2019 ( $ 8.545.181.082). | G43: SI
C44: ="REQUISITO "&A48 -> REQUISITO 5 | D44: 40.5 SEGURO DE RESPONSABILIDAD CIVIL PROFESIONAL /ERRORES U OMISIONES
D45: El proponente deberá aportar copia de la póliza en la cual conste que la constituyó por un valor asegurado de más de DIEZ MIL MILLONES DE PESOS MONEDA LEGAL ($10.000.000.000 M/L).
D46: ASEGURADORA | E46: POLIZA NÙMERO | F46: VALOR ASEGURADO | G46: RESULTADO
G47: ¿CUMPLE? | H47: OBSERVACIONES
...
