Workbook
Name ASIGNACIÓN: [1]INSTRUCCIONES!$H$31:$H$32
Name ASIGNACIÓN: [1]INSTRUCCIONES!$H$31:$H$32
Name ASIGNACIÓN: #REF!
Name ASIGNACIÓN: 'TABLAS DE VALORACION'!#REF!
Name CLASE: [1]INSTRUCCIONES!$C$31:$C$32
Name CLASE: [1]INSTRUCCIONES!$C$31:$C$32
Name CLASE: #REF!
Name CLASE: 'TABLAS DE VALORACION'!#REF!
Name ETAPA: [1]INSTRUCCIONES!#REF!
Name ETAPA: [1]INSTRUCCIONES!#REF!
Name ETAPA: #REF!
Name ETAPA: 'TABLAS DE VALORACION'!#REF!
Name FUENTE: [1]INSTRUCCIONES!$D$31:$D$32
Name FUENTE: [1]INSTRUCCIONES!$D$31:$D$32
Name FUENTE: #REF!
Name FUENTE: 'TABLAS DE VALORACION'!#REF!
Name IMPACTO: [1]INSTRUCCIONES!$G$31:$G$35
Name IMPACTO: [1]INSTRUCCIONES!$G$31:$G$35
Name IMPACTO: #REF!
Name IMPACTO: 'TABLAS DE VALORACION'!#REF!
Name PROBABILIDAD: [1]INSTRUCCIONES!$F$31:$F$35
Name PROBABILIDAD: [1]INSTRUCCIONES!$F$31:$F$35
Name PROBABILIDAD: #REF!
Name PROBABILIDAD: 'TABLAS DE VALORACION'!#REF!
Name TIPO: [1]INSTRUCCIONES!#REF!
Name TIPO: [1]INSTRUCCIONES!#REF!
Name TIPO: #REF!
Name TIPO: 'TABLAS DE VALORACION'!#REF!

Sheet INSTRUCCIONES
D2: PROCESO ADQUISICIÓN DE BIENES Y SERVICIOS FORMATO ANEXO FCT MATRIZ DE IDENTIFICACIÓN, VALORACIÓN Y ASIGNACIÓN DE RIESGOS | K2: Anexo 3.F1.P3.ABS | L2: 44860
K3: Versión 5 | L3: Pág. 1 de 1
K4: Clasificación de la Información: Pública
B7: Instrucciones para el diligenciamiento del anexo FCT- Matriz de identificación, valoración y asignación de riesgos
B9: Eliminar las hojas "INSTRUCCIONES" y "TABLAS DE VALORACIÓN" antes de remitir el anexo para revisión. No imprimir.
B10: La hoja "ANEXO RIESGOS", se remite en Excel para revisión pero se publica en SECOP en PDF.
B11: No. | C11: Nombre de columna / celda | E11: Columna / celda | F11: Lista desplegable | G11: Formulado | H11: Instrucción para el diligenciamiento
B12: 1 | C12: Denominación del bien o servicio | E12: H6 | F12: No | G12: No | H12: Este campo corresponde al numeral 1 de la FCT.
B13: 2 | C13: Anexo No. | E13: Y6 | F13: No | G13: No | H13: Indicar el numero que le corresponde al anexo de acuerdo con el listado del numeral 12 de la FCT.
B14: 3 | C14: Fecha | E14: Y7 | F14: No | G14: No | H14: Diligenciar la fecha en la que se elabora el anexo.
B15: 4 | C15: No. | E15: C | F15: No | G15: No | H15: Numeración consecutiva del riesgo desde 1.
B16: 5 | C16: Clase | E16: D | F16: Si | G16: No | H16: Seleccione de la lista desplegable: General/Específico, de acuerdo con la tabla de valoración No. 1
B17: 6 | C17: Fuente | E17: E | F17: Si | G17: No | H17: Seleccione de la lista desplegable: Interno/Externo, de acuerdo con la tabla de valoración No. 2
B18: 7 | C18: Etapa | E18: F | F18: Si | G18: No | H18: Seleccione de la lista desplegable: Planeación/Selección/Contratación/Ejecución, de acuerdo con la tabla de valoración No. 3
B19: 8 | C19: Tipo | E19: G | F19: Si | G19: No | H19: Seleccione de la lista desplegable: Económico/ Social o político/ Operacional/ Financiero/ Regulatorio/ De la naturaleza/ Ambiental/ Tecnológico, de acuerdo con la tabla de valoración No. 4
B20: 9 | C20: Descripción (Qué puede pasar y, cómo puede ocurrir) | E20: H | F20: No | G20: No | H20: Describir el Riesgo teniendo en cuenta los siguientes aspectos: (a) los eventos que impidan la adjudicación y firma del contrato como resultado del Proceso de Contratación; (b) los eventos que alteren la ejecución del contrato; (c) el equilibrio económico del contrato; (d) la eficacia del Proceso de Contratación, es decir, que la Entidad Estatal pueda satisfacer la necesidad que motivó el Proceso de Contratación; y (e) la reputación y legitimidad de la Entidad Estatal encargada de prestar el bien o servicio.
B21: 10 | C21: Consecuencia de la ocurrencia del evento | E21: I | F21: No | G21: No | H21: Describir las posibles consecuencias de la ocurrencia del evento.
B22: 11 | C22: Probabilidad | E22: J | F22: Si | G22: No | H22: Asignar una categoría a cada Riesgo de acuerdo con la probabilidad de ocurrencia así: raro, improbable, posible, probable y casi cierto y valorarlos de 1 a 5 siendo raro el de valor más bajo y casi cierto el de valor más alto, como se indica en la tabla de valoración No. 5.
B23: 12 | C23: Impacto | E23: K | F23: Si | G23: No | H23: Determinar el impacto del Riesgo, utilizando la tabla de valoración No. 6.
... B37: 26 | C37: Periodicidad | E37: Y | F37: Si | G37: No | H37: Definir la periodicidad del monitoreo, puede ser: Diaria/Semanal/Quincenal/Mensual/Bimestral/Trimestral/Cuatrimestral/Semestral/Anual/Permanente
B38: Nota: Cuando se trate de contrataciones mediante la TVEC, este anexo corresponde a la matriz de riesgos establecida por CCE para el respectivo IAD o AMP.

Sheet TABLAS DE VALORACION
C2: PROCESO ADQUISICIÓN DE BIENES Y SERVICIOS FORMATO ANEXO FCT MATRIZ DE IDENTIFICACIÓN, VALORACIÓN Y ASIGNACIÓN DE RIESGOS | N2: Anexo 3.F1.P3.ABS | O2: 44860
N3: Versión 5 | O3: Pág. 1 de 1
N4: Clasificación de la Información: Pública
B7: Instrucciones para el diligenciamiento - Tablas para valoración de riesgo según metodología de Colombia Compra Eficiente
B9: Eliminar esta hoja antes de remitir el anexo para revisión. No imprimir.
B11: Seleccione la opción de las listas desplegables en las columnas con títulos de color amarillo de acuerdo con las siguientes tablas.
B13: TABLA DE VALORACIÓN NO. 1 | E13: TABLA DE VALORACIÓN NO. 2 | I13: TABLA DE VALORACIÓN NO. 3
B14: Clase del Riesgo | C14: Descripción | E14: Fuente del Riesgo | F14: Descripción | I14: Etapa del proceso | J14: Desde | K14: Hasta | L14: Descripción
B16: General | C16: Es un Riesgo de todos los Procesos de Contratación adelantados por la Entidad Estatal, por lo cual está presente en toda su actividad contractual. | E16: Interno | F16: Es un Riesgo asociado a la operación, capacidad, o situación particular de la Entidad Estatal (reputacional, tecnológico). | I16: Planeación | J16: Plan anual de adquisición | K16: Acto de Apertura del Proceso de Contratación | L16: Durante esta etapa, la Entidad elabora los estudios previos y el proyecto de pliegos de condiciones o sus equivalentes. Dentro de las preguntas que la Entidad Estatal debe hacerse para identificar los Riesgos de la etapa de planeación se encuentran las siguientes: (i) La modalidad de contratación es adecuada para el bien servicio u obra necesitado. (ii) Los requisitos habilitantes son los apropiados para el Proceso de Contratación y es posible encontrar proponentes que los cumplan incluyendo los Riesgos relacionados con la habilidad para determinar requisitos habilitantes consistentes con el Proceso de Contratación y con el sector económico en el que actúan los posibles oferentes. (iii) El valor del contrato corresponde a los precios del mercado. (iv) La descripción del bien o servicio requerido es claro. (v) El Proceso de Contratación cuenta con las condiciones que garanticen la transparencia, equidad y competencia entre los proponentes. (vi) El estudio de mercado permite identificar los aspectos de oferta y demanda del mercado respectivo. (vii) El diseño del Proceso de Contratación permite satisfacer las necesidades de la Entidad Estatal, cumplir su misión y si es coherente con el cumplimiento de sus objetivos y metas.
B17: Específico | C17: Es un Riesgo propio del Proceso de Contratación objeto de análisis. | E17: Externo | F17: Es un Riesgo del sector del objeto del Proceso de Contratación, o asociado a asuntos no referidos a la Entidad Estatal (desastres económicos, existencia de monopolios, circunstancias electorales). | I17: Selección | J17: Acto de Apertura del Proceso de Contratación | K17: Adjudicación o la declaración de desierto del Proceso de Contratación | L17: En la etapa de selección la Entidad Estatal selecciona al contratista. En esta etapa los Riesgos frecuentes son los siguientes: (i) Falta de capacidad de la Entidad Estatal para promover y adelantar la selección del contratista, incluyendo el riesgo de seleccionar aquellos que no cumplan con la totalidad de los requisitos habilitantes o se encuentren incursos en alguna inhabilidad o incompatibilidad. (ii) Riesgo de colusión. (iii) Riesgo de ofertas artificialmente bajas.
I18: Contratación | J18: Adjudicación del contrato objeto del proceso de contratación | K18: Perfeccionamiento | L18: En esta etapa los Riesgos frecuentes son los siguientes: (i) Riesgo de que no se firme el contrato. (ii) Riesgo de que no se presenten las garantías requeridas en los Documentos del Proceso de Contratación o que su presentación sea tardía. (iii) Riesgos asociados al incumplimiento de la publicación o el registro presupuestal del contrato. (iv) Riesgos asociados a los reclamos de terceros sobre la selección del oferente que retrasen el perfeccionamiento del contrato.
I19: Ejecución | J19: Perfeccionamiento | K19: Vencimiento del plazo o acta de liquidación | L19: Esta etapa puede extenderse cuando hay lugar a garantías de calidad, estabilidad y mantenimiento, o a condiciones de disposición final o recuperación ambiental de las obras o bienes. En esta etapa se cumplen con las obligaciones previstas en el contrato, permitiendo el logro del objeto del Proceso de Contratación; en consecuencia los Riesgos frecuentes son los asociados al cumplimiento del contrato y el logro del objeto propuesto, el rompimiento del equilibrio económico del contrato, los asociados a la liquidación y terminación del contrato y aquellos relacionados con el incumplimiento de la normativa posconsumo.
B21: TABLA DE VALORACIÓN NO. 4 | G21: TABLA DE VALORACIÓN NO. 5 | J21: TABLA DE VALORACIÓN NO. 6
B22: Tipo de riesgo | C22: Descripción | G22: Probabilidad del Riesgo | J22: Impacto del riesgo
G23: Categoría | H23: Valoración | J23: Impacto
B24: Económicos | C24: Son los derivados del comportamiento del mercado, tales como la fluctuación de los precios de los insumos, desabastecimiento y especulación de los mismos, entre otros. | G24: Raro (puede ocurrir excepcionalmente) | H24: 1 | J24: Clasificación Cualitativa | K24: Obstruye la ejecución del contrato de manera intrascendente. | L24: Dificulta la ejecución del contrato de manera baja. Aplicando medidas mínimas se puede lograr el objeto contractual. | M24: Afecta la ejecución del contrato sin alterar el beneficio de las partes. | N24: Obstruye la ejecución del contrato sustancialmente per aun así permite la consecución del objeto contractual. | O24: Perturba la ejecución del contrato de manera grave imposibilitando la consecución del objeto contractual.
B25: Sociales o Políticos | C25: Son los derivados de los cambios de las políticas gubernamentales y de cambios en las condiciones sociales que tengan impacto en la ejecución del contrato. | G25: Improbable (puede ocurrir ocasionalmente) | H25: 2 | J25: Clasificación Monetaria | K25: Los sobrecostos no representan más del uno por ciento (1%) del valor del contrato. | L25: Los sobrecostos no representan más del cinco por ciento (5%) del valor del contrato. | M25: Genera un impacto sobre el valor del contrato entre el cinco (5%) y el quince por ciento (15%). | N25: Incrementa el valor del contrato entre el quince (15%) y el treinta por ciento (30%). | O25: Impacto sobre el valor del contrato de más del treinta por ciento (30%).
B26: Operacionales | C26: Son los asociados a la operatividad del contrato, tales como la suficiencia del presupuesto oficial, del plazo o los derivados de procesos, procedimientos, parámetros, sistemas de información y tecnológicos, equipos humanos o técnicos inadecuados o insuficientes. | G26: Posible (puede ocurrir en cualquier momento futuro) | H26: 3 | J26: Categoría | K26: Insignificante | L26: Menor | M26: Moderado | N26: Mayor | O26: Catastrófico
B27: Financieros | C27: Son (i) el riesgo de consecución de financiación o riesgo de liquidez para obtener recursos para cumplir con el objeto del contrato, y (ii) el riesgo de las condiciones financieras establecidas para la obtención de los recursos, tales como plazos, tasas, garantías, contragarantías, y refinanciaciones, entre otros. | G27: Probable (probablemente va a ocurrir) | H27: 4 | J27: Valoración | K27: 1 | L27: 2 | M27: 3 | N27: 4 | O27: 5
B28: Regulatorios | C28: Derivados de cambios regulatorios o reglamentarios que afecten la ecuación económica del contrato. | G28: Casi cierto (ocurre en la mayoría de circunstancias) | H28: 5
B29: De la Naturaleza | C29: Son los eventos naturales previsibles en los cuales no hay intervención humana que puedan tener impacto en la ejecución del contrato, por ejemplo los temblores, inundaciones, lluvias, sequías, entre otros. | J29: Responsable por implementar el tratamiento | K29: ICBF | M29: ¿Afecta la ejecución del contrato? | N29: Si
B30: Ambientales | C30: Son los derivados de las obligaciones legales o reglamentarias de carácter ambiental, así como de las licencias, planes de manejo o de permisos y autorizaciones ambientales, incluyendo tasas retributivas y compensatorias, obligaciones de mitigación, tareas de monitoreo y control, entre otras. | K30: Contratista | N30: No
B31: Tecnológicos | C31: Son los derivados de fallas en los sistemas de comunicación de voz y de datos, suspensión de servicios públicos, nuevos desarrollos tecnológicos o estándares que deben ser tenidos en cuenta para la ejecución del contrato, obsolescencia tecnológica | K31: ICBF y Contratista
M32: Periodicidad | N32: Diaria
N33: Semanal
N34: Quincenal
N35: Mensual
N36: Bimestral
N37: Trimestral
N38: Cuatrimestral
N39: Semestral
N40: Anual
N41: Permanente
B43: Valoración de riesgo según metodología de Colombia Compra Eficiente
E45: Valoración (combinación de probabilidad y valoración) | M45: Categoría del riesgo
E46: Impacto | M46: Valoración del riesgo | N46: Categoría
E47: Clasificación Cualitativa | G47: Obstruye la ejecución del contrato de manera intrascendente. | H47: Dificulta la ejecución del contrato de manera baja. Aplicando medidas mínimas se puede lograr el objeto contractual. | I47: Afecta la ejecución del contrato sin alterar el beneficio de las partes. | J47: Obstruye la ejecución del contrato sustancialmente per aun así permite la consecución del objeto contractual. | K47: Perturba la ejecución del contrato de manera grave imposibilitando la consecución del objeto contractual. | M47: 8,9,10 | N47: Riesgo Extremo
E48: Clasificación Monetaria | G48: Los sobrecostos no representan más del uno por ciento (1%) del valor del contrato. | H48: Los sobrecostos no representan más del cinco por ciento (5%) del valor del contrato. | I48: Genera un impacto sobre el valor del contrato entre el cinco (5%) y el quince por ciento (15%). | J48: Incrementa el valor del contrato entre el quince (15%) y el treinta por ciento (30%). | K48: Impacto sobre el valor del contrato de más del treinta por ciento (30%). | M48: 6 Y 7 | N48: Riesgo Alto
E49: Categoría | F49: Valoración | G49: Insignificante | H49: Menor | I49: Moderado | J49: Mayor | K49: Catastrófico | M49: 5 | N49: Riesgo Medio
G50: 1 | H50: 2 | I50: 3 | J50: 4 | K50: 5 | M50: 2,3 Y 4 | N50: Riesgo Bajo
...

Sheet ANEXO RIESGOS P1
B2: Denominación del bien o servicio | G2: OBJETO: REALIZAR MANTENIMIENTOS, ADECUACIONES Y REPARACIONES LOCATIVAS DE CARÁCTER ESPECIALIZADO Y/Ó BASICOS EN EL ICBF REGIONAL CHOCÓ Y SUS CENTROS ZONALES | W2: Anexo # | X2: 3
W3: Fecha | X3: 45499
B4: Elaborado de conformidad con la metodología propuesta por la Agencia Nacional para la Contratación Pública – Colombia Compra Eficiente en el "Manual para la Identificación y Cobertura del Riesgo en los Procesos de Contratación".
B5: No. | C5: Clase | D5: Fuente | E5: Etapa | F5: Tipo | G5: Descripción (Qué puede pasar y, cómo puede ocurrir) | H5: Consecuencia de la ocurrencia del evento | I5: Probabilidad | J5: Impacto | K5: Valoración del riesgo | L5: Categoría | M5: ¿A quién se le asigna? | N5: Tratamiento/Controles a ser implementados | O5: Impacto después del tratamiento | S5: ¿Afecta la ejecución del contrato? | T5: Responsable por implementar el tratamiento | U5: A partir de cuando se inicia el tratamiento | V5: Cuando se completa el tratamiento | W5: Monitoreo y revisión
O6: Probabilidad | P6: Impacto | Q6: Valoración del riesgo | R6: Categoría | W6: ¿Cómo se realiza el monitoreo? | X6: Periodicidad
A7: Eliminar esta fila antes de remitir a la Dirección de Abastecimiento | B7: Numeración consecutiva desde 1 | C7: Seleccionar de lista desplegable | D7: Seleccionar de lista desplegable | E7: Seleccionar de lista desplegable | F7: Seleccionar de lista desplegable | G7: Digitar | H7: Digitar | I7: Seleccionar de lista desplegable | J7: Seleccionar de lista desplegable | K7: Formulado, no modificar | L7: Formulado, no modificar | M7: Seleccionar de lista desplegable | N7: Digitar | O7: Seleccionar de lista desplegable | P7: Seleccionar de lista desplegable | Q7: Formulado, no modificar | R7: Formulado, no modificar | S7: Seleccionar de lista desplegable | T7: Seleccionar de lista desplegable | U7: Digitar | V7: Digitar | W7: Digitar | X7: Seleccionar de lista desplegable
B8: 1 | C8: General | D8: Interno | E8: Planeación | F8: Operacionales | G8: Demoras en formulación, aprobación de Documentos Técnicos, proceso de selección, contratación y registro presupuestal por parte del ICBF.. | H8: Retrasos en el desarrollo de los procesos de contratación. Retrasos en el desarrollo de los proyectos, Posible declaratoria de desierto. | I8: 2=Imporbable | J8: 3=Moderado | K8: =IFERROR(MID(I8,1,1)+MID(J8,1,1),"") -> 5 | L8: =IF(K8="","",IF(OR(K8=2,K8=3,K8=4),'TABLAS DE VALORACION'!$N$50,IF(K8=5,'TABLAS DE VALORACION'!$N$49,IF(OR(K8=6,K8=7),'TABLAS DE VALORACION'!$N$48,IF(OR(K8=8,K8=9,K8=10),'TABLAS DE VALORACION'!$N$47))))) -> Riesgo Medio | M8: ICBF | N8: Realizar cronograma para la contratación teniendo en cuenta los tiempos definidos en el titulo 3 del Manual de Contratación de la Entidad y en las normatividad vigente para garantizar el inicio oportuno de la ejecución. Articular las áreas involucradas en el proceso para definir tareas y tiempos. | O8: 1=Raro | P8: 2=Menor | Q8: =IFERROR(MID(O8,1,1)+MID(P8,1,1),"") -> 3 | R8: =IF(Q8="","",IF(OR(Q8=2,Q8=3,Q8=4),'TABLAS DE VALORACION'!$N$50,IF(Q8=5,'TABLAS DE VALORACION'!$N$49,IF(OR(Q8=6,Q8=7),'TABLAS DE VALORACION'!$N$48,IF(OR(Q8=8,Q8=9,Q8=10),'TABLAS DE VALORACION'!$N$47))))) -> Riesgo Bajo | S8: Si | T8: ICBF | U8: Plan Anual de Adquisición | V8: Adjudicación o declaratoria de desierto del proceso. | W8: Seguimiento al cumplimiento del cronograma de procesos de contratación de la Entidad y de los tiempos definidos en el Manual de Contratación. | X8: Semanal
B9: 2 | C9: General | D9: Interno | E9: Planeación | F9: Operacionales | G9: Demoras y reprocesos en la etapa de ejecución surgidos por la declaratoria desierta en el proceso de selección. | H9: Retraso en la adjudicación de los contratos y en el inicio de su ejecución. | I9: 2=Imporbable | J9: 3=Moderado | K9: =IFERROR(MID(I9,1,1)+MID(J9,1,1),"") -> 5 | L9: =IF(K9="","",IF(OR(K9=2,K9=3,K9=4),'TABLAS DE VALORACION'!$N$50,IF(K9=5,'TABLAS DE VALORACION'!$N$49,IF(OR(K9=6,K9=7),'TABLAS DE VALORACION'!$N$48,IF(OR(K9=8,K9=9,K9=10),'TABLAS DE VALORACION'!$N$47))))) -> Riesgo Medio | M9: ICBF | N9: Revisar las posibles causas de la declaratoria desierta, revisar observaciones de proponentes , revisar ficha de condiciones tecnicas o pliegos, revisar presupuesto del proyecto con el fin de lograr una participación plural de oferentes en el proceso contractual. | O9: 4=Probable | P9: 2=Menor | Q9: =IFERROR(MID(O9,1,1)+MID(P9,1,1),"") -> 6 | R9: =IF(Q9="","",IF(OR(Q9=2,Q9=3,Q9=4),'TABLAS DE VALORACION'!$N$50,IF(Q9=5,'TABLAS DE VALORACION'!$N$49,IF(OR(Q9=6,Q9=7),'TABLAS DE VALORACION'!$N$48,IF(OR(Q9=8,Q9=9,Q9=10),'TABLAS DE VALORACION'!$N$47))))) -> Riesgo Alto | S9: Si | T9: ICBF | U9: Desde la etapa de planeación. | V9: Hasta la adjudicación de los contratos. | W9: Verificación y validación de los documentos y cronogramas del proceso | X9: Permanente
B10: 3 | C10: General | D10: Externo | E10: Contratación | F10: Operacionales | G10: Demora en la entrega de documentacion para los tramites de legalización del contrato establecidos, dilatando de este modo el inicio de la ejecución de los contratos. | H10: Imposibilidad de ejecución del contrato al no cumplir con los requisitos legales exigidos para tal fin. | I10: 3=Posible | J10: 2=Menor | K10: =IFERROR(MID(I10,1,1)+MID(J10,1,1),"") -> 5 | L10: =IF(K10="","",IF(OR(K10=2,K10=3,K10=4),'TABLAS DE VALORACION'!$N$50,IF(K10=5,'TABLAS DE VALORACION'!$N$49,IF(OR(K10=6,K10=7),'TABLAS DE VALORACION'!$N$48,IF(OR(K10=8,K10=9,K10=10),'TABLAS DE VALORACION'!$N$47))))) -> Riesgo Medio | M10: Contratista | N10: Requerir la póliza de seriedad de oferta. Exigir al contratista una vez sea adjudicado del proceso y elaborada la minuta del contrato, su suscripción inmediata, con el fin de que adquiera y radique en la Entidad, el RUT (si aplica), la poliza o garantia requerida y demás documentos establecidos y así dar inicio a su ejecución. | O10: 2=Imporbable | P10: 2=Menor | Q10: =IFERROR(MID(O10,1,1)+MID(P10,1,1),"") -> 4 | R10: =IF(Q10="","",IF(OR(Q10=2,Q10=3,Q10=4),'TABLAS DE VALORACION'!$N$50,IF(Q10=5,'TABLAS DE VALORACION'!$N$49,IF(OR(Q10=6,Q10=7),'TABLAS DE VALORACION'!$N$48,IF(OR(Q10=8,Q10=9,Q10=10),'TABLAS DE VALORACION'!$N$47))))) -> Riesgo Bajo | S10: Si | T10: ICBF y Contratista | U10: Desde la Adjudicación | V10: Hasta el cumplmiento de los requisitos de legalizacion. | W10: Seguimiento y requerimiento al contratista que le fue adjudicada la propuesta | X10: Permanente
B11: 4 | C11: General | D11: Externo | E11: Selección | F11: Económicos | G11: Estimación inadecuada de los costos en el presupuesto por parte del oferente con respecto a la propuesta presentada. | H11: Desequilibrio económico para el contratista. - Posibles conflictos o litigios. - Incumplimiento del objeto contractual. -Retraso en la ejecución del plazo contractual | I11: 1=Raro | J11: 3=Moderado | K11: =IFERROR(MID(I11,1,1)+MID(J11,1,1),"") -> 4 | L11: =IF(K11="","",IF(OR(K11=2,K11=3,K11=4),'TABLAS DE VALORACION'!$N$50,IF(K11=5,'TABLAS DE VALORACION'!$N$49,IF(OR(K11=6,K11=7),'TABLAS DE VALORACION'!$N$48,IF(OR(K11=8,K11=9,K11=10),'TABLAS DE VALORACION'!$N$47))))) -> Riesgo Bajo | M11: Contratista | N11: Solicitud al siguiente oferente para ser evaluado y determinar si cumple o no con los requisitos | O11: 1=Raro | P11: 1=Insignificante | Q11: =IFERROR(MID(O11,1,1)+MID(P11,1,1),"") -> 2 | R11: =IF(Q11="","",IF(OR(Q11=2,Q11=3,Q11=4),'TABLAS DE VALORACION'!$N$50,IF(Q11=5,'TABLAS DE VALORACION'!$N$49,IF(OR(Q11=6,Q11=7),'TABLAS DE VALORACION'!$N$48,IF(OR(Q11=8,Q11=9,Q11=10),'TABLAS DE VALORACION'!$N$47))))) -> Riesgo Bajo | S11: Si | T11: Contratista | U11: Desde el inicio de la calificación de la etapa contractual | V11: Hasta la adjudicación | W11: Verificación del cumplimiento de la capacidad economica de los proponentes. | X11: Permanente
B12: 5 | C12: General | D12: Externo | E12: Ejecución | F12: Económicos | G12: Riesgo en la ejecución ocasionado por la modificaciones de la tasa de cambio de acuerdo a la propuesta inicial presentada por el contratista. | H12: Incremento en los costos de los materiales e insumos | I12: 3=Posible | J12: 4=Mayor | K12: =IFERROR(MID(I12,1,1)+MID(J12,1,1),"") -> 7 | L12: =IF(K12="","",IF(OR(K12=2,K12=3,K12=4),'TABLAS DE VALORACION'!$N$50,IF(K12=5,'TABLAS DE VALORACION'!$N$49,IF(OR(K12=6,K12=7),'TABLAS DE VALORACION'!$N$48,IF(OR(K12=8,K12=9,K12=10),'TABLAS DE VALORACION'!$N$47))))) -> Riesgo Alto | M12: Contratista | N12: Conformar un stock de materia prima e insumos. Utilizar mecanismos de cobertura cambiaria. | O12: 3=Posible | P12: 3=Moderado | Q12: =IFERROR(MID(O12,1,1)+MID(P12,1,1),"") -> 6 | R12: =IF(Q12="","",IF(OR(Q12=2,Q12=3,Q12=4),'TABLAS DE VALORACION'!$N$50,IF(Q12=5,'TABLAS DE VALORACION'!$N$49,IF(OR(Q12=6,Q12=7),'TABLAS DE VALORACION'!$N$48,IF(OR(Q12=8,Q12=9,Q12=10),'TABLAS DE VALORACION'!$N$47))))) -> Riesgo Alto | S12: Si | T12: Contratista | U12: Desde la Adjudicación | V12: Hasta la terminación del contrato. | W12: Llevando una adecuada programación de compras, control del stock de materiales e insumos, priorizar insumos y materiales de producción nacional, verificando continuamente el precio de insumos y materiales. | X12: Semanal
B13: 6 | C13: Específico | D13: Externo | E13: Ejecución | F13: Operacionales | G13: Demoras e incumplimientos por parte del contratista de obra para dar inicio a las obras o establecer contingencias ante eventuales atrasos. | H13: Retraso en la ejecución del Contrato ocasinado por no suscribir oportunamente el acta de inicio y/o intervenir oportunamente y rapidamente las actividades del contrato. | I13: 4=Probable | J13: 3=Moderado | K13: =IFERROR(MID(I13,1,1)+MID(J13,1,1),"") -> 7 | L13: =IF(K13="","",IF(OR(K13=2,K13=3,K13=4),'TABLAS DE VALORACION'!$N$50,IF(K13=5,'TABLAS DE VALORACION'!$N$49,IF(OR(K13=6,K13=7),'TABLAS DE VALORACION'!$N$48,IF(OR(K13=8,K13=9,K13=10),'TABLAS DE VALORACION'!$N$47))))) -> Riesgo Alto | M13: Contratista | N13: Efectuar requerimientos y remitir a la aseguradora y hacer efectiva la poliza de cumplimiento. Exigir al contratista un vez se encuentre debidamente legalizado el contrato, remitir al supervisor del ICBF la totalidad de documentos requeridos para aprobación del supervisor, incluidas las hojas de vida de personal minimo requerido y que una vez aprobadas permitan suscribir la respectiva acta de inicio. | O13: 3=Posible | P13: 3=Moderado | Q13: =IFERROR(MID(O13,1,1)+MID(P13,1,1),"") -> 6 | R13: =IF(Q13="","",IF(OR(Q13=2,Q13=3,Q13=4),'TABLAS DE VALORACION'!$N$50,IF(Q13=5,'TABLAS DE VALORACION'!$N$49,IF(OR(Q13=6,Q13=7),'TABLAS DE VALORACION'!$N$48,IF(OR(Q13=8,Q13=9,Q13=10),'TABLAS DE VALORACION'!$N$47))))) -> Riesgo Alto | S13: Si | T13: ICBF y Contratista | U13: Desde el cumplimiento de los requisitos de legalizacion | V13: Hasta la finalizacion del plazo de ejecion del contrato | W13: Seguimiento y requerimiento al contratista que le fue adjudicada la propuesta | X13: Permanente
B14: 7 | C14: Específico | D14: Externo | E14: Ejecución | F14: Operacionales | G14: Hurto y daños en los equipos y suministros de oficina, herramientas, equipos de medición para control de actividades de obra, dotación del personal, insumos y materiales almacenados en las oficinas y campamentos del contratista. | H14: Atraso en la ejecución de las actividades de seguimiento y control de la obra en ejecución. Demora en la emisión de informes de avance de los proyectos. Pérdida de información relacionada con la ejecución del contrato. Proceso de responsabilidad fiscal y/o penal de los bienes hurtados | I14: 2=Imporbable | J14: 3=Moderado | K14: =IFERROR(MID(I14,1,1)+MID(J14,1,1),"") -> 5 | L14: =IF(K14="","",IF(OR(K14=2,K14=3,K14=4),'TABLAS DE VALORACION'!$N$50,IF(K14=5,'TABLAS DE VALORACION'!$N$49,IF(OR(K14=6,K14=7),'TABLAS DE VALORACION'!$N$48,IF(OR(K14=8,K14=9,K14=10),'TABLAS DE VALORACION'!$N$47))))) -> Riesgo Medio | M14: Contratista | N14: Verificación de los elementos de acuerdo al caso y realizar reposición por parte del contratista de obra. El Contratista deberá establecer un plan de auditoria, control y seguimiento de los bienes. Garantizar en oficinas y obra la cadena de custodia, responsabilidad de los bienes y medidas de seguridad. | O14: 1=Raro | P14: 1=Insignificante | Q14: =IFERROR(MID(O14,1,1)+MID(P14,1,1),"") -> 2 | R14: =IF(Q14="","",IF(OR(Q14=2,Q14=3,Q14=4),'TABLAS DE VALORACION'!$N$50,IF(Q14=5,'TABLAS DE VALORACION'!$N$49,IF(OR(Q14=6,Q14=7),'TABLAS DE VALORACION'!$N$48,IF(OR(Q14=8,Q14=9,Q14=10),'TABLAS DE VALORACION'!$N$47))))) -> Riesgo Bajo | S14: Si | T14: Contratista | U14: Desde el inicio de la ejecución del contrato | V14: Hasta la finalización de la ejecución del contrato | W14: Verificación de condiciones de seguridad en sitio por parte del Contratista | X14: Permanente
B15: 8 | C15: General | D15: Externo | E15: Ejecución | F15: Operacionales | G15: Accidentes laborales de personal adscrito al contratista de obra. | H15: Retrasos en la ejecución del contrato por reemplazo de personal. Carga económica del accidente a cargo del Contratista de obra. | I15: 3=Posible | J15: 2=Menor | K15: =IFERROR(MID(I15,1,1)+MID(J15,1,1),"") -> 5 | L15: =IF(K15="","",IF(OR(K15=2,K15=3,K15=4),'TABLAS DE VALORACION'!$N$50,IF(K15=5,'TABLAS DE VALORACION'!$N$49,IF(OR(K15=6,K15=7),'TABLAS DE VALORACION'!$N$48,IF(OR(K15=8,K15=9,K15=10),'TABLAS DE VALORACION'!$N$47))))) -> Riesgo Medio | M15: Contratista | N15: Obligación por parte del contratista en garantizar el pago y seguimiento de las afiliaciones del personal a los sistemas obligatorios de salud con el tipo de riesgo adecuado para las actividades a ejecutar. Durante la ejecución del contrato proporcionar los elementos de dotación y protección personal requeridos, capacitar al personal para que cuenten con la idoneidad y competencia en trabajos en alturas, el manejo de equipos, herramientas e insumos; identificar peligros, valoración de riesgos y determinación de controles documentados, en el marco de la Seguridad y Salud en el trabajo. | O15: 2=Imporbable | P15: 2=Menor | Q15: =IFERROR(MID(O15,1,1)+MID(P15,1,1),"") -> 4 | R15: =IF(Q15="","",IF(OR(Q15=2,Q15=3,Q15=4),'TABLAS DE VALORACION'!$N$50,IF(Q15=5,'TABLAS DE VALORACION'!$N$49,IF(OR(Q15=6,Q15=7),'TABLAS DE VALORACION'!$N$48,IF(OR(Q15=8,Q15=9,Q15=10),'TABLAS DE VALORACION'!$N$47))))) -> Riesgo Bajo | S15: Si | T15: Contratista | U15: Desde el inicio de la ejecución del contrato | V15: Hasta la finalización de la ejecución del contrato | W15: Verificación de las condiciones de idoneidad y experiencia del personal por parte de la supervisión delegada por el ICBF o interventoría, así como verificación del cumplimiento de los pagos al sistema de seguridad social y parafiscales, ARL" | X15: Semanal
B16: 9 | C16: Específico | D16: Externo | E16: Ejecución | F16: Operacionales | G16: Dificultades técnicas relacionadas con la logistica requerida para realizar el seguimiento y control necesario que garanticen la culminación de obra, en los plazos y condiciones contractuales establecidas. | H16: Atraso en la ejecución de obra. Falta de seguimiento y control de obra que componen el proceso. | I16: 3=Posible | J16: 3=Moderado | K16: =IFERROR(MID(I16,1,1)+MID(J16,1,1),"") -> 6 | L16: =IF(K16="","",IF(OR(K16=2,K16=3,K16=4),'TABLAS DE VALORACION'!$N$50,IF(K16=5,'TABLAS DE VALORACION'!$N$49,IF(OR(K16=6,K16=7),'TABLAS DE VALORACION'!$N$48,IF(OR(K16=8,K16=9,K16=10),'TABLAS DE VALORACION'!$N$47))))) -> Riesgo Alto | M16: Contratista | N16: Seguimiento contínuo a las obligaciones establecidas en el contrato de obra. Garantizar el cumplimiento de las dedicaciones de los profesionales solicitados en el marco del proceso de selección. Seguir y dar cumplimiento a los cronogramas de obra presentados, además del diligenciamiento de la bitácora del proyecto, con el fin de certificar la asistencia de los profesionales y el personal de obra incorporado | O16: 3=Posible | P16: 2=Menor | Q16: =IFERROR(MID(O16,1,1)+MID(P16,1,1),"") -> 5 | R16: =IF(Q16="","",IF(OR(Q16=2,Q16=3,Q16=4),'TABLAS DE VALORACION'!$N$50,IF(Q16=5,'TABLAS DE VALORACION'!$N$49,IF(OR(Q16=6,Q16=7),'TABLAS DE VALORACION'!$N$48,IF(OR(Q16=8,Q16=9,Q16=10),'TABLAS DE VALORACION'!$N$47))))) -> Riesgo Medio | S16: Si | T16: ICBF y Contratista | U16: Desde el inicio de la ejecución del contrato | V16: Hasta la finalización de la ejecución del contrato | W16: Verificación de los informes de supervisión delegada por el ICBF o interventoría. Seguimiento a los cronogramas de ejecución de actividades establecidos para la ejecuccion | X16: Semanal
B17: 10 | C17: General | D17: Externo | E17: Ejecución | F17: Operacionales | G17: Vinculación de personal con condiciones inferiores a las solicitadas por la Entidad para la ejecución de las obras. | H17: Ejecución de actividades con deficiencia en los estandares de calidad de los procedimientos solicitados. | I17: 3=Posible | J17: 3=Moderado | K17: =IFERROR(MID(I17,1,1)+MID(J17,1,1),"") -> 6 | L17: =IF(K17="","",IF(OR(K17=2,K17=3,K17=4),'TABLAS DE VALORACION'!$N$50,IF(K17=5,'TABLAS DE VALORACION'!$N$49,IF(OR(K17=6,K17=7),'TABLAS DE VALORACION'!$N$48,IF(OR(K17=8,K17=9,K17=10),'TABLAS DE VALORACION'!$N$47))))) -> Riesgo Alto | M17: Contratista | N17: Efectuar requerimiento al contratista para subsanar la contratacion del personal , de no ser asi reportar a la aseguradora y hacer efectiva la garantia | O17: 2=Imporbable | P17: 2=Menor | Q17: =IFERROR(MID(O17,1,1)+MID(P17,1,1),"") -> 4 | R17: =IF(Q17="","",IF(OR(Q17=2,Q17=3,Q17=4),'TABLAS DE VALORACION'!$N$50,IF(Q17=5,'TABLAS DE VALORACION'!$N$49,IF(OR(Q17=6,Q17=7),'TABLAS DE VALORACION'!$N$48,IF(OR(Q17=8,Q17=9,Q17=10),'TABLAS DE VALORACION'!$N$47))))) -> Riesgo Bajo | S17: Si | T17: ICBF y Contratista | U17: Desde la Planeación de la oferta | V17: Hasta la terminación del contrato | W17: Verificación de los informes de supervisión delegada por el ICBF o interventoría, visitas a los proyectos. | X17: Semanal
B18: 11 | C18: General | D18: Externo | E18: Ejecución | F18: Operacionales | G18: Fallas de la supervisión delegada por el ICBF o interventoría en el seguimiento a la ejecución de las actividades por parte del contratista de obra. | H18: Atraso en las actividades ejecutadas y en la entrega de obras. | I18: 3=Posible | J18: 2=Menor | K18: =IFERROR(MID(I18,1,1)+MID(J18,1,1),"") -> 5 | L18: =IF(K18="","",IF(OR(K18=2,K18=3,K18=4),'TABLAS DE VALORACION'!$N$50,IF(K18=5,'TABLAS DE VALORACION'!$N$49,IF(OR(K18=6,K18=7),'TABLAS DE VALORACION'!$N$48,IF(OR(K18=8,K18=9,K18=10),'TABLAS DE VALORACION'!$N$47))))) -> Riesgo Medio | M18: Contratista | N18: Hacer llamado de atención al contratista por parte de la supervisión delegada del ICBF del contrato o interventoría, en caso de no recibir respuesta efectiva hacer las pólizas de garantía efectivas. | O18: 2=Imporbable | P18: 2=Menor | Q18: =IFERROR(MID(O18,1,1)+MID(P18,1,1),"") -> 4 | R18: =IF(Q18="","",IF(OR(Q18=2,Q18=3,Q18=4),'TABLAS DE VALORACION'!$N$50,IF(Q18=5,'TABLAS DE VALORACION'!$N$49,IF(OR(Q18=6,Q18=7),'TABLAS DE VALORACION'!$N$48,IF(OR(Q18=8,Q18=9,Q18=10),'TABLAS DE VALORACION'!$N$47))))) -> Riesgo Bajo | S18: Si | T18: ICBF | U18: Desde el inicio de la ejecución del contrato | V18: Hasta la liquidación del contrato | W18: Se deberá realizar a seguimiento de cronograma y cumplimiento de actividades del contratista por parte de la supervisión delegada del ICBF o interventoría. | X18: Semanal
B19: 12 | C19: General | D19: Interno | E19: Planeación | F19: Operacionales | G19: Necesidad de incluir activiades de obra adicionales a las priorizadas por la Entidad, con el objeto de dar cumplimiento al objeto del contrato, generando un aumento en el plazo de ejecución de las obras, concluyendo en la necesidad de contar con el contratista y supervisión delegada por el ICBF o interventoría por un plazo mayor al inicialmente presupuestado. | H19: Prorrogas no contempladas inicialmente | I19: 4=Probable | J19: 3=Moderado | K19: =IFERROR(MID(I19,1,1)+MID(J19,1,1),"") -> 7 | L19: =IF(K19="","",IF(OR(K19=2,K19=3,K19=4),'TABLAS DE VALORACION'!$N$50,IF(K19=5,'TABLAS DE VALORACION'!$N$49,IF(OR(K19=6,K19=7),'TABLAS DE VALORACION'!$N$48,IF(OR(K19=8,K19=9,K19=10),'TABLAS DE VALORACION'!$N$47))))) -> Riesgo Alto | M19: ICBF y Contratista | N19: Ejercer control al presupuesto y cronograma de cada proyecto para mantener el cierre financiero del proyecto y los plazos inicialmente pactados. | O19: 2=Imporbable | P19: 3=Moderado | Q19: =IFERROR(MID(O19,1,1)+MID(P19,1,1),"") -> 5 | R19: =IF(Q19="","",IF(OR(Q19=2,Q19=3,Q19=4),'TABLAS DE VALORACION'!$N$50,IF(Q19=5,'TABLAS DE VALORACION'!$N$49,IF(OR(Q19=6,Q19=7),'TABLAS DE VALORACION'!$N$48,IF(OR(Q19=8,Q19=9,Q19=10),'TABLAS DE VALORACION'!$N$47))))) -> Riesgo Medio | S19: Si | T19: ICBF y Contratista | U19: Desde la estructuración de los documentos del proceso | V19: Hasta la liquidación del contrato | W19: Verificación de las condiciones establecidas por el ICBF en el proceso de selección. Seguimiento al cronograma de ejecucion de la obra y control de presupuesto para mantener el cierre financiero de cada proyecto | X19: Semanal

Sheet ANEXO RIESGOS P2
B2: Denominación del bien o servicio | G2: OBJETO: REALIZAR MANTENIMIENTOS, ADECUACIONES Y REPARACIONES LOCATIVAS DE CARÁCTER ESPECIALIZADO Y/Ó BASICOS EN EL ICBF REGIONAL CHOCÓ Y SUS CENTROS ZONALES | W2: Anexo # | X2: 3
W3: Fecha | X3: 45499
B4: Elaborado de conformidad con la metodología propuesta por la Agencia Nacional para la Contratación Pública – Colombia Compra Eficiente en el "Manual para la Identificación y Cobertura del Riesgo en los Procesos de Contratación".
B5: No. | C5: Clase | D5: Fuente | E5: Etapa | F5: Tipo | G5: Descripción (Qué puede pasar y, cómo puede ocurrir) | H5: Consecuencia de la ocurrencia del evento | I5: Probabilidad | J5: Impacto | K5: Valoración del riesgo | L5: Categoría | M5: ¿A quién se le asigna? | N5: Tratamiento/Controles a ser implementados | O5: Impacto después del tratamiento | S5: ¿Afecta la ejecución del contrato? | T5: Responsable por implementar el tratamiento | U5: A partir de cuando se inicia el tratamiento | V5: Cuando se completa el tratamiento | W5: Monitoreo y revisión
O6: Probabilidad | P6: Impacto | Q6: Valoración del riesgo | R6: Categoría | W6: ¿Cómo se realiza el monitoreo? | X6: Periodicidad
A7: Eliminar esta fila antes de remitir a la Dirección de Abastecimiento | B7: Numeración consecutiva desde 1 | C7: Seleccionar de lista desplegable | D7: Seleccionar de lista desplegable | E7: Seleccionar de lista desplegable | F7: Seleccionar de lista desplegable | G7: Digitar | H7: Digitar | I7: Seleccionar de lista desplegable | J7: Seleccionar de lista desplegable | K7: Formulado, no modificar | L7: Formulado, no modificar | M7: Seleccionar de lista desplegable | N7: Digitar | O7: Seleccionar de lista desplegable | P7: Seleccionar de lista desplegable | Q7: Formulado, no modificar | R7: Formulado, no modificar | S7: Seleccionar de lista desplegable | T7: Seleccionar de lista desplegable | U7: Digitar | V7: Digitar | W7: Digitar | X7: Seleccionar de lista desplegable
B8: 13 | C8: General | D8: Externo | E8: Ejecución | F8: Operacionales | G8: Daño a terceros ocasionados por el personal del contratista de obra, operación de equipos, movilización de maquinaria, transporte de insumos y materiales durante la ejecución de actividades de obra. | H8: Demandas e inconveniestes contractuales con el contratista | I8: 3=Posible | J8: 2=Menor | K8: =IFERROR(MID(I8,1,1)+MID(J8,1,1),"") -> 5 | L8: =IF(K8="","",IF(OR(K8=2,K8=3,K8=4),'TABLAS DE VALORACION'!$N$50,IF(K8=5,'TABLAS DE VALORACION'!$N$49,IF(OR(K8=6,K8=7),'TABLAS DE VALORACION'!$N$48,IF(OR(K8=8,K8=9,K8=10),'TABLAS DE VALORACION'!$N$47))))) -> Riesgo Medio | M8: Contratista | N8: Elaborar las actas de vecindad necesarias para verificar el estado de las infraestructuras aferentes a cada uno de las Infraestructuras a intervenir. Esta actividad deberá realizarse con anterioridad al inicio de la Fase de Obra del Contrato. Mantener vigentes polizas de responsabilidad, cumplir con normas y protocolos de seguridad en obra, normas de transito y planes de manejo de tráfico si aplican. | O8: 3=Posible | P8: 3=Moderado | Q8: =IFERROR(MID(O8,1,1)+MID(P8,1,1),"") -> 6 | R8: =IF(Q8="","",IF(OR(Q8=2,Q8=3,Q8=4),'TABLAS DE VALORACION'!$N$50,IF(Q8=5,'TABLAS DE VALORACION'!$N$49,IF(OR(Q8=6,Q8=7),'TABLAS DE VALORACION'!$N$48,IF(OR(Q8=8,Q8=9,Q8=10),'TABLAS DE VALORACION'!$N$47))))) -> Riesgo Alto | S8: Si | T8: Contratista | U8: Dessde el inicio de las actividades de obra. | V8: Hasta la finalización de la ejecución del contrato | W8: Verificación y seguimiento del cumplimiento de las medidas de seguridad y normas adoptadas por el contratista de obra, para la ejecución de estas actividades. Verificación de la elaboración de las actas de vecindad. | X8: Permanente
B9: 14 | C9: General | D9: Interno | E9: Planeación | F9: Operacionales | G9: Identificación de mayores y menores cantidades de obra, y de ítems no previstos. | H9: Variaciones presupuestales que pueden requerir de prórrogas o adiciones. | I9: 4=Probable | J9: 3=Moderado | K9: =IFERROR(MID(I9,1,1)+MID(J9,1,1),"") -> 7 | L9: =IF(K9="","",IF(OR(K9=2,K9=3,K9=4),'TABLAS DE VALORACION'!$N$50,IF(K9=5,'TABLAS DE VALORACION'!$N$49,IF(OR(K9=6,K9=7),'TABLAS DE VALORACION'!$N$48,IF(OR(K9=8,K9=9,K9=10),'TABLAS DE VALORACION'!$N$47))))) -> Riesgo Alto | M9: ICBF y Contratista | N9: Ejercer control al presupuesto y cronograma de cada proyecto para mantener el cierre financiero del proyecto y los plazos inicialmente pactados. | O9: 4=Probable | P9: 3=Moderado | Q9: =IFERROR(MID(O9,1,1)+MID(P9,1,1),"") -> 7 | R9: =IF(Q9="","",IF(OR(Q9=2,Q9=3,Q9=4),'TABLAS DE VALORACION'!$N$50,IF(Q9=5,'TABLAS DE VALORACION'!$N$49,IF(OR(Q9=6,Q9=7),'TABLAS DE VALORACION'!$N$48,IF(OR(Q9=8,Q9=9,Q9=10),'TABLAS DE VALORACION'!$N$47))))) -> Riesgo Alto | S9: Si | T9: ICBF y Contratista | U9: Desde la estructuración de los documentos del proceso | V9: Hasta la liquidación del contrato | W9: Verificación de las condiciones establecidas por el ICBF en el proceso de selección. Seguimiento al cronograma de ejecucion de la obra y control de presupuesto para mantener el cierre financiero de cada proyecto | X9: Semanal
B10: 15 | C10: General | D10: Externo | E10: Ejecución | F10: Operacionales | G10: Inconvenientes presentados con los funcionarios o usuarios de las infraestructuras para la realizaciòn de actividades. | H10: Retrasos en la programaciòn de actividades. | I10: 3=Posible | J10: 2=Menor | K10: =IFERROR(MID(I10,1,1)+MID(J10,1,1),"") -> 5 | L10: =IF(K10="","",IF(OR(K10=2,K10=3,K10=4),'TABLAS DE VALORACION'!$N$50,IF(K10=5,'TABLAS DE VALORACION'!$N$49,IF(OR(K10=6,K10=7),'TABLAS DE VALORACION'!$N$48,IF(OR(K10=8,K10=9,K10=10),'TABLAS DE VALORACION'!$N$47))))) -> Riesgo Medio | M10: ICBF y Contratista | N10: Realizar la socializaciòn correspondiente con el coordinador del Centro Zonal, operadores de la infraestructura y comunidad, con el fin de mantenerlos informados de los alcances de las obras, tiempos de ejecución y posibles incomodidades que pueda generar. Dependiendo del plazo de cada obra hacer reunión informativa de avance mensual. | O10: 2=Imporbable | P10: 2=Menor | Q10: =IFERROR(MID(O10,1,1)+MID(P10,1,1),"") -> 4 | R10: =IF(Q10="","",IF(OR(Q10=2,Q10=3,Q10=4),'TABLAS DE VALORACION'!$N$50,IF(Q10=5,'TABLAS DE VALORACION'!$N$49,IF(OR(Q10=6,Q10=7),'TABLAS DE VALORACION'!$N$48,IF(OR(Q10=8,Q10=9,Q10=10),'TABLAS DE VALORACION'!$N$47))))) -> Riesgo Bajo | S10: Si | T10: ICBF y Contratista | U10: Previo al inicio de la Fase de Obra. | V10: Hasta la finalización del contrato. | W10: Mantener informada a la comunidad, empleados y usuarios de la sede acerca del proyecto. | X10: Mensual
B11: 16 | C11: General | D11: Externo | E11: Ejecución | F11: Operacionales | G11: Ocurrencia de eventos o situaciones por causas de la naturaleza que afecten la ejecución contractual de obras de mantenimiento programado o las de mantenimiento de emergencias. | H11: - Suspensión o terminación anticipada del contrato. - Retrasos en la ejecución del objeto contractual. - Reserva presupuestal. - Bloqueo de las vías. - Imposibilidad de acceder a información indispensable. - Imposibilidad de acceso. - Desabastecimiento. - Daños al contratista, al ICBF y a terceros. - Alteración a la seguridad e integridad del personal del ICBF y contratista, de los beneficiarios o custodiados del ICBF y de terceros. | I11: 2=Imporbable | J11: 4=Mayor | K11: =IFERROR(MID(I11,1,1)+MID(J11,1,1),"") -> 6 | L11: =IF(K11="","",IF(OR(K11=2,K11=3,K11=4),'TABLAS DE VALORACION'!$N$50,IF(K11=5,'TABLAS DE VALORACION'!$N$49,IF(OR(K11=6,K11=7),'TABLAS DE VALORACION'!$N$48,IF(OR(K11=8,K11=9,K11=10),'TABLAS DE VALORACION'!$N$47))))) -> Riesgo Alto | M11: ICBF y Contratista | N11: 1. Incluir una póliza para eventos ocasionados por daños de la naturaleza. 2. Incluir en los documentos técnicos los escenarios en los que el ICBF puede modificar, suspender o dar por terminado el contrato de manera unilateral. 3. Establecer rutas y cronogramas alternos. 4. Adquirir insumos y materiales con bajo un plan de compras adecuado a las condiciones de cada frente de obras. 5. Subir la información indispensable en carpetas digitales institucionales de uso compartido y de carácter confindencial que puedan ser consultadas de manera externa. 6. Capacitar en protocolos y planes de acción en caso de emergencia por eventos de la naturaleza. 7. Realizar simulacros. | O11: 1=Raro | P11: 2=Menor | Q11: =IFERROR(MID(O11,1,1)+MID(P11,1,1),"") -> 3 | R11: =IF(Q11="","",IF(OR(Q11=2,Q11=3,Q11=4),'TABLAS DE VALORACION'!$N$50,IF(Q11=5,'TABLAS DE VALORACION'!$N$49,IF(OR(Q11=6,Q11=7),'TABLAS DE VALORACION'!$N$48,IF(OR(Q11=8,Q11=9,Q11=10),'TABLAS DE VALORACION'!$N$47))))) -> Riesgo Bajo | S11: Si | T11: Contratista | U11: Elaboración de los documentos técnicos. | V11: Finalización del contrato | W11: 1. Verificar el pago de la póliza. 2. Verificar la inclusión de escenarios en los documentos técnicos. 3. Establecer planes de contingencia de suministro de materiales, insumos y personal junto con rutas alternas. 4. Incluir en los documentos técnicos la obligación de adelantar plan de compras. 5. Verificar periodicamente que la información se encuentre disponible en las carpetas digitales autorizadas. 6. Verificar por medio de actas de reunión o listados de asistencia de la capacitación en temas de orden público. 7. Verificar por medio de informes los resultados del simulacro. | X11: Permanente
B12: 17 | C12: General | D12: Externo | E12: Ejecución | F12: Sociales o Políticos | G12: Imposibilidad de acceso del personal del contratista por causas ajenas a su voluntad (diferentes a orden público, o desastres naturales) a obras de mantenimiento programado o las de mantenimiento de emergencias. | H12: - Suspensión temporal del contrato. - Retrasos en la ejecución del contrato. | I12: 4=Probable | J12: 3=Moderado | K12: =IFERROR(MID(I12,1,1)+MID(J12,1,1),"") -> 7 | L12: =IF(K12="","",IF(OR(K12=2,K12=3,K12=4),'TABLAS DE VALORACION'!$N$50,IF(K12=5,'TABLAS DE VALORACION'!$N$49,IF(OR(K12=6,K12=7),'TABLAS DE VALORACION'!$N$48,IF(OR(K12=8,K12=9,K12=10),'TABLAS DE VALORACION'!$N$47))))) -> Riesgo Alto | M12: Contratista | N12: 1. Exigir al contratista planes de contingencia y mitigacion debidamentes claros y especificos ante eventualidades de este tipo. | O12: 4=Probable | P12: 2=Menor | Q12: =IFERROR(MID(O12,1,1)+MID(P12,1,1),"") -> 6 | R12: =IF(Q12="","",IF(OR(Q12=2,Q12=3,Q12=4),'TABLAS DE VALORACION'!$N$50,IF(Q12=5,'TABLAS DE VALORACION'!$N$49,IF(OR(Q12=6,Q12=7),'TABLAS DE VALORACION'!$N$48,IF(OR(Q12=8,Q12=9,Q12=10),'TABLAS DE VALORACION'!$N$47))))) -> Riesgo Alto | S12: Si | T12: ICBF y Contratista | U12: Perfeccionamiento. | V12: Vencimiento del plazo o acta de liquidación. | W12: 1. Seguimiento por parte del Supervisor del Contrato a los planes de contingencia del contratista establecidos ante las eventualidades de este tipo. 2. Solicitar al contratista la realización de simulacros con el fin de evaluar el funcionamiento de los planes de contingencia y mitigación. | X12: Permanente
B13: 18 | C13: General | D13: Externo | E13: Ejecución | F13: Operacionales | G13: El contratista no se presenta a suscribir la liquidación del contrato o no se llega a un acuerdo para la suscripción del acta de liquidación. | H13: Finalizar la vigencia legal para la liquidación del contrato sin acuerdo. Acciones legales. | I13: 2=Imporbable | J13: 3=Moderado | K13: =IFERROR(MID(I13,1,1)+MID(J13,1,1),"") -> 5 | L13: =IF(K13="","",IF(OR(K13=2,K13=3,K13=4),'TABLAS DE VALORACION'!$N$50,IF(K13=5,'TABLAS DE VALORACION'!$N$49,IF(OR(K13=6,K13=7),'TABLAS DE VALORACION'!$N$48,IF(OR(K13=8,K13=9,K13=10),'TABLAS DE VALORACION'!$N$47))))) -> Riesgo Medio | M13: ICBF y Contratista | N13: 1. Hacer hallazgos tempranos de posibles desacuerdos entre el contratista y el ICBF por medio de los informes de supervisión o interventoría. 2. Intentar llegar a una conciliación temprana entre el supervisor del contrato o interventor y el contratista y tomar acciones correctivas o de mejora cuando aplique. 3. Liquidar el contrato de manera unilateral por parte del ICBF. | O13: 3=Posible | P13: 1=Insignificante | Q13: =IFERROR(MID(O13,1,1)+MID(P13,1,1),"") -> 4 | R13: =IF(Q13="","",IF(OR(Q13=2,Q13=3,Q13=4),'TABLAS DE VALORACION'!$N$50,IF(Q13=5,'TABLAS DE VALORACION'!$N$49,IF(OR(Q13=6,Q13=7),'TABLAS DE VALORACION'!$N$48,IF(OR(Q13=8,Q13=9,Q13=10),'TABLAS DE VALORACION'!$N$47))))) -> Riesgo Bajo | S13: No | T13: ICBF y Contratista | U13: Al inicio de la ejecución. | V13: Liquidación del contrato. | W13: 1. Incluir dentro del informe de supervisión o interventoría un apartado que incluya información relevante sobre posibles desacuerdos entre el ICBF y el contratista. 2. Generar espacios de diálogo periódicos entre el supervisor del contrato o interventor y el contratista con el fin de llegar a acuerdos. 3. Realizar la liquidación de forma unilateral. | X13: Permanente
K14: =IFERROR(MID(I14,1,1)+MID(J14,1,1),"") | L14: =IF(K14="","",IF(OR(K14=2,K14=3,K14=4),'TABLAS DE VALORACION'!$N$50,IF(K14=5,'TABLAS DE VALORACION'!$N$49,IF(OR(K14=6,K14=7),'TABLAS DE VALORACION'!$N$48,IF(OR(K14=8,K14=9,K14=10),'TABLAS DE VALORACION'!$N$47))))) | Q14: =IFERROR(MID(O14,1,1)+MID(P14,1,1),"") | R14: =IF(Q14="","",IF(OR(Q14=2,Q14=3,Q14=4),'TABLAS DE VALORACION'!$N$50,IF(Q14=5,'TABLAS DE VALORACION'!$N$49,IF(OR(Q14=6,Q14=7),'TABLAS DE VALORACION'!$N$48,IF(OR(Q14=8,Q14=9,Q14=10),'TABLAS DE VALORACION'!$N$47)))))
K15: =IFERROR(MID(I15,1,1)+MID(J15,1,1),"") | L15: =IF(K15="","",IF(OR(K15=2,K15=3,K15=4),'TABLAS DE VALORACION'!$N$50,IF(K15=5,'TABLAS DE VALORACION'!$N$49,IF(OR(K15=6,K15=7),'TABLAS DE VALORACION'!$N$48,IF(OR(K15=8,K15=9,K15=10),'TABLAS DE VALORACION'!$N$47))))) | Q15: =IFERROR(MID(O15,1,1)+MID(P15,1,1),"") | R15: =IF(Q15="","",IF(OR(Q15=2,Q15=3,Q15=4),'TABLAS DE VALORACION'!$N$50,IF(Q15=5,'TABLAS DE VALORACION'!$N$49,IF(OR(Q15=6,Q15=7),'TABLAS DE VALORACION'!$N$48,IF(OR(Q15=8,Q15=9,Q15=10),'TABLAS DE VALORACION'!$N$47)))))
K16: =IFERROR(MID(I16,1,1)+MID(J16,1,1),"") | L16: =IF(K16="","",IF(OR(K16=2,K16=3,K16=4),'TABLAS DE VALORACION'!$N$50,IF(K16=5,'TABLAS DE VALORACION'!$N$49,IF(OR(K16=6,K16=7),'TABLAS DE VALORACION'!$N$48,IF(OR(K16=8,K16=9,K16=10),'TABLAS DE VALORACION'!$N$47))))) | Q16: =IFERROR(MID(O16,1,1)+MID(P16,1,1),"") | R16: =IF(Q16="","",IF(OR(Q16=2,Q16=3,Q16=4),'TABLAS DE VALORACION'!$N$50,IF(Q16=5,'TABLAS DE VALORACION'!$N$49,IF(OR(Q16=6,Q16=7),'TABLAS DE VALORACION'!$N$48,IF(OR(Q16=8,Q16=9,Q16=10),'TABLAS DE VALORACION'!$N$47)))))
K17: =IFERROR(MID(I17,1,1)+MID(J17,1,1),"") | L17: =IF(K17="","",IF(OR(K17=2,K17=3,K17=4),'TABLAS DE VALORACION'!$N$50,IF(K17=5,'TABLAS DE VALORACION'!$N$49,IF(OR(K17=6,K17=7),'TABLAS DE VALORACION'!$N$48,IF(OR(K17=8,K17=9,K17=10),'TABLAS DE VALORACION'!$N$47))))) | Q17: =IFERROR(MID(O17,1,1)+MID(P17,1,1),"") | R17: =IF(Q17="","",IF(OR(Q17=2,Q17=3,Q17=4),'TABLAS DE VALORACION'!$N$50,IF(Q17=5,'TABLAS DE VALORACION'!$N$49,IF(OR(Q17=6,Q17=7),'TABLAS DE VALORACION'!$N$48,IF(OR(Q17=8,Q17=9,Q17=10),'TABLAS DE VALORACION'!$N$47)))))
K18: =IFERROR(MID(I18,1,1)+MID(J18,1,1),"") | L18: =IF(K18="","",IF(OR(K18=2,K18=3,K18=4),'TABLAS DE VALORACION'!$N$50,IF(K18=5,'TABLAS DE VALORACION'!$N$49,IF(OR(K18=6,K18=7),'TABLAS DE VALORACION'!$N$48,IF(OR(K18=8,K18=9,K18=10),'TABLAS DE VALORACION'!$N$47))))) | Q18: =IFERROR(MID(O18,1,1)+MID(P18,1,1),"") | R18: =IF(Q18="","",IF(OR(Q18=2,Q18=3,Q18=4),'TABLAS DE VALORACION'!$N$50,IF(Q18=5,'TABLAS DE VALORACION'!$N$49,IF(OR(Q18=6,Q18=7),'TABLAS DE VALORACION'!$N$48,IF(OR(Q18=8,Q18=9,Q18=10),'TABLAS DE VALORACION'!$N$47)))))
K19: =IFERROR(MID(I19,1,1)+MID(J19,1,1),"") | L19: =IF(K19="","",IF(OR(K19=2,K19=3,K19=4),'TABLAS DE VALORACION'!$N$50,IF(K19=5,'TABLAS DE VALORACION'!$N$49,IF(OR(K19=6,K19=7),'TABLAS DE VALORACION'!$N$48,IF(OR(K19=8,K19=9,K19=10),'TABLAS DE VALORACION'!$N$47))))) | Q19: =IFERROR(MID(O19,1,1)+MID(P19,1,1),"") | R19: =IF(Q19="","",IF(OR(Q19=2,Q19=3,Q19=4),'TABLAS DE VALORACION'!$N$50,IF(Q19=5,'TABLAS DE VALORACION'!$N$49,IF(OR(Q19=6,Q19=7),'TABLAS DE VALORACION'!$N$48,IF(OR(Q19=8,Q19=9,Q19=10),'TABLAS DE VALORACION'!$N$47)))))
