Workbook
Name FechaLey: #REF!
Name FechaLey: #REF!
Name FechaLey: #REF!
Name FechaLey: [1]Administracion!$R$2
Name FechaLey: #REF!
Name FechaLey: #REF!
Name ListBoxOutput: '4.1.3. CAPACIDAD TÉCNICA P1'!$B$18
Name ListBoxOutput: '4.1.3. CAPACIDAD TÉCNICA P2'!$B$18
Name ListBoxOutput: '4.1.3. CAPACIDAD TÉCNICA P3'!$B$18
Name ListBoxOutput: '4.1.3. CAPACIDAD TÉCNICA P4'!$B$18
Name ListBoxOutput: '4.1.3. CAPACIDAD TÉCNICA P5'!$B$18
Name ListBoxOutput: #REF!
Name ListBoxOutput: #REF!
Name PERFAPO: 'Listas referencia RA'!$A$2:$A$3
Name profesionales: 'Listas referencia RA'!$A$5:$E$14
Name tematicas_exp_consultor: #REF!
Name tematicas_exp_consultor: #REF!
Name tematicas_exp_consultor: '[2]CONTROL DE CONDICIONES DE EVALU'!$O$3:$P$9
Name tematicas_exp_consultor: #REF!
Name UNSPSC_P1_E1: '4.1.3. CAPACIDAD TÉCNICA P1'!$B$18
Name UNSPSC_P1_E1: '4.1.3. CAPACIDAD TÉCNICA P2'!$B$18
Name UNSPSC_P1_E1: '4.1.3. CAPACIDAD TÉCNICA P3'!$B$18
Name UNSPSC_P1_E1: '4.1.3. CAPACIDAD TÉCNICA P4'!$B$18
Name UNSPSC_P1_E1: '4.1.3. CAPACIDAD TÉCNICA P5'!$B$18
Name UNSPSC_P1_E1: #REF!
Name UNSPSC_P1_E1: #REF!

Sheet RESUMEN HABILITANTES 
A1: AGENCIA NACIONAL DE MINERÍA
A2: EVALUACIÓN TÉCNICA
A3: CONCURSO DE MÉRITOS ABIERTO CMA-005-2024
A4: VERIFICACION REQUISITOS HABILITANTES
A6: Objeto:
A7: PRESTAR LOS SERVICIOS DE CONSULTORÍA EN GESTIÓN DOCUMENTAL ELECTRÓNICA, PARA EL DIAGNÓSTICO DEL SISTEMA DE GESTIÓN DOCUMENTAL Y LA DEFINICIÓN DEL SISTEMA DE GESTIÓN DE DOCUMENTOS ELECTRÓNICOS DE ARCHIVO – SGDEA.LÍNEA PAA 130011524
A10: No. | B10: PROPONENTE | D10: 4.1.1 CAPACIDAD JURÍDICA | E10: 4.1.2 CAPACIDAD FINANCIERA Y ORGANIZACIONAL | F10: 4.1.3. CAPACIDAD TÉCNICA | G10: 4.1.4. FORMACIÓN ACADÉMICA Y EXPERIENCIA DEL EQUIPO MÍNIMO DE TRABAJO | H10: 4.1.5. REQUISITOS TÉCNICOS MÍNIMOS | I10: BALANCE
A11: 1 | B11: Razón social | C11: Unión Temporal SOAIN BUSINESS SUPPORT – SGDEA | D11: HABILITA | E11: HABILITA | F11: ='4.1.3. CAPACIDAD TÉCNICA P1'!A193 -> HABILITA | G11: ='4.1.4 EQUIPO MÍNIMO P1'!A261 -> NO HABILITA | H11: ='4.1.5. REQUISITOS TÉCNICOS MÍNI'!C8 -> HABILITA | I11: =IF(COUNTIF(D11:H13,"HABILITA")=5,"HABILITA","NO HABILITA") -> NO HABILITA
B12: Nit | C12: 900,197,910-8
B13: Representante legal | C13: EDWIN ORLANDO ROZO MEDELLÍN
A14: 2 | B14: Razón social | C14: UT SGDEA ANM 2024 | D14: HABILITA | E14: HABILITA | F14: ='4.1.3. CAPACIDAD TÉCNICA P2'!A193 -> NO HABILITA | G14: ='4.1.4 EQUIPO MÍNIMO P2'!A261 -> NO HABILITA | H14: ='4.1.5. REQUISITOS TÉCNICOS MÍNI'!C14 -> HABILITA | I14: =IF(COUNTIF(D14:H16,"HABILITA")=5,"HABILITA","NO HABILITA") -> NO HABILITA
B15: Nit | C15: N/A
B16: Representante legal | C16: ELVIS ISABEL RIOS CARREÑO
A17: 3 | B17: Razón social | C17: UT CONSULTING INZU | D17: HABILITA | E17: RECHAZADO | F17: ='4.1.3. CAPACIDAD TÉCNICA P3'!A193 -> NO HABILITA | G17: ='4.1.4 EQUIPO MÍNIMO P3'!A261 -> NO HABILITA | H17: ='4.1.5. REQUISITOS TÉCNICOS MÍNI'!C20 -> HABILITA | I17: RECHAZADO
B18: Nit | C18: N/A
B19: Representante legal | C19: JUAN MANUEL ECHEVERRI ESCOBAR -6341589
A20: 4 | B20: Razón social | C20: PRODYGYTEK PROCESS DOCUMENT AND DATA SOLUTIONS SAS | D20: HABILITA | E20: HABILITA | F20: ='4.1.3. CAPACIDAD TÉCNICA P4'!A193 -> HABILITA | G20: ='4.1.4 EQUIPO MÍNIMO P4'!A276 -> HABILITA | H20: ='4.1.5. REQUISITOS TÉCNICOS MÍNI'!C26 -> HABILITA | I20: =IF(COUNTIF(D20:H22,"HABILITA")=5,"HABILITA","NO HABILITA") -> HABILITA
B21: Nit | C21: 900,217,227-2
B22: Representante legal | C22: OMAIRA LIZARAZO HERRERA
A23: 5 | B23: Razón social | C23: SOFT Y DI LTDA | D23: HABILITA | E23: HABILITA | F23: ='4.1.3. CAPACIDAD TÉCNICA P5'!A193 -> HABILITA | G23: ='4.1.4 EQUIPO MÍNIMO P5'!A261 -> NO HABILITA | H23: ='4.1.5. REQUISITOS TÉCNICOS MÍNI'!C32 -> HABILITA | I23: =IF(COUNTIF(D23:H25,"HABILITA")=5,"HABILITA","NO HABILITA") -> NO HABILITA
B24: Nit | C24: 830,038,199-2
B25: Representante legal | C25: ANGELA OLIVA BECERRA CAMARGO
A26: 6 | B26: Razón social | I26: =IF(COUNTIF(D26:H28,"HABILITA")=5,"HABILITA","NO HABILITA") -> NO HABILITA
B27: Nit
B28: Representante legal
A29: 7 | B29: Razón social | I29: =IF(COUNTIF(D29:H31,"HABILITA")=5,"HABILITA","NO HABILITA") -> NO HABILITA
B30: Nit
B31: Representante legal
A32: 8 | B32: Razón social | I32: =IF(COUNTIF(D32:H34,"HABILITA")=5,"HABILITA","NO HABILITA") -> NO HABILITA
B33: Nit
B34: Representante legal
A35: 9 | B35: Razón social | I35: =IF(COUNTIF(D35:H37,"HABILITA")=5,"HABILITA","NO HABILITA") -> NO HABILITA
B36: Nit
B37: Representante legal
A38: 10 | B38: Razón social | I38: =IF(COUNTIF(D38:H40,"HABILITA")=5,"HABILITA","NO HABILITA") -> NO HABILITA
B39: Nit
B40: Representante legal
A43: COMITE EVALUADOR: Técnico: Sergio Mejía Arias; Juan Carlos Bolivar;Cindy Paola Díaz; Norma Gaona; Carolina Zambrano;Paolo Bonilla

Sheet 4.1.3. CAPACIDAD TÉCNICA P1
A1: EVALUACIÓN TÉCNICA
A2: CONCURSO DE MÉRITOS ABIERTO CMA-005-2024
A3: VERIFICACION REQUISITOS HABILITANTES TÉCNICOS
A4: 4.1.3. CAPACIDAD TÉCNICA
A6: PROPONENTE | C6: Unión Temporal SOAIN BUSINESS SUPPORT – SGDEA | M6: RESPONSABLE DE IVA | N6: REQUERIMIENTO NO RESPONSABLES DE IVA
A7: FALSE | E7: TRUE | G7: TRUE | H7: FALSE | K7: FALSE | M7: 907 | N7: 762
A8: CONDICIONES | K8: EXPERIENCIA ACREDITADA | M8: Mínimo requerido | N8: CONCEPTO
A9: b | B9: Acreditar contratos ejecutados por 907 SMMLV (Responsable IVA) o 762 SMMLV (No responsable de IVA). Para proponentes plurales, de acuerdo a su participación | G9: SOAIN SOFTWARE ASSOCIATES S.A.S. | K9: =SUM(IF(B46="CUMPLE",J18,0),IF(B75="CUMPLE",J47,0),IF(B104="CUMPLE",J76,0),IF(B133="CUMPLE",J105,0),IF(B162="CUMPLE",J134,0),IF(B191="CUMPLE",J163,0)) -> 1881.35 | M9: =IF(E7=TRUE,M7,N7) -> 907 | N9: =IF(K9>=M9,"CUMPLE","NO CUMPLE") -> CUMPLE
G10: BUSINESS SUPPORT S.A.S
B11: Hasta 5 contratos (6 Pymes y emprendimientos de mujeres),contratos suscritos con entidades públicas o privadas, ejecutados en el territorio nacional en los últimos diez (10) años contados a partir de la fecha de cierre del proceso, los cuales deben encontrarse debidamente reportados en el RUP, actualizado, vigente y en firme.. | K11: =SUM(IF(B46="CUMPLE",1,0),IF(B75="CUMPLE",1,0),IF(B104="CUMPLE",1,0),IF(B133="CUMPLE",1,0),IF(B162="CUMPLE",1,0),IF(B191="CUMPLE",1,0)) -> 1 | M11: 1 | N11: =IF(K11>=M11,"CUMPLE","NO CUMPLE") -> CUMPLE
A12: d | B12: El objeto, obligaciones o funciones o entregables de cada uno de los contratos deberán indicar explícitamente al menos uno de los siguientes temas: TEMA 1: Planificación o diseño o modelación o automatización o implementación de procesos, flujos de información o flujos de datos. TEMA 2: Análisis o diseño o implementación o parametrización de Sistemas de Gestión de Documentos Electrónicos de Archivo – SGDEA. TEMA 3: Formulación o implementación de por lo menos uno de los siguientes instrumentos documentales - Modelo de requisitos para gestión de documentos electrónicos o, - Tablas de control de acceso – TCA o, - Esquemas de metadatos. | K12: =SUM(IF(AND(K29="CUMPLE",B46="CUMPLE"),1,0),IF(AND(K58="CUMPLE",B75="CUMPLE"),1,0),IF(AND(K87="CUMPLE",B104="CUMPLE"),1,0),IF(AND(K116="CUMPLE",B133="CUMPLE"),1,0),IF(AND(K145="CUMPLE",B162="CUMPLE"),1,0),IF(AND(K174="CUMPLE",B191="CUMPLE"),1,0)) -> 1 | M12: 1 | N12: =IF(K12>=M12,"CUMPLE","NO CUMPLE") -> CUMPLE
N13: =IF(K13>=M13,"CUMPLE","NO CUMPLE") -> CUMPLE
A14: e | B14: Como mínimo uno de los contratos debe acreditar experiencia en TEMA 2 de los previamente indicados | K14: =SUM(IF(AND(L30=TRUE,B46="CUMPLE"),1,0),IF(AND(L59=TRUE,B75="CUMPLE"),1,0),IF(AND(L88=TRUE,B104="CUMPLE"),1,0),IF(AND(L117=TRUE,B133="CUMPLE"),1,0),IF(AND(L146=TRUE,B162="CUMPLE"),1,0),IF(AND(L175=TRUE,B191="CUMPLE"),1,0)) -> 1 | M14: 1 | N14: =IF(K14>=M14,"CUMPLE","NO CUMPLE") -> CUMPLE
A15: f | B15: En suma, los contratos soportes de la experiencia específica habilitante del proponente deben incluir al menos dos (2) de los temas referidos en el literal d. | K15: =SUM(IF(SUM(IF(AND(L29=TRUE,B46="CUMPLE"),1,0),IF(AND(L58=TRUE,B75="CUMPLE"),1,0),IF(AND(L87=TRUE,B104="CUMPLE"),1,0),IF(AND(L116=TRUE,B133="CUMPLE"),1,0),IF(AND(L145=TRUE,B162="CUMPLE"),1,0),IF(AND(L174=TRUE,B191="CUMPLE"),1,0))>0,1,0),IF(SUM(IF(AND(L30=TRUE,B46="CUMPLE"),1,0),IF(AND(L59=TRUE,B75="CUMPLE"),1,0),IF(AND(L88=TRUE,B104="CUMPLE"),1,0),IF(AND(L117=TRUE,B133="CUMPLE"),1,0),IF(AND(L146=TRUE,B162="CUMPLE"),1,0),IF(AND(L175=TRUE,B191="CUMPLE"),1,0))>0,1,0),IF(SUM(IF(AND(L31=TRUE,B46="CUMPLE"),1,0),IF(AND(L60=TRUE,B75="CUMPLE"),1,0),IF(AND(L89=TRUE,B104="CUMPLE"),1,0),IF(AND(L118=TRUE,B133="CUMPLE"),1,0),IF(AND(L147=TRUE,B162="CUMPLE"),1,0),IF(AND(L176=TRUE,B191="CUMPLE"),1,0))>0,1,0)) -> 2 | M15: 2 | N15: =IF(K15>=M15,"CUMPLE","NO CUMPLE") -> CUMPLE
A16: No. | B16: CÓDIGO UNSPSC RELACIONADOS | C16: CONSECUTIVO EN RUP: | D16: ENTIDAD CONTRATANTE O EMPLEADORA | E16: NOMBRE DE LA FIRMA QUE LLEVÓ A CABO LA EJECUCIÓN DEL CONTRATO | F16: OBJETO CONTRACTUAL O FUNCIONES DESEMPEÑADAS | H16: EQUIVALENTE EN SMMLV | I16: % DE PARTICIPACIÓN | J16: SMMLV APORTADOS | K16: Documentación aportada
A18: 1 | B18: TRUE | C18: 112 | D18: MINISTERIO DE AGRICULTURA Y DESARROLLO RURAL | E18: SOAIN SOFTWARE ASSOCIATES S A S | F18: Realizar la adquisición, parametrización e Implementación de una solución tecnológica de un sistema de gestión de documentos electrónicos de archivo – SGDEA en modalidad software como servicio (SaaS) en la nube del proveedor, para el análisis, diseño, automatización e implementación de los procesos documentales del Ministerio de Agricultura y Desarrollo Rural, incluyendo licenciamiento por uso, soporte técnico y migración de los datos del sistema de Gestión Documental actual de la entidad. | H18: 1881.35 | I18: 1 | J18: =(H18*I18) -> 1881.35 | K18: Requerimientos de las certificación | L18: TRUE
B19: TRUE | K19: =IF(COUNTIF(L19:N27,"VERDADERO")=8,"CUMPLE","NO CUMPLE") -> CUMPLE | L19: TRUE
B20: TRUE | L20: TRUE
B21: TRUE | L21: TRUE
B22: TRUE | L22: TRUE
L24: TRUE
L25: TRUE
L26: TRUE
L27: TRUE
K28: REQUERIMIENTOS TÉCNICOS
K29: =IF(COUNTIF(L29:N31,"VERDADERO")>0,"CUMPLE","NO CUMPLE") -> CUMPLE | L29: TRUE | N29: FALSE
L30: TRUE | N30: FALSE
L31: =IF(COUNTIF(N29:N31,TRUE)>0,TRUE,FALSE) -> FALSE | N31: FALSE
K32: =IF(COUNTIF(L32,"VERDADERO")>0,"CUMPLE","NO CUMPLE") -> CUMPLE | L32: TRUE
K33: =IF(COUNTIF(L33,"VERDADERO")>0,"CUMPLE","NO CUMPLE") -> CUMPLE | L33: TRUE
B34: =IF(COUNTIF(B18:B31,"VERDADERO")>0,"CUMPLE","NO CUMPLE") -> CUMPLE | K34: =IF(COUNTIF(L34,"VERDADERO")>0,"CUMPLE","NO CUMPLE") -> CUMPLE | L34: TRUE
B35: DOCUMENTACIÓN APORTADA (…) El proponente deberá presentar las certificaciones de los contratos que están reportados como experiencia en el RUP o copia de los mismos con las correspondientes actas de terminación o liquidación, en los cuales, se verificara que su objeto y alcance, tenga relación directa con el objeto y alcance del presente proceso (...)."
B36: Rup 2024 SOAINT.pdf | K36: =IF(AND(IF(COUNTIF(L36,"VERDADERO")>0,"CUMPLE","NO CUMPLE")="CUMPLE",IF(COUNTIF(L37,"VERDADERO")>0,"CUMPLE","NO CUMPLE")="CUMPLE",IF(OR(COUNTIF(L38:N38,"VERDADERO")=0,COUNTIF(L38:N38,"VERDADERO")=2),"CUMPLE","NO CUMPLE")="CUMPLE",IF(OR(COUNTIF(L39:N39,"VERDADERO")=0,COUNTIF(L39:N39,"VERDADERO")=2),"CUMPLE","NO CUMPLE")="CUMPLE"),"CUMPLE","NO CUMPLE") -> CUMPLE | L36: TRUE
B37: 3.3.1.1. Certificación Min Agricultura (2).pdf | L37: TRUE
L38: FALSE | N38: FALSE
L39: FALSE | N39: FALSE
B40: ANEXO 10 EXPERIENCIA HABILITANTE DEL PROPONENTE.xlsx | L40: TRUE
B41: 4.1.1.5 CONFORMACION DEL PROPONENTE PLURAL.pdf 2. Acta Cierre Proyecto_MinAgricultura_20210645.pdf 1. Acta de Aprobación Salida a Producción MADR 15-12-2021 DOCUMENTO RESTRINGIDO DE USO INTERNO.pdf | L41: TRUE
B42: CONSIDERACIONES
B43: 1. La información es validada en la carpeta: 112. MINAGRICULTURA 2. La certificación aportada (3.3.1.1. Certificación Min Agricultura (2)), no registra fecha de inicio y terminación, sin embargo el oferente aporta el documento; 1. Acta de Aprobación Salida a Producción MADR 15-12-2021 DOCUMENTO RESTRINGIDO DE USO INTERNO, en el cual es posible validar la información.
...

Sheet 4.1.3. CAPACIDAD TÉCNICA P2
A1: EVALUACIÓN TÉCNICA
A2: CONCURSO DE MÉRITOS ABIERTO CMA-005-2024
A3: VERIFICACION REQUISITOS HABILITANTES TÉCNICOS
A4: 4.1.3. CAPACIDAD TÉCNICA
A6: PROPONENTE | C6: UT SGDEA ANM 2024 | M6: RESPONSABLE DE IVA | N6: REQUERIMIENTO NO RESPONSABLES DE IVA
A7: TRUE | E7: TRUE | G7: TRUE | K7: FALSE | M7: 907 | N7: 762
A8: CONDICIONES | K8: EXPERIENCIA ACREDITADA | M8: Mínimo requerido | N8: CONCEPTO
A9: b | B9: Acreditar contratos ejecutados por 907 SMMLV (Responsable IVA) o 762 SMMLV (No responsable de IVA). Para proponentes plurales, de acuerdo a su participación | G9: CONTROL ONLINE INTERNATIONAL SAS | K9: =SUM(IF(B46="CUMPLE",J18,0),IF(B75="CUMPLE",J47,0),IF(B104="CUMPLE",J76,0),IF(B133="CUMPLE",J105,0),IF(B162="CUMPLE",J134,0),IF(B191="CUMPLE",J163,0)) -> 559.29 | M9: =IF(E7=TRUE,M7,N7) -> 907 | N9: NO CUMPLE
G10: SINERGY & LOWELLS SAS | K10: =SUM(IF(B47="CUMPLE",J19,0),IF(B76="CUMPLE",J48,0),IF(B105="CUMPLE",J77,0),IF(B134="CUMPLE",J106,0),IF(B163="CUMPLE",J135,0),IF(B192="CUMPLE",J164,0)) -> 0
B11: Hasta 5 contratos (6 Pymes y emprendimientos de mujeres),contratos suscritos con entidades públicas o privadas, ejecutados en el territorio nacional en los últimos diez (10) años contados a partir de la fecha de cierre del proceso, los cuales deben encontrarse debidamente reportados en el RUP, actualizado, vigente y en firme.. | K11: =SUM(IF(B46="CUMPLE",1,0),IF(B75="CUMPLE",1,0),IF(B104="CUMPLE",1,0),IF(B133="CUMPLE",1,0),IF(B162="CUMPLE",1,0),IF(B191="CUMPLE",1,0)) -> 1 | M11: 1 | N11: =IF(K11>=M11,"CUMPLE","NO CUMPLE") -> CUMPLE
A12: d | B12: El objeto, obligaciones o funciones o entregables de cada uno de los contratos deberán indicar explícitamente al menos uno de los siguientes temas: TEMA 1: Planificación o diseño o modelación o automatización o implementación de procesos, flujos de información o flujos de datos. TEMA 2: Análisis o diseño o implementación o parametrización de Sistemas de Gestión de Documentos Electrónicos de Archivo – SGDEA. TEMA 3: Formulación o implementación de por lo menos uno de los siguientes instrumentos documentales - Modelo de requisitos para gestión de documentos electrónicos o, - Tablas de control de acceso – TCA o, - Esquemas de metadatos. | K12: =SUM(IF(AND(K29="CUMPLE",B46="CUMPLE"),1,0),IF(AND(K58="CUMPLE",B75="CUMPLE"),1,0),IF(AND(K87="CUMPLE",B104="CUMPLE"),1,0),IF(AND(K116="CUMPLE",B133="CUMPLE"),1,0),IF(AND(K145="CUMPLE",B162="CUMPLE"),1,0),IF(AND(K174="CUMPLE",B191="CUMPLE"),1,0)) -> 1 | M12: 1 | N12: =IF(K12>=M12,"CUMPLE","NO CUMPLE") -> CUMPLE
N13: =IF(K13>=M13,"CUMPLE","NO CUMPLE") -> CUMPLE | Q13: =24+26 -> 50
A14: e | B14: Como mínimo uno de los contratos debe acreditar experiencia en TEMA 2 de los previamente indicados | K14: =SUM(IF(AND(L30=TRUE,B46="CUMPLE"),1,0),IF(AND(L59=TRUE,B75="CUMPLE"),1,0),IF(AND(L88=TRUE,B104="CUMPLE"),1,0),IF(AND(L117=TRUE,B133="CUMPLE"),1,0),IF(AND(L146=TRUE,B162="CUMPLE"),1,0),IF(AND(L175=TRUE,B191="CUMPLE"),1,0)) -> 1 | M14: 1 | N14: =IF(K14>=M14,"CUMPLE","NO CUMPLE") -> CUMPLE
A15: f | B15: En suma, los contratos soportes de la experiencia específica habilitante del proponente deben incluir al menos dos (2) de los temas referidos en el literal d. | K15: =SUM(IF(SUM(IF(AND(L29=TRUE,B46="CUMPLE"),1,0),IF(AND(L58=TRUE,B75="CUMPLE"),1,0),IF(AND(L87=TRUE,B104="CUMPLE"),1,0),IF(AND(L116=TRUE,B133="CUMPLE"),1,0),IF(AND(L145=TRUE,B162="CUMPLE"),1,0),IF(AND(L174=TRUE,B191="CUMPLE"),1,0))>0,1,0),IF(SUM(IF(AND(L30=TRUE,B46="CUMPLE"),1,0),IF(AND(L59=TRUE,B75="CUMPLE"),1,0),IF(AND(L88=TRUE,B104="CUMPLE"),1,0),IF(AND(L117=TRUE,B133="CUMPLE"),1,0),IF(AND(L146=TRUE,B162="CUMPLE"),1,0),IF(AND(L175=TRUE,B191="CUMPLE"),1,0))>0,1,0),IF(SUM(IF(AND(L31=TRUE,B46="CUMPLE"),1,0),IF(AND(L60=TRUE,B75="CUMPLE"),1,0),IF(AND(L89=TRUE,B104="CUMPLE"),1,0),IF(AND(L118=TRUE,B133="CUMPLE"),1,0),IF(AND(L147=TRUE,B162="CUMPLE"),1,0),IF(AND(L176=TRUE,B191="CUMPLE"),1,0))>0,1,0)) -> 1 | M15: 2 | N15: =IF(K15>=M15,"CUMPLE","NO CUMPLE") -> NO CUMPLE
A16: No. | B16: CÓDIGO UNSPSC RELACIONADOS | C16: CONSECUTIVO EN RUP: | D16: ENTIDAD CONTRATANTE O EMPLEADORA | E16: NOMBRE DE LA FIRMA QUE LLEVÓ A CABO LA EJECUCIÓN DEL CONTRATO | F16: OBJETO CONTRACTUAL O FUNCIONES DESEMPEÑADAS | H16: EQUIVALENTE EN SMMLV | I16: % DE PARTICIPACIÓN | J16: SMMLV APORTADOS | K16: Documentación aportada
A18: 1 | B18: FALSE | C18: 62 | D18: XOREX DE COLOMBIA | E18: SISTEMA DIGITAL SGDEA S.A.S. | F18: "Implementación del SGDEA módulo PQRSD (…)" | H18: 559.29 | I18: 1 | J18: =(H18*I18) -> 559.29 | K18: Requerimientos de las certificación | L18: TRUE
B19: FALSE | K19: =IF(COUNTIF(L19:L27,"VERDADERO")=8,"CUMPLE","NO CUMPLE") -> CUMPLE | L19: TRUE
B20: TRUE | L20: TRUE
B21: FALSE | L21: TRUE
B22: TRUE | L22: TRUE
L24: TRUE
L25: TRUE
L26: TRUE
L27: TRUE
K28: REQUERIMIENTOS TÉCNICOS
K29: =IF(COUNTIF(L29:N31,"VERDADERO")>0,"CUMPLE","NO CUMPLE") -> CUMPLE | L29: FALSE | N29: FALSE
L30: TRUE | N30: FALSE
L31: =IF(COUNTIF(N29:N31,TRUE)>0,TRUE,FALSE) -> FALSE | N31: FALSE
K32: =IF(COUNTIF(L32,"VERDADERO")>0,"CUMPLE","NO CUMPLE") -> CUMPLE | L32: TRUE
K33: =IF(COUNTIF(L33,"VERDADERO")>0,"CUMPLE","NO CUMPLE") -> CUMPLE | L33: TRUE
B34: =IF(COUNTIF(B18:B31,"VERDADERO")>0,"CUMPLE","NO CUMPLE") -> CUMPLE | K34: =IF(COUNTIF(L34,"VERDADERO")>0,"CUMPLE","NO CUMPLE") -> CUMPLE | L34: TRUE
B35: DOCUMENTACIÓN APORTADA (…) El proponente deberá presentar las certificaciones de los contratos que están reportados como experiencia en el RUP o copia de los mismos con las correspondientes actas de terminación o liquidación, en los cuales, se verificara que su objeto y alcance, tenga relación directa con el objeto y alcance del presente proceso (...)."
B36: RUP CONTROL ONLINE INTERNATIONAL SAS AGO 27 2024.pdf. Pag. (06) | K36: =IF(AND(IF(COUNTIF(L36,"VERDADERO")>0,"CUMPLE","NO CUMPLE")="CUMPLE",IF(COUNTIF(L37,"VERDADERO")>0,"CUMPLE","NO CUMPLE")="CUMPLE",IF(OR(COUNTIF(L38:N38,"VERDADERO")=0,COUNTIF(L38:N38,"VERDADERO")=2),"CUMPLE","NO CUMPLE")="CUMPLE",IF(OR(COUNTIF(L39:N39,"VERDADERO")=0,COUNTIF(L39:N39,"VERDADERO")=2),"CUMPLE","NO CUMPLE")="CUMPLE"),"CUMPLE","NO CUMPLE") -> CUMPLE | L36: TRUE
B37: 03 CERTIFICACION DE EXPERIENCIA.pdf | L37: TRUE
L38: FALSE | N38: FALSE
L39: FALSE | N39: FALSE
B40: ANEXO 10 EXPERIENCIA HABILITANTE DEL PROPONENTE.xlsx | L40: TRUE
B41: ANEXO 4_DOCUMENTO DE CONFORMACION UNION TEMPORAL_Firmado.pdf | L41: TRUE
B42: CONSIDERACIONES
B43: El proponente CONTROL ONLINE INTERNATIONAL SAS, registra en su certificación de experiencia con XOREX DE COLOMBIA su anterior razón social SISTEMA DIGITAL SGDEA S.A.S., acorde como se certifica en el RUP en consecutivo de contrato No. 062. Pag (06)
...

Sheet 4.1.3. CAPACIDAD TÉCNICA P3
A1: EVALUACIÓN TÉCNICA
A2: CONCURSO DE MÉRITOS ABIERTO CMA-005-2024
A3: VERIFICACION REQUISITOS HABILITANTES TÉCNICOS
A4: 4.1.3. CAPACIDAD TÉCNICA
A6: PROPONENTE | C6: UT CONSULTING INZU | M6: RESPONSABLE DE IVA | N6: REQUERIMIENTO NO RESPONSABLES DE IVA
A7: TRUE | E7: TRUE | G7: TRUE | H7: FALSE | K7: FALSE | M7: 907 | N7: 762
A8: CONDICIONES | K8: EXPERIENCIA ACREDITADA | M8: Mínimo requerido | N8: CONCEPTO
A9: b | B9: Acreditar contratos ejecutados por 907 SMMLV (Responsable IVA) o 762 SMMLV (No responsable de IVA). Para proponentes plurales, de acuerdo a su participación | G9: ZUCOM S.A.S | K9: =SUM(IF(B46="CUMPLE",J18,0),IF(B75="CUMPLE",J47,0),IF(B104="CUMPLE",J76,0),IF(B133="CUMPLE",J105,0),IF(B162="CUMPLE",J134,0),IF(B191="CUMPLE",J163,0)) -> 0 | M9: =IF(E7=TRUE,M7,N7) -> 907 | N9: =IF(K9>=M9,"CUMPLE","NO CUMPLE") -> NO CUMPLE
G10: INFOMEGA S.A.S | K10: 0
B11: Hasta 5 contratos (6 Pymes y emprendimientos de mujeres),contratos suscritos con entidades públicas o privadas, ejecutados en el territorio nacional en los últimos diez (10) años contados a partir de la fecha de cierre del proceso, los cuales deben encontrarse debidamente reportados en el RUP, actualizado, vigente y en firme.. | K11: =SUM(IF(B46="CUMPLE",1,0),IF(B75="CUMPLE",1,0),IF(B104="CUMPLE",1,0),IF(B133="CUMPLE",1,0),IF(B162="CUMPLE",1,0),IF(B191="CUMPLE",1,0)) -> 0 | M11: 1 | N11: =IF(K11>=M11,"CUMPLE","NO CUMPLE") -> NO CUMPLE
A12: d | B12: El objeto, obligaciones o funciones o entregables de cada uno de los contratos deberán indicar explícitamente al menos uno de los siguientes temas: TEMA 1: Planificación o diseño o modelación o automatización o implementación de procesos, flujos de información o flujos de datos. TEMA 2: Análisis o diseño o implementación o parametrización de Sistemas de Gestión de Documentos Electrónicos de Archivo – SGDEA. TEMA 3: Formulación o implementación de por lo menos uno de los siguientes instrumentos documentales - Modelo de requisitos para gestión de documentos electrónicos o, - Tablas de control de acceso – TCA o, - Esquemas de metadatos. | K12: =SUM(IF(AND(K29="CUMPLE",B46="CUMPLE"),1,0),IF(AND(K58="CUMPLE",B75="CUMPLE"),1,0),IF(AND(K87="CUMPLE",B104="CUMPLE"),1,0),IF(AND(K116="CUMPLE",B133="CUMPLE"),1,0),IF(AND(K145="CUMPLE",B162="CUMPLE"),1,0),IF(AND(K174="CUMPLE",B191="CUMPLE"),1,0)) -> 0 | M12: 1 | N12: =IF(K12>=M12,"CUMPLE","NO CUMPLE") -> NO CUMPLE
N13: =IF(K13>=M13,"CUMPLE","NO CUMPLE") -> CUMPLE | Q13: =24+26 -> 50
A14: e | B14: Como mínimo uno de los contratos debe acreditar experiencia en TEMA 2 de los previamente indicados | K14: =SUM(IF(AND(L30=TRUE,B46="CUMPLE"),1,0),IF(AND(L59=TRUE,B75="CUMPLE"),1,0),IF(AND(L88=TRUE,B104="CUMPLE"),1,0),IF(AND(L117=TRUE,B133="CUMPLE"),1,0),IF(AND(L146=TRUE,B162="CUMPLE"),1,0),IF(AND(L175=TRUE,B191="CUMPLE"),1,0)) -> 0 | M14: 1 | N14: =IF(K14>=M14,"CUMPLE","NO CUMPLE") -> NO CUMPLE
A15: f | B15: En suma, los contratos soportes de la experiencia específica habilitante del proponente deben incluir al menos dos (2) de los temas referidos en el literal d. | K15: =SUM(IF(SUM(IF(AND(L29=TRUE,B46="CUMPLE"),1,0),IF(AND(L58=TRUE,B75="CUMPLE"),1,0),IF(AND(L87=TRUE,B104="CUMPLE"),1,0),IF(AND(L116=TRUE,B133="CUMPLE"),1,0),IF(AND(L145=TRUE,B162="CUMPLE"),1,0),IF(AND(L174=TRUE,B191="CUMPLE"),1,0))>0,1,0),IF(SUM(IF(AND(L30=TRUE,B46="CUMPLE"),1,0),IF(AND(L59=TRUE,B75="CUMPLE"),1,0),IF(AND(L88=TRUE,B104="CUMPLE"),1,0),IF(AND(L117=TRUE,B133="CUMPLE"),1,0),IF(AND(L146=TRUE,B162="CUMPLE"),1,0),IF(AND(L175=TRUE,B191="CUMPLE"),1,0))>0,1,0),IF(SUM(IF(AND(L31=TRUE,B46="CUMPLE"),1,0),IF(AND(L60=TRUE,B75="CUMPLE"),1,0),IF(AND(L89=TRUE,B104="CUMPLE"),1,0),IF(AND(L118=TRUE,B133="CUMPLE"),1,0),IF(AND(L147=TRUE,B162="CUMPLE"),1,0),IF(AND(L176=TRUE,B191="CUMPLE"),1,0))>0,1,0)) -> 0 | M15: 2 | N15: =IF(K15>=M15,"CUMPLE","NO CUMPLE") -> NO CUMPLE
A16: No. | B16: CÓDIGO UNSPSC RELACIONADOS | C16: CONSECUTIVO EN RUP: | D16: ENTIDAD CONTRATANTE O EMPLEADORA | E16: NOMBRE DE LA FIRMA QUE LLEVÓ A CABO LA EJECUCIÓN DEL CONTRATO | F16: OBJETO CONTRACTUAL O FUNCIONES DESEMPEÑADAS | H16: EQUIVALENTE EN SMMLV | I16: % DE PARTICIPACIÓN | J16: SMMLV APORTADOS | K16: Documentación aportada
A18: 1 | B18: TRUE | C18: 74 | D18: INDUSTRIAS HACEB S A | E18: ZUCOM S.A.S | F18: (…) parametrización e implementación del sistema de gestión de los documentos electrónicos de archivo(…) | H18: 1620.96 | I18: 1 | J18: =(H18*I18) -> 1620.96 | K18: Requerimientos de las certificación | L18: TRUE
B19: TRUE | K19: =IF(COUNTIF(L19:N27,"VERDADERO")=8,"CUMPLE","NO CUMPLE") -> NO CUMPLE | L19: TRUE
B20: TRUE | L20: TRUE
B21: TRUE | L21: FALSE
B22: TRUE | L22: TRUE
L24: TRUE
L25: TRUE
L26: TRUE
L27: TRUE
K28: NOAPLICA | L28: FALSE
K29: =IF(COUNTIF(L29:N31,"VERDADERO")>0,"CUMPLE","NO CUMPLE") -> CUMPLE | L29: FALSE | N29: FALSE
L30: TRUE | N30: FALSE
L31: =IF(COUNTIF(N29:N31,TRUE)>0,TRUE,FALSE) -> FALSE | N31: FALSE
K32: =IF(COUNTIF(L32,"VERDADERO")>0,"CUMPLE","NO CUMPLE") -> CUMPLE | L32: TRUE
K33: =IF(COUNTIF(L33,"VERDADERO")>0,"CUMPLE","NO CUMPLE") -> CUMPLE | L33: TRUE
B34: =IF(COUNTIF(B18:B31,"VERDADERO")>0,"CUMPLE","NO CUMPLE") -> CUMPLE | K34: =IF(COUNTIF(L34,"VERDADERO")>0,"CUMPLE","NO CUMPLE") -> CUMPLE | L34: TRUE
B35: DOCUMENTACIÓN APORTADA (…) El proponente deberá presentar las certificaciones de los contratos que están reportados como experiencia en el RUP o copia de los mismos con las correspondientes actas de terminación o liquidación, en los cuales, se verificara que su objeto y alcance, tenga relación directa con el objeto y alcance del presente proceso (...)."
B36: Rup_Zucom_21082024.pdf (pag.42-43) | K36: =IF(AND(IF(COUNTIF(L36,"VERDADERO")>0,"CUMPLE","NO CUMPLE")="CUMPLE",IF(COUNTIF(L37,"VERDADERO")>0,"CUMPLE","NO CUMPLE")="CUMPLE",IF(OR(COUNTIF(L38:N38,"VERDADERO")=0,COUNTIF(L38:N38,"VERDADERO")=2),"CUMPLE","NO CUMPLE")="CUMPLE",IF(OR(COUNTIF(L39:N39,"VERDADERO")=0,COUNTIF(L39:N39,"VERDADERO")=2),"CUMPLE","NO CUMPLE")="CUMPLE"),"CUMPLE","NO CUMPLE") -> CUMPLE | L36: TRUE
B37: CERTIFICADO_HACEB.pdf | L37: TRUE
L38: FALSE | N38: FALSE
L39: FALSE | N39: FALSE
B40: ANEXO 10 EXPERIENCIA HABILITANTE DEL PROPONENTE.xlsx | L40: TRUE
B41: UT Formalizado.pdf | L41: TRUE
B42: CONSIDERACIONES
B44: OBSERVACIONES
...

Sheet 4.1.3. CAPACIDAD TÉCNICA P4
A1: EVALUACIÓN TÉCNICA
A2: CONCURSO DE MÉRITOS ABIERTO CMA-005-2024
A3: VERIFICACION REQUISITOS HABILITANTES TÉCNICOS
A4: 4.1.3. CAPACIDAD TÉCNICA
A6: PROPONENTE | C6: PRODYGYTEK PROCESS DOCUMENT AND DATA SOLUTIONS SAS | M6: RESPONSABLE DE IVA | N6: REQUERIMIENTO NO RESPONSABLES DE IVA
A7: TRUE | E7: TRUE | G7: FALSE | H7: FALSE | K7: FALSE | M7: 907 | N7: 762
A8: CONDICIONES | K8: EXPERIENCIA ACREDITADA | M8: Mínimo requerido | N8: CONCEPTO
A9: b | B9: Acreditar contratos ejecutados por 907 SMMLV (Responsable IVA) o 762 SMMLV (No responsable de IVA). Para proponentes plurales, de acuerdo a su participación | K9: =SUM(IF(B46="CUMPLE",J18,0),IF(B75="CUMPLE",J47,0),IF(B104="CUMPLE",J76,0),IF(B133="CUMPLE",J105,0),IF(B162="CUMPLE",J134,0),IF(B191="CUMPLE",J163,0)) -> 1195.18 | M9: =IF(E7=TRUE,M7,N7) -> 907 | N9: =IF(K9>=M9,"CUMPLE","NO CUMPLE") -> CUMPLE
B11: Hasta 5 contratos (6 Pymes y emprendimientos de mujeres),contratos suscritos con entidades públicas o privadas, ejecutados en el territorio nacional en los últimos diez (10) años contados a partir de la fecha de cierre del proceso, los cuales deben encontrarse debidamente reportados en el RUP, actualizado, vigente y en firme.. | K11: =SUM(IF(B46="CUMPLE",1,0),IF(B75="CUMPLE",1,0),IF(B104="CUMPLE",1,0),IF(B133="CUMPLE",1,0),IF(B162="CUMPLE",1,0),IF(B191="CUMPLE",1,0)) -> 3 | M11: 1 | N11: =IF(K11>=M11,"CUMPLE","NO CUMPLE") -> CUMPLE
A12: d | B12: El objeto, obligaciones o funciones o entregables de cada uno de los contratos deberán indicar explícitamente al menos uno de los siguientes temas: TEMA 1: Planificación o diseño o modelación o automatización o implementación de procesos, flujos de información o flujos de datos. TEMA 2: Análisis o diseño o implementación o parametrización de Sistemas de Gestión de Documentos Electrónicos de Archivo – SGDEA. TEMA 3: Formulación o implementación de por lo menos uno de los siguientes instrumentos documentales - Modelo de requisitos para gestión de documentos electrónicos o, - Tablas de control de acceso – TCA o, - Esquemas de metadatos. | K12: =SUM(IF(AND(K29="CUMPLE",B46="CUMPLE"),1,0),IF(AND(K58="CUMPLE",B75="CUMPLE"),1,0),IF(AND(K87="CUMPLE",B104="CUMPLE"),1,0),IF(AND(K116="CUMPLE",B133="CUMPLE"),1,0),IF(AND(K145="CUMPLE",B162="CUMPLE"),1,0),IF(AND(K174="CUMPLE",B191="CUMPLE"),1,0)) -> 3 | M12: 1 | N12: =IF(K12>=M12,"CUMPLE","NO CUMPLE") -> CUMPLE
N13: =IF(K13>=M13,"CUMPLE","NO CUMPLE") -> CUMPLE | Q13: =24+26 -> 50
A14: e | B14: Como mínimo uno de los contratos debe acreditar experiencia en TEMA 2 de los previamente indicados | K14: =SUM(IF(AND(L30=TRUE,B46="CUMPLE"),1,0),IF(AND(L59=TRUE,B75="CUMPLE"),1,0),IF(AND(L88=TRUE,B104="CUMPLE"),1,0),IF(AND(L117=TRUE,B133="CUMPLE"),1,0),IF(AND(L146=TRUE,B162="CUMPLE"),1,0),IF(AND(L175=TRUE,B191="CUMPLE"),1,0)) -> 1 | M14: 1 | N14: =IF(K14>=M14,"CUMPLE","NO CUMPLE") -> CUMPLE | P14: 0
A15: f | B15: En suma, los contratos soportes de la experiencia específica habilitante del proponente deben incluir al menos dos (2) de los temas referidos en el literal d. | K15: =SUM(IF(SUM(IF(AND(L29=TRUE,B46="CUMPLE"),1,0),IF(AND(L58=TRUE,B75="CUMPLE"),1,0),IF(AND(L87=TRUE,B104="CUMPLE"),1,0),IF(AND(L116=TRUE,B133="CUMPLE"),1,0),IF(AND(L145=TRUE,B162="CUMPLE"),1,0),IF(AND(L174=TRUE,B191="CUMPLE"),1,0))>0,1,0),IF(SUM(IF(AND(L30=TRUE,B46="CUMPLE"),1,0),IF(AND(L59=TRUE,B75="CUMPLE"),1,0),IF(AND(L88=TRUE,B104="CUMPLE"),1,0),IF(AND(L117=TRUE,B133="CUMPLE"),1,0),IF(AND(L146=TRUE,B162="CUMPLE"),1,0),IF(AND(L175=TRUE,B191="CUMPLE"),1,0))>0,1,0),IF(SUM(IF(AND(L31=TRUE,B46="CUMPLE"),1,0),IF(AND(L60=TRUE,B75="CUMPLE"),1,0),IF(AND(L89=TRUE,B104="CUMPLE"),1,0),IF(AND(L118=TRUE,B133="CUMPLE"),1,0),IF(AND(L147=TRUE,B162="CUMPLE"),1,0),IF(AND(L176=TRUE,B191="CUMPLE"),1,0))>0,1,0)) -> 3 | M15: 2 | N15: =IF(K15>=M15,"CUMPLE","NO CUMPLE") -> CUMPLE | P15: 1
A16: No. | B16: CÓDIGO UNSPSC RELACIONADOS | C16: CONSECUTIVO EN RUP: | D16: ENTIDAD CONTRATANTE O EMPLEADORA | E16: NOMBRE DE LA FIRMA QUE LLEVÓ A CABO LA EJECUCIÓN DEL CONTRATO | F16: OBJETO CONTRACTUAL O FUNCIONES DESEMPEÑADAS | H16: EQUIVALENTE EN SMMLV | I16: % DE PARTICIPACIÓN | J16: SMMLV APORTADOS | K16: Documentación aportada
A18: 1 | B18: TRUE | C18: 30 | D18: EJERCITO NACIONAL S.A.S | E18: PRODYGYTEK PROCESS DOCUMENT AND DATA SOLUTIONS S.A.S | F18: "(…)Instalación, configuración y parametrización del sistema de Gestión de Historias Médico Laborales del Ejército (Sistema de Gestión Documental Webdokument)(…)" Información aportada en subsanación: *Instalación, configuración, implementación y parametrización del sistema de Gestión Documental Webdokument (Sistema de gestión documental que maneja las Historias Médico Laborales del Ejército). *Parametrización en el Sistema de Gestión Documental de Flujos de Radicación de correspondencia, Fichas medicas de ingreso, Fichas médicas de Viajes al Exterior, Fichas médicas de Ascensos, Fichas médicas de Retiros, Fichas médicas de Reintegros, Fichas médicas en General, Flujo de Juntas Médicas, Flujo de Tribunales Médicos, Flujo de Certificados de Invalidez, Flujo de Peticiones, Quejas y Solicitudes de los usuarios (PQRS), Flujo de Junta Médica Provisional, Flujo de Conceptos Médicos, Flujo de Solicitudes de Servicios y Flujo de Tratamiento Ambulatorio (...) | H18: 397.3 | I18: 1 | J18: =(H18*I18) -> 397.3 | K18: Requerimientos de las certificación | L18: TRUE
B19: TRUE | K19: =IF(COUNTIF(L19:N27,"VERDADERO")=8,"CUMPLE","NO CUMPLE") -> CUMPLE | L19: TRUE
B20: TRUE | L20: TRUE
B21: TRUE | L21: TRUE
B22: TRUE | L22: TRUE
L24: TRUE
L25: TRUE
L26: TRUE
L27: TRUE
K28: NO APLICA | L28: FALSE
K29: =IF(COUNTIF(L29:N31,"VERDADERO")>0,"CUMPLE","NO CUMPLE") -> CUMPLE | L29: TRUE | N29: FALSE
L30: FALSE | N30: FALSE
L31: =IF(COUNTIF(N29:N31,TRUE)>0,TRUE,FALSE) -> FALSE | N31: FALSE
K32: =IF(COUNTIF(L32,"VERDADERO")>0,"CUMPLE","NO CUMPLE") -> CUMPLE | L32: TRUE
K33: =IF(COUNTIF(L33,"VERDADERO")>0,"CUMPLE","NO CUMPLE") -> CUMPLE | L33: TRUE
B34: =IF(COUNTIF(B18:B31,"VERDADERO")>0,"CUMPLE","NO CUMPLE") -> CUMPLE | K34: =IF(COUNTIF(L34,"VERDADERO")>0,"CUMPLE","NO CUMPLE") -> CUMPLE | L34: TRUE
B35: DOCUMENTACIÓN APORTADA (…) El proponente deberá presentar las certificaciones de los contratos que están reportados como experiencia en el RUP o copia de los mismos con las correspondientes actas de terminación o liquidación, en los cuales, se verificara que su objeto y alcance, tenga relación directa con el objeto y alcance del presente proceso (...)."
B36: 4. RUP Prodygytek Agosto 15-2024.pdf (pag. 27-28) | K36: =IF(AND(IF(COUNTIF(L36,"VERDADERO")>0,"CUMPLE","NO CUMPLE")="CUMPLE",IF(COUNTIF(L37,"VERDADERO")>0,"CUMPLE","NO CUMPLE")="CUMPLE",IF(OR(COUNTIF(L38:N38,"VERDADERO")=0,COUNTIF(L38:N38,"VERDADERO")=2),"CUMPLE","NO CUMPLE")="CUMPLE",IF(OR(COUNTIF(L39:N39,"VERDADERO")=0,COUNTIF(L39:N39,"VERDADERO")=2),"CUMPLE","NO CUMPLE")="CUMPLE"),"CUMPLE","NO CUMPLE") -> CUMPLE | L36: TRUE
B37: ANEXO 10 EXPERIENCIA HABILITANTE PRODYGYTEK Soportes_3.pdf (pag. 2) | L37: TRUE
L38: FALSE | N38: FALSE
L39: FALSE | N39: FALSE
B40: ANEXO 10 EXPERIENCIA HABILITANTE PRODYGYTEK Soportes_3.pdf (pag. 1) | L40: TRUE
B41: Certificacion Contrato 1056 -CENAC-USAQUEN-2015 (aportado en subsanación) | L41: TRUE
B42: CONSIDERACIONES
B44: OBSERVACIONES
B45: Observación en informe preliminar: La certificación no cumple con ninguna de las temáticas requeridas en el Pliego de Condiciones e igualmente no se identifica información aportada de forma complementaria que permita validar el cumplimiento de dichas temáticas, tales como el contrato y los demás documentos aceptados de conformidad con el pliego de condiciones. Por lo anterior se requiere al contratista con el fin de que allegue subsanación correspondiente. Observaciones oferente en subsanación:(...) Se adjunta Certificación de la Dirección de Sanidad del Ejército, donde se amplían las actividades ejecutadas en el contrato 1056-CENAC-USAQUEN-2015, donde se puede evidenciar que el proyecto involucró actividades de implementación de procesos, flujos de datos o información y un SGDEA. Tema 1 y Tema 2, de los requerimientos solicitados por la Entidad.(...) Observaciones informe definitivo: El oferente, aporta documento adicional que permite evidenciar la experiencia del proponente en el tema 1, de conformidad con los requerimientos del pliego de condiciones. Sin embargo, el documento aportado no permite inferir que el "sistema de Gestión Documental Webdokument" es un Sistema de Gestión de Documentos Electronicos de Archivo - SGDEA, de conformidad con los requerimientos del pliego de condiciones para el TEMA 2.
...

Sheet 4.1.3. CAPACIDAD TÉCNICA P5
A1: EVALUACIÓN TÉCNICA
A2: CONCURSO DE MÉRITOS ABIERTO CMA-005-2024
A3: VERIFICACION REQUISITOS HABILITANTES TÉCNICOS
A4: 4.1.3. CAPACIDAD TÉCNICA
A6: PROPONENTE | C6: SOFT Y DI LTDA | M6: RESPONSABLE DE IVA | N6: REQUERIMIENTO NO RESPONSABLES DE IVA
A7: TRUE | E7: TRUE | G7: FALSE | K7: FALSE | M7: 907 | N7: 762
A8: CONDICIONES | K8: EXPERIENCIA ACREDITADA | M8: Mínimo requerido | N8: CONCEPTO
A9: b | B9: Acreditar contratos ejecutados por 907 SMMLV (Responsable IVA) o 762 SMMLV (No responsable de IVA). Para proponentes plurales, de acuerdo a su participación | K9: =SUM(IF(B46="CUMPLE",J18,0),IF(B75="CUMPLE",J47,0),IF(B104="CUMPLE",J76,0),IF(B133="CUMPLE",J105,0),IF(B162="CUMPLE",J134,0),IF(B191="CUMPLE",J163,0)) -> 1406.196 | M9: =IF(E7=TRUE,M7,N7) -> 907 | N9: =IF(K9>=M9,"CUMPLE","NO CUMPLE") -> CUMPLE
B11: Hasta 5 contratos (6 Pymes y emprendimientos de mujeres),contratos suscritos con entidades públicas o privadas, ejecutados en el territorio nacional en los últimos diez (10) años contados a partir de la fecha de cierre del proceso, los cuales deben encontrarse debidamente reportados en el RUP, actualizado, vigente y en firme.. | K11: =SUM(IF(B46="CUMPLE",1,0),IF(B75="CUMPLE",1,0),IF(B104="CUMPLE",1,0),IF(B133="CUMPLE",1,0),IF(B162="CUMPLE",1,0),IF(B191="CUMPLE",1,0)) -> 4 | M11: 1 | N11: =IF(K11>=M11,"CUMPLE","NO CUMPLE") -> CUMPLE
A12: d | B12: El objeto, obligaciones o funciones o entregables de cada uno de los contratos deberán indicar explícitamente al menos uno de los siguientes temas: TEMA 1: Planificación o diseño o modelación o automatización o implementación de procesos, flujos de información o flujos de datos. TEMA 2: Análisis o diseño o implementación o parametrización de Sistemas de Gestión de Documentos Electrónicos de Archivo – SGDEA. TEMA 3: Formulación o implementación de por lo menos uno de los siguientes instrumentos documentales - Modelo de requisitos para gestión de documentos electrónicos o, - Tablas de control de acceso – TCA o, - Esquemas de metadatos. | K12: =SUM(IF(AND(K29="CUMPLE",B46="CUMPLE"),1,0),IF(AND(K58="CUMPLE",B75="CUMPLE"),1,0),IF(AND(K87="CUMPLE",B104="CUMPLE"),1,0),IF(AND(K116="CUMPLE",B133="CUMPLE"),1,0),IF(AND(K145="CUMPLE",B162="CUMPLE"),1,0),IF(AND(K174="CUMPLE",B191="CUMPLE"),1,0)) -> 4 | M12: 1 | N12: =IF(K12>=M12,"CUMPLE","NO CUMPLE") -> CUMPLE
N13: =IF(K13>=M13,"CUMPLE","NO CUMPLE") -> CUMPLE | Q13: =24+26 -> 50
A14: e | B14: Como mínimo uno de los contratos debe acreditar experiencia en TEMA 2 de los previamente indicados | K14: =SUM(IF(AND(L30=TRUE,B46="CUMPLE"),1,0),IF(AND(L59=TRUE,B75="CUMPLE"),1,0),IF(AND(L88=TRUE,B104="CUMPLE"),1,0),IF(AND(L117=TRUE,B133="CUMPLE"),1,0),IF(AND(L146=TRUE,B162="CUMPLE"),1,0),IF(AND(L175=TRUE,B191="CUMPLE"),1,0)) -> 1 | M14: 1 | N14: =IF(K14>=M14,"CUMPLE","NO CUMPLE") -> CUMPLE
A15: f | B15: En suma, los contratos soportes de la experiencia específica habilitante del proponente deben incluir al menos dos (2) de los temas referidos en el literal d. | K15: =SUM(IF(SUM(IF(L29=TRUE,1,0),IF(L58=TRUE,1,0),IF(L87=TRUE,1,0),IF(L116=TRUE,1,0),IF(L145=TRUE,1,0),IF(L174=TRUE,1,0))>0,1,0),IF(SUM(IF(L30=TRUE,1,0),IF(L59=TRUE,1,0),IF(L88=TRUE,1,0),IF(L117=TRUE,1,0),IF(L146=TRUE,1,0),IF(L175=TRUE,1,0))>0,1,0),IF(SUM(IF(L31=TRUE,1,0),IF(L60=TRUE,1,0),IF(L89=TRUE,1,0),IF(L118=TRUE,1,0),IF(L147=TRUE,1,0),IF(L176=TRUE,1,0))>0,1,0)) -> 3 | M15: 2 | N15: =IF(K15>=M15,"CUMPLE","NO CUMPLE") -> CUMPLE
A16: No. | B16: CÓDIGO UNSPSC RELACIONADOS | C16: CONSECUTIVO EN RUP: | D16: ENTIDAD CONTRATANTE O EMPLEADORA | E16: NOMBRE DE LA FIRMA QUE LLEVÓ A CABO LA EJECUCIÓN DEL CONTRATO | F16: OBJETO CONTRACTUAL O FUNCIONES DESEMPEÑADAS | H16: EQUIVALENTE EN SMMLV | I16: % DE PARTICIPACIÓN | J16: SMMLV APORTADOS | K16: Documentación aportada
A18: 1 | B18: TRUE | C18: 20 | D18: Ministerio de Minas y Energía | E18: SOFT Y DI LTDA | F18: Contratar el diseño y formulación de estándares, lineamientos y especificaciones técnicas fundamentados en la Norma Técnica Colombiana NTCISO 15489, para los flujos documentales y gestión de registros electrónicos para la implementación del Modelo Gestión de Documentos Electrónicos de Archivo (SGDEA) en el Ministerio de Minas y Energía | H18: 377.49 | I18: 1 | J18: =(H18*I18) -> 377.49 | K18: Requerimientos de las certificación | L18: TRUE
B19: TRUE | K19: CUMPLE | L19: TRUE
B20: TRUE | L20: TRUE
B21: TRUE | L21: TRUE
B22: TRUE | L22: TRUE
L24: TRUE
L25: TRUE
L26: TRUE
L27: TRUE
K28: NO APLICA | L28: FALSE
K29: =IF(COUNTIF(L29:N31,"VERDADERO")>0,"CUMPLE","NO CUMPLE") -> CUMPLE | L29: TRUE | N29: FALSE
L30: TRUE | N30: FALSE
L31: =IF(COUNTIF(N29:N31,TRUE)>0,TRUE,FALSE) -> FALSE | N31: FALSE
K32: =IF(COUNTIF(L32,"VERDADERO")>0,"CUMPLE","NO CUMPLE") -> CUMPLE | L32: TRUE
K33: =IF(COUNTIF(L33,"VERDADERO")>0,"CUMPLE","NO CUMPLE") -> CUMPLE | L33: TRUE
B34: =IF(COUNTIF(B18:B31,"VERDADERO")>0,"CUMPLE","NO CUMPLE") -> CUMPLE | K34: =IF(COUNTIF(L34,"VERDADERO")>0,"CUMPLE","NO CUMPLE") -> CUMPLE | L34: TRUE
B35: DOCUMENTACIÓN APORTADA (…) El proponente deberá presentar las certificaciones de los contratos que están reportados como experiencia en el RUP o copia de los mismos con las correspondientes actas de terminación o liquidación, en los cuales, se verificara que su objeto y alcance, tenga relación directa con el objeto y alcance del presente proceso (...)."
B36: RUP_SoftyDI X. pdf (pag.17) | K36: =IF(AND(IF(COUNTIF(L36,"VERDADERO")>0,"CUMPLE","NO CUMPLE")="CUMPLE",IF(COUNTIF(L37,"VERDADERO")>0,"CUMPLE","NO CUMPLE")="CUMPLE",IF(OR(COUNTIF(L38:N38,"VERDADERO")=0,COUNTIF(L38:N38,"VERDADERO")=2),"CUMPLE","NO CUMPLE")="CUMPLE",IF(OR(COUNTIF(L39:N39,"VERDADERO")=0,COUNTIF(L39:N39,"VERDADERO")=2),"CUMPLE","NO CUMPLE")="CUMPLE"),"CUMPLE","NO CUMPLE") -> CUMPLE | L36: TRUE
B37: EXPERIENCIA HABILITANTE DEL PROPONENTE_1.pdf (pag.1-7) | L37: TRUE
L38: FALSE | N38: FALSE
L39: FALSE | N39: FALSE
B40: ANEXO 10 EXPERIENCIA HABILITANTE DEL PROPONENTE.xlsx | L40: TRUE
L41: FALSE
B42: CONSIDERACIONES
B44: OBSERVACIONES (No esta), Referir subsanación?
B46: =IF(AND(B34="CUMPLE",K29="CUMPLE",K19="CUMPLE",K32="CUMPLE",K33="CUMPLE",K34="CUMPLE",K36="CUMPLE"),"CUMPLE","NO CUMPLE") -> CUMPLE
...

Sheet 4.1.4 EQUIPO MÍNIMO P1
B1: AGENCIA NACIONAL DE MINERÍA
B2: CONCURSO DE MÉRITOS ABIERTO CMA-005-2024
B3: VERIFICACION REQUISITOS HABILITANTES TÉCNICOS
B4: 4.1.4. FORMACIÓN ACADÉMICA Y EXPERIENCIA DEL EQUIPO MÍNIMO DE TRABAJO
B6: PROPONENTE | E6: Unión Temporal SOAIN BUSINESS SUPPORT – SGDEA
A7: PERFIL 1 | B7: PERFIL 1 - REQUISITO
B8: Item | C8: No. | D8: Cargo | F8: Formación académica pregrado | H8: Formación académica posgrado | M8: Experiencia específica mínima
B9: 1 | C9: 1 | D9: Un (1) Gerente de proyecto | F9: Título profesional en carreras cuyo Núcleo Básico de Conocimiento NBC corresponda a alguno de los siguientes: * Ingeniería de Sistemas Telemática y afines * Ingeniería Electrónica, telecomunicaciones y afines * Ingeniería industrial y afines. | H9: Posgrado en la modalidad de especialización o maestría con titulaciones que incluyan dirección, gerencia, organización, gestión o administración de proyectos cuyo Núcleo Base de Conocimiento corresponda a alguno de los siguientes: * Administración * Ingeniería de Sistemas telemática y afines * Ingeniería industrial y afines | M9: * Experiencia profesional mínima de cinco (5) años. * Participación mínima en dos (2) proyectos de: - Planeación estratégica de TI o - Arquitectura empresarial o - Planeación o implementación de Sistemas de información o - Diseño o desarrollo software o - Implementación de Sistemas de Gestión de Documentos Electrónicos de Archivo – SGDEA Ejerciendo en dichos proyectos el rol o cargo de Gerente, Director, Coordinador o líder de proyecto Nota. La experiencia específica puede estar contenida dentro del término de la experiencia general certificada. Nota. La experiencia acreditada con la cantidad de proyectos indicada debe ser como mínimo de (12) doce meses No se contabilizan tiempos traslapados.
B10: EVALUACIÓN DE CUMPLIMIENTO
B11: DOCUMENTOS APORTADOS
B12: Nombre | E12: MONICA YULIETH SUAREZ ROLDAN | I12: Documento de identificación | K12: Cédula de ciudadanía | M12: Número | N12: 1110446336
B13: Requisito | H13: Aportado | I13: Documento soporte aportado | L13: Requisito | O13: Aportado | P13: Documento soporte aportado
B14: Documento acreditación académica pregrado | H14: SI | I14: Diploma Pregrado.pdf | L14: Tarjeta/Matricula profesional | O14: SI | P14: Tarjeta profesional (1).pdf
B15: Documento acreditación académica posgrado | H15: SI | I15: Diploma Maestria.jpeg | L15: Documento de identidad | O15: SI | P15: Cedula de Ciudadania.pdf
B16: Anexo 9 Equipo Mínimo de Trabajo | H16: SI | I16: ANEXO 9 EQUIPO MINIMO DE TRABAJO - HABILITANTE_1.xlsx | L16: Anexo 12 - Carta de compromiso | O16: NO | P16: No aporta
B17: ACREDITACIÓN REQUISITOS ACADEMICOS
B18: Título pregrado | E18: Ingeniero de Sistemas | I18: NBC Pregrado | J18: Ingeniería de Sistemas Telemática y afines | O18: Fecha | P18: 39557 | R18: ** DD/MM/AAAA
B19: Título posgrado | E19: Magíster en Gestión de Proyectos | I19: NBC Postgrado | J19: Administración | O19: Fecha | P19: 42626 | R19: Titulación | U19: Gestión
B20: Tarjeta profesional N° | E20: 70255211598TLM | G20: Fecha expedición | I20: 40773 | K20: CONCEPTO | M20: REQUISITOS ACADÉMICOS ACREDITADOS
B21: ACREDITACIÓN EXPERIENCIA ESPECÍFICA MÍNIMA
C22: Experiencia reportada | M22: Características de la certificación | S22: BALANCE CERTIFICACIÓN | T22: ¿Acredidación con documentos complementarios? | U22: Detalle experiencia | X22: EXPERIENCIA ACREDITADA | Y22: Información complementaria | AC22: Alertas traslapo | AF22: Fechas tomadas para cálculo | AH22: Tiempo acreditado en años
B23: No. | C23: Entidad Contratante o Empleadora | F23: Cargo - Objeto del contrato y/o nombre del proyecto, y/o obligaciones y/o actividades desarrolladas | K23: Fecha inicio | L23: Fecha fin | M23: Nombre de la entidad contratante o empleador | N23: Nombre del contratista o empleado con su identificación. | O23: Persona que expide la certificación, con nombre, y cargo. | P23: Objeto del contrato y/u obligaciones y/o actividades desarrolladas | Q23: Fecha de expedición de la certificación. | R23: Fecha de inicio y terminación del contrato y/o proyecto | U23: Proyecto en el que participa cumple con exp específica | V23: Cumple rol de proyecto (Exp. Específica) | W23: Tipo de experiencia | Y23: Denominación de documento soporte aportado, si esta dentro de un archivo general, incluir el rango de páginas que contiene la información | Z23: Formulación de documento soporte | AA23: Observaciones (en caso de requerir registrar) | AB23: Formula observaciones | AC23: Inicia en ejecución de otro contrato | AD23: Termina en ejecución de otro contrato | AE23: Contiene otra experiencia | AF23: Fecha inicial | AG23: Fecha final
B24: 1 | C24: SOAIN SOFTWARE ASSOCIATES S.A.S | F24: Certificación: "(…) desempeñando el rol de GERENTE DE PROYECTOS | K24: 43165 | L24: 45194 | M24: CUMPLE | N24: NO CUMPLE | O24: CUMPLE | P24: CUMPLE | Q24: CUMPLE | R24: CUMPLE | S24: =IF(C24<>"",IF(COUNTIF(M24:R24,"CUMPLE")=6,"CUMPLE","NO CUMPLE"),"") -> NO CUMPLE | T24: NO | U24: NO CUMPLE | V24: NO CUMPLE | W24: =IF(C24<>"",IF(AND(U24="CUMPLE",V24="CUMPLE"),"ESPECIFICA","GENERAL"),"") -> GENERAL | X24: =IF(C24<>"",IF(OR(AND(S24="CUMPLE",T24="N/A"),T24="SI"),"CUMPLE","NO CUMPLE"),"") -> NO CUMPLE | Y24: 08. Certificación Laboral Mónica Suárez.docx (1).pdf | Z24: =IF(Y24<>"","-"&Y24&CHAR(10),"") -> -08. Certificación Laboral Mónica Suárez.docx (1).pdf | AA24: La certificación no incluye el dato de identificación del perfil. Así mismo, la experiencia es certificada por uno de los miembros del proponente plural por cuanto debe estar acompañada con la documentación que acredite tal experiencia según los términos indicados en el Pliego de Condiciones. No fue aportada documentación complementaria. Con el objeto de contabilizar los términos de experiencia profesional, se asocia este apartado de la experiencia en registro independiente. | AB24: =IF(AA24<>"","Experiencia No. "&B24&": "&AA24&CHAR(10),"") -> Experiencia No. 1: La certificación no incluye el dato de identificación del perfil. Así mismo, la experiencia es certificada por uno de los miembros del proponente plural por cuanto debe estar acompañada con la documentación que acredite tal experiencia según los términos indicados en el Pliego de Condiciones. No fue aportada documentación complementaria. Con el objeto de contabilizar los términos de experiencia profesional, se asocia este apartado de la experiencia en registro independiente. | AC24: =IF(C24<>"",COUNTIFS(K$24:K$43,"<="&K24,L$24:L$43,">"&K24)-1,0) -> 0 | AD24: =IF(C24<>"",COUNTIFS(K$24:K$43,"<="&L24,L$24:L$43,">="&L24)-1,0) -> 0 | AE24: =IF(C24<>"",COUNTIFS(K$24:K$43,"><"&"",K$24:K$43,"<="&K24,L$24:L$43,">="&L24),0) -> 0 | AF24: 43165 | AG24: 45194 | AH24: =ROUND(IF(X24="CUMPLE",DAYS360(AF24,AG24,)/365,0),1) -> 0
C25: SOAIN SOFTWARE ASSOCIATES S.A.S | F25: Certificación: "(…) desempeñando el rol de GERENTE DE PROYECTOS (…) Cliente: Instituto Nacional de Vigilancia de Medicamentos y Alimentos - Invima Objeto: Desarrollar una solución tecnológica consistente en la implementación de la nueva plataforma de trámites y servicios para ejecutar en línea, las actividades misionales de los procesos: "registros sanitarios y trámites asociados" y "auditorías y certificaciones" del instituto nacional de vigilancia de medicamentos y alimentos – INVIMA (...)" | M25: CUMPLE | N25: NO CUMPLE | O25: CUMPLE | P25: CUMPLE | Q25: CUMPLE | R25: CUMPLE | S25: =IF(C25<>"",IF(COUNTIF(M25:R25,"CUMPLE")=6,"CUMPLE","NO CUMPLE"),"") -> NO CUMPLE | T25: NO | U25: CUMPLE | V25: CUMPLE | W25: =IF(C25<>"",IF(AND(U25="CUMPLE",V25="CUMPLE"),"ESPECIFICA","GENERAL"),"") -> ESPECIFICA | X25: =IF(C25<>"",IF(OR(AND(S25="CUMPLE",T25="N/A"),T25="SI"),"CUMPLE","NO CUMPLE"),"") -> NO CUMPLE | Y25: 08. Certificación Laboral Mónica Suárez.docx (1).pdf | Z25: =IF(Y25<>"","-"&Y25&CHAR(10),"") -> -08. Certificación Laboral Mónica Suárez.docx (1).pdf | AA25: La certificación no incluye el dato de identificación del perfil. Así mismo, la experiencia es certificada por uno de los miembros del proponente plural por cuanto debe estar acompañada con la documentación que acredite tal experiencia según los términos indicados en el Pliego de Condiciones. No fue aportada documentación complementaria. Con el fin de contabilizar los términos de experiencia en relación al proyecto objeto de revisión, se asocia este proyecto en registro independiente. En la documentación aportada no se evidencia datos de inicio y fin de la ejecución del proyecto analizado. | AB25: =IF(AA25<>"","Experiencia No. "&B25&": "&AA25&CHAR(10),"") -> Experiencia No. : La certificación no incluye el dato de identificación del perfil. Así mismo, la experiencia es certificada por uno de los miembros del proponente plural por cuanto debe estar acompañada con la documentación que acredite tal experiencia según los términos indicados en el Pliego de Condiciones. No fue aportada documentación complementaria. Con el fin de contabilizar los términos de experiencia en relación al proyecto objeto de revisión, se asocia este proyecto en registro independiente. En la documentación aportada no se evidencia datos de inicio y fin de la ejecución del proyecto analizado. | AC25: =IF(C25<>"",COUNTIFS(K$24:K$43,"<="&K25,L$24:L$43,">"&K25)-1,0) -> -1 | AD25: =IF(C25<>"",COUNTIFS(K$24:K$43,"<="&L25,L$24:L$43,">="&L25)-1,0) -> -1 | AE25: =IF(C25<>"",COUNTIFS(K$24:K$43,"><"&"",K$24:K$43,"<="&K25,L$24:L$43,">="&L25),0) -> 0 | AH25: =ROUND(IF(X25="CUMPLE",DAYS360(AF25,AG25,)/365,0),1) -> 0
C26: SOAIN SOFTWARE ASSOCIATES S.A.S | F26: Certificación: "(…) desempeñando el rol de GERENTE DE PROYECTOS (...) Cliente: Consejo Superior de la Judicatura - Rama Judicial Objeto: Adquirir el análisis, diseño y la herramienta para implementar la capacidad para la interoperabilidad e integración de servicios para la Rama Judicial.(...)" | M26: CUMPLE | N26: NO CUMPLE | O26: CUMPLE | P26: CUMPLE | Q26: CUMPLE | R26: CUMPLE | S26: =IF(C26<>"",IF(COUNTIF(M26:R26,"CUMPLE")=6,"CUMPLE","NO CUMPLE"),"") -> NO CUMPLE | T26: NO | U26: CUMPLE | V26: CUMPLE | W26: =IF(C26<>"",IF(AND(U26="CUMPLE",V26="CUMPLE"),"ESPECIFICA","GENERAL"),"") -> ESPECIFICA | X26: =IF(C26<>"",IF(OR(AND(S26="CUMPLE",T26="N/A"),T26="SI"),"CUMPLE","NO CUMPLE"),"") -> NO CUMPLE | Y26: 08. Certificación Laboral Mónica Suárez.docx (1).pdf | Z26: =IF(Y26<>"","-"&Y26&CHAR(10),"") -> -08. Certificación Laboral Mónica Suárez.docx (1).pdf | AA26: La certificación no incluye el dato de identificación del perfil. Así mismo, la experiencia es certificada por uno de los miembros del proponente plural por cuanto debe estar acompañada con la documentación que acredite tal experiencia según los términos indicados en el Pliego de Condiciones. No fue aportada documentación complementaria. Con el fin de contabilizar los términos de experiencia en relación al proyecto objeto de revisión, se asocia este proyecto en registro independiente. En la documentación aportada no se evidencia datos de inicio y fin de la ejecución del proyecto analizado. | AB26: =IF(AA26<>"","Experiencia No. "&B26&": "&AA26&CHAR(10),"") -> Experiencia No. : La certificación no incluye el dato de identificación del perfil. Así mismo, la experiencia es certificada por uno de los miembros del proponente plural por cuanto debe estar acompañada con la documentación que acredite tal experiencia según los términos indicados en el Pliego de Condiciones. No fue aportada documentación complementaria. Con el fin de contabilizar los términos de experiencia en relación al proyecto objeto de revisión, se asocia este proyecto en registro independiente. En la documentación aportada no se evidencia datos de inicio y fin de la ejecución del proyecto analizado. | AC26: =IF(C26<>"",COUNTIFS(K$24:K$43,"<="&K26,L$24:L$43,">"&K26)-1,0) -> -1 | AD26: =IF(C26<>"",COUNTIFS(K$24:K$43,"<="&L26,L$24:L$43,">="&L26)-1,0) -> -1 | AE26: =IF(C26<>"",COUNTIFS(K$24:K$43,"><"&"",K$24:K$43,"<="&K26,L$24:L$43,">="&L26),0) -> 0 | AH26: =ROUND(IF(X26="CUMPLE",DAYS360(AF26,AG26,)/365,0),1) -> 0
B27: 4 | S27: =IF(C27<>"",IF(COUNTIF(M27:R27,"CUMPLE")=6,"CUMPLE","NO CUMPLE"),"") | W27: =IF(C27<>"",IF(AND(U27="CUMPLE",V27="CUMPLE"),"ESPECIFICA","GENERAL"),"") | X27: =IF(C27<>"",IF(OR(AND(S27="CUMPLE",T27="N/A"),T27="SI"),"CUMPLE","NO CUMPLE"),"") | Z27: =IF(Y27<>"","-"&Y27&CHAR(10),"") | AB27: =IF(AA27<>"","Experiencia No. "&B27&": "&AA27&CHAR(10),"") | AC27: =IF(C27<>"",COUNTIFS(K$24:K$43,"<="&K27,L$24:L$43,">"&K27)-1,0) -> 0 | AD27: =IF(C27<>"",COUNTIFS(K$24:K$43,"<="&L27,L$24:L$43,">="&L27)-1,0) -> 0 | AE27: =IF(C27<>"",COUNTIFS(K$24:K$43,"><"&"",K$24:K$43,"<="&K27,L$24:L$43,">="&L27),0) -> 0 | AH27: =ROUND(IF(X27="CUMPLE",DAYS360(AF27,AG27,)/365,0),1) -> 0
B28: 5 | S28: =IF(C28<>"",IF(COUNTIF(M28:R28,"CUMPLE")=6,"CUMPLE","NO CUMPLE"),"") | W28: =IF(C28<>"",IF(AND(U28="CUMPLE",V28="CUMPLE"),"ESPECIFICA","GENERAL"),"") | X28: =IF(C28<>"",IF(OR(AND(S28="CUMPLE",T28="N/A"),T28="SI"),"CUMPLE","NO CUMPLE"),"") | Z28: =IF(Y28<>"","-"&Y28&CHAR(10),"") | AB28: =IF(AA28<>"","Experiencia No. "&B28&": "&AA28&CHAR(10),"") | AC28: =IF(C28<>"",COUNTIFS(K$24:K$43,"<="&K28,L$24:L$43,">"&K28)-1,0) -> 0 | AD28: =IF(C28<>"",COUNTIFS(K$24:K$43,"<="&L28,L$24:L$43,">="&L28)-1,0) -> 0 | AE28: =IF(C28<>"",COUNTIFS(K$24:K$43,"><"&"",K$24:K$43,"<="&K28,L$24:L$43,">="&L28),0) -> 0 | AH28: =IF(X28="CUMPLE",DAYS360(AF28,AG28,)/365,0) -> 0
B29: 6 | S29: =IF(C29<>"",IF(COUNTIF(M29:R29,"CUMPLE")=6,"CUMPLE","NO CUMPLE"),"") | W29: =IF(C29<>"",IF(AND(U29="CUMPLE",V29="CUMPLE"),"ESPECIFICA","GENERAL"),"") | X29: =IF(C29<>"",IF(OR(AND(S29="CUMPLE",T29="N/A"),T29="SI"),"CUMPLE","NO CUMPLE"),"") | Z29: =IF(Y29<>"","-"&Y29&CHAR(10),"") | AB29: =IF(AA29<>"","Experiencia No. "&B29&": "&AA29&CHAR(10),"") | AC29: =IF(C29<>"",COUNTIFS(K$24:K$43,"<="&K29,L$24:L$43,">"&K29)-1,0) -> 0 | AD29: =IF(C29<>"",COUNTIFS(K$24:K$43,"<="&L29,L$24:L$43,">="&L29)-1,0) -> 0 | AE29: =IF(C29<>"",COUNTIFS(K$24:K$43,"><"&"",K$24:K$43,"<="&K29,L$24:L$43,">="&L29),0) -> 0 | AH29: =IF(X29="CUMPLE",DAYS360(AF29,AG29,)/365,0) -> 0
B30: 7 | S30: =IF(C30<>"",IF(COUNTIF(M30:R30,"CUMPLE")=6,"CUMPLE","NO CUMPLE"),"") | W30: =IF(C30<>"",IF(AND(U30="CUMPLE",V30="CUMPLE"),"ESPECIFICA","GENERAL"),"") | X30: =IF(C30<>"",IF(OR(AND(S30="CUMPLE",T30="N/A"),T30="SI"),"CUMPLE","NO CUMPLE"),"") | Z30: =IF(Y30<>"","-"&Y30&CHAR(10),"") | AB30: =IF(AA30<>"","Experiencia No. "&B30&": "&AA30&CHAR(10),"") | AC30: =IF(C30<>"",COUNTIFS(K$24:K$43,"<="&K30,L$24:L$43,">"&K30)-1,0) -> 0 | AD30: =IF(C30<>"",COUNTIFS(K$24:K$43,"<="&L30,L$24:L$43,">="&L30)-1,0) -> 0 | AE30: =IF(C30<>"",COUNTIFS(K$24:K$43,"><"&"",K$24:K$43,"<="&K30,L$24:L$43,">="&L30),0) -> 0 | AH30: =IF(X30="CUMPLE",DAYS360(K30,L30,)/365,0) -> 0
B31: 8 | S31: =IF(C31<>"",IF(COUNTIF(M31:R31,"CUMPLE")=6,"CUMPLE","NO CUMPLE"),"") | W31: =IF(C31<>"",IF(AND(U31="CUMPLE",V31="CUMPLE"),"ESPECIFICA","GENERAL"),"") | X31: =IF(C31<>"",IF(OR(AND(S31="CUMPLE",T31="N/A"),T31="SI"),"CUMPLE","NO CUMPLE"),"") | Z31: =IF(Y31<>"","-"&Y31&CHAR(10),"") | AB31: =IF(AA31<>"","Experiencia No. "&B31&": "&AA31&CHAR(10),"") | AC31: =IF(C31<>"",COUNTIFS(K$24:K$43,"<="&K31,L$24:L$43,">"&K31)-1,0) -> 0 | AD31: =IF(C31<>"",COUNTIFS(K$24:K$43,"<="&L31,L$24:L$43,">="&L31)-1,0) -> 0 | AE31: =IF(C31<>"",COUNTIFS(K$24:K$43,"><"&"",K$24:K$43,"<="&K31,L$24:L$43,">="&L31),0) -> 0 | AH31: =IF(X31="CUMPLE",DAYS360(K31,L31,)/365,0) -> 0
B32: 9 | S32: =IF(C32<>"",IF(COUNTIF(M32:R32,"CUMPLE")=6,"CUMPLE","NO CUMPLE"),"") | W32: =IF(C32<>"",IF(AND(U32="CUMPLE",V32="CUMPLE"),"ESPECIFICA","GENERAL"),"") | X32: =IF(C32<>"",IF(OR(AND(S32="CUMPLE",T32="N/A"),T32="SI"),"CUMPLE","NO CUMPLE"),"") | Z32: =IF(Y32<>"","-"&Y32&CHAR(10),"") | AB32: =IF(AA32<>"","Experiencia No. "&B32&": "&AA32&CHAR(10),"") | AC32: =IF(C32<>"",COUNTIFS(K$24:K$43,"<="&K32,L$24:L$43,">"&K32)-1,0) -> 0 | AD32: =IF(C32<>"",COUNTIFS(K$24:K$43,"<="&L32,L$24:L$43,">="&L32)-1,0) -> 0 | AE32: =IF(C32<>"",COUNTIFS(K$24:K$43,"><"&"",K$24:K$43,"<="&K32,L$24:L$43,">="&L32),0) -> 0 | AH32: =IF(X32="CUMPLE",DAYS360(K32,L32,)/365,0) -> 0
B33: 10 | S33: =IF(C33<>"",IF(COUNTIF(M33:R33,"CUMPLE")=6,"CUMPLE","NO CUMPLE"),"") | W33: =IF(C33<>"",IF(AND(U33="CUMPLE",V33="CUMPLE"),"ESPECIFICA","GENERAL"),"") | X33: =IF(C33<>"",IF(OR(AND(S33="CUMPLE",T33="N/A"),T33="SI"),"CUMPLE","NO CUMPLE"),"") | Z33: =IF(Y33<>"","-"&Y33&CHAR(10),"") | AB33: =IF(AA33<>"","Experiencia No. "&B33&": "&AA33&CHAR(10),"") | AC33: =IF(C33<>"",COUNTIFS(K$24:K$43,"<="&K33,L$24:L$43,">"&K33)-1,0) -> 0 | AD33: =IF(C33<>"",COUNTIFS(K$24:K$43,"<="&L33,L$24:L$43,">="&L33)-1,0) -> 0 | AE33: =IF(C33<>"",COUNTIFS(K$24:K$43,"><"&"",K$24:K$43,"<="&K33,L$24:L$43,">="&L33),0) -> 0 | AH33: =IF(X33="CUMPLE",DAYS360(K33,L33,)/365,0) -> 0
B34: 11 | S34: =IF(C34<>"",IF(COUNTIF(M34:R34,"CUMPLE")=6,"CUMPLE","NO CUMPLE"),"") | W34: =IF(C34<>"",IF(AND(U34="CUMPLE",V34="CUMPLE"),"ESPECIFICA","GENERAL"),"") | X34: =IF(C34<>"",IF(OR(AND(S34="CUMPLE",T34="N/A"),T34="SI"),"CUMPLE","NO CUMPLE"),"") | Z34: =IF(Y34<>"","-"&Y34&CHAR(10),"") | AB34: =IF(AA34<>"","Experiencia No. "&B34&": "&AA34&CHAR(10),"") | AC34: =IF(C34<>"",COUNTIFS(K$24:K$43,"<="&K34,L$24:L$43,">"&K34)-1,0) -> 0 | AD34: =IF(C34<>"",COUNTIFS(K$24:K$43,"<="&L34,L$24:L$43,">="&L34)-1,0) -> 0 | AE34: =IF(C34<>"",COUNTIFS(K$24:K$43,"><"&"",K$24:K$43,"<="&K34,L$24:L$43,">="&L34),0) -> 0 | AH34: =IF(X34="CUMPLE",DAYS360(K34,L34,)/365,0) -> 0
B35: 12 | S35: =IF(C35<>"",IF(COUNTIF(M35:R35,"CUMPLE")=6,"CUMPLE","NO CUMPLE"),"") | W35: =IF(C35<>"",IF(AND(U35="CUMPLE",V35="CUMPLE"),"ESPECIFICA","GENERAL"),"") | X35: =IF(C35<>"",IF(OR(AND(S35="CUMPLE",T35="N/A"),T35="SI"),"CUMPLE","NO CUMPLE"),"") | Z35: =IF(Y35<>"","-"&Y35&CHAR(10),"") | AB35: =IF(AA35<>"","Experiencia No. "&B35&": "&AA35&CHAR(10),"") | AC35: =IF(C35<>"",COUNTIFS(K$24:K$43,"<="&K35,L$24:L$43,">"&K35)-1,0) -> 0 | AD35: =IF(C35<>"",COUNTIFS(K$24:K$43,"<="&L35,L$24:L$43,">="&L35)-1,0) -> 0 | AE35: =IF(C35<>"",COUNTIFS(K$24:K$43,"><"&"",K$24:K$43,"<="&K35,L$24:L$43,">="&L35),0) -> 0 | AH35: =IF(X35="CUMPLE",DAYS360(K35,L35,)/365,0) -> 0
B36: 13 | S36: =IF(C36<>"",IF(COUNTIF(M36:R36,"CUMPLE")=6,"CUMPLE","NO CUMPLE"),"") | W36: =IF(C36<>"",IF(AND(U36="CUMPLE",V36="CUMPLE"),"ESPECIFICA","GENERAL"),"") | X36: =IF(C36<>"",IF(OR(AND(S36="CUMPLE",T36="N/A"),T36="SI"),"CUMPLE","NO CUMPLE"),"") | Z36: =IF(Y36<>"","-"&Y36&CHAR(10),"") | AB36: =IF(AA36<>"","Experiencia No. "&B36&": "&AA36&CHAR(10),"") | AC36: =IF(C36<>"",COUNTIFS(K$24:K$43,"<="&K36,L$24:L$43,">"&K36)-1,0) -> 0 | AD36: =IF(C36<>"",COUNTIFS(K$24:K$43,"<="&L36,L$24:L$43,">="&L36)-1,0) -> 0 | AE36: =IF(C36<>"",COUNTIFS(K$24:K$43,"><"&"",K$24:K$43,"<="&K36,L$24:L$43,">="&L36),0) -> 0 | AH36: =IF(X36="CUMPLE",DAYS360(K36,L36,)/365,0) -> 0
B37: 14 | S37: =IF(C37<>"",IF(COUNTIF(M37:R37,"CUMPLE")=6,"CUMPLE","NO CUMPLE"),"") | W37: =IF(C37<>"",IF(AND(U37="CUMPLE",V37="CUMPLE"),"ESPECIFICA","GENERAL"),"") | X37: =IF(C37<>"",IF(OR(AND(S37="CUMPLE",T37="N/A"),T37="SI"),"CUMPLE","NO CUMPLE"),"") | Z37: =IF(Y37<>"","-"&Y37&CHAR(10),"") | AB37: =IF(AA37<>"","Experiencia No. "&B37&": "&AA37&CHAR(10),"") | AC37: =IF(C37<>"",COUNTIFS(K$24:K$43,"<="&K37,L$24:L$43,">"&K37)-1,0) -> 0 | AD37: =IF(C37<>"",COUNTIFS(K$24:K$43,"<="&L37,L$24:L$43,">="&L37)-1,0) -> 0 | AE37: =IF(C37<>"",COUNTIFS(K$24:K$43,"><"&"",K$24:K$43,"<="&K37,L$24:L$43,">="&L37),0) -> 0 | AH37: =IF(X37="CUMPLE",DAYS360(K37,L37,)/365,0) -> 0
B38: 15 | S38: =IF(C38<>"",IF(COUNTIF(M38:R38,"CUMPLE")=6,"CUMPLE","NO CUMPLE"),"") | W38: =IF(C38<>"",IF(AND(U38="CUMPLE",V38="CUMPLE"),"ESPECIFICA","GENERAL"),"") | X38: =IF(C38<>"",IF(OR(AND(S38="CUMPLE",T38="N/A"),T38="SI"),"CUMPLE","NO CUMPLE"),"") | Z38: =IF(Y38<>"","-"&Y38&CHAR(10),"") | AB38: =IF(AA38<>"","Experiencia No. "&B38&": "&AA38&CHAR(10),"") | AC38: =IF(C38<>"",COUNTIFS(K$24:K$43,"<="&K38,L$24:L$43,">"&K38)-1,0) -> 0 | AD38: =IF(C38<>"",COUNTIFS(K$24:K$43,"<="&L38,L$24:L$43,">="&L38)-1,0) -> 0 | AE38: =IF(C38<>"",COUNTIFS(K$24:K$43,"><"&"",K$24:K$43,"<="&K38,L$24:L$43,">="&L38),0) -> 0 | AH38: =IF(X38="CUMPLE",DAYS360(K38,L38,)/365,0) -> 0
