Workbook

Sheet PASO 1 Cal Factor Multiplicador
A1: FORMATO 4 - CÁLCULO FACTOR MULTIPLICADOR | D1: TIPO DE PERSONAL | E1: FACTOR MULTIPLICADOR PRESTACIONES SOCIALES | F1: FACTOR MULTIPLICADOR | G1: TOTAL
A2: FUERZA AÉREA COLOMBIANA | D2: CONTRATO LABORAL | E2: =ROUND(C6+C8,2) -> 1.54 | F2: =ROUND(C23+C38+C53+C55,2) -> 0 | G2: =+SUM(E2:F2) -> 1.54
A3: =+'PASO 2 Cantidades'!A3 -> INTERVENTORÍA TÉCNICA, ECONÓMICA, JURÍDICA, FINANCIERA, ADMINISTRATIVA Y CONTABLE DE LA OBRA PUBLICA PARA LAS OBRAS DE INFRAESTRUCTURA AEROPORTUARIA Y TRAMITES DEL PROYECTO DE TRALADO DE GACAR (CERRAMIENTO Y GUARDIA) EN SAN ANDRES ISLA DE ACUERDO A ESPECIFICACIONES TÉCNICAS. | D3: CONTRATO PRESTACION DE SERVICIOS | E3: =+C6 -> 1 | F3: =ROUND(C23+C38+C53+C55,2) -> 0 | G3: =+SUM(E3:F3) -> 1
A5: ÍTEM | B5: Conformación del factor multiplicador (FM) | C5: Porcentaje
A6: 1 | B6: SALARIOS | C6: 1
A8: 2 | B8: PRESTACIONES SOCIALES | C8: =SUM(C9:C22) -> 0.5422
A9: 2.1 | B9: Cesantía | C9: 0.083
A10: 2.2 | B10: Intereses de Cesantías | C10: 0.01
A11: 2.3 | B11: Primas | C11: 0.083
A12: 2.4 | B12: Vacaciones | C12: 0.0416
A13: 2.5 | B13: Seguridad Social (salud) | C13: 0.085
A14: 2.6 | B14: Seguridad Social (pensión) | C14: 0.12
A15: 2.7 | B15: Aseguradora de Riesgos Profesionales | C15: 0.0696
A16: 2.8 | B16: Subsidio Familiar | C16: 0
A17: 2.9 | B17: ICBF | C17: 0.03
A18: 2.10 | B18: SENA | C18: 0.02
A19: 2.11 | B19: Subsidio de Transporte | C19: 0
A20: 2.12 | B20: Dotación | C20: 0
A21: 2.13
A22: 2.14
A23: 3 | B23: COSTOS DIRECTOS | C23: =SUM(C24:C37) -> 0
A24: 3.1 | B24: Oficina, campamento (incluye Equipos de sistemas, útiles de oficina, papelería, etc.) | C24: 0
A25: 3.2 | B25: Gastos de representación | C25: 0
A26: 3.3 | B26: Documentación Técnica | C26: 0
A27: 3.4 | B27: Gastos de transporte y vehículos | C27: 0
A28: 3.5 | B28: Gastos de manutención Unidades lejanas | C28: 0
A29: 3.6
A30: 3.7
A31: 3.8
A32: 3.9
A33: 3.10
A34: 3.11
A35: 3.12
A36: 3.13
A37: 3.14
A38: 4 | B38: COSTOS DE PERFECCIONAMIENTO (IMPUESTOS Y POLIZAS) | C38: =SUM(C39:C52) -> 0
A39: 4.1 | B39: Póliza de calidad | C39: 0
A40: 4.2 | B40: Póliza de Cumplimiento | C40: 0
A41: 4.3 | B41: Póliza de Salarios y Prestaciones Sociales | C41: 0
A42: 4.4
...

Sheet PASO 2 Cantidades
A1: ANEXO No 1
A3: INTERVENTORÍA TÉCNICA, ECONÓMICA, JURÍDICA, FINANCIERA, ADMINISTRATIVA Y CONTABLE DE LA OBRA PUBLICA PARA LAS OBRAS DE INFRAESTRUCTURA AEROPORTUARIA Y TRAMITES DEL PROYECTO DE TRALADO DE GACAR (CERRAMIENTO Y GUARDIA) EN SAN ANDRES ISLA DE ACUERDO A ESPECIFICACIONES TÉCNICAS.
A5: No. | B5: ACTIVIDAD | C5: CANT. | D5: CATEGORÍA MÍNIMA | E5: MARQUE: -CONTRATO LABORAL -CONTRATO PRESTACION DE SERVICIOS | F5: VALOR SALARIO MENSUAL SIN FACTOR MULTIPLICADOR | G5: FACTOR MULTIPLICADOR -CONTRATO LABORAL Ó -CONTRATO PRESTACION DE SERVICIOS | I5: TOTAL MESES | J5: % DEDICACIÓN MIN. | K5: VALOR UNITARIO
A6: 1 | B6: HONORARIOS, SALARIOS Y PRESTACIONES SOCIALES DE TODO EL PERSONAL PROFESIONAL QUE SEA NECESARIO, DISPONER DIRECTAMENTE EN LA OBRA, YA SEA CON DEDICACIÓN PARCIAL O PERMANENTE . (RESIDENTE , Y AUXILIARES) | K6: =SUM(K7:K19) -> 0
A7: 1.1 | B7: Director de Interventoría (Ingeniería Civil o Arquitectura con Posgradoen Gerencia de Proyectos o Gerencia de Obras o Project Managment) | C7: 1 | D7: Categoria 2 | F7: 0 | G7: =+IFERROR(VLOOKUP(E7,'PASO 1 Cal Factor Multiplicador'!$D$2:$G$3,4,FALSE),"") | I7: 2.5 | J7: 0.5 | K7: =+IFERROR(C7*F7*G7*I7*J7,"")
A8: 1.2 | B8: Residente de Interventoría (Ingeniería Civil o Arquitectura) | C8: 1 | D8: Categoria 4 | F8: 0 | G8: =+IFERROR(VLOOKUP(E8,'PASO 1 Cal Factor Multiplicador'!$D$2:$G$3,4,FALSE),"") | I8: 2 | J8: 1 | K8: =+IFERROR(C8*F8*G8*I8*J8,"")
A9: 1.3 | B9: Asesor SISOMA (Profesional en Seguridad y Salud en el Trabajo) | C9: 1 | D9: Categoria 4 | F9: 0 | G9: =+IFERROR(VLOOKUP(E9,'PASO 1 Cal Factor Multiplicador'!$D$2:$G$3,4,FALSE),"") | I9: 2 | J9: 1 | K9: =+IFERROR(C9*F9*G9*I9*J9,"")
A10: 1.4 | B10: Asesor Estructural (Ingeniería Civil con Posgrado en Estructuras) | C10: 1 | D10: Categoria 3 | F10: 0 | G10: =+IFERROR(VLOOKUP(E10,'PASO 1 Cal Factor Multiplicador'!$D$2:$G$3,4,FALSE),"") | I10: 2 | J10: 0.5 | K10: =+IFERROR(C10*F10*G10*I10*J10,"")
A11: 1.5 | B11: Asesor Hidrosanitario (Ingeniería Sanitaria y/o Ambiental y Sanitaria y/o Ingeniería Civil con posgrado en recursos hídricos) | C11: 1 | D11: Categoria 3 | F11: 0 | G11: =+IFERROR(VLOOKUP(E11,'PASO 1 Cal Factor Multiplicador'!$D$2:$G$3,4,FALSE),"") | I11: 2 | J11: 0.3 | K11: =+IFERROR(C11*F11*G11*I11*J11,"")
A12: 1.6 | B12: Asesor-Residente Ingeniero Ambiental y/o Forestal | C12: 1 | D12: Categoria 4 | F12: 0 | G12: =+IFERROR(VLOOKUP(E12,'PASO 1 Cal Factor Multiplicador'!$D$2:$G$3,4,FALSE),"") | I12: 2 | J12: 1 | K12: =+IFERROR(C12*F12*G12*I12*J12,"")
A13: 1.7 | B13: Asesor Electricista (Ingeniería Eléctrica) | C13: 1 | D13: Categoria 4 | F13: 0 | G13: =+IFERROR(VLOOKUP(E13,'PASO 1 Cal Factor Multiplicador'!$D$2:$G$3,4,FALSE),"") | I13: 2 | J13: 0.3 | K13: =+IFERROR(C13*F13*G13*I13*J13,"")
A14: 1.8 | B14: Asesor Mecanico (Ingeniería Mecanico) | C14: 1 | D14: Categoria 4 | F14: 0 | G14: =+IFERROR(VLOOKUP(E14,'PASO 1 Cal Factor Multiplicador'!$D$2:$G$3,4,FALSE),"") | I14: 2 | J14: 0.3 | K14: =+IFERROR(C14*F14*G14*I14*J14,"")
A15: 1.9 | B15: Asesor Ingeniero de Vias (Ingeniería de Vias o Civil con especializacion en vias o afines) | C15: 1 | D15: Categoria 4 | F15: 0 | G15: =+IFERROR(VLOOKUP(E15,'PASO 1 Cal Factor Multiplicador'!$D$2:$G$3,4,FALSE),"") | I15: 2 | J15: 0.4 | K15: =+IFERROR(C15*F15*G15*I15*J15,"")
A16: 1.10 | B16: Asesor Conectividad red | C16: 1 | D16: Categoria 4 | F16: 0 | G16: =+IFERROR(VLOOKUP(E16,'PASO 1 Cal Factor Multiplicador'!$D$2:$G$3,4,FALSE),"") | I16: 2 | J16: 0.5 | K16: =+IFERROR(C16*F16*G16*I16*J16,"")
A17: 1.11 | B17: Asesor-Residente en Topografía (Ingeniería Topográfica) | C17: 1 | D17: Categoria 6 | F17: 0 | G17: =+IFERROR(VLOOKUP(E17,'PASO 1 Cal Factor Multiplicador'!$D$2:$G$3,4,FALSE),"") | I17: 2 | J17: 1 | K17: =+IFERROR(C17*F17*G17*I17*J17,"")
A18: 1.12 | B18: Asesoría Jurídica (Derecho con Posgrado en Contratación Estatal) | C18: 1 | D18: Categoria 4 | F18: 0 | G18: =+IFERROR(VLOOKUP(E18,'PASO 1 Cal Factor Multiplicador'!$D$2:$G$3,4,FALSE),"") | I18: 2 | J18: 0.2 | K18: =+IFERROR(C18*F18*G18*I18*J18,"")
A19: 1.13 | B19: Asesoría Contable y Financiera (Contaduría Pública) | C19: 1 | D19: Categoria 4 | F19: 0 | G19: =+IFERROR(VLOOKUP(E19,'PASO 1 Cal Factor Multiplicador'!$D$2:$G$3,4,FALSE),"") | I19: 2 | J19: 0.2 | K19: =+IFERROR(C19*F19*G19*I19*J19,"")
A20: 2 | B20: PERSONAL DE APOYO NO PROFESIONAL | K20: =SUM(K21:K21) -> 0
A21: 2.1 | B21: Cadenero 1 | C21: 2 | D21: Categoria 7 | F21: 0 | G21: =+IFERROR(VLOOKUP(E21,'PASO 1 Cal Factor Multiplicador'!$D$2:$G$3,4,FALSE),"") | I21: 2 | J21: 1 | K21: =+IFERROR(C21*F21*G21*I21*J21,"")
A23: No. | B23: ACTIVIDAD | C23: CANTIDAD | E23: UNIDAD DE MEDIDA | F23: Vr. Parcial | H23: TOTAL MESES | J23: % DEDICACIÓN MIN. | K23: Vr.TOTAL
A24: 3 | B24: OTROS GASTOS | K24: =SUM(K25:K26) -> 0
A25: 3.1 | B25: Ensayos de laboratorio Interventoría | C25: 1 | E25: Un | F25: 0 | H25: 1 | J25: 1 | K25: =+IFERROR(C25*F25*H25*J25,"") -> 0
A26: 3.2 | B26: Entrega de la documentación previa para el inicio de la obra: *Aprobación de las hojas de vida del personal del contratista de obra e interventoría. *Revisión integral del proyecto (memorias de cálculos, planos, presupuesto, APUs, especificaciones técnicas). *Firma del acta de inicio de obra. *Demás documentación previa requerida para el inicio de obra descritos en el contrato y sus anexos, así como en el manual de interventoría de la FAC. | C26: 1 | E26: Un | F26: 0 | H26: 0.5 | J26: 1 | K26: =+IFERROR(C26*F26*H26*J26,"") -> 0
I27: SUBTOTAL (1+2+3) | K27: =+K24+K20+K6 -> 0
I28: TOTAL | K28: =+SUM(K27:K27) -> 0
A29: Notas: 1. El tiempo destinado por los profesionales para el desarrollo de la actividad 3.2, se debe contemplar en el costo de dicha actividad, teniendo en cuenta que, para la ejecución de ese numeral, no se ha dado inicio a las obras. (Se estima un periodo máximo de 15 días previo al inicio de las obras, para adelantar dicha actividad). 2. se debe tener que el primer pago corresponde al numeral 3.2, por lo tanto si este valor sobrepasa el 3% de valor del contrato, el saldo sera pagadero en el siguiente corte parcial de obra o el saldo del contrato. 3. El proponente diligenciará en el cuadro de cantidades, sus precios unitarios, factor multiplicador y el valor total de la propuesta, según el Formulario Propuesta Económica, colocando si el profesional será contratado mediante un contrato laboral o por prestación de servicios, y los precios unitarios propuestos de acuerdo a la modalidad de contratación frente a cada una de las cantidades allí consignadas, calculando los valores parciales y el presupuesto total. La descripción, las unidades y las cantidades que aparecen en el Formulario NO deberán ser modificadas por el proponente. En caso de que fuera modificado primará el Formulario entregado por la administración. El proponente deberá realizar su estudio de pertinencia y alcance para determinar cuál es el porcentaje de prestaciones sociales y el porcentaje resultado de los demás componentes que determinen el Factor Multiplicador. 4. Siendo consecuentes con lo estipulado en el concepto C – 114 de 2023 emitido por Colombia Compra Eficiente, “En el caso de los salarios y prestaciones sociales, si el contratista no debe asumir tal costo por la modalidad de contratación del personal del que dispone para la ejecución del contrato, se debe disminuir el porcentaje correspondiente a este concepto a través de una modificación al contrato o en el acta de liquidación del mismo. 5. El presente cuadro corresponde a la categoría mínima de los profesionales exigidos en el presente proceso contractual.
B33: FIRMA REPRESENTANTE LEGAL
B34: NOMBRE REPRESENTANTE LEGAL
B35: NOMBRE EMPRESA
B36: NIT EMPRESA
