Workbook

Sheet PRESUPUESTO
C4: ALCALDIA MUNICIPAL VALLEDUPAR
C5: PRESUPUESTO
C7: ITEM | D7: DESCRIPCION | E7: UNIDAD DE MEDIDA | F7: CANT | G7: PRECIO UNITARIO | H7: VALOR TOTAL
C8: 1 | D8: SUMINISTRO E INSTALACION DE TRANSFORMADOR MONOFASICO DE 75KVA 13200/240-120V.NORMA NTC 818, CLASE A 60HZ, 60-65¨C, +1/-3 X 2.5% NIVEL DE AISLAMIENTO 95/30kV INCLUYE: PROTECCIONES, PARARAYOS, SPT), , COLLARINES, CONEXIONES, CABLEADO PARA CONEXIONES, SERVICIO DE GRUA 120V | E8: UN | F8: 1 | G8: =ITEM1!G42 -> 30618459 | H8: =F8*G8 -> 30618459
C9: 2 | D9: SUMINISTRO E INSTALACION DE PROTECCIONES ELECTRICAS DE MT PARA TRANFORMADORES EN CALIENTE: CRUCETAS AUTOSOPORTADAS 2.4m CONECTOR AMOBIBLE, CONECTOR AMPA , PERNO MAQUINA 5/8 -12 , CONECTOR ESTRIBO, CAJA CORTACIRCUITO | E9: UN | F9: 1 | G9: ='ITEM 2'!G42 -> 3702097.7 | H9: =F9*G9 -> 3702097.7
C10: 3 | D10: SUMINISTRO E INSTALACION DE ARMADO EN BT ESTRUCTURA DE ALINEAMIENTO INCLUYE: Aislador tipo carrete 76x79 mm ANSI 53-2 Cinta de BANDIT acero inox de 3/4", Hebilla para cinta BANDIT INOX de 3/4" Percha secundaria de 3 vias | E10: UN | F10: 4 | G10: ='ITEM 3'!G40 -> 183999.67 | H10: =F10*G10 -> 735998.67
C11: 4 | D11: SUMINISTRO E INSTALACION DE ACOMETIDA EN CABLE ACSR 3 X 1/0AWG | E11: ML | F11: 260 | G11: ='ITEM 4'!G53 -> 33485 | H11: =F11*G11 -> 8706100
C12: 5 | D12: Suministro e instalacion de poste de concreto de 12m x 750kg | E12: UN | F12: 1 | G12: ='ITEM 5'!G53 -> 2790000 | H12: =F12*G12 -> 2790000
C13: 6 | D13: Suministro e instalación de poste de concreto de 9m x 510kg | E13: UN | F13: 4 | G13: ='ITEM 6'!G53 -> 1734720 | H13: =F13*G13 -> 6938880
C14: 7 | D14: Suministro e instalacion de retenida baja tensión | E14: UN | F14: 1 | G14: ='ITEM 7'!G53 -> 803747 | H14: =F14*G14 -> 803747
D15: TOTAL COSTOS DIRECTOS | H15: =SUM(H8:H14) -> 54295282
D17: COSTOS INDIRECTOS
D18: ADMINISTRACION | E18: % | F18: 0.1 | G18: =H15*F18 -> 5429528.2
D19: IMPREVISTOS | E19: % | F19: 0.04 | G19: =H15*F19 -> 2171811.3
D20: UTILIDAD | E20: % | F20: 0.06 | G20: =H15*F20 -> 3257716.9
D21: IVA SOBRE UTILIDAD | E21: % | F21: 0.19 | G21: =G20*F21 -> 618966.22
D22: TOTAL COSTOS INDIRECTOS | H22: =G18+G19+G20+G21 -> 11478023
D23: TOTAL COSTOS DIRECTOS + INDIRECTOS | H23: =H15+H22 -> 65773305
C25: ITEMS | D25: DESCRIPCION | E25: UNIDAD DE MEDIDA | F25: CANTIDAD | G25: PRECIO UNITARIO
C26: 1 | D26: Mantenimiento y/o reparacion de transformador monofasico, Limpieza y ajuste general de los transformadoresAjuste de conexión de los tap’s del conmutadorConexión de los terminales de alta y baja tensión *Reemplazo de empaquetaduras.*Filtrado, secado y/o cambio de aceite. SERVICIO DE GRUA*Reemplazo de instrumentos (Niveles de aceite,termómetros, etc.).*Cambio de espigas de AT y BT.*Cambios de TAP.*Reemplazo de accesorios en la subestación. (crucetas, aisladores, etc.) | E26: UN | F26: 1 | G26: 4889000 | H26: =F26*G26 -> 4889000
D27: SUB-TOTAL MANTENIMIENTO PREVENTIVO Y CORRECTIVO | H27: =H26 -> 4889000
D29: VALOR TOTAL DE LA PROPUESTA ECONOMICA | H29: =H23+H27 -> 70662305
C31: GUIDO ANDRES CASTILLA GONZALEZ
C32: Secretario General Municipal de Valledupar
C35: Proyectó. Alfonso Ospino Lara/Profesional arquitecto especialista
C36: Contratista SG
C38: Revisó.. Nolasco de Jesus/Profesional Economista especialista
C39: Contratista SG

Sheet ITEM1
C1: ANALISIS DE PRECIOS UNITARIO | F1: FECHA: | G1: 43784
F2: VERSIÓN 01 | G2: CÓDIGO FOR-124
A3: OBJETO:
A4: ANALISIS DE PRECIOS UNITARIOS
A5: CAPITULO: | B5: SUMINISTRO E INSTALACION DE TRANSFORMADOR MONOFASICO DE 75KVA 13200/240-120V
A6: SUBCAPITULO: | B6: SUMINISTRO E INSTALACION DE TRANSFORMADOR MONOFASICO DE 75KVA 13200/240-120V
A7: ITEM: | B7: =[1]Resumen!A6 -> 1 | F7: FECHA: | G7: 45071
A8: DESCRIPCIÓN | B8: SUMINISTRO E INSTALACION DE TRANSFORMADOR MONOFASICO DE 75KVA 13200/240-120V.NORMA NTC 818, CLASE A 60HZ, 60-65¨C, +1/-3 X 2.5% NIVEL DE AISLAMIENTO 95/30kV INCLUYE: PROTECCIONES( CORTACIRCUITOS, PARARAYOS, SPT), ACCESORIOS( AMOBIBLES, CONECTORES AMPA, TORNILLERIA, COLLARINES, CONECTOR ESTRIBO), CONEXIONES, CABLEADO PARA CONEXIONES, PUNTO EN CALIENTE, SERVICIO DE GRUA | F8: UNIDAD: | G8: UN
A10: 1. EQUIPOS
A11: Codigo, ins. ó Apu | B11: DESCRIPCIÓN | D11: U.M. | E11: CANTIDAD | F11: VR. UNITARIO | G11: VR. TOTAL
A12: EQ-001 | B12: Herramienta menor | D12: un | E12: 1 | F12: 11840 | G12: =ROUND((F12*E12),0) -> 11840
A13: EQ-002 | B13: Servicio de grua carro canasta | D13: hora | E13: 5 | F13: 175000 | G13: =ROUND((F13*E13),0) -> 875000
A15: SUBTOTAL | G15: =+SUM(G12:G14) -> 886840
A16: 2. MATERIALES
A17: Codigo, ins. ó Apu | B17: DESCRIPCIÓN | D17: U.M. | E17: CANTIDAD | F17: VR. UNITARIO | G17: VR. TOTAL
B18: TRANSFORMADOR MONOFASICO DE 75KVA 13200/240-120V | C18: Transformador monofasico 75 kVA, 13.2 kV/220/127 V | D18: UND | E18: 1 | F18: 27714503 | G18: =E18*F18 -> 27714503
B19: PARARAYOS POLIMERICO 15KV- 10KA | C19: PARARAYOS POLIMERICO | D19: UND | E19: 2 | F19: 220733.33 | G19: =E19*F19 -> 441466.67
B20: kit de puesta a tierra STV SPT 14m con varilla 5/8 2.4m | C20: SPT | D20: UND | E20: 1 | F20: 347700 | G20: =E20*F20 -> 347700
B21: CABLE CU THHN/THWN-2 2AWG | C21: CABLE AWG # 2 | D21: ML | E21: 20 | F21: 26500 | G21: =E21*F21 -> 530000
B22: COLLARIN PARA TRANSFORMADOR DE 10-12" | D22: UN | E22: 2 | F22: 47333 | G22: =E22*F22 -> 94666
A30: SUBTOTAL | G30: =+SUM(G18:G29) -> 29128336 | I30: =+SUM(I18:I29) -> 0
A31: 3. TRANSPORTE
A32: Codigo, ins. ó Apu | B32: DESCRIPCIÓN | D32: U.M. | E32: CANTIDAD | F32: VR. UNITARIO | G32: VR. TOTAL
A33: TR-ELE-001 | B33: TRANSPORTE DE MATERIAL | D33: % | E33: 0.01 | F33: =G30 -> 29128336 | G33: =ROUND((F33*E33),0) -> 291283
G34: =F34*E34 -> 0
G35: =F35*E35 -> 0
A36: SUBTOTAL | G36: =+SUM(G33:G35) -> 291283
A37: 4. MANO DE OBRA
A38: Codigo, ins. ó Apu | B38: DESCRIPCIÓN | D38: U.M. | E38: CANTIDAD | F38: VR. UNITARIO | G38: VR. TOTAL | J38: CUADRILLA FF1 ELECTRICAS ESPECIALIZADAS
A39: MdeO_E-001 | B39: CUADRILLA INSTALACIONES ELECTRICAS- CON PRESTACIONES (1 OFICIAL Y 2 AYUDANTES) | D39: hc | E39: 4 | F39: 78000 | G39: =ROUND((F39*E39),0) -> 312000
G40: =F40*E40 -> 0 | I40: TRABAJADOR | J40: SALARIO MES | K40: F.PRESTACIONAL | L40: TOTAL MES | M40: DIA | N40: HORA
A41: SUBTOTAL | G41: =+SUM(G39:G40) -> 312000 | I41: Encargado de obra | J41: 4000000 | K41: 1.6 | L41: =J41*K41 -> 6400000 | M41: =L41/30 -> 213333.33 | N41: =M41/8 -> 26666.667
A42: TOTAL COSTO DIRECTO | G42: =+G15+G30+G36+G41 -> 30618459 | I42: Tecnico electricista especialistas | J42: 3000000 | K42: 1.6 | L42: =J42*K42 -> 4800000 | M42: =L42/30 -> 160000 | N42: =M42/8 -> 20000
I43: Tecnico electricista especialistas | J43: 3000000 | K43: 1.6 | L43: =J43*K43 -> 4800000 | M43: =L43/30 -> 160000 | N43: =M43/8 -> 20000
I44: Ayudante avanzado | J44: 1700000 | K44: 1.6 | L44: =J44*K44 -> 2720000 | M44: =L44/30 -> 90666.667 | N44: =M44/8 -> 11333.333
N45: =SUM(N41:N44) -> 78000

Sheet ITEM 2
C1: ANALISIS DE PRECIOS UNITARIO | F1: FECHA: | G1: 43784
F2: VERSIÓN 01 | G2: CÓDIGO FOR-124
A3: OBJETO:
A4: ANALISIS DE PRECIOS UNITARIOS
A5: CAPITULO: | B5: SUMINISTRO E INSTALACION DE TRANSFORMADOR MONOFASICO DE 75KVA 13200/240-120V
A6: SUBCAPITULO: | B6: SUMINISTRO E INSTALACION DE PROTECCIONES ELECTRICAS DE MT PARA TRANFORMADORES EN CALIENTE
A7: ITEM: | B7: 2 | F7: FECHA: | G7: 45071
A8: DESCRIPCIÓN | B8: SUMINISTRO E INSTALACION DE PROTECCIONES ELECTRICAS DE MT PARA TRANFORMADORES EN CALIENTE INCLUYE: CRUCETAS AUTOSOPORTADAS 2.4m CONECTOR AMOBIBLE, CONECTOR AMPA , PERNO MAQUINA 5/8 -12 , CONECTOR ESTRIBO, CAJA CORTACIRCUITO | F8: UNIDAD: | G8: UN
A10: 1. EQUIPOS
A11: Codigo, ins. ó Apu | B11: DESCRIPCIÓN | D11: U.M. | E11: CANTIDAD | F11: VR. UNITARIO | G11: VR. TOTAL
A12: EQ-001 | B12: Herramienta menor | D12: % | E12: 0.05 | F12: =G39 -> 880000 | G12: =ROUND((F12*E12),0) -> 44000
A13: EQ-002 | B13: Servicio de grua aislada para trabajo en caliente | D13: hras | E13: 8 | F13: 175000 | G13: =F13*E13 -> 1400000
A15: SUBTOTAL | G15: =+SUM(G12:G14) -> 1444000
A16: 2. MATERIALES
A17: Codigo, ins. ó Apu | B17: DESCRIPCIÓN | D17: U.M. | E17: CANTIDAD | F17: VR. UNITARIO | G17: VR. TOTAL
B18: Cruceta Metalica de 3 x 1- 4 x 2 40 m autosoportada | C18: CRUCETAS AUTOSOPORTADAS | D18: UND | E18: 2 | F18: 285866.67 | G18: =E18*F18 -> 571733.33
B19: CONECTOR AMOBIBLE | C19: CONECTOR AMOBIBLE | D19: UND | E19: 2 | F19: 44933 | G19: =E19*F19 -> 89866
B20: CONECTOR AMPA 1/0 -2/0 | C20: CONECTOR AMPA | D20: UND | E20: 2 | F20: 25333 | G20: =E20*F20 -> 50666
B21: PERNO MAQUINA 5/8 X 12 | C21: TRNILLERIA 5/8 | D21: UND | E21: 4 | F21: 7213.3333 | G21: =E21*F21 -> 28853.333
B22: CONECTOR AMPA con ESTRIBO 1/0 -2/0 | C22: CONECTOR ESTRIBO | D22: UND | E22: 2 | F22: 46667 | G22: =E22*F22 -> 93334
B23: CAJA CORTACIRCUITOS 15KV - 100A | C23: CORTACIRCUITOS 100A | D23: UN | E23: 2 | F23: 265000 | G23: =E23*F23 -> 530000
A30: SUBTOTAL | G30: =+SUM(G18:G29) -> 1364452.7 | I30: =+SUM(I18:I29) -> 0
A31: 3. TRANSPORTE
A32: Codigo, ins. ó Apu | B32: DESCRIPCIÓN | D32: U.M. | E32: CANTIDAD | F32: VR. UNITARIO | G32: VR. TOTAL
A33: TR-ELE-001 | B33: TRANSPORTE DE MATERIAL | D33: % | E33: 0.01 | F33: =G30 -> 1364452.7 | G33: =ROUND((F33*E33),0) -> 13645
G34: =F34*E34 -> 0
G35: =F35*E35 -> 0
A36: SUBTOTAL | G36: =+SUM(G33:G35) -> 13645
A37: 4. MANO DE OBRA
A38: Codigo, ins. ó Apu | B38: DESCRIPCIÓN | D38: U.M. | E38: CANTIDAD | F38: VR. UNITARIO | G38: VR. TOTAL | J38: CUADRILLA FF1 ELECTRICAS ESPECIALIZADAS
A39: MdeO_E-001 | B39: CUADRILLA FF1 ELECTRICAS ESPECIALIZADAS- CON PRESTACIONES (1 ENCARGADO DE OBRA, 2 TECNICOS ESPECIALIZADOS Y 1 AYUDANTE AVANZADO) | D39: hc | E39: 8 | F39: 110000 | G39: =ROUND((F39*E39),0) -> 880000
G40: =F40*E40 -> 0 | I40: TRABAJADOR | J40: SALARIO MES | K40: F.PRESTACIONAL | L40: TOTAL MES | M40: DIA | N40: HORA
A41: SUBTOTAL | G41: =+SUM(G39:G40) -> 880000 | I41: Encargado de obra | J41: 6000000 | K41: 1.6 | L41: =J41*K41 -> 9600000 | M41: =L41/30 -> 320000 | N41: =M41/8 -> 40000
A42: TOTAL COSTO DIRECTO | G42: =+G15+G30+G36+G41 -> 3702097.7 | I42: Tecnico electricista especialistas | J42: 4000000 | K42: 1.6 | L42: =J42*K42 -> 6400000 | M42: =L42/30 -> 213333.33 | N42: =M42/8 -> 26666.667
I43: Tecnico electricista especialistas | J43: 4000000 | K43: 1.6 | L43: =J43*K43 -> 6400000 | M43: =L43/30 -> 213333.33 | N43: =M43/8 -> 26666.667
I44: Ayudante avanzado | J44: 2500000 | K44: 1.6 | L44: =J44*K44 -> 4000000 | M44: =L44/30 -> 133333.33 | N44: =M44/8 -> 16666.667
N45: =SUM(N41:N44) -> 110000
XFD49: {

Sheet ITEM 3
C1: ANALISIS DE PRECIOS UNITARIO | F1: FECHA: | G1: 43784
F2: VERSIÓN 01 | G2: CÓDIGO FOR-124
A3: OBJETO:
A4: ANALISIS DE PRECIOS UNITARIOS
A5: CAPITULO: | B5: SUMINISTRO E INSTALACION DE TRANSFORMADOR MONOFASICO DE 75KVA 13200/240-120V
A6: SUBCAPITULO: | B6: SUMINISTRO E INSTALACION DE ARMADO EN BT ESTRUCTURA DE ALINEAMIENTO
A7: ITEM: | B7: 3 | F7: FECHA: | G7: 45071
A8: DESCRIPCIÓN | B8: SUMINISTRO E INSTALACION DE ARMADO EN BT ESTRUCTURA DE ALINEAMIENTO INCLUYE: Aislador tipo carrete 76x79 mm ANSI 53-2, Cinta de BANDIT acero inox de 3/4", Hebilla para cinta BANDIT INOX de 3/4" Percha secundaria de 3 vias | F8: UNIDAD: | G8: UN
A10: 1. EQUIPOS
A11: Codigo, ins. ó Apu | B11: DESCRIPCIÓN | D11: U.M. | E11: CANTIDAD | F11: VR. UNITARIO | G11: VR. TOTAL
A12: EQ-001 | B12: Herramienta menor | D12: % | E12: =(+ROUND((G36*0.08),0)/5000) -> 1.248 | F12: 10000 | G12: =ROUND((F12*E12),0) -> 12480
A14: SUBTOTAL | G14: =+SUM(G12:G13) -> 12480
A15: 2. MATERIALES
A16: Codigo, ins. ó Apu | B16: DESCRIPCIÓN | D16: U.M. | E16: CANTIDAD | F16: VR. UNITARIO | G16: VR. TOTAL
B17: Aislador tipo carrete 76x79 mm ANSI 53-2 | C17: Aislador tipo carrete 76x79 mm ANSI 53-2 | D17: UN | E17: 3 | F17: 5066.6667 | G17: =E17*F17 -> 15200
B18: Cinta de BANDIT acero inox de 3/4" | C18: Cinta de BANDIT acero inox de 3/4" | D18: ML | E18: 2 | F18: 4433.3333 | G18: =E18*F18 -> 8866.6667
B19: Hebilla para cinta BANDIT INOX de 3/4" | C19: Hebilla para cinta BANDIT INOX de 3/4" | D19: UN | E19: 3 | F19: 1333.3333 | G19: =E19*F19 -> 4000
B20: Percha secundaria de 3 vias | C20: Suministro e Instalación Percha secundaria de 4 vias | D20: UN | E20: 1 | F20: 61000 | G20: =E20*F20 -> 61000
A27: SUBTOTAL | G27: =+SUM(G17:G26) -> 89066.667 | I27: =+SUM(I17:I26) -> 0
A28: 3. TRANSPORTE
A29: Codigo, ins. ó Apu | B29: DESCRIPCIÓN | D29: U.M. | E29: CANTIDAD | F29: VR. UNITARIO | G29: VR. TOTAL
A30: TR-ELE-001 | B30: TRANSPORTE DE MATERIAL | D30: % | E30: 0.05 | F30: =G27 -> 89066.667 | G30: =ROUND((F30*E30),0) -> 4453
G31: =F31*E31 -> 0
G32: =F32*E32 -> 0
A33: SUBTOTAL | G33: =+SUM(G30:G32) -> 4453
A34: 4. MANO DE OBRA
A35: Codigo, ins. ó Apu | B35: DESCRIPCIÓN | D35: U.M. | E35: CANTIDAD | F35: VR. UNITARIO | G35: VR. TOTAL | J35: CUADRILLA FF1 ELECTRICAS ESPECIALIZADAS
A36: MdeO_E-001 | B36: CUADRILLA FF1 ELECTRICAS ESPECIALIZADAS- CON PRESTACIONES (1 ENCARGADO DE OBRA, 2 TECNICOS ESPECIALIZADOS Y 1 AYUDANTE AVANZADO) | D36: hc | E36: 1 | F36: 78000 | G36: =ROUND((F36*E36),0) -> 78000
G37: =F37*E37 -> 0 | I37: TRABAJADOR | J37: SALARIO MES | K37: F.PRESTACIONAL | L37: TOTAL MES | M37: DIA | N37: HORA
G38: =F38*E38 -> 0 | I38: Encargado de obra | J38: 4000000 | K38: 1.6 | L38: =J38*K38 -> 6400000 | M38: =L38/30 -> 213333.33 | N38: =M38/8 -> 26666.667
A39: SUBTOTAL | G39: =+SUM(G36:G38) -> 78000 | I39: Tecnico electricista especialistas | J39: 3000000 | K39: 1.6 | L39: =J39*K39 -> 4800000 | M39: =L39/30 -> 160000 | N39: =M39/8 -> 20000
A40: TOTAL COSTO DIRECTO | G40: =+G14+G27+G33+G39 -> 183999.67 | I40: Tecnico electricista especialistas | J40: 3000000 | K40: 1.6 | L40: =J40*K40 -> 4800000 | M40: =L40/30 -> 160000 | N40: =M40/8 -> 20000
I41: Ayudante avanzado | J41: 1700000 | K41: 1.6 | L41: =J41*K41 -> 2720000 | M41: =L41/30 -> 90666.667 | N41: =M41/8 -> 11333.333
N42: =SUM(N38:N41) -> 78000

Sheet ITEM 4
C1: ANALISIS DE PRECIOS UNITARIO | F1: FECHA: | G1: 43784
F2: VERSIÓN 01 | G2: CÓDIGO FOR-124
A3: OBJETO:
A4: ANALISIS DE PRECIOS UNITARIOS
A5: CAPITULO: | B5: SUMINISTRO E INSTALACION DE TRANSFORMADOR MONOFASICO DE 75KVA 13200/240-120V
A6: SUBCAPITULO: | B6: SUMINISTRO E INSTALACION DE ACOMETIDA EN CABLE ACSR 1/0AWG
A7: ITEM: | B7: 4 | F7: FECHA: | G7: 45071
A8: DESCRIPCIÓN | B8: SUMINISTRO E INSTALACION DE ACOMETIDA EN CABLE ACSR 3 X 1/0AWG | F8: UNIDAD: | G8: ML
A10: 1. EQUIPOS
A11: Codigo, ins. ó Apu | B11: DESCRIPCIÓN | D11: U.M. | E11: CANTIDAD | F11: VR. UNITARIO | G11: VR. TOTAL
A12: EQ-001 | B12: Herramienta menor | D12: % | E12: 0.31 | F12: 5000 | G12: =ROUND((F12*E12),0) -> 1550
A15: SUBTOTAL | G15: =+SUM(G12:G14) -> 1550
A16: 2. MATERIALES
A17: Codigo, ins. ó Apu | B17: DESCRIPCIÓN | D17: U.M. | E17: CANTIDAD | F17: VR. UNITARIO | G17: VR. TOTAL
B18: CABLE ACSR AWG 1/0 | D18: ML | E18: 3 | F18: 7166.6667 | G18: =E18*F18 -> 21500
G19: =E19*F19 -> 0
G20: =E20*F20 -> 0
G21: =E21*F21 -> 0
G22: =E22*F22 -> 0
G23: =E23*F23 -> 0
G24: =E24*F24 -> 0
G25: =E25*F25 -> 0
G26: =E26*F26 -> 0
G27: =E27*F27 -> 0
G28: =E28*F28 -> 0
G29: =E29*F29 -> 0
G30: =E30*F30 -> 0
... G32: =E32*F32 -> 0
E34: <
A40: SUBTOTAL | G40: =+SUM(G18:G39) -> 21500
A41: 3. TRANSPORTE
A42: Codigo, ins. ó Apu | B42: DESCRIPCIÓN | D42: U.M. | E42: CANTIDAD | F42: VR. UNITARIO | G42: VR. TOTAL
A43: TR-ELE-001 | B43: TRANSPORTE DE MATERIAL | D43: % | E43: 0.05 | F43: =G40 -> 21500 | G43: =ROUND((F43*E43),0) -> 1075
G44: =F44*E44 -> 0
G45: =F45*E45 -> 0
A46: SUBTOTAL | G46: =+SUM(G43:G45) -> 1075
A47: 4. MANO DE OBRA
A48: Codigo, ins. ó Apu | B48: DESCRIPCIÓN | D48: U.M. | E48: CANTIDAD | F48: VR. UNITARIO | G48: VR. TOTAL | J48: CUADRILLA FF1 ELECTRICAS ESPECIALIZADAS
A49: MdeO_E-001 | B49: CUADRILLA FF1 ELECTRICAS ESPECIALIZADAS- CON PRESTACIONES (1 ENCARGADO DE OBRA, 2 TECNICOS ESPECIALIZADOS Y 1 AYUDANTE AVANZADO) | D49: hc | E49: 0.12 | F49: 78000 | G49: =ROUND((F49*E49),0) -> 9360
G50: =F50*E50 -> 0 | I50: TRABAJADOR | J50: SALARIO MES | K50: F.PRESTACIONAL | L50: TOTAL MES | M50: DIA | N50: HORA
...

Sheet ITEM 5
C1: ANALISIS DE PRECIOS UNITARIO | F1: FECHA: | G1: 43784
F2: VERSIÓN 01 | G2: CÓDIGO FOR-124
A3: OBJETO:
A4: ANALISIS DE PRECIOS UNITARIOS
A5: CAPITULO: | B5: SUMINISTRO E INSTALACION DE TRANSFORMADOR MONOFASICO DE 75KVA 13200/240-120V
A6: SUBCAPITULO: | B6: Suministro e instalacion de poste de concreto de 12m x 750kg
A7: ITEM: | B7: 5 | F7: FECHA: | G7: 45071
A8: DESCRIPCIÓN | B8: Suministro e instalacion de poste de concreto de 12m x 750kg | F8: UNIDAD: | G8: UN
A10: 1. EQUIPOS
A11: Codigo, ins. ó Apu | B11: DESCRIPCIÓN | D11: U.M. | E11: CANTIDAD | F11: VR. UNITARIO | G11: VR. TOTAL
A12: EQ-001 | B12: Herramienta menor | D12: % | E12: 3 | F12: 5000 | G12: =ROUND((F12*E12),0) -> 15000
A13: EQ-002 | B13: servicio de grua | D13: hs | E13: 5 | F13: 120000 | G13: =F13*E13 -> 600000
A15: SUBTOTAL | G15: =+SUM(G12:G14) -> 615000
A16: 2. MATERIALES
A17: Codigo, ins. ó Apu | B17: DESCRIPCIÓN | D17: U.M. | E17: CANTIDAD | F17: VR. UNITARIO | G17: VR. TOTAL
B18: POSTE DE CONCRETO 12M x 750kg | D18: UN | E18: 1 | F18: 1700000 | G18: =E18*F18 -> 1700000
G19: =E19*F19 -> 0
G20: =E20*F20 -> 0
G21: =E21*F21 -> 0
G22: =E22*F22 -> 0
G23: =E23*F23 -> 0
G24: =E24*F24 -> 0
G25: =E25*F25 -> 0
G26: =E26*F26 -> 0
G27: =E27*F27 -> 0
G28: =E28*F28 -> 0
G29: =E29*F29 -> 0
G30: =E30*F30 -> 0
... G32: =E32*F32 -> 0
A40: SUBTOTAL | G40: =+SUM(G18:G39) -> 1700000
A41: 3. TRANSPORTE
A42: Codigo, ins. ó Apu | B42: DESCRIPCIÓN | D42: U.M. | E42: CANTIDAD | F42: VR. UNITARIO | G42: VR. TOTAL
A43: TR-ELE-001 | B43: TRANSPORTE DE MATERIAL | D43: % | E43: 0.05 | F43: =G40 -> 1700000 | G43: =ROUND((F43*E43),0) -> 85000
G44: =F44*E44 -> 0
G45: =F45*E45 -> 0
A46: SUBTOTAL | G46: =+SUM(G43:G45) -> 85000
A47: 4. MANO DE OBRA
A48: Codigo, ins. ó Apu | B48: DESCRIPCIÓN | D48: U.M. | E48: CANTIDAD | F48: VR. UNITARIO | G48: VR. TOTAL | J48: CUADRILLA FF1 ELECTRICAS ESPECIALIZADAS
A49: MdeO_E-001 | B49: CUADRILLA FF1 ELECTRICAS ESPECIALIZADAS- CON PRESTACIONES (1 ENCARGADO DE OBRA, 2 TECNICOS ESPECIALIZADOS Y 1 AYUDANTE AVANZADO) | D49: hc | E49: 5 | F49: 78000 | G49: =ROUND((F49*E49),0) -> 390000
G50: =F50*E50 -> 0 | I50: TRABAJADOR | J50: SALARIO MES | K50: F.PRESTACIONAL | L50: TOTAL MES | M50: DIA | N50: HORA
...

Sheet ITEM 6
C1: ANALISIS DE PRECIOS UNITARIO | F1: FECHA: | G1: 45308
F2: VERSIÓN 01 | G2: CÓDIGO FOR-124
A3: OBJETO:
A4: ANALISIS DE PRECIOS UNITARIOS
A5: CAPITULO: | B5: SUMINISTRO E INSTALACION DE TRANSFORMADOR MONOFASICO DE 75KVA 13200/240-120V
A6: SUBCAPITULO: | B6: Suministro e instalación de poste de concreto de 9m x 510kg
A7: ITEM: | B7: 6 | F7: FECHA: | G7: 45308
A8: DESCRIPCIÓN | B8: Suministro e instalación de poste de concreto de 9m x 510kg | F8: UNIDAD: | G8: UN
A10: 1. EQUIPOS
A11: Codigo, ins. ó Apu | B11: DESCRIPCIÓN | D11: U.M. | E11: CANTIDAD | F11: VR. UNITARIO | G11: VR. TOTAL
A12: EQ-001 | B12: Herramienta menor | D12: % | E12: =(+ROUND((G49*0.08),0)/5000) -> 3.744 | F12: 5000 | G12: =ROUND((F12*E12),0) -> 18720
A13: EQ-002 | B13: servicio de grua | D13: hs | E13: 3 | F13: 130000 | G13: =F13*E13 -> 390000
A15: SUBTOTAL | G15: =+SUM(G12:G14) -> 408720
A16: 2. MATERIALES
A17: Codigo, ins. ó Apu | B17: DESCRIPCIÓN | D17: U.M. | E17: CANTIDAD | F17: VR. UNITARIO | G17: VR. TOTAL
B18: POSTE DE CONCRETO DE 9m X 510kg | D18: UN | E18: 1 | F18: 1040000 | G18: =E18*F18 -> 1040000
G19: =E19*F19 -> 0
G20: =E20*F20 -> 0
G21: =E21*F21 -> 0
G22: =E22*F22 -> 0
G23: =E23*F23 -> 0
G24: =E24*F24 -> 0
G25: =E25*F25 -> 0
G26: =E26*F26 -> 0
G27: =E27*F27 -> 0
G28: =E28*F28 -> 0
G29: =E29*F29 -> 0
G30: =E30*F30 -> 0
... G32: =E32*F32 -> 0
A40: SUBTOTAL | G40: =+SUM(G18:G39) -> 1040000
A41: 3. TRANSPORTE
A42: Codigo, ins. ó Apu | B42: DESCRIPCIÓN | D42: U.M. | E42: CANTIDAD | F42: VR. UNITARIO | G42: VR. TOTAL
A43: TR-ELE-001 | B43: TRANSPORTE DE MATERIAL | D43: % | E43: 0.05 | F43: =G40 -> 1040000 | G43: =ROUND((F43*E43),0) -> 52000
G44: =F44*E44 -> 0
G45: =F45*E45 -> 0
A46: SUBTOTAL | G46: =+SUM(G43:G45) -> 52000
A47: 4. MANO DE OBRA
A48: Codigo, ins. ó Apu | B48: DESCRIPCIÓN | D48: U.M. | E48: CANTIDAD | F48: VR. UNITARIO | G48: VR. TOTAL | J48: CUADRILLA FF1 ELECTRICAS ESPECIALIZADAS
A49: MdeO_E-001 | B49: CUADRILLA FF1 ELECTRICAS ESPECIALIZADAS- CON PRESTACIONES (1 ENCARGADO DE OBRA, 2 TECNICOS ESPECIALIZADOS Y 1 AYUDANTE AVANZADO) | D49: hc | E49: 3 | F49: 78000 | G49: =ROUND((F49*E49),0) -> 234000
G50: =F50*E50 -> 0 | I50: TRABAJADOR | J50: SALARIO MES | K50: F.PRESTACIONAL | L50: TOTAL MES | M50: DIA | N50: HORA
...

Sheet ITEM 7
C1: ANALISIS DE PRECIOS UNITARIO | F1: FECHA: | G1: 43784
F2: VERSIÓN 01 | G2: CÓDIGO FOR-124
A3: OBJETO:
A4: ANALISIS DE PRECIOS UNITARIOS
A5: CAPITULO: | B5: SUMINISTRO E INSTALACION DE TRANSFORMADOR MONOFASICO DE 75KVA 13200/240-120V
A6: SUBCAPITULO: | B6: Suministro e instalacion de retenida baja tensión
A7: ITEM: | B7: 7 | F7: FECHA: | G7: 45071
A8: DESCRIPCIÓN | B8: Suministro e instalacion de retenida baja tensión | F8: UNIDAD: | G8: UN
A10: 1. EQUIPOS
A11: Codigo, ins. ó Apu | B11: DESCRIPCIÓN | D11: U.M. | E11: CANTIDAD | F11: VR. UNITARIO | G11: VR. TOTAL
A12: EQ-001 | B12: Herramienta menor | D12: % | E12: =(+ROUND((G49*0.08),0)/5000) -> 3.744 | F12: 5000 | G12: =ROUND((F12*E12),0) -> 18720
A15: SUBTOTAL | G15: =+SUM(G12:G14) -> 18720
A16: 2. MATERIALES
A17: Codigo, ins. ó Apu | B17: DESCRIPCIÓN | D17: U.M. | E17: CANTIDAD | F17: VR. UNITARIO | G17: VR. TOTAL
B18: BLOQUE DE CONCRETO PARA RETENIDA 40X20X20CM | D18: UN | E18: 1 | F18: 34667 | G18: =E18*F18 -> 34667
B19: CABLE ACERADO PARA RETENIDA DE 3/8 | D19: ML | E19: 15 | F19: 7933 | G19: =E19*F19 -> 118995
B20: GUARDA CABO | D20: UN | E20: 1 | F20: 3067 | G20: =E20*F20 -> 3067
B21: PREFORMADO PARA RETENIDA 3/8 | D21: UN | E21: 4 | F21: 34667 | G21: =E21*F21 -> 138668
B22: VARILLA DE ANCLAJE 1,80M | D22: UN | E22: 1 | F22: 46833 | G22: =E22*F22 -> 46833
B23: TENSOR PARA RETENIDA | D23: UN | E23: 1 | F23: 15000 | G23: =E23*F23 -> 15000
B24: PROTECTOR DE SEÑALIZACION PLSTICO 2" X 96" | D24: UN | E24: 1 | F24: 45000 | G24: =E24*F24 -> 45000
B25: PLETINA GALVANIZADA 3/4 | D25: UN | E25: 1 | F25: 86333 | G25: =E25*F25 -> 86333
B26: GRILLETE 5/8 | D26: UN | E26: 1 | F26: 15333 | G26: =E26*F26 -> 15333
B27: PERNO TIPO MAQUINA 5/8 X 12 | D27: UN | E27: 2 | F27: 7213 | G27: =E27*F27 -> 14426
B28: ARANDELA CUADRADA CURVA | D28: UN | E28: 2 | F28: 3233 | G28: =E28*F28 -> 6466
G29: =E29*F29 -> 0
G30: =E30*F30 -> 0
G31: =E31*F31 -> 0
G32: =E32*F32 -> 0
A40: SUBTOTAL | G40: =+SUM(G18:G39) -> 524788
A41: 3. TRANSPORTE
A42: Codigo, ins. ó Apu | B42: DESCRIPCIÓN | D42: U.M. | E42: CANTIDAD | F42: VR. UNITARIO | G42: VR. TOTAL
A43: TR-ELE-001 | B43: TRANSPORTE DE MATERIAL | D43: % | E43: 0.05 | F43: =G40 -> 524788 | G43: =ROUND((F43*E43),0) -> 26239
G44: =F44*E44 -> 0
G45: =F45*E45 -> 0
A46: SUBTOTAL | G46: =+SUM(G43:G45) -> 26239
A47: 4. MANO DE OBRA
A48: Codigo, ins. ó Apu | B48: DESCRIPCIÓN | D48: U.M. | E48: CANTIDAD | F48: VR. UNITARIO | G48: VR. TOTAL | J48: CUADRILLA FF1 ELECTRICAS ESPECIALIZADAS
A49: MdeO_E-001 | B49: CUADRILLA FF1 ELECTRICAS ESPECIALIZADAS- CON PRESTACIONES (1 ENCARGADO DE OBRA, 2 TECNICOS ESPECIALIZADOS Y 1 AYUDANTE AVANZADO) | D49: hc | E49: 3 | F49: 78000 | G49: =ROUND((F49*E49),0) -> 234000
G50: =F50*E50 -> 0 | I50: TRABAJADOR | J50: SALARIO MES | K50: F.PRESTACIONAL | L50: TOTAL MES | M50: DIA | N50: HORA
...

Sheet MANTENIMIENTO
C1: ANALISIS DE PRECIOS UNITARIO | F1: FECHA: | G1: 43784
F2: VERSIÓN 01 | G2: CÓDIGO FOR-124
A3: OBJETO:
A4: ANALISIS DE PRECIOS UNITARIOS
A5: CAPITULO: | B5: SUMINISTRO E INSTALACION DE TRANSFORMADOR MONOFASICO DE 75KVA 13200/240-120V
A6: SUBCAPITULO: | B6: Mantenimiento y/o reparacion de transformador monofasico
A7: ITEM: | B7: 7 | F7: FECHA: | G7: 45071
A8: DESCRIPCIÓN | B8: Mantenimiento y/o reparacion de transformador monofasico, Limpieza y ajuste general de los transformadoresAjuste de conexión de los tap’s del conmutadorConexión de los terminales de alta y baja tensión *Reemplazo de empaquetaduras.*Filtrado, secado y/o cambio de aceite. SERVICIO DE GRUA*Reemplazo de instrumentos (Niveles de aceite,termómetros, etc.).*Cambio de espigas de AT y BT.*Cambios de TAP.*Reemplazo de accesorios en la subestación. (crucetas, aisladores, etc.) | F8: UNIDAD: | G8: UN
A10: 1. EQUIPOS
A11: Codigo, ins. ó Apu | B11: DESCRIPCIÓN | D11: U.M. | E11: CANTIDAD | F11: VR. UNITARIO | G11: VR. TOTAL
A12: EQ-001 | B12: Herramienta menor | D12: % | E12: 7 | F12: 8000 | G12: =ROUND((F12*E12),0) -> 56000
A13: EQ-002 | B13: Servicio de grua para trabajo en caliente | D13: hs | E13: 8 | F13: 175000 | G13: =F13*E13 -> 1400000
A15: SUBTOTAL | G15: =+SUM(G12:G14) -> 1456000
A16: 2. MATERIALES
A17: Codigo, ins. ó Apu | B17: DESCRIPCIÓN | D17: U.M. | E17: CANTIDAD | F17: VR. UNITARIO | G17: VR. TOTAL
B18: elementos y componentes agotables | D18: UN | E18: 1 | F18: 1900000 | G18: =E18*F18 -> 1900000
G19: =E19*F19 -> 0
G20: =E20*F20 -> 0
G21: =E21*F21 -> 0
G22: =E22*F22 -> 0
G23: =E23*F23 -> 0
G24: =E24*F24 -> 0
G25: =E25*F25 -> 0
G26: =E26*F26 -> 0
G27: =E27*F27 -> 0
G28: =E28*F28 -> 0
G29: =E29*F29 -> 0
G30: =E30*F30 -> 0
... G32: =E32*F32 -> 0
A40: SUBTOTAL | G40: =+SUM(G18:G39) -> 1900000
A41: 3. TRANSPORTE
A42: Codigo, ins. ó Apu | B42: DESCRIPCIÓN | D42: U.M. | E42: CANTIDAD | F42: VR. UNITARIO | G42: VR. TOTAL
A43: TR-ELE-001 | B43: TRANSPORTE | D43: % | E43: 0.15 | F43: =G40 -> 1900000 | G43: =ROUND((F43*E43),0) -> 285000
G44: =F44*E44 -> 0
G45: =F45*E45 -> 0
A46: SUBTOTAL | G46: =+SUM(G43:G45) -> 285000
A47: 4. MANO DE OBRA
A48: Codigo, ins. ó Apu | B48: DESCRIPCIÓN | D48: U.M. | E48: CANTIDAD | F48: VR. UNITARIO | G48: VR. TOTAL | J48: CUADRILLA FF1 ELECTRICAS ESPECIALIZADAS
A49: MdeO_E-001 | B49: CUADRILLA INSTALACIONES ELECTRICAS- CON PRESTACIONES (2 TECNICO,1 OFICIAL Y 1 AYUDANTE) | D49: hc | E49: 8 | F49: 156000 | G49: =ROUND((F49*E49),0) -> 1248000
D50: hc | I50: TRABAJADOR | J50: SALARIO MES | K50: F.PRESTACIONAL | L50: TOTAL MES | M50: DIA | N50: HORA
...

Sheet LISTADO DE MATERIALES Y COTIZ
C4: ALCALDIA MUNICIPAL VALLEDUPAR
C5: COTIZACION LISTA DE MATERILAES
C7: ITEM | D7: DESCRIPCION | E7: UNIDAD DE MEDIDA | F7: CANT | G7: SERVIELECTRIC FERRETERIA. NIT. 77,016,025-4 | H7: ELECTRORED ING SAS NIT: 901228274-1 | I7: ELECTRICOS JOE S.A.S. NIT:901568226-4 | J7: SUMATORIA | K7: VR UNITARIO PROMEDIO | L7: VR TOTAL
C8: 1 | D8: TRANSFORMADOR MONOFASICO DE 75KVA 13200/240-120V | E8: UN | F8: 1 | G8: 27523510 | H8: 27800000 | I8: 27820000 | J8: =G8+H8+I8 -> 83143510 | K8: =J8/3 -> 27714503 | L8: =K8*F8 -> 27714503
C9: 2 | D9: PARARAYOS POLIMERICO 15KV- 10KA | E9: UN | F9: 1 | G9: 214200 | H9: 225000 | I9: 223000 | J9: =G9+H9+I9 -> 662200 | K9: =J9/3 -> 220733.33 | L9: =K9*F9 -> 220733.33
C10: 3 | D10: kit de puesta a tierra STV SPT 14m con varilla 5/8 2.4m | E10: UN | F10: 1 | G10: 345100 | H10: 350000 | I10: 348000 | J10: =G10+H10+I10 -> 1043100 | K10: =J10/3 -> 347700 | L10: =K10*F10 -> 347700
C11: 4 | D11: CABLE CU THHN/THWN-2 2AWG | E11: ML | F11: 1 | G11: 26000 | H11: 27000 | I11: 26500 | J11: =G11+H11+I11 -> 79500 | K11: =J11/3 -> 26500 | L11: =K11*F11 -> 26500
C12: 5 | D12: COLLARIN PARA TRANSFORMADOR DE 10-12" | E12: UN | F12: 1 | G12: 45000 | H12: 50000 | I12: 47000 | J12: =G12+H12+I12 -> 142000 | K12: =J12/3 -> 47333.333 | L12: =K12*F12 -> 47333.333
C13: 6 | D13: Cruceta Metalica de 3 x 1- 4 x 2 40 m autosoportada | E13: UN | F13: 1 | G13: 285600 | H13: 292000 | I13: 280000 | J13: =G13+H13+I13 -> 857600 | K13: =J13/3 -> 285866.67 | L13: =K13*F13 -> 285866.67
C14: 7 | D14: CONECTOR AMOBIBLE | E14: UN | F14: 1 | G14: 45000 | H14: 45800 | I14: 44000 | J14: =G14+H14+I14 -> 134800 | K14: =J14/3 -> 44933.333 | L14: =K14*F14 -> 44933.333
C15: 8 | D15: CONECTOR AMPA 1/0 -2/0 | E15: UN | F15: 1 | G15: 25000 | H15: 25000 | I15: 26000 | J15: =G15+H15+I15 -> 76000 | K15: =J15/3 -> 25333.333 | L15: =K15*F15 -> 25333.333
C16: 9 | D16: PERNO MAQUINA 5/8 X 12 | E16: UN | F16: 1 | G16: 7140 | H16: 7500 | I16: 7000 | J16: =G16+H16+I16 -> 21640 | K16: =J16/3 -> 7213.3333 | L16: =K16*F16 -> 7213.3333
C17: 10 | D17: CONECTOR AMPA CON ESTRIBO ESTRIBO 1/0 -2/0 | E17: UN | F17: 1 | G17: 44000 | H17: 47000 | I17: 49000 | J17: =G17+H17+I17 -> 140000 | K17: =J17/3 -> 46666.667 | L17: =K17*F17 -> 46666.667
C18: 11 | D18: CAJA CORTACIRCUITOS 15KV - 100A | E18: UN | F18: 1 | G18: 260000 | H18: 270000 | I18: 265000 | J18: =G18+H18+I18 -> 795000 | K18: =J18/3 -> 265000 | L18: =K18*F18 -> 265000
C19: 12 | D19: AISLADOR tipo carrete 76x79 mm ANSI 53-2 | E19: UN | F19: 1 | G19: 4500 | H19: 5500 | I19: 5200 | J19: =G19+H19+I19 -> 15200 | K19: =J19/3 -> 5066.6667 | L19: =K19*F19 -> 5066.6667
... C35: 28 | D35: ARANDELA CUADRADA CURVA | E35: UN | F35: 1 | G35: 3000 | H35: 3500 | I35: 3200 | J35: =G35+H35+I35 -> 9700 | K35: =J35/3 -> 3233.3333 | L35: =K35*F35 -> 3233.3333
