Workbook

Sheet FOR-GEC-035
H1: PROCESO GESTIÓN CONTRACTUAL FORMATO ANÁLISIS DE RIESGOS PREVISIBLES DE LA CONTRATACIÓN | Z1: Código: FOR-GEC-035
Z2: Versión: 0
Z3: Fecha: Memo I2021034620 - 12/11/2021
Z4: Página: 1 de 1
B6: 1. IDENTIFICACIÓN | I6: 2. EVALUACION | M6: 3. ASIGNACION | O6: 4. PLAN DE TRATAMIENTO | U6: 5. EFECTO | Z6: 6. MONITOREO Y REVISIÓN
B7: N° | C7: Clase | D7: Fuente | E7: Etapa | F7: Tipo | G7: DESCRIPCIÓN DEL RIESGO (Qué puede pasar y, como puede ocurrir) | H7: CONSECUENCIA (de la ocurrencia del evento) | I7: Probabilidad | J7: Impacto | K7: Total | L7: Categoría | M7: SDIS | N7: Contratista | O7: Tratamiento 1 | P7: Tratamiento 2 | Q7: Tratamiento / Controles a ser implementados | R7: Persona responsable del tratamiento | S7: Fecha de Inicio | T7: Fecha de Fin | U7: Probabilidad | V7: Impacto | W7: Total | X7: Categoría | Y7: Afecta la ejecución del contrato? | Z7: Cómo se realiza el monitoreo? | AA7: Persona responsable del monitoreo | AB7: Periodicidad ¿Cuándo?
B8: 1 | C8: Específico | D8: Externo | E8: Ejecución | F8: Operacionales | G8: Eventos que pondrían en riesgo la integridad y la seguridad del contratista en razòn a la prestaciòn del servicio. | H8: Traslado del servicio. | I8: Posible | J8: Menor | K8: =IFERROR((VLOOKUP(I8,[1]Tablas!$B$16:$C$20,2,FALSE))+(VLOOKUP(J8,[1]Tablas!$E$16:$F$20,2,FALSE)),0) -> 5 | L8: =IFERROR(VLOOKUP(K8,[1]Tablas!$H$16:$I$25,2,FALSE),"") -> Riesgo Medio | N8: x | O8: Evitar | P8: Redicir la Probabilidad | Q8: Redistribuciòn del personal para suplir el servicio. | R8: Supervisor del contrato | S8: Fecha de Inicio | T8: Fecha de terminaciòn | U8: Probable | V8: Moderado | W8: 7 | X8: =IFERROR(VLOOKUP(W8,[1]Tablas!$H$16:$I$25,2,FALSE),"") -> Riesgo Alto | Y8: SI | Z8: Seguimento durante la ejecución del contrato | AA8: Supervisor | AB8: Durante la ejecución del contrato
B9: 2 | C9: General | D9: Externo | E9: Ejecución | F9: Regulatorios | G9: Efectos desfavorables derivados de situaciones de orden público que alteren la ejecución del objeto del contrato | H9: Afectación a las intalaciones, los servicios o las personas que se encuentren en los centros de atención | I9: Raro | J9: Moderado | K9: =IFERROR((VLOOKUP(I9,Tablas!$B$16:$C$20,2,FALSE))+(VLOOKUP(J9,Tablas!$E$16:$F$20,2,FALSE)),0) -> 4 | L9: =IFERROR(VLOOKUP(K9,Tablas!$H$16:$I$25,2,FALSE),"") -> Riesgo Bajo | M9: X | N9: x | O9: Aceptar | P9: Reducir las Consecuencias | Q9: Acciones Preventivas dirigidas a reducir la situacion Proceder al reemplazo y hacer reparaciones de llegarse a dar. | R9: Supervisor y Contratista | S9: al momento de presentarse la afectación del orden público | T9: cumplimiento del plan de contingencia | U9: Raro | V9: Moderado | W9: =IFERROR((VLOOKUP(U9,Tablas!$B$16:$C$20,2,FALSE))+(VLOOKUP(V9,Tablas!$E$16:$F$20,2,FALSE)),0) -> 4 | X9: =IFERROR(VLOOKUP(W9,Tablas!$H$16:$I$25,2,FALSE),"") -> Riesgo Bajo | Y9: SI | Z9: A partir de la ocurrencia del evento | AA9: Supervisor | AB9: Una vez presentado el plan de contingencia, si se presenta el riesgo.
B10: 3 | C10: Específico | D10: Externo | E10: Ejecución | F10: Operacionales | G10: Propagación de enfermedades, emergencias sanitarias y ambientales, epidemias y pandemias que obliguen al cierre temporal o suspensión de actividades por orden de alguna autoridad competente y/o por medidas sanitarias de prevención que se deban aplicar | H10: Afecta el cumplimiento de las obligaciones, la satisfacción de la necesidad, actividades previstas y/o plazos dispuestos para la ejecución del Contrato , junto con los derechos de las personas participantes del servicio. | I10: probable | J10: Moderado | K10: =IFERROR((VLOOKUP(I10,Tablas!$B$16:$C$20,2,FALSE))+(VLOOKUP(J10,Tablas!$E$16:$F$20,2,FALSE)),0) -> 7 | L10: =IFERROR(VLOOKUP(K10,Tablas!$H$16:$I$25,2,FALSE),"") -> Riesgo Alto | M10: X | N10: x | O10: Evitar | P10: Reducir las Consecuencias | Q10: Efectuar los procedimientos sanitarios de aseo y desafección dispuestos por las autoridades competentes, aplicar los protocolos de salubridad y componentes de seguridad y salud en el trabajo y del Plan Nacional de Vacunación y coordinar las medidas preventivas con la Secretaria de Salud que corresponda. Aplicar recomendaciones sanitaria | R10: Supervisor y Contratista | S10: Desde el inicio de ejecución del contrato | T10: El momento en que la autoridad competente levante la suspensión | U10: Posible | V10: Moderado | W10: =IFERROR((VLOOKUP(U10,Tablas!$B$16:$C$20,2,FALSE))+(VLOOKUP(V10,Tablas!$E$16:$F$20,2,FALSE)),0) -> 6 | X10: =IFERROR(VLOOKUP(W10,Tablas!$H$16:$I$25,2,FALSE),"") -> Riesgo Alto | Y10: SI | Z10: Permanente comunicación interinstitucional con la Secretaría de Salud y seguimiento a los conceptos de la autoridad sobre la evolución de la problemática; de presentarse. Informado a la supervisión. | AA10: Supervisor | AB10: Diario
B11: 4 | C11: Específico | D11: Externo | E11: Ejecución | F11: Operacionales | G11: Daños en las instalaciones, destrucción y deterioro funcional de bienes, enseres y elementos de dotación de las instalaciones, preparados para la atención y servicio, generados por hechos de los sujetos de atención o por terceros. | H11: Aumento en las reparaciones y mantenimientos locativos y de bienes donde se este desarrollando el servicio. | I11: probable | J11: mayor | K11: =IFERROR((VLOOKUP(I11,Tablas!$B$16:$C$20,2,FALSE))+(VLOOKUP(J11,Tablas!$E$16:$F$20,2,FALSE)),0) -> 8 | L11: =IFERROR(VLOOKUP(K11,Tablas!$H$16:$I$25,2,FALSE),"") -> Riesgo Extremo | N11: X | O11: Aceptar | P11: Reducir las Consecuencias | Q11: Realizar las reparaciones y acciones preventivas conforme al Manual de mantenimiento, y proceder con los cambios de los bienes y enseres o elementos de dotacion que se requieran. | R11: Contratista | S11: A partir de la ocurrencia de las conducta | T11: Cuando se realice la reparación, ajuste o cambio | U11: Posible | V11: Mayor | W11: =IFERROR((VLOOKUP(U11,Tablas!$B$16:$C$20,2,FALSE))+(VLOOKUP(V11,Tablas!$E$16:$F$20,2,FALSE)),0) -> 7 | X11: =IFERROR(VLOOKUP(W11,Tablas!$H$16:$I$25,2,FALSE),"") -> Riesgo Alto | Y11: SI | Z11: Seguimiento del equipo de apoyo a las actividades de reparación, ajuste o cambio. | AA11: Supervisor | AB11: Cada vez que se realicen visitas de seguimiento
B12: 5 | C12: Específico | D12: Externo | E12: Ejecución | F12: Sociales o Políticos | G12: Cambio de las políticas gubernamentales y cambios en las condiciones sociales que tengan impacto en la ejecución de contrato | H12: Modificación del soporte jurídico del contrato y ejecución del mismo. | I12: Improbable | J12: Mayor | K12: =IFERROR((VLOOKUP(I12,Tablas!$B$16:$C$20,2,FALSE))+(VLOOKUP(J12,Tablas!$E$16:$F$20,2,FALSE)),0) -> 6 | L12: =IFERROR(VLOOKUP(K12,Tablas!$H$16:$I$25,2,FALSE),"") -> Riesgo Alto | M12: x | N12: X | O12: Aceptar | P12: Reducir las Consecuencias | Q12: Estructuración de acciones de contingencia según el caso que se presente cuando se materialice el riesgo | R12: Supervisor y Contratista | S12: Inicio de ejecución del contrato | T12: hasta finalizar la ejecución del contrato | U12: Improbable | V12: Menor | W12: =IFERROR((VLOOKUP(U12,Tablas!$B$16:$C$20,2,FALSE))+(VLOOKUP(V12,Tablas!$E$16:$F$20,2,FALSE)),0) -> 4 | X12: =IFERROR(VLOOKUP(W12,Tablas!$H$16:$I$25,2,FALSE),"") -> Riesgo Bajo | Y12: NO | Z12: Seguimiento durante la ejecución del contrato | AA12: Supervisor | AB12: Cuando se materialice el riesgo y se implementes las acciones de contingencia
B13: 6 | C13: Específico | D13: Externo | E13: Ejecución | F13: Sociales o Políticos | G13: Efectos favorables y desfavorables derivados de las modificaciones al régimen tributario, impuestos o cargas parafiscales, que implique afectación a la ejecución del contrato y la prestación del servicio. | H13: Genera variaciones económicas no previstas, que puede afectar el Contrato. | I13: Posible | J13: Moderado | K13: =IFERROR((VLOOKUP(I13,Tablas!$B$16:$C$20,2,FALSE))+(VLOOKUP(J13,Tablas!$E$16:$F$20,2,FALSE)),0) -> 6 | L13: =IFERROR(VLOOKUP(K13,Tablas!$H$16:$I$25,2,FALSE),"") -> Riesgo Alto | M13: x | N13: X | O13: Aceptar | P13: Reducir las Consecuencias | Q13: Aplicar de manera inmediata las disposiciones legales y ajuste de los procesos internos de la entidad. | R13: Supervisor y Contratista | S13: momento de presentarse la nueva normatvidad | T13: Hasta finalizar la ejecución del Contrato o la vigencia de la normatividad | U13: Posible | V13: Mayor | W13: =IFERROR((VLOOKUP(U13,Tablas!$B$16:$C$20,2,FALSE))+(VLOOKUP(V13,Tablas!$E$16:$F$20,2,FALSE)),0) -> 7 | X13: =IFERROR(VLOOKUP(W13,Tablas!$H$16:$I$25,2,FALSE),"") -> Riesgo Alto | Y13: NO | Z13: A partir de que se impongan las disposiciones legales | AA13: Supervisor | AB13: A partir de que se impongan las disposiciones legales
B14: 7 | C14: Específico | D14: Externo | E14: Ejecución | F14: Económicos | G14: Se presenta por la expedición de normas que impongan nuevos tributos, impuestos, cargas parafiscales, modificaciones de acuerdo a Leyes y decretos de orden nacional y/o Distrital, incrementos en el IPC, entre otros. | H14: Afectación de los precios de los bienes y servicios | I14: Probable | J14: Moderado | K14: 5 | L14: =IFERROR(VLOOKUP(K14,[1]Tablas!$H$16:$I$25,2,FALSE),"") -> Riesgo Medio | N14: x | O14: Aceptar | P14: Reducir las Consecuencias | Q14: Verificación al incremento de precios, tarifas mínimas y aplicación a las disposiciónes legales vigentes para la ejecución del contrato. | R14: Supervisor y Contratista | S14: Al momento de entrar en vigencia la nueva normatividad | T14: hasta finalizar la ejecución del contrato | U14: Posible | V14: Moderado | W14: 4 | X14: =IFERROR(VLOOKUP(W14,[1]Tablas!$H$16:$I$25,2,FALSE),"") -> Riesgo Bajo | Y14: NO | Z14: A partir de que se impongan las disposiciones legales | AA14: Supervisor | AB14: partir de que se impongan las disposiciones legales que modifican los Precios.
B15: 8 | C15: Específico | D15: Externo | E15: Ejecución | F15: Sociales o Políticos | G15: Ocurrencia de hechos de fuerza mayor asegurable, no asegurable o caso fortuito en los términos del contrato. | H15: Ocurrencia de daños no previsibles que afecten la ejecución del contrato | I15: Improbable | J15: Mayor | K15: =IFERROR((VLOOKUP(I15,Tablas!$B$16:$C$20,2,FALSE))+(VLOOKUP(J15,Tablas!$E$16:$F$20,2,FALSE)),0) -> 6 | L15: =IFERROR(VLOOKUP(K15,Tablas!$H$16:$I$25,2,FALSE),"") -> Riesgo Alto | M15: x | N15: X | O15: Aceptar | P15: Reducir las Consecuencias | Q15: Revisión de los daños que pudiesen ocurrir por un evento de fuerza mayor o caso fortuito | R15: Supervisor y Contratista | S15: Inicio de ejecución del contrato | T15: hasta finalizar la ejecución del contrato | U15: Posible | V15: Moderado | W15: =IFERROR((VLOOKUP(U15,Tablas!$B$16:$C$20,2,FALSE))+(VLOOKUP(V15,Tablas!$E$16:$F$20,2,FALSE)),0) -> 6 | X15: =IFERROR(VLOOKUP(W15,Tablas!$H$16:$I$25,2,FALSE),"") -> Riesgo Alto | Y15: SI | Z15: Seguimiento del equipo de supervisión en la ejecución del contrato | AA15: Supervisor y Contratista | AB15: Cuando ocurra el hecho de fuerza mayor o caso fortuito.
B16: 9 | C16: Específico | D16: Interno | E16: Selección | F16: Sociales o Políticos | G16: Incurrir en prácticas que contravengan la ética, la moral y/o la transparencia, para beneficio propio o de terceros | H16: * Investigaciones disciplinarias, fiscales y penales * Retrasos en la contratación | I16: Posible | J16: Mayor | K16: =IFERROR((VLOOKUP(I16,Tablas!$B$16:$C$20,2,FALSE))+(VLOOKUP(J16,Tablas!$E$16:$F$20,2,FALSE)),0) -> 7 | L16: =IFERROR(VLOOKUP(K16,Tablas!$H$16:$I$25,2,FALSE),"") -> Riesgo Alto | M16: X | N16: X | O16: Evitar | P16: Reducir las Consecuencias | Q16: * Garantizar el personal idoneo y con experiencia para el comité evaluador que verifique conforme a los requisitos establecidos en el Proceso. * Inducción y/o Capacitación en la deteccion de sesgos en los criterios de evaluación. | R16: Subdirección para la Adultez | S16: Desde el cargue e inicio del proceso en SECOP II | T16: Hasta la liquidación del contrato | U16: Posible | V16: Moderado | W16: =IFERROR((VLOOKUP(U16,Tablas!$B$16:$C$20,2,FALSE))+(VLOOKUP(V16,Tablas!$E$16:$F$20,2,FALSE)),0) -> 6 | X16: =IFERROR(VLOOKUP(W16,Tablas!$H$16:$I$25,2,FALSE),"") -> Riesgo Alto | Y16: SI | Z16: A partir de la ocurrencia del evento | AA16: Subdirección para la Adultez | AB16: Mensual
B17: 10 | C17: Específico | D17: Externo | E17: Contratación | F17: Sociales o Políticos | G17: Presentación de reclamos de terceros sobre la selección del oferente que retrasen el perfeccionamiento del contrato. | H17: Retrasos en la ejecucion del contrato | I17: Improbable | J17: Moderado | K17: =IFERROR((VLOOKUP(I17,Tablas!$B$16:$C$20,2,FALSE))+(VLOOKUP(J17,Tablas!$E$16:$F$20,2,FALSE)),0) -> 5 | L17: =IFERROR(VLOOKUP(K17,Tablas!$H$16:$I$25,2,FALSE),"") -> Riesgo Medio | M17: X | O17: Aceptar | P17: Reducir las Consecuencias | Q17: * Claridad de la informacion publicada en SECOP conforme a las evaluaciones realizadas dentro de los tiempos establecidos en la invitación. * Proceder acorde a los requisitos establecidos del proceso reduciendo inconformidades de terceros. | R17: Supervisor y Contratista | S17: En la adjudicacion del contrato | T17: Hasta el Inicio del contrato | U17: Improbable | V17: Insignificante | W17: =IFERROR((VLOOKUP(U17,Tablas!$B$16:$C$20,2,FALSE))+(VLOOKUP(V17,Tablas!$E$16:$F$20,2,FALSE)),0) -> 3 | X17: =IFERROR(VLOOKUP(W17,Tablas!$H$16:$I$25,2,FALSE),"") -> Riesgo Bajo | Y17: NO | Z17: A partir de la ocurrencia del evento | AA17: Supervisor y Contratista | AB17: Cada vez que se presente
B18: 11 | C18: Específico | D18: Externo | E18: Ejecución | F18: Económicos | G18: Mayor Incremento del IPC proyectado por cambio de vigencia fiscal, Fluctuación de los precios de los insumos, desabastecimiento y especulación de los mismos requeridos para la prestación del servicio. | H18: Genera variaciones económicas no previstas, que puede afectar el ccontrato | I18: Probable | J18: Menor | K18: =IFERROR((VLOOKUP(I18,Tablas!$B$16:$C$20,2,FALSE))+(VLOOKUP(J18,Tablas!$E$16:$F$20,2,FALSE)),0) -> 6 | L18: =IFERROR(VLOOKUP(K18,Tablas!$H$16:$I$25,2,FALSE),"") -> Riesgo Alto | M18: X | N18: X | O18: Aceptar | P18: Reducir las Consecuencias | Q18: Verificar la fluctuación de precios de los bienes o insumos o servicios y realizar la aplicar el reconocimiento, debidamente probada de la fluctuacion correspondiente de los bienes e insumos o servicios que permitan garantizar la prestacion del servicio sin afectar la ecuación financiera del contrato. | R18: Contratista | S18: Al momento de entrar en vigencia la nueva normatividad | T18: hasta finalizar la ejecución del contrato | U18: Posible | V18: Menor | W18: =IFERROR((VLOOKUP(U18,Tablas!$B$16:$C$20,2,FALSE))+(VLOOKUP(V18,Tablas!$E$16:$F$20,2,FALSE)),0) -> 5 | X18: =IFERROR(VLOOKUP(W18,Tablas!$H$16:$I$25,2,FALSE),"") -> Riesgo Medio | Y18: NO | Z18: Desde que entren en vigencia las disposiciones legales | AA18: Supervisor | AB18: Mensual
B19: 12 | C19: Específico | D19: Externo | E19: Ejecución | F19: Regulatorios | G19: Demoras en obtener, avales, permisos, autorizaciones y paz y salvos de otras entidades, y empresas de servicios públicos domiciliarios. A pesar de la debida diligencia del contratista, con la calidad y oportunidad rigurosa, otras entidades no atienden oportunamente la gestión requerida. | H19: Afecta el cumplimiento de las obligaciones, la satisfacción de la necesidad, actividades previstas y/o plazos dispuestos para la ejecución del contrato, junto con los derechos de las personas participantes del servicio. | I19: Posible | J19: Mayor | K19: =IFERROR((VLOOKUP(I19,Tablas!$B$16:$C$20,2,FALSE))+(VLOOKUP(J19,Tablas!$E$16:$F$20,2,FALSE)),0) -> 7 | L19: =IFERROR(VLOOKUP(K19,Tablas!$H$16:$I$25,2,FALSE),"") -> Riesgo Alto | N19: X | O19: Aceptar | P19: Reducir las Consecuencias | Q19: Buscar alternativas que garanticen la prestación ininterrumpida del servicio público | R19: Supervisor y Contratista | S19: Al momento de presentarse la anomalia | T19: Hasta finalizar el mes que presenta la anomalia | U19: Posible | V19: Moderado | W19: =IFERROR((VLOOKUP(U19,Tablas!$B$16:$C$20,2,FALSE))+(VLOOKUP(V19,Tablas!$E$16:$F$20,2,FALSE)),0) -> 6 | X19: =IFERROR(VLOOKUP(W19,Tablas!$H$16:$I$25,2,FALSE),"") -> Riesgo Alto | Y19: NO | Z19: A partir de la ocurrencia del evento | AA19: Supervisor y Contratista | AB19: Mensual
B20: 13 | C20: Específico | D20: Interno | E20: Ejecución | F20: Financieros | G20: Falta de pago oportuno a las cuentas tramitadas por el contratista por presentar errores en la documentación necesaria para dicho trámite o por no corregirlos a tiempo. | H20: Pérdida de liquidez por parte deContratista | I20: Posible | J20: Mayor | K20: =IFERROR((VLOOKUP(I20,Tablas!$B$16:$C$20,2,FALSE))+(VLOOKUP(J20,Tablas!$E$16:$F$20,2,FALSE)),0) -> 7 | L20: =IFERROR(VLOOKUP(K20,Tablas!$H$16:$I$25,2,FALSE),"") -> Riesgo Alto | M20: X | N20: X | O20: Aceptar | P20: Reducir las Consecuencias | Q20: Al inicio del contrato y cuando se requiera socializar los procedimientos, documentos requridos para dicho tramite. | R20: Supervisor y Contratista | S20: Al momento de presentarse la anomalia | T20: Hasta finalizar el mes que presenta la anomalia | U20: Posible | V20: Moderado | W20: =IFERROR((VLOOKUP(U20,Tablas!$B$16:$C$20,2,FALSE))+(VLOOKUP(V20,Tablas!$E$16:$F$20,2,FALSE)),0) -> 6 | X20: =IFERROR(VLOOKUP(W20,Tablas!$H$16:$I$25,2,FALSE),"") -> Riesgo Alto | Y20: NO | Z20: A partir de la ocurrencia del evento | AA20: Supervisor y Contratista | AB20: Mensual
B21: 14 | C21: General | D21: Externo | E21: Ejecución | F21: Regulatorios | G21: Que al proponente adjudicado se le comunique, notifique e imponga inhabilidad de contratar con el Estado y/o Entidades Públicas, durante la ejecución del contrato. | H21: 1. Imposibilidad de ejecutar el contrato. 2. Demoras en la ejecución. | I21: Posible | J21: Catastrófico | K21: =IFERROR((VLOOKUP(I21,Tablas!$B$16:$C$20,2,FALSE))+(VLOOKUP(J21,Tablas!$E$16:$F$20,2,FALSE)),0) -> 8 | L21: =IFERROR(VLOOKUP(K21,Tablas!$H$16:$I$25,2,FALSE),"") -> Riesgo Extremo | O21: Aceptar | P21: Reducir las Consecuencias | Q21: Revisar continuamente las plataformas y Entidades respecto a los antecedentes del los miembros del Consorcio o Unión Temporal o de la persona Jurídica y sus integrantes y en dado de presentarse alguna inhabilidad en contratar con el estado o Entidades Publicas, tomar las medidas correspondientes dado el caso. | R21: Supervisor y Contratista | S21: Al momento de presentarse la anomalia | T21: Hasta finalizar el mes que presenta la anomalia | U21: Posible | V21: Moderado | W21: =IFERROR((VLOOKUP(U21,Tablas!$B$16:$C$20,2,FALSE))+(VLOOKUP(V21,Tablas!$E$16:$F$20,2,FALSE)),0) -> 6 | X21: =IFERROR(VLOOKUP(W21,Tablas!$H$16:$I$25,2,FALSE),"") -> Riesgo Alto | Y21: NO | Z21: A partir de la ocurrencia del evento | AA21: Supervisor y Contratista | AB21: BiMensual

Sheet Tablas
B3: CLASE | D3: FUENTE | F3: ETAPA | H3: TIPO DE RIESGO | K3: TRATAMIENTO | L3: TRATAMIENTO2 | N3: ASIGNACIÓN | P3: AFECTA EJECUCION
B4: General | D4: Interno | F4: Planeación | H4: Económicos | K4: Evitar | L4: Evitar | N4: SDIS | P4: SI
B5: Específico | D5: Externo | F5: Selección | H5: Sociales o Políticos | K5: Transferir | L5: Transferir | N5: Contratista o Asociado | P5: NO
F6: Contratación | H6: Operacionales | K6: Aceptar | L6: Aceptar
F7: Ejecución | H7: Financieros | K7: Reducir la Probabilidad | L7: Reducir la Probabilidad
H8: Regulatorios | K8: Reducir las Consecuencias | L8: Reducir las Consecuencias
H9: De la Naturaleza | L9: N/A | O9: RESPONSABLE TRATAMIENTO
H10: Ambientales | O10: SDIS
H11: Tecnológicos | O11: Contratista o Asociado
O12: Supervisión - Contratista o Asociado
B14: PROBABILIDAD | E14: IMPACTO | H14: CATEGORÍA
B15: Categoría | C15: Valoración | E15: Categoría | F15: Valoración | H15: Valoración | I15: Categoría
B16: Raro | C16: 1 | E16: Insignificante | F16: 1 | H16: 1 | I16: Riesgo Bajo
B17: Improbable | C17: 2 | E17: Menor | F17: 2 | H17: 2 | I17: Riesgo Bajo
B18: Posible | C18: 3 | E18: Moderado | F18: 3 | H18: 3 | I18: Riesgo Bajo
B19: Probable | C19: 4 | E19: Mayor | F19: 4 | H19: 4 | I19: Riesgo Bajo
B20: Casi Cierto | C20: 5 | E20: Catastrófico | F20: 5 | H20: 5 | I20: Riesgo Medio
H21: 6 | I21: Riesgo Alto
H22: 7 | I22: Riesgo Alto
H23: 8 | I23: Riesgo Extremo
H24: 9 | I24: Riesgo Extremo
H25: 10 | I25: Riesgo Extremo

Sheet INSTRUCCIONES DILIGENCIAMIENTO
A1: INSTRUCCIONES DE DILIGENCIAMIENTO
A3: 1. IDENTIFICACIÓN
A4: Seleccione de la lista desplegable la Clase, Fuente, Etapa y Tipo, de conformidad con las condiciones generales del procedimiento.
A6: 2. EVALUACIÓN
A7: Seleccione de la lista desplegable la probabilidad y el impacto de conformidad con las condiciones generales del procedimiento. El formato de manera automática establece la evaluación y la categoría del riesgo.
A9: 3. ASIGNACIÓN
A10: Indique con una X si la asignación del responsable de llevar a cabo el tratamiento del riesgo es el contratista, la SDIS o ambos.
A12: 4. PLAN DE TRATAMIENTO
A13: Seleccione de la lista desplegable el tratamiento o los tratamientos del riesgo identificado.
A14: Indique los controles o el tratamiento a implementar.
A15: Relacione el responsable de llevar a cabo el tratamiento respectivo
A16: Relacione las fechas de inicio y fin del tratamiento a implementar
... A23: Indique cómo se realizará el monitoreo de conformidad con las condiciones generales del procedimiento, así como la persona responsable de efectuarlo y su periodicidad.

Sheet GUIA DE RIESGOS 
A1: GUIA DE RIESGOS DE POSIBLES RIESGOS INHERENTES
A4: ETAPA CONTRACTUAL | B4: EVENTO | C4: CAUSAS | D4: CONSECUENCIAS
A5: Planeación | B5: Inadecuada formulación y elaboración del PAA | C5: Indebida identificación de las necesidades de la entidad en el PAA | D5: Incumplimiento en la satisfacción de las necesidades de la entidad
C6: Incorrecta priorización | D6: Incumplimiento de las metas propuestas por la entidad
C7: Recortes presupuestales
A8: Selección | B8: Adelantar un proceso de selección sin contar con la debida disponibilidad presupuestal | C8: Desconocimiento de la normatividad que rige la contratación estatal | D8: Investigaciones disciplinarias, fiscales y penales
C9: No contar con la disponibilidad presupuestal
B10: Adelantar un proceso contractual sin tener la aprobación correspondiente por parte del comité de contratación o de la instancia correspondiente | C10: Errados procedimientos internos | D10: Investigaciones disciplinarias, fiscales y penales
C11: No contar con actas de comité de contratación
C12: Comité de contratación mal diseñado
B13: Adelantar un proceso contractual sin tener la competencia legal para realizarlo | C13: Desconocimiento de las facultades y delegaciones existentes en la entidad | D13: Investigaciones disciplinarias, fiscales y penales
C14: Desconocimiento de las competencias de la entidad | D14: Nulidad Absoluta del contrato
B15: Aprobar la adquisición de bienes, obras y servicios que no se ajustan a las necesidades o al cumplimiento de los objetivos de la entidad | C15: Indebida descripción de la necesidad a contar | D15: Insatisfacción de las necesidades y objetivos de la entidad
C16: Errada relación entre el objeto y la necesidad a contratar
C17: Indebida maduración o planeación del proceso contractual en tiempos, cantidades, valores, etc. | D17: Investigaciones disciplinarias, fiscales y penales
C18: Elaboración deficiente de los estudios previos, y de los pliegos de condiciones
C19: Elaboración deficiente de análisis del sector | D19: Posible incumplimiento en el objeto del contrato
C20: Errores en las especificaciones técnicas del bien, obra o servicios a contratar
B21: Selección de contratistas que no cuenten con la capacidad financiera y/o técnica y/o jurídica necesarias para la ejecución del contrato | C21: Establecer de manera inadecuada los requisitos de carácter habilitante en los procesos de selección | D21: Investigaciones disciplinarias, fiscales y penales
C22: Incumplimiento del principio de selección objetiva | D22: Demandas
C23: Indebida evaluación de los proponentes en el proceso de selección
C24: Elaboración deficiente de los análisis de sector | D24: pone en riesgo la adecuada ejecución del contrato
C25: Elaboración deficiente de los estudios previos y de los pliegos de condiciones
C26: Inadecuada aplicación de la normatividad vigente, manual de contratación y procedimientos asociados | D26: Sanciones disciplinarias, fiscales y/o penales
B27: Direccionamiento de contratación y/o vinculación a favor de un tercero | C27: Tráfico de influencias | D27: Demandas
C28: Inadecuada elaboración de los documentos previos, tales como estudios previos, pliegos de condiciones, análisis del sector y estudio de mercado | D28: Enriquecimiento ilícito de contratistas y/o funcionarios
D29: Detrimento patrimonial
B30: Pérdida de información, modificación o alteración de las ofertas a evaluar o de los expedientes que soportan los procesos de contratación | C30: Inadecuado manejo de expedientes | D30: Investigaciones disciplinarias, fiscales y penales
C31: Inadecuada custodia de expedientes | D31: Retrasos en la contratación
C32: Inaplicación de los procedimientos y métodos de archivo establecidos por la entidad y la norma | D32: Demandas
B33: Suspensión del procesos de selección | C33: Evidenciar un error en la estructuración de los documentos contractuales | D33: Retrasos en el cumplimiento de las metas de la entidad
C34: Demandas, tutelas y solicitudes de proponentes | D34: Insatisfacción de las necesidades y objetivos de la entidad
C35: Por sugerencia de algún órgano de control, con el propósito de realizar ajustes al proceso de selección directamente relacionados con la normatividad en materia contractual | D35: Investigaciones disciplinarias, fiscales y penales
B36: Retrasos en el proceso de selección | C36: Ampliación de plazos para dar respuesta a las observaciones del proceso | D36: Incumplimiento de metas y objetivos de la entidad
C37: Ampliación de plazos para poder evaluar el proceso de selección, en la eventualidad que se reciban muchas ofertas
B38: Declaratoria de desierta del proceso de selección | C38: Documentos falsos o irregulares presentados por los oferentes y que la entidad no logra evidenciar en el momento de la evaluación | D38: Demandas
C39: No revisión de inhabilidades e incompatibilidades | D39: Investigaciones disciplinarias, fiscales y penales
A40: Contratación | B40: Retraso en la suscripción del contrato | C40: Incumplimiento o retraso del contratista en la firma del contrato | D40: Incumplimiento de las metas propuestas por la entidad
C41: Minuta contractual con errores | D41: Incumplimiento en la satisfacción de las necesidades de la entidad
C42: Demora en la elaboración, revisión y aprobación de la minuta del contrato
...
