Workbook
Name _: #REF!
Name _: #REF!
Name _: #REF!
Name __: #REF!
Name __: #REF!
Name ___AFC1: [1]INV!$A$25:$D$28
Name ___AFC1: [2]INV!$A$25:$D$28
Name ___AFC3: [1]INV!$F$25:$I$28
Name ___AFC3: [2]INV!$F$25:$I$28
Name ___AFC5: [1]INV!$K$25:$N$28
Name ___AFC5: [2]INV!$K$25:$N$28
Name ___BGC1: [1]INV!$A$5:$D$8
Name ___BGC1: [2]INV!$A$5:$D$8
Name ___BGC3: [1]INV!$F$5:$I$8
Name ___BGC3: [2]INV!$F$5:$I$8
Name ___BGC5: [1]INV!$K$5:$N$8
Name ___BGC5: [2]INV!$K$5:$N$8
Name ___CAC1: [1]INV!$A$19:$D$22
Name ___CAC1: [2]INV!$A$19:$D$22
Name ___CAC3: [1]INV!$F$19:$I$22
Name ___CAC3: [2]INV!$F$19:$I$22
Name ___CAC5: [1]INV!$K$19:$N$22
Name ___CAC5: [2]INV!$K$19:$N$22
Name ___EST1: #REF!
Name ___EST10: #REF!
Name ___EST11: #REF!
Name ___EST12: #REF!
Name ___EST13: #REF!
Name ___EST14: #REF!
Name ___EST15: #REF!
Name ___EST16: #REF!
Name ___EST17: #REF!
Name ___EST18: #REF!
Name ___EST19: #REF!
Name ___EST2: #REF!
Name ___EST3: #REF!
Name ___EST4: #REF!
Name ___EST5: #REF!
Name ___EST6: #REF!
Name ___EST7: #REF!
Name ___EST8: #REF!
Name ___EST9: #REF!
Name ___EXC1: #REF!
Name ___EXC10: #REF!
Name ___EXC11: #REF!
Name ___EXC12: #REF!
Name ___EXC2: #REF!
Name ___EXC3: #REF!
Name ___EXC4: #REF!
Name ___EXC5: #REF!
Name ___EXC6: #REF!
Name ___EXC7: #REF!
Name ___EXC8: #REF!
Name ___EXC9: #REF!
Name ___SBC1: [1]INV!$A$12:$D$15
Name ___SBC1: [2]INV!$A$12:$D$15
Name ___SBC3: [1]INV!$F$12:$I$15
Name ___SBC3: [2]INV!$F$12:$I$15
Name ___SBC5: [1]INV!$K$12:$N$15
Name ___SBC5: [2]INV!$K$12:$N$15

Sheet SMMLV
A1: AÑO | B1: SMMLV
A2: 2024 | B2: 1300000
A3: 2023 | B3: 1160000
A4: 2022 | B4: 1000000
A5: 2021 | B5: 908526
A6: 2020 | B6: 877802
A7: 2019 | B7: 828116
A8: 2018 | B8: 781242
A9: 2017 | B9: 737717
A10: 2016 | B10: 689454
A11: 2015 | B11: 644350
A12: 2014 | B12: 616000
A13: 2013 | B13: 589500
... A57: 1960 | B57: 198

Sheet General
A1: Proceso No. | B1: FNA-VGHA-CM-004-2024 | C1: Entidad: | D1: FONDO NACIONAL DEL AHORRO
A2: Objeto T: | B2: PRESTACIÓN DEL SERVICIO DE INTERMEDIACIÓN DE SEGUROS PARA ASESORAR DE MANERA INTEGRAL A LA ENTIDAD EN LA ADMINISTRACIÓN DE LOS RIESGOS, PROCESOS DE CONTRATACIÓN, GESTIÓN DE LOS ASPECTOS TÉCNICOS, ADMINISTRATIVOS, OPERATIVOS Y COMERCIALES DE LAS PÓLIZAS QUE INTEGRAN EL PROGRAMA DE SEGUROS DEUDORES EN EL CUAL EL FONDO NACIONAL DEL AHORRO ACTÚA COMO TOMADOR POR CUENTA DE SUS DEUDORES Y/O LOCATARIOS
F3: Presupuesto: | G3: 2656818990
F4: Póliza de G. Y C. Crédito Req:
F5: Póliza de G. Y C. Crédito Req Grupo Unico
F6: Presupuesto Oficial en SMMLV | G6: =G3/G15 -> 2043.7069 | J6: =J3/G15 -> 0 | K6: =K3/G15 -> 0
F7: Pago de derechos de participación
F9: USD
F10: Profesional de Estudios Previos
F11: Gerente de Convenio
F12: Asesor Juridico del Proceso
F14: Año de evaluacion del proceso | G14: 2024
F15: SMMLV del año del proceso | G15: 1300000
B105: PROFESIONAL DE ESTUDIOS PREVIOS | D105: ASESOR JURIDICO DEL PROCESO
B106: CARLOS HECTOR CASTRO | D106: JHON JAIRO CORREDOR CALDAS
B107: CELMIRA MORENO CARRERO | D107: ALEXANDRA BAUTISTA BELTRAN
B108: DIANA PATRICIA LOPEZ ESTUPIÑAN | D108: CLAUDIA BEATRIZ NIETO
B109: ERICK VONN CABARCAS GOMEZ | D109: ELSA LUCIA CRUZ RODRIGUEZ
B110: FREDY CASTELLANOS OVIEDO | D110: GERMAN ANDRES URREGO SABOGAL
B111: GERMAN ALFONSO RODRIGUEZ SILVA | D111: IVAN ABELARDO SARMIENTO GALVIS
B112: HERNANDO ALFONSO GOMEZ LOPEZ | D112: JOSE RODRIGO BERMUDEZ CASTRO
B113: JAIRO FIDEL ORTEGA CHAPARRO | D113: MARGARITA MARIA MUÑOZ CABRERA
B114: JHON JAIRO ORTIZ RODRIGUEZ | D114: SANTIAGO PEREZ BUITRAGO
B115: JORGE ANDRES OSORIO ORTIZ | D115: TANIA LILIANA SANABRIA BARRERA
B116: LUSANGELA GALINDO BERROCAL | D116: JAIME ALEJANDRO DURAN FONTANILLA
... B119: ORLANDO FABIO BARRIOS LOZANO | D119: JUAN SEBASTIAN ARANGO PASTOR
B120: OSCAR JULIAN OLEA SALGADO
B121: SANDRA GIOVANA SALEH FRANCO
B122: WILSON BONILLA CRISTANCHO
B123: LUIS CARLOS ANDRADE FONSECA

Sheet Directorio
A1: No. | B1: TIPO DE PROCESO CD, SB. CP, CPA | C1: NOMBRE DEL OFERENTE | D1: NIT | E1: ENCARGADO | F1: CEDULA | G1: Teléfono | H1: Fax | I1: Celular | J1: Direccion | K1: Email | L1: Ciudad | M1: NOMBRE COMPLETO | N1: INTEGRANTES DEL CONSORCIO O DE LA UNION TEMPORAL | W1: INTEGRANTES DEL CONSORCIO O DE LA UNION TEMPORAL | AF1: INTEGRANTES DEL CONSORCIO O DE LA UNION TEMPORAL | AO1: Socios Integrante 1 | BA1: Socios Integrante 2 | BM1: Socios Integrante 3
M2: ="("&E2&": "&N2&" "&TEXT(O2,"##0,00%")&" - "&P2&" "&TEXT(Q2,"##0,00%")&" - "&R2&" "&TEXT(S2,"##0,00%")&")" -> (: Integrante 1 % Int. 1 - NIT O CEDULA DE CIUDADANIA Integrante 2 - % Int. 2 NIT O CEDULA DE CIUDADANIA) | N2: Integrante 1 | O2: % Int. 1 | P2: NIT O CEDULA DE CIUDADANIA | Q2: Integrante 2 | R2: % Int. 2 | S2: NIT O CEDULA DE CIUDADANIA | T2: INTEGRANTE 3 | U2: % Int. 3 | V2: NIT O CEDULA DE CIUDADANIA | W2: Integrante 4 | X2: % Int. 4 | Y2: NIT O CEDULA DE CIUDADANIA | Z2: Integrante 5 | AA2: % Int. 5 | AB2: NIT O CEDULA DE CIUDADANIA | AC2: INTEGRANTE 6 | AD2: % Int. 6 | AE2: NIT O CEDULA DE CIUDADANIA | AF2: Integrante 7 | AG2: % Int. 7 | AH2: NIT O CEDULA DE CIUDADANIA | AI2: Integrante 8 | AJ2: % Int. 8 | AK2: NIT O CEDULA DE CIUDADANIA | AL2: INTEGRANTE 9 | AM2: % Int. 9 | AN2: NIT O CEDULA DE CIUDADANIA | AO2: Socio 1 | AQ2: Socio 2 | AS2: Socio 3 | AU2: Socio 4 | AW2: Socio 5 | AY2: Socio 6 | BA2: Socio 1 | BC2: Socio 2 | BE2: Socio 3 | BG2: Socio 4 | BI2: Socio 5 | BK2: Socio 6 | BM2: Socio 1 | BO2: Socio 2 | BQ2: Socio 3 | BS2: Socio 4 | BU2: Socio 5 | BW2: Socio 6
M3: ="("&N3&" "&TEXT(O3,"##0,00%")&" - "&P3&" "&TEXT(Q3,"##0,00%")&" - "&R3&" "&TEXT(S3,"##0,00%")&")" -> ( 000% - 000% - 000%) | AO3: Nombre | AP3: C. de Ciudadania | AQ3: Nombre | AR3: C. de Ciudadania | AS3: Nombre | AT3: C. de Ciudadania | AU3: Nombre | AV3: C. de Ciudadania | AW3: Nombre | AX3: C. de Ciudadania | AY3: Nombre | AZ3: C. de Ciudadania | BA3: Nombre | BB3: C. de Ciudadania | BC3: Nombre | BD3: C. de Ciudadania | BE3: Nombre | BF3: C. de Ciudadania | BG3: Nombre | BH3: C. de Ciudadania | BI3: Nombre | BJ3: C. de Ciudadania | BK3: Nombre | BL3: C. de Ciudadania | BM3: Nombre | BN3: C. de Ciudadania | BO3: Nombre | BP3: C. de Ciudadania | BQ3: Nombre | BR3: C. de Ciudadania | BS3: Nombre | BT3: C. de Ciudadania | BU3: Nombre | BV3: C. de Ciudadania | BW3: Nombre | BX3: C. de Ciudadania
A4: 1 | B4: =+General!$B$1 -> FNA-VGHA-CM-004-2024 | C4: ARTHUR J GALLAGHER CORREDORES DE SEGUROS S.A. | D4: 800.153.990-5 | M4: ="("&C4&": "&N4&" "&TEXT(O4,"##0,00%")&" - "&Q4&" "&TEXT(R4,"##0,00%")&" - "&T4&" "&TEXT(U4,"##0,00%")&")" -> (ARTHUR J GALLAGHER CORREDORES DE SEGUROS S.A.: 000% - 000% - 000%)
A5: 2 | B5: =+General!$B$1 -> FNA-VGHA-CM-004-2024 | C5: CORRECOL CORREDORES COLOMBIANOS DE SEGUROS CORREDORES DE SEGUROS S.A | D5: 830018004-1 | M5: ="("&C5&": "&N5&" "&TEXT(O5,"##0,00%")&" - "&Q5&" "&TEXT(R5,"##0,00%")&" - "&T5&" "&TEXT(U5,"##0,00%")&")" -> (CORRECOL CORREDORES COLOMBIANOS DE SEGUROS CORREDORES DE SEGUROS S.A: 000% - 000% - 000%)
A6: 3 | B6: =+General!$B$1 -> FNA-VGHA-CM-004-2024 | C6: UT PROSEGUROS-ITAU FNA-VGHA-CM-004-2024 | M6: ="("&C6&": "&N6&" "&TEXT(O6,"##0,00%")&" - "&Q6&" "&TEXT(R6,"##0,00%")&" - "&T6&" "&TEXT(U6,"##0,00%")&")" -> (UT PROSEGUROS-ITAU FNA-VGHA-CM-004-2024: PROSEGUROS CORREDORES DE SEGUROS S.A. 050% - ITAÚ CORREDOR DE SEGUROS COLOMBIA 050% - 000%) | N6: PROSEGUROS CORREDORES DE SEGUROS S.A. | O6: 0.5 | P6: 860.024.858-6 | Q6: ITAÚ CORREDOR DE SEGUROS COLOMBIA | R6: 0.5 | S6: 860.526.660-1

Sheet Exp. Proponente
B1: =General!B2 -> PRESTACIÓN DEL SERVICIO DE INTERMEDIACIÓN DE SEGUROS PARA ASESORAR DE MANERA INTEGRAL A LA ENTIDAD EN LA ADMINISTRACIÓN DE LOS RIESGOS, PROCESOS DE CONTRATACIÓN, GESTIÓN DE LOS ASPECTOS TÉCNICOS, ADMINISTRATIVOS, OPERATIVOS Y COMERCIALES DE LAS PÓLIZAS QUE INTEGRAN EL PROGRAMA DE SEGUROS DEUDORES EN EL CUAL EL FONDO NACIONAL DEL AHORRO ACTÚA COMO TOMADOR POR CUENTA DE SUS DEUDORES Y/O LOCATARIOS
B2: =General!B1 -> FNA-VGHA-CM-004-2024
B3: 4.2.1. EXPERIENCIA MÍNIMA HABILITANTE
A4: LOTE | B4: # Contratos | C4: Condición contratante | D4: Oferente Plural | F4: OBJETO | G4: RAMO | H4: Fecha Lím. Fin. Cont. | I4: En ejecución | J4: SMLMV | K4: INSCRIPCIÓN EN EL RUP
A5: 1 VIDA GRUPO DEUDORES o COLECTIVO VIDA | B5: Primas max 5 | C5: cliente o tomador | D5: 4. oferentes plurales: todos los miembros que la integran acreditada experiencia, proporcional para cada integrante, según el porcentaje de participación de cada uno en el proponente plural. | F5: gestión como intermediario de seguros de clientes (entidades del sector público o privado) | G5: VIDA GRUPO DEUDORES o COLECTIVO VIDA | H5: 41894 | I5: pólizas con vigencias técnicas terminadas. | J5: 6069 | K5: 84131600: Seguros de vida, salud y accidentes
B6: Siniestros max 5 | C6: cliente o tomador Aseguradora | J6: 4590
A7: 2 DESEMPLEO | B7: Primas max 5 | C7: cliente o tomador | G7: DESEMPLEO | J7: 4656
B8: Siniestros max 5 | C8: cliente o tomador Aseguradora | J8: 1631
B10: Folio | C10: Cliente o tomador | D10: % Part Ejecución | E10: Contratista | F10: Objeto | G10: RAMO | H10: Terminación vigencia técnica póliza | I10: Valor Prima / Siniestro | J10: SMMLV para Cálculo | K10: Valor en SMMLV | L10: Consecutivo RUP | M10: Código UNSPSC | N10: CUMPLE/ NO CUMPLE | O10: Observaciones
A11: LOTE 1 VIDA GRUPO DEUDORES o COLECTIVO VIDA | B11: No. | C11: 1 | D11: OFERENTE: | E11: =VLOOKUP(C11,Directorio!$A$4:$V$6,3,FALSE) -> ARTHUR J GALLAGHER CORREDORES DE SEGUROS S.A. | H11: =+VLOOKUP(C11,Directorio!$A$1:$M$6,13,0) -> (ARTHUR J GALLAGHER CORREDORES DE SEGUROS S.A.: 000% - 000% - 000%) | N11: RESULTADO DE LA EVALUACIÓN | O11: CUMPLE
B12: Folio | C12: Cliente o tomador | D12: % Part Ejecución | E12: Contratista | F12: Objeto | G12: RAMO | H12: Terminación vigencia técnica póliza | I12: Valor Prima | J12: SMMLV para Cálculo | K12: Valor en SMMLV | L12: Consecutivo RUP | M12: Código UNSPSC | N12: CUMPLE/ NO CUMPLE | O12: Observaciones
B13: 1 | C13: COMPAÑIA DE MEDICINA PREPAGADA COLSANITAS S.A. | D13: 1 | E13: ARTHUR J GALLAGHER CORREDORES DE SEGUROS S.A. | F13: Intermediación en seguros | G13: VIDA GRUPO | H13: 45107 | I13: =8605829231+89479895+2581920 -> 8697891046 | J13: =IF(H13>0,VLOOKUP(YEAR(H13),SMMLV!A:B,2,FALSE),0) -> 1160000 | K13: =IF(AND(H13>=$H$5,I13>0),I13/J13*D13,0) -> 7498.1819 | L13: 41 | M13: 84131600 | N13: CUMPLE | O13: Aporta certificación de fecha 5/03/2024
B14: 2 | J14: =IF(H14>0,VLOOKUP(YEAR(H14),SMMLV!A:B,2,FALSE),0) -> 0 | K14: =IF(AND(H14>=$H$5,I14>0),I14/J14*D14,0) -> 0
I15: =SUM(I13:I14) -> 8697891046 | K15: =SUM(K13:K14) -> 7498.1819
B16: Folio | C16: Cliente o tomador o Aseguradora | D16: % Part Ejecución | E16: Contratista | F16: Objeto | G16: RAMO | H16: Fecha pago Siniestro | I16: Valor Pagado Siniestro | J16: SMMLV para Cálculo | K16: Valor en SMMLV | L16: Consecutivo RUP | M16: Código UNSPSC | N16: CUMPLE/ NO CUMPLE | O16: Observaciones
B17: 1 | C17: MAPFRE / JURISCOOP | D17: 1 | E17: ARTHUR J GALLAGHER CORREDORES DE SEGUROS S.A. | F17: Intermediación en seguros | G17: VIDA GRUPO | H17: 45237 | I17: 4992052821 | J17: =IF(H17>0,VLOOKUP(YEAR(H17),SMMLV!A:B,2,FALSE),0) -> 1160000 | K17: =IF(AND(H17>=$H$5,I17>0),I17/J17*D17,0) -> 4303.4938 | L17: 18 | M17: 84131600 | N17: CUMPLE | O17: Aporta certificación de fecha 5/07/2024
B18: 2 | C18: COMPAÑIA DE MEDICINA PREPAGADA COLSANITAS S.A. | D18: 1 | E18: ARTHUR J GALLAGHER CORREDORES DE SEGUROS S.A. | F18: Intermediación en seguros | G18: VIDA GRUPO | H18: 44438 | I18: 7182218446 | J18: =IF(H18>0,VLOOKUP(YEAR(H18),SMMLV!A:B,2,FALSE),0) -> 908526 | K18: =IF(AND(H18>=$H$5,I18>0),I18/J18*D18,0) -> 7905.3527 | L18: 41 | M18: 84131600
B19: 3 | J19: =IF(H19>0,VLOOKUP(YEAR(H19),SMMLV!A:B,2,FALSE),0) -> 0 | K19: =IF(AND(H19>=$H$5,I19>0),I19/J19*D19,0) -> 0
I20: =SUM(I17:I19) -> 12174271267 | K20: =SUM(K17:K19) -> 12208.846
A22: LOTE 2 DESEMPLEO | B22: No. | C22: =+C11 -> 1 | D22: OFERENTE: | E22: =VLOOKUP(C22,Directorio!$A$4:$V$6,3,FALSE) -> ARTHUR J GALLAGHER CORREDORES DE SEGUROS S.A. | H22: =+VLOOKUP(C22,Directorio!$A$1:$M$6,13,0) -> (ARTHUR J GALLAGHER CORREDORES DE SEGUROS S.A.: 000% - 000% - 000%) | N22: RESULTADO DE LA EVALUACIÓN | O22: N/A
B23: Folio | C23: Cliente o tomador | D23: % Part Ejecución | E23: Contratista | F23: Objeto | G23: RAMO | H23: Terminación vigencia técnica póliza | I23: Valor Prima | J23: SMMLV para Cálculo | K23: Valor en SMMLV | L23: Consecutivo RUP | M23: Código UNSPSC | N23: CUMPLE/ NO CUMPLE | O23: Observaciones
B24: 1 | J24: =IF(H24>0,VLOOKUP(YEAR(H24),SMMLV!A:B,2,FALSE),0) -> 0 | K24: =IF(AND(H24>=$H$5,I24>0),I24/J24*D24,0) -> 0
B25: 2 | J25: =IF(H25>0,VLOOKUP(YEAR(H25),SMMLV!A:B,2,FALSE),0) -> 0 | K25: =IF(AND(H25>=$H$5,I25>0),I25/J25*D25,0) -> 0
B26: 3 | J26: =IF(H26>0,VLOOKUP(YEAR(H26),SMMLV!A:B,2,FALSE),0) -> 0 | K26: =IF(AND(H26>=$H$5,I26>0),I26/J26*D26,0) -> 0
B27: 4 | J27: =IF(H27>0,VLOOKUP(YEAR(H27),SMMLV!A:B,2,FALSE),0) -> 0 | K27: =IF(AND(H27>=$H$5,I27>0),I27/J27*D27,0) -> 0
B28: 5 | J28: =IF(H28>0,VLOOKUP(YEAR(H28),SMMLV!A:B,2,FALSE),0) -> 0 | K28: =IF(AND(H28>=$H$5,I28>0),I28/J28*D28,0) -> 0
I29: =SUM(I24:I28) -> 0 | K29: =SUM(K24:K28) -> 0
B30: Folio | C30: Cliente o tomador o Aseguradora | D30: % Part Ejecución | E30: Contratista | F30: Objeto | G30: RAMO | H30: Fecha pago Siniestro | I30: Valor Pagado Siniestro | J30: SMMLV para Cálculo | K30: Valor en SMMLV | L30: Consecutivo RUP | M30: Código UNSPSC | N30: CUMPLE/ NO CUMPLE | O30: Observaciones
B31: 1 | J31: =IF(H31>0,VLOOKUP(YEAR(H31),SMMLV!A:B,2,FALSE),0) -> 0 | K31: =IF(AND(H31>=$H$5,I31>0),I31/J31*D31,0) -> 0
B32: 2 | J32: =IF(H32>0,VLOOKUP(YEAR(H32),SMMLV!A:B,2,FALSE),0) -> 0 | K32: =IF(AND(H32>=$H$5,I32>0),I32/J32*D32,0) -> 0
B33: 3 | J33: =IF(H33>0,VLOOKUP(YEAR(H33),SMMLV!A:B,2,FALSE),0) -> 0 | K33: =IF(AND(H33>=$H$5,I33>0),I33/J33*D33,0) -> 0
B34: 4 | J34: =IF(H34>0,VLOOKUP(YEAR(H34),SMMLV!A:B,2,FALSE),0) -> 0 | K34: =IF(AND(H34>=$H$5,I34>0),I34/J34*D34,0) -> 0
B35: 5 | J35: =IF(H35>0,VLOOKUP(YEAR(H35),SMMLV!A:B,2,FALSE),0) -> 0 | K35: =IF(AND(H35>=$H$5,I35>0),I35/J35*D35,0) -> 0
I36: =SUM(I31:I35) -> 0 | K36: =SUM(K31:K35) -> 0
A38: LOTE 1 VIDA GRUPO DEUDORES o COLECTIVO VIDA | B38: No. | C38: 2 | D38: OFERENTE: | E38: =VLOOKUP(C38,Directorio!$A$4:$V$6,3,FALSE) -> CORRECOL CORREDORES COLOMBIANOS DE SEGUROS CORREDORES DE SEGUROS S.A | H38: =+VLOOKUP(C38,Directorio!$A$1:$M$6,13,0) -> (CORRECOL CORREDORES COLOMBIANOS DE SEGUROS CORREDORES DE SEGUROS S.A: 000% - 000% - 000%) | N38: RESULTADO DE LA EVALUACIÓN | O38: CUMPLE
B39: Folio | C39: Cliente o tomador | D39: % Part Ejecución | E39: Contratista | F39: Objeto | G39: RAMO | H39: Terminación vigencia técnica póliza | I39: Valor Prima | J39: SMMLV para Cálculo | K39: Valor en SMMLV | L39: Consecutivo RUP | M39: Código UNSPSC | N39: CUMPLE/ NO CUMPLE | O39: Observaciones
B40: 1 | C40: Departamento de Santander | D40: 0.4 | E40: UT (CORRECOL 40% GYG SEGUROS 60% | F40: Intrermediario de seguros | G40: VIDA GRUPO | H40: 43037 | I40: =902943556 -> 902943556 | J40: =IF(H40>0,VLOOKUP(YEAR(H40),SMMLV!A:B,2,FALSE),0) -> 737717 | K40: =IF(AND(H40>=$H$5,I40>0),I40/J40*D40,0) -> 489.58804 | L40: 80 | M40: 84131600 | N40: CUMPLE | O40: Aporta certificación del 6/04/2021 | P40: =+SUM(I40:I43) -> 4600771465 | Q40: =+P40*D40 -> 1840308586 | R40: 1840308586 | S40: =+Q40-R40 -> 0
D41: 0.4 | H41: 43402 | I41: =1248566857 -> 1248566857 | J41: =IF(H41>0,VLOOKUP(YEAR(H41),SMMLV!A:B,2,FALSE),0) -> 781242 | K41: =IF(AND(H41>=$H$5,I41>0),I41/J41*D41,0) -> 639.27278
D42: 0.4 | H42: 43767 | I42: =1719192854 -> 1719192854 | J42: =IF(H42>0,VLOOKUP(YEAR(H42),SMMLV!A:B,2,FALSE),0) -> 828116 | K42: =IF(AND(H42>=$H$5,I42>0),I42/J42*D42,0) -> 830.41161
D43: 0.4 | H43: 43921 | I43: 730068198 | J43: =IF(H43>0,VLOOKUP(YEAR(H43),SMMLV!A:B,2,FALSE),0) -> 877802 | K43: =IF(AND(H43>=$H$5,I43>0),I43/J43*D43,0) -> 332.68013
...

Sheet Relación Siniestros
A1: CERTIFICACION DE EXPERIENCIA
A2: LA PREVISORA S.A. COMPAÑÍA DE SEGUROS NIT: 860.002.400-2
A3: El suscrito ALIRIO SALAMANCA BONILLA, actuando en calidad de Representante Legal, certifica que PROSEGUROS CORREDORES DE SEGUROS S.A., NIT 860.024.858-6, actuando en calidad de intermediario de seguros, asesoró en la atención de los reclamos relacionados en la presente comunicación:
A4: Compañía de Seguros: La Previsora S.A. Compañía De Seguros
A5: Contratista: Unión Temporal JTL Corredores de Seguros - Proseguros Corredores de Seguros S.A. e Itau Corredores de Seguros
A6: Porcentaje de participación: 20% para PROSEGUROS CORREDORES DE SEGUROS S.A
A7: Entidad Contratante: CONSEJO SUPERIOR DE LA JUDICATURA No. Consecutivo RUP: 29
A8: Objeto: Prestación de los servicios de intermediación de los seguros, la asesoría y la asistencia especializada para el manejo del programa de seguros y las pólizas que cubren los riesgos relativos a los bienes e intereses asegurables de la Nación- Consejo Superior de la Judicatura, así como el seguro de vida Ley 16/88 y aquellos por los cuales sea o fuere legalmente responsable.
A9: POLIZA VIDA GRUPO 1001992
A10: Siniestro | B10: Fecha inicio de la póliza | C10: Fecha Terminación de la póliza | D10: Valor Indemnizado o Pagado ($) | E10: Valor según participacion de Proseguros 20% | F10: Fecha de Pago de siniestro
A11: 32811 | B11: 42735 | C11: 43380 | D11: 62705945 | E11: 12541189 | F11: 42859 | H11: Etiquetas de fila | I11: Suma de Valor Indemnizado o Pagado ($)
A12: 32829 | B12: 42735 | C12: 43380 | D12: 62705944 | E12: 12541189 | F12: 42832 | H12: 2017 | I12: 1877683959
A13: 32830 | B13: 42735 | C13: 43380 | D13: 62705944 | E13: 12541189 | F13: 42888 | H13: 2018 | I13: 6505619019
A14: 32843 | B14: 42735 | C14: 43380 | D14: 62705944 | E14: 12541189 | F14: 42900 | H14: 2019 | I14: 3.2454698e+09
A15: 32877 | B15: 42735 | C15: 43380 | D15: 62705945 | E15: 12541189 | F15: 42935 | H15: 2020 | I15: 530238310
A16: 32878 | B16: 42735 | C16: 43380 | D16: 62705945 | E16: 12541189 | F16: 42963 | H16: Total general | I16: 1.2159011e+10
A17: 32893 | B17: 42735 | C17: 43380 | D17: 62705445 | E17: 12541089 | F17: 43018
A18: 32896 | B18: 42735 | C18: 43380 | D18: 62705945 | E18: 12541189 | F18: 43004
A19: 32915 | B19: 42735 | C19: 43380 | D19: 62705945 | E19: 12541189 | F19: 42921
A20: 32916 | B20: 42735 | C20: 43380 | D20: 36885850 | E20: 7377170 | F20: 42928
A21: 32917 | B21: 42735 | C21: 43380 | D21: 62705945 | E21: 12541189 | F21: 42940 | H21: Etiquetas de fila | I21: Suma de Valor Indemnizado o Pagado ($)
A22: 32936 | B22: 42735 | C22: 43380 | D22: 62705944 | E22: 12541189 | F22: 42944 | H22: 2017 | I22: 1877683959
A23: 32971 | B23: 42735 | C23: 43380 | D23: 36885850 | E23: 7377170 | F23: 42998 | H23: 2018 | I23: 6505619019
A24: 32975 | B24: 42735 | C24: 43380 | D24: 36885850 | E24: 7377170 | F24: 42963 | H24: 2019 | I24: 3.2454698e+09
A25: 32976 | B25: 42735 | C25: 43380 | D25: 317218310 | E25: 63443662 | F25: 43004 | H25: 2020 | I25: 530238310
A26: 32998 | B26: 42735 | C26: 43380 | D26: 195000 | E26: 39000 | F26: 43074 | H26: Total general | I26: 1.2159011e+10
A27: 32999 | B27: 42735 | C27: 43380 | D27: 62705945 | E27: 12541189 | F27: 43018
A28: 33001 | B28: 42735 | C28: 43380 | D28: 36885850 | E28: 7377170 | F28: 43005
A29: 33012 | B29: 42735 | C29: 43380 | D29: 62705644 | E29: 12541129 | F29: 43028
A30: 33014 | B30: 42735 | C30: 43380 | D30: 62705944 | E30: 12541189 | F30: 43011
A31: 33027 | B31: 42735 | C31: 43380 | D31: 36885850 | E31: 7377170 | F31: 43021
A32: 33033 | B32: 42735 | C32: 43380 | D32: 62705945 | E32: 12541189 | F32: 43021
A33: 33034 | B33: 42735 | C33: 43380 | D33: 36885850 | E33: 7377170 | F33: 43013
A34: 33035 | B34: 42735 | C34: 43380 | D34: 36885850 | E34: 7377170 | F34: 43025
A35: 33037 | B35: 42735 | C35: 43380 | D35: 36885850 | E35: 7377170 | F35: 43021
A36: 33038 | B36: 42735 | C36: 43380 | D36: 36885850 | E36: 7377170 | F36: 43074
A37: 33067 | B37: 42735 | C37: 43380 | D37: 62705943 | E37: 12541189 | F37: 43111
A38: 33073 | B38: 42735 | C38: 43380 | D38: 36885850 | E38: 7377170 | F38: 43060
... A229: 34766 | B229: 42736 | C229: 43380 | D229: 39062100 | E229: 7812420 | F229: 43992
A230: Para constancia, se expide en la ciudad de Bogotá, septiembre de 2024.
...

Sheet Hoja1
D4: 42783 | E4: =D4+G4 -> 44223 | F4: 48 | G4: =F4*30 -> 1440

Sheet Requisitos Técnicos
A1: OFERENTE | B1: 1 | C1: =VLOOKUP(B1,Directorio!$A$4:$V$6,3,FALSE) -> ARTHUR J GALLAGHER CORREDORES DE SEGUROS S.A. | J1: 2 | K1: =VLOOKUP(J1,Directorio!$A$4:$V$6,3,FALSE) -> CORRECOL CORREDORES COLOMBIANOS DE SEGUROS CORREDORES DE SEGUROS S.A | R1: 3 | S1: =VLOOKUP(R1,Directorio!$A$4:$V$6,3,FALSE) -> UT PROSEGUROS-ITAU FNA-VGHA-CM-004-2024
B2: =VLOOKUP(B1,Directorio!$A$4:$V$6,13,FALSE) -> (ARTHUR J GALLAGHER CORREDORES DE SEGUROS S.A.: 000% - 000% - 000%) | J2: =VLOOKUP(J1,Directorio!$A$4:$V$6,13,FALSE) -> (CORRECOL CORREDORES COLOMBIANOS DE SEGUROS CORREDORES DE SEGUROS S.A: 000% - 000% - 000%) | R2: =VLOOKUP(R1,Directorio!$A$4:$V$6,13,FALSE) -> (UT PROSEGUROS-ITAU FNA-VGHA-CM-004-2024: PROSEGUROS CORREDORES DE SEGUROS S.A. 050% - ITAÚ CORREDOR DE SEGUROS COLOMBIA 050% - 000%)
A3: LOTE / REQUISITOS HABILITANTES | B3: LOTE 1 VIDA GRUPO DEUDORES o COLECTIVO VIDA | F3: LOTE 2 DESEMPLEO | J3: LOTE 1 VIDA GRUPO DEUDORES o COLECTIVO VIDA | N3: LOTE 2 DESEMPLEO | R3: LOTE 1 VIDA GRUPO DEUDORES o COLECTIVO VIDA | V3: LOTE 2 DESEMPLEO
A4: 4.2.4. COMPROMISO PERSONAL MÍNIMO | B4: SI | C4: NO | D4: Folio | E4: OBSERVACIONES | F4: SI | G4: NO | H4: Folio | I4: OBSERVACIONES | J4: SI | K4: NO | L4: Folio | M4: OBSERVACIONES | N4: SI | O4: NO | P4: Folio | Q4: OBSERVACIONES | R4: SI | S4: NO | T4: Folio | U4: OBSERVACIONES | V4: SI | W4: NO | X4: Folio | Y4: OBSERVACIONES
A5: El proponente deberá manifestar mediante la suscripción por el Representante Legal del FORMATO No. 22 COMPROMISO PERSONAL MÍNIMO REQUERIDO, que entiende, acepta y cuenta con el personal mínimo requerido en el anexo No. 2 Personal Mínimo Requerido y por ende se compromete a presentar los documentos soporte de la acreditación de experiencia y formación académica de todo el equipo de trabajo antes del inicio de la ejecución del contrato, los cuales deberán ser aprobados como requisito para la suscripción del acta de inicio. Además, debe constar que cuenta con los recursos adicionales que el Contratista deba poner a disposición y que considere para la ejecución del contrato. En caso de que la propuesta sea presentada por una unión temporal o consorcio la certificación deberá estar suscrita por el representante legal de la estructura plural | B5: SI | D5: 31 | E5: Aporta formato 22 | J5: SI | M5: Aporta formato 22 | R5: SI | U5: Aporta formato 22
A6: TOTAL | B6: =+B1 -> 1 | E6: CUMPLE | F6: =+B6 -> 1 | I6: N/A | J6: =+J1 -> 2 | M6: CUMPLE | N6: =+J6 -> 2 | Q6: N/A | R6: =+R1 -> 3 | U6: CUMPLE | V6: =+R6 -> 3 | Y6: N/A
A8: 4.2.6. MANIFESTACIÓN DE ACEPTACIÓN DE REQUERIMIENTOS MÍNIMOS OBLIGATORIO | B8: SI | C8: NO | D8: Folio | E8: OBSERVACIONES | F8: SI | G8: NO | H8: Folio | I8: OBSERVACIONES | J8: SI | K8: NO | L8: Folio | M8: OBSERVACIONES | N8: SI | O8: NO | P8: Folio | Q8: OBSERVACIONES | R8: SI | S8: NO | T8: Folio | U8: OBSERVACIONES | V8: SI | W8: NO | X8: Folio | Y8: OBSERVACIONES
A9: El oferente deberá manifestar mediante la suscripción por el Representante Legal del FORMATO No. 13, que entiende, acepta y cumple cada uno de los requerimientos técnicos mínimos obligatorios exigidos en el Anexo No. 1. Especificaciones Técnicas y Anexo No. 2 Personal Mínimo, los cuales han sido dados a conocer, sin perjuicio de que en la ejecución del contrato se acuerden entre las partes requerimientos técnicos adicionales a los establecidos en el proceso de selección. | B9: SI | D9: 38 | E9: Aporta formato 13 | J9: SI | M9: Aporta formato 13 | R9: SI | U9: Aporta formato 13
A10: TOTAL | B10: =+B1 -> 1 | E10: CUMPLE | F10: =+B10 -> 1 | I10: N/A | J10: =+J1 -> 2 | M10: CUMPLE | N10: =+J10 -> 2 | Q10: N/A | R10: =+R1 -> 3 | U10: CUMPLE | V10: =+R10 -> 3 | Y10: N/A

Sheet Coord
C2: 1 | D2: OFERENTE: | E2: =VLOOKUP(C2,Directorio!$A$4:$V$6,3,FALSE) -> ARTHUR J GALLAGHER CORREDORES DE SEGUROS S.A.
B3: LOTE 1 VIDA GRUPO DEUDORES o COLECTIVO VIDA | C3: REQUISITOS PERFIL | E3: CANDIDATO | F3: TIEMPO TOTAL | G3: CRITERIO | H3: OBSERVACIÓN
C4: Coordinador Experto en seguros de Vida Grupo Deudores | E4: RODRIGO EDUARDO BURBANO BOLAÑOS
C5: FORMACIÓN ACADÉMICA | D5: Título de Pregrado Profesional en cualquiera de los programas incluidos en el siguiente listado, pero sin limitarse a estos, es decir, pudiendo acreditar otros afines a los mismos:  Administración de empresas [y afines]  Administración financiera [y afines]  Contaduría [y afines]  Derecho [y afines]  Economía [y afines]  Ingeniería administrativa [y afines]  Ingeniería industrial [y afines] | E5: PROFESIÓN: ABOGADO UNIVERSIDAD DEL CAUCA TARJETA PROFESIONAL No. 50754 fecha 23/11/89 Vigente Fecha de Grado: 11/08/1989 Tipo y No. Documento de Identidad: 10549446 (Anexa documentos soporte: Tarjeta profesional y diploma) | G5: CUMPLE
D6: Título de Postgrado Posgrado en cualquiera de los programas incluidos en el siguiente listado, pero sin limitarse a estos, es decir, pudiendo acreditar otros afines a los mismos:  Seguros [y afines]  Gerencia de seguros [y afines]  Alta Dirección en seguros [y afines]  Responsabilidad civil y seguros [y afines]  Administración de riesgos y seguros [y afines]  Gerencia de riesgos y seguros [y afines] | E6: ESPECIALISTA EN SEGUROS Y SEGURIDAD SOCIAL UNIVERSIDAD LA SABANA Fecha de Grado: 06/08/2013 (Anexa documentos soporte: Diploma) ESPECIALISTA EN DERECHO ADMINISTRATIVO COLEGIO MAYOR DEL ROSAARIO Fecha de Grado: 30/04/1991 (Anexa documentos soporte: Diploma) | G6: CUMPLE
C7: EXPERIENCIA | D7: Experiencia Específica Acreditar por lo menos cinco (5) años de experiencia en el sector asegurador (intermediarios, corredores, aseguradoras o agencias), en la coordinación o desarrollo de programas de seguros de vida grupo o vida deudores | E7: EXPERIENCIA ESPECÍFICA: 1. EMPRESAS - MARSH Cargo: Gerente Comercial Sector Público Fecha inicio 04/06/1990 Fecha Finaliza 31/10/2020 | F7: AÑOS MESES DÍA | G7: NO CUMPLE | H7: En la certificación aportada no se identifica "coordinación o desarrollo de programas de seguros de vida grupo o vida deudores"
C8: EXPERIENCIA | E8: 2. EMPRESAS - GALLAGHER Cargo: Gerente Senior de Negocios Estatales Fecha inicio 22/02/2021 Fecha Finaliza 12-08-2024 | F8: 3 AÑOS 6 MESES 21 DÍAS | G8: NO CUMPLE | H8: No acredita el tiempo de experiencia requerido. No aporta contrato de trabajo 4.2.5.2. EXPEDICIÓN Y SUSCRIPCIÓN DE LAS CERTIFICACIONES DE LA EXPERIENCIA DEL PERSONAL MÍNIMO REQUERIDO PARÁGRAFO PRIMERO: certificación de por el mismo proponente (...) allegar los siguientes documentos: (...) b) Copia del contrato, en virtud del cual el profesional, prestó o presta sus servicios para el oferente
C9: 4.2.5. FORMACIÓN, EXPERIENCIA Y DEDICACIÓN DEL PERSONAL MÍNIMO REQUERIDO HABILITANTE | G9: NO CUMPLE
C11: =+C2 -> 1 | D11: OFERENTE: | E11: =VLOOKUP(C11,Directorio!$A$4:$V$6,3,FALSE) -> ARTHUR J GALLAGHER CORREDORES DE SEGUROS S.A.
B12: LOTE 2 DESEMPLEO | C12: REQUISITOS PERFIL | E12: CANDIDATO | F12: TIEMPO TOTAL | G12: CRITERIO | H12: OBSERVACIÓN
C13: Coordinador Experto en Seguros Desempleo | E13: N/A
C14: FORMACIÓN ACADÉMICA | D14: Título de Pregrado Profesional en cualquiera de los programas incluidos en el siguiente listado, pero sin limitarse a estos, es decir, pudiendo acreditar otros afines a los mismos:  Administración de empresas [y afines]  Administración financiera [y afines]  Contaduría [y afines]  Derecho [y afines]  Economía [y afines]  Ingeniería administrativa [y afines]  Ingeniería industrial [y afines]
D15: Título de Postgrado Con posgrado en cualquiera de los programas incluidos en el siguiente listado, pero sin limitarse a estos, es decir, pudiendo acreditar otros afines a los mismos:  Seguros [y afines]  Gerencia de seguros [y afines]  Alta Dirección en seguros [y afines]  Responsabilidad civil y seguros [y afines]  Administración de riesgos y seguros [y afines]  Gerencia de riesgos y seguros [y afines]
C16: EXPERIENCIA | D16: Experiencia Específica Acreditar por lo menos cinco (5) años de experiencia en el sector asegurador (intermediarios, corredores, aseguradoras o agencias), en la coordinación o desarrollo de programas de seguros de Desempleo
C17: 4.2.5. FORMACIÓN, EXPERIENCIA Y DEDICACIÓN DEL PERSONAL MÍNIMO REQUERIDO HABILITANTE | G17: N/A
C21: 2 | D21: OFERENTE: | E21: =VLOOKUP(C21,Directorio!$A$4:$V$6,3,FALSE) -> CORRECOL CORREDORES COLOMBIANOS DE SEGUROS CORREDORES DE SEGUROS S.A
B22: LOTE 1 VIDA GRUPO DEUDORES o COLECTIVO VIDA | C22: REQUISITOS PERFIL | E22: CANDIDATO | F22: TIEMPO TOTAL | G22: CRITERIO | H22: OBSERVACIÓN
C23: Coordinador Experto en seguros de Vida Grupo Deudores | E23: SAIDY LILIANA CERQUERA
C24: FORMACIÓN ACADÉMICA | D24: Título de Pregrado Profesional en cualquiera de los programas incluidos en el siguiente listado, pero sin limitarse a estos, es decir, pudiendo acreditar otros afines a los mismos:  Administración de empresas [y afines]  Administración financiera [y afines]  Contaduría [y afines]  Derecho [y afines]  Economía [y afines]  Ingeniería administrativa [y afines]  Ingeniería industrial [y afines] | E24: PROFESIÓN: ABOGADO UNIVERSIDAD COOPERATIVA DE COLOMBIA TARJETA PROFESIONAL No. 40807 fecha 22/06/2012 Vigente Fecha de Grado: 13/12/2001 Tipo y No. Documento de Identidad: 52193996 (Anexa documentos soporte: Tarjeta profesional diploma y acta de grado) | G24: CUMPLE
D25: Título de Postgrado Posgrado en cualquiera de los programas incluidos en el siguiente listado, pero sin limitarse a estos, es decir, pudiendo acreditar otros afines a los mismos:  Seguros [y afines]  Gerencia de seguros [y afines]  Alta Dirección en seguros [y afines]  Responsabilidad civil y seguros [y afines]  Administración de riesgos y seguros [y afines]  Gerencia de riesgos y seguros [y afines] | E25: ESPECIALISTA EN GERENCIA DE RIESGOS Y SEGUROS UNIVERSIDAD POLITECNICO GRAN COLOMBIANO Fecha de Grado: 28/07/2011 (Anexa documentos soporte: Diploma) | G25: CUMPLE
C26: EXPERIENCIA | D26: Experiencia Específica Acreditar por lo menos cinco (5) años de experiencia en el sector asegurador (intermediarios, corredores, aseguradoras o agencias), en la coordinación o desarrollo de programas de seguros de vida grupo o vida deudores | E26: EXPERIENCIA ESPECÍFICA: 1. EMPRESAS - AON Cargo: EJECUTIVA DE FACTURACIÓN Fecha inicio 10/01/1993 Fecha Finaliza 19/07/2007 Tiempo Total: Año meses días | F26: AÑOS MESES DÍA | G26: NO CUMPLE | H26: No se identifican funciones de "en la coordinación o desarrollo de programas de seguros de vida grupo o vida deudores"
C27: EXPERIENCIA | E27: EXPERIENCIA ESPECÍFICA: 2. EMPRESAS - WACOLDA Cargo: TÉCNICO Fecha inicio 23/07/2007 Fecha Finaliza 25/11/2011 Tiempo Total: Año meses días | F27: AÑOS MESES DÍA | G27: NO CUMPLE | H27: No se identifican funciones de "en la coordinación o desarrollo de programas de seguros de vida grupo o vida deudores"
C28: EXPERIENCIA | E28: EXPERIENCIA ESPECÍFICA: 3. EMPRESAS - JARGU Cargo: EJECUTIVA DE CUENTA Fecha inicio 05/12/2011 Fecha Finaliza 20/11/2013 Tiempo Total: Año meses días | F28: AÑOS MESES DÍA | G28: NO CUMPLE | H28: No se identifican funciones de "en la coordinación o desarrollo de programas de seguros de vida grupo o vida deudores"
C29: EXPERIENCIA | E29: EXPERIENCIA ESPECÍFICA: 4. EMPRESAS - CORRECOL Cargo: Director de colocaciones beneficios Fecha inicio 12/02/2014 Fecha Finaliza 12/09/2024 Tiempo Total: 10 Años 7 meses Funciones: Temas de intermediación de seguros en el manejo y colocación de programas de seguros de personas. | F29: 10 AÑOS 7 MESES | G29: CUMPLE | H29: Aporta certificación del 12/09/2024 y contrato de trabajo. La certificación expresa en temas de intermediación de seguros en el manejo y colocación de programas de seguros de personas que incluyen los seguros de vida grupo y en seguros en general.
C30: 4.2.5. FORMACIÓN, EXPERIENCIA Y DEDICACIÓN DEL PERSONAL MÍNIMO REQUERIDO HABILITANTE | G30: CUMPLE
C32: =+C21 -> 2 | D32: OFERENTE: | E32: =VLOOKUP(C32,Directorio!$A$4:$V$6,3,FALSE) -> CORRECOL CORREDORES COLOMBIANOS DE SEGUROS CORREDORES DE SEGUROS S.A
B33: LOTE 2 DESEMPLEO | C33: REQUISITOS PERFIL | E33: CANDIDATO | F33: TIEMPO TOTAL | G33: CRITERIO | H33: OBSERVACIÓN
C34: Coordinador Experto en seguros de Deudores | E34: N/A
C35: FORMACIÓN ACADÉMICA | D35: Título de Pregrado Profesional en cualquiera de los programas incluidos en el siguiente listado, pero sin limitarse a estos, es decir, pudiendo acreditar otros afines a los mismos:  Administración de empresas [y afines]  Administración financiera [y afines]  Contaduría [y afines]  Derecho [y afines]  Economía [y afines]  Ingeniería administrativa [y afines]  Ingeniería industrial [y afines]
D36: Título de Postgrado Con posgrado en cualquiera de los programas incluidos en el siguiente listado, pero sin limitarse a estos, es decir, pudiendo acreditar otros afines a los mismos:  Seguros [y afines]  Gerencia de seguros [y afines]  Alta Dirección en seguros [y afines]  Responsabilidad civil y seguros [y afines]  Administración de riesgos y seguros [y afines]  Gerencia de riesgos y seguros [y afines]
C37: EXPERIENCIA | D37: Experiencia Específica Acreditar por lo menos cinco (5) años de experiencia en el sector asegurador (intermediarios, corredores, aseguradoras o agencias), en la coordinación o desarrollo de programas de seguros de Desempleo
C38: 4.2.5. FORMACIÓN, EXPERIENCIA Y DEDICACIÓN DEL PERSONAL MÍNIMO REQUERIDO HABILITANTE | G38: N/A
C41: 3 | D41: OFERENTE: | E41: =VLOOKUP(C41,Directorio!$A$4:$V$6,3,FALSE) -> UT PROSEGUROS-ITAU FNA-VGHA-CM-004-2024
B42: LOTE 1 VIDA GRUPO DEUDORES o COLECTIVO VIDA | C42: REQUISITOS PERFIL | E42: CANDIDATO | F42: TIEMPO TOTAL | G42: CRITERIO | H42: OBSERVACIÓN
C43: Coordinador Experto en seguros de Vida Grupo Deudores | E43: Dario Pinilla López
C44: FORMACIÓN ACADÉMICA | D44: Título de Pregrado Profesional en cualquiera de los programas incluidos en el siguiente listado, pero sin limitarse a estos, es decir, pudiendo acreditar otros afines a los mismos:  Administración de empresas [y afines]  Administración financiera [y afines]  Contaduría [y afines]  Derecho [y afines]  Economía [y afines]  Ingeniería administrativa [y afines]  Ingeniería industrial [y afines] | E44: PROFESIÓN: ADMINISTRACIÓN DE EMPRESAS UNIVERSIDAD COOPERATIVA DE COLOMBIA TARJETA PROFESIONAL No. 50514 fecha 21/11/2011 Vigente Fecha de Grado: 12/12/2002 Tipo y No. Documento de Identidad: 79866201 (Anexa documentos soporte: Tarjeta profesional y acta de grado) | G44: CUMPLE
D45: Título de Postgrado Posgrado en cualquiera de los programas incluidos en el siguiente listado, pero sin limitarse a estos, es decir, pudiendo acreditar otros afines a los mismos:  Seguros [y afines]  Gerencia de seguros [y afines]  Alta Dirección en seguros [y afines]  Responsabilidad civil y seguros [y afines]  Administración de riesgos y seguros [y afines]  Gerencia de riesgos y seguros [y afines] | E45: PROFESIÓN: ESPECIALISTA EN SEGUROS Y SEGURIDAD SOCIAL UNIVERSIDAD LA SABANA Fecha de Grado: 6/08/2013 (Anexa documentos soporte: Diploma) | G45: CUMPLE
C46: EXPERIENCIA | D46: Experiencia Específica Acreditar por lo menos cinco (5) años de experiencia en el sector asegurador (intermediarios, corredores, aseguradoras o agencias), en la coordinación o desarrollo de programas de seguros de vida grupo o vida deudores | E46: EXPERIENCIA ESPECÍFICA: 1. EMPRESAS - JLT VALENCIA & IRAGORRI CORREDORES DE SEGUROS Cargo: EJECUTIVO DE CUENTA Fecha inicio 29/08/2002 Fecha Finaliza 06/04/2014 Tiempo Total: Año meses días | F46: AÑOS MESES DÍA | G46: NO CUMPLE | H46: No se identifican funciones de "en la coordinación o desarrollo de programas de seguros de vida grupo o vida deudores"
C47: EXPERIENCIA | E47: 2. EMPRESAS - ITAU CORREDOR DE SEGUROS COLOMBIA S.A. Cargo: SUBGERENTE COMERCIAL Fecha inicio 21/04/2014 Fecha Finaliza 12/09/2024 Tiempo Total: 10 Años 4 meses 22 días Actividades y Funciones: Manejo de contratos de corretaje y programas de Seguros de Clientes Públicos y Privados en los ramos de (...), vida, vida deudores, | F47: 10 AÑOS 4 MESES 22 DÍA | G47: CUMPLE | H47: Aporta certificación del 12/09/2024 y contrato de trabajo. Relaciona funciones de manejo de contratos de corretaje y programas de Seguros de Clientes Públicos y Privados en los ramos de (…), vida, vida deudores
C48: 4.2.5. FORMACIÓN, EXPERIENCIA Y DEDICACIÓN DEL PERSONAL MÍNIMO REQUERIDO HABILITANTE | G48: CUMPLE
...

Sheet Conclusión de Evaluación
A2: =General!D1 -> FONDO NACIONAL DEL AHORRO
A4: =General!B1 -> FNA-VGHA-CM-004-2024
A6: =General!B2 -> PRESTACIÓN DEL SERVICIO DE INTERMEDIACIÓN DE SEGUROS PARA ASESORAR DE MANERA INTEGRAL A LA ENTIDAD EN LA ADMINISTRACIÓN DE LOS RIESGOS, PROCESOS DE CONTRATACIÓN, GESTIÓN DE LOS ASPECTOS TÉCNICOS, ADMINISTRATIVOS, OPERATIVOS Y COMERCIALES DE LAS PÓLIZAS QUE INTEGRAN EL PROGRAMA DE SEGUROS DEUDORES EN EL CUAL EL FONDO NACIONAL DEL AHORRO ACTÚA COMO TOMADOR POR CUENTA DE SUS DEUDORES Y/O LOCATARIOS | R6: º
A7: INFORME DE EVALUACIÓN Y VERIFICACIÓN DE REQUISITOS DE CARÁCTER TÉCNICO FINAL
A8: Como producto de la verificación de los Requisitos Técnicos, a la fecha del presente Informe el resultado es el siguiente:
E9: RESULTADO DE LA EVALUACIÓN LOTE 1 | J9: RESULTADO DE LA EVALUACIÓN LOTE 2
B10: No | C10: OFERENTE | E10: 4.2.1. EXPERIENCIA MÍNIMA HABILITANTE | F10: =+'Requisitos Técnicos'!A4 -> 4.2.4. COMPROMISO PERSONAL MÍNIMO | G10: =+'Requisitos Técnicos'!A8 -> 4.2.6. MANIFESTACIÓN DE ACEPTACIÓN DE REQUERIMIENTOS MÍNIMOS OBLIGATORIO | H10: =+Coord!C9 -> 4.2.5. FORMACIÓN, EXPERIENCIA Y DEDICACIÓN DEL PERSONAL MÍNIMO REQUERIDO HABILITANTE | J10: 4.2.1. EXPERIENCIA MÍNIMA HABILITANTE | K10: =+'Requisitos Técnicos'!A4 -> 4.2.4. COMPROMISO PERSONAL MÍNIMO | L10: =+'Requisitos Técnicos'!A8 -> 4.2.6. MANIFESTACIÓN DE ACEPTACIÓN DE REQUERIMIENTOS MÍNIMOS OBLIGATORIO | M10: =+Coord!C17 -> 4.2.5. FORMACIÓN, EXPERIENCIA Y DEDICACIÓN DEL PERSONAL MÍNIMO REQUERIDO HABILITANTE
B11: 1 | C11: =VLOOKUP(B11,Directorio!$A$4:$C$7,3) -> ARTHUR J GALLAGHER CORREDORES DE SEGUROS S.A. | E11: =+'Exp. Proponente'!O11 -> CUMPLE | F11: =+'Requisitos Técnicos'!E6 -> CUMPLE | G11: =+'Requisitos Técnicos'!E10 -> CUMPLE | H11: =+Coord!G9 -> NO CUMPLE | J11: =+'Exp. Proponente'!O22 -> N/A | K11: =+'Requisitos Técnicos'!I6 -> N/A | L11: =+'Requisitos Técnicos'!I10 -> N/A | M11: =+Coord!G17 -> N/A
B12: 2 | C12: =VLOOKUP(B12,Directorio!$A$4:$C$7,3) -> CORRECOL CORREDORES COLOMBIANOS DE SEGUROS CORREDORES DE SEGUROS S.A | E12: =+'Exp. Proponente'!O38 -> CUMPLE | F12: =+'Requisitos Técnicos'!M6 -> CUMPLE | G12: =+'Requisitos Técnicos'!M10 -> CUMPLE | H12: =+Coord!G30 -> CUMPLE | J12: =+'Exp. Proponente'!O68 -> N/A | K12: =+'Requisitos Técnicos'!Q6 -> N/A | L12: =+'Requisitos Técnicos'!Q10 -> N/A | M12: =+Coord!G38 -> N/A
B13: 3 | C13: =VLOOKUP(B13,Directorio!$A$4:$C$7,3) -> UT PROSEGUROS-ITAU FNA-VGHA-CM-004-2024 | E13: =+'Exp. Proponente'!O84 -> NO CUMPLE | F13: =+'Requisitos Técnicos'!U6 -> CUMPLE | G13: =+'Requisitos Técnicos'!U10 -> CUMPLE | H13: =+Coord!G48 -> CUMPLE | J13: =+'Exp. Proponente'!O116 -> N/A | K13: =+'Requisitos Técnicos'!Y6 -> N/A | L13: =+'Requisitos Técnicos'!Y10 -> N/A | M13: =+Coord!G56 -> N/A
A16: Bogotá D.C., a los trece (13) días del mes de septiembre de 2024
A19: SANDRA CRISTINA JIMÉNEZ CIFUENTES | E19: BRYAN ALBERTO SALAS RAMÍREZ
A20: Evaluador Técnico | E20: Evaluador Técnico
D22: (ORIGINAL FIRMADO)
