Workbook
Name PROCESOS: [1]Atributos!$B$3:$B$23

Sheet CONSOLIDADO
A1: CONSOLIDADO EVALUACIÓN TECNICA PROCESO PROCESO MINIMA CUANTIA No. SGC-MC-018-2024 "Contratar el mantenimiento preventivo, incluida la entrega e instalación de consumibles, para el equipo de purificación de agua Rephile (Direct Pure) de la Dirección de Laboratorios del Servicio Geológico Colombiano en la sede Manizales."
A6: No. | B6: PROPONENTE | E6: RESULTADO EVALUACIÓN TECNICA
A8: 1 | B8: HYDROCHEM | E8: HABILITADO
A12: EVALUADORES:
A13: Zoraida Chacón Ortiz, Contratista
A14: Luz Myriam Gomez Solano, Funcionaria Dir de Laboratorios

Sheet  TECNICO
C1: =+CONSOLIDADO!A1 -> CONSOLIDADO EVALUACIÓN TECNICA PROCESO PROCESO MINIMA CUANTIA No. SGC-MC-018-2024 "Contratar el mantenimiento preventivo, incluida la entrega e instalación de consumibles, para el equipo de purificación de agua Rephile (Direct Pure) de la Dirección de Laboratorios del Servicio Geológico Colombiano en la sede Manizales."
A6: REQUERIMIENTOS TECNICOS | H6: HYDROCHEM
A7: 1. MANTENIMIENTO PREVENTIVO | H7: Evidencia Formato7 Aceptacion_Especificaciones_tecnicas_minimas Cumplimiento: cumple
A8: SUMINISTRO DE CONSUMIBLES | H8: Evidencia: Formato7 Aceptacion_Especificaciones_tecnicas_minimas Cumplimiento: cumple
A9: CUMPLIMIENTO ESPECIFICACIONES TECNICAS | H9: Evidencia: Formato7 Aceptacion_Especificaciones_tecnicas_minimas Cumplimiento: cumple
A14: CERTIFICADO(S) DE DISTRIBUIDOR AUTORIZADO O CARTA DE FABRICANTE | H14: Subsandado: La empresa allegó carta de distriuidor auorizado traducida al español Cumplimiento: cumple
A19: EQUIPO TÉCNICO MINIMO DE TRABAJO PARA EJECUTAR EL CONTRATO Experiencia general de mínimo dos (2)años. Mínimo un (1) año, en mantenimiento de equipos iguales o similares al del proceso Certificación o constancia de vigencia profesional | H19: Subsanado: La empresa allegó certificado de experiencia emitido por la empresa Hydrochem y cetificado de vigencia y antecedentes disciplinarios emitidos por el Consejo Profesional de Ingenieria Química del señor Juan Gómez Cumplimiento: cumple
A20: CERTIFICACION DE BIENES ORIGINALES | H20: Cumplimiento: cumple

Sheet EXPERIENCIA
C2: =+CONSOLIDADO!A1 -> CONSOLIDADO EVALUACIÓN TECNICA PROCESO PROCESO MINIMA CUANTIA No. SGC-MC-018-2024 "Contratar el mantenimiento preventivo, incluida la entrega e instalación de consumibles, para el equipo de purificación de agua Rephile (Direct Pure) de la Dirección de Laboratorios del Servicio Geológico Colombiano en la sede Manizales."
P4: PROPONENTE
P6: ACREDITACIÓN DEL LABORATORIO | Q6: GIMPLEMENTACIÓN DEL SISTEMA DE GESTIÓN DE SEGURIDAD Y SALUD EN EL TRABAJO | R6: CUMPLIMIENTO DE LAS ESPECIFICACIONES TÉCNICAS DEL SERVICIO | S6: OBSERVACIONES Y SOLICITUD DE ACLARACIONES
P8: No cumple | Q8: No cumple | R8: No cumple
A9: REQUERIMIENTOS
A10: PRESUPUESTO OFICIAL | F10: 17400775
A11: PRESUPUESTO OFICIAL (SMMLV) | F11: =+F10/1300000 -> 13.385212
A12: OBJETO DE LOS CONTRATOS: Mantenimiento preventivo para equipo de purificación de agua
A14: No. | B14: PROPONENTE | D14: CERTIFICACIÓN | E14: NUMERO DEL CONTRATO | F14: OBJETO DEL CONTRATO | G14: ENTIDAD CONTRATANTE | H14: FECHA DE INICIO | I14: FECHA DE TERMINACIÓN | J14: FORMA DE EJECUCIÓN | K14: PARTICIPACIÓN (%) | L14: VALOR | M14: VALOR | N14: VALOR PONDERADO PARTICIPACION | O14: OBSERVACIONES Y/O SOLICITUD DE ACLARACIONES
D15: No | L15: (PESOS) | M15: (SMMLV) | N15: (SMMLV)
A17: 1 | B17: HYDROCHEM | D17: 1 | E17: 868-2019 | F17: Contratar el mantenimiento preventivo y suministro de partes para equipo Rephile | G17: SGC | H17: 43707 | I17: 43752 | L17: 16691059 | M17: 20.15 | O17: Cumple
A18: 2 | B18: HYDROCHEM | D18: 2 | E18: NA | F18: Contratar el mantenimiento preventivo y suministro de partes para equipo Rephile | G18: Fresenius Medical Care | H18: 44927 | I18: 45290 | L18: 11300000 | M18: 9.7 | O18: Cumple

Sheet OTROS TECNICOS
C1: =+CONSOLIDADO!A1 -> CONSOLIDADO EVALUACIÓN TECNICA PROCESO PROCESO MINIMA CUANTIA No. SGC-MC-018-2024 "Contratar el mantenimiento preventivo, incluida la entrega e instalación de consumibles, para el equipo de purificación de agua Rephile (Direct Pure) de la Dirección de Laboratorios del Servicio Geológico Colombiano en la sede Manizales."
A6: OTROS REQUERIMIENTOS TECNICOS
A7: ACREDITACIÓN DEL LABORATORIO Acreditación del Laboratorio por el Organismo Nacional de Acreditación de Colombia - ONAC bajo la norma ISO/IEC 17025, mediante la presentación de la certificación emitida por dicho organismo, la cual debe estar vigente.
A8: IMPLEMENTACIÓN DEL SISTEMA DE GESTIÓN DE SEGURIDAD Y SALUD EN EL TRABAJO El proponente deberá aportar con su propuesta certificado de la ARL de implementación del SG-SST y/o certificación firmada por el Representante Legal del resultado y nivel de implementación del SG-SST de acuerdo a la aplicación de estándares mínimos aplicables - Dec. 1072/2015(2.2.4.6.1) y Res 0312-2019.
A9: CUMPLIMIENTO DE LAS ESPECIFICACIONES TÉCNICAS DEL SERVICIO Las manifestaciones efectuadas respecto del cumplimiento de las especificaciones técnicas, tiene por objeto determinar si los servicios ofrecidos cumplen con los requerimientos técnicos mínimos exigidos en los estudios previos del presente proceso.
A11: No. | B11: PROPONENTE
A12: 1
B13: ACREDITACIÓN DEL LABORATORIO | C13: GIMPLEMENTACIÓN DEL SISTEMA DE GESTIÓN DE SEGURIDAD Y SALUD EN EL TRABAJO | D13: CUMPLIMIENTO DE LAS ESPECIFICACIONES TÉCNICAS DEL SERVICIO | E13: OBSERVACIONES Y SOLICITUD DE ACLARACIONES
B15: No cumple | C15: No cumple | D15: No cumple
A17: No. | B17: PROPONENTE
A18: 2
B19: ACREDITACIÓN DEL LABORATORIO | C19: GIMPLEMENTACIÓN DEL SISTEMA DE GESTIÓN DE SEGURIDAD Y SALUD EN EL TRABAJO | D19: CUMPLIMIENTO DE LAS ESPECIFICACIONES TÉCNICAS DEL SERVICIO | E19: OBSERVACIONES Y SOLICITUD DE ACLARACIONES
B21: Cumple | C21: Cumple | D21: Cumple
A23: No. | B23: PROPONENTE
A24: 3
B25: ACREDITACIÓN DEL LABORATORIO | C25: GIMPLEMENTACIÓN DEL SISTEMA DE GESTIÓN DE SEGURIDAD Y SALUD EN EL TRABAJO | D25: CUMPLIMIENTO DE LAS ESPECIFICACIONES TÉCNICAS DEL SERVICIO | E25: OBSERVACIONES Y SOLICITUD DE ACLARACIONES
B27: No cumple | C27: No cumple | D27: No cumple

Sheet PUNT TECNICO
C1: PONDERACION TECNICA PROCESO DE CONCURSO DE MERITOS CM-DG-0004-2020 "Contratar el diagnóstico y análisis de las redes eléctricas y subestaciones de algunos centros del SENA, así como el diseño e implementación de un plan de actualización y repotenciación de estas"
A6: No. | B6: PROPONENTE | G6: TOTAL PONDERACION TECNICA | H6: OBSERVACIONES
A7: 1 | B7: =+VLOOKUP(A7,CONSOLIDADO!$A$8:$D$8,2,FALSE) -> HYDROCHEM
A8: 2 | B8: =+VLOOKUP(A8,CONSOLIDADO!$A$8:$D$8,2,FALSE) -> #N/A
A9: 3 | B9: =+VLOOKUP(A9,CONSOLIDADO!$A$8:$D$8,2,FALSE) -> #N/A
A10: 4 | B10: =+VLOOKUP(A10,CONSOLIDADO!$A$8:$D$8,2,FALSE) -> #N/A
A11: 5 | B11: =+VLOOKUP(A11,CONSOLIDADO!$A$8:$D$8,2,FALSE) -> #N/A
A12: 6 | B12: =+VLOOKUP(A12,CONSOLIDADO!$A$8:$D$8,2,FALSE) -> #N/A
A13: 7 | B13: =+VLOOKUP(A13,CONSOLIDADO!$A$8:$D$8,2,FALSE) -> #N/A

Sheet INDUSTRIA
C1: PROTECCION A LA INDUSTRIA NACIONAL PROCESO DE CONCURSO DE MERITOS CM-DG-0004-2020 "Contratar el diagnóstico y análisis de las redes eléctricas y subestaciones de algunos centros del SENA, así como el diseño e implementación de un plan de actualización y repotenciación de estas"
A6: No. | B6: PROPONENTE | G6: PUNTAJE PROTECCION A LA INDUSTRIA NACIONAL | H6: OBSERVACIONES
A7: 1 | B7: =+VLOOKUP(A7,CONSOLIDADO!$A$8:$D$8,2,FALSE) -> HYDROCHEM
A8: 2 | B8: =+VLOOKUP(A8,CONSOLIDADO!$A$8:$D$8,2,FALSE) -> #N/A
A9: 3 | B9: =+VLOOKUP(A9,CONSOLIDADO!$A$8:$D$8,2,FALSE) -> #N/A
A10: 4 | B10: =+VLOOKUP(A10,CONSOLIDADO!$A$8:$D$8,2,FALSE) -> #N/A
A11: 5 | B11: =+VLOOKUP(A11,CONSOLIDADO!$A$8:$D$8,2,FALSE) -> #N/A
A12: 6 | B12: =+VLOOKUP(A12,CONSOLIDADO!$A$8:$D$8,2,FALSE) -> #N/A
A13: 7 | B13: =+VLOOKUP(A13,CONSOLIDADO!$A$8:$D$8,2,FALSE) -> #N/A

Sheet DISCAPACIDAD
C1: INCENTIVO PREFERENCIAS A FAVOR DE LAS PERSONAS CON DISCAPACIDAD PROCESO DE CONCURSO DE MERITOS CM-DG-0004-2020 "Contratar el diagnóstico y análisis de las redes eléctricas y subestaciones de algunos centros del SENA, así como el diseño e implementación de un plan de actualización y repotenciación de estas"
A6: No. | B6: PROPONENTE | G6: PUNTAJE INCENTIVO PREFERENCIAS A FAVOR DE LAS PERSONAS CON DISCAPACIDAD | H6: OBSERVACIONES
A7: 1 | B7: =+VLOOKUP(A7,CONSOLIDADO!$A$8:$D$8,2,FALSE) -> HYDROCHEM
A8: 2 | B8: =+VLOOKUP(A8,CONSOLIDADO!$A$8:$D$8,2,FALSE) -> #N/A
A9: 3 | B9: =+VLOOKUP(A9,CONSOLIDADO!$A$8:$D$8,2,FALSE) -> #N/A
A10: 4 | B10: =+VLOOKUP(A10,CONSOLIDADO!$A$8:$D$8,2,FALSE) -> #N/A
A11: 5 | B11: =+VLOOKUP(A11,CONSOLIDADO!$A$8:$D$8,2,FALSE) -> #N/A
A12: 6 | B12: =+VLOOKUP(A12,CONSOLIDADO!$A$8:$D$8,2,FALSE) -> #N/A
A13: 7 | B13: =+VLOOKUP(A13,CONSOLIDADO!$A$8:$D$8,2,FALSE) -> #N/A

Sheet 1
A1: AÑO | B1: SMMLV
A2: 2021 | B2: 908526
A3: 2020 | B3: 877803
A4: 2019 | B4: 828116
A5: 2018 | B5: 781242
A6: 2017 | B6: 737717
A7: 2016 | B7: 689455
A8: 2015 | B8: 644350
A9: 2014 | B9: 616000
A10: 2013 | B10: 589500
A11: 2012 | B11: 566700
A12: 2011 | B12: 535600
A13: 2010 | B13: 515000
... A22: 2001 | B22: 286000

Sheet 2-1
A1: EXPERIENCIA EN ESTUDIOS Y DISEÑOS
A2: LOTE | C2: PRESUPUESTO (SMMLV) | D2: AREA (M2)
A3: 2 | B3: Antioquia Choco Huila Risaralda Tolima | C3: 353.7 | D3: 9345
A4: 1 | B4: Atlántico Bolívar Cesar Córdoba Magdalena Sucre | C4: 271.45 | D4: 7271
A5: 3 | B5: Boyacá Casanare Cundinamarca Guainía | C5: 267.56 | D5: 7049

Sheet 2-2
A1: EXPERIENCIA EN OBRAS
A2: LOTE | C2: PRESUPUESTO (SMMLV) | D2: AREA (M2)
A3: 2 | B3: Antioquia Choco Huila Risaralda Tolima | C3: 7646.1 | D3: 9345
A4: 1 | B4: Atlántico Bolívar Cesar Córdoba Magdalena Sucre | C4: 6365.22 | D4: 7271
A5: 3 | B5: Boyacá Casanare Cundinamarca Guainía | C5: 6235.83 | D5: 7049

Sheet 3
A1: HABILITADO
A2: NO HABILITADO
A3: SUBSANAR
A4: NO CUMPLE / SUBSANAR
A5: RECHAZADO
A9: INDIVIDUAL
A10: CONSORCIO
A11: UNION TEMPORAL
