Workbook
Name a1_Y1: [2]CONFIGURACIÓN!$D$17
Name a1_Y2: [2]CONFIGURACIÓN!$E$17
Name a10_Y10: [2]CONFIGURACIÓN!$M$26
Name a10_Y11: [2]CONFIGURACIÓN!$N$26
Name a2_Y2: [2]CONFIGURACIÓN!$E$18
Name a2_Y3: [2]CONFIGURACIÓN!$F$18
Name a3_Y3: [2]CONFIGURACIÓN!$F$19
Name a3_Y4: [2]CONFIGURACIÓN!$G$19
Name a4_Y4: [2]CONFIGURACIÓN!$G$20
Name a4_Y5: [2]CONFIGURACIÓN!$H$20
Name a5_Y5: [2]CONFIGURACIÓN!$H$21
Name a5_Y6: [2]CONFIGURACIÓN!$I$21
Name a6_Y6: [2]CONFIGURACIÓN!$I$22
Name a6_Y7: [2]CONFIGURACIÓN!$J$22
Name a7_Y7: [2]CONFIGURACIÓN!$J$23
Name a7_Y8: [2]CONFIGURACIÓN!$K$23
Name a8_Y8: [2]CONFIGURACIÓN!$K$24
Name a8_Y9: [2]CONFIGURACIÓN!$L$24
Name a9_Y10: [2]CONFIGURACIÓN!$M$25
Name a9_Y9: [2]CONFIGURACIÓN!$L$25
Name ALMUERZO: '[3]Resumen Preparaciones'!$C$52:$C$113
Name almuerzocena: '[3]Resumen Preparaciones'!$C$52:$C$141
Name año1: [2]CONFIGURACIÓN!$F$9
Name APLICA: #REF!
Name APLICA: #REF!
Name APLICA: #REF!
Name APLICA: #REF!
Name APLICA: #REF!
Name APLICA: #REF!
Name APLICA: #REF!
Name APLICA: #REF!
Name APLICA: #REF!
Name APLICA: #REF!
Name APLICA: #REF!
Name APLICA: #REF!
Name APLICA: #REF!
Name APLICA: #REF!
Name APLICA: #REF!
Name APLICA: #REF!
Name APLICA.: #REF!
Name APLICA.: #REF!
Name APLICA.: #REF!
Name APLICA.: #REF!
Name APLICA.: #REF!
Name APLICA.: #REF!
Name APLICA.: #REF!
Name APLICA.: #REF!
Name APLICA.: #REF!
Name APLICA.: #REF!
Name APLICA.: #REF!
Name APLICA.: #REF!
Name APLICA.: #REF!
Name APLICA.: #REF!
Name APLICA.: #REF!
Name APLICA.: #REF!
Name bbb: [4]lista!$A$11:$A$13
Name CALENDARIO: [2]CALENDARIO!$B$6:$H$161
Name Calidad: [5]PERSONAL!$P$58
Name Campamento: [5]PERSONAL!$P$122
Name Comercio: [6]OCULTAR!$F$14:$G$17

Sheet OFERTA ECONÓMICA
D2: República de Colombia
D3: Instituto Colombiano de Antropología e Historia
D4: Formato Oferta Económica proceso de selección MC-ICANH-026-2024
B6: Objeto | D6: Adquisición de chalecos institucionales como parte de la imagen institucional en territorio para el personal misional del Instituto Colombiano de Antropología e Historia – ICANH
B7: Nombre o Razón Social | I7: NIT
B8: Persona de contacto | I8: Teléfono celular
B9: Correo electrónico | I9: Teléfono fijo
B11: Instrucciones para el diligenciamiento de la oferta:
B13: • Por favor diligenciar solo las celdas en AZUL. • Los precios unitarios deberán ser expresado en PESOS COLOMBIANOS y en números enteros. • El formato contiene los insumos de costos estimados por el Instituto por lo tanto no se permite modificar, agregar o quitar ningún ítem o sub-ítem. • Para la estructuración de la propuesta por favor tener en cuenta el documento anexo "Ficha técnica" • Los precios deberán aproximarse por exceso o por defecto al entero más cercano así: (i) si es igual o superior a 50 centavos, se aproxima al entero siguiente; (ii) si es inferior a 50 centavos se baja al entero anterior. • Los precios unitarios deben contemplar todos los rubros requeridos para la adecuada prestación del servicio y el cumplimiento de las obligaciones contractuales. • Los precios unitarios ofertados no pueden superar los precios techo establecidos. • Ningún ítem de la propuesta económica debe ser diligenciado con cero (0), so pena de ser rechazada.
B15: Notas: (1) Tener en cuenta en el momento de ofertar, que el plazo de ejecución es estimado y podrá ser inferior. (2) Los valores unitarios deben incluir todos los costos y gastos directos e indirectos en que incurre el contratista durante la ejecución del contrato de acuerdo con las especificaciones de la ficha técnica, las obligaciones tributarias de acuerdo con las normas aplicables para el tipo de servicio y contrato correspondiente.
B17: Plazo de ejecución estimado (Nota 1) | D17: 1 MES
H20: PRECIO TECHO | J20: PRECIO OFERTADO
B21: ITEM | C21: Detalle servicios (Nota 2) | D21: Ubicación | E21: Especificaciones técnicas | F21: Unidad de medida | G21: Cantidad de chalecos | H21: PRECIO UNITARIO IVA INCLUIDO | I21: PRECIO TOTAL IVA INCLUIDO | J21: PRECIO UNITARIO IVA INCLUIDO (Nota 2) | K21: PRECIO TOTAL IVA INCLUIDO
B22: 1 | C22: Suministro del chalecos institucinales talla S | D22: Calle 12 # 2 – 41 Bogotá D.C | E22: Color: beige militar. Tela exterior: Tipo Dril de poliéster-algodón 67% poliéster – 33% algodón Características de la tela: resistencia, durabilidad y facilidad de cuidado Resistencia al agua y fuego. Resistencia a las arrugas Tela transpirable. Tela Interior: Tipo Algodón Número de bolsillos: cinco (5) en la parte frontal Tipo de bolsillos: (medidas establecidas en las imágenes) Un (1) bolsillo tipo fuelle con tapa, broche Dos (2) bolsillos tipo fuelle con cremallera. Un (1) bolsillo portaesfero Dos (2) bolsillos tipo ojal con cremallera Cremallera negra en poliéster # 6 Cinta textil reflectiva (Cinta reflectiva gris poliéster, Material 100% Poliéster, Medidas: Ancho: 5 cm) Ubicación de las Cintas Reflectivas (2 franjas frontales, 3 franjas en la parte trasera) Logos: Los logos deberán ser tejidos con hilo, tendrán una altura de 5 cm x 5 cm. | F22: Chaleco | G22: 30 | H22: 142949 | I22: =H22*G22 -> 4288470 | K22: =ROUND(J22*G22,0) -> 0
B23: 2 | C23: Suministro del chalecos institucinales talla M | F23: Chaleco | G23: 55 | H23: 142949 | I23: =H23*G23 -> 7862195 | K23: =ROUND(J23*G23,0) -> 0
B24: 3 | C24: Suministro del chalecos institucinales talla L | F24: Chaleco | G24: 52 | H24: 142949 | I24: =H24*G24 -> 7433348 | K24: =ROUND(J24*G24,0) -> 0
B25: 4 | C25: Suministro del chalecos institucinales talla XL | F25: Chaleco | G25: 10 | H25: 142949 | I25: =H25*G25 -> 1429490 | K25: =ROUND(J25*G25,0) -> 0
B26: PRECIO TOTAL IVA INCLUIDO | I26: =SUM(I22:I25) -> 21013503 | J26: - | K26: =SUM(K22:K25) -> 0
B38: FIRMA DEL REPRESENTANTE LEGAL
B39: C.C.

Sheet Ofertas Recibidas
C1: República de Colombia
C2: Instituto Colombiano de Antropología e Historia Proceso de Mínima Cuantía No. MC-ICANH-026-2024
C3: OFERTAS RECIBIDAS
A5: Objeto | C5: Adquisición de chalecos institucionales como parte de la imagen institucional en territorio para el personal misional del Instituto Colombiano de Antropología e Historia – ICANH
A7: Presupuesto | C7: 21013503
A9: Oferta | B9: EMPRESA | F9: VALOR OFERTADO | H9: OBSERVACIÓN | I9: NOTA
A10: Oferta 1 | B10: =+'Oferta 1 ADN'!D7 -> ATELIER DU DESIGN NOVATEUR SAS | F10: =+'Oferta 1 ADN'!K26 -> 15743700 | H10: =+'Oferta 1 ADN'!N27 -> CUMPLE
A11: Oferta 2 | B11: =+'Oferta 2 ARMY'!D7 -> AH ARMY SAS | F11: =+'Oferta 2 ARMY'!K26 -> 14469210 | H11: =+'Oferta 2 ARMY'!N27 -> CUMPLE
A12: Oferta 3 | B12: =+'Oferta 3 ANDREA'!D7 -> ANDREA CAROLINA PAREDES RAMIREZ | F12: =+'Oferta 3 ANDREA'!M26 -> 13362300 | H12: =+'Oferta 3 ANDREA'!N27 -> CUMPLE
A13: Oferta 4 | B13: =+'Oferta 4 BONSANTE'!D7 -> BON SANTE S.A.S. | F13: =+'Oferta 4 BONSANTE'!M26 -> 11745300 | H13: =+'Oferta 4 BONSANTE'!N27 -> CUMPLE
A14: Oferta 5 | B14: =+'Oferta 5 CAFE'!D7 -> COMERCIALIZADORA CAFÉ BOTERO SAS | F14: =+'Oferta 5 CAFE'!M26 -> 10495800 | H14: =+'Oferta 5 CAFE'!N27 -> CUMPLE
A15: Oferta 6 | B15: =+'Oferta 6 DGERARD'!D7 -> DGERARD MG SAS | F15: =+'Oferta 6 DGERARD'!M26 -> 16192050 | H15: =+'Oferta 6 DGERARD'!N27 -> CUMPLE
A16: Oferta 7 | B16: =+'Oferta 7 CAPITAL'!D7 -> GRUPO SOCIEDAD CAPITAL SAS | F16: =+'Oferta 7 CAPITAL'!M26 -> 18963000 | H16: =+'Oferta 7 CAPITAL'!N27 -> CUMPLE
A17: Oferta 8 | B17: =+'Oferta 8 MAG'!D7 -> MAG DOTACIONES Y PUBLICITARIOS S.A.S | F17: =+'Oferta 8 MAG'!M26 -> 9621150 | H17: =+'Oferta 8 MAG'!N27 -> CUMPLE
A18: Oferta 9 | B18: =+'Oferta 9 OPEN'!D7 -> OPEN FOR DRESSMAKING SAS | F18: =+'Oferta 9 OPEN'!M26 -> 11370450 | H18: =+'Oferta 9 OPEN'!N27 -> CUMPLE
A19: Oferta 10 | B19: =+'Oferta 10 PACIFIC'!D7 -> PACIFIC CYCLING SAS | F19: =+'Oferta 10 PACIFIC'!M26 -> 17143140 | H19: =+'Oferta 10 PACIFIC'!N27 -> CUMPLE
A20: Oferta 11 | B20: =+'Oferta 11 HC'!D7 -> PUBLICIDAD Y PRODUCCIONES HC S.A.S | F20: =+'Oferta 11 HC'!M26 -> 15435000 | H20: =+'Oferta 11 HC'!N27 -> CUMPLE
A21: Oferta 12 | B21: =+'Oferta 12 SALAMYM'!D7 -> SALAMYM LTDA | F21: =+'Oferta 12 SALAMYM'!M26 -> 14112000 | H21: =+'Oferta 12 SALAMYM'!N27 -> CUMPLE
A22: Oferta 13 | B22: =+'Oferta 13 SUPERIOR'!D7 -> SUPERIOR DE DOTACIONES SAS | F22: =+'Oferta 13 SUPERIOR'!M26 -> 9937200 | H22: =+'Oferta 13 SUPERIOR'!N27 -> CUMPLE
A23: Oferta 14 | B23: =+'Oferta 14 MSM'!D7 -> MSM PROMOCIONALES SAS | F23: =+'Oferta 14 MSM'!M26 -> 12965400 | H23: =+'Oferta 14 MSM'!N27 -> CUMPLE
B25: EVALUADOR TÉCNICO
B27: NOMBRE DEL PROFESIONAL | D27: LUCIANO ALFOSNO PINILLA PEDRAZA
B28: CARGO | D28: CONTRATISTA

Sheet Posiciones
B1: República de Colombia
B2: =+'Ofertas Recibidas'!C2 -> Instituto Colombiano de Antropología e Historia Proceso de Mínima Cuantía No. MC-ICANH-026-2024
B3: Posiciones
A5: Objeto | B5: =+'Ofertas Recibidas'!C5 -> Adquisición de chalecos institucionales como parte de la imagen institucional en territorio para el personal misional del Instituto Colombiano de Antropología e Historia – ICANH
A7: Posición | B7: Oferta | C7: EMPRESA | D7: VALOR OFERTADO
A8: Posición 1 | B8: Oferta 8 | C8: =+'Ofertas Recibidas'!B17 -> MAG DOTACIONES Y PUBLICITARIOS S.A.S | D8: =+'Ofertas Recibidas'!F17 -> 9621150
A9: Posición 2 | B9: Oferta 13 | C9: =+'Ofertas Recibidas'!B22 -> SUPERIOR DE DOTACIONES SAS | D9: =+'Ofertas Recibidas'!F22 -> 9937200
A10: Posición 3 | B10: Oferta 5 | C10: =+'Ofertas Recibidas'!B14 -> COMERCIALIZADORA CAFÉ BOTERO SAS | D10: =+'Ofertas Recibidas'!F14 -> 10495800
A11: Posición 4 | B11: Oferta 9 | C11: =+'Ofertas Recibidas'!B18 -> OPEN FOR DRESSMAKING SAS | D11: =+'Ofertas Recibidas'!F18 -> 11370450
A12: Posición 5 | B12: Oferta 4 | C12: =+'Ofertas Recibidas'!B13 -> BON SANTE S.A.S. | D12: =+'Ofertas Recibidas'!F13 -> 11745300
A13: Posición 6 | B13: Oferta 14 | C13: =+'Ofertas Recibidas'!B23 -> MSM PROMOCIONALES SAS | D13: =+'Ofertas Recibidas'!F23 -> 12965400
A14: Posición 7 | B14: Oferta 3 | C14: =+'Ofertas Recibidas'!B12 -> ANDREA CAROLINA PAREDES RAMIREZ | D14: =+'Ofertas Recibidas'!F12 -> 13362300
A15: Posición 8 | B15: Oferta 12 | C15: =+'Ofertas Recibidas'!B21 -> SALAMYM LTDA | D15: =+'Ofertas Recibidas'!F21 -> 14112000
A16: Posición 9 | B16: Oferta 2 | C16: =+'Ofertas Recibidas'!B11 -> AH ARMY SAS | D16: =+'Ofertas Recibidas'!F11 -> 14469210
A17: Posición 10 | B17: Oferta 11 | C17: =+'Ofertas Recibidas'!B20 -> PUBLICIDAD Y PRODUCCIONES HC S.A.S | D17: =+'Ofertas Recibidas'!F20 -> 15435000
A18: Posición 11 | B18: Oferta 1 | C18: =+'Ofertas Recibidas'!B10 -> ATELIER DU DESIGN NOVATEUR SAS | D18: =+'Ofertas Recibidas'!F10 -> 15743700
A19: Posición 12 | B19: Oferta 6 | C19: =+'Ofertas Recibidas'!B15 -> DGERARD MG SAS | D19: =+'Ofertas Recibidas'!F15 -> 16192050
A20: Posición 13 | B20: Oferta 10 | C20: =+'Ofertas Recibidas'!B19 -> PACIFIC CYCLING SAS | D20: =+'Ofertas Recibidas'!F19 -> 17143140
A21: Posición 14 | B21: Oferta 7 | C21: =+'Ofertas Recibidas'!B16 -> GRUPO SOCIEDAD CAPITAL SAS | D21: =+'Ofertas Recibidas'!F16 -> 18963000
A23: =+'Ofertas Recibidas'!B27 -> NOMBRE DEL PROFESIONAL | C23: =+'Ofertas Recibidas'!D27 -> LUCIANO ALFOSNO PINILLA PEDRAZA
A24: =+'Ofertas Recibidas'!B28 -> CARGO | C24: =+'Ofertas Recibidas'!D28 -> CONTRATISTA

Sheet Precios Artif Bajos
B1: República de Colombia
B2: =+Posiciones!B2 -> Instituto Colombiano de Antropología e Historia Proceso de Mínima Cuantía No. MC-ICANH-026-2024
B3: Solicitud Aclaración Precios Artificialmente Bajos
A5: El Instituto Colombiano de Antropología e Historia ICANH, en virtud de lo establecido en el INVITACIÓN PÚBLICA No. MC-ICANH-026-2024, cuyo objeto es “Adquisición de chalecos institucionales como parte de la imagen institucional en territorio para el personal misional del Instituto Colombiano de Antropología e Historia – ICANH”, solicita la aclaración de los precios ofertados por los proponentes:
B6: OFERTA 8 | C6: MAG DOTACIONES Y PUBLICITARIOS S.A.S
B7: OFERTA 13 | C7: SUPERIOR DE DOTACIONES SAS
B8: OFERTA 5 | C8: COMERCIALIZADORA CAFÉ BOTERO SAS
A9: con base en el siguiente análisis:
A10: Dentro de la GUÍA PARA EL MANEJO DE OFERTAS ARTIFICIALMENTE BAJAS EN PROCESOS DE CONTRATACIÓN diseñada por la Colombia Compra Eficiente se establece:
A11: “Colombia Compra Eficiente presenta la siguiente metodología como sugerencia para que las Entidades Estatales identifiquen la posibilidad de precios artificialmente bajos cuando hay más de 5 ofertas en un Proceso de Contratación. La Entidad Estatal puede:
A13: 1) Tomar el conjunto de ofertas a evaluar.
A15: Posición | B15: Oferta | C15: EMPRESA | D15: VALOR OFERTADO
A16: Posición 1 | B16: =+'Ofertas Recibidas'!A10 -> Oferta 1 | C16: =+'Ofertas Recibidas'!B10 -> ATELIER DU DESIGN NOVATEUR SAS | D16: =+'Ofertas Recibidas'!F10 -> 15743700
A17: Posición 2 | B17: =+'Ofertas Recibidas'!A11 -> Oferta 2 | C17: =+'Ofertas Recibidas'!B11 -> AH ARMY SAS | D17: =+'Ofertas Recibidas'!F11 -> 14469210
A18: Posición 3 | B18: =+'Ofertas Recibidas'!A12 -> Oferta 3 | C18: =+'Ofertas Recibidas'!B12 -> ANDREA CAROLINA PAREDES RAMIREZ | D18: =+'Ofertas Recibidas'!F12 -> 13362300
A19: Posición 4 | B19: =+'Ofertas Recibidas'!A13 -> Oferta 4 | C19: =+'Ofertas Recibidas'!B13 -> BON SANTE S.A.S. | D19: =+'Ofertas Recibidas'!F13 -> 11745300
A20: Posición 5 | B20: =+'Ofertas Recibidas'!A14 -> Oferta 5 | C20: =+'Ofertas Recibidas'!B14 -> COMERCIALIZADORA CAFÉ BOTERO SAS | D20: =+'Ofertas Recibidas'!F14 -> 10495800
A21: Posición 6 | B21: =+'Ofertas Recibidas'!A15 -> Oferta 6 | C21: =+'Ofertas Recibidas'!B15 -> DGERARD MG SAS | D21: =+'Ofertas Recibidas'!F15 -> 16192050
A22: Posición 7 | B22: =+'Ofertas Recibidas'!A16 -> Oferta 7 | C22: =+'Ofertas Recibidas'!B16 -> GRUPO SOCIEDAD CAPITAL SAS | D22: =+'Ofertas Recibidas'!F16 -> 18963000
A23: Posición 8 | B23: =+'Ofertas Recibidas'!A17 -> Oferta 8 | C23: =+'Ofertas Recibidas'!B17 -> MAG DOTACIONES Y PUBLICITARIOS S.A.S | D23: =+'Ofertas Recibidas'!F17 -> 9621150
A24: Posición 9 | B24: =+'Ofertas Recibidas'!A18 -> Oferta 9 | C24: =+'Ofertas Recibidas'!B18 -> OPEN FOR DRESSMAKING SAS | D24: =+'Ofertas Recibidas'!F18 -> 11370450
A25: Posición 10 | B25: =+'Ofertas Recibidas'!A19 -> Oferta 10 | C25: =+'Ofertas Recibidas'!B19 -> PACIFIC CYCLING SAS | D25: =+'Ofertas Recibidas'!F19 -> 17143140
A26: Posición 11 | B26: =+'Ofertas Recibidas'!A20 -> Oferta 11 | C26: =+'Ofertas Recibidas'!B20 -> PUBLICIDAD Y PRODUCCIONES HC S.A.S | D26: =+'Ofertas Recibidas'!F20 -> 15435000
A27: Posición 12 | B27: =+'Ofertas Recibidas'!A21 -> Oferta 12 | C27: =+'Ofertas Recibidas'!B21 -> SALAMYM LTDA | D27: =+'Ofertas Recibidas'!F21 -> 14112000
... A29: Posición 14 | B29: =+'Ofertas Recibidas'!A23 -> Oferta 14 | C29: =+'Ofertas Recibidas'!B23 -> MSM PROMOCIONALES SAS | D29: =+'Ofertas Recibidas'!F23 -> 12965400
A31: 2) Calcular la mediana, o dependiendo de la dispersión de los datos el promedio, del valor de cada oferta o de cada ítem dentro de la oferta.
B33: MEDIANA | C33: =+MEDIAN(D16:D29) -> 13737150
A35: 3) Calcular la desviación estándar del conjunto.
B37: DESVIACIÓN ESTANDAR | C37: =+STDEV(D16:D29) -> 2837560
A39: 4) Determinar el valor mínimo aceptable para la Entidad Estatal de acuerdo con la metodología explicada a continuación.
B41: VALOR MÍNIMO ACEPTABLE | C41: =+C33-C37 -> 10899590
A43: Para calcular la mediana, la Entidad Estatal debe ordenar los valores de mayor a menor y tomar el valor de la oferta en la mitad de la lista. Si el número de ofertas es par, debe tomar los dos valores de la mitad, sumarlos y dividirlos en dos
B45: =+B15 -> Oferta | C45: =+C15 -> EMPRESA | D45: =+D15 -> VALOR OFERTADO
B46: Oferta 7 | C46: GRUPO SOCIEDAD CAPITAL SAS | D46: 18963000
B47: Oferta 10 | C47: PACIFIC CYCLING SAS | D47: 17143140
B48: Oferta 6 | C48: DGERARD MG SAS | D48: 16192050
B49: Oferta 1 | C49: ATELIER DU DESIGN NOVATEUR SAS | D49: 15743700
B50: Oferta 11 | C50: PUBLICIDAD Y PRODUCCIONES HC S.A.S | D50: 15435000
B51: Oferta 2 | C51: AH ARMY SAS | D51: 14469210
B52: Oferta 12 | C52: SALAMYM LTDA | D52: 14112000
...

Sheet Oferta 1 ADN
D2: República de Colombia
D3: Instituto Colombiano de Antropología e Historia
D4: Formato Oferta Económica proceso de selección MC-ICANH-026-2024
B6: Objeto | D6: Adquisición de chalecos institucionales como parte de la imagen institucional en territorio para el personal misional del Instituto Colombiano de Antropología e Historia – ICANH
B7: Nombre o Razón Social | D7: ATELIER DU DESIGN NOVATEUR SAS | I7: NIT | J7: 901169712-0
B8: Persona de contacto | D8: DAVID AUGUSTO CASTELLANOS VRAGAS | I8: Teléfono celular | J8: 3115498350
B9: Correo electrónico | D9: david.castellanos@adnsas.com | I9: Teléfono fijo | J9: 3115498350
B11: Instrucciones para el diligenciamiento de la oferta:
B13: • Por favor diligenciar solo las celdas en AZUL. • Los precios unitarios deberán ser expresado en PESOS COLOMBIANOS y en números enteros. • El formato contiene los insumos de costos estimados por el Instituto por lo tanto no se permite modificar, agregar o quitar ningún ítem o sub-ítem. • Para la estructuración de la propuesta por favor tener en cuenta el documento anexo "Ficha técnica" • Los precios deberán aproximarse por exceso o por defecto al entero más cercano así: (i) si es igual o superior a 50 centavos, se aproxima al entero siguiente; (ii) si es inferior a 50 centavos se baja al entero anterior. • Los precios unitarios deben contemplar todos los rubros requeridos para la adecuada prestación del servicio y el cumplimiento de las obligaciones contractuales. • Los precios unitarios ofertados no pueden superar los precios techo establecidos. • Ningún ítem de la propuesta económica debe ser diligenciado con cero (0), so pena de ser rechazada.
B15: Notas: (1) Tener en cuenta en el momento de ofertar, que el plazo de ejecución es estimado y podrá ser inferior. (2) Los valores unitarios deben incluir todos los costos y gastos directos e indirectos en que incurre el contratista durante la ejecución del contrato de acuerdo con las especificaciones de la ficha técnica, las obligaciones tributarias de acuerdo con las normas aplicables para el tipo de servicio y contrato correspondiente.
B17: Plazo de ejecución estimado (Nota 1) | D17: 1 MES
H20: PRECIO TECHO | J20: PRECIO OFERTADO | L20: CORRECIÓN ARITMÉTICA | N20: CUMPLE/NO CUMPLE
B21: ITEM | C21: Detalle servicios (Nota 2) | D21: Ubicación | E21: Especificaciones técnicas | F21: Unidad de medida | G21: Cantidad de chalecos | H21: PRECIO UNITARIO IVA INCLUIDO | I21: PRECIO TOTAL IVA INCLUIDO | J21: PRECIO UNITARIO IVA INCLUIDO (Nota 2) | K21: PRECIO TOTAL IVA INCLUIDO | L21: PRECIO UNITARIO IVA INCLUIDO | M21: PRECIO TOTAL IVA INCLUIDO
B22: 1 | C22: Suministro del chalecos institucinales talla S | D22: Calle 12 # 2 – 41 Bogotá D.C | E22: Color: beige militar. Tela exterior: Tipo Dril de poliéster-algodón 67% poliéster – 33% algodón Características de la tela: resistencia, durabilidad y facilidad de cuidado Resistencia al agua y fuego. Resistencia a las arrugas Tela transpirable. Tela Interior: Tipo Algodón Número de bolsillos: cinco (5) en la parte frontal Tipo de bolsillos: (medidas establecidas en las imágenes) Un (1) bolsillo tipo fuelle con tapa, broche Dos (2) bolsillos tipo fuelle con cremallera. Un (1) bolsillo portaesfero Dos (2) bolsillos tipo ojal con cremallera Cremallera negra en poliéster # 6 Cinta textil reflectiva (Cinta reflectiva gris poliéster, Material 100% Poliéster, Medidas: Ancho: 5 cm) Ubicación de las Cintas Reflectivas (2 franjas frontales, 3 franjas en la parte trasera) Logos: Los logos deberán ser tejidos con hilo, tendrán una altura de 5 cm x 5 cm. | F22: Chaleco | G22: 30 | H22: 142949 | I22: =H22*G22 -> 4288470 | J22: 107100 | K22: =ROUND(J22*G22,0) -> 3213000 | L22: =+ROUND(J22,0) -> 107100 | M22: =+L22*G22 -> 3213000 | N22: =+IF(L22<H22,"CUMPLE"," NO CUMPLE") -> CUMPLE
B23: 2 | C23: Suministro del chalecos institucinales talla M | F23: Chaleco | G23: 55 | H23: 142949 | I23: =H23*G23 -> 7862195 | J23: 107100 | K23: =ROUND(J23*G23,0) -> 5890500 | L23: =+ROUND(J23,0) -> 107100 | M23: =+L23*G23 -> 5890500 | N23: =+IF(L23<H23,"CUMPLE"," NO CUMPLE") -> CUMPLE
B24: 3 | C24: Suministro del chalecos institucinales talla L | F24: Chaleco | G24: 52 | H24: 142949 | I24: =H24*G24 -> 7433348 | J24: 107100 | K24: =ROUND(J24*G24,0) -> 5569200 | L24: =+ROUND(J24,0) -> 107100 | M24: =+L24*G24 -> 5569200 | N24: =+IF(L24<H24,"CUMPLE"," NO CUMPLE") -> CUMPLE
B25: 4 | C25: Suministro del chalecos institucinales talla XL | F25: Chaleco | G25: 10 | H25: 142949 | I25: =H25*G25 -> 1429490 | J25: 107100 | K25: =ROUND(J25*G25,0) -> 1071000 | L25: =+ROUND(J25,0) -> 107100 | M25: =+L25*G25 -> 1071000 | N25: =+IF(L25<H25,"CUMPLE"," NO CUMPLE") -> CUMPLE
B26: PRECIO TOTAL IVA INCLUIDO | I26: =SUM(I22:I25) -> 21013503 | J26: - | K26: =SUM(K22:K25) -> 15743700 | L26: =SUM(L22:L25) -> 428400 | M26: =SUM(M22:M25) -> 15743700 | N26: =+IF(M26<I26,"CUMPLE"," NO CUMPLE") -> CUMPLE
M27: =+M26=K26 -> TRUE | N27: CUMPLE
B38: FIRMA DEL REPRESENTANTE LEGAL
B39: C.C.

Sheet Oferta 2 ARMY
D2: República de Colombia
D3: Instituto Colombiano de Antropología e Historia
D4: Formato Oferta Económica proceso de selección MC-ICANH-026-2024
B6: Objeto | D6: Adquisición de chalecos institucionales como parte de la imagen institucional en territorio para el personal misional del Instituto Colombiano de Antropología e Historia – ICANH
B7: Nombre o Razón Social | D7: AH ARMY SAS | I7: NIT | J7: 901634995-2
B8: Persona de contacto | D8: ANGIE GASCA | I8: Teléfono celular | J8: 3506026537
B9: Correo electrónico | D9: aharmylicitaciones@gmail.com | I9: Teléfono fijo | J9: 6014910752
B11: Instrucciones para el diligenciamiento de la oferta:
B13: • Por favor diligenciar solo las celdas en AZUL. • Los precios unitarios deberán ser expresado en PESOS COLOMBIANOS y en números enteros. • El formato contiene los insumos de costos estimados por el Instituto por lo tanto no se permite modificar, agregar o quitar ningún ítem o sub-ítem. • Para la estructuración de la propuesta por favor tener en cuenta el documento anexo "Ficha técnica" • Los precios deberán aproximarse por exceso o por defecto al entero más cercano así: (i) si es igual o superior a 50 centavos, se aproxima al entero siguiente; (ii) si es inferior a 50 centavos se baja al entero anterior. • Los precios unitarios deben contemplar todos los rubros requeridos para la adecuada prestación del servicio y el cumplimiento de las obligaciones contractuales. • Los precios unitarios ofertados no pueden superar los precios techo establecidos. • Ningún ítem de la propuesta económica debe ser diligenciado con cero (0), so pena de ser rechazada.
B15: Notas: (1) Tener en cuenta en el momento de ofertar, que el plazo de ejecución es estimado y podrá ser inferior. (2) Los valores unitarios deben incluir todos los costos y gastos directos e indirectos en que incurre el contratista durante la ejecución del contrato de acuerdo con las especificaciones de la ficha técnica, las obligaciones tributarias de acuerdo con las normas aplicables para el tipo de servicio y contrato correspondiente.
B17: Plazo de ejecución estimado (Nota 1) | D17: 1 MES
H20: PRECIO TECHO | J20: PRECIO OFERTADO | L20: CORRECIÓN ARITMÉTICA | N20: CUMPLE/NO CUMPLE
B21: ITEM | C21: Detalle servicios (Nota 2) | D21: Ubicación | E21: Especificaciones técnicas | F21: Unidad de medida | G21: Cantidad de chalecos | H21: PRECIO UNITARIO IVA INCLUIDO | I21: PRECIO TOTAL IVA INCLUIDO | J21: PRECIO UNITARIO IVA INCLUIDO (Nota 2) | K21: PRECIO TOTAL IVA INCLUIDO | L21: PRECIO UNITARIO IVA INCLUIDO | M21: PRECIO TOTAL IVA INCLUIDO
B22: 1 | C22: Suministro del chalecos institucinales talla S | D22: Calle 12 # 2 – 41 Bogotá D.C | E22: Color: beige militar. Tela exterior: Tipo Dril de poliéster-algodón 67% poliéster – 33% algodón Características de la tela: resistencia, durabilidad y facilidad de cuidado Resistencia al agua y fuego. Resistencia a las arrugas Tela transpirable. Tela Interior: Tipo Algodón Número de bolsillos: cinco (5) en la parte frontal Tipo de bolsillos: (medidas establecidas en las imágenes) Un (1) bolsillo tipo fuelle con tapa, broche Dos (2) bolsillos tipo fuelle con cremallera. Un (1) bolsillo portaesfero Dos (2) bolsillos tipo ojal con cremallera Cremallera negra en poliéster # 6 Cinta textil reflectiva (Cinta reflectiva gris poliéster, Material 100% Poliéster, Medidas: Ancho: 5 cm) Ubicación de las Cintas Reflectivas (2 franjas frontales, 3 franjas en la parte trasera) Logos: Los logos deberán ser tejidos con hilo, tendrán una altura de 5 cm x 5 cm. | F22: Chaleco | G22: 30 | H22: 142949 | I22: =H22*G22 -> 4288470 | J22: 98430 | K22: =ROUND(J22*G22,0) -> 2952900 | L22: =+ROUND(J22,0) -> 98430 | M22: =+L22*G22 -> 2952900 | N22: =+IF(L22<H22,"CUMPLE"," NO CUMPLE") -> CUMPLE
B23: 2 | C23: Suministro del chalecos institucinales talla M | F23: Chaleco | G23: 55 | H23: 142949 | I23: =H23*G23 -> 7862195 | J23: 98430 | K23: =ROUND(J23*G23,0) -> 5413650 | L23: =+ROUND(J23,0) -> 98430 | M23: =+L23*G23 -> 5413650 | N23: =+IF(L23<H23,"CUMPLE"," NO CUMPLE") -> CUMPLE
B24: 3 | C24: Suministro del chalecos institucinales talla L | F24: Chaleco | G24: 52 | H24: 142949 | I24: =H24*G24 -> 7433348 | J24: 98430 | K24: =ROUND(J24*G24,0) -> 5118360 | L24: =+ROUND(J24,0) -> 98430 | M24: =+L24*G24 -> 5118360 | N24: =+IF(L24<H24,"CUMPLE"," NO CUMPLE") -> CUMPLE
B25: 4 | C25: Suministro del chalecos institucinales talla XL | F25: Chaleco | G25: 10 | H25: 142949 | I25: =H25*G25 -> 1429490 | J25: 98430 | K25: =ROUND(J25*G25,0) -> 984300 | L25: =+ROUND(J25,0) -> 98430 | M25: =+L25*G25 -> 984300 | N25: =+IF(L25<H25,"CUMPLE"," NO CUMPLE") -> CUMPLE
B26: PRECIO TOTAL IVA INCLUIDO | I26: =SUM(I22:I25) -> 21013503 | J26: - | K26: =SUM(K22:K25) -> 14469210 | L26: =SUM(L22:L25) -> 393720 | M26: =SUM(M22:M25) -> 14469210 | N26: =+IF(M26<I26,"CUMPLE"," NO CUMPLE") -> CUMPLE
M27: =+M26=K26 -> TRUE | N27: CUMPLE
B38: FIRMA DEL REPRESENTANTE LEGAL
B39: C.C.

Sheet Oferta 3 ANDREA
D2: República de Colombia
D3: Instituto Colombiano de Antropología e Historia
D4: Formato Oferta Económica proceso de selección MC-ICANH-026-2024
B6: Objeto | D6: Adquisición de chalecos institucionales como parte de la imagen institucional en territorio para el personal misional del Instituto Colombiano de Antropología e Historia – ICANH
B7: Nombre o Razón Social | D7: ANDREA CAROLINA PAREDES RAMIREZ | I7: NIT | J7: 63559326
B8: Persona de contacto | I8: Teléfono celular | J8: 3107318870
B9: Correo electrónico | D9: MISTERCHARLYS@HOTMAIL.COM | I9: Teléfono fijo
B11: Instrucciones para el diligenciamiento de la oferta:
B13: • Por favor diligenciar solo las celdas en AZUL. • Los precios unitarios deberán ser expresado en PESOS COLOMBIANOS y en números enteros. • El formato contiene los insumos de costos estimados por el Instituto por lo tanto no se permite modificar, agregar o quitar ningún ítem o sub-ítem. • Para la estructuración de la propuesta por favor tener en cuenta el documento anexo "Ficha técnica" • Los precios deberán aproximarse por exceso o por defecto al entero más cercano así: (i) si es igual o superior a 50 centavos, se aproxima al entero siguiente; (ii) si es inferior a 50 centavos se baja al entero anterior. • Los precios unitarios deben contemplar todos los rubros requeridos para la adecuada prestación del servicio y el cumplimiento de las obligaciones contractuales. • Los precios unitarios ofertados no pueden superar los precios techo establecidos. • Ningún ítem de la propuesta económica debe ser diligenciado con cero (0), so pena de ser rechazada.
B15: Notas: (1) Tener en cuenta en el momento de ofertar, que el plazo de ejecución es estimado y podrá ser inferior. (2) Los valores unitarios deben incluir todos los costos y gastos directos e indirectos en que incurre el contratista durante la ejecución del contrato de acuerdo con las especificaciones de la ficha técnica, las obligaciones tributarias de acuerdo con las normas aplicables para el tipo de servicio y contrato correspondiente.
B17: Plazo de ejecución estimado (Nota 1) | D17: 1 MES
H20: PRECIO TECHO | J20: PRECIO OFERTADO | L20: CORRECIÓN ARITMÉTICA | N20: CUMPLE/NO CUMPLE
B21: ITEM | C21: Detalle servicios (Nota 2) | D21: Ubicación | E21: Especificaciones técnicas | F21: Unidad de medida | G21: Cantidad de chalecos | H21: PRECIO UNITARIO IVA INCLUIDO | I21: PRECIO TOTAL IVA INCLUIDO | J21: PRECIO UNITARIO IVA INCLUIDO (Nota 2) | K21: PRECIO TOTAL IVA INCLUIDO | L21: PRECIO UNITARIO IVA INCLUIDO | M21: PRECIO TOTAL IVA INCLUIDO
B22: 1 | C22: Suministro del chalecos institucinales talla S | D22: Calle 12 # 2 – 41 Bogotá D.C | E22: Color: beige militar. Tela exterior: Tipo Dril de poliéster-algodón 67% poliéster – 33% algodón Características de la tela: resistencia, durabilidad y facilidad de cuidado Resistencia al agua y fuego. Resistencia a las arrugas Tela transpirable. Tela Interior: Tipo Algodón Número de bolsillos: cinco (5) en la parte frontal Tipo de bolsillos: (medidas establecidas en las imágenes) Un (1) bolsillo tipo fuelle con tapa, broche Dos (2) bolsillos tipo fuelle con cremallera. Un (1) bolsillo portaesfero Dos (2) bolsillos tipo ojal con cremallera Cremallera negra en poliéster # 6 Cinta textil reflectiva (Cinta reflectiva gris poliéster, Material 100% Poliéster, Medidas: Ancho: 5 cm) Ubicación de las Cintas Reflectivas (2 franjas frontales, 3 franjas en la parte trasera) Logos: Los logos deberán ser tejidos con hilo, tendrán una altura de 5 cm x 5 cm. | F22: Chaleco | G22: 30 | H22: 142949 | I22: =H22*G22 -> 4288470 | J22: 90900 | K22: =ROUND(J22*G22,0) -> 2727000 | L22: =+ROUND(J22,0) -> 90900 | M22: =+L22*G22 -> 2727000 | N22: =+IF(L22<H22,"CUMPLE"," NO CUMPLE") -> CUMPLE
B23: 2 | C23: Suministro del chalecos institucinales talla M | F23: Chaleco | G23: 55 | H23: 142949 | I23: =H23*G23 -> 7862195 | J23: 90900 | K23: =ROUND(J23*G23,0) -> 4999500 | L23: =+ROUND(J23,0) -> 90900 | M23: =+L23*G23 -> 4999500 | N23: =+IF(L23<H23,"CUMPLE"," NO CUMPLE") -> CUMPLE
B24: 3 | C24: Suministro del chalecos institucinales talla L | F24: Chaleco | G24: 52 | H24: 142949 | I24: =H24*G24 -> 7433348 | J24: 90900 | K24: =ROUND(J24*G24,0) -> 4726800 | L24: =+ROUND(J24,0) -> 90900 | M24: =+L24*G24 -> 4726800 | N24: =+IF(L24<H24,"CUMPLE"," NO CUMPLE") -> CUMPLE
B25: 4 | C25: Suministro del chalecos institucinales talla XL | F25: Chaleco | G25: 10 | H25: 142949 | I25: =H25*G25 -> 1429490 | J25: 90900 | K25: =ROUND(J25*G25,0) -> 909000 | L25: =+ROUND(J25,0) -> 90900 | M25: =+L25*G25 -> 909000 | N25: =+IF(L25<H25,"CUMPLE"," NO CUMPLE") -> CUMPLE
B26: PRECIO TOTAL IVA INCLUIDO | I26: =SUM(I22:I25) -> 21013503 | J26: - | K26: =SUM(K22:K25) -> 13362300 | L26: =SUM(L22:L25) -> 363600 | M26: =SUM(M22:M25) -> 13362300 | N26: =+IF(M26<I26,"CUMPLE"," NO CUMPLE") -> CUMPLE
M27: =+M26=K26 -> TRUE | N27: CUMPLE
B38: FIRMA DEL REPRESENTANTE LEGAL
B39: C.C.

Sheet Oferta 4 BONSANTE
D2: República de Colombia
D3: Instituto Colombiano de Antropología e Historia
D4: Formato Oferta Económica proceso de selección MC-ICANH-026-2024
B6: Objeto | D6: Adquisición de chalecos institucionales como parte de la imagen institucional en territorio para el personal misional del Instituto Colombiano de Antropología e Historia – ICANH
B7: Nombre o Razón Social | D7: BON SANTE S.A.S. | I7: NIT | J7: 901.211.678-7
B8: Persona de contacto | D8: ANDRÉS HERNANDO TORRES TORO | I8: Teléfono celular | J8: 3133442766
B9: Correo electrónico | D9: licitaciones@bsante.com.co | I9: Teléfono fijo | J9: N/A
B11: Instrucciones para el diligenciamiento de la oferta:
B13: • Por favor diligenciar solo las celdas en AZUL. • Los precios unitarios deberán ser expresado en PESOS COLOMBIANOS y en números enteros. • El formato contiene los insumos de costos estimados por el Instituto por lo tanto no se permite modificar, agregar o quitar ningún ítem o sub-ítem. • Para la estructuración de la propuesta por favor tener en cuenta el documento anexo "Ficha técnica" • Los precios deberán aproximarse por exceso o por defecto al entero más cercano así: (i) si es igual o superior a 50 centavos, se aproxima al entero siguiente; (ii) si es inferior a 50 centavos se baja al entero anterior. • Los precios unitarios deben contemplar todos los rubros requeridos para la adecuada prestación del servicio y el cumplimiento de las obligaciones contractuales. • Los precios unitarios ofertados no pueden superar los precios techo establecidos. • Ningún ítem de la propuesta económica debe ser diligenciado con cero (0), so pena de ser rechazada.
B15: Notas: (1) Tener en cuenta en el momento de ofertar, que el plazo de ejecución es estimado y podrá ser inferior. (2) Los valores unitarios deben incluir todos los costos y gastos directos e indirectos en que incurre el contratista durante la ejecución del contrato de acuerdo con las especificaciones de la ficha técnica, las obligaciones tributarias de acuerdo con las normas aplicables para el tipo de servicio y contrato correspondiente.
B17: Plazo de ejecución estimado (Nota 1) | D17: 1 MES
H20: PRECIO TECHO | J20: PRECIO OFERTADO | L20: CORRECIÓN ARITMÉTICA | N20: CUMPLE/NO CUMPLE
B21: ITEM | C21: Detalle servicios (Nota 2) | D21: Ubicación | E21: Especificaciones técnicas | F21: Unidad de medida | G21: Cantidad de chalecos | H21: PRECIO UNITARIO IVA INCLUIDO | I21: PRECIO TOTAL IVA INCLUIDO | J21: PRECIO UNITARIO IVA INCLUIDO (Nota 2) | K21: PRECIO TOTAL IVA INCLUIDO | L21: PRECIO UNITARIO IVA INCLUIDO | M21: PRECIO TOTAL IVA INCLUIDO
B22: 1 | C22: Suministro del chalecos institucinales talla S | D22: Calle 12 # 2 – 41 Bogotá D.C | E22: Color: beige militar. Tela exterior: Tipo Dril de poliéster-algodón 67% poliéster – 33% algodón Características de la tela: resistencia, durabilidad y facilidad de cuidado Resistencia al agua y fuego. Resistencia a las arrugas Tela transpirable. Tela Interior: Tipo Algodón Número de bolsillos: cinco (5) en la parte frontal Tipo de bolsillos: (medidas establecidas en las imágenes) Un (1) bolsillo tipo fuelle con tapa, broche Dos (2) bolsillos tipo fuelle con cremallera. Un (1) bolsillo portaesfero Dos (2) bolsillos tipo ojal con cremallera Cremallera negra en poliéster # 6 Cinta textil reflectiva (Cinta reflectiva gris poliéster, Material 100% Poliéster, Medidas: Ancho: 5 cm) Ubicación de las Cintas Reflectivas (2 franjas frontales, 3 franjas en la parte trasera) Logos: Los logos deberán ser tejidos con hilo, tendrán una altura de 5 cm x 5 cm. | F22: Chaleco | G22: 30 | H22: 142949 | I22: =H22*G22 -> 4288470 | J22: 79900 | K22: =ROUND(J22*G22,0) -> 2397000 | L22: =+ROUND(J22,0) -> 79900 | M22: =+L22*G22 -> 2397000 | N22: =+IF(L22<H22,"CUMPLE"," NO CUMPLE") -> CUMPLE
B23: 2 | C23: Suministro del chalecos institucinales talla M | F23: Chaleco | G23: 55 | H23: 142949 | I23: =H23*G23 -> 7862195 | J23: 79900 | K23: =ROUND(J23*G23,0) -> 4394500 | L23: =+ROUND(J23,0) -> 79900 | M23: =+L23*G23 -> 4394500 | N23: =+IF(L23<H23,"CUMPLE"," NO CUMPLE") -> CUMPLE
B24: 3 | C24: Suministro del chalecos institucinales talla L | F24: Chaleco | G24: 52 | H24: 142949 | I24: =H24*G24 -> 7433348 | J24: 79900 | K24: =ROUND(J24*G24,0) -> 4154800 | L24: =+ROUND(J24,0) -> 79900 | M24: =+L24*G24 -> 4154800 | N24: =+IF(L24<H24,"CUMPLE"," NO CUMPLE") -> CUMPLE
B25: 4 | C25: Suministro del chalecos institucinales talla XL | F25: Chaleco | G25: 10 | H25: 142949 | I25: =H25*G25 -> 1429490 | J25: 79900 | K25: =ROUND(J25*G25,0) -> 799000 | L25: =+ROUND(J25,0) -> 79900 | M25: =+L25*G25 -> 799000 | N25: =+IF(L25<H25,"CUMPLE"," NO CUMPLE") -> CUMPLE
B26: PRECIO TOTAL IVA INCLUIDO | I26: =SUM(I22:I25) -> 21013503 | J26: - | K26: =SUM(K22:K25) -> 11745300 | L26: =SUM(L22:L25) -> 319600 | M26: =SUM(M22:M25) -> 11745300 | N26: =+IF(M26<I26,"CUMPLE"," NO CUMPLE") -> CUMPLE
M27: =+M26=K26 -> TRUE | N27: CUMPLE
B38: FIRMA DEL REPRESENTANTE LEGAL
B39: C.C.

Sheet Oferta 5 CAFE
D2: República de Colombia
D3: Instituto Colombiano de Antropología e Historia
D4: Formato Oferta Económica proceso de selección MC-ICANH-026-2024
B6: Objeto | D6: Adquisición de chalecos institucionales como parte de la imagen institucional en territorio para el personal misional del Instituto Colombiano de Antropología e Historia – ICANH
B7: Nombre o Razón Social | D7: COMERCIALIZADORA CAFÉ BOTERO SAS | I7: NIT | J7: 900334037-0
B8: Persona de contacto | D8: WILLIAM HERNANDO VERA MORENO | I8: Teléfono celular | J8: 322 8463242
B9: Correo electrónico | D9: comercial@promoarticulos.co | I9: Teléfono fijo | J9: 322 8463242
B11: Instrucciones para el diligenciamiento de la oferta:
B13: • Por favor diligenciar solo las celdas en AZUL. • Los precios unitarios deberán ser expresado en PESOS COLOMBIANOS y en números enteros. • El formato contiene los insumos de costos estimados por el Instituto por lo tanto no se permite modificar, agregar o quitar ningún ítem o sub-ítem. • Para la estructuración de la propuesta por favor tener en cuenta el documento anexo "Ficha técnica" • Los precios deberán aproximarse por exceso o por defecto al entero más cercano así: (i) si es igual o superior a 50 centavos, se aproxima al entero siguiente; (ii) si es inferior a 50 centavos se baja al entero anterior. • Los precios unitarios deben contemplar todos los rubros requeridos para la adecuada prestación del servicio y el cumplimiento de las obligaciones contractuales. • Los precios unitarios ofertados no pueden superar los precios techo establecidos. • Ningún ítem de la propuesta económica debe ser diligenciado con cero (0), so pena de ser rechazada.
B15: Notas: (1) Tener en cuenta en el momento de ofertar, que el plazo de ejecución es estimado y podrá ser inferior. (2) Los valores unitarios deben incluir todos los costos y gastos directos e indirectos en que incurre el contratista durante la ejecución del contrato de acuerdo con las especificaciones de la ficha técnica, las obligaciones tributarias de acuerdo con las normas aplicables para el tipo de servicio y contrato correspondiente.
B17: Plazo de ejecución estimado (Nota 1) | D17: 1 MES
H20: PRECIO TECHO | J20: PRECIO OFERTADO | L20: CORRECIÓN ARITMÉTICA | N20: CUMPLE/NO CUMPLE
B21: ITEM | C21: Detalle servicios (Nota 2) | D21: Ubicación | E21: Especificaciones técnicas | F21: Unidad de medida | G21: Cantidad de chalecos | H21: PRECIO UNITARIO IVA INCLUIDO | I21: PRECIO TOTAL IVA INCLUIDO | J21: PRECIO UNITARIO IVA INCLUIDO (Nota 2) | K21: PRECIO TOTAL IVA INCLUIDO | L21: PRECIO UNITARIO IVA INCLUIDO | M21: PRECIO TOTAL IVA INCLUIDO
B22: 1 | C22: Suministro del chalecos institucinales talla S | D22: Calle 12 # 2 – 41 Bogotá D.C | E22: Color: beige militar. Tela exterior: Tipo Dril de poliéster-algodón 67% poliéster – 33% algodón Características de la tela: resistencia, durabilidad y facilidad de cuidado Resistencia al agua y fuego. Resistencia a las arrugas Tela transpirable. Tela Interior: Tipo Algodón Número de bolsillos: cinco (5) en la parte frontal Tipo de bolsillos: (medidas establecidas en las imágenes) Un (1) bolsillo tipo fuelle con tapa, broche Dos (2) bolsillos tipo fuelle con cremallera. Un (1) bolsillo portaesfero Dos (2) bolsillos tipo ojal con cremallera Cremallera negra en poliéster # 6 Cinta textil reflectiva (Cinta reflectiva gris poliéster, Material 100% Poliéster, Medidas: Ancho: 5 cm) Ubicación de las Cintas Reflectivas (2 franjas frontales, 3 franjas en la parte trasera) Logos: Los logos deberán ser tejidos con hilo, tendrán una altura de 5 cm x 5 cm. | F22: Chaleco | G22: 30 | H22: 142949 | I22: =H22*G22 -> 4288470 | J22: 71400 | K22: =ROUND(J22*G22,0) -> 2142000 | L22: =+ROUND(J22,0) -> 71400 | M22: =+L22*G22 -> 2142000 | N22: =+IF(L22<H22,"CUMPLE"," NO CUMPLE") -> CUMPLE
B23: 2 | C23: Suministro del chalecos institucinales talla M | F23: Chaleco | G23: 55 | H23: 142949 | I23: =H23*G23 -> 7862195 | J23: 71400 | K23: =ROUND(J23*G23,0) -> 3927000 | L23: =+ROUND(J23,0) -> 71400 | M23: =+L23*G23 -> 3927000 | N23: =+IF(L23<H23,"CUMPLE"," NO CUMPLE") -> CUMPLE
B24: 3 | C24: Suministro del chalecos institucinales talla L | F24: Chaleco | G24: 52 | H24: 142949 | I24: =H24*G24 -> 7433348 | J24: 71400 | K24: =ROUND(J24*G24,0) -> 3712800 | L24: =+ROUND(J24,0) -> 71400 | M24: =+L24*G24 -> 3712800 | N24: =+IF(L24<H24,"CUMPLE"," NO CUMPLE") -> CUMPLE
B25: 4 | C25: Suministro del chalecos institucinales talla XL | F25: Chaleco | G25: 10 | H25: 142949 | I25: =H25*G25 -> 1429490 | J25: 71400 | K25: =ROUND(J25*G25,0) -> 714000 | L25: =+ROUND(J25,0) -> 71400 | M25: =+L25*G25 -> 714000 | N25: =+IF(L25<H25,"CUMPLE"," NO CUMPLE") -> CUMPLE
B26: PRECIO TOTAL IVA INCLUIDO | I26: =SUM(I22:I25) -> 21013503 | J26: - | K26: =SUM(K22:K25) -> 10495800 | L26: =SUM(L22:L25) -> 285600 | M26: =SUM(M22:M25) -> 10495800 | N26: =+IF(M26<I26,"CUMPLE"," NO CUMPLE") -> CUMPLE
M27: =+M26=K26 -> TRUE | N27: CUMPLE
B38: FIRMA DEL REPRESENTANTE LEGAL
B39: C.C.

Sheet Oferta 6 DGERARD
D2: República de Colombia
D3: Instituto Colombiano de Antropología e Historia
D4: Formato Oferta Económica proceso de selección MC-ICANH-026-2024
B6: Objeto | D6: Adquisición de chalecos institucionales como parte de la imagen institucional en territorio para el personal misional del Instituto Colombiano de Antropología e Historia – ICANH
B7: Nombre o Razón Social | D7: DGERARD MG SAS | I7: NIT | J7: 900475452-9
B8: Persona de contacto | D8: JONATHAN LEON | I8: Teléfono celular | J8: 3192564001
B9: Correo electrónico | D9: vestidosdgerrd@gmail.com | I9: Teléfono fijo | J9: 6014799888
B11: Instrucciones para el diligenciamiento de la oferta:
B13: • Por favor diligenciar solo las celdas en AZUL. • Los precios unitarios deberán ser expresado en PESOS COLOMBIANOS y en números enteros. • El formato contiene los insumos de costos estimados por el Instituto por lo tanto no se permite modificar, agregar o quitar ningún ítem o sub-ítem. • Para la estructuración de la propuesta por favor tener en cuenta el documento anexo "Ficha técnica" • Los precios deberán aproximarse por exceso o por defecto al entero más cercano así: (i) si es igual o superior a 50 centavos, se aproxima al entero siguiente; (ii) si es inferior a 50 centavos se baja al entero anterior. • Los precios unitarios deben contemplar todos los rubros requeridos para la adecuada prestación del servicio y el cumplimiento de las obligaciones contractuales. • Los precios unitarios ofertados no pueden superar los precios techo establecidos. • Ningún ítem de la propuesta económica debe ser diligenciado con cero (0), so pena de ser rechazada.
B15: Notas: (1) Tener en cuenta en el momento de ofertar, que el plazo de ejecución es estimado y podrá ser inferior. (2) Los valores unitarios deben incluir todos los costos y gastos directos e indirectos en que incurre el contratista durante la ejecución del contrato de acuerdo con las especificaciones de la ficha técnica, las obligaciones tributarias de acuerdo con las normas aplicables para el tipo de servicio y contrato correspondiente.
B17: Plazo de ejecución estimado (Nota 1) | D17: 1 MES
H20: PRECIO TECHO | J20: PRECIO OFERTADO | L20: CORRECIÓN ARITMÉTICA | N20: CUMPLE/NO CUMPLE
B21: ITEM | C21: Detalle servicios (Nota 2) | D21: Ubicación | E21: Especificaciones técnicas | F21: Unidad de medida | G21: Cantidad de chalecos | H21: PRECIO UNITARIO IVA INCLUIDO | I21: PRECIO TOTAL IVA INCLUIDO | J21: PRECIO UNITARIO IVA INCLUIDO (Nota 2) | K21: PRECIO TOTAL IVA INCLUIDO | L21: PRECIO UNITARIO IVA INCLUIDO | M21: PRECIO TOTAL IVA INCLUIDO
B22: 1 | C22: Suministro del chalecos institucinales talla S | D22: Calle 12 # 2 – 41 Bogotá D.C | E22: Color: beige militar. Tela exterior: Tipo Dril de poliéster-algodón 67% poliéster – 33% algodón Características de la tela: resistencia, durabilidad y facilidad de cuidado Resistencia al agua y fuego. Resistencia a las arrugas Tela transpirable. Tela Interior: Tipo Algodón Número de bolsillos: cinco (5) en la parte frontal Tipo de bolsillos: (medidas establecidas en las imágenes) Un (1) bolsillo tipo fuelle con tapa, broche Dos (2) bolsillos tipo fuelle con cremallera. Un (1) bolsillo portaesfero Dos (2) bolsillos tipo ojal con cremallera Cremallera negra en poliéster # 6 Cinta textil reflectiva (Cinta reflectiva gris poliéster, Material 100% Poliéster, Medidas: Ancho: 5 cm) Ubicación de las Cintas Reflectivas (2 franjas frontales, 3 franjas en la parte trasera) Logos: Los logos deberán ser tejidos con hilo, tendrán una altura de 5 cm x 5 cm. | F22: Chaleco | G22: 30 | H22: 142949 | I22: =H22*G22 -> 4288470 | J22: 110150 | K22: =ROUND(J22*G22,0) -> 3304500 | L22: =+ROUND(J22,0) -> 110150 | M22: =+L22*G22 -> 3304500 | N22: =+IF(L22<H22,"CUMPLE"," NO CUMPLE") -> CUMPLE
B23: 2 | C23: Suministro del chalecos institucinales talla M | F23: Chaleco | G23: 55 | H23: 142949 | I23: =H23*G23 -> 7862195 | J23: 110150 | K23: =ROUND(J23*G23,0) -> 6058250 | L23: =+ROUND(J23,0) -> 110150 | M23: =+L23*G23 -> 6058250 | N23: =+IF(L23<H23,"CUMPLE"," NO CUMPLE") -> CUMPLE
B24: 3 | C24: Suministro del chalecos institucinales talla L | F24: Chaleco | G24: 52 | H24: 142949 | I24: =H24*G24 -> 7433348 | J24: 110150 | K24: =ROUND(J24*G24,0) -> 5727800 | L24: =+ROUND(J24,0) -> 110150 | M24: =+L24*G24 -> 5727800 | N24: =+IF(L24<H24,"CUMPLE"," NO CUMPLE") -> CUMPLE
B25: 4 | C25: Suministro del chalecos institucinales talla XL | F25: Chaleco | G25: 10 | H25: 142949 | I25: =H25*G25 -> 1429490 | J25: 110150 | K25: =ROUND(J25*G25,0) -> 1101500 | L25: =+ROUND(J25,0) -> 110150 | M25: =+L25*G25 -> 1101500 | N25: =+IF(L25<H25,"CUMPLE"," NO CUMPLE") -> CUMPLE
B26: PRECIO TOTAL IVA INCLUIDO | I26: =SUM(I22:I25) -> 21013503 | J26: - | K26: =SUM(K22:K25) -> 16192050 | L26: =SUM(L22:L25) -> 440600 | M26: =SUM(M22:M25) -> 16192050 | N26: =+IF(M26<I26,"CUMPLE"," NO CUMPLE") -> CUMPLE
M27: =+M26=K26 -> TRUE | N27: CUMPLE
B38: FIRMA DEL REPRESENTANTE LEGAL
B39: C.C.

Sheet Oferta 7 CAPITAL
D2: República de Colombia
D3: Instituto Colombiano de Antropología e Historia
D4: Formato Oferta Económica proceso de selección MC-ICANH-026-2024
B6: Objeto | D6: Adquisición de chalecos institucionales como parte de la imagen institucional en territorio para el personal misional del Instituto Colombiano de Antropología e Historia – ICANH
B7: Nombre o Razón Social | D7: GRUPO SOCIEDAD CAPITAL SAS | I7: NIT | J7: 900565133-0
B8: Persona de contacto | D8: TATIANA PATRICIA ALVAREZ PULIDO | I8: Teléfono celular | J8: 3202643385
B9: Correo electrónico | D9: grupo.sociedadcapital@gmail.com | I9: Teléfono fijo
B11: Instrucciones para el diligenciamiento de la oferta:
B13: • Por favor diligenciar solo las celdas en AZUL. • Los precios unitarios deberán ser expresado en PESOS COLOMBIANOS y en números enteros. • El formato contiene los insumos de costos estimados por el Instituto por lo tanto no se permite modificar, agregar o quitar ningún ítem o sub-ítem. • Para la estructuración de la propuesta por favor tener en cuenta el documento anexo "Ficha técnica" • Los precios deberán aproximarse por exceso o por defecto al entero más cercano así: (i) si es igual o superior a 50 centavos, se aproxima al entero siguiente; (ii) si es inferior a 50 centavos se baja al entero anterior. • Los precios unitarios deben contemplar todos los rubros requeridos para la adecuada prestación del servicio y el cumplimiento de las obligaciones contractuales. • Los precios unitarios ofertados no pueden superar los precios techo establecidos. • Ningún ítem de la propuesta económica debe ser diligenciado con cero (0), so pena de ser rechazada.
B15: Notas: (1) Tener en cuenta en el momento de ofertar, que el plazo de ejecución es estimado y podrá ser inferior. (2) Los valores unitarios deben incluir todos los costos y gastos directos e indirectos en que incurre el contratista durante la ejecución del contrato de acuerdo con las especificaciones de la ficha técnica, las obligaciones tributarias de acuerdo con las normas aplicables para el tipo de servicio y contrato correspondiente.
B17: Plazo de ejecución estimado (Nota 1) | D17: 1 MES
H20: PRECIO TECHO | J20: PRECIO OFERTADO | L20: CORRECIÓN ARITMÉTICA | N20: CUMPLE/NO CUMPLE
B21: ITEM | C21: Detalle servicios (Nota 2) | D21: Ubicación | E21: Especificaciones técnicas | F21: Unidad de medida | G21: Cantidad de chalecos | H21: PRECIO UNITARIO IVA INCLUIDO | I21: PRECIO TOTAL IVA INCLUIDO | J21: PRECIO UNITARIO IVA INCLUIDO (Nota 2) | K21: PRECIO TOTAL IVA INCLUIDO | L21: PRECIO UNITARIO IVA INCLUIDO | M21: PRECIO TOTAL IVA INCLUIDO
B22: 1 | C22: Suministro del chalecos institucinales talla S | D22: Calle 12 # 2 – 41 Bogotá D.C | E22: Color: beige militar. Tela exterior: Tipo Dril de poliéster-algodón 67% poliéster – 33% algodón Características de la tela: resistencia, durabilidad y facilidad de cuidado Resistencia al agua y fuego. Resistencia a las arrugas Tela transpirable. Tela Interior: Tipo Algodón Número de bolsillos: cinco (5) en la parte frontal Tipo de bolsillos: (medidas establecidas en las imágenes) Un (1) bolsillo tipo fuelle con tapa, broche Dos (2) bolsillos tipo fuelle con cremallera. Un (1) bolsillo portaesfero Dos (2) bolsillos tipo ojal con cremallera Cremallera negra en poliéster # 6 Cinta textil reflectiva (Cinta reflectiva gris poliéster, Material 100% Poliéster, Medidas: Ancho: 5 cm) Ubicación de las Cintas Reflectivas (2 franjas frontales, 3 franjas en la parte trasera) Logos: Los logos deberán ser tejidos con hilo, tendrán una altura de 5 cm x 5 cm. | F22: Chaleco | G22: 30 | H22: 142949 | I22: =H22*G22 -> 4288470 | J22: 129000 | K22: =ROUND(J22*G22,0) -> 3870000 | L22: =+ROUND(J22,0) -> 129000 | M22: =+L22*G22 -> 3870000 | N22: =+IF(L22<H22,"CUMPLE"," NO CUMPLE") -> CUMPLE
B23: 2 | C23: Suministro del chalecos institucinales talla M | F23: Chaleco | G23: 55 | H23: 142949 | I23: =H23*G23 -> 7862195 | J23: 129000 | K23: =ROUND(J23*G23,0) -> 7095000 | L23: =+ROUND(J23,0) -> 129000 | M23: =+L23*G23 -> 7095000 | N23: =+IF(L23<H23,"CUMPLE"," NO CUMPLE") -> CUMPLE
B24: 3 | C24: Suministro del chalecos institucinales talla L | F24: Chaleco | G24: 52 | H24: 142949 | I24: =H24*G24 -> 7433348 | J24: 129000 | K24: =ROUND(J24*G24,0) -> 6708000 | L24: =+ROUND(J24,0) -> 129000 | M24: =+L24*G24 -> 6708000 | N24: =+IF(L24<H24,"CUMPLE"," NO CUMPLE") -> CUMPLE
B25: 4 | C25: Suministro del chalecos institucinales talla XL | F25: Chaleco | G25: 10 | H25: 142949 | I25: =H25*G25 -> 1429490 | J25: 129000 | K25: =ROUND(J25*G25,0) -> 1290000 | L25: =+ROUND(J25,0) -> 129000 | M25: =+L25*G25 -> 1290000 | N25: =+IF(L25<H25,"CUMPLE"," NO CUMPLE") -> CUMPLE
B26: PRECIO TOTAL IVA INCLUIDO | I26: =SUM(I22:I25) -> 21013503 | J26: - | K26: =SUM(K22:K25) -> 18963000 | L26: =SUM(L22:L25) -> 516000 | M26: =SUM(M22:M25) -> 18963000 | N26: =+IF(M26<I26,"CUMPLE"," NO CUMPLE") -> CUMPLE
M27: =+M26=K26 -> TRUE | N27: CUMPLE
B38: FIRMA DEL REPRESENTANTE LEGAL
B39: C.C.

Sheet Oferta 8 MAG
D2: República de Colombia
D3: Instituto Colombiano de Antropología e Historia
D4: Formato Oferta Económica proceso de selección MC-ICANH-026-2024
B6: Objeto | D6: Adquisición de chalecos institucionales como parte de la imagen institucional en territorio para el personal misional del Instituto Colombiano de Antropología e Historia – ICANH
B7: Nombre o Razón Social | D7: MAG DOTACIONES Y PUBLICITARIOS S.A.S | I7: NIT | J7: 900643735
B8: Persona de contacto | D8: MANUEL RICARDO | I8: Teléfono celular | J8: 3103326406 - 3177232416
B9: Correo electrónico | D9: magdotaciones@gmail.com | I9: Teléfono fijo | J9: 8053655
B11: Instrucciones para el diligenciamiento de la oferta:
B13: • Por favor diligenciar solo las celdas en AZUL. • Los precios unitarios deberán ser expresado en PESOS COLOMBIANOS y en números enteros. • El formato contiene los insumos de costos estimados por el Instituto por lo tanto no se permite modificar, agregar o quitar ningún ítem o sub-ítem. • Para la estructuración de la propuesta por favor tener en cuenta el documento anexo "Ficha técnica" • Los precios deberán aproximarse por exceso o por defecto al entero más cercano así: (i) si es igual o superior a 50 centavos, se aproxima al entero siguiente; (ii) si es inferior a 50 centavos se baja al entero anterior. • Los precios unitarios deben contemplar todos los rubros requeridos para la adecuada prestación del servicio y el cumplimiento de las obligaciones contractuales. • Los precios unitarios ofertados no pueden superar los precios techo establecidos. • Ningún ítem de la propuesta económica debe ser diligenciado con cero (0), so pena de ser rechazada.
B15: Notas: (1) Tener en cuenta en el momento de ofertar, que el plazo de ejecución es estimado y podrá ser inferior. (2) Los valores unitarios deben incluir todos los costos y gastos directos e indirectos en que incurre el contratista durante la ejecución del contrato de acuerdo con las especificaciones de la ficha técnica, las obligaciones tributarias de acuerdo con las normas aplicables para el tipo de servicio y contrato correspondiente.
B17: Plazo de ejecución estimado (Nota 1) | D17: 1 MES
H20: PRECIO TECHO | J20: PRECIO OFERTADO | L20: CORRECIÓN ARITMÉTICA | N20: CUMPLE/NO CUMPLE
B21: ITEM | C21: Detalle servicios (Nota 2) | D21: Ubicación | E21: Especificaciones técnicas | F21: Unidad de medida | G21: Cantidad de chalecos | H21: PRECIO UNITARIO IVA INCLUIDO | I21: PRECIO TOTAL IVA INCLUIDO | J21: PRECIO UNITARIO IVA INCLUIDO (Nota 2) | K21: PRECIO TOTAL IVA INCLUIDO | L21: PRECIO UNITARIO IVA INCLUIDO | M21: PRECIO TOTAL IVA INCLUIDO
B22: 1 | C22: Suministro del chalecos institucinales talla S | D22: Calle 12 # 2 – 41 Bogotá D.C | E22: Color: beige militar. Tela exterior: Tipo Dril de poliéster-algodón 67% poliéster – 33% algodón Características de la tela: resistencia, durabilidad y facilidad de cuidado Resistencia al agua y fuego. Resistencia a las arrugas Tela transpirable. Tela Interior: Tipo Algodón Número de bolsillos: cinco (5) en la parte frontal Tipo de bolsillos: (medidas establecidas en las imágenes) Un (1) bolsillo tipo fuelle con tapa, broche Dos (2) bolsillos tipo fuelle con cremallera. Un (1) bolsillo portaesfero Dos (2) bolsillos tipo ojal con cremallera Cremallera negra en poliéster # 6 Cinta textil reflectiva (Cinta reflectiva gris poliéster, Material 100% Poliéster, Medidas: Ancho: 5 cm) Ubicación de las Cintas Reflectivas (2 franjas frontales, 3 franjas en la parte trasera) Logos: Los logos deberán ser tejidos con hilo, tendrán una altura de 5 cm x 5 cm. | F22: Chaleco | G22: 30 | H22: 142949 | I22: =H22*G22 -> 4288470 | J22: 65450 | K22: =ROUND(J22*G22,0) -> 1963500 | L22: =+ROUND(J22,0) -> 65450 | M22: =+L22*G22 -> 1963500 | N22: =+IF(L22<H22,"CUMPLE"," NO CUMPLE") -> CUMPLE
B23: 2 | C23: Suministro del chalecos institucinales talla M | F23: Chaleco | G23: 55 | H23: 142949 | I23: =H23*G23 -> 7862195 | J23: 65450 | K23: =ROUND(J23*G23,0) -> 3599750 | L23: =+ROUND(J23,0) -> 65450 | M23: =+L23*G23 -> 3599750 | N23: =+IF(L23<H23,"CUMPLE"," NO CUMPLE") -> CUMPLE
B24: 3 | C24: Suministro del chalecos institucinales talla L | F24: Chaleco | G24: 52 | H24: 142949 | I24: =H24*G24 -> 7433348 | J24: 65450 | K24: =ROUND(J24*G24,0) -> 3403400 | L24: =+ROUND(J24,0) -> 65450 | M24: =+L24*G24 -> 3403400 | N24: =+IF(L24<H24,"CUMPLE"," NO CUMPLE") -> CUMPLE
B25: 4 | C25: Suministro del chalecos institucinales talla XL | F25: Chaleco | G25: 10 | H25: 142949 | I25: =H25*G25 -> 1429490 | J25: 65450 | K25: =ROUND(J25*G25,0) -> 654500 | L25: =+ROUND(J25,0) -> 65450 | M25: =+L25*G25 -> 654500 | N25: =+IF(L25<H25,"CUMPLE"," NO CUMPLE") -> CUMPLE
B26: PRECIO TOTAL IVA INCLUIDO | I26: =SUM(I22:I25) -> 21013503 | J26: - | K26: =SUM(K22:K25) -> 9621150 | L26: =SUM(L22:L25) -> 261800 | M26: =SUM(M22:M25) -> 9621150 | N26: =+IF(M26<I26,"CUMPLE"," NO CUMPLE") -> CUMPLE
M27: =+M26=K26 -> TRUE | N27: CUMPLE
B38: FIRMA DEL REPRESENTANTE LEGAL
B39: C.C.

Sheet Oferta 9 OPEN
D2: República de Colombia
D3: Instituto Colombiano de Antropología e Historia
D4: Formato Oferta Económica proceso de selección MC-ICANH-026-2024
B6: Objeto | D6: Adquisición de chalecos institucionales como parte de la imagen institucional en territorio para el personal misional del Instituto Colombiano de Antropología e Historia – ICANH
B7: Nombre o Razón Social | D7: OPEN FOR DRESSMAKING SAS | I7: NIT | J7: 900813511-6
B8: Persona de contacto | D8: GERMAN ORTIZ AVILA | I8: Teléfono celular | J8: 3203395945 - 3108809785
B9: Correo electrónico | D9: distribucionesopenfor@gmail.com | I9: Teléfono fijo | J9: 601 7571424
B11: Instrucciones para el diligenciamiento de la oferta:
B13: • Por favor diligenciar solo las celdas en AZUL. • Los precios unitarios deberán ser expresado en PESOS COLOMBIANOS y en números enteros. • El formato contiene los insumos de costos estimados por el Instituto por lo tanto no se permite modificar, agregar o quitar ningún ítem o sub-ítem. • Para la estructuración de la propuesta por favor tener en cuenta el documento anexo "Ficha técnica" • Los precios deberán aproximarse por exceso o por defecto al entero más cercano así: (i) si es igual o superior a 50 centavos, se aproxima al entero siguiente; (ii) si es inferior a 50 centavos se baja al entero anterior. • Los precios unitarios deben contemplar todos los rubros requeridos para la adecuada prestación del servicio y el cumplimiento de las obligaciones contractuales. • Los precios unitarios ofertados no pueden superar los precios techo establecidos. • Ningún ítem de la propuesta económica debe ser diligenciado con cero (0), so pena de ser rechazada.
B15: Notas: (1) Tener en cuenta en el momento de ofertar, que el plazo de ejecución es estimado y podrá ser inferior. (2) Los valores unitarios deben incluir todos los costos y gastos directos e indirectos en que incurre el contratista durante la ejecución del contrato de acuerdo con las especificaciones de la ficha técnica, las obligaciones tributarias de acuerdo con las normas aplicables para el tipo de servicio y contrato correspondiente.
B17: Plazo de ejecución estimado (Nota 1) | D17: 1 MES
H20: PRECIO TECHO | J20: PRECIO OFERTADO | L20: CORRECIÓN ARITMÉTICA | N20: CUMPLE/NO CUMPLE
B21: ITEM | C21: Detalle servicios (Nota 2) | D21: Ubicación | E21: Especificaciones técnicas | F21: Unidad de medida | G21: Cantidad de chalecos | H21: PRECIO UNITARIO IVA INCLUIDO | I21: PRECIO TOTAL IVA INCLUIDO | J21: PRECIO UNITARIO IVA INCLUIDO (Nota 2) | K21: PRECIO TOTAL IVA INCLUIDO | L21: PRECIO UNITARIO IVA INCLUIDO | M21: PRECIO TOTAL IVA INCLUIDO
B22: 1 | C22: Suministro del chalecos institucinales talla S | D22: Calle 12 # 2 – 41 Bogotá D.C | E22: Color: beige militar. Tela exterior: Tipo Dril de poliéster-algodón 67% poliéster – 33% algodón Características de la tela: resistencia, durabilidad y facilidad de cuidado Resistencia al agua y fuego. Resistencia a las arrugas Tela transpirable. Tela Interior: Tipo Algodón Número de bolsillos: cinco (5) en la parte frontal Tipo de bolsillos: (medidas establecidas en las imágenes) Un (1) bolsillo tipo fuelle con tapa, broche Dos (2) bolsillos tipo fuelle con cremallera. Un (1) bolsillo portaesfero Dos (2) bolsillos tipo ojal con cremallera Cremallera negra en poliéster # 6 Cinta textil reflectiva (Cinta reflectiva gris poliéster, Material 100% Poliéster, Medidas: Ancho: 5 cm) Ubicación de las Cintas Reflectivas (2 franjas frontales, 3 franjas en la parte trasera) Logos: Los logos deberán ser tejidos con hilo, tendrán una altura de 5 cm x 5 cm. | F22: Chaleco | G22: 30 | H22: 142949 | I22: =H22*G22 -> 4288470 | J22: 77350 | K22: =ROUND(J22*G22,0) -> 2320500 | L22: =+ROUND(J22,0) -> 77350 | M22: =+L22*G22 -> 2320500 | N22: =+IF(L22<H22,"CUMPLE"," NO CUMPLE") -> CUMPLE
B23: 2 | C23: Suministro del chalecos institucinales talla M | F23: Chaleco | G23: 55 | H23: 142949 | I23: =H23*G23 -> 7862195 | J23: 77350 | K23: =ROUND(J23*G23,0) -> 4254250 | L23: =+ROUND(J23,0) -> 77350 | M23: =+L23*G23 -> 4254250 | N23: =+IF(L23<H23,"CUMPLE"," NO CUMPLE") -> CUMPLE
B24: 3 | C24: Suministro del chalecos institucinales talla L | F24: Chaleco | G24: 52 | H24: 142949 | I24: =H24*G24 -> 7433348 | J24: 77350 | K24: =ROUND(J24*G24,0) -> 4022200 | L24: =+ROUND(J24,0) -> 77350 | M24: =+L24*G24 -> 4022200 | N24: =+IF(L24<H24,"CUMPLE"," NO CUMPLE") -> CUMPLE
