Workbook
Name Print_Area: 'PLAN DE INVERSION'!$A$1:$Z$45
Name x: 'PLAN DE INVERSION'!$A$1:$Z$45

Sheet PLAN DE INVERSION
D1: PLAN DE INVERSIÓN DEL PROYECTO SUSCEPTIBLE DE SER COFINANCIADO CON RECURSOS DE CONTRAPARTIDA NACIONAL M-FO-026 - Versión:03 - Fecha: Diciembre 22 de 2022
A3: NOMBRE DEL PROYECTO: | D3: Alianza público privada para el desarrollo de la cadena de valor del camarón en San Andrés de Tumaco
A4: OBJETIVO GENERAL | D4: Contribuir a la construcción de paz territorial, mediante la recuperación y protección de los derechos económicos, sociales y culturales (DESC) y medios de vida de aproximadamente 300 familias de pequeños(as) productores(as) vinculadas a 10 organizaciones de base, y hasta 40 familias vinculadas a los procesos de 2 laboratorios y 3 empresas transformadoras de camarón en Tumaco, tras los efectos del COVID-19, apertura de corredor vial con Ecuador y aumento de cultivos ilícitos en el territorio.
A5: ENTIDAD SOLICITANTE / PROPONENTE | D5: Red Nacional de Agencias de Desarrollo Local en Colombia RED ADELCO
A6: COOPERANTE INTERNACIONAL | D6: Agencia Española de Cooperación Internacional para el Desarrollo en Colombia AECID.
A7: OTROS APORTANTES
A8: Nota: Las celdas sombreadas en gris se diligencian automaticamente, por lo tanto no deben ser modificadas. La única columna que puede ser modificada es (Valor solicitado a APC-Colombia), cuando la financiación de un rubro se realiza entre varios aportantes, incluyendo a APC-Colombia.
A9: 1 | B9: 2 | C9: 3 | D9: 4 | E9: 5 | F9: 6 | G9: 7 | N9: 8 | O9: 9 | P9: 10 | Q9: 11 | R9: 12 | S9: 13 | T9: 14 | U9: 15 | V9: 16 | W9: 17 | X9: 18 | Y9: 19 | Z9: 20
A10: OBJETIVO ESPECÍFICO | B10: RESULTADO | C10: INDICADOR DEL RESULTADO | D10: NOMBRE DE LA ACTIVIDAD | E10: DESCRIPCION DE LA ACTIVIDAD | F10: ASOCIADO RESPONSABLE | G10: CRONOGRAMA DE ACTIVIDADES | N10: LÍNEA ESTRATÉGICA ENCI | O10: CONCEPTO | P10: RUBRO DE GASTO | Q10: UNIDAD DE MEDIDA | R10: CANTIDAD | S10: VALOR UNITARIO | T10: VALOR SOLICITADO A APC-COLOMBIA | U10: VALOR APORTE SOLITANTE / PROPONENTE RED ADELCO | V10: VALOR APORTE COOPERANTE INTERNACIONAL AECID | W10: VALOR APORTE OTROS APORTANTES | X10: TOTAL PROYECTO | Y10: PESO DE LA ACTIVIDAD EN EL PRESUPUESTO | Z10: OBSERVACIONES
G11: MES 1 | H11: MES 2 | I11: MES 3 | J11: MES 4 | K11: MES 5 | L11: MES 6 | M11: MES 7
A13: OE1 Promovidos los procesos de mejora e innovación social, organizacional, productiva, de transformación y comercial, articulados entre actores del sector público y privado en la cadena de valor del camarón en Tumaco, Nariño, poniendo en valor el conocimiento adquirido por parte de los titulares de derecho. | B13: R1 PRODUCTIVO: Se ha fortalecido el componente productivo del sector camaronero en Tumaco, Nariño, a partir del trabajo con las organizaciones de base y aliados institucionales, con énfasis en la instalación de hectáreas camaroneras. | C13: I1. Al menos una (1) alianza entre la Federación y planta de proceso para ofertar productos de acuerdo a requisitos de mercado. | D13: R1.A1 Mejorar la producción orientada hacia la competitividad (volumen, calidad, diferenciación, oportunidad). | E13: Consiste en la adquisicón de insumos para siembra de camarón en piscina camaronera con las comunidades y FEDEACUAPAC a traves de un modelo validado que cuenta con larva Colombiana Ceniacua y Alimento Colombiano de ITALCO o SOLLA, | F13: RED ADELCO | O13: Costos directos | P13: =VLOOKUP(O13,Hoja2!$A$1:$B$49,2,0) -> Adquisición, bienes y servicios | Q13: Unidad | R13: 1 | S13: 70000000 | T13: 0 | U13: 6050000 | V13: =+S13-U13 -> 63950000 | W13: 0 | X13: =+T13+U13+W13+V13 -> 70000000 | Y13: =SUM(X13:X15)/$X$32 -> 0.62954219 | Z13: Apoyo financiero para la compra de insumos tercer ciclo de producción con cargo a recursos de cooperación, incluye un promedio de costo larva de 21COP/Unidad y alimento 15.000COP/Kg para siembra de 15 Ha en el modelo camarón de Tumaco.
E14: La actividad incluye los procesos de transformación y empaque para comercialización con equipos administrados por FEDEACUPAC de acuerdo a requisitos de potenciales clientes como Crepes And Waffles. | O14: Maquinaria y equipos | P14: =VLOOKUP(O14,Hoja2!$A$1:$B$49,2,0) -> Adquisición, bienes y servicios | Q14: Unidad | R14: 2 | S14: =315208600/2 -> 157604300 | T14: =IF(P14="No elegible APC - Colombia",0,S14*R14) -> 315208600 | U14: 0 | V14: 0 | W14: 0 | X14: =+T14 -> 315208600 | Z14: Adquisición de equipos entregados a la Federación de Camaróneros y Acuicultores de Tumaco FEDEACUAPAC para procesos de congelado de camarón, dos unidades de ABATIDOR / ULTRACONGELADOR MOD. MF NEXT XXL ESSENTIAL, puestos en Tumaco e instalados en sitio.
O15: Maquinaria y equipos | P15: =VLOOKUP(O15,Hoja2!$A$1:$B$49,2,0) -> Adquisición, bienes y servicios | Q15: Kit | R15: 1 | S15: 7854000 | T15: =IF(P15="No elegible APC - Colombia",0,S15*R15) -> 7854000 | U15: 0 | V15: 0 | W15: 0 | X15: =+T15+U15+W15+V15 -> 7854000 | Z15: Adquisición de dos (2) escabiladeros para bandejas de congelamiento y cincuenta (50) bandejas de enfriamiento para uso en equipos de congelamiento.
D16: R1.A2 Garantizar eficiencia y continuidad de operación del ciclo de producción. | E16: Consiste en el acompañamiento técnico por profesional en campo durante el ciclo de producción de camarón en piscina 7meses, desde capacitación, preparación de las piscinas, siembra, alimentación, biometria, revisión de parametros, hasta cosecha y embalaje a planta. | F16: RED ADELCO | O16: Honorarios de profesionales | P16: =VLOOKUP(O16,Hoja2!$A$1:$B$49,2,0) -> Gastos de personal | Q16: Mes | R16: 7 | S16: 4600000 | T16: 0 | U16: =+S16*R16 -> 32200000 | V16: 0 | W16: 0 | X16: =+T16+U16+W16+V16 -> 32200000 | Y16: =SUM(X16)/$X$32 -> 0.051572596 | Z16: Costo de honorarios mensuales 4.600.000 COP/mes por 7 meses, profesional acuicola en campo para la preparación, siembra, cosecha y envío del camarón a planta de transformación.
B17: R2 COMERCIAL: Se ha fortalecido el componente comercial del sector camaronero en Tumaco, Nariño, a partir del trabajo con intermediarios de mercado, centros de transformación y organizaciones de base productivas, cualificando competencias y atendiendo las exigencias de distintos canales de comercialización, con énfasis en marketing asociativo. | C17: I2. Se cuenta con una base de oportunidades de negocios, que pueden ser atendidas de manera colectiva. Al menos una (1) nueva oportunidades de negocios colectivos identificados | D17: R2.A1 Acompañar el diseño e implementación del instrumento de derecho colectivo, así como estrategias de marketing territorial, Marca Colectiva. | E17: Acompañamiento por personas naturales y jurídicas para el diseño y desarrollo de estrategia de marketing, incluye el storytelling, marca colectiva de camarón de tumaco, campañas en redes sociales, banco de fotografías y videos. | F17: RED ADELCO | O17: Maquinaria y equipos | P17: =VLOOKUP(O17,Hoja2!$A$1:$B$49,2,0) -> Adquisición, bienes y servicios | Q17: Unidad | R17: 1 | S17: 50000000 | T17: 0 | U17: 0 | V17: =+S17*R17 -> 50000000 | W17: 0 | X17: =+T17+U17+W17+V17 -> 50000000 | Y17: =SUM(X17:X18)/$X$32 -> 0.11932169 | Z17: Costo promedio de contrato con persona jurídica 50.000.000COP para desarrollo de elementos como storytelling del Camarón de Tumaco, diseños de marca, videos, fotografías entre otros que apoyen el posicionamiento de la marca Camarón de Tumaco.
O18: Honorarios de profesionales | P18: =VLOOKUP(O18,Hoja2!$A$1:$B$49,2,0) -> Gastos de personal | Q18: Mes | R18: 7 | S18: 3500000 | T18: 0 | U18: =+S18*R18 -> 24500000 | V18: 0 | W18: 0 | X18: =+T18+U18+W18+V18 -> 24500000 | Z18: Costo de honorarios mensuales 3.500.000 COP/mes por 7 meses, profesional comunicaciones que lleva la estrategia de marketing digital para el posicionamiento del camarón de Tumaco a nivel nacional.
D19: R2.A2 Apertura y consolidación de mercados. | E19: Relaciona el proceso de ubicación de clientes, atención, despacho, y cierre de ventas efectivas, ejercicios post venta, verificación de sastisfacción de clientes, establecimiento de frecuencias de compra y analisis de variables de mercado. | O19: Honorarios de técnicos | P19: =VLOOKUP(O19,Hoja2!$A$1:$B$49,2,0) -> Gastos de personal | Q19: Mes | R19: 7 | S19: 7000000 | T19: 0 | U19: =+S19*R19 -> 49000000 | V19: 0 | W19: 0 | X19: =+T19+U19+W19+V19 -> 49000000 | Y19: =SUM(X19)/$X$32 -> 0.078480037 | Z19: Costo honorarios talento humano valor 3.500.000COP/mes por 7 meses por persona, requiriendo 2 personas para desarrollar la estrategua de ventas en Bogotá.
B20: R3 ORGANZATIVO Y GREMIAL: Se ha fortalecido el componente organizativo y gremial, para sentar las bases para un dialogo permanente entre los eslabones de la cadena de valor, brindando oportunidades de empleo a la sociedad civil organizada y facilitando la incidencia en las agendas territoriales, con énfasis en corresponsabilidad socio-empresarial | C20: I3 al menos una (1) nueva alianza institucional vinculada al proceso de la APPD. | D20: R3.A1 Fortalecimiento organizacional y de trabajo en red. | E20: Consiste en el acompañamiento y fortalecimiento a la Federación de Camaroneros para el fortalecimiento de sus procesos estrategicos. | F20: RED ADELCO | O20: Honorarios de profesionales | P20: =VLOOKUP(O20,Hoja2!$A$1:$B$49,2,0) -> Gastos de personal | Q20: Mes | R20: 7 | S20: 5000000 | T20: 0 | U20: =+S20*R20 -> 35000000 | V20: 0 | W20: 0 | X20: =+T20+U20+W20+V20 -> 35000000 | Y20: =SUM(X20:X21)/$X$32 -> 0.07960118 | Z20: Talento humano 5.000.000COP mes por 7 meses parafortalecimiento en incidencia política, relacionamiento técnico, habilitación de espacios de dialogo estrategico con otros actores y FEDEACUPAC
O21: Honorarios de profesionales | P21: =VLOOKUP(O21,Hoja2!$A$1:$B$49,2,0) -> Gastos de personal | Q21: Mes | R21: 7 | S21: 2100000 | T21: 0 | U21: =+S21*R21 -> 14700000 | V21: 0 | W21: 0 | X21: =+T21+U21+W21+V21 -> 14700000 | Z21: Talento humano 2.100.000COP mes por 7 meses para acompañamiento técnico al seguimiento de indicadores asociados al trabajo de FEDEACUPAC y la APPD como estrategia de sostenibilidad.
E22: Consiste en el apoyo técnico para la consolidación de información tanto de FEDEACUAPAC como de la APPD en aras de hacer seguimiento técnico y financiero a los indicadores. | F22: RED ADELCO | O22: Honorarios de profesionales | P22: =VLOOKUP(O22,Hoja2!$A$1:$B$49,2,0) -> Gastos de personal | Q22: Mes | R22: 7 | S22: 2100000 | T22: 0 | U22: =+S22*R22 -> 14700000 | V22: 0 | W22: 0 | X22: =+T22+U22+W22+V22 -> 14700000 | Y22: =SUM(X22:X23)/$X$32 -> 0.041482305 | Z22: Talento humano 2.100.000COP mes por 7 meses para el apoyo en temas financiero y contables a FEDEACUPAC y la APPD.
O23: Honorarios de técnicos | P23: =VLOOKUP(O23,Hoja2!$A$1:$B$49,2,0) -> Gastos de personal | Q23: Mes | R23: 7 | S23: 1600000 | T23: 0 | U23: =+S23*R23 -> 11200000 | V23: 0 | W23: 0 | X23: =+T23+U23+W23+V23 -> 11200000 | Z23: Talento humano 1.600.000COP mes por 7 meses para el soporte a procesos de compra y adquisición de FEDEACUPAC
A24: OE2 | B24: R3 | C24: I3 | D24: A5 | T24: =IF(P24="No elegible APC - Colombia",0,S24*R24) -> 0 | X24: =+T24+U24+W24+V24 -> 0 | Y24: =SUM(X24:X25)/$X$32 -> 0
T25: =IF(P25="No elegible APC - Colombia",0,S25*R25) -> 0 | X25: =+T25+U25+W25+V25 -> 0
D26: A6 | T26: =IF(P26="No elegible APC - Colombia",0,S26*R26) -> 0 | X26: =+T26+U26+W26+V26 -> 0 | Y26: =SUM(X26:X27)/$X$32 -> 0
T27: =IF(P27="No elegible APC - Colombia",0,S27*R27) -> 0 | X27: =+T27+U27+W27+V27 -> 0
B28: R4 | C28: I4 | D28: A7 | T28: =IF(P28="No elegible APC - Colombia",0,S28*R28) -> 0 | X28: =+T28+U28+W28+V28 -> 0 | Y28: =SUM(X28:X29)/$X$32 -> 0
T29: =IF(P29="No elegible APC - Colombia",0,S29*R29) -> 0 | X29: =+T29+U29+W29+V29 -> 0
D30: A8 | T30: =IF(P30="No elegible APC - Colombia",0,S30*R30) -> 0 | X30: =+T30+U30+W30+V30 -> 0 | Y30: =SUM(X30:X31)/$X$32 -> 0
T31: =IF(P31="No elegible APC - Colombia",0,S31*R31) -> 0 | X31: =+T31+U31+W31+V31 -> 0
A32: VALORES TOTALES | G32: =LOOKUP("x",G13:G31) -> #N/A | T32: =SUM(T13:T31) -> 323062600 | U32: =SUM(U13:U31) -> 187350000 | V32: =SUM(V13:V31) -> 113950000 | W32: =SUM(W13:W31) -> 0 | X32: =SUM(X13:X31) -> 624362600 | Y32: =SUM(Y13:Y31) -> 1
D34: APC COLOMBIA | E34: =D5 -> Red Nacional de Agencias de Desarrollo Local en Colombia RED ADELCO | F34: =D6 -> Agencia Española de Cooperación Internacional para el Desarrollo en Colombia AECID. | G34: =D7 -> 0 | N34: TOTALES | O34: Peso porcentual
C35: Administración y logística | D35: =SUMIF($P$13:$P$31,"Administración y logística",T13:T31) -> 0 | E35: =SUMIF($P$13:$P$31,"Administración y logística",U13:U31) -> 0 | F35: =SUMIF($P$13:$P$31,"Administración y logística",V13:V31) -> 0 | G35: =SUMIF($P$13:$P$31,"Administración y logística",W13:W31) -> 0 | N35: =SUM(D35:K35) -> 0 | O35: =(N35/$N$43)*100 -> 0 | S35: VALOR TOTAL SOLICITADO A APC-COLOMBIA | X35: =T32 -> 323062600
C36: Adquisición, bienes y servicios | D36: =SUMIF($P$13:$P$31,"Adquisición, bienes y servicios",T13:T31) -> 323062600 | E36: =SUMIF($P$13:$P$31,"Adquisición, bienes y servicios",U13:U31) -> 6050000 | F36: =SUMIF($P$13:$P$31,"Adquisición, bienes y servicios",V13:V31) -> 113950000 | G36: =SUMIF($P$13:$P$31,"Adquisición, bienes y servicios",W13:W31) -> 0 | N36: =SUM(D36:K36) -> 443062600 | O36: =(N36/$N$43)*100 -> 70.962386 | S36: VALOR TOTAL ENTIDAD SOLICITANTE/PROPONENTE | X36: =U32 -> 187350000
B37: GASTOS | C37: Comunicaciones y visibilidad | D37: =SUMIF($P$13:$P$31,"Comunicaciones y visibilidad",T13:T31) -> 0 | E37: =SUMIF($P$13:$P$31,"Comunicaciones y visibilidad",U13:U31) -> 0 | F37: =SUMIF($P$13:$P$31,"Comunicaciones y visibilidad",V13:V31) -> 0 | G37: =SUMIF($P$13:$P$31,"Comunicaciones y visibilidad",W13:W31) -> 0 | N37: =SUM(D37:K37) -> 0 | O37: =(N37/$N$43)*100 -> 0 | S37: VALOR TOTAL COOPERANTE INTERNACIONAL | X37: =V32 -> 113950000
B38: CONSOLIDADOS | C38: Gastos de personal | D38: =SUMIF($P$13:$P$31,"Gastos de personal",T13:T31) -> 0 | E38: =SUMIF($P$13:$P$31,"Gastos de personal",U13:U31) -> 181300000 | F38: =SUMIF($P$13:$P$31,"Gastos de personal",V13:V31) -> 0 | G38: =SUMIF($P$13:$P$31,"Gastos de personal",W13:W31) -> 0 | N38: =SUM(D38:K38) -> 181300000 | O38: =(N38/$N$43)*100 -> 29.037614 | S38: VALOR TOTAL OTROS APORTANTES | X38: =W32 -> 0
C39: Viajes y transporte | D39: =SUMIF($P$13:$P$31,"Viajes y transporte",T13:T31) -> 0 | E39: =SUMIF($P$13:$P$31,"Viajes y transporte",U13:U31) -> 0 | F39: =SUMIF($P$13:$P$31,"Viajes y transporte",V13:V31) -> 0 | G39: =SUMIF($P$13:$P$31,"Viajes y transporte",W13:W31) -> 0 | N39: =SUM(D39:K39) -> 0 | O39: =(N39/$N$43)*100 -> 0 | S39: VALOR TOTAL GENERAL | X39: =SUM(X35:X38) -> 624362600
C40: No elegible APC | D40: =SUMIF($P$13:$P$31,"No elegible APC-Colombia",T13:T31) -> 0 | E40: =U32-SUM(E35:E39) -> 0 | F40: =V32-SUM(F35:F39) -> 0 | G40: =W32-SUM(G35:K39) -> 0 | N40: =SUM(D40:K40) -> 0 | O40: =(N40/$N$43)*100 -> 0
O41: =SUM(O35:O40) -> 100 | W41: Convenio con Red ADELCO
Q42: FIRMA REPRESENTANTE LEGAL | W42: =+X35+X36 -> 510412600 | X42: 1
D43: =SUM(D34:D41) -> 323062600 | E43: =SUM(E34:E41) -> 187350000 | F43: =SUM(F34:F41) -> 113950000 | G43: =SUM(G34:K41) -> 0 | N43: =SUM(N34:N41) -> 624362600 | Q43: NOMBRE REPRESENTANTE LEGAL | S43: CARLOS ALBERTO CALLEJAS PEREZ | W43: =+X36 -> 187350000 | X43: =+W43*X42/W42 -> 0.36705599
...

Sheet Hoja 1

Sheet Hoja2
A1: CONCEPTO | B1: TIPO DE RUBRO | C1: FUENTE | D1: UNIDAD DE MEDIDA SUGERIDA | I1: UNIDAD DE MEDIDAD | J1: DESCRIPCION DE LA UNIDAD DE MEDIDA
A2: Alimentación participantes y equipo implementador | B2: Administración y logística | D2: Unidad | I2: Hora | J2: Utilizarla para calcular carga de honorarios
A3: Alojamiento participantes y equipo implementador | B3: Administración y logística | D3: noche | I3: Noche
A4: Alquiler de ayudas audiovisuales | B4: Administración y logística | D4: Dia | I4: Día | J4: Utilizarla para alquiler de equipos, eventos honorarios entre otros
A5: Alquiler de salones | B5: Administración y logística | D5: Dia | I5: Mes | J5: Utilizarla para prestacion de servicios, u honorarios que sean desarrollados en un periodo de tiempo determinado
A6: Papelería | B6: Administración y logística | D6: Unidad | I6: Mts | J6: Utilizarla para adquision de equipos, obras o suministro
A7: Materiales de apoyo impresos en papel periódico liviano, cartillas, marcadores. | B7: Administración y logística | D7: Unidad | I7: Kgs | J7: Utilizarla para adquision de equipos, obras o suministro
A8: Tiquetes aéreos nacionales en clase económica para participantes y equipo implementador | B8: Viajes y Transporte | D8: Unidad | I8: Gramo
A9: Transporte nacional terrestre, marítimo y fluvial para participantes y equipo implementador | B9: Viajes y Transporte | D9: Unidad | I9: Jornada
A10: Maquinaria y equipos | B10: Adquisición, bienes y servicios | D10: Unidad | I10: Kilo
A11: Costos directos | B11: Adquisición, bienes y servicios | D11: Unidad | I11: Kit
A12: Costos de administración hasta el 10% de los costos directos | B12: Adquisición, bienes y servicios | D12: Unidad | I12: Galón
A13: Vallas específicas para la visibilidad de la obra | B13: Comunicaciones y visibilidad | I13: Litro
A14: Consultorias y estudios técnicos | B14: Adquisición, bienes y servicios | D14: producto | I14: Metro cuadrado
A15: Honorarios de profesionales | B15: Gastos de personal | D15: Mes | I15: Paquete
A16: Honorarios de técnicos | B16: Gastos de personal | D16: Mes | I16: Sesión
A17: Combustible | B17: No elegible APC - Colombia | D17: Mes | I17: Unidad
A18: Publicidad y propaganda únicamente cuando las actividades y resultadios deben ser difundidos masivamente (políticas púbicas, campañas masivas de salud, educación, vacunación, entre otros) | B18: No elegible APC - Colombia | D18: Mes
A19: Salarios, prestaciones sociales, primas, aportes parafiscales, seguridad social, licencias, etc. | B19: No elegible APC - Colombia | D19: Unidad
A20: Gastos administrativos asistenciales: personal | B20: No elegible APC - Colombia | D20: noche
A21: Chequeras | B21: No elegible APC - Colombia | J21: Paz y estabilización territorial | L21: Focai
A22: Comisiones | B22: No elegible APC - Colombia | D22: Unidad | J22: Desarrollo rural | L22: Contrapartidas
A23: Gravamen al movimiento (GMF) | B23: No elegible APC - Colombia | D23: Unidad | J23: Conservación y sostenibilidad ambiental | L23: Propio
A24: Gastos por portales transaccionales | B24: No elegible APC - Colombia | J24: Emprendimiento y economía naranja | L24: Coperante internacional
A25: Presentación de informes | B25: No elegible APC - Colombia | J25: Fenómeno migratorio | L25: ESAL
A26: Documentos legales requeridos | B26: No elegible APC - Colombia
A27: Pólizas | B27: No elegible APC - Colombia
A28: Comisiones por cambio de divisas | B28: No elegible APC - Colombia | D28: Unidad
A29: Giros nacionales por corresponsales no bancarios | B29: No elegible APC - Colombia | D29: Unidad
A30: Seminarios y pasantías | B30: No elegible APC - Colombia
A31: Tiquetes internacionales | B31: No elegible APC - Colombia
A32: Tiquetes en tarifa diferentes a la clase económica | B32: No elegible APC - Colombia
A33: Publicaciones en ediciones de lujo | B33: No elegible APC - Colombia | C33: cooperante internacional | J33: Conocimiento
A34: Servicios públicos, incluido internet | B34: No elegible APC - Colombia
A35: Pautas publicitarias | B35: No elegible APC - Colombia | J35: Relacionamiento
A36: Equipos y servicios de telefonía movil | B36: No elegible APC - Colombia | J36: Visibilidad
A37: Gastos para efectuar festejos | B37: No elegible APC - Colombia | J37: No aplica
A38: Propinas | B38: No elegible APC - Colombia
A39: Compra de inmuebles | B39: No elegible APC - Colombia
A40: Compra de vehículos (carros, motos, chalupas) | B40: No elegible APC - Colombia | C40: cooperante internacional
...
