Workbook

Sheet GENERAL
C4: Cálculo de la Capacidad Residual Decreto 1510 de 2013
D6: INFORMACIÓN GENERAL | L6: =NOW() -> 45556.883
D9: Objeto del Proceso de Contratación
D10: Información general | J10: =IF(OR('K DEL PROCESO'!D5="",'K DEL PROCESO'!D6="",'K DEL PROCESO'!D7="",'K DEL PROCESO'!#REF!="",'K DEL PROCESO'!D8="",'K DEL PROCESO'!E17="",'K DEL PROCESO'!E18="",'K DEL PROCESO'!F18=""),"TE FALTAN DATOS","COMPLETO") -> #REF!
J12: =IF(OR(#REF!="",#REF!="",#REF!="",#REF!="",#REF!="",#REF!="",#REF!="",#REF!="",#REF!="",#REF!="",#REF!="",#REF!=""),"TE FALTAN DATOS","COMPLETO") -> #REF!
D13: Información del Proponente
D14: Información Financiera | J14: =IF(#REF!>0,"COMPLETO"," TE FALTAN DATOS") -> #REF!
J16: =IF(#REF!="","TEFALTAN DATOS","COMPLETO") -> #REF!
D17: Información Contratos en Ejecución
J18: =IF(#REF!>0,"COMPLETO","TE FALTAN DATOS") -> #REF!
P32: JUANMESA
P33: 1959

Sheet K DEL PROCESO
B1: Información del Proceso Contractual - Calculo de la Capacidad Residual | F1: =NOW() -> 45556.883
B3: PROCESO: | C3: SELECCIÓN ABREVIADA DE MENOR CUANTÍA | D3: N° | E3: SAMC-005-2024
B4: Objeto | C4: MANTENIMIENTO, ADECUACIÓN Y MEJORAMIENTO DE LA INFRAESTRUCTURA DEPORTIVA Y RECREATIVA DEL MUNICIPIO DE SANTA ROSA DEL SUR
B5: Fecha de presentación la oferta (dd-mm-aaaa) | D5: XXXXX
B6: Valor Presupuesto oficial (COP) | D6: 221393576
B7: Anticipo (% del valor del contrato) | D7: 0
B8: Plazo (# Meses) | D8: 1
B11: CAPACIDAD RESIDUAL DEL PROCESO DE CONTRATACIÓN - CRPC | E11: =IF(C15<=12,C13-E13,((C13-E13)/C15)*12) -> 221393576
B13: Presupuesto oficial | C13: =D6 -> 221393576 | D13: Anticipo o Pag Anticip | E13: 0
B15: Plazo Ejecución | C15: =+D8 -> 1 | D15: Meses
B18: La verificación de la Capacidad Residual se realiza conforme al Decreto 791 del 22 de abril de 2014, el cual reglamenta
B19: el artículo 72 de la Ley 1682 de 2013 y se modifica el artículo 18 del Decreto 1510 de 2013 y se tiene en cuenta además,
B20: para observar la metodología en el documento Guia de C olombia Compra Eficiente, para determinar y verificar la
B21: Capacidad Reisdual del proponentes en el proceso de contratación de obra pública.
B23: CAPACIDAD RESIDUAL DEL PROCESO DE CONTRATACIÓN - CRPC
B25: CAPACIDAD RESIDUAL DEL PROPONENTE INDEPENDIENTE

Sheet INTEGRANTE 1
B1: Formato 5 - Capacidad residual - Documento tipo de licitación de obra pública de infraestructura de agua potable y saneamiento básico
B2: Código | C2: CCE-EICP-FM-39 | D2: Versión | E2: 1
B5: VERIFICACION CAPACIDAD RESIDUAL
B6: Fecha de presentación la oferta (dd-mm-aaaa) | D6: ='K DEL PROCESO'!D5:F5 -> XXXXX
B7: CAPACIDAD RESIDUAL DEL PROCESO DE CONTRATACIÓN - CRPC | E7: =IF(C11<=12,C9-E9,((C9-E9)/C11)*12) -> 221393576
B9: Presupuesto oficial | C9: ='K DEL PROCESO'!D6 -> 221393576 | D9: Anticipo/Pago Anticipado | E9: =C9*'K DEL PROCESO'!D7 -> 0
B11: Plazo Ejecución | C11: ='K DEL PROCESO'!D8 -> 1 | D11: Meses | E11: RESULTADO | H11: =IF(H23="","",IF(H23>=E7,"CUMPLE","NO CUMPLE"))
B13: CAPACIDAD RESIDUAL DEL PROPONENTE PLURAL
B14: INTEGRANTE 1
B15: PARTICIPACION %
D16: Puntaje Maximo | E16: VALORES | H16: VALOR DE VARIABLES
B18: CO | C18: Capacidad Organización | D18: 0 | E18: =C33 -> 0 | H18: =E33 -> 0
B19: CT | C19: Capacidad Técnica | D19: 40 | E19: =E110 | H19: =H111
B20: CF | C20: capacidad Financiera | D20: 40 | E20: =E98 | H20: =H98
B21: E | C21: Experiencia | D21: 120 | E21: =D39 | H21: =H39
B22: SCE | C22: Saldos de Contratos en ejecución | D22: 0 | E22: =H114 -> 0 | H22: =E22 -> 0
B23: CAPACIDAD RESIDUAL DEL INTEGRANTE | E23: CRP | H23: =IF(SUM(H18:H22)=0,"",H18*((H21+H19+H20)/100)-E22)
B26: FORMULACIÓN: | C26: CRP = CO x ((E + CT + CF)/100)- SCE
D28: US | E28: 125000
B29: CAPACIDAD DE ORGANIZACIÓN - CO | D29: TRM
D30: COP | E30: =E28*E29 -> 0
B31: INFORMACION FINANCIERA - Mejor Ingreso Operacional de los último 5 años
B32: AÑO | C32: INGRESOS OPERACIONES
D33: MEJOR AÑO | E33: =IF(C33=0,0,IF(C33<=E30,E30,C33)) -> 0
B36: EXPERIENCIA - E | C36: Valor Total de los Contratos RUP (COP) / (Presupuesto oficial x % Participación)
B37: RELACIÓN DE CONTRATOS REGISTRADOS EN EL RUP - INSCRITOS EN SEGMENTO 72 - VALOR EN PESOS COLOMBIANOS LIQUIDADOS A SMLMV.
C39: EXPERIENCIA - E | D39: =IF(F90=0,"",F90/((C9/737717)*C15)) | E39: PUNTAJE MAXIMO | H39: =IF(D39="","",IF(AND(D39>0,D39<=3),60,IF(AND(D39>3,D39<=6),80,IF(AND(D39>6,D39<=10),100,IF(D39>10,120,0)))))
B41: CONTRATOS | C41: OBJETO CONTRATO | D41: FECHA | E41: VALOR EN DINERO | F41: SALARIOS | G41: PARTICIPACION % | H41: CONSECUTIVO RUP
B90: TOTAL | E90: =SUM(E42:E89) -> 0 | F90: =SUM(F42:F89) -> 0
B91: Nota: Anexo 1 - Certificación de contratos para acreditación de experiencia.
B94: CAPACIDAD FINANCIERA CF: Teniendo en cuenta el indicador de liquidez del proponente
B96: FORMULACIÓN: | C96: Activo Corriente / Pasivo Corriente
H97: PUNTAJE MAXIMO
B98: Activo Corriente | D98: RESULTADO: | E98: =IF(AND(C98=0,C99=0),"",C98/C99) | H98: =IF(E98="","",IF(AND(E98>0,E98<=0.5),20,IF(AND(E98>0.5,E98<=0.75),25,IF(AND(E98>0.75,E98<=1),30,IF(AND(E98>1,E98<1.5),35,IF(E98>=1.5,40,0))))))
B99: Pasivo Corriente
B102: CAPACIDAD TÉCNICA CT: Se asigna tenieno en cuenta el níumero de socios y profesionales de la arquietectura,
B103: ingenieria y geología vinculados mediante una relación laboral o contractual - Según Anexo 2 "Certificación de la Capacidad Técnica".
B105: N° | C105: NOMBRE | D105: SOCIO / PROFESIONAL | E105: N° CONTRATO | F105: M.P | H105: VIGENCIA
D108: TOTAL | E108: =IF(E106="","",COUNTA(E106:E107))
B110: CT = Número de personal socios, ingenieros, arquitectos y geologos. | E110: =E108 | H110: PUNTAJE MAXIMO
...

Sheet INTEGRANTE 2
B1: Formato 5 - Capacidad residual - Documento tipo de licitación de obra pública de infraestructura de agua potable y saneamiento básico
B2: Código | C2: CCE-EICP-FM-39 | D2: Versión | E2: 1
B4: VERIFICACION CAPACIDAD RESIDUAL
B5: Fecha de presentación la oferta (dd-mm-aaaa) | D5: ='K DEL PROCESO'!D5:F5 -> XXXXX
B6: CAPACIDAD RESIDUAL DEL PROCESO DE CONTRATACIÓN - CRPC | E6: =IF(C10<=12,C8-E8,((C8-E8)/C10)*12) -> 221393576
B8: Presupuesto oficial | C8: ='K DEL PROCESO'!D6 -> 221393576 | D8: Anticipo/Pago Anticipado | E8: =C8*'K DEL PROCESO'!D7 -> 0
B10: Plazo Ejecución | C10: ='K DEL PROCESO'!D8 -> 1 | D10: Meses | E10: RESULTADO | H10: =IF(H22="","",IF(H22>=E6,"CUMPLE","NO CUMPLE"))
B12: CAPACIDAD RESIDUAL DEL PROPONENTE PLURAL
B13: INTEGRANTE 2
B14: PARTICIPACION %
D15: Puntaje Maximo | E15: VALORES | H15: VALOR DE VARIABLES
B17: CO | C17: Capacidad Organización | D17: 0 | E17: =C32 -> 0 | H17: =E32 -> 0
B18: CT | C18: Capacidad Técnica | D18: 40 | E18: =E99 | H18: =H100
B19: CF | C19: capacidad Financiera | D19: 40 | E19: =E83 -> 0 | H19: =H83 -> 0
B20: E | C20: Experiencia | D20: 120 | E20: =D38 | H20: =H38
B21: SCE | C21: Saldos de Contratos en ejecución | D21: 0 | E21: =H103 -> 0 | H21: =E21 -> 0
B22: CAPACIDAD RESIDUAL DEL INTEGRANTE | E22: CRP | H22: =IF(SUM(H17:H21)=0,"",H17*((H20+H18+H19)/100)-E21)
B25: FORMULACIÓN: | C25: CRP = CO x ((E + CT + CF)/100)- SCE
D27: US | E27: 125000
B28: CAPACIDAD DE ORGANIZACIÓN - CO | D28: TRM
D29: COP | E29: =E27*E28 -> 0
B30: INFORMACION FINANCIERA - Mejor Ingreso Operacional de los último 5 años
B31: AÑO | C31: INGRESOS OPERACIONES
D32: MEJOR AÑO | E32: =IF(C32=0,0,IF(C32<=E29,E29,C32)) -> 0
B35: EXPERIENCIA - E | C35: Valor Total de los Contratos RUP (COP) / (Presupuesto oficial x % Participación)
B36: RELACIÓN DE CONTRATOS REGISTRADOS EN EL RUP - INSCRITOS EN SEGMENTO 72 - VALOR EN PESOS COLOMBIANOS LIQUIDADOS A SMLMV.
C38: EXPERIENCIA - E | D38: =IF(D75=0,"",D75/((C8/737717)*C14)) | E38: PUNTAJE MAXIMO | H38: =IF(D38="","",IF(AND(D38>0,D38<=3),60,IF(AND(D38>3,D38<=6),80,IF(AND(D38>6,D38<=10),100,IF(D38>10,120,0)))))
B40: CONTRATOS | C40: OBJETO CONTRATO | D40: FECHA | E40: VALOR EN DINERO | F40: SALARIOS | G40: PARTICIPACION % | H40: CONSECUTIVO RUP
B89: TOTAL | E89: =SUM(E41:E88) -> 0 | F89: =SUM(F41:F88) -> 0
B90: N° | C90: NOMBRE | D90: SOCIO / PROFESIONAL | E90: N° CONTRATO | F90: M.P | H90: VIGENCIA
D97: TOTAL | E97: =IF(E91="","",COUNTA(E91:E96))
B99: CT = Número de personal socios, ingenieros, arquitectos y geologos. | E99: =E97 | H99: PUNTAJE MAXIMO
H100: =IF(E99="","",IF(AND(E99>=1,E99<=5),20,IF(AND(E99>=6,E99<=10),30,IF(E99>=11,40,0))))
B103: SALDOS DE CONTRATOS EN EJECUCIÓN | H103: =H107+H109+H111+H113 -> 0
B105: VALOR | C105: PLAZO (MESES) | D105: FECHA INICIO DDMMAAA | E105: PARTICIPACION | F105: SUSPENDIDO SI/NO | G105: FECHA SUSPENSIÓN | H105: SALDO POR EJECUTAR
H106: =IF(B106="","",(C106*30)-($D$5-D106)+IF(G106="",0,($D$5-G106)))
H107: =IF(B106="",0,(B106/(C106*30))*(IF(H106>360,360,H106))*E106) -> 0
H108: =IF(B108="","",(C108*30)-($D$5-D108)+IF(G108="",0,($D$5-G108)))
H109: =IF(B108="",0,(B108/(C108*30))*(IF(H108>360,360,H108))*E108) -> 0
H110: =IF(B110="","",(C110*30)-($D$5-D110)+IF(G110="",0,($D$5-G110)))
...

Sheet INTEGRANTE 3
B1: Formato 5 - Capacidad residual - Documento tipo de licitación de obra pública de infraestructura de agua potable y saneamiento básico
B2: Código | C2: CCE-EICP-FM-39 | D2: Versión | E2: 1
B4: VERIFICACION CAPACIDAD RESIDUAL
B5: Fecha de presentación la oferta (dd-mm-aaaa) | D5: ='K DEL PROCESO'!D5:F5 -> XXXXX
B6: CAPACIDAD RESIDUAL DEL PROCESO DE CONTRATACIÓN - CRPC | E6: =IF(C10<=12,C8-E8,((C8-E8)/C10)*12) -> 221393576
B8: Presupuesto oficial | C8: ='K DEL PROCESO'!D6 -> 221393576 | D8: Anticipo/Pago Anticipado | E8: =C8*'K DEL PROCESO'!D7 -> 0
B10: Plazo Ejecución | C10: ='K DEL PROCESO'!D8 -> 1 | D10: Meses | E10: RESULTADO | H10: =IF(H22="","",IF(H22>=E6,"CUMPLE","NO CUMPLE")) -> NO CUMPLE
B12: CAPACIDAD RESIDUAL DEL PROPONENTE PLURAL
B13: INTEGRANTE 3
B14: PARTICIPACION %
D15: Puntaje Maximo | E15: VALORES | H15: VALOR DE VARIABLES
B17: CO | C17: Capacidad Organización | D17: 0 | E17: =C32 -> 0
B18: CT | C18: Capacidad Técnica | D18: 40 | E18: =E90
B19: CF | C19: capacidad Financiera | D19: 40 | E19: =E78
B20: E | C20: Experiencia | D20: 120 | E20: =D38
B21: SCE | C21: Saldos de Contratos en ejecución | D21: 0 | E21: =H94 -> 0
B22: CAPACIDAD RESIDUAL DEL INTEGRANTE | E22: CRP | H22: =IF(SUM(H17:H21)=0,0,H17*((H20+H18+H19)/100)-E21) -> 0
B25: FORMULACIÓN: | C25: CRP = CO x ((E + CT + CF)/100)- SCE
D27: US | E27: 125000
B28: CAPACIDAD DE ORGANIZACIÓN - CO | D28: TRM
D29: COP | E29: =E27*E28 -> 0
B30: INFORMACION FINANCIERA - Mejor Ingreso Operacional de los último 5 años
B31: AÑO | C31: INGRESOS OPERACIONES
D32: MEJOR AÑO | E32: =IF(C32=0,0,IF(C32<=E29,E29,C32)) -> 0
B35: EXPERIENCIA - E | C35: Valor Total de los Contratos RUP (COP) / (Presupuesto oficial x % Participación)
B36: RELACIÓN DE CONTRATOS REGISTRADOS EN EL RUP - INSCRITOS EN SEGMENTO 72 - VALOR EN PESOS COLOMBIANOS LIQUIDADOS A SMLMV.
C38: EXPERIENCIA - E | D38: =IF(F70=0,"",F70/((C8/737717)*C14)) | E38: PUNTAJE MAXIMO | H38: =IF(D38="",0,IF(AND(D38>0,D38<=3),60,IF(AND(D38>3,D38<=6),80,IF(AND(D38>6,D38<=10),100,IF(D38>10,120,0))))) -> 0
B40: CONTRATOS | C40: OBJETO CONTRATO | D40: FECHA | E40: VALOR EN DINERO | F40: SALARIOS | G40: PARTICIPACION % | H40: CONSECUTIVO RUP
B70: TOTAL | E70: =SUM(E41:E69) -> 0 | F70: =SUM(F41:F69) -> 0
B71: Nota: Anexo 1 - Certificación de contratos para acreditación de experiencia.
B74: CAPACIDAD FINANCIERA CF: Teniendo en cuenta el indicador de liquidez del proponente
B76: FORMULACIÓN: | C76: Activo Corriente / Pasivo Corriente
H77: PUNTAJE MAXIMO
B78: Activo Corriente | D78: RESULTADO: | E78: =IF(AND(C78=0,C79=0),"",C78/C79) | H78: =IF(E78="",0,IF(AND(E78>0,E78<=0.5),20,IF(AND(E78>0.5,E78<=0.75),25,IF(AND(E78>0.75,E78<=1),30,IF(AND(E78>1,E78<1.5),35,IF(E78>=1.5,40,0)))))) -> 0
B79: Pasivo Corriente
B82: CAPACIDAD TÉCNICA CT: Se asigna tenieno en cuenta el níumero de socios y profesionales de la arquietectura,
B83: ingenieria y geología vinculados mediante una relación laboral o contractual - Según Anexo 2 "Certificación de la Capacidad Técnica".
B85: N° | C85: NOMBRE | D85: SOCIO / PROFESIONAL | E85: N° CONTRATO | F85: M.P | H85: VIGENCIA
D88: TOTAL | E88: =IF(E86="","",COUNTA(E86:E87))
B90: CT = Número de personal socios, ingenieros, arquitectos y geologos. | E90: =E88 | H90: PUNTAJE MAXIMO
...

Sheet RESULTADO PROPONENTE PLURAL
B1: Formato 5 - Capacidad residual - Documento tipo de licitación de obra pública de infraestructura de agua potable y saneamiento básico
B2: Código | C2: CCE-EICP-FM-39 | D2: Versión | E2: 1
B3: VERIFICACION CAPACIDAD RESIDUAL
B5: ='K DEL PROCESO'!B3 -> PROCESO: | C5: ='K DEL PROCESO'!C3 -> SELECCIÓN ABREVIADA DE MENOR CUANTÍA | E5: ='K DEL PROCESO'!E3 -> SAMC-005-2024
B6: Objeto | C6: ='K DEL PROCESO'!C4:F4 -> MANTENIMIENTO, ADECUACIÓN Y MEJORAMIENTO DE LA INFRAESTRUCTURA DEPORTIVA Y RECREATIVA DEL MUNICIPIO DE SANTA ROSA DEL SUR
B7: Fecha de presentación la oferta (dd-mm-aaaa) | D7: ='K DEL PROCESO'!D5:F5 -> XXXXX
B8: Valor Tresupuesto Oficial (COP) | E8: ='K DEL PROCESO'!D6 -> 221393576
B9: Anticipo (% del valor del contrato) | D9: ='K DEL PROCESO'!D7:F7 -> 0
B10: Plazo (# Meses) | D10: ='K DEL PROCESO'!D8:F8 -> 1
B13: CAPACIDAD RESIDUAL DEL PROCESO DE CONTRATACIÓN - CRPC | E13: ='K DEL PROCESO'!E11:F11 -> 221393576
B15: Presupuesto oficial | C15: =E8 -> 221393576 | D15: Anticipo/Pago Antic | E15: =D9*E8 -> 0
B17: CAPACIDAD RESIDUAL DEL PROPONENTE PLURAL = | E17: =IF(E13=0,0,D27+E27+F27+G27) -> #VALUE!
B18: PROPONENTE:
B20: INTEGRANTES: | D20: INTEGRANTE 1 | E20: INTEGRANTE 2 | F20: INTEGRANTE 3
B21: VARIABLES | C21: Puntaje Maximo | D21: VALOR / PUNTAJE | E21: VALOR / PUNTAJE | F21: VALOR / PUNTAJE
B22: Capacidad de Organización | D22: ='INTEGRANTE 1'!E33 -> 0 | E22: ='INTEGRANTE 2'!H17 -> 0 | F22: ='INTEGRANTE 3'!H17 -> 0
B23: Capacidad Técnica | C23: 40 | D23: ='INTEGRANTE 1'!H19 | E23: ='INTEGRANTE 2'!H18 | F23: ='INTEGRANTE 3'!H18 -> 0
B24: Capacidad Financiera | C24: 40 | D24: ='INTEGRANTE 1'!H20 | E24: ='INTEGRANTE 2'!H19 -> 0 | F24: ='INTEGRANTE 3'!H19 -> 0
B25: Experiencia | C25: 120 | D25: ='INTEGRANTE 1'!H21 | E25: ='INTEGRANTE 2'!H20 | F25: ='INTEGRANTE 3'!H20 -> 0
B26: Saldos de Contratos en Ejecución | D26: ='INTEGRANTE 1'!H22 -> 0 | E26: ='INTEGRANTE 2'!H21 -> 0 | F26: ='INTEGRANTE 3'!H21 -> 0
B27: Capacidad Residual del integrante | D27: ='INTEGRANTE 1'!H23 | E27: ='INTEGRANTE 2'!H22 | F27: ='INTEGRANTE 3'!H22 -> 0
D30: RESULTADO | F30: =IF(E17=0,"",IF(E17>=E13,"CUMPLE","NO CUMPLE")) -> #VALUE!
B33: =D20 -> INTEGRANTE 1 | F33: Nit
B34: =E20 -> INTEGRANTE 2 | F34: Nit
B35: =F20 -> INTEGRANTE 3 | F35: Nit
E37: FECHA DE VERIFICACION | G37: =NOW() -> 45556.883
