Workbook

Sheet Tabulacion
A1: Fecha | B1: Vacunador | C1: Anotador | D1: Vacunador 2 | E1: Anotador 2 | F1: Actividad | G1: Lugar | H1: Casas Visitadas | I1: Perros Censados | J1: Total Perros Vac | K1: Perro Vac DTS | L1: Perro Vac MVP | M1: Perros No Vac | N1: Perros Desp. | O1: Gatos Censados | P1: Total Gatos Vac | Q1: Gatos Vac DTS | R1: Gatos Vac MVP | S1: Gatos No Vac | T1: Gatos Desp. | U1: Equiv. Casas | V1: Equiv. P. Cens | W1: Equiv. P. Vac | X1: Equiv. G. Cens | Y1: Equiv G. Vac | Z1: Equiv. P. Desp. | AA1: Equiv. G. Desp.
A2: 45463 | I2: =+Tabla2[[#This Row],[Total Perros Vac]]+Tabla2[[#This Row],[Perros No Vac]] -> 0 | J2: =+Tabla2[[#This Row],[Perro Vac DTS]]+Tabla2[[#This Row],[Perro Vac MVP]] -> 0 | O2: =+Tabla2[[#This Row],[Total Gatos Vac]]+Tabla2[[#This Row],[Gatos No Vac]] -> 0 | P2: =+Tabla2[[#This Row],[Gatos Vac DTS]]+Tabla2[[#This Row],[Gatos Vac MVP]] -> 0 | U2: =IFERROR(Tabla2[[#This Row],[Casas Visitadas]]/COUNTIF(Tabla2[[#This Row],[Vacunador]:[Anotador 2]],"<>"),"") | V2: =IFERROR(Tabla2[[#This Row],[Perros Censados]]/COUNTIF(Tabla2[[#This Row],[Vacunador]:[Anotador 2]],"<>"),"") | W2: =IFERROR(SUM(Tabla2[[#This Row],[Perro Vac DTS]],Tabla2[[#This Row],[Perro Vac MVP]])/COUNTIF(Tabla2[[#This Row],[Vacunador]:[Anotador 2]],"<>"),"") | X2: =IFERROR(Tabla2[[#This Row],[Gatos Censados]]/COUNTIF(Tabla2[[#This Row],[Vacunador]:[Anotador 2]],"<>"),"") | Y2: =IFERROR(SUM(Tabla2[[#This Row],[Gatos Vac DTS]],Tabla2[[#This Row],[Gatos Vac MVP]])/COUNTIF(Tabla2[[#This Row],[Vacunador]:[Anotador 2]],"<>"),"") | Z2: =IFERROR(Tabla2[[#This Row],[Perros Desp.]]/COUNTIF(Tabla2[[#This Row],[Vacunador]:[Anotador 2]],"<>"),"") | AA2: =IFERROR(Tabla2[[#This Row],[Gatos Desp.]]/COUNTIF(Tabla2[[#This Row],[Vacunador]:[Anotador 2]],"<>"),"")
A3: 45464 | I3: =+Tabla2[[#This Row],[Total Perros Vac]]+Tabla2[[#This Row],[Perros No Vac]] -> 0 | J3: =+Tabla2[[#This Row],[Perro Vac DTS]]+Tabla2[[#This Row],[Perro Vac MVP]] -> 0 | O3: =+Tabla2[[#This Row],[Total Gatos Vac]]+Tabla2[[#This Row],[Gatos No Vac]] -> 0 | P3: =+Tabla2[[#This Row],[Gatos Vac DTS]]+Tabla2[[#This Row],[Gatos Vac MVP]] -> 0 | U3: =IFERROR(Tabla2[[#This Row],[Casas Visitadas]]/COUNTIF(Tabla2[[#This Row],[Vacunador]:[Anotador 2]],"<>"),"") | V3: =IFERROR(Tabla2[[#This Row],[Perros Censados]]/COUNTIF(Tabla2[[#This Row],[Vacunador]:[Anotador 2]],"<>"),"") | W3: =IFERROR(SUM(Tabla2[[#This Row],[Perro Vac DTS]],Tabla2[[#This Row],[Perro Vac MVP]])/COUNTIF(Tabla2[[#This Row],[Vacunador]:[Anotador 2]],"<>"),"") | X3: =IFERROR(Tabla2[[#This Row],[Gatos Censados]]/COUNTIF(Tabla2[[#This Row],[Vacunador]:[Anotador 2]],"<>"),"") | Y3: =IFERROR(SUM(Tabla2[[#This Row],[Gatos Vac DTS]],Tabla2[[#This Row],[Gatos Vac MVP]])/COUNTIF(Tabla2[[#This Row],[Vacunador]:[Anotador 2]],"<>"),"") | Z3: =IFERROR(Tabla2[[#This Row],[Perros Desp.]]/COUNTIF(Tabla2[[#This Row],[Vacunador]:[Anotador 2]],"<>"),"") | AA3: =IFERROR(Tabla2[[#This Row],[Gatos Desp.]]/COUNTIF(Tabla2[[#This Row],[Vacunador]:[Anotador 2]],"<>"),"")
A4: 45465 | I4: =+Tabla2[[#This Row],[Total Perros Vac]]+Tabla2[[#This Row],[Perros No Vac]] -> 0 | J4: =+Tabla2[[#This Row],[Perro Vac DTS]]+Tabla2[[#This Row],[Perro Vac MVP]] -> 0 | O4: =+Tabla2[[#This Row],[Total Gatos Vac]]+Tabla2[[#This Row],[Gatos No Vac]] -> 0 | P4: =+Tabla2[[#This Row],[Gatos Vac DTS]]+Tabla2[[#This Row],[Gatos Vac MVP]] -> 0 | U4: =IFERROR(Tabla2[[#This Row],[Casas Visitadas]]/COUNTIF(Tabla2[[#This Row],[Vacunador]:[Anotador 2]],"<>"),"") | V4: =IFERROR(Tabla2[[#This Row],[Perros Censados]]/COUNTIF(Tabla2[[#This Row],[Vacunador]:[Anotador 2]],"<>"),"") | W4: =IFERROR(SUM(Tabla2[[#This Row],[Perro Vac DTS]],Tabla2[[#This Row],[Perro Vac MVP]])/COUNTIF(Tabla2[[#This Row],[Vacunador]:[Anotador 2]],"<>"),"") | X4: =IFERROR(Tabla2[[#This Row],[Gatos Censados]]/COUNTIF(Tabla2[[#This Row],[Vacunador]:[Anotador 2]],"<>"),"") | Y4: =IFERROR(SUM(Tabla2[[#This Row],[Gatos Vac DTS]],Tabla2[[#This Row],[Gatos Vac MVP]])/COUNTIF(Tabla2[[#This Row],[Vacunador]:[Anotador 2]],"<>"),"") | Z4: =IFERROR(Tabla2[[#This Row],[Perros Desp.]]/COUNTIF(Tabla2[[#This Row],[Vacunador]:[Anotador 2]],"<>"),"") | AA4: =IFERROR(Tabla2[[#This Row],[Gatos Desp.]]/COUNTIF(Tabla2[[#This Row],[Vacunador]:[Anotador 2]],"<>"),"")
A5: 45466 | I5: =+Tabla2[[#This Row],[Total Perros Vac]]+Tabla2[[#This Row],[Perros No Vac]] -> 0 | J5: =+Tabla2[[#This Row],[Perro Vac DTS]]+Tabla2[[#This Row],[Perro Vac MVP]] -> 0 | O5: =+Tabla2[[#This Row],[Total Gatos Vac]]+Tabla2[[#This Row],[Gatos No Vac]] -> 0 | P5: =+Tabla2[[#This Row],[Gatos Vac DTS]]+Tabla2[[#This Row],[Gatos Vac MVP]] -> 0 | U5: =IFERROR(Tabla2[[#This Row],[Casas Visitadas]]/COUNTIF(Tabla2[[#This Row],[Vacunador]:[Anotador 2]],"<>"),"") | V5: =IFERROR(Tabla2[[#This Row],[Perros Censados]]/COUNTIF(Tabla2[[#This Row],[Vacunador]:[Anotador 2]],"<>"),"") | W5: =IFERROR(SUM(Tabla2[[#This Row],[Perro Vac DTS]],Tabla2[[#This Row],[Perro Vac MVP]])/COUNTIF(Tabla2[[#This Row],[Vacunador]:[Anotador 2]],"<>"),"") | X5: =IFERROR(Tabla2[[#This Row],[Gatos Censados]]/COUNTIF(Tabla2[[#This Row],[Vacunador]:[Anotador 2]],"<>"),"") | Y5: =IFERROR(SUM(Tabla2[[#This Row],[Gatos Vac DTS]],Tabla2[[#This Row],[Gatos Vac MVP]])/COUNTIF(Tabla2[[#This Row],[Vacunador]:[Anotador 2]],"<>"),"") | Z5: =IFERROR(Tabla2[[#This Row],[Perros Desp.]]/COUNTIF(Tabla2[[#This Row],[Vacunador]:[Anotador 2]],"<>"),"") | AA5: =IFERROR(Tabla2[[#This Row],[Gatos Desp.]]/COUNTIF(Tabla2[[#This Row],[Vacunador]:[Anotador 2]],"<>"),"")
A6: 45467 | I6: =+Tabla2[[#This Row],[Total Perros Vac]]+Tabla2[[#This Row],[Perros No Vac]] -> 0 | J6: =+Tabla2[[#This Row],[Perro Vac DTS]]+Tabla2[[#This Row],[Perro Vac MVP]] -> 0 | O6: =+Tabla2[[#This Row],[Total Gatos Vac]]+Tabla2[[#This Row],[Gatos No Vac]] -> 0 | P6: =+Tabla2[[#This Row],[Gatos Vac DTS]]+Tabla2[[#This Row],[Gatos Vac MVP]] -> 0 | U6: =IFERROR(Tabla2[[#This Row],[Casas Visitadas]]/COUNTIF(Tabla2[[#This Row],[Vacunador]:[Anotador 2]],"<>"),"") | V6: =IFERROR(Tabla2[[#This Row],[Perros Censados]]/COUNTIF(Tabla2[[#This Row],[Vacunador]:[Anotador 2]],"<>"),"") | W6: =IFERROR(SUM(Tabla2[[#This Row],[Perro Vac DTS]],Tabla2[[#This Row],[Perro Vac MVP]])/COUNTIF(Tabla2[[#This Row],[Vacunador]:[Anotador 2]],"<>"),"") | X6: =IFERROR(Tabla2[[#This Row],[Gatos Censados]]/COUNTIF(Tabla2[[#This Row],[Vacunador]:[Anotador 2]],"<>"),"") | Y6: =IFERROR(SUM(Tabla2[[#This Row],[Gatos Vac DTS]],Tabla2[[#This Row],[Gatos Vac MVP]])/COUNTIF(Tabla2[[#This Row],[Vacunador]:[Anotador 2]],"<>"),"") | Z6: =IFERROR(Tabla2[[#This Row],[Perros Desp.]]/COUNTIF(Tabla2[[#This Row],[Vacunador]:[Anotador 2]],"<>"),"") | AA6: =IFERROR(Tabla2[[#This Row],[Gatos Desp.]]/COUNTIF(Tabla2[[#This Row],[Vacunador]:[Anotador 2]],"<>"),"")
A7: 45468 | I7: =+Tabla2[[#This Row],[Total Perros Vac]]+Tabla2[[#This Row],[Perros No Vac]] -> 0 | J7: =+Tabla2[[#This Row],[Perro Vac DTS]]+Tabla2[[#This Row],[Perro Vac MVP]] -> 0 | O7: =+Tabla2[[#This Row],[Total Gatos Vac]]+Tabla2[[#This Row],[Gatos No Vac]] -> 0 | P7: =+Tabla2[[#This Row],[Gatos Vac DTS]]+Tabla2[[#This Row],[Gatos Vac MVP]] -> 0 | U7: =IFERROR(Tabla2[[#This Row],[Casas Visitadas]]/COUNTIF(Tabla2[[#This Row],[Vacunador]:[Anotador 2]],"<>"),"") | V7: =IFERROR(Tabla2[[#This Row],[Perros Censados]]/COUNTIF(Tabla2[[#This Row],[Vacunador]:[Anotador 2]],"<>"),"") | W7: =IFERROR(SUM(Tabla2[[#This Row],[Perro Vac DTS]],Tabla2[[#This Row],[Perro Vac MVP]])/COUNTIF(Tabla2[[#This Row],[Vacunador]:[Anotador 2]],"<>"),"") | X7: =IFERROR(Tabla2[[#This Row],[Gatos Censados]]/COUNTIF(Tabla2[[#This Row],[Vacunador]:[Anotador 2]],"<>"),"") | Y7: =IFERROR(SUM(Tabla2[[#This Row],[Gatos Vac DTS]],Tabla2[[#This Row],[Gatos Vac MVP]])/COUNTIF(Tabla2[[#This Row],[Vacunador]:[Anotador 2]],"<>"),"") | Z7: =IFERROR(Tabla2[[#This Row],[Perros Desp.]]/COUNTIF(Tabla2[[#This Row],[Vacunador]:[Anotador 2]],"<>"),"") | AA7: =IFERROR(Tabla2[[#This Row],[Gatos Desp.]]/COUNTIF(Tabla2[[#This Row],[Vacunador]:[Anotador 2]],"<>"),"")
A8: 45469 | I8: =+Tabla2[[#This Row],[Total Perros Vac]]+Tabla2[[#This Row],[Perros No Vac]] -> 0 | J8: =+Tabla2[[#This Row],[Perro Vac DTS]]+Tabla2[[#This Row],[Perro Vac MVP]] -> 0 | O8: =+Tabla2[[#This Row],[Total Gatos Vac]]+Tabla2[[#This Row],[Gatos No Vac]] -> 0 | P8: =+Tabla2[[#This Row],[Gatos Vac DTS]]+Tabla2[[#This Row],[Gatos Vac MVP]] -> 0 | U8: =IFERROR(Tabla2[[#This Row],[Casas Visitadas]]/COUNTIF(Tabla2[[#This Row],[Vacunador]:[Anotador 2]],"<>"),"") | V8: =IFERROR(Tabla2[[#This Row],[Perros Censados]]/COUNTIF(Tabla2[[#This Row],[Vacunador]:[Anotador 2]],"<>"),"") | W8: =IFERROR(SUM(Tabla2[[#This Row],[Perro Vac DTS]],Tabla2[[#This Row],[Perro Vac MVP]])/COUNTIF(Tabla2[[#This Row],[Vacunador]:[Anotador 2]],"<>"),"") | X8: =IFERROR(Tabla2[[#This Row],[Gatos Censados]]/COUNTIF(Tabla2[[#This Row],[Vacunador]:[Anotador 2]],"<>"),"") | Y8: =IFERROR(SUM(Tabla2[[#This Row],[Gatos Vac DTS]],Tabla2[[#This Row],[Gatos Vac MVP]])/COUNTIF(Tabla2[[#This Row],[Vacunador]:[Anotador 2]],"<>"),"") | Z8: =IFERROR(Tabla2[[#This Row],[Perros Desp.]]/COUNTIF(Tabla2[[#This Row],[Vacunador]:[Anotador 2]],"<>"),"") | AA8: =IFERROR(Tabla2[[#This Row],[Gatos Desp.]]/COUNTIF(Tabla2[[#This Row],[Vacunador]:[Anotador 2]],"<>"),"")
A9: 45470 | I9: =+Tabla2[[#This Row],[Total Perros Vac]]+Tabla2[[#This Row],[Perros No Vac]] -> 0 | J9: =+Tabla2[[#This Row],[Perro Vac DTS]]+Tabla2[[#This Row],[Perro Vac MVP]] -> 0 | O9: =+Tabla2[[#This Row],[Total Gatos Vac]]+Tabla2[[#This Row],[Gatos No Vac]] -> 0 | P9: =+Tabla2[[#This Row],[Gatos Vac DTS]]+Tabla2[[#This Row],[Gatos Vac MVP]] -> 0 | U9: =IFERROR(Tabla2[[#This Row],[Casas Visitadas]]/COUNTIF(Tabla2[[#This Row],[Vacunador]:[Anotador 2]],"<>"),"") | V9: =IFERROR(Tabla2[[#This Row],[Perros Censados]]/COUNTIF(Tabla2[[#This Row],[Vacunador]:[Anotador 2]],"<>"),"") | W9: =IFERROR(SUM(Tabla2[[#This Row],[Perro Vac DTS]],Tabla2[[#This Row],[Perro Vac MVP]])/COUNTIF(Tabla2[[#This Row],[Vacunador]:[Anotador 2]],"<>"),"") | X9: =IFERROR(Tabla2[[#This Row],[Gatos Censados]]/COUNTIF(Tabla2[[#This Row],[Vacunador]:[Anotador 2]],"<>"),"") | Y9: =IFERROR(SUM(Tabla2[[#This Row],[Gatos Vac DTS]],Tabla2[[#This Row],[Gatos Vac MVP]])/COUNTIF(Tabla2[[#This Row],[Vacunador]:[Anotador 2]],"<>"),"") | Z9: =IFERROR(Tabla2[[#This Row],[Perros Desp.]]/COUNTIF(Tabla2[[#This Row],[Vacunador]:[Anotador 2]],"<>"),"") | AA9: =IFERROR(Tabla2[[#This Row],[Gatos Desp.]]/COUNTIF(Tabla2[[#This Row],[Vacunador]:[Anotador 2]],"<>"),"")
A10: 45471 | I10: =+Tabla2[[#This Row],[Total Perros Vac]]+Tabla2[[#This Row],[Perros No Vac]] -> 0 | J10: =+Tabla2[[#This Row],[Perro Vac DTS]]+Tabla2[[#This Row],[Perro Vac MVP]] -> 0 | O10: =+Tabla2[[#This Row],[Total Gatos Vac]]+Tabla2[[#This Row],[Gatos No Vac]] -> 0 | P10: =+Tabla2[[#This Row],[Gatos Vac DTS]]+Tabla2[[#This Row],[Gatos Vac MVP]] -> 0 | U10: =IFERROR(Tabla2[[#This Row],[Casas Visitadas]]/COUNTIF(Tabla2[[#This Row],[Vacunador]:[Anotador 2]],"<>"),"") | V10: =IFERROR(Tabla2[[#This Row],[Perros Censados]]/COUNTIF(Tabla2[[#This Row],[Vacunador]:[Anotador 2]],"<>"),"") | W10: =IFERROR(SUM(Tabla2[[#This Row],[Perro Vac DTS]],Tabla2[[#This Row],[Perro Vac MVP]])/COUNTIF(Tabla2[[#This Row],[Vacunador]:[Anotador 2]],"<>"),"") | X10: =IFERROR(Tabla2[[#This Row],[Gatos Censados]]/COUNTIF(Tabla2[[#This Row],[Vacunador]:[Anotador 2]],"<>"),"") | Y10: =IFERROR(SUM(Tabla2[[#This Row],[Gatos Vac DTS]],Tabla2[[#This Row],[Gatos Vac MVP]])/COUNTIF(Tabla2[[#This Row],[Vacunador]:[Anotador 2]],"<>"),"") | Z10: =IFERROR(Tabla2[[#This Row],[Perros Desp.]]/COUNTIF(Tabla2[[#This Row],[Vacunador]:[Anotador 2]],"<>"),"") | AA10: =IFERROR(Tabla2[[#This Row],[Gatos Desp.]]/COUNTIF(Tabla2[[#This Row],[Vacunador]:[Anotador 2]],"<>"),"")
A11: 45472 | I11: =+Tabla2[[#This Row],[Total Perros Vac]]+Tabla2[[#This Row],[Perros No Vac]] -> 0 | J11: =+Tabla2[[#This Row],[Perro Vac DTS]]+Tabla2[[#This Row],[Perro Vac MVP]] -> 0 | O11: =+Tabla2[[#This Row],[Total Gatos Vac]]+Tabla2[[#This Row],[Gatos No Vac]] -> 0 | P11: =+Tabla2[[#This Row],[Gatos Vac DTS]]+Tabla2[[#This Row],[Gatos Vac MVP]] -> 0 | U11: =IFERROR(Tabla2[[#This Row],[Casas Visitadas]]/COUNTIF(Tabla2[[#This Row],[Vacunador]:[Anotador 2]],"<>"),"") | V11: =IFERROR(Tabla2[[#This Row],[Perros Censados]]/COUNTIF(Tabla2[[#This Row],[Vacunador]:[Anotador 2]],"<>"),"") | W11: =IFERROR(SUM(Tabla2[[#This Row],[Perro Vac DTS]],Tabla2[[#This Row],[Perro Vac MVP]])/COUNTIF(Tabla2[[#This Row],[Vacunador]:[Anotador 2]],"<>"),"") | X11: =IFERROR(Tabla2[[#This Row],[Gatos Censados]]/COUNTIF(Tabla2[[#This Row],[Vacunador]:[Anotador 2]],"<>"),"") | Y11: =IFERROR(SUM(Tabla2[[#This Row],[Gatos Vac DTS]],Tabla2[[#This Row],[Gatos Vac MVP]])/COUNTIF(Tabla2[[#This Row],[Vacunador]:[Anotador 2]],"<>"),"") | Z11: =IFERROR(Tabla2[[#This Row],[Perros Desp.]]/COUNTIF(Tabla2[[#This Row],[Vacunador]:[Anotador 2]],"<>"),"") | AA11: =IFERROR(Tabla2[[#This Row],[Gatos Desp.]]/COUNTIF(Tabla2[[#This Row],[Vacunador]:[Anotador 2]],"<>"),"")
A12: 45473 | I12: =+Tabla2[[#This Row],[Total Perros Vac]]+Tabla2[[#This Row],[Perros No Vac]] -> 0 | J12: =+Tabla2[[#This Row],[Perro Vac DTS]]+Tabla2[[#This Row],[Perro Vac MVP]] -> 0 | O12: =+Tabla2[[#This Row],[Total Gatos Vac]]+Tabla2[[#This Row],[Gatos No Vac]] -> 0 | P12: =+Tabla2[[#This Row],[Gatos Vac DTS]]+Tabla2[[#This Row],[Gatos Vac MVP]] -> 0 | U12: =IFERROR(Tabla2[[#This Row],[Casas Visitadas]]/COUNTIF(Tabla2[[#This Row],[Vacunador]:[Anotador 2]],"<>"),"") | V12: =IFERROR(Tabla2[[#This Row],[Perros Censados]]/COUNTIF(Tabla2[[#This Row],[Vacunador]:[Anotador 2]],"<>"),"") | W12: =IFERROR(SUM(Tabla2[[#This Row],[Perro Vac DTS]],Tabla2[[#This Row],[Perro Vac MVP]])/COUNTIF(Tabla2[[#This Row],[Vacunador]:[Anotador 2]],"<>"),"") | X12: =IFERROR(Tabla2[[#This Row],[Gatos Censados]]/COUNTIF(Tabla2[[#This Row],[Vacunador]:[Anotador 2]],"<>"),"") | Y12: =IFERROR(SUM(Tabla2[[#This Row],[Gatos Vac DTS]],Tabla2[[#This Row],[Gatos Vac MVP]])/COUNTIF(Tabla2[[#This Row],[Vacunador]:[Anotador 2]],"<>"),"") | Z12: =IFERROR(Tabla2[[#This Row],[Perros Desp.]]/COUNTIF(Tabla2[[#This Row],[Vacunador]:[Anotador 2]],"<>"),"") | AA12: =IFERROR(Tabla2[[#This Row],[Gatos Desp.]]/COUNTIF(Tabla2[[#This Row],[Vacunador]:[Anotador 2]],"<>"),"")
A13: 45474 | I13: =+Tabla2[[#This Row],[Total Perros Vac]]+Tabla2[[#This Row],[Perros No Vac]] -> 0 | J13: =+Tabla2[[#This Row],[Perro Vac DTS]]+Tabla2[[#This Row],[Perro Vac MVP]] -> 0 | O13: =+Tabla2[[#This Row],[Total Gatos Vac]]+Tabla2[[#This Row],[Gatos No Vac]] -> 0 | P13: =+Tabla2[[#This Row],[Gatos Vac DTS]]+Tabla2[[#This Row],[Gatos Vac MVP]] -> 0 | U13: =IFERROR(Tabla2[[#This Row],[Casas Visitadas]]/COUNTIF(Tabla2[[#This Row],[Vacunador]:[Anotador 2]],"<>"),"") | V13: =IFERROR(Tabla2[[#This Row],[Perros Censados]]/COUNTIF(Tabla2[[#This Row],[Vacunador]:[Anotador 2]],"<>"),"") | W13: =IFERROR(SUM(Tabla2[[#This Row],[Perro Vac DTS]],Tabla2[[#This Row],[Perro Vac MVP]])/COUNTIF(Tabla2[[#This Row],[Vacunador]:[Anotador 2]],"<>"),"") | X13: =IFERROR(Tabla2[[#This Row],[Gatos Censados]]/COUNTIF(Tabla2[[#This Row],[Vacunador]:[Anotador 2]],"<>"),"") | Y13: =IFERROR(SUM(Tabla2[[#This Row],[Gatos Vac DTS]],Tabla2[[#This Row],[Gatos Vac MVP]])/COUNTIF(Tabla2[[#This Row],[Vacunador]:[Anotador 2]],"<>"),"") | Z13: =IFERROR(Tabla2[[#This Row],[Perros Desp.]]/COUNTIF(Tabla2[[#This Row],[Vacunador]:[Anotador 2]],"<>"),"") | AA13: =IFERROR(Tabla2[[#This Row],[Gatos Desp.]]/COUNTIF(Tabla2[[#This Row],[Vacunador]:[Anotador 2]],"<>"),"")
A14: 45475 | I14: =+Tabla2[[#This Row],[Total Perros Vac]]+Tabla2[[#This Row],[Perros No Vac]] -> 0 | J14: =+Tabla2[[#This Row],[Perro Vac DTS]]+Tabla2[[#This Row],[Perro Vac MVP]] -> 0 | O14: =+Tabla2[[#This Row],[Total Gatos Vac]]+Tabla2[[#This Row],[Gatos No Vac]] -> 0 | P14: =+Tabla2[[#This Row],[Gatos Vac DTS]]+Tabla2[[#This Row],[Gatos Vac MVP]] -> 0 | U14: =IFERROR(Tabla2[[#This Row],[Casas Visitadas]]/COUNTIF(Tabla2[[#This Row],[Vacunador]:[Anotador 2]],"<>"),"") | V14: =IFERROR(Tabla2[[#This Row],[Perros Censados]]/COUNTIF(Tabla2[[#This Row],[Vacunador]:[Anotador 2]],"<>"),"") | W14: =IFERROR(SUM(Tabla2[[#This Row],[Perro Vac DTS]],Tabla2[[#This Row],[Perro Vac MVP]])/COUNTIF(Tabla2[[#This Row],[Vacunador]:[Anotador 2]],"<>"),"") | X14: =IFERROR(Tabla2[[#This Row],[Gatos Censados]]/COUNTIF(Tabla2[[#This Row],[Vacunador]:[Anotador 2]],"<>"),"") | Y14: =IFERROR(SUM(Tabla2[[#This Row],[Gatos Vac DTS]],Tabla2[[#This Row],[Gatos Vac MVP]])/COUNTIF(Tabla2[[#This Row],[Vacunador]:[Anotador 2]],"<>"),"") | Z14: =IFERROR(Tabla2[[#This Row],[Perros Desp.]]/COUNTIF(Tabla2[[#This Row],[Vacunador]:[Anotador 2]],"<>"),"") | AA14: =IFERROR(Tabla2[[#This Row],[Gatos Desp.]]/COUNTIF(Tabla2[[#This Row],[Vacunador]:[Anotador 2]],"<>"),"")
A15: 45476 | B15: Rocio Arana | C15: Donis Herazo | F15: V.C.C. | G15: Pradera | H15: 34 | I15: =+Tabla2[[#This Row],[Total Perros Vac]]+Tabla2[[#This Row],[Perros No Vac]] -> 28 | J15: =+Tabla2[[#This Row],[Perro Vac DTS]]+Tabla2[[#This Row],[Perro Vac MVP]] -> 28 | K15: 28 | L15: 0 | M15: 0 | O15: =+Tabla2[[#This Row],[Total Gatos Vac]]+Tabla2[[#This Row],[Gatos No Vac]] -> 22 | P15: =+Tabla2[[#This Row],[Gatos Vac DTS]]+Tabla2[[#This Row],[Gatos Vac MVP]] -> 22 | Q15: 22 | R15: 0 | S15: 0 | U15: =IFERROR(Tabla2[[#This Row],[Casas Visitadas]]/COUNTIF(Tabla2[[#This Row],[Vacunador]:[Anotador 2]],"<>"),"") -> 17 | V15: =IFERROR(Tabla2[[#This Row],[Perros Censados]]/COUNTIF(Tabla2[[#This Row],[Vacunador]:[Anotador 2]],"<>"),"") -> 14 | W15: =IFERROR(SUM(Tabla2[[#This Row],[Perro Vac DTS]],Tabla2[[#This Row],[Perro Vac MVP]])/COUNTIF(Tabla2[[#This Row],[Vacunador]:[Anotador 2]],"<>"),"") -> 14 | X15: =IFERROR(Tabla2[[#This Row],[Gatos Censados]]/COUNTIF(Tabla2[[#This Row],[Vacunador]:[Anotador 2]],"<>"),"") -> 11 | Y15: =IFERROR(SUM(Tabla2[[#This Row],[Gatos Vac DTS]],Tabla2[[#This Row],[Gatos Vac MVP]])/COUNTIF(Tabla2[[#This Row],[Vacunador]:[Anotador 2]],"<>"),"") -> 11 | Z15: =IFERROR(Tabla2[[#This Row],[Perros Desp.]]/COUNTIF(Tabla2[[#This Row],[Vacunador]:[Anotador 2]],"<>"),"") -> 0 | AA15: =IFERROR(Tabla2[[#This Row],[Gatos Desp.]]/COUNTIF(Tabla2[[#This Row],[Vacunador]:[Anotador 2]],"<>"),"") -> 0
A16: 45477 | B16: Rocio Arana | C16: Donis Herazo | F16: V.C.C. | G16: Pradera | H16: 37 | I16: =+Tabla2[[#This Row],[Total Perros Vac]]+Tabla2[[#This Row],[Perros No Vac]] -> 27 | J16: =+Tabla2[[#This Row],[Perro Vac DTS]]+Tabla2[[#This Row],[Perro Vac MVP]] -> 27 | K16: 27 | L16: 0 | M16: 0 | O16: =+Tabla2[[#This Row],[Total Gatos Vac]]+Tabla2[[#This Row],[Gatos No Vac]] -> 28 | P16: =+Tabla2[[#This Row],[Gatos Vac DTS]]+Tabla2[[#This Row],[Gatos Vac MVP]] -> 28 | Q16: 28 | R16: 0 | S16: 0 | U16: =IFERROR(Tabla2[[#This Row],[Casas Visitadas]]/COUNTIF(Tabla2[[#This Row],[Vacunador]:[Anotador 2]],"<>"),"") -> 18.5 | V16: =IFERROR(Tabla2[[#This Row],[Perros Censados]]/COUNTIF(Tabla2[[#This Row],[Vacunador]:[Anotador 2]],"<>"),"") -> 13.5 | W16: =IFERROR(SUM(Tabla2[[#This Row],[Perro Vac DTS]],Tabla2[[#This Row],[Perro Vac MVP]])/COUNTIF(Tabla2[[#This Row],[Vacunador]:[Anotador 2]],"<>"),"") -> 13.5 | X16: =IFERROR(Tabla2[[#This Row],[Gatos Censados]]/COUNTIF(Tabla2[[#This Row],[Vacunador]:[Anotador 2]],"<>"),"") -> 14 | Y16: =IFERROR(SUM(Tabla2[[#This Row],[Gatos Vac DTS]],Tabla2[[#This Row],[Gatos Vac MVP]])/COUNTIF(Tabla2[[#This Row],[Vacunador]:[Anotador 2]],"<>"),"") -> 14 | Z16: =IFERROR(Tabla2[[#This Row],[Perros Desp.]]/COUNTIF(Tabla2[[#This Row],[Vacunador]:[Anotador 2]],"<>"),"") -> 0 | AA16: =IFERROR(Tabla2[[#This Row],[Gatos Desp.]]/COUNTIF(Tabla2[[#This Row],[Vacunador]:[Anotador 2]],"<>"),"") -> 0
A17: 45478 | I17: =+Tabla2[[#This Row],[Total Perros Vac]]+Tabla2[[#This Row],[Perros No Vac]] -> 0 | J17: =+Tabla2[[#This Row],[Perro Vac DTS]]+Tabla2[[#This Row],[Perro Vac MVP]] -> 0 | O17: =+Tabla2[[#This Row],[Total Gatos Vac]]+Tabla2[[#This Row],[Gatos No Vac]] -> 0 | P17: =+Tabla2[[#This Row],[Gatos Vac DTS]]+Tabla2[[#This Row],[Gatos Vac MVP]] -> 0 | U17: =IFERROR(Tabla2[[#This Row],[Casas Visitadas]]/COUNTIF(Tabla2[[#This Row],[Vacunador]:[Anotador 2]],"<>"),"") | V17: =IFERROR(Tabla2[[#This Row],[Perros Censados]]/COUNTIF(Tabla2[[#This Row],[Vacunador]:[Anotador 2]],"<>"),"") | W17: =IFERROR(SUM(Tabla2[[#This Row],[Perro Vac DTS]],Tabla2[[#This Row],[Perro Vac MVP]])/COUNTIF(Tabla2[[#This Row],[Vacunador]:[Anotador 2]],"<>"),"") | X17: =IFERROR(Tabla2[[#This Row],[Gatos Censados]]/COUNTIF(Tabla2[[#This Row],[Vacunador]:[Anotador 2]],"<>"),"") | Y17: =IFERROR(SUM(Tabla2[[#This Row],[Gatos Vac DTS]],Tabla2[[#This Row],[Gatos Vac MVP]])/COUNTIF(Tabla2[[#This Row],[Vacunador]:[Anotador 2]],"<>"),"") | Z17: =IFERROR(Tabla2[[#This Row],[Perros Desp.]]/COUNTIF(Tabla2[[#This Row],[Vacunador]:[Anotador 2]],"<>"),"") | AA17: =IFERROR(Tabla2[[#This Row],[Gatos Desp.]]/COUNTIF(Tabla2[[#This Row],[Vacunador]:[Anotador 2]],"<>"),"")
A18: 45479 | I18: =+Tabla2[[#This Row],[Total Perros Vac]]+Tabla2[[#This Row],[Perros No Vac]] -> 0 | J18: =+Tabla2[[#This Row],[Perro Vac DTS]]+Tabla2[[#This Row],[Perro Vac MVP]] -> 0 | O18: =+Tabla2[[#This Row],[Total Gatos Vac]]+Tabla2[[#This Row],[Gatos No Vac]] -> 0 | P18: =+Tabla2[[#This Row],[Gatos Vac DTS]]+Tabla2[[#This Row],[Gatos Vac MVP]] -> 0 | U18: =IFERROR(Tabla2[[#This Row],[Casas Visitadas]]/COUNTIF(Tabla2[[#This Row],[Vacunador]:[Anotador 2]],"<>"),"") | V18: =IFERROR(Tabla2[[#This Row],[Perros Censados]]/COUNTIF(Tabla2[[#This Row],[Vacunador]:[Anotador 2]],"<>"),"") | W18: =IFERROR(SUM(Tabla2[[#This Row],[Perro Vac DTS]],Tabla2[[#This Row],[Perro Vac MVP]])/COUNTIF(Tabla2[[#This Row],[Vacunador]:[Anotador 2]],"<>"),"") | X18: =IFERROR(Tabla2[[#This Row],[Gatos Censados]]/COUNTIF(Tabla2[[#This Row],[Vacunador]:[Anotador 2]],"<>"),"") | Y18: =IFERROR(SUM(Tabla2[[#This Row],[Gatos Vac DTS]],Tabla2[[#This Row],[Gatos Vac MVP]])/COUNTIF(Tabla2[[#This Row],[Vacunador]:[Anotador 2]],"<>"),"") | Z18: =IFERROR(Tabla2[[#This Row],[Perros Desp.]]/COUNTIF(Tabla2[[#This Row],[Vacunador]:[Anotador 2]],"<>"),"") | AA18: =IFERROR(Tabla2[[#This Row],[Gatos Desp.]]/COUNTIF(Tabla2[[#This Row],[Vacunador]:[Anotador 2]],"<>"),"")
A19: 45480 | I19: =+Tabla2[[#This Row],[Total Perros Vac]]+Tabla2[[#This Row],[Perros No Vac]] -> 0 | J19: =+Tabla2[[#This Row],[Perro Vac DTS]]+Tabla2[[#This Row],[Perro Vac MVP]] -> 0 | O19: =+Tabla2[[#This Row],[Total Gatos Vac]]+Tabla2[[#This Row],[Gatos No Vac]] -> 0 | P19: =+Tabla2[[#This Row],[Gatos Vac DTS]]+Tabla2[[#This Row],[Gatos Vac MVP]] -> 0 | U19: =IFERROR(Tabla2[[#This Row],[Casas Visitadas]]/COUNTIF(Tabla2[[#This Row],[Vacunador]:[Anotador 2]],"<>"),"") | V19: =IFERROR(Tabla2[[#This Row],[Perros Censados]]/COUNTIF(Tabla2[[#This Row],[Vacunador]:[Anotador 2]],"<>"),"") | W19: =IFERROR(SUM(Tabla2[[#This Row],[Perro Vac DTS]],Tabla2[[#This Row],[Perro Vac MVP]])/COUNTIF(Tabla2[[#This Row],[Vacunador]:[Anotador 2]],"<>"),"") | X19: =IFERROR(Tabla2[[#This Row],[Gatos Censados]]/COUNTIF(Tabla2[[#This Row],[Vacunador]:[Anotador 2]],"<>"),"") | Y19: =IFERROR(SUM(Tabla2[[#This Row],[Gatos Vac DTS]],Tabla2[[#This Row],[Gatos Vac MVP]])/COUNTIF(Tabla2[[#This Row],[Vacunador]:[Anotador 2]],"<>"),"") | Z19: =IFERROR(Tabla2[[#This Row],[Perros Desp.]]/COUNTIF(Tabla2[[#This Row],[Vacunador]:[Anotador 2]],"<>"),"") | AA19: =IFERROR(Tabla2[[#This Row],[Gatos Desp.]]/COUNTIF(Tabla2[[#This Row],[Vacunador]:[Anotador 2]],"<>"),"")
A20: 45481 | B20: Odalmis Diaz | C20: Yulisca Reales | D20: Donis Herazo | F20: V.C.C. | G20: NIEVES | H20: 34 | I20: =+Tabla2[[#This Row],[Total Perros Vac]]+Tabla2[[#This Row],[Perros No Vac]] -> 35 | J20: =+Tabla2[[#This Row],[Perro Vac DTS]]+Tabla2[[#This Row],[Perro Vac MVP]] -> 35 | K20: 35 | L20: 0 | M20: 0 | O20: =+Tabla2[[#This Row],[Total Gatos Vac]]+Tabla2[[#This Row],[Gatos No Vac]] -> 31 | P20: =+Tabla2[[#This Row],[Gatos Vac DTS]]+Tabla2[[#This Row],[Gatos Vac MVP]] -> 31 | Q20: 31 | R20: 0 | S20: 0 | U20: =IFERROR(Tabla2[[#This Row],[Casas Visitadas]]/COUNTIF(Tabla2[[#This Row],[Vacunador]:[Anotador 2]],"<>"),"") -> 11.333333 | V20: =IFERROR(Tabla2[[#This Row],[Perros Censados]]/COUNTIF(Tabla2[[#This Row],[Vacunador]:[Anotador 2]],"<>"),"") -> 11.666667 | W20: =IFERROR(SUM(Tabla2[[#This Row],[Perro Vac DTS]],Tabla2[[#This Row],[Perro Vac MVP]])/COUNTIF(Tabla2[[#This Row],[Vacunador]:[Anotador 2]],"<>"),"") -> 11.666667 | X20: =IFERROR(Tabla2[[#This Row],[Gatos Censados]]/COUNTIF(Tabla2[[#This Row],[Vacunador]:[Anotador 2]],"<>"),"") -> 10.333333 | Y20: =IFERROR(SUM(Tabla2[[#This Row],[Gatos Vac DTS]],Tabla2[[#This Row],[Gatos Vac MVP]])/COUNTIF(Tabla2[[#This Row],[Vacunador]:[Anotador 2]],"<>"),"") -> 10.333333 | Z20: =IFERROR(Tabla2[[#This Row],[Perros Desp.]]/COUNTIF(Tabla2[[#This Row],[Vacunador]:[Anotador 2]],"<>"),"") -> 0 | AA20: =IFERROR(Tabla2[[#This Row],[Gatos Desp.]]/COUNTIF(Tabla2[[#This Row],[Vacunador]:[Anotador 2]],"<>"),"") -> 0
A21: 45482 | B21: Alexis Martinez | C21: Donis Herazo | F21: V.C.C. | G21: NIEVES | H21: 36 | I21: =+Tabla2[[#This Row],[Total Perros Vac]]+Tabla2[[#This Row],[Perros No Vac]] -> 40 | J21: =+Tabla2[[#This Row],[Perro Vac DTS]]+Tabla2[[#This Row],[Perro Vac MVP]] -> 40 | K21: 40 | L21: 0 | M21: 0 | O21: =+Tabla2[[#This Row],[Total Gatos Vac]]+Tabla2[[#This Row],[Gatos No Vac]] -> 22 | P21: =+Tabla2[[#This Row],[Gatos Vac DTS]]+Tabla2[[#This Row],[Gatos Vac MVP]] -> 22 | Q21: 22 | R21: 0 | S21: 0 | U21: =IFERROR(Tabla2[[#This Row],[Casas Visitadas]]/COUNTIF(Tabla2[[#This Row],[Vacunador]:[Anotador 2]],"<>"),"") -> 12 | V21: =IFERROR(Tabla2[[#This Row],[Perros Censados]]/COUNTIF(Tabla2[[#This Row],[Vacunador]:[Anotador 2]],"<>"),"") -> 13.333333 | W21: =IFERROR(SUM(Tabla2[[#This Row],[Perro Vac DTS]],Tabla2[[#This Row],[Perro Vac MVP]])/COUNTIF(Tabla2[[#This Row],[Vacunador]:[Anotador 2]],"<>"),"") -> 13.333333 | X21: =IFERROR(Tabla2[[#This Row],[Gatos Censados]]/COUNTIF(Tabla2[[#This Row],[Vacunador]:[Anotador 2]],"<>"),"") -> 7.3333333 | Y21: =IFERROR(SUM(Tabla2[[#This Row],[Gatos Vac DTS]],Tabla2[[#This Row],[Gatos Vac MVP]])/COUNTIF(Tabla2[[#This Row],[Vacunador]:[Anotador 2]],"<>"),"") -> 7.3333333 | Z21: =IFERROR(Tabla2[[#This Row],[Perros Desp.]]/COUNTIF(Tabla2[[#This Row],[Vacunador]:[Anotador 2]],"<>"),"") -> 0 | AA21: =IFERROR(Tabla2[[#This Row],[Gatos Desp.]]/COUNTIF(Tabla2[[#This Row],[Vacunador]:[Anotador 2]],"<>"),"") -> 0
A22: 45483 | B22: Leonardo Cala | C22: Odalmis Diaz | D22: Donis Herazo | E22: STEFANY HERAZO | F22: V.C.C. | G22: NIEVES | H22: 15 | I22: =+Tabla2[[#This Row],[Total Perros Vac]]+Tabla2[[#This Row],[Perros No Vac]] -> 14 | J22: =+Tabla2[[#This Row],[Perro Vac DTS]]+Tabla2[[#This Row],[Perro Vac MVP]] -> 14 | K22: 14 | L22: 0 | M22: 0 | O22: =+Tabla2[[#This Row],[Total Gatos Vac]]+Tabla2[[#This Row],[Gatos No Vac]] -> 4 | P22: =+Tabla2[[#This Row],[Gatos Vac DTS]]+Tabla2[[#This Row],[Gatos Vac MVP]] -> 4 | Q22: 4 | R22: 0 | S22: 0 | U22: =IFERROR(Tabla2[[#This Row],[Casas Visitadas]]/COUNTIF(Tabla2[[#This Row],[Vacunador]:[Anotador 2]],"<>"),"") -> 3.75 | V22: =IFERROR(Tabla2[[#This Row],[Perros Censados]]/COUNTIF(Tabla2[[#This Row],[Vacunador]:[Anotador 2]],"<>"),"") -> 3.5 | W22: =IFERROR(SUM(Tabla2[[#This Row],[Perro Vac DTS]],Tabla2[[#This Row],[Perro Vac MVP]])/COUNTIF(Tabla2[[#This Row],[Vacunador]:[Anotador 2]],"<>"),"") -> 3.5 | X22: =IFERROR(Tabla2[[#This Row],[Gatos Censados]]/COUNTIF(Tabla2[[#This Row],[Vacunador]:[Anotador 2]],"<>"),"") -> 1 | Y22: =IFERROR(SUM(Tabla2[[#This Row],[Gatos Vac DTS]],Tabla2[[#This Row],[Gatos Vac MVP]])/COUNTIF(Tabla2[[#This Row],[Vacunador]:[Anotador 2]],"<>"),"") -> 1 | Z22: =IFERROR(Tabla2[[#This Row],[Perros Desp.]]/COUNTIF(Tabla2[[#This Row],[Vacunador]:[Anotador 2]],"<>"),"") -> 0 | AA22: =IFERROR(Tabla2[[#This Row],[Gatos Desp.]]/COUNTIF(Tabla2[[#This Row],[Vacunador]:[Anotador 2]],"<>"),"") -> 0
A23: 45484 | I23: =+Tabla2[[#This Row],[Total Perros Vac]]+Tabla2[[#This Row],[Perros No Vac]] -> 0 | J23: =+Tabla2[[#This Row],[Perro Vac DTS]]+Tabla2[[#This Row],[Perro Vac MVP]] -> 0 | O23: =+Tabla2[[#This Row],[Total Gatos Vac]]+Tabla2[[#This Row],[Gatos No Vac]] -> 0 | P23: =+Tabla2[[#This Row],[Gatos Vac DTS]]+Tabla2[[#This Row],[Gatos Vac MVP]] -> 0 | U23: =IFERROR(Tabla2[[#This Row],[Casas Visitadas]]/COUNTIF(Tabla2[[#This Row],[Vacunador]:[Anotador 2]],"<>"),"") | V23: =IFERROR(Tabla2[[#This Row],[Perros Censados]]/COUNTIF(Tabla2[[#This Row],[Vacunador]:[Anotador 2]],"<>"),"") | W23: =IFERROR(SUM(Tabla2[[#This Row],[Perro Vac DTS]],Tabla2[[#This Row],[Perro Vac MVP]])/COUNTIF(Tabla2[[#This Row],[Vacunador]:[Anotador 2]],"<>"),"") | X23: =IFERROR(Tabla2[[#This Row],[Gatos Censados]]/COUNTIF(Tabla2[[#This Row],[Vacunador]:[Anotador 2]],"<>"),"") | Y23: =IFERROR(SUM(Tabla2[[#This Row],[Gatos Vac DTS]],Tabla2[[#This Row],[Gatos Vac MVP]])/COUNTIF(Tabla2[[#This Row],[Vacunador]:[Anotador 2]],"<>"),"") | Z23: =IFERROR(Tabla2[[#This Row],[Perros Desp.]]/COUNTIF(Tabla2[[#This Row],[Vacunador]:[Anotador 2]],"<>"),"") | AA23: =IFERROR(Tabla2[[#This Row],[Gatos Desp.]]/COUNTIF(Tabla2[[#This Row],[Vacunador]:[Anotador 2]],"<>"),"")
A24: 45485 | B24: Ali Perez | C24: Donis Herazo | F24: V.C.C. | G24: OLIVO 2 | H24: 33 | I24: =+Tabla2[[#This Row],[Total Perros Vac]]+Tabla2[[#This Row],[Perros No Vac]] -> 33 | J24: =+Tabla2[[#This Row],[Perro Vac DTS]]+Tabla2[[#This Row],[Perro Vac MVP]] -> 33 | K24: 33 | L24: 0 | M24: 0 | O24: =+Tabla2[[#This Row],[Total Gatos Vac]]+Tabla2[[#This Row],[Gatos No Vac]] -> 26 | P24: =+Tabla2[[#This Row],[Gatos Vac DTS]]+Tabla2[[#This Row],[Gatos Vac MVP]] -> 26 | Q24: 26 | R24: 0 | S24: 0 | U24: =IFERROR(Tabla2[[#This Row],[Casas Visitadas]]/COUNTIF(Tabla2[[#This Row],[Vacunador]:[Anotador 2]],"<>"),"") -> 16.5 | V24: =IFERROR(Tabla2[[#This Row],[Perros Censados]]/COUNTIF(Tabla2[[#This Row],[Vacunador]:[Anotador 2]],"<>"),"") -> 16.5 | W24: =IFERROR(SUM(Tabla2[[#This Row],[Perro Vac DTS]],Tabla2[[#This Row],[Perro Vac MVP]])/COUNTIF(Tabla2[[#This Row],[Vacunador]:[Anotador 2]],"<>"),"") -> 16.5 | X24: =IFERROR(Tabla2[[#This Row],[Gatos Censados]]/COUNTIF(Tabla2[[#This Row],[Vacunador]:[Anotador 2]],"<>"),"") -> 13 | Y24: =IFERROR(SUM(Tabla2[[#This Row],[Gatos Vac DTS]],Tabla2[[#This Row],[Gatos Vac MVP]])/COUNTIF(Tabla2[[#This Row],[Vacunador]:[Anotador 2]],"<>"),"") -> 13 | Z24: =IFERROR(Tabla2[[#This Row],[Perros Desp.]]/COUNTIF(Tabla2[[#This Row],[Vacunador]:[Anotador 2]],"<>"),"") -> 0 | AA24: =IFERROR(Tabla2[[#This Row],[Gatos Desp.]]/COUNTIF(Tabla2[[#This Row],[Vacunador]:[Anotador 2]],"<>"),"") -> 0
A25: 45486 | I25: =+Tabla2[[#This Row],[Total Perros Vac]]+Tabla2[[#This Row],[Perros No Vac]] -> 0 | J25: =+Tabla2[[#This Row],[Perro Vac DTS]]+Tabla2[[#This Row],[Perro Vac MVP]] -> 0 | O25: =+Tabla2[[#This Row],[Total Gatos Vac]]+Tabla2[[#This Row],[Gatos No Vac]] -> 0 | P25: =+Tabla2[[#This Row],[Gatos Vac DTS]]+Tabla2[[#This Row],[Gatos Vac MVP]] -> 0 | U25: =IFERROR(Tabla2[[#This Row],[Casas Visitadas]]/COUNTIF(Tabla2[[#This Row],[Vacunador]:[Anotador 2]],"<>"),"") | V25: =IFERROR(Tabla2[[#This Row],[Perros Censados]]/COUNTIF(Tabla2[[#This Row],[Vacunador]:[Anotador 2]],"<>"),"") | W25: =IFERROR(SUM(Tabla2[[#This Row],[Perro Vac DTS]],Tabla2[[#This Row],[Perro Vac MVP]])/COUNTIF(Tabla2[[#This Row],[Vacunador]:[Anotador 2]],"<>"),"") | X25: =IFERROR(Tabla2[[#This Row],[Gatos Censados]]/COUNTIF(Tabla2[[#This Row],[Vacunador]:[Anotador 2]],"<>"),"") | Y25: =IFERROR(SUM(Tabla2[[#This Row],[Gatos Vac DTS]],Tabla2[[#This Row],[Gatos Vac MVP]])/COUNTIF(Tabla2[[#This Row],[Vacunador]:[Anotador 2]],"<>"),"") | Z25: =IFERROR(Tabla2[[#This Row],[Perros Desp.]]/COUNTIF(Tabla2[[#This Row],[Vacunador]:[Anotador 2]],"<>"),"") | AA25: =IFERROR(Tabla2[[#This Row],[Gatos Desp.]]/COUNTIF(Tabla2[[#This Row],[Vacunador]:[Anotador 2]],"<>"),"")
A26: 45487 | I26: =+Tabla2[[#This Row],[Total Perros Vac]]+Tabla2[[#This Row],[Perros No Vac]] -> 0 | J26: =+Tabla2[[#This Row],[Perro Vac DTS]]+Tabla2[[#This Row],[Perro Vac MVP]] -> 0 | O26: =+Tabla2[[#This Row],[Total Gatos Vac]]+Tabla2[[#This Row],[Gatos No Vac]] -> 0 | P26: =+Tabla2[[#This Row],[Gatos Vac DTS]]+Tabla2[[#This Row],[Gatos Vac MVP]] -> 0 | U26: =IFERROR(Tabla2[[#This Row],[Casas Visitadas]]/COUNTIF(Tabla2[[#This Row],[Vacunador]:[Anotador 2]],"<>"),"") | V26: =IFERROR(Tabla2[[#This Row],[Perros Censados]]/COUNTIF(Tabla2[[#This Row],[Vacunador]:[Anotador 2]],"<>"),"") | W26: =IFERROR(SUM(Tabla2[[#This Row],[Perro Vac DTS]],Tabla2[[#This Row],[Perro Vac MVP]])/COUNTIF(Tabla2[[#This Row],[Vacunador]:[Anotador 2]],"<>"),"") | X26: =IFERROR(Tabla2[[#This Row],[Gatos Censados]]/COUNTIF(Tabla2[[#This Row],[Vacunador]:[Anotador 2]],"<>"),"") | Y26: =IFERROR(SUM(Tabla2[[#This Row],[Gatos Vac DTS]],Tabla2[[#This Row],[Gatos Vac MVP]])/COUNTIF(Tabla2[[#This Row],[Vacunador]:[Anotador 2]],"<>"),"") | Z26: =IFERROR(Tabla2[[#This Row],[Perros Desp.]]/COUNTIF(Tabla2[[#This Row],[Vacunador]:[Anotador 2]],"<>"),"") | AA26: =IFERROR(Tabla2[[#This Row],[Gatos Desp.]]/COUNTIF(Tabla2[[#This Row],[Vacunador]:[Anotador 2]],"<>"),"")
A27: 45488 | I27: =+Tabla2[[#This Row],[Total Perros Vac]]+Tabla2[[#This Row],[Perros No Vac]] -> 0 | J27: =+Tabla2[[#This Row],[Perro Vac DTS]]+Tabla2[[#This Row],[Perro Vac MVP]] -> 0 | O27: =+Tabla2[[#This Row],[Total Gatos Vac]]+Tabla2[[#This Row],[Gatos No Vac]] -> 0 | P27: =+Tabla2[[#This Row],[Gatos Vac DTS]]+Tabla2[[#This Row],[Gatos Vac MVP]] -> 0 | U27: =IFERROR(Tabla2[[#This Row],[Casas Visitadas]]/COUNTIF(Tabla2[[#This Row],[Vacunador]:[Anotador 2]],"<>"),"") | V27: =IFERROR(Tabla2[[#This Row],[Perros Censados]]/COUNTIF(Tabla2[[#This Row],[Vacunador]:[Anotador 2]],"<>"),"") | W27: =IFERROR(SUM(Tabla2[[#This Row],[Perro Vac DTS]],Tabla2[[#This Row],[Perro Vac MVP]])/COUNTIF(Tabla2[[#This Row],[Vacunador]:[Anotador 2]],"<>"),"") | X27: =IFERROR(Tabla2[[#This Row],[Gatos Censados]]/COUNTIF(Tabla2[[#This Row],[Vacunador]:[Anotador 2]],"<>"),"") | Y27: =IFERROR(SUM(Tabla2[[#This Row],[Gatos Vac DTS]],Tabla2[[#This Row],[Gatos Vac MVP]])/COUNTIF(Tabla2[[#This Row],[Vacunador]:[Anotador 2]],"<>"),"") | Z27: =IFERROR(Tabla2[[#This Row],[Perros Desp.]]/COUNTIF(Tabla2[[#This Row],[Vacunador]:[Anotador 2]],"<>"),"") | AA27: =IFERROR(Tabla2[[#This Row],[Gatos Desp.]]/COUNTIF(Tabla2[[#This Row],[Vacunador]:[Anotador 2]],"<>"),"")
A28: 45489 | B28: Ali Perez | C28: Donis Herazo | F28: V.C.C. | G28: LOMA FRESCA | H28: 20 | I28: =+Tabla2[[#This Row],[Total Perros Vac]]+Tabla2[[#This Row],[Perros No Vac]] -> 23 | J28: =+Tabla2[[#This Row],[Perro Vac DTS]]+Tabla2[[#This Row],[Perro Vac MVP]] -> 23 | K28: 23 | L28: 0 | M28: 0 | O28: =+Tabla2[[#This Row],[Total Gatos Vac]]+Tabla2[[#This Row],[Gatos No Vac]] -> 15 | P28: =+Tabla2[[#This Row],[Gatos Vac DTS]]+Tabla2[[#This Row],[Gatos Vac MVP]] -> 15 | Q28: 15 | R28: 0 | S28: 0 | U28: =IFERROR(Tabla2[[#This Row],[Casas Visitadas]]/COUNTIF(Tabla2[[#This Row],[Vacunador]:[Anotador 2]],"<>"),"") -> 10 | V28: =IFERROR(Tabla2[[#This Row],[Perros Censados]]/COUNTIF(Tabla2[[#This Row],[Vacunador]:[Anotador 2]],"<>"),"") -> 11.5 | W28: =IFERROR(SUM(Tabla2[[#This Row],[Perro Vac DTS]],Tabla2[[#This Row],[Perro Vac MVP]])/COUNTIF(Tabla2[[#This Row],[Vacunador]:[Anotador 2]],"<>"),"") -> 11.5 | X28: =IFERROR(Tabla2[[#This Row],[Gatos Censados]]/COUNTIF(Tabla2[[#This Row],[Vacunador]:[Anotador 2]],"<>"),"") -> 7.5 | Y28: =IFERROR(SUM(Tabla2[[#This Row],[Gatos Vac DTS]],Tabla2[[#This Row],[Gatos Vac MVP]])/COUNTIF(Tabla2[[#This Row],[Vacunador]:[Anotador 2]],"<>"),"") -> 7.5 | Z28: =IFERROR(Tabla2[[#This Row],[Perros Desp.]]/COUNTIF(Tabla2[[#This Row],[Vacunador]:[Anotador 2]],"<>"),"") -> 0 | AA28: =IFERROR(Tabla2[[#This Row],[Gatos Desp.]]/COUNTIF(Tabla2[[#This Row],[Vacunador]:[Anotador 2]],"<>"),"") -> 0
A29: 45490 | B29: Ali Perez | C29: Donis Herazo | F29: V.C.C. | G29: OLIVO 2 | H29: 21 | I29: =+Tabla2[[#This Row],[Total Perros Vac]]+Tabla2[[#This Row],[Perros No Vac]] -> 22 | J29: =+Tabla2[[#This Row],[Perro Vac DTS]]+Tabla2[[#This Row],[Perro Vac MVP]] -> 22 | K29: 22 | L29: 0 | M29: 0 | O29: =+Tabla2[[#This Row],[Total Gatos Vac]]+Tabla2[[#This Row],[Gatos No Vac]] -> 29 | P29: =+Tabla2[[#This Row],[Gatos Vac DTS]]+Tabla2[[#This Row],[Gatos Vac MVP]] -> 29 | Q29: 29 | R29: 0 | S29: 0 | U29: =IFERROR(Tabla2[[#This Row],[Casas Visitadas]]/COUNTIF(Tabla2[[#This Row],[Vacunador]:[Anotador 2]],"<>"),"") -> 10.5 | V29: =IFERROR(Tabla2[[#This Row],[Perros Censados]]/COUNTIF(Tabla2[[#This Row],[Vacunador]:[Anotador 2]],"<>"),"") -> 11 | W29: =IFERROR(SUM(Tabla2[[#This Row],[Perro Vac DTS]],Tabla2[[#This Row],[Perro Vac MVP]])/COUNTIF(Tabla2[[#This Row],[Vacunador]:[Anotador 2]],"<>"),"") -> 11 | X29: =IFERROR(Tabla2[[#This Row],[Gatos Censados]]/COUNTIF(Tabla2[[#This Row],[Vacunador]:[Anotador 2]],"<>"),"") -> 14.5 | Y29: =IFERROR(SUM(Tabla2[[#This Row],[Gatos Vac DTS]],Tabla2[[#This Row],[Gatos Vac MVP]])/COUNTIF(Tabla2[[#This Row],[Vacunador]:[Anotador 2]],"<>"),"") -> 14.5 | Z29: =IFERROR(Tabla2[[#This Row],[Perros Desp.]]/COUNTIF(Tabla2[[#This Row],[Vacunador]:[Anotador 2]],"<>"),"") -> 0 | AA29: =IFERROR(Tabla2[[#This Row],[Gatos Desp.]]/COUNTIF(Tabla2[[#This Row],[Vacunador]:[Anotador 2]],"<>"),"") -> 0
A30: 45491 | B30: Ali Perez | C30: Donis Herazo | F30: J.B.A. | G30: SANTO DOMINGO | H30: 24 | I30: =+Tabla2[[#This Row],[Total Perros Vac]]+Tabla2[[#This Row],[Perros No Vac]] -> 33 | J30: =+Tabla2[[#This Row],[Perro Vac DTS]]+Tabla2[[#This Row],[Perro Vac MVP]] -> 33 | K30: 33 | L30: 0 | M30: 0 | O30: =+Tabla2[[#This Row],[Total Gatos Vac]]+Tabla2[[#This Row],[Gatos No Vac]] -> 7 | P30: =+Tabla2[[#This Row],[Gatos Vac DTS]]+Tabla2[[#This Row],[Gatos Vac MVP]] -> 7 | Q30: 7 | R30: 0 | S30: 0 | U30: =IFERROR(Tabla2[[#This Row],[Casas Visitadas]]/COUNTIF(Tabla2[[#This Row],[Vacunador]:[Anotador 2]],"<>"),"") -> 12 | V30: =IFERROR(Tabla2[[#This Row],[Perros Censados]]/COUNTIF(Tabla2[[#This Row],[Vacunador]:[Anotador 2]],"<>"),"") -> 16.5 | W30: =IFERROR(SUM(Tabla2[[#This Row],[Perro Vac DTS]],Tabla2[[#This Row],[Perro Vac MVP]])/COUNTIF(Tabla2[[#This Row],[Vacunador]:[Anotador 2]],"<>"),"") -> 16.5 | X30: =IFERROR(Tabla2[[#This Row],[Gatos Censados]]/COUNTIF(Tabla2[[#This Row],[Vacunador]:[Anotador 2]],"<>"),"") -> 3.5 | Y30: =IFERROR(SUM(Tabla2[[#This Row],[Gatos Vac DTS]],Tabla2[[#This Row],[Gatos Vac MVP]])/COUNTIF(Tabla2[[#This Row],[Vacunador]:[Anotador 2]],"<>"),"") -> 3.5 | Z30: =IFERROR(Tabla2[[#This Row],[Perros Desp.]]/COUNTIF(Tabla2[[#This Row],[Vacunador]:[Anotador 2]],"<>"),"") -> 0 | AA30: =IFERROR(Tabla2[[#This Row],[Gatos Desp.]]/COUNTIF(Tabla2[[#This Row],[Vacunador]:[Anotador 2]],"<>"),"") -> 0
A31: 45492 | B31: Ali Perez | C31: Donis Herazo | D31: Yulisca Reales | E31: YULISKA | F31: V.C.C. | G31: NIEVES | H31: 38 | I31: =+Tabla2[[#This Row],[Total Perros Vac]]+Tabla2[[#This Row],[Perros No Vac]] -> 58 | J31: =+Tabla2[[#This Row],[Perro Vac DTS]]+Tabla2[[#This Row],[Perro Vac MVP]] -> 58 | K31: 58 | L31: 0 | M31: 0 | O31: =+Tabla2[[#This Row],[Total Gatos Vac]]+Tabla2[[#This Row],[Gatos No Vac]] -> 27 | P31: =+Tabla2[[#This Row],[Gatos Vac DTS]]+Tabla2[[#This Row],[Gatos Vac MVP]] -> 27 | Q31: 27 | R31: 0 | S31: 0 | U31: =IFERROR(Tabla2[[#This Row],[Casas Visitadas]]/COUNTIF(Tabla2[[#This Row],[Vacunador]:[Anotador 2]],"<>"),"") -> 9.5 | V31: =IFERROR(Tabla2[[#This Row],[Perros Censados]]/COUNTIF(Tabla2[[#This Row],[Vacunador]:[Anotador 2]],"<>"),"") -> 14.5 | W31: =IFERROR(SUM(Tabla2[[#This Row],[Perro Vac DTS]],Tabla2[[#This Row],[Perro Vac MVP]])/COUNTIF(Tabla2[[#This Row],[Vacunador]:[Anotador 2]],"<>"),"") -> 14.5 | X31: =IFERROR(Tabla2[[#This Row],[Gatos Censados]]/COUNTIF(Tabla2[[#This Row],[Vacunador]:[Anotador 2]],"<>"),"") -> 6.75 | Y31: =IFERROR(SUM(Tabla2[[#This Row],[Gatos Vac DTS]],Tabla2[[#This Row],[Gatos Vac MVP]])/COUNTIF(Tabla2[[#This Row],[Vacunador]:[Anotador 2]],"<>"),"") -> 6.75 | Z31: =IFERROR(Tabla2[[#This Row],[Perros Desp.]]/COUNTIF(Tabla2[[#This Row],[Vacunador]:[Anotador 2]],"<>"),"") -> 0 | AA31: =IFERROR(Tabla2[[#This Row],[Gatos Desp.]]/COUNTIF(Tabla2[[#This Row],[Vacunador]:[Anotador 2]],"<>"),"") -> 0
A32: 45493 | I32: =+Tabla2[[#This Row],[Total Perros Vac]]+Tabla2[[#This Row],[Perros No Vac]] -> 0 | J32: =+Tabla2[[#This Row],[Perro Vac DTS]]+Tabla2[[#This Row],[Perro Vac MVP]] -> 0 | O32: =+Tabla2[[#This Row],[Total Gatos Vac]]+Tabla2[[#This Row],[Gatos No Vac]] -> 0 | P32: =+Tabla2[[#This Row],[Gatos Vac DTS]]+Tabla2[[#This Row],[Gatos Vac MVP]] -> 0 | U32: =IFERROR(Tabla2[[#This Row],[Casas Visitadas]]/COUNTIF(Tabla2[[#This Row],[Vacunador]:[Anotador 2]],"<>"),"") | V32: =IFERROR(Tabla2[[#This Row],[Perros Censados]]/COUNTIF(Tabla2[[#This Row],[Vacunador]:[Anotador 2]],"<>"),"") | W32: =IFERROR(SUM(Tabla2[[#This Row],[Perro Vac DTS]],Tabla2[[#This Row],[Perro Vac MVP]])/COUNTIF(Tabla2[[#This Row],[Vacunador]:[Anotador 2]],"<>"),"") | X32: =IFERROR(Tabla2[[#This Row],[Gatos Censados]]/COUNTIF(Tabla2[[#This Row],[Vacunador]:[Anotador 2]],"<>"),"") | Y32: =IFERROR(SUM(Tabla2[[#This Row],[Gatos Vac DTS]],Tabla2[[#This Row],[Gatos Vac MVP]])/COUNTIF(Tabla2[[#This Row],[Vacunador]:[Anotador 2]],"<>"),"") | Z32: =IFERROR(Tabla2[[#This Row],[Perros Desp.]]/COUNTIF(Tabla2[[#This Row],[Vacunador]:[Anotador 2]],"<>"),"") | AA32: =IFERROR(Tabla2[[#This Row],[Gatos Desp.]]/COUNTIF(Tabla2[[#This Row],[Vacunador]:[Anotador 2]],"<>"),"")
A33: 45494 | I33: =+Tabla2[[#This Row],[Total Perros Vac]]+Tabla2[[#This Row],[Perros No Vac]] -> 0 | J33: =+Tabla2[[#This Row],[Perro Vac DTS]]+Tabla2[[#This Row],[Perro Vac MVP]] -> 0 | O33: =+Tabla2[[#This Row],[Total Gatos Vac]]+Tabla2[[#This Row],[Gatos No Vac]] -> 0 | P33: =+Tabla2[[#This Row],[Gatos Vac DTS]]+Tabla2[[#This Row],[Gatos Vac MVP]] -> 0 | U33: =IFERROR(Tabla2[[#This Row],[Casas Visitadas]]/COUNTIF(Tabla2[[#This Row],[Vacunador]:[Anotador 2]],"<>"),"") | V33: =IFERROR(Tabla2[[#This Row],[Perros Censados]]/COUNTIF(Tabla2[[#This Row],[Vacunador]:[Anotador 2]],"<>"),"") | W33: =IFERROR(SUM(Tabla2[[#This Row],[Perro Vac DTS]],Tabla2[[#This Row],[Perro Vac MVP]])/COUNTIF(Tabla2[[#This Row],[Vacunador]:[Anotador 2]],"<>"),"") | X33: =IFERROR(Tabla2[[#This Row],[Gatos Censados]]/COUNTIF(Tabla2[[#This Row],[Vacunador]:[Anotador 2]],"<>"),"") | Y33: =IFERROR(SUM(Tabla2[[#This Row],[Gatos Vac DTS]],Tabla2[[#This Row],[Gatos Vac MVP]])/COUNTIF(Tabla2[[#This Row],[Vacunador]:[Anotador 2]],"<>"),"") | Z33: =IFERROR(Tabla2[[#This Row],[Perros Desp.]]/COUNTIF(Tabla2[[#This Row],[Vacunador]:[Anotador 2]],"<>"),"") | AA33: =IFERROR(Tabla2[[#This Row],[Gatos Desp.]]/COUNTIF(Tabla2[[#This Row],[Vacunador]:[Anotador 2]],"<>"),"")
A34: 45495 | B34: Ali Perez | C34: Donis Herazo | F34: V.C.C. | G34: TRUPILLO/REBOLO | H34: 24 | I34: =+Tabla2[[#This Row],[Total Perros Vac]]+Tabla2[[#This Row],[Perros No Vac]] -> 41 | J34: =+Tabla2[[#This Row],[Perro Vac DTS]]+Tabla2[[#This Row],[Perro Vac MVP]] -> 41 | K34: 41 | L34: 0 | M34: 0 | O34: =+Tabla2[[#This Row],[Total Gatos Vac]]+Tabla2[[#This Row],[Gatos No Vac]] -> 17 | P34: =+Tabla2[[#This Row],[Gatos Vac DTS]]+Tabla2[[#This Row],[Gatos Vac MVP]] -> 17 | Q34: 17 | R34: 0 | S34: 0 | U34: =IFERROR(Tabla2[[#This Row],[Casas Visitadas]]/COUNTIF(Tabla2[[#This Row],[Vacunador]:[Anotador 2]],"<>"),"") -> 12 | V34: =IFERROR(Tabla2[[#This Row],[Perros Censados]]/COUNTIF(Tabla2[[#This Row],[Vacunador]:[Anotador 2]],"<>"),"") -> 20.5 | W34: =IFERROR(SUM(Tabla2[[#This Row],[Perro Vac DTS]],Tabla2[[#This Row],[Perro Vac MVP]])/COUNTIF(Tabla2[[#This Row],[Vacunador]:[Anotador 2]],"<>"),"") -> 20.5 | X34: =IFERROR(Tabla2[[#This Row],[Gatos Censados]]/COUNTIF(Tabla2[[#This Row],[Vacunador]:[Anotador 2]],"<>"),"") -> 8.5 | Y34: =IFERROR(SUM(Tabla2[[#This Row],[Gatos Vac DTS]],Tabla2[[#This Row],[Gatos Vac MVP]])/COUNTIF(Tabla2[[#This Row],[Vacunador]:[Anotador 2]],"<>"),"") -> 8.5 | Z34: =IFERROR(Tabla2[[#This Row],[Perros Desp.]]/COUNTIF(Tabla2[[#This Row],[Vacunador]:[Anotador 2]],"<>"),"") -> 0 | AA34: =IFERROR(Tabla2[[#This Row],[Gatos Desp.]]/COUNTIF(Tabla2[[#This Row],[Vacunador]:[Anotador 2]],"<>"),"") -> 0
A35: 45496 | B35: Ali Perez | C35: Donis Herazo | F35: V.C.C. | G35: REBOLO | H35: 25 | I35: =+Tabla2[[#This Row],[Total Perros Vac]]+Tabla2[[#This Row],[Perros No Vac]] -> 35 | J35: =+Tabla2[[#This Row],[Perro Vac DTS]]+Tabla2[[#This Row],[Perro Vac MVP]] -> 35 | K35: 35 | L35: 0 | M35: 0 | O35: =+Tabla2[[#This Row],[Total Gatos Vac]]+Tabla2[[#This Row],[Gatos No Vac]] -> 28 | P35: =+Tabla2[[#This Row],[Gatos Vac DTS]]+Tabla2[[#This Row],[Gatos Vac MVP]] -> 28 | Q35: 28 | R35: 0 | S35: 0 | U35: =IFERROR(Tabla2[[#This Row],[Casas Visitadas]]/COUNTIF(Tabla2[[#This Row],[Vacunador]:[Anotador 2]],"<>"),"") -> 12.5 | V35: =IFERROR(Tabla2[[#This Row],[Perros Censados]]/COUNTIF(Tabla2[[#This Row],[Vacunador]:[Anotador 2]],"<>"),"") -> 17.5 | W35: =IFERROR(SUM(Tabla2[[#This Row],[Perro Vac DTS]],Tabla2[[#This Row],[Perro Vac MVP]])/COUNTIF(Tabla2[[#This Row],[Vacunador]:[Anotador 2]],"<>"),"") -> 17.5 | X35: =IFERROR(Tabla2[[#This Row],[Gatos Censados]]/COUNTIF(Tabla2[[#This Row],[Vacunador]:[Anotador 2]],"<>"),"") -> 14 | Y35: =IFERROR(SUM(Tabla2[[#This Row],[Gatos Vac DTS]],Tabla2[[#This Row],[Gatos Vac MVP]])/COUNTIF(Tabla2[[#This Row],[Vacunador]:[Anotador 2]],"<>"),"") -> 14 | Z35: =IFERROR(Tabla2[[#This Row],[Perros Desp.]]/COUNTIF(Tabla2[[#This Row],[Vacunador]:[Anotador 2]],"<>"),"") -> 0 | AA35: =IFERROR(Tabla2[[#This Row],[Gatos Desp.]]/COUNTIF(Tabla2[[#This Row],[Vacunador]:[Anotador 2]],"<>"),"") -> 0
A36: 45497 | B36: William Marquez | C36: Donis Herazo | F36: V.C.C. | G36: BOSQUE | H36: 32 | I36: =+Tabla2[[#This Row],[Total Perros Vac]]+Tabla2[[#This Row],[Perros No Vac]] -> 38 | J36: =+Tabla2[[#This Row],[Perro Vac DTS]]+Tabla2[[#This Row],[Perro Vac MVP]] -> 38 | K36: 38 | L36: 0 | M36: 0 | O36: =+Tabla2[[#This Row],[Total Gatos Vac]]+Tabla2[[#This Row],[Gatos No Vac]] -> 18 | P36: =+Tabla2[[#This Row],[Gatos Vac DTS]]+Tabla2[[#This Row],[Gatos Vac MVP]] -> 18 | Q36: 18 | R36: 0 | S36: 0 | U36: =IFERROR(Tabla2[[#This Row],[Casas Visitadas]]/COUNTIF(Tabla2[[#This Row],[Vacunador]:[Anotador 2]],"<>"),"") -> 16 | V36: =IFERROR(Tabla2[[#This Row],[Perros Censados]]/COUNTIF(Tabla2[[#This Row],[Vacunador]:[Anotador 2]],"<>"),"") -> 19 | W36: =IFERROR(SUM(Tabla2[[#This Row],[Perro Vac DTS]],Tabla2[[#This Row],[Perro Vac MVP]])/COUNTIF(Tabla2[[#This Row],[Vacunador]:[Anotador 2]],"<>"),"") -> 19 | X36: =IFERROR(Tabla2[[#This Row],[Gatos Censados]]/COUNTIF(Tabla2[[#This Row],[Vacunador]:[Anotador 2]],"<>"),"") -> 9 | Y36: =IFERROR(SUM(Tabla2[[#This Row],[Gatos Vac DTS]],Tabla2[[#This Row],[Gatos Vac MVP]])/COUNTIF(Tabla2[[#This Row],[Vacunador]:[Anotador 2]],"<>"),"") -> 9 | Z36: =IFERROR(Tabla2[[#This Row],[Perros Desp.]]/COUNTIF(Tabla2[[#This Row],[Vacunador]:[Anotador 2]],"<>"),"") -> 0 | AA36: =IFERROR(Tabla2[[#This Row],[Gatos Desp.]]/COUNTIF(Tabla2[[#This Row],[Vacunador]:[Anotador 2]],"<>"),"") -> 0
A37: 45498 | B37: Ali Perez | C37: Donis Herazo | F37: V.C.C. | G37: ANGELES 1 | H37: 38 | I37: =+Tabla2[[#This Row],[Total Perros Vac]]+Tabla2[[#This Row],[Perros No Vac]] -> 36 | J37: =+Tabla2[[#This Row],[Perro Vac DTS]]+Tabla2[[#This Row],[Perro Vac MVP]] -> 36 | K37: 36 | L37: 0 | M37: 0 | O37: =+Tabla2[[#This Row],[Total Gatos Vac]]+Tabla2[[#This Row],[Gatos No Vac]] -> 31 | P37: =+Tabla2[[#This Row],[Gatos Vac DTS]]+Tabla2[[#This Row],[Gatos Vac MVP]] -> 31 | Q37: 31 | R37: 0 | S37: 0 | U37: =IFERROR(Tabla2[[#This Row],[Casas Visitadas]]/COUNTIF(Tabla2[[#This Row],[Vacunador]:[Anotador 2]],"<>"),"") -> 19 | V37: =IFERROR(Tabla2[[#This Row],[Perros Censados]]/COUNTIF(Tabla2[[#This Row],[Vacunador]:[Anotador 2]],"<>"),"") -> 18 | W37: =IFERROR(SUM(Tabla2[[#This Row],[Perro Vac DTS]],Tabla2[[#This Row],[Perro Vac MVP]])/COUNTIF(Tabla2[[#This Row],[Vacunador]:[Anotador 2]],"<>"),"") -> 18 | X37: =IFERROR(Tabla2[[#This Row],[Gatos Censados]]/COUNTIF(Tabla2[[#This Row],[Vacunador]:[Anotador 2]],"<>"),"") -> 15.5 | Y37: =IFERROR(SUM(Tabla2[[#This Row],[Gatos Vac DTS]],Tabla2[[#This Row],[Gatos Vac MVP]])/COUNTIF(Tabla2[[#This Row],[Vacunador]:[Anotador 2]],"<>"),"") -> 15.5 | Z37: =IFERROR(Tabla2[[#This Row],[Perros Desp.]]/COUNTIF(Tabla2[[#This Row],[Vacunador]:[Anotador 2]],"<>"),"") -> 0 | AA37: =IFERROR(Tabla2[[#This Row],[Gatos Desp.]]/COUNTIF(Tabla2[[#This Row],[Vacunador]:[Anotador 2]],"<>"),"") -> 0
A38: 45499 | B38: Ali Perez | C38: Donis Herazo | F38: V.C.C. | G38: ANGELES 1 | H38: 32 | I38: =+Tabla2[[#This Row],[Total Perros Vac]]+Tabla2[[#This Row],[Perros No Vac]] -> 44 | J38: =+Tabla2[[#This Row],[Perro Vac DTS]]+Tabla2[[#This Row],[Perro Vac MVP]] -> 44 | K38: 44 | L38: 0 | M38: 0 | O38: =+Tabla2[[#This Row],[Total Gatos Vac]]+Tabla2[[#This Row],[Gatos No Vac]] -> 19 | P38: =+Tabla2[[#This Row],[Gatos Vac DTS]]+Tabla2[[#This Row],[Gatos Vac MVP]] -> 19 | Q38: 19 | R38: 0 | S38: 0 | U38: =IFERROR(Tabla2[[#This Row],[Casas Visitadas]]/COUNTIF(Tabla2[[#This Row],[Vacunador]:[Anotador 2]],"<>"),"") -> 16 | V38: =IFERROR(Tabla2[[#This Row],[Perros Censados]]/COUNTIF(Tabla2[[#This Row],[Vacunador]:[Anotador 2]],"<>"),"") -> 22 | W38: =IFERROR(SUM(Tabla2[[#This Row],[Perro Vac DTS]],Tabla2[[#This Row],[Perro Vac MVP]])/COUNTIF(Tabla2[[#This Row],[Vacunador]:[Anotador 2]],"<>"),"") -> 22 | X38: =IFERROR(Tabla2[[#This Row],[Gatos Censados]]/COUNTIF(Tabla2[[#This Row],[Vacunador]:[Anotador 2]],"<>"),"") -> 9.5 | Y38: =IFERROR(SUM(Tabla2[[#This Row],[Gatos Vac DTS]],Tabla2[[#This Row],[Gatos Vac MVP]])/COUNTIF(Tabla2[[#This Row],[Vacunador]:[Anotador 2]],"<>"),"") -> 9.5 | Z38: =IFERROR(Tabla2[[#This Row],[Perros Desp.]]/COUNTIF(Tabla2[[#This Row],[Vacunador]:[Anotador 2]],"<>"),"") -> 0 | AA38: =IFERROR(Tabla2[[#This Row],[Gatos Desp.]]/COUNTIF(Tabla2[[#This Row],[Vacunador]:[Anotador 2]],"<>"),"") -> 0
A39: 45500 | I39: =+Tabla2[[#This Row],[Total Perros Vac]]+Tabla2[[#This Row],[Perros No Vac]] -> 0 | J39: =+Tabla2[[#This Row],[Perro Vac DTS]]+Tabla2[[#This Row],[Perro Vac MVP]] -> 0 | O39: =+Tabla2[[#This Row],[Total Gatos Vac]]+Tabla2[[#This Row],[Gatos No Vac]] -> 0 | P39: =+Tabla2[[#This Row],[Gatos Vac DTS]]+Tabla2[[#This Row],[Gatos Vac MVP]] -> 0 | U39: =IFERROR(Tabla2[[#This Row],[Casas Visitadas]]/COUNTIF(Tabla2[[#This Row],[Vacunador]:[Anotador 2]],"<>"),"") | V39: =IFERROR(Tabla2[[#This Row],[Perros Censados]]/COUNTIF(Tabla2[[#This Row],[Vacunador]:[Anotador 2]],"<>"),"") | W39: =IFERROR(SUM(Tabla2[[#This Row],[Perro Vac DTS]],Tabla2[[#This Row],[Perro Vac MVP]])/COUNTIF(Tabla2[[#This Row],[Vacunador]:[Anotador 2]],"<>"),"") | X39: =IFERROR(Tabla2[[#This Row],[Gatos Censados]]/COUNTIF(Tabla2[[#This Row],[Vacunador]:[Anotador 2]],"<>"),"") | Y39: =IFERROR(SUM(Tabla2[[#This Row],[Gatos Vac DTS]],Tabla2[[#This Row],[Gatos Vac MVP]])/COUNTIF(Tabla2[[#This Row],[Vacunador]:[Anotador 2]],"<>"),"") | Z39: =IFERROR(Tabla2[[#This Row],[Perros Desp.]]/COUNTIF(Tabla2[[#This Row],[Vacunador]:[Anotador 2]],"<>"),"") | AA39: =IFERROR(Tabla2[[#This Row],[Gatos Desp.]]/COUNTIF(Tabla2[[#This Row],[Vacunador]:[Anotador 2]],"<>"),"")
A40: 45501 | I40: =+Tabla2[[#This Row],[Total Perros Vac]]+Tabla2[[#This Row],[Perros No Vac]] -> 0 | J40: =+Tabla2[[#This Row],[Perro Vac DTS]]+Tabla2[[#This Row],[Perro Vac MVP]] -> 0 | O40: =+Tabla2[[#This Row],[Total Gatos Vac]]+Tabla2[[#This Row],[Gatos No Vac]] -> 0 | P40: =+Tabla2[[#This Row],[Gatos Vac DTS]]+Tabla2[[#This Row],[Gatos Vac MVP]] -> 0 | U40: =IFERROR(Tabla2[[#This Row],[Casas Visitadas]]/COUNTIF(Tabla2[[#This Row],[Vacunador]:[Anotador 2]],"<>"),"") | V40: =IFERROR(Tabla2[[#This Row],[Perros Censados]]/COUNTIF(Tabla2[[#This Row],[Vacunador]:[Anotador 2]],"<>"),"") | W40: =IFERROR(SUM(Tabla2[[#This Row],[Perro Vac DTS]],Tabla2[[#This Row],[Perro Vac MVP]])/COUNTIF(Tabla2[[#This Row],[Vacunador]:[Anotador 2]],"<>"),"") | X40: =IFERROR(Tabla2[[#This Row],[Gatos Censados]]/COUNTIF(Tabla2[[#This Row],[Vacunador]:[Anotador 2]],"<>"),"") | Y40: =IFERROR(SUM(Tabla2[[#This Row],[Gatos Vac DTS]],Tabla2[[#This Row],[Gatos Vac MVP]])/COUNTIF(Tabla2[[#This Row],[Vacunador]:[Anotador 2]],"<>"),"") | Z40: =IFERROR(Tabla2[[#This Row],[Perros Desp.]]/COUNTIF(Tabla2[[#This Row],[Vacunador]:[Anotador 2]],"<>"),"") | AA40: =IFERROR(Tabla2[[#This Row],[Gatos Desp.]]/COUNTIF(Tabla2[[#This Row],[Vacunador]:[Anotador 2]],"<>"),"")
...

Sheet Vacunacion
A6: Control Diario de Vacunación Antirrabica Animal, 2024
A8: Vacunador: | F8: Periodo: | G8: 28 de Junio al 27 de Julio
A10: Fecha | B10: Actividad | C10: Lugar | D10: Perros Cens. | E10: Perros Vac. | F10: Gatos Cens. | G10: Gatos Vac. | H10: Total Cens. | I10: Total Vac.
A11: 45463 | B11: =Tabulacion!F2 -> 0 | C11: =Tabulacion!G2 -> 0 | D11: =Tabulacion!V2 | E11: =Tabulacion!W2 | F11: =Tabulacion!X2 | G11: =Tabulacion!Y2 | H11: =IFERROR(SUM(D11,F11),"") -> 0 | I11: =IFERROR(SUM(E11,G11),"") -> 0
A12: 45464 | B12: =Tabulacion!F3 -> 0 | C12: =Tabulacion!G3 -> 0 | D12: =Tabulacion!V3 | E12: =Tabulacion!W3 | F12: =Tabulacion!X3 | G12: =Tabulacion!Y3 | H12: =IFERROR(SUM(D12,F12),"") -> 0 | I12: =IFERROR(SUM(E12,G12),"") -> 0
A13: 45465 | B13: =Tabulacion!F4 -> 0 | C13: =Tabulacion!G4 -> 0 | D13: =Tabulacion!V4 | E13: =Tabulacion!W4 | F13: =Tabulacion!X4 | G13: =Tabulacion!Y4 | H13: =IFERROR(SUM(D13,F13),"") -> 0 | I13: =IFERROR(SUM(E13,G13),"") -> 0
A14: 45466 | B14: =Tabulacion!F5 -> 0 | C14: =Tabulacion!G5 -> 0 | D14: =Tabulacion!V5 | E14: =Tabulacion!W5 | F14: =Tabulacion!X5 | G14: =Tabulacion!Y5 | H14: =IFERROR(SUM(D14,F14),"") -> 0 | I14: =IFERROR(SUM(E14,G14),"") -> 0
A15: 45467 | B15: =Tabulacion!F6 -> 0 | C15: =Tabulacion!G6 -> 0 | D15: =Tabulacion!V6 | E15: =Tabulacion!W6 | F15: =Tabulacion!X6 | G15: =Tabulacion!Y6 | H15: =IFERROR(SUM(D15,F15),"") -> 0 | I15: =IFERROR(SUM(E15,G15),"") -> 0
A16: 45468 | B16: =Tabulacion!F7 -> 0 | C16: =Tabulacion!G7 -> 0 | D16: =Tabulacion!V7 | E16: =Tabulacion!W7 | F16: =Tabulacion!X7 | G16: =Tabulacion!Y7 | H16: =IFERROR(SUM(D16,F16),"") -> 0 | I16: =IFERROR(SUM(E16,G16),"") -> 0
A17: 45469 | B17: =Tabulacion!F8 -> 0 | C17: =Tabulacion!G8 -> 0 | D17: =Tabulacion!V8 | E17: =Tabulacion!W8 | F17: =Tabulacion!X8 | G17: =Tabulacion!Y8 | H17: =IFERROR(SUM(D17,F17),"") -> 0 | I17: =IFERROR(SUM(E17,G17),"") -> 0
A18: 45470 | B18: =Tabulacion!F9 -> 0 | C18: =Tabulacion!G9 -> 0 | D18: =Tabulacion!V9 | E18: =Tabulacion!W9 | F18: =Tabulacion!X9 | G18: =Tabulacion!Y9 | H18: =IFERROR(SUM(D18,F18),"") -> 0 | I18: =IFERROR(SUM(E18,G18),"") -> 0
A19: 45471 | B19: =Tabulacion!F10 -> 0 | C19: =Tabulacion!G10 -> 0 | D19: =Tabulacion!V10 | E19: =Tabulacion!W10 | F19: =Tabulacion!X10 | G19: =Tabulacion!Y10 | H19: =IFERROR(SUM(D19,F19),"") -> 0 | I19: =IFERROR(SUM(E19,G19),"") -> 0
A20: 45472 | B20: =Tabulacion!F11 -> 0 | C20: =Tabulacion!G11 -> 0 | D20: =Tabulacion!V11 | E20: =Tabulacion!W11 | F20: =Tabulacion!X11 | G20: =Tabulacion!Y11 | H20: =IFERROR(SUM(D20,F20),"") -> 0 | I20: =IFERROR(SUM(E20,G20),"") -> 0
A21: 45473 | B21: =Tabulacion!F12 -> 0 | C21: =Tabulacion!G12 -> 0 | D21: =Tabulacion!V12 | E21: =Tabulacion!W12 | F21: =Tabulacion!X12 | G21: =Tabulacion!Y12 | H21: =IFERROR(SUM(D21,F21),"") -> 0 | I21: =IFERROR(SUM(E21,G21),"") -> 0
A22: 45474 | B22: =Tabulacion!F13 -> 0 | C22: =Tabulacion!G13 -> 0 | D22: =Tabulacion!V13 | E22: =Tabulacion!W13 | F22: =Tabulacion!X13 | G22: =Tabulacion!Y13 | H22: =IFERROR(SUM(D22,F22),"") -> 0 | I22: =IFERROR(SUM(E22,G22),"") -> 0
... A24: 45476 | B24: =Tabulacion!F15 -> V.C.C. | C24: =Tabulacion!G15 -> Pradera | D24: =Tabulacion!V15 -> 14 | E24: =Tabulacion!W15 -> 14 | F24: =Tabulacion!X15 -> 11 | G24: =Tabulacion!Y15 -> 11 | H24: =IFERROR(SUM(D24,F24),"") -> 25 | I24: =IFERROR(SUM(E24,G24),"") -> 25
A25: 45477 | B25: =Tabulacion!F16 -> V.C.C. | C25: =Tabulacion!G16 -> Pradera | D25: 14 | E25: 14 | F25: =Tabulacion!X16 -> 14 | G25: =Tabulacion!Y16 -> 14 | H25: =IFERROR(SUM(D25,F25),"") -> 28 | I25: =IFERROR(SUM(E25,G25),"") -> 28
A26: 45478 | B26: =Tabulacion!F17 -> 0 | C26: =Tabulacion!G17 -> 0 | D26: =Tabulacion!V17 | E26: =Tabulacion!W17 | F26: =Tabulacion!X17 | G26: =Tabulacion!Y17 | H26: =IFERROR(SUM(D26,F26),"") -> 0 | I26: =IFERROR(SUM(E26,G26),"") -> 0
A27: 45479 | B27: =Tabulacion!F18 -> 0 | C27: =Tabulacion!G18 -> 0 | D27: =Tabulacion!V18 | E27: =Tabulacion!W18 | F27: =Tabulacion!X18 | G27: =Tabulacion!Y18 | H27: =IFERROR(SUM(D27,F27),"") -> 0 | I27: =IFERROR(SUM(E27,G27),"") -> 0
A28: 45480 | B28: =Tabulacion!F19 -> 0 | C28: =Tabulacion!G19 -> 0 | D28: =Tabulacion!V19 | E28: =Tabulacion!W19 | F28: =Tabulacion!X19 | G28: =Tabulacion!Y19 | H28: =IFERROR(SUM(D28,F28),"") -> 0 | I28: =IFERROR(SUM(E28,G28),"") -> 0
A29: 45481 | B29: =Tabulacion!F20 -> V.C.C. | C29: =Tabulacion!G20 -> NIEVES | D29: 12 | E29: 12 | F29: 11 | G29: 11 | H29: =IFERROR(SUM(D29,F29),"") -> 23 | I29: =IFERROR(SUM(E29,G29),"") -> 23
A30: 45482 | B30: =Tabulacion!F21 -> V.C.C. | C30: =Tabulacion!G21 -> NIEVES | D30: 14 | E30: 14 | F30: 8 | G30: 8 | H30: =IFERROR(SUM(D30,F30),"") -> 22 | I30: =IFERROR(SUM(E30,G30),"") -> 22
A31: 45483 | B31: =Tabulacion!F22 -> V.C.C. | C31: =Tabulacion!G22 -> NIEVES | D31: 4 | E31: 4 | F31: =Tabulacion!X22 -> 1 | G31: =Tabulacion!Y22 -> 1 | H31: =IFERROR(SUM(D31,F31),"") -> 5 | I31: =IFERROR(SUM(E31,G31),"") -> 5
A32: 45484 | B32: =Tabulacion!F23 -> 0 | C32: =Tabulacion!G23 -> 0 | D32: =Tabulacion!V23 | E32: =Tabulacion!W23 | F32: =Tabulacion!X23 | G32: =Tabulacion!Y23 | H32: =IFERROR(SUM(D32,F32),"") -> 0 | I32: =IFERROR(SUM(E32,G32),"") -> 0
A33: 45485 | B33: =Tabulacion!F24 -> V.C.C. | C33: =Tabulacion!G24 -> OLIVO 2 | D33: 17 | E33: 17 | F33: =Tabulacion!X24 -> 13 | G33: =Tabulacion!Y24 -> 13 | H33: =IFERROR(SUM(D33,F33),"") -> 30 | I33: =IFERROR(SUM(E33,G33),"") -> 30
A34: 45486 | B34: =Tabulacion!F25 -> 0 | C34: =Tabulacion!G25 -> 0 | D34: =Tabulacion!V25 | E34: =Tabulacion!W25 | F34: =Tabulacion!X25 | G34: =Tabulacion!Y25 | H34: =IFERROR(SUM(D34,F34),"") -> 0 | I34: =IFERROR(SUM(E34,G34),"") -> 0
A35: 45487 | B35: =Tabulacion!F26 -> 0 | C35: =Tabulacion!G26 -> 0 | D35: =Tabulacion!V26 | E35: =Tabulacion!W26 | F35: =Tabulacion!X26 | G35: =Tabulacion!Y26 | H35: =IFERROR(SUM(D35,F35),"") -> 0 | I35: =IFERROR(SUM(E35,G35),"") -> 0
A36: 45488 | B36: =Tabulacion!F27 -> 0 | C36: =Tabulacion!G27 -> 0 | D36: =Tabulacion!V27 | E36: =Tabulacion!W27 | F36: =Tabulacion!X27 | G36: =Tabulacion!Y27 | H36: =IFERROR(SUM(D36,F36),"") -> 0 | I36: =IFERROR(SUM(E36,G36),"") -> 0
A37: 45489 | B37: =Tabulacion!F28 -> V.C.C. | C37: =Tabulacion!G28 -> LOMA FRESCA | D37: 12 | E37: 12 | F37: 8 | G37: 8 | H37: =IFERROR(SUM(D37,F37),"") -> 20 | I37: =IFERROR(SUM(E37,G37),"") -> 20
A38: 45490 | B38: =Tabulacion!F29 -> V.C.C. | C38: =Tabulacion!G29 -> OLIVO 2 | D38: =Tabulacion!V29 -> 11 | E38: =Tabulacion!W29 -> 11 | F38: 15 | G38: 15 | H38: =IFERROR(SUM(D38,F38),"") -> 26 | I38: =IFERROR(SUM(E38,G38),"") -> 26
A39: 45491 | B39: =Tabulacion!F30 -> J.B.A. | C39: =Tabulacion!G30 -> SANTO DOMINGO | D39: 17 | E39: 17 | F39: 4 | G39: 4 | H39: =IFERROR(SUM(D39,F39),"") -> 21 | I39: =IFERROR(SUM(E39,G39),"") -> 21
A40: 45492 | B40: =Tabulacion!F31 -> V.C.C. | C40: =Tabulacion!G31 -> NIEVES | D40: 15 | E40: 15 | F40: 7 | G40: 7 | H40: =IFERROR(SUM(D40,F40),"") -> 22 | I40: =IFERROR(SUM(E40,G40),"") -> 22
A41: 45493 | B41: =Tabulacion!F32 -> 0 | C41: =Tabulacion!G32 -> 0 | D41: =Tabulacion!V32 | E41: =Tabulacion!W32 | F41: =Tabulacion!X32 | G41: =Tabulacion!Y32 | H41: =IFERROR(SUM(D41,F41),"") -> 0 | I41: =IFERROR(SUM(E41,G41),"") -> 0
A42: 45494 | B42: =Tabulacion!F33 -> 0 | C42: =Tabulacion!G33 -> 0 | D42: =Tabulacion!V33 | E42: =Tabulacion!W33 | F42: =Tabulacion!X33 | G42: =Tabulacion!Y33 | H42: =IFERROR(SUM(D42,F42),"") -> 0 | I42: =IFERROR(SUM(E42,G42),"") -> 0
A43: 45495 | B43: =Tabulacion!F34 -> V.C.C. | C43: =Tabulacion!G34 -> TRUPILLO/REBOLO | D43: 21 | E43: 21 | F43: 9 | G43: 9 | H43: =IFERROR(SUM(D43,F43),"") -> 30 | I43: =IFERROR(SUM(E43,G43),"") -> 30
A44: 45496 | B44: =Tabulacion!F35 -> V.C.C. | C44: =Tabulacion!G35 -> REBOLO | D44: 18 | E44: 18 | F44: =Tabulacion!X35 -> 14 | G44: =Tabulacion!Y35 -> 14 | H44: =IFERROR(SUM(D44,F44),"") -> 32 | I44: =IFERROR(SUM(E44,G44),"") -> 32
