Workbook
Name ______xlnm._FilterDatabase: "#REF!"
Name ____xlnm._FilterDatabase: "#REF!"
Name ___INDEX_SHEET___ASAP_Utilities: #REF!
Name ___INDEX_SHEET___ASAP_Utilities: #REF!
Name ___INDEX_SHEET___ASAP_Utilities: #REF!
Name ___INDEX_SHEET___ASAP_Utilities: #REF!
Name ___xlnm._FilterDatabase: "#REF!"
Name __xlnm._FilterDatabase_1: #REF!
Name __xlnm._FilterDatabase_1: #REF!
Name __xlnm._FilterDatabase_1: #REF!
Name __xlnm._FilterDatabase_1: #REF!
Name ¿Quiénes_están_inscritos_dentro_del_sistema__incluye_desinscr___: #REF!
Name ¿Quiénes_están_inscritos_dentro_del_sistema__incluye_desinscr___: #REF!
Name ¿Quiénes_están_inscritos_dentro_del_sistema__incluye_desinscr___: #REF!
Name ¿Quiénes_están_inscritos_dentro_del_sistema__incluye_desinscr___: #REF!
Name a1_Y1: #REF!
Name a1_Y1: #REF!
Name a1_Y1: #REF!
Name a1_Y1: #REF!
Name a1_Y2: #REF!
Name a10_Y10: #REF!
Name a10_Y11: #REF!
Name a2_Y2: #REF!
Name a2_Y3: #REF!
Name a3_Y3: #REF!
Name a3_Y4: #REF!
Name a4_Y4: #REF!
Name a4_Y5: #REF!
Name a5_Y5: #REF!
Name a5_Y6: #REF!
Name a6_Y6: #REF!
Name a6_Y7: #REF!
Name a7_Y7: #REF!
Name a7_Y8: #REF!
Name a8_Y8: #REF!
Name a8_Y9: #REF!
Name a9_Y10: #REF!
Name a9_Y9: #REF!
Name ActividadRE: #REF!
Name ActividadRE: #REF!
Name ActividadRE: #REF!
Name ActividadRE: #REF!
Name ALMUERZO: #REF!
Name ALMUERZO: #REF!
Name ALMUERZO: #REF!
Name ALMUERZO: #REF!
Name almuerzocena: #REF!
Name AMAZONAS: #REF!
Name ANSSR: #REF!
Name ANSSRV2: #REF!
Name ANSSRV3: #REF!
Name ANTIOQUIA: #REF!
Name año1: #REF!
Name APLICA: #REF!
Name APLICA.: #REF!
Name ARAUCA: #REF!
Name ATLANTICO: #REF!
Name bbb: #REF!
Name bbb: #REF!
Name bbb: #REF!

Sheet cotizacion
B1: COTIZACION
A2: EMPRESA QUE COTIZA:
A4: CANTIDAD DE BENFICIARIOS
A6: Anexo ficha técnica | B6: ITEM | C6: UNIDAD DE MEDIDA | D6: CANTIDAD | E6: VALOR UNITARIO | F6: MES 1 | G6: MES 2 | H6: MES 3 | I6: MES 4 | J6: MES 5 | K6: MES 6 | L6: TOTAL
B7: PERSONAL REQUERIDO
A8: =+#REF! -> #REF! | B8: DIRECTOR TECNICO | C8: MENSUAL
A9: =+#REF! -> #REF! | B9: NUTRICIONISTA | C9: MENSUAL
A10: =+#REF! -> #REF! | B10: AUXILIARES DE SERVICIO | C10: MENSUAL
A11: =+#REF! -> #REF! | B11: MANIPULADORAS DE ALIMENTOS | C11: MENSUAL
A12: =+#REF! -> #REF! | B12: AUXILIAR DE ENFERMERIA | C12: MENSUAL
A13: =+#REF! -> #REF! | B13: PROFESIONAL EDU FISICA O TERAPEUTA OCUPACIONAL | C13: MENSUAL
A14: =+#REF! -> #REF! | B14: CUIDADORAS | C14: MENSUAL
A15: =+#REF! -> #REF! | B15: PERSONAL DE ASEO Y ROPERIA | C15: MENSUAL
A16: =+#REF! -> #REF! | B16: PSICOLOGA | C16: MENSUAL
A17: =+#REF! -> #REF! | B17: GERONTOLOGO | C17: MENSUAL
B18: ELEMENTOS ENTREGABLES Y DE USO
A19: 2.1 | B19: KIT DE ASEO | C19: MENSUAL
B20: TOALLA 70 * 140 | C20: TRIMESTRAL
A21: 2.2 | B21: PAÑAL ADULTO | C21: MENSUAL
A22: =+#REF! -> #REF! | B22: CREMA ANTIPAÑALITIS | C22: MENSUAL
A23: 2.5 | B23: GUANTES DE VINILO CAJA X 100 UNID. | C23: MENSUAL
A24: =+#REF! -> #REF! | B24: PAÑITOS HUMEDOS | C24: MENSUAL
A25: 2.6 | B25: KIT DE VESTUARIO | C25: TRIMESTRAL
A26: 2.7 | B26: BOTIQUIN | C26: TRIMESTRAL
A27: 2.8 | B27: INSUMOS PARA MANUALIDADES | C27: MENSUAL
B28: ALIMENTACION
A29: 3.1 | B29: ALIMENTACION | C29: MENSUAL
B30: ALOJAMIENTO
A31: 4.1 | B31: ALOJAMIENTO | C31: MENSUAL
B32: GASTOS GENERALES
A33: 5.1 | B33: TRANSPORTE | C33: MENSUAL | L33: =SUM(F33:G33) -> 0
A40: NOMBRE REPRESENTANTE LEGAL
A41: CC.
A42: RAZON SOCIAL
A43: NIT

Sheet FICHA TECNICA 
B2: ITEM | C2: ALOJAMIENTO: | D2: UNIDAD DE MEDIDA | E2: CANTIDAD
B4: 2 | C4: Alojamiento que incluye mobiliario: (Cama, colchón), ropa de cama (Protector de colchón, sábanas, fundas de almohada, cobijas), por adulto mayor, servicios públicos, y demás especificaciones técnicas descritas en el documetno Técncio | D4: MES X persona | E4: 1
B7: 3.1 | C7: KIT DE ASEO CEPILLO DE DIENTES | D7: UNIDAD DE MEDIDA | E7: CANTIDAD | F7: FRECUENCIA
C8: Cepillo de diente: El cepillo de dientes será entregado cada tres meses, siguiendo las recomendaciones de la Federación Odontológica Colombiana (FOC) y otras entidades internacionales de salud dental. Estas organizaciones sugieren un cambio trimestral debido al desgaste de las cerdas, lo cual reduce su efectividad para remover placa y mantener una adecuada higiene bucal. | D8: Unidad | E8: 1 | F8: TRIMESTRAL (Se entregará 1 VEZ)
B9: 3.2 | C9: KIT DE ASEO HOMBRE | D9: UNIDAD DE MEDIDA | E9: CANTIDAD | F9: FRECUENCIA
C10: Shampoo x 200mil | D10: Unidad | E10: 1 | F10: MENSUAL
C11: Crema Humectante x 120 gr | D11: Unidad | E11: 1
C12: Crema Dental 75 ml | D12: Unidad | E12: 1
C13: Jabón De Baño, barra x 110 gr. | D13: Unidad | E13: 1
C14: Cuchillas paquete x 2 unidades | D14: Unidad/paquete | E14: 1
C15: Papel Higiénico paquete x 4 rollos | D15: Unidad/paquete | E15: 1
C16: Desodorante roll on x 50 ml | D16: Unidad | E16: 1
C17: Talco Para Pies x 150 gr. | D17: Unidad | E17: 1
B18: 3.3 | C18: KIT DE ASEO MUJER | D18: UNIDAD DE MEDIDA | E18: CANTIDAD | F18: FRECUENCIA
C19: Shampoo X 200 | D19: Unidad | E19: 1 | F19: MENSUAL
C20: Crema Humectante X 120 gr | D20: Unidad | E20: 1
C21: Crema Dental 75 ml | D21: Unidad | E21: 1
C22: Jabón De Baño barra x 110 gr | D22: Unidad | E22: 1
C23: Papel Higiénico paquete xB38:B39 4 rollos | D23: Unidad/paquete | E23: 1
C24: Desodorante en roll on x 50 ml | D24: Unidad | E24: 1
C25: Talco Para Pies x 150 gr. | D25: Unidad | E25: 1
B26: 4 | C26: OTROS ELEMENTOS DE HIGIENE
C27: OTROS ELEMENTOS DE HIGIENE | D27: UNIDAD DE MEDIDA | E27: CANTIDAD | F27: FRECUENCIA
B28: 4.1 | C28: PAÑAL ADULTO Paca x 30 Pañales (4 pacas mensuales x AM, 120 pañales al mes, 4 diarios) | D28: Unidad | E28: 1 | F28: Mensual
B29: 4.2 | C29: CREMA ANTIPAÑALITIS x 500 gr contiene el 25% de oxido de zinc y contiene Karité y pantenol (1 unidad mensual x AM) | D29: Unidad | E29: 1 | F29: Mensual
B30: 4.3 | C30: PAÑITOS HUMEDOS pqte x 70 unidades (7 pqtes mes por AM, 490 al mes, 16 diarios) | D30: Unidad | E30: 1 | F30: Mensual
B31: 4.4 | C31: GUANTES DE LATEX CAJA X 100 UNID. ( 2,4 cajas x AM, 240 mes, 8 diarios) | D31: Unidad | E31: 1 | F31: Mensual
B32: 5 | C32: BOTIQUIN | D32: UNIDAD DE MEDIDA | E32: CANTIDAD | F32: FRECUENCIA
C33: Alcohol x700 ml | D33: Unidad | E33: 1 | F33: TRIMESTRAL (Se entrega 1 vez a cada centro)
C34: Bajalenguas Paquete x 20 Und | D34: Unidad | E34: 1
C35: Curas Caja x 20 Und | D35: Unidad/paquete | E35: 1
C36: Guantes látex Caja x 100 Und | D36: Unidad/paquete | E36: 1
C37: Lágrimas artificiales x 15 ml | D37: Unidad | E37: 1
C38: Suero fisiológico Bolsa x 500 ml | D38: Unidad | E38: 1
C39: Venda elástica 1 Und de 5" x 5 yds | D39: Unidad | E39: 1
C40: Yodopovidona solución 60 ml | D40: Unidad | E40: 1
C41: Gasa estéril 4" x 4"24 Und | D41: Unidad/Paquete | E41: 1
C42: Termómetro digital | D42: Unidad | E42: 1
C43: Esparadrapo 1/2 x 5 yds | D43: Unidad | E43: 1
B44: 6 | C44: INSUMOS PARA MANUALIDADES | D44: UNIDAD DE MEDIDA | E44: CANTIDAD | F44: FRECUENCIA
...

Sheet ESQUEMA DE PERSONAL
B2: ITEMS | C2: DESCRIPCION | D2: UNIDAD DE MEDIDA | E2: CANTIDAD HASTA 45 AM ATENDIDOS | F2: 65 ADULTOS M ATENDIDOS | G2: 85 ADULTOS MAYORES ATENDIDOS
B3: 1.1 | C3: COORDINADOR | D3: UNIDAD/PERSONA | E3: 1 | F3: 1 | G3: 1
B4: 1.2 | C4: NUTRICIONISTA | D4: UNIDAD/PERSONA | E4: 1 | F4: 1 | G4: 1
B5: 1.3 | C5: AUXILIAR DE SERVICIOS GENERALES | D5: UNIDAD/PERSONA | E5: 2 | F5: 3 | G5: 4
B6: 1.4 | C6: MANIPULADORAS DE ALIMENTOS | D6: UNIDAD/PERSONA | E6: 2 | F6: 3 | G6: 4
B7: 1.5 | C7: AUXILIAR DE ENFERMERIA | D7: UNIDAD/PERSONA | E7: 5 | F7: 6 | G7: 7
B8: 1.6 | C8: PROFESIONAL EDU FISICA O FISIOTERAPEUTA | D8: UNIDAD/PERSONA | E8: 1 | F8: 1 | G8: 1
B9: 1.7 | C9: CUIDADORES | D9: UNIDAD/PERSONA | E9: 5 | F9: 6 | G9: 7
B10: 1.8 | C10: BACHILLER PARA ENSEÑANZA DE DANZA Y MUSICA | D10: UNIDAD/PERSONA | E10: 1 | F10: 1 | G10: 1
B11: 1.9 | C11: PSICOLOGA | D11: UNIDAD/PERSONA | E11: 1 | F11: 1 | G11: 1
B12: 1.10 | C12: GERONTOLOGO | D12: UNIDAD/PERSONA | E12: 1 | F12: 1 | G12: 1
B13: 1.11 | C13: ASISTENTE ADMINISTRATIVO | D13: UNIDAD/PERSONA | E13: 1 | F13: 1 | G13: 1

Sheet RECARGOS PERSONAL
B2: PROYECCION DE RECARGOS POR CARGO Y TOTAL DEVENGADO
Z3: No hace parte del estudio, pero se calcula en caso que se presente un proponente, sus costos se salen de la media.
B4: PERFIL | C4: BÁSICO | D4: Valor hora ordinaria | E4: VALOR RECARGO NOCTURNO (35%) | F4: VALOR RECARGO DIURNO DOMINICAL Y FESTIVO DIURNO (75%) | G4: VALOR RECARGO NOCTURNO DOMINICAL Y FESTIVO (110%) | H4: NÚMERO DE HORAS RECARGOS NOCTURNO AL MES | I4: VALOR TOTAL MES DE RECARGO NOCTURNOS | J4: NÚMERO DE HORAS RECARGOS DIURNO DOMINICALES Y FESTIVOS | K4: VALOR TOTAL MES DE RECARGO DIURNO DOMINICAL Y FESTIVO | L4: NÚMERO DE HORAS RECARGOS NOCTURNO DOMINICAL Y FESTIVO | M4: VALOR TOTAL MES DE RECARGO NOCTURNOS DOMINICAL Y FESTIVO | N4: VALOR AL MES TOTAL DE RECARGOS CUPO 45 hasta 64 | O4: Personal requerido | P4: Valor estimado recargos x persona mes | Q4: Total Devengado estimado | R4: VALOR AL MES TOTAL DE RECARGOS CUPO 65 | S4: Personal requerido cupo 65 | T4: Valor estimado recargos x persona mes | U4: Total Devengado estimado | V4: VALOR AL MES TOTAL DE RECARGOS CUPO 85 o + | W4: Personal requerido cupo 85 | X4: Valor estimado recargos x persona mes | Y4: Total Devengado estimado | Z4: Personal requeirdo para Cupos de 25 a 44 | AA4: Recargo estimado | AB4: Total Devengado básico mas recargos
B5: AUXILIAR DE ENFERMERÍA | C5: 1465053 | D5: =C5/230 -> 6369.7957 | E5: =D5*35% -> 2229.4285 | F5: =D5*75% -> 4777.3467 | G5: =D5*110% -> 7006.7752 | H5: 220.5 | I5: =+H5*E5 -> 491588.98 | J5: 132 | K5: =J5*F5 -> 630609.77 | L5: 49.5 | M5: =L5*G5 -> 346835.37 | N5: =+K5+M5+I5 -> 1469034.1 | O5: 5 | P5: =N5/O5 -> 293806.82 | Q5: =C5+P5 -> 1758859.8 | R5: =+(N5+J5+L5)*2 -> 2938431.2 | S5: 6 | T5: =R5/S5 -> 489738.54 | U5: =C5+T5 -> 1954791.5 | V5: =+N5*3 -> 4407102.4 | W5: 7 | X5: =V5/W5 -> 629586.05 | Y5: =C5+X5 -> 2094639.1 | Z5: 3 | AA5: =N5/Z5 -> 489678.04 | AB5: =C5+AA5 -> 1954731
B6: CUIDADORES | C6: 1300000 | D6: =C6/230 -> 5652.1739 | E6: =D6*35% -> 1978.2609 | F6: =D6*75% -> 4239.1304 | G6: =D6*110% -> 6217.3913 | H6: 220.5 | I6: =+H6*E6 -> 436206.52 | J6: 132 | K6: =J6*F6 -> 559565.22 | L6: 49.5 | M6: =L6*G6 -> 307760.87 | N6: =+K6+M6+I6 -> 1303532.6 | O6: 5 | P6: =N6/O6 -> 260706.52 | Q6: =C6+P6 -> 1560706.5 | R6: =+(N6+J6+L6)*2 -> 2607428.2 | S6: 6 | T6: =R6/S6 -> 434571.37 | U6: =C6+T6 -> 1734571.4 | V6: =+N6*3 -> 3910597.8 | W6: 7 | X6: =V6/W6 -> 558656.83 | Y6: =C6+X6 -> 1858656.8 | Z6: 3 | AA6: =N6/Z6 -> 434510.87 | AB6: =C6+AA6 -> 1734510.9
B7: MANIPULADOR DE ALIMENTOS | C7: 1300000 | D7: =C7/230 -> 5652.1739 | E7: =D7*35% -> 1978.2609 | F7: =D7*75% -> 4239.1304 | G7: =D7*110% -> 6217.3913 | H7: 0 | I7: 0 | J7: 132 | K7: =J7*F7 -> 559565.22 | N7: =+K7+M7+I7 -> 559565.22 | O7: 2 | P7: =N7/O7 -> 279782.61 | Q7: =C7+P7 -> 1579782.6 | R7: 559565.22 | S7: 3 | T7: =R7/S7 -> 186521.74 | U7: =C7+T7 -> 1486521.7 | V7: =+R7 -> 559565.22 | W7: 4 | X7: =V7/W7 -> 139891.3 | Y7: =C7+X7 -> 1439891.3 | Z7: 1 | AA7: =N7/Z7 -> 559565.22 | AB7: =C7+AA7 -> 1859565.2
B8: SERVICIOS GENERALES | C8: 1300000 | D8: =C8/230 -> 5652.1739 | E8: =D8*35% -> 1978.2609 | F8: =D8*75% -> 4239.1304 | G8: =D8*110% -> 6217.3913 | H8: 0 | I8: 0 | J8: 132 | K8: =J8*F8 -> 559565.22 | N8: =+K8+M8+I8 -> 559565.22 | O8: 2 | P8: =N8/O8 -> 279782.61 | Q8: =C8+P8 -> 1579782.6 | R8: 559565.22 | S8: 3 | T8: =R8/S8 -> 186521.74 | U8: =C8+T8 -> 1486521.7 | V8: =+R8 -> 559565.22 | W8: 4 | X8: =V8/W8 -> 139891.3 | Y8: =C8+X8 -> 1439891.3 | Z8: 1 | AA8: =N8/Z8 -> 559565.22 | AB8: =C8+AA8 -> 1859565.2
B9: TOTAL | N9: =SUM(N5:N8) -> 3891697.2 | Q9: =SUM(Q5:Q8) -> 6479131.6 | R9: =SUM(R5:R8) -> 6664989.9 | U9: =SUM(U5:U8) -> 6662406.4 | V9: =SUM(V5:V8) -> 9436830.6 | Y9: =SUM(Y5:Y8) -> 6833078.5 | AB9: =SUM(AB5:AB8) -> 7408372.3
H11: * Para todos los 4 cargos, la variante de incremento de personal se da en 1 por cada 20 AM atendidos, como punto de partida 45
B12: *número de horas RNM promedio | H12: *Manipuladores y servi generales no tienen recargos nocturnos al mes.
H13: *Para hallar el valor de recargos mes según #cupos, se multiplica x 2 para 65 cupos, (2 enfermeras y 2 cuidadores en un turno) , para 85 son 3 enfermeras y 3 cuidadores, razón por la cual se multiplica x3.
B14: 24.5*9=220.5 horas | H14: *Total devengado, es la sumatoria del sueldo basico +promedio de recargos x cargo mes
B15: *Número de horas RNDF mes | H15: *El promedio de recargo x cargo, se da en dividir el total de recargos durante el mes /número de personas que cubren los turnos
B16: 5.5*9= 49,5 horas | H16: *A mas personas menor valor de recargos y a menos personas este valor aumenta.
B17: *Número de horas RDDF mes
B18: 5.5*24=132 horas
B20: *Los recargos nocturnos son de 9:00 pm. A 6:00 am
B21: *Los recargos dominicales y festivos son las 24 horas del día

Sheet COSTOS FIJOS
C2: PROYECCION PERSONAL PARA ATENDER ENTRE 45 Y 64 USUARIOS
B3: ITEMS | C3: DESCRIPCION | D3: SUELDO BASICO/HONORARIOS | E3: Total Devengado* (solo personal con dedicación 100% ) | F3: FM (1.62) Personal con dedicación 100% | G3: FM (1.54) Personal con dedicación 100% | H3: Auxilio de Transporte 2024 | I3: VALOR MENSUAL SEGÚN REQUERIMIENTO DE PERSONAL PARA ATENDER ENTRE 45 a 64 USUARIOS
B4: 1.1 | C4: COORDINADOR | D4: 3600000 | G4: =D4*1.54 -> 5544000 | I4: 1 | J4: =G4 -> 5544000
B5: 1.2 | C5: NUTRICIONISTA | D5: 3600000 | I5: 1 | J5: =D5*I5 -> 3600000
B6: 1.3 | C6: AUXILIAR DE SERVICIOS GENERALES | D6: 1300000 | E6: ='RECARGOS PERSONAL'!Q8 -> 1579782.6 | F6: =E6*1.62 -> 2559247.8 | H6: 162000 | I6: 2 | J6: =(F6+H6)*I6 -> 5442495.7
B7: 1.4 | C7: MANIPULADORAS DE ALIMENTOS | D7: 1300000 | E7: ='RECARGOS PERSONAL'!Q7 -> 1579782.6 | F7: =E7*1.62 -> 2559247.8 | H7: 162000 | I7: 2 | J7: =(F7+H7)*I7 -> 5442495.7
B8: 1.5 | C8: AUXILIAR DE ENFERMERIA | D8: 1465053 | E8: ='RECARGOS PERSONAL'!Q5 -> 1758859.8 | F8: =E8*1.62 -> 2849352.9 | H8: 162000 | I8: 5 | J8: =(F8+H8)*I8 -> 15056765
B9: 1.6 | C9: PROFESIONAL EDU FISICA O FISIOTERAPEUTA | D9: 3600000 | I9: 1 | J9: =D9*I9 -> 3600000
B10: 1.7 | C10: CUIDADORES | D10: 1300000 | E10: ='RECARGOS PERSONAL'!Q6 -> 1560706.5 | F10: =E10*1.62 -> 2528344.6 | H10: 162000 | I10: 5 | J10: =(F10+H10)*I10 -> 13451723
B11: 1.8 | C11: BACHILLER PARA ENSEÑANZA DE DANZA Y MUSICA | D11: 1800000 | I11: 1 | J11: =D11*I11 -> 1800000
B12: 1.9 | C12: PSICOLOGA | D12: 3600000 | I12: 1 | J12: =D12*I12 -> 3600000
B13: 1.10 | C13: GERONTOLOGO | D13: 3600000 | I13: 1 | J13: =D13*I13 -> 3600000
B14: 1.11 | C14: ASISTENTE ADMINISTRATIVO | D14: 2700000 | I14: 1 | J14: =D14*I14 -> 2700000
B15: TOTALES SEGÚN NUMERO DE USUARIOS | I15: =SUM(J4:J14) -> 63837479
C16: * FM se aplica a Auxiliare de servicios, manipuladora de alimentos, cuidadoras y auxiliares de enfermería
C17: **Total devengado: Incluye proyección de recargos en turnos rotativos del personal 24/7, Según proyección estimada.
C19: PROYECCION PERSONAL PARA ATENDER ENTRE 64 Y 84 USUARIOS
B20: ITEMS | C20: DESCRIPCION | D20: SUELDO BASICO/HONORARIOS | E20: Total Devengado* (solo personal con dedicación 100% ) | F20: FM (1.62) Personal con dedicación 100% | G20: FM (1.54) Personal con dedicación 100% | H20: Auxilio de Transporte 2024 | I20: VALOR MENSUAL SEGÚN REQUERIMIENTO DE PERSONAL PARA ATENDER ENTRE 45 a 64 USUARIOS
B21: 1.1 | C21: COORDINADOR | D21: 3600000 | G21: =D21*1.54 -> 5544000 | I21: 1 | J21: =G21 -> 5544000
B22: 1.2 | C22: NUTRICIONISTA | D22: 3600000 | I22: 1 | J22: =D22*I22 -> 3600000
B23: 1.3 | C23: AUXILIAR DE SERVICIOS GENERALES | D23: 1300000 | E23: ='RECARGOS PERSONAL'!U8 -> 1486521.7 | F23: =E23*1.62 -> 2408165.2 | H23: 162000 | I23: 3 | J23: =(F23+H23)*I23 -> 7710495.7
B24: 1.4 | C24: MANIPULADORAS DE ALIMENTOS | D24: 1300000 | E24: ='RECARGOS PERSONAL'!U7 -> 1486521.7 | F24: =E24*1.62 -> 2408165.2 | H24: 162000 | I24: 3 | J24: =(F24+H24)*I24 -> 7710495.7
B25: 1.5 | C25: AUXILIAR DE ENFERMERIA | D25: 1465053 | E25: ='RECARGOS PERSONAL'!U5 -> 1954791.5 | F25: =E25*1.62 -> 3166762.3 | H25: 162000 | I25: 6 | J25: =(F25+H25)*I25 -> 19972574
B26: 1.6 | C26: PROFESIONAL EDU FISICA O FISIOTERAPEUTA | D26: 3600000 | I26: 1 | J26: =D26*I26 -> 3600000
B27: 1.7 | C27: CUIDADORES | D27: 1300000 | E27: ='RECARGOS PERSONAL'!U6 -> 1734571.4 | F27: =E27*1.62 -> 2810005.6 | H27: 162000 | I27: 6 | J27: =(F27+H27)*I27 -> 17832034
B28: 1.8 | C28: BACHILLER PARA ENSEÑANZA DE DANZA Y MUSICA | D28: 1800000 | I28: 1 | J28: =D28*I28 -> 1800000
B29: 1.9 | C29: PSICOLOGA | D29: 3600000 | I29: 1 | J29: =D29*I29 -> 3600000
B30: 1.10 | C30: GERONTOLOGO | D30: 3600000 | I30: 1 | J30: =D30*I30 -> 3600000
B31: 1.11 | C31: ASISTENTE ADMINISTRATIVO | D31: 2700000 | I31: 1 | J31: =D31*I31 -> 2700000
B32: TOTALES SEGÚN NUMERO DE USUARIOS | I32: =SUM(J21:J31) -> 77669599
B33: * FM se aplica a Auxiliare de servicios, manipuladora de alimentos, cuidadoras y auxiliares de enfermería
B34: **Total devengado: Incluye proyección de recargos en turnos rotativos del personal 24/7, Según proyección estimada.
C36: PROYECCION PERSONAL PARA ATENDER ENTRE 84 + USUARIOS
B37: ITEMS | C37: DESCRIPCION | D37: SUELDO BASICO/HONORARIOS | E37: Total Devengado* (solo personal con dedicación 100% ) | F37: FM (1.62) Personal con dedicación 100% | G37: FM (1.54) Personal con dedicación 100% | H37: Auxilio de Transporte 2024 | I37: VALOR MENSUAL SEGÚN REQUERIMIENTO DE PERSONAL PARA ATENDER ENTRE 45 a 64 USUARIOS
B38: 1.1 | C38: COORDINADOR | D38: 3600000 | G38: =D38*1.54 -> 5544000 | I38: 1 | J38: =G38 -> 5544000
B39: 1.2 | C39: NUTRICIONISTA | D39: 3600000 | I39: 1 | J39: =D39*I39 -> 3600000
B40: 1.3 | C40: AUXILIAR DE SERVICIOS GENERALES | D40: 1300000 | E40: ='RECARGOS PERSONAL'!Y8 -> 1439891.3 | F40: =E40*1.62 -> 2332623.9 | H40: 162000 | I40: 4 | J40: =(F40+H40)*I40 -> 9978495.7
B41: 1.4 | C41: MANIPULADORAS DE ALIMENTOS | D41: 1300000 | E41: ='RECARGOS PERSONAL'!Y7 -> 1439891.3 | F41: =E41*1.62 -> 2332623.9 | H41: 162000 | I41: 4 | J41: =(F41+H41)*I41 -> 9978495.7
B42: 1.5 | C42: AUXILIAR DE ENFERMERIA | D42: 1465053 | E42: ='RECARGOS PERSONAL'!Y5 -> 2094639.1 | F42: =E42*1.62 -> 3393315.3 | H42: 162000 | I42: 7 | J42: =(F42+H42)*I42 -> 24887207
B43: 1.6 | C43: PROFESIONAL EDU FISICA O FISIOTERAPEUTA | D43: 3600000 | I43: 1 | J43: =D43*I43 -> 3600000
...

Sheet SUMINISTROS Y ALOJAMIENTO
B2: ITEM | C2: ALOJAMIENTO: | D2: UNIDAD DE MEDIDA | E2: CANTIDAD | F2: CIUDAD FUTURO | J2: DIVINO PASTOR | N2: SIRVIENDO PAZ | R2: PROMEDIO
F3: VALOR | G3: IVA | H3: VALOR MAS IVA | I3: VALOR TOTAL | J3: VALOR | K3: IVA | L3: VALOR MAS IVA | M3: VLAOR TOTAL | N3: VALOR | O3: IVA | P3: VALOR MAS IVA | Q3: VLAOR TOTAL
B4: 2 | C4: Alojamiento que incluye mobiliario: (Cama, colchón), ropa de cama (Protector de colchón, sábanas, fundas de almohada, cobijas), por adulto mayor, servicios públicos, y demás especificaciones técnicas descritas en el documetno Técncio | D4: MES X persona | E4: 1 | F4: 385500 | G4: =+F4*0.19 -> 73245 | H4: =+G4+F4 -> 458745 | I4: =+H4*E4 -> 458745 | J4: 402000 | K4: =+J4*0.19 -> 76380 | L4: =+J4+K4 -> 478380 | M4: =+L4*E4 -> 478380 | N4: 300000 | O4: =+N4*0.19 -> 57000 | P4: =+O4+N4 -> 357000 | Q4: =+P4*E4 -> 357000 | R4: =+AVERAGE(I4,M4,Q4) -> 431375
T5: i
B7: ITEM | C7: ELEMENTOS ENTREGABLES Y DE USO
B8: 3.1 | C8: KIT DE ASEO CEPILLO DE DIENTES | D8: UNIDAD DE MEDIDA | E8: CANTIDAD | F8: FRECUENCIA | G8: VALOR ANTES DE IVA | H8: IVA | I8: VALOR INCLUIDO IVA | J8: VALOR TOTAL | K8: VALOR ANTES DE IVA | L8: IVA | M8: VALOR INCLUIDO IVA | N8: VALOR TOTAL | O8: VALOR ANTES DE IVA | P8: IVA | Q8: VALOR INCLUIDO IVA | R8: VALOR TOTAL | S8: PROMEDIO UNITARIO INCLUIDO IVA | T8: VALOR TOTAL x 511 AM INCLUIDO IVA
C9: Cepillo de diente: El cepillo de dientes será entregado cada tres meses, siguiendo las recomendaciones de la Federación Odontológica Colombiana (FOC) y otras entidades internacionales de salud dental. Estas organizaciones sugieren un cambio trimestral debido al desgaste de las cerdas, lo cual reduce su efectividad para remover placa y mantener una adecuada higiene bucal. | D9: Unidad | E9: 511 | F9: Una entrega | G9: 2100 | H9: =+G9*0.19 -> 399 | I9: =+H9+G9 -> 2499 | J9: =+I9 -> 2499 | K9: 2200 | L9: =+K9*0.19 -> 418 | M9: =+K9+L9 -> 2618 | N9: =+M9 -> 2618 | O9: 2190 | P9: =+O9*0.19 -> 416.1 | Q9: =+O9+P9 -> 2606.1 | R9: =+Q9 -> 2606.1 | S9: =+AVERAGE(J9,N9,R9) -> 2574.3667 | T9: =S9*E9 -> 1315501.4
B10: 3.2 | C10: KIT DE ASEO HOMBRE | D10: UNIDAD DE MEDIDA | E10: CANTIDAD | F10: FRECUENCIA | G10: CIUDAD FUTURO | K10: DIVINO PASTOR | O10: SIRVIENDO PAZ | S10: PROMEDIO MES INCLUIDO IVA | T10: VALOR TOTAL INCLUIDO IVA
C11: Shampoo x 200mil | D11: Unidad | E11: 1 | F11: MENSUAL | G11: =12800/1.19 -> 10756.303 | H11: =+G11*0.19 -> 2043.6975 | I11: =+H11+G11 -> 12800 | J11: =+I11*E11 -> 12800 | K11: =15000/1.19 -> 12605.042 | L11: =+K11*0.19 -> 2394.958 | M11: =+L11+K11 -> 15000 | N11: =+M11*E11 -> 15000 | O11: =16200/1.19 -> 13613.445 | P11: =+O11*0.19 -> 2586.5546 | Q11: =+O11+P11 -> 16200 | R11: =+Q11*E11 -> 16200 | S11: =+AVERAGE(J11,N11,R11) -> 14666.667
C12: Crema Humectante x 120 gr | D12: Unidad | E12: 1 | G12: =14800/1.19 -> 12436.975 | H12: =+G12*0.19 -> 2363.0252 | I12: =+H12+G12 -> 14800 | J12: =+I12*E12 -> 14800 | K12: =14500/1.19 -> 12184.874 | L12: =+K12*0.19 -> 2315.1261 | M12: =+L12+K12 -> 14500 | N12: =+M12*E12 -> 14500 | O12: =13800/1.19 -> 11596.639 | P12: =+O12*0.19 -> 2203.3613 | Q12: =+P12+O12 -> 13800 | R12: =+Q12*E11 -> 13800 | S12: =+AVERAGE(J12,N12,R12) -> 14366.667
C13: Crema Dental 75 ml | D13: Unidad | E13: 1 | G13: =8150/1.19 -> 6848.7395 | H13: =+G13*0.19 -> 1301.2605 | I13: =+H13+G13 -> 8150 | J13: =+I13*E13 -> 8150 | K13: =7500/1.19 -> 6302.521 | L13: =+K13*0.19 -> 1197.479 | M13: =+K13+L13 -> 7500 | N13: =+M13*E13 -> 7500 | O13: =8200/1.19 -> 6890.7563 | P13: =+O13*0.19 -> 1309.2437 | Q13: =+O13+P13 -> 8200 | R13: =+Q13*E13 -> 8200 | S13: =+AVERAGE(J13,N13,R13) -> 7950
C14: Jabón De Baño, barra x 110 gr. | D14: Unidad | E14: 1 | G14: =3500/1.19 -> 2941.1765 | H14: =+G14*0.19 -> 558.82353 | I14: =+H14+G14 -> 3500 | J14: =+I14*E14 -> 3500 | K14: =3200/1.19 -> 2689.0756 | L14: =+K14*0.19 -> 510.92437 | M14: =+L14+K14 -> 3200 | N14: =+M14*E14 -> 3200 | O14: =3100/1.19 -> 2605.042 | P14: =+O14*0.19 -> 494.95798 | Q14: =+P14+O14 -> 3100 | R14: =+Q14*E14 -> 3100 | S14: =+AVERAGE(J14,N14,R14) -> 3266.6667
C15: Cuchillas paquete x 2 unidades | D15: Unidad/paquete | E15: 1 | G15: =5400/1.19 -> 4537.8151 | H15: =+G15*0.19 -> 862.18487 | I15: =+H15+G15 -> 5400 | J15: =+I15*E15 -> 5400 | K15: =5500/1.19 -> 4621.8487 | L15: =+K15*0.19 -> 878.15126 | M15: =+L15+K15 -> 5500 | N15: =+M15*E15 -> 5500 | O15: =5200/1.19 -> 4369.7479 | P15: =+O15*0.19 -> 830.2521 | Q15: =+P15+O15 -> 5200 | R15: =+Q15*E15 -> 5200 | S15: =+AVERAGE(J15,N15,R15) -> 5366.6667
C16: Papel Higiénico paquete x 4 rollos | D16: Unidad/paquete | E16: 1 | G16: =7500/1.19 -> 6302.521 | H16: =+G16*0.19 -> 1197.479 | I16: =+H16+G16 -> 7500 | J16: =+I16*E16 -> 7500 | K16: =8500/1.19 -> 7142.8571 | L16: =+K16*0.19 -> 1357.1429 | M16: =+L16+K16 -> 8500 | N16: =+M16*E16 -> 8500 | O16: =9200/1.19 -> 7731.0924 | P16: =+O16*0.19 -> 1468.9076 | Q16: =+P16+O16 -> 9200 | R16: =+Q16*E16 -> 9200 | S16: =+AVERAGE(J16,N16,R16) -> 8400
C17: Desodorante roll on x 50 ml | D17: Unidad | E17: 1 | G17: =14500/1.19 -> 12184.874 | H17: =+G17*0.19 -> 2315.1261 | I17: =+H17+G17 -> 14500 | J17: =+I17*E17 -> 14500 | K17: =14800/1.19 -> 12436.975 | L17: =+K17*0.19 -> 2363.0252 | M17: =+L17+K17 -> 14800 | N17: =+M17*E17 -> 14800 | O17: =14450/1.19 -> 12142.857 | P17: =+O17*0.19 -> 2307.1429 | Q17: =+P17+O17 -> 14450 | R17: =+Q17*E17 -> 14450 | S17: =+AVERAGE(J17,N17,R17) -> 14583.333
C18: Talco Para Pies x 150 gr. | D18: Unidad | E18: 1 | G18: =13000/1.19 -> 10924.37 | H18: =+G18*0.19 -> 2075.6303 | I18: =+H18+G18 -> 13000 | J18: =+I18*E18 -> 13000 | K18: =13800/1.19 -> 11596.639 | L18: =+K18*0.19 -> 2203.3613 | M18: =+L18+K18 -> 13800 | N18: =+M18*E18 -> 13800 | O18: =14200/1.19 -> 11932.773 | P18: =+O18*0.19 -> 2267.2269 | Q18: =+P18+O18 -> 14200 | R18: =+Q18*E18 -> 14200 | S18: =+AVERAGE(J18,N18,R18) -> 13666.667
B19: TOTAL KIT HOMBRE | S19: =SUM(S11:S18) -> 82266.667
B20: 3.3 | C20: KIT DE ASEO MUJER | D20: UNIDAD DE MEDIDA | E20: CANTIDAD | F20: FRECUENCIA | G20: CIUDAD FUTURO | K20: DIVINO PASTOR | O20: SIRVIENDO PAZ | S20: PROMEDIO MES INCLUIDO IVA
C21: Shampoo X 200 | D21: Unidad | E21: 1 | F21: MENSUAL | G21: =12800/1.19 -> 10756.303 | H21: =+G21*0.19 -> 2043.6975 | I21: =+H21+G21 -> 12800 | J21: =+I21*E21 -> 12800 | K21: =15000/1.19 -> 12605.042 | L21: =+K21*0.19 -> 2394.958 | M21: =+L21+K21 -> 15000 | N21: =+M21*E21 -> 15000 | O21: =16200/1.19 -> 13613.445 | P21: =+O21*0.19 -> 2586.5546 | Q21: =+O21+P21 -> 16200 | R21: =+Q21*E21 -> 16200 | S21: =+AVERAGE(J21,N21,R21) -> 14666.667
C22: Crema Humectante X 120 gr | D22: Unidad | E22: 1 | G22: =14800/1.19 -> 12436.975 | H22: =+G22*0.19 -> 2363.0252 | I22: =+H22+G22 -> 14800 | J22: =+I22*E22 -> 14800 | K22: =14500/1.19 -> 12184.874 | L22: =+K22*0.19 -> 2315.1261 | M22: =+L22+K22 -> 14500 | N22: =+M22*E22 -> 14500 | O22: =13800/1.19 -> 11596.639 | P22: =+O22*0.19 -> 2203.3613 | Q22: =+P22+O22 -> 13800 | R22: =+Q22*E21 -> 13800 | S22: =+AVERAGE(J22,N22,R22) -> 14366.667
C23: Crema Dental 75 ml | D23: Unidad | E23: 1 | G23: =8150/1.19 -> 6848.7395 | H23: =+G23*0.19 -> 1301.2605 | I23: =+H23+G23 -> 8150 | J23: =+I23*E23 -> 8150 | K23: =7500/1.19 -> 6302.521 | L23: =+K23*0.19 -> 1197.479 | M23: =+K23+L23 -> 7500 | N23: =+M23*E23 -> 7500 | O23: =8200/1.19 -> 6890.7563 | P23: =+O23*0.19 -> 1309.2437 | Q23: =+O23+P23 -> 8200 | R23: =+Q23*E23 -> 8200 | S23: =+AVERAGE(J23,N23,R23) -> 7950
C24: Jabón De Baño barra x 110 gr | D24: Unidad | E24: 1 | G24: =3500/1.19 -> 2941.1765 | H24: =+G24*0.19 -> 558.82353 | I24: =+H24+G24 -> 3500 | J24: =+I24*E24 -> 3500 | K24: =3200/1.19 -> 2689.0756 | L24: =+K24*0.19 -> 510.92437 | M24: =+L24+K24 -> 3200 | N24: =+M24*E24 -> 3200 | O24: =3100/1.19 -> 2605.042 | P24: =+O24*0.19 -> 494.95798 | Q24: =+P24+O24 -> 3100 | R24: =+Q24*E24 -> 3100 | S24: =+AVERAGE(J24,N24,R24) -> 3266.6667
C25: Papel Higiénico paquete xB38:B39 4 rollos | D25: Unidad/paquete | E25: 1 | G25: =7500/1.19 -> 6302.521 | H25: =+G25*0.19 -> 1197.479 | I25: =+H25+G25 -> 7500 | J25: =+I25*E25 -> 7500 | K25: =8500/1.19 -> 7142.8571 | L25: =+K25*0.19 -> 1357.1429 | M25: =+L25+K25 -> 8500 | N25: =+M25*E25 -> 8500 | O25: =9200/1.19 -> 7731.0924 | P25: =+O25*0.19 -> 1468.9076 | Q25: =+P25+O25 -> 9200 | R25: =+Q25*E25 -> 9200 | S25: =+AVERAGE(J25,N25,R25) -> 8400
C26: Desodorante en roll on x 50 ml | D26: Unidad | E26: 1 | G26: =14500/1.19 -> 12184.874 | H26: =+G26*0.19 -> 2315.1261 | I26: =+H26+G26 -> 14500 | J26: =+I26*E26 -> 14500 | K26: =14800/1.19 -> 12436.975 | L26: =+K26*0.19 -> 2363.0252 | M26: =+L26+K26 -> 14800 | N26: =+M26*E26 -> 14800 | O26: =14450/1.19 -> 12142.857 | P26: =+O26*0.19 -> 2307.1429 | Q26: =+P26+O26 -> 14450 | R26: =+Q26*E26 -> 14450 | S26: =+AVERAGE(J26,N26,R26) -> 14583.333
C27: Talco Para Pies x 150 gr. | D27: Unidad | E27: 1 | G27: =13000/1.19 -> 10924.37 | H27: =+G27*0.19 -> 2075.6303 | I27: =+H27+G27 -> 13000 | J27: =+I27*E27 -> 13000 | K27: =13800/1.19 -> 11596.639 | L27: =+K27*0.19 -> 2203.3613 | M27: =+L27+K27 -> 13800 | N27: =+M27*E27 -> 13800 | O27: =14200/1.19 -> 11932.773 | P27: =+O27*0.19 -> 2267.2269 | Q27: =+P27+O27 -> 14200 | R27: =+Q27*E27 -> 14200 | S27: =+AVERAGE(J27,N27,R27) -> 13666.667
B28: TOTAL KIT MUJER | S28: =SUM(S21:S27) -> 76900
B29: PROMEDIO KIT DE ASEO | S29: =AVERAGE(S19,S28) -> 79583.333
B30: 4 | C30: OTROS ELEMENTOS DE HIGIENE | G30: CIUDAD FUTURO | K30: DIVINO PASTOR | O30: SIRVIENDO PAZ | S30: PROMEDIO MES INCLUIDO IVA
C31: OTROS ELEMENTOS DE HIGIENE | D31: UNIDAD DE MEDIDA | E31: CANTIDAD | F31: FRECUENCIA | G31: VALOR ANTES DE IVA | H31: IVA | I31: VALOR INCLUIDO IVA | J31: VALOR TOTAL | K31: VALOR ANTES DE IVA | L31: IVA | M31: VALOR INCLUIDO IVA | N31: VALOR TOTAL | O31: VALOR ANTES DE IVA | P31: IVA | Q31: VALOR INCLUIDO IVA | R31: VALOR TOTAL
B32: 4.1 | C32: PAÑAL ADULTO Paca x 30 Pañales (4 pacas mensuales x AM, 120 pañales al mes, 4 diarios) | D32: Unidad | E32: 1 | F32: Mensual | G32: =290000/1.19 -> 243697.48 | H32: =+G32*0.19 -> 46302.521 | I32: =+H32+G32 -> 290000 | J32: =+I32*E32 -> 290000 | K32: =250000/1.19 -> 210084.03 | L32: =+K32*0.19 -> 39915.966 | M32: =+L32+K32 -> 250000 | N32: =+M32*E32 -> 250000 | O32: =297000/1.19 -> 249579.83 | P32: =+O32*0.19 -> 47420.168 | Q32: =+P32+O32 -> 297000 | R32: =+Q32*E32 -> 297000 | S32: =+AVERAGE(J32,N32,R32) -> 279000
B33: 4.2 | C33: CREMA ANTIPAÑALITIS x 500 gr contiene el 25% de oxido de zinc y contiene Karité y pantenol (1 unidad mensual x AM) | D33: Unidad | E33: 1 | F33: Mensual | G33: =52500/1.19 -> 44117.647 | H33: =+G33*0.19 -> 8382.3529 | I33: =+H33+G33 -> 52500 | J33: =+I33*E33 -> 52500 | K33: =52800/1.19 -> 44369.748 | L33: =+K33*0.19 -> 8430.2521 | M33: =+L33+K33 -> 52800 | N33: =+M33*E33 -> 52800 | O33: =51500/1.19 -> 43277.311 | P33: =+O33*0.19 -> 8222.6891 | Q33: =+P33+O33 -> 51500 | R33: =+Q33*E33 -> 51500 | S33: =+AVERAGE(J33,N33,R33) -> 52266.667
B34: 4.3 | C34: PAÑITOS HUMEDOS pqte x 70 unidades (7 pqtes mes por AM, 490 al mes, 16 diarios) | D34: Unidad | E34: 1 | F34: Mensual | G34: =49500/1.19 -> 41596.639 | H34: =+G34*0.19 -> 7903.3613 | I34: =+H34+G34 -> 49500 | J34: =+I34*E34 -> 49500 | K34: =51500/1.19 -> 43277.311 | L34: =+K34*0.19 -> 8222.6891 | M34: =+L34+K34 -> 51500 | N34: =+M34*E34 -> 51500 | O34: =51000/1.19 -> 42857.143 | P34: =+O34*0.19 -> 8142.8571 | Q34: =+P34+O34 -> 51000 | R34: =+Q34*E34 -> 51000 | S34: =+AVERAGE(J34,N34,R34) -> 50666.667
B35: 4.4 | C35: GUANTES DE LATEX CAJA X 100 UNID. ( 2,4 cajas x AM, 240 mes, 8 diarios) | D35: Unidad | E35: 1 | F35: Mensual | G35: =47750/1.19 -> 40126.05 | H35: =+G35*0.19 -> 7623.9496 | I35: =+H35+G35 -> 47750 | J35: =+I35*E35 -> 47750 | K35: =50400/1.19 -> 42352.941 | L35: =+K35*0.19 -> 8047.0588 | M35: =+L35+K35 -> 50400 | N35: =+M35*E35 -> 50400 | O35: =43200/1.19 -> 36302.521 | P35: =+O35*0.19 -> 6897.479 | Q35: =+P35+O35 -> 43200 | R35: =+Q35*E35 -> 43200 | S35: =+AVERAGE(J35,N35,R35) -> 47116.667
B36: TOTAL COMPONENTE DE HIGIENE | S36: =SUM(S32:S35) -> 429050
B37: En el item 4.4 se tomaron los precios unitarios cotizados en el item 5 (guantes latex caja x 100 Und) y se multiplica x 2.4 cajas
B38: 5 | C38: BOTIQUIN | D38: UNIDAD DE MEDIDA | E38: CANTIDAD | F38: FRECUENCIA | G38: CIUDAD FUTURO | K38: DIVINO PASTOR | O38: SIRVIENDO PAZ | S38: PROMEDIO INCLUIDO IVA
C39: Alcohol x700 ml | D39: Unidad | E39: 1 | F39: Una Entrega | G39: =8200/1.19 -> 6890.7563 | H39: =+G39*0.19 -> 1309.2437 | I39: =+H39+G39 -> 8200 | J39: =+I39*E39 -> 8200 | K39: =7900/1.19 -> 6638.6555 | L39: =+K39*0.19 -> 1261.3445 | M39: =+L39+K39 -> 7900 | N39: =+M39*E39 -> 7900 | O39: =7500/1.19 -> 6302.521 | P39: =+O39*0.19 -> 1197.479 | Q39: =+P39+O39 -> 7500 | R39: =+Q39*E39 -> 7500 | S39: =+AVERAGE(J39,N39,R39) -> 7866.6667
C40: Bajalenguas Paquete x 20 Und | D40: Unidad | E40: 1 | G40: =2100/1.19 -> 1764.7059 | H40: =+G40*0.19 -> 335.29412 | I40: =+H40+G40 -> 2100 | J40: =+I40*E40 -> 2100 | K40: =1900/1.19 -> 1596.6387 | L40: =+K40*0.19 -> 303.36134 | M40: =+L40+K40 -> 1900 | N40: =+M40*E40 -> 1900 | O40: =2500/1.19 -> 2100.8403 | P40: =+O40*0.19 -> 399.15966 | Q40: =+P40+O40 -> 2500 | R40: =+Q40*E40 -> 2500 | S40: =+AVERAGE(J40,N40,R40) -> 2166.6667
C41: Curas Caja x 20 Und | D41: Unidad/paquete | E41: 1 | G41: =8200/1.19 -> 6890.7563 | H41: =+G41*0.19 -> 1309.2437 | I41: =+H41+G41 -> 8200 | J41: =+I41*E41 -> 8200 | K41: =7900/1.19 -> 6638.6555 | L41: =+K41*0.19 -> 1261.3445 | M41: =+L41+K41 -> 7900 | N41: =+M41*E41 -> 7900 | O41: =7800/1.19 -> 6554.6218 | P41: =+O41*0.19 -> 1245.3782 | Q41: =+P41+O41 -> 7800 | R41: =+Q41*E41 -> 7800 | S41: =+AVERAGE(J41,N41,R41) -> 7966.6667
C42: Guantes látex Caja x 100 Und | D42: Unidad/paquete | E42: 1 | G42: =19900/1.19 -> 16722.689 | H42: =+G42*0.19 -> 3177.3109 | I42: =+G42+H42 -> 19900 | J42: =+I42*E42 -> 19900 | K42: =21000/1.19 -> 17647.059 | L42: =+K42*0.19 -> 3352.9412 | M42: =+L42+K42 -> 21000 | N42: =+M42*E42 -> 21000 | O42: =18000/1.19 -> 15126.05 | P42: =+O42*0.19 -> 2873.9496 | Q42: =+P42+O42 -> 18000 | R42: =+Q42*E42 -> 18000 | S42: =+AVERAGE(J42,N42,R42) -> 19633.333
...

Sheet COSTO CUPO 
B2: SUMINISTROS DE ENTREGA MENSUAL | C2: V/R MENSUAL INSUMOS CON COMPONENTE DE HIGIENE | D2: V/R MENSUAL INSUMOS SIN COMPONENTE DE HIGIENE | E2: VALOR MENSUAL SUMNISTROS 511 AM
B3: KIT DE ASEO | C3: ='SUMINISTROS Y ALOJAMIENTO'!S29 -> 79583.333 | D3: =C3 -> 79583.333 | E3: =C3*511 -> 40667083
B4: COMPONENTE DE HIGIENE | C4: ='SUMINISTROS Y ALOJAMIENTO'!S36 -> 429050 | D4: 0 | E4: =C4*167 -> 71651350
B5: ='SUMINISTROS Y ALOJAMIENTO'!C51 -> INSUMOS PARA MANUALIDADES | C5: ='SUMINISTROS Y ALOJAMIENTO'!S52 -> 22533.333 | D5: =C5 -> 22533.333 | E5: =C5*511 -> 11514533
B6: ='SUMINISTROS Y ALOJAMIENTO'!C61 -> SEGURO EXEQUIAL | C6: ='SUMINISTROS Y ALOJAMIENTO'!S62 -> 6033.3333 | D6: =C6 -> 6033.3333 | E6: =C6*511 -> 3083033.3
B7: ALIMENTACION | C7: 1105000 | D7: =C7 -> 1105000 | E7: =C7*511 -> 564655000
B8: TRANSPORTE | C8: ='SUMINISTROS Y ALOJAMIENTO'!S65 -> 151333.33 | D8: =C8 -> 151333.33 | E8: =C8*511 -> 77331333
B9: TOTAL VALOR MENSUAL SUMINISTROS | C9: =SUM(C3:C8) -> 1793533.3 | D9: =SUM(D3:D8) -> 1364483.3 | E9: =SUM(E3:E8) -> 7.6890233e+08
B10: Nota: el Componente de Higiene, solo se presupuesta para 167 AM que utilizan pañal
B12: INSUMOS DE UNA SOLA ENTREGA | C12: VALOR COMPONENTE | D12: VALOR TOTAL UNA ENTRGA 511 AM | E12: VALOR TOTAL SUMINISTROS 1 Entrega 511 AM
B13: ='SUMINISTROS Y ALOJAMIENTO'!C8 -> KIT DE ASEO CEPILLO DE DIENTES | C13: ='SUMINISTROS Y ALOJAMIENTO'!S9 -> 2574.3667 | D13: =C13*511 -> 1315501.4 | E13: =SUM(D13:D14) -> 2357751
B14: Botiquin por centro | C14: ='SUMINISTROS Y ALOJAMIENTO'!S50 -> 115805.52 | D14: =C14*9 -> 1042249.7
B16: VALOR TALENTO HUMANO + ALOJAMIENTO MES | D16: ='COSTOS FIJOS'!J55 -> 1626279.8 | E16: =D16*511 -> 8.31029e+08
B19: TOTAL PROYECTO X 2 MESES | E19: =(E9+E16)*2+E13 -> 3.2022204e+09
D20: 0.8 | E20: =E19*80% -> 2.5617763e+09
D23: VALOR PROMEDIO ESTIMADO CUPO MENSUAL X AM | E23: =E19/511/2 -> 3133288.1
A26: VALOR MESNUAL SUMINISTROS (INCUYE COMPONENTE HIGIENE (167) | C26: =C9*167 -> 2.9952007e+08
A27: VALOR MENSUAL SUMIN SIN COMPONENTE DE HIENE (344) | C27: =D9*344 -> 4.6938227e+08
A28: TOTAL MENSUAL SUMINISTROS | C28: =SUM(C26:C27) -> 7.6890233e+08

Sheet FACTOR MULTIPLICADOR FM
B2: Salario Mínimo Mensual Legal Vigente año 2024 | F2: 1300000
B3: Subsidio de Transporte (salario <= 2 SMMLV) | F3: 162000
B5: FACTOR MULTIPLICADOR TALENTO HUMANO | G5: FM1 SALARIO <= 2 SMMLV | H5: FM2 SALARIO > 2 SMMLV
B7: A. | D7: VALOR BASE (Sueldo) | G7: 100 | H7: 100
B9: B. | D9: PRESTACIONES SOCIALES, APORTES y GATOS | G9: =SUM(G10:G24) -> 61.69 | H9: =SUM(H10:H24) -> 53.69
C10: 1 | D10: Cesantías | F10: (A/12) | G10: 8.33 | H10: 8.33
C11: 2 | D11: Intereses sobre cesantía | F11: (a*12%) | G11: 1 | H11: 1
C12: 3 | D12: Prima anual | F12: (A/12) | G12: 8.33 | H12: 8.33
C13: 4 | D13: Vacaciones (1) | F13: (15/360*100) | G13: 4.17 | H13: 4.17
C14: 5 | D14: Dotación (2) | G14: 8 | H14: 0
D15: APORTES A SEGURIDAD SOCIAL
C16: 6 | D16: Sistema de seguridad social : Salud (EGM) (3) | F16: % A | G16: 8.5 | H16: 8.5
C17: 7 | D17: Sistema de seguridad social : Pensiòn (I.V.M) (4) | F17: % A | G17: 12 | H17: 12
C18: 8 | D18: Accidentes de Trabajo y Enf Profes ATEP (5) | F18: % A | G18: 2.36 | H18: 2.36
D19: APORTES PARAFISCALES
C20: 10 | D20: Caja de Compensación | F20: % A | G20: 4 | H20: 4
C21: 11 | D21: SENA (6) | F21: % A | G21: 2 | H21: 2
C22: 12 | D22: ICBF (7) | F22: % A | G22: 3 | H22: 3
D23: SUBSIDIOS | F23: % A
C24: 13 | D24: Subsidiio de Transporte | F24: % A | G24: 0 | H24: 0
B25: C. | D25: SUMA (A + B ) | G25: =+G7+G9 -> 161.69 | H25: =+H7+H9 -> 153.69
D26: FACTOR MULTIPLICADOR C/100 | F26: %A+B/100 | G26: =G25/100 -> 1.6169 | H26: =H25/100 -> 1.5369
B28: (1) Son 15 días hábiles, que corresponden a 18 días calendario.
B29: (2) Se provisiona hasta completar el valor de la dotación o dotaciones efectivamente entregadas según la ley
B30: (3) EGM- o Salud- Para entidades del RTO, se encuentran exoneradas la entidades que tiene personal con salarios inferiores a 10 SMMLV (Art.114-1 del estatuto tributario)
B31: (4) IVM Seguro Invalidez, Vejez y Muerte (pensión)
B32: (5) ATEP Accidentes Trabajo y Enfermedades Profesionales o aporte a ARL
B33: (6) y (7) Para entidades del RTO, se encuentran exoneradas la entidades que tiene personal con salarios inferiores a 10 SMMLV (Art.114-1 del estatuto tributario)
B34: (8) Aplicable solo al personal que por la naturaleza de sus actividades lo requieran y se presente evidencia de ello.
B35: Nota1:NO se reconocerán valores que no tengan soporte verificable.
B36: Nota2: Las ESAL no están exoneradas de salud y Parafiscales
B37: Nota3 : En caso de estar exonerados de Parafiscales, el Municipio, no pagará estos estos conceptos, por tanto se deben deducir del Factor Multiplicador.

Sheet AM USO DE PAÑAL 
C2: ADULTOS MAYORES QUE REQUIEREN EL USO DE PAÑAL EN CPSAM PEREIRA
C3: *Reportados por los CPSAM al 18/09/2024
C4: CPSAM | D4: NRO CUPOS ACTUALES | E4: NRO AM QUE USAN PAÑAL | F4: % | G4: Validación frente a Hisoria Clínica (se validará en campo)
C6: ARCA DE NOE | D6: 80 | E6: 28 | F6: =E6/D6*100 -> 35
C7: ALEGRIA DE SERVIR | D7: 67 | E7: 22 | F7: =E7/D7*100 -> 32.835821
C8: CANES | D8: 71 | E8: 23 | F8: =E8/D8*100 -> 32.394366
C9: CIUDAD FUTURO | D9: 85 | E9: 26 | F9: =E9/D9*100 -> 30.588235
C10: DIVINO PASTOR | D10: 65 | E10: 21 | F10: =E10/D10*100 -> 32.307692
C11: SAN JOSE | D11: 87 | E11: 28 | F11: =E11/D11*100 -> 32.183908
C12: VIDA CON PROPOSITO | D12: 56 | E12: 19 | F12: =E12/D12*100 -> 33.928571
C13: AM REPORTADOS X LOS CPSAM | D13: =SUM(D6:D12) -> 511 | E13: =SUM(E6:E12) -> 167 | F13: =E13/D13*100 -> 32.681018
C15: *167 AM utilizan el componente de Higiene
