Workbook

Sheet Consolidado
A1: 7948
A2: SDIS-SAMC-008-2024
A3: FORMATO - EVALUACIÓN OFERTA ECONÓMICA ECONOMICA
A4: OBJETO: | B4: BRINDAR ATENCION INTEGRAL ORIENTADA A MUJERES HABITANTES DE CALLE, EN SUS DIVERSIDADES, DE 29 AÑOS DE EDAD EN ADELANTE, MEDIANTE PROCESOS DE DESARROLLO PERSONAL, QUE CONDUZCAN A UNA VIDA LIBRE DE VIOLENCIAS, CONTRIBUYENDO A LA SUPERACION DE LAS FORMAS EXTREMAS DE EXCLUSION ASOCIADAS A LAS DINAMICAS DE VIDA EN LA CALLE
B6: CONSOLIDADO VALIDACION ECONOMICA
B9: EMPRESAS SIN ANIMO DE LUCRO | E9: 3 VIENTOS DEL PORVENIR
B10: Indicador | C10: Fórmula | D10: Estudio del sector | E10: Estatus
B11: Liquidez | C11: Activo Corriente / Pasivo Corriente | D11: Igual o superior a 1,04 | E11: HABILITADO
B12: Endeudamiento | C12: Pasivo Total /Activo Total * 100 | D12: Menor o igual 60,00% | E12: HABILITADO
B13: Razón de Cobertura de Intereses | C13: Utilidad Operacional / Gastos de Intereses | D13: Igual o superior a 1,08 | E13: HABILITADO
B14: Capital de Trabajo | C14: Activo Corriente – Pasivo Corriente / Presupuesto *100 | D14: Igual o superior a 6,00% | E14: HABILITADO
B15: Rentabilidad Sobre Patrimonio | C15: Utilidad Operacional / Patrimonio | D15: Igual o superior a 1,00% | E15: HABILITADO
B16: Rentabilidad Sobre los Activos | C16: Utilidad Operacional / Activo | D16: Igual o superior a 0,50% | E16: HABILITADO
B19: EMPRESAS DIFERENTES A LAS SIN ÁNIMO DE LUCRO | E19: 1. FEZ INVERSIONES | F19: 2. HOGARES DE PASO LA MALOKA SAS | G19: 4 UT INTEGRAL
B20: Indicador | C20: Fórmula | D20: Estudio del sector | E20: Estatus | F20: Estatus | G20: Estatus
B21: Liquidez | C21: Activo Corriente / Pasivo Corriente | D21: Igual o superior a 1,50 | E21: HABILITADO | F21: HABILITADO | G21: HABILITADO
B22: Endeudamiento | C22: Pasivo Total /Activo Total * 100 | D22: Menor o igual 59,50% | E22: HABILITADO | F22: HABILITADO | G22: HABILITADO
B23: Razón de Cobertura de intereses | C23: Utilidad Operacional / Gastos de Intereses | D23: Igual o superior a 1,80 | E23: HABILITADO | F23: HABILITADO | G23: HABILITADO
B24: Capital de Trabajo | C24: Activo Corriente – Pasivo Corriente / Presupuesto *100 | D24: Igual o superior a 12,00% | E24: HABILITADO | F24: HABILITADO | G24: HABILITADO
B25: Rentabilidad Sobre el Patrimonio | C25: Utilidad Operacional / Patrimonio | D25: Igual o superior a 7,00% | E25: HABILITADO | F25: HABILITADO | G25: HABILITADO
B26: Rentabilidad Sobre los Activos | C26: Utilidad Operacional / Activo | D26: Igual o superior a 4,00% | E26: HABILITADO | F26: HABILITADO | G26: HABILITADO
B28: MYPIMES
B29: Indicador | C29: Fórmula | D29: Estudio del sector
B31: Liquidez | C31: Activo Corriente / Pasivo Corriente | D31: Igual o superior a 1,40
B32: Endeudamiento | C32: Pasivo Total /Activo Total * 100 | D32: Menor o igual 62,00%
B33: Razón de Cobertura de intereses | C33: Utilidad Operacional / Gastos de Intereses | D33: Igual o superior a 1,70
B34: Capital de Trabajo | C34: Activo Corriente – Pasivo Corriente / Presupuesto *100 | D34: Igual o superior a 12,00%
B35: Rentabilidad Sobre el Patrimonio | C35: Utilidad Operacional / Patrimonio | D35: Igual o superior a 6,00%

Sheet INDICADORES
A1: 7948
A2: SDIS-SAMC-008-2024
A3: FORMATO - EVALUACIÓN OFERTA ECONÓMICA ECONOMICA
A4: OBJETO: | B4: BRINDAR ATENCION INTEGRAL ORIENTADA A MUJERES HABITANTES DE CALLE, EN SUS DIVERSIDADES, DE 29 AÑOS DE EDAD EN ADELANTE, MEDIANTE PROCESOS DE DESARROLLO PERSONAL, QUE CONDUZCAN A UNA VIDA LIBRE DE VIOLENCIAS, CONTRIBUYENDO A LA SUPERACION DE LAS FORMAS EXTREMAS DE EXCLUSION ASOCIADAS A LAS DINAMICAS DE VIDA EN LA CALLE
A5: PRESUPUESTO OFICIAL | B5: 8288346201
I6: CAPACIDAD FINANCIERA | Q6: CAPACIDAD ORGANIZACIONAL
A7: INDICADOR | B7: ACTIVO CORRIENTE | C7: ACTIVO TOTAL | D7: PASIVO CORRIENTE | E7: PASIVO TOTAL | F7: PATRIMONIO | G7: UTILIDAD / PERDIDA OPERACIONAL | H7: GASTOS DE INTERESES | I7: Índice de Liquidez | J7: CUMPLE | K7: Índice de Endeudamiento. | L7: CUMPLE | M7: Razón de cobertura de intereses. | N7: CUMPLE | O7: índice capital de trabajo | P7: CUMPLE | Q7: Rentabilidad Sobre el Patrimonio | R7: CUMPLE | S7: Rentabilidad del activo | T7: CUMPLE | U7: CUMPLE CONSOLIDADO INDICADORES FINANCIEROS
A8: 1. FEZ INVERSIONES | B8: 1379350527 | C8: 1379750427 | D8: 192774832 | E8: 192774832 | F8: 1186975595 | G8: 154829419 | H8: 0 | I8: =B8/D8 -> 7.1552418 | J8: SI | K8: =E8/C8*100 -> 13.971718 | L8: SI | M8: =IFERROR(G8/H8,0) -> 0 | N8: SI | O8: =(B8-D8)/$B$5*100 -> 14.316194 | P8: SI | Q8: 0.13 | R8: SI | S8: =G8/C8*100 -> 11.221553 | T8: SI | U8: SI
A9: 2. HOGARES DE PASO LA MALOKA SAS | B9: 4085572970 | C9: 4961842728 | D9: 445110573 | E9: 1059433940 | F9: 3902408788 | G9: 1375768105 | H9: 138002 | I9: =B9/D9 -> 9.1787821 | J9: SI | K9: =E9/C9*100 -> 21.351623 | L9: SI | M9: =IFERROR(G9/H9,0) -> 9969.1896 | N9: SI | O9: =(B9-D9)/$B$5*100 -> 43.922663 | P9: SI | Q9: 0.35 | R9: SI | S9: =G9/C9*100 -> 27.726959 | T9: SI | U9: SI
A10: 3 VIENTOS DEL PORVENIR | B10: 4570433227 | C10: 4570433227 | D10: 1457671074 | E10: 2110643029 | F10: 2459790198 | G10: 803332184 | H10: 16624250 | I10: =B10/D10 -> 3.1354352 | J10: SI | K10: =E10/C10*100 -> 46.180371 | L10: SI | M10: =IFERROR(G10/H10,0) -> 48.322913 | N10: SI | O10: =(B10-D10)/$B$5*100 -> 37.55589 | P10: SI | Q10: 0.32 | R10: SI | S10: =G10/C10*100 -> 17.576719 | T10: SI | U10: SI
A11: 4 UT INTEGRAL | B11: =SUM(B12:B14) -> 8359929338 | C11: =SUM(C12:C14) -> 30694447027 | D11: =SUM(D12:D14) -> 460696697 | E11: =SUM(E12:E14) -> 5849773007 | F11: =SUM(F12:F14) -> 24844674020 | G11: =SUM(G12:G14) -> 3916941636 | H11: =SUM(H12:H14) -> 44889353 | I11: =B11/D11 -> 18.146276 | J11: SI | K11: =E11/C11*100 -> 19.058082 | L11: SI | M11: =IFERROR(G11/H11,0) -> 87.257699 | N11: SI | O11: =(B11-D11)/$B$5*100 -> 95.305293 | P11: SI | Q11: =G11/F11 -> 0.1576572 | R11: SI | S11: =G11/C11*100 -> 12.761076 | T11: SI | U11: SI
A12: SOCIEDAD INVERSIONES PF S A S | B12: 588150906 | C12: 838063611 | D12: 163619384 | E12: 213636384 | F12: 624427227 | G12: 139679106 | H12: 2776252 | I12: 3.59 | K12: 25 | M12: 50.31 | Q12: 0.22 | S12: 16
A13: INVERSIONES PUIN S. A S. . EN REORGANIZACIÓN | B13: 1692142549 | C13: 12179917233 | D13: 147292284 | E13: 5110336704 | F13: 7069580529 | G13: 481118057 | H13: 8967276 | I13: 11.48 | K13: 41 | M13: 53.65 | Q13: 0.06 | S13: 3
A14: INDUHOTEL SAS | B14: 6079635883 | C14: 17676466183 | D14: 149785029 | E14: 525799919 | F14: 17150666264 | G14: 3296144473 | H14: 33145825 | I14: 40.58 | K14: 2 | M14: 99.44 | Q14: 0.19 | S14: 18
I17: EMPRESAS SIN ÁNIMO DE LUCRO | L17: 1. FEZ INVERSIONES | M17: 2. HOGARES DE PASO LA MALOKA SAS | N17: 3 VIENTOS DEL PORVENIR | O17: 4 UT INTEGRAL
I18: Indicador | J18: Fórmula | K18: Estudio del sector
I19: Liquidez | J19: Activo Corriente / Pasivo Corriente | K19: Igual o superior a 1,04 | N19: CUMPLE
I20: Endeudamiento | J20: Pasivo Total /Activo Total * 100 | K20: Menor o igual 60,00% | N20: CUMPLE
I21: Razón de Cobertura de Intereses | J21: Utilidad Operacional / Gastos de Intereses | K21: Igual o superior a 1,08 | N21: CUMPLE
I22: Capital de Trabajo | J22: Activo Corriente – Pasivo Corriente / Presupuesto *100 | K22: Igual o superior a 6,00% | N22: CUMPLE
I23: Rentabilidad Sobre Patrimonio | J23: Utilidad Operacional / Patrimonio | K23: Igual o superior a 1,00% | N23: CUMPLE
I24: Rentabilidad Sobre los Activos | J24: Utilidad Operacional / Activo | K24: Igual o superior a 0,50% | N24: CUMPLE
I27: EMPRESAS DIFERENTES A LAS SIN ÁNIMO DE LUCRO | L27: 1. FEZ INVERSIONES | M27: 2. HOGARES DE PASO LA MALOKA SAS | N27: 3 VIENTOS DEL PORVENIR | O27: 4 UT INTEGRAL
I28: Indicador | J28: Fórmula | K28: Estudio del sector
I29: Liquidez | J29: Activo Corriente / Pasivo Corriente | K29: Igual o superior a 1,50 | L29: CUMPLE | M29: CUMPLE | O29: CUMPLE
I30: Endeudamiento | J30: Pasivo Total /Activo Total * 100 | K30: Menor o igual 59,50% | L30: CUMPLE | M30: CUMPLE | O30: CUMPLE
I31: Razón de Cobertura de intereses | J31: Utilidad Operacional / Gastos de Intereses | K31: Igual o superior a 1,80 | L31: CUMPLE | M31: CUMPLE | O31: CUMPLE
I32: Capital de Trabajo | J32: Activo Corriente – Pasivo Corriente / Presupuesto *100 | K32: Igual o superior a 12,00% | L32: CUMPLE | M32: CUMPLE | O32: CUMPLE
I33: Rentabilidad Sobre el Patrimonio | J33: Utilidad Operacional / Patrimonio | K33: Igual o superior a 7,00% | L33: CUMPLE | M33: CUMPLE | O33: CUMPLE
I34: Rentabilidad Sobre los Activos | J34: Utilidad Operacional / Activo | K34: Igual o superior a 4,00% | L34: CUMPLE | M34: CUMPLE | O34: CUMPLE
I37: MYPIMES | L37: 1. FEZ INVERSIONES | M37: 2. HOGARES DE PASO LA MALOKA SAS | N37: 3 VIENTOS DEL PORVENIR | O37: 4 UT INTEGRAL
I38: Indicador | J38: Fórmula | K38: Estudio del sector
I40: Liquidez | J40: Activo Corriente / Pasivo Corriente | K40: Igual o superior a 1,40
I41: Endeudamiento | J41: Pasivo Total /Activo Total * 100 | K41: Menor o igual 62,00%
I42: Razón de Cobertura de intereses | J42: Utilidad Operacional / Gastos de Intereses | K42: Igual o superior a 1,70
I43: Capital de Trabajo | J43: Activo Corriente – Pasivo Corriente / Presupuesto *100 | K43: Igual o superior a 12,00%
I44: Rentabilidad Sobre el Patrimonio | J44: Utilidad Operacional / Patrimonio | K44: Igual o superior a 6,00%

Sheet Evaluacion economica lt 1 130
A1: 7948
A2: SDIS-SAMC-010-2024
A3: FORMATO - EVALUACIÓN OFERTA ECONÓMICA ECONOMICA
A4: OBJETO: | B4: “BRINDAR PROCESOS DE ATENCIÓN INTEGRAL ORIENTADOS A LA POBLACIÓN HABITANTE DE CALLE DE 29 AÑOS DE EDAD EN ADELANTE, A TRAVÉS DE UN SERVICIO DE COMUNIDAD DE VIDA DIRIGIDO LA SUPERACIÓN DE LAS FORMAS EXTREMAS DE EXCLUSIÓN ASOCIADAS A LAS DINÁMICAS DE VIDA EN CALLE”
A5: LOTE: | B5: LOTE 1 130 CUPOS
A6: METODO DE EVALUACIÓN
C7: fecha de cierre: | D7: 45561
C8: TRM VIGENTE SEGUNDO DIA HABIL | D8: 4.164.21
C9: https://www.datos.gov.co/Econom-a-y-Finanzas/Tasa-de-Cambio-Representativa-del-Mercado-Historic/mcec-87by/data
A31: NOTA: Teniendo en cuenta que las ofertas economicas no se presentaron con decimales, no se hace necesario realizar correcciones aritmeticas por este concepto a las ofertas. | C31: DECIMALES TRM VIGENTE PARA 24 DE SEPTIEMBRE DE 2024 | D31: 0.21
C32: Asignación de metodo de evaluacion según Rango Decimales TRM | D32: MEDIA ARITMETICA
C33: Promedio Aritmético simple de las propuestas económicas válidas | D33: =AVERAGE(C40:C43) -> 9943850473
C34: Valor Total corregido de la propuesta válida más Alta | D34: =MAX(C40:C43) -> 9971291787
C35: Media Aritmetica | D35: =AVERAGE(C40:C43) -> 9943850473
A37: PRESUPUESTO OFICIAL X PRECIO UNITARIO LOTE 1 | C37: 10223124286 | E37: PUNTAJE MAXÍMO
A39: Nª | B39: OFERENTE | C39: VALOR OFERTADO TOTAL X PRECIO UNITARIO | D39: DIFERENCIA vs MEDIA ARITMETICA | E39: 48.75 | F39: Valor Menor a Media Aritmetica
A40: 1 | B40: 1. CONSORCIO HABITABILDAD EN CALLE 2024 | C40: ='CON. HABITABILIDAD EN CALLE LT1'!G10 -> 9971291787 | D40: =ABS($D$35-C40) -> 27441314 | E40: =IF(C40<=$D$35,(($E$39*(1-(($D$35-C40)/$D$35)))),($E$39*(1-(2*(ABS(($D$35)-C40)/$D$35))))) -> 48.480936 | F40: =IF(C40<=$D$35,"SI","NO") -> NO
A41: 2 | B41: 4. UT ATENCION SOCIAL INTEGRAL | C41: ='UT ATENCION SOCIAL IN LT1 '!G10 -> 9916409159 | D41: =ABS($D$35-C41) -> 27441314 | E41: =IF(C41<=$D$35,(($E$39*(1-(($D$35-C41)/$D$35)))),($E$39*(1-(2*(ABS(($D$35)-C41)/$D$35))))) -> 48.615468 | F41: =IF(C41<=$D$35,"SI","NO") -> SI
A42: 3 | E42: =IF(C42<=$D$35,(($E$39*(1-(($D$35-C42)/$D$35)))),($E$39*(1-(2*(ABS(($D$35)-C42)/$D$35))))) -> 0 | F42: =IF(C42<=$D$35,"SI","NO") -> SI
A43: 4 | E43: =IF(C43<=$D$35,(($E$39*(1-(($D$35-C43)/$D$35)))),($E$39*(1-(2*(ABS(($D$35)-C43)/$D$35))))) -> 0 | F43: =IF(C43<=$D$35,"SI","NO") -> SI
A47: Evaluadores
A53: LUIS OCTAVIO LARA TELLO
A54: CONTRATISTA
A55: Subdireccion para la adultez
A62: DANIEL ARTURO BERNAL ORTIZ
A63: CONTRATISTA
A64: Subdireccion para la adultez

Sheet Evaluacion economica lt 2 130
A1: 7948
A2: SDIS-SAMC-010-2024
A3: FORMATO - EVALUACIÓN OFERTA ECONÓMICA ECONOMICA
A4: OBJETO: | B4: : “BRINDAR PROCESOS DE ATENCIÓN INTEGRAL ORIENTADOS A LA POBLACIÓN HABITANTE DE CALLE DE 29 AÑOS DE EDAD EN ADELANTE, A TRAVÉS DE UN SERVICIO DE COMUNIDAD DE VIDA DIRIGIDO LA SUPERACIÓN DE LAS FORMAS EXTREMAS DE EXCLUSIÓN ASOCIADAS A LAS DINÁMICAS DE VIDA EN CALLE”
A5: LOTE: | B5: LOTE 2 130 CUPOS
A6: METODO DE EVALUACIÓN
C7: fecha de cierre: | D7: 45561
C8: TRM VIGENTE SEGUNDO DIA HABIL | D8: 4164.21
C9: https://www.datos.gov.co/Econom-a-y-Finanzas/Tasa-de-Cambio-Representativa-del-Mercado-Historic/mcec-87by/data
A31: NOTA: Teniendo en cuenta que las ofertas economicas no se presentaron con decimales, no se hace necesario realizar correcciones aritmeticas por este concepto a las ofertas. | C31: DECIMALES TRM VIGENTE PARA 24 DE SEPTIEMBRE DE 2024 | D31: 0.21
C32: Asignación de metodo de evaluacion según Rango Decimales TRM | D32: MEDIA ARITMETICA
C33: Promedio Aritmético simple de las propuestas económicas válidas | D33: =AVERAGE(C40:C43) -> 9943680973
C34: Valor Total corregido de la propuesta válida más Alta | D34: =MAX(C40:C43) -> 9971291787
C35: Media Aritmetica | D35: =AVERAGE(C40:C43) -> 9943680973
A37: PRESUPUESTO OFICIAL X PRECIO UNITARIO LOTE 2 | C37: 10223124286 | E37: PUNTAJE MAXÍMO
A39: Nª | B39: OFERENTE | C39: VALOR OFERTADO TOTAL X PRECIO UNITARIO | D39: DIFERENCIA vs MEDIA ARITMETICA | E39: 48.75 | F39: Valor Menor a Media Aritmetica
A40: 1 | B40: 1. CONSORCIO HABITABILDAD EN CALLE 2024 | C40: ='CON. HABITABILIDAD EN CALLE LT2'!G10 -> 9971291787 | D40: =ABS($D$35-C40) -> 27610814 | E40: =IF(C40<=$D$35,(($E$39*(1-(($D$35-C40)/$D$35)))),($E$39*(1-(2*(ABS(($D$35)-C40)/$D$35))))) -> 48.47927 | F40: =IF(C40<=$D$35,"SI","NO") -> NO
A41: 2 | B41: 4. UT ATENCION SOCIAL INTEGRAL | C41: ='UT ATENCION SOCIAL IN LT2'!G10 -> 9916070159 | D41: =ABS($D$35-C41) -> 27610814 | E41: =IF(C41<=$D$35,(($E$39*(1-(($D$35-C41)/$D$35)))),($E$39*(1-(2*(ABS(($D$35)-C41)/$D$35))))) -> 48.614635 | F41: =IF(C41<=$D$35,"SI","NO") -> SI
A42: 3 | E42: =IF(C42<=$D$35,(($E$39*(1-(($D$35-C42)/$D$35)))),($E$39*(1-(2*(ABS(($D$35)-C42)/$D$35))))) -> 0 | F42: =IF(C42<=$D$35,"SI","NO") -> SI
A43: 4 | E43: =IF(C43<=$D$35,(($E$39*(1-(($D$35-C43)/$D$35)))),($E$39*(1-(2*(ABS(($D$35)-C43)/$D$35))))) -> 0 | F43: =IF(C43<=$D$35,"SI","NO") -> SI
A51: Evaluadores
A55: LUIS OCTAVIO LARA TELLO
A56: APOYO A LASUPERVISION
A57: CC 79659500
A62: DANIEL ARTURO BERNAL ORTIZ
A63: CONTRATISTA
A64: Subdireccion para la adultez

Sheet Evaluacion economica lt 3 100
A1: 7948
A2: SDIS-SAMC-010-2024
A3: FORMATO - EVALUACIÓN OFERTA ECONÓMICA ECONOMICA
A4: OBJETO: | B4: : “BRINDAR PROCESOS DE ATENCIÓN INTEGRAL ORIENTADOS A LA POBLACIÓN HABITANTE DE CALLE DE 29 AÑOS DE EDAD EN ADELANTE, A TRAVÉS DE UN SERVICIO DE COMUNIDAD DE VIDA DIRIGIDO LA SUPERACIÓN DE LAS FORMAS EXTREMAS DE EXCLUSIÓN ASOCIADAS A LAS DINÁMICAS DE VIDA EN CALLE”
A5: LOTE: | B5: LOTE 3 100 CUPOS
A6: METODO DE EVALUACIÓN
C7: fecha de cierre: | D7: 45561
C8: TRM VIGENTE SEGUNDO DIA HABIL | D8: 4164.21
C9: https://www.datos.gov.co/Econom-a-y-Finanzas/Tasa-de-Cambio-Representativa-del-Mercado-Historic/mcec-87by/data
A31: NOTA: Teniendo en cuenta que las ofertas economicas no se presentaron con decimales, no se hace necesario realizar correcciones aritmeticas por este concepto a las ofertas. | C31: DECIMALES TRM VIGENTE PARA 24 DE SEPTIEMBRE DE 2024 | D31: 0.21
C32: Asignación de metodo de evaluacion según Rango Decimales TRM | D32: MEDIA ARITMETICA
C33: Promedio Aritmético simple de las propuestas económicas válidas | D33: =AVERAGE(C40:C41) -> 8363113365
C34: Valor Total corregido de la propuesta válida más Alta | D34: =MAX(C40:C41) -> 8447553539
C35: Media Aritmetica | D35: =AVERAGE(C40:C41) -> 8363113365
A37: PRESUPUESTO OFICIAL X PRECIO UNITARIO LOTE 3 | C37: 8534714532 | E37: PUNTAJE MAXÍMO
A39: Nª | B39: OFERENTE | C39: VALOR OFERTADO TOTAL X PRECIO UNITARIO | D39: DIFERENCIA vs MEDIA ARITMETICA | E39: 48.75 | F39: Valor Menor a Media aritmética
A40: 1 | B40: 2. MESALUD LIMITADA | C40: ='MESALUD LT 3'!G10 -> 8447553539 | D40: =ABS($D$35-C40) -> 84440174 | E40: =IF(C40<=$D$35,(($E$39*(1-(($D$35-C40)/$D$35)))),($E$39*(1-(2*(ABS(($D$35)-C40)/$D$35))))) -> 47.765568 | F40: =IF(C40<=$D$35,"SI","NO") -> NO
A41: 2 | B41: 4. UT ATENCION SOCIAL INTEGRAL | C41: ='UT ATENCION SOCIAL IN LT3'!G10 -> 8278673191 | D41: =ABS($D$35-C41) -> 84440174 | E41: =IF(C41<=$D$35,(($E$39*(1-(($D$35-C41)/$D$35)))),($E$39*(1-(2*(ABS(($D$35)-C41)/$D$35))))) -> 48.257784 | F41: =IF(C41<=$D$35,"SI","NO") -> SI
A48: Evaluadores
A52: LUIS OCTAVIO LARA TELLO
A53: APOYO A LASUPERVISION
A54: CC 79659500
A59: DANIEL ARTURO BERNAL ORTIZ
A60: CONTRATISTA
A61: Subdireccion para la adultez

Sheet CON. HABITABILIDAD EN CALLE LT1
A2: Proveedor: | B2: CONSORCIO POR LA REDUCCION DE LA HABILITABILIDAD EN CALLE 2024
A3: Número de oferta | B3: COMUNIDADES DE VIDA TRES LOTES
A4: Fecha de envío: | B4: 9/25/2024 6:00:31 PM
A5: Id del procedimiento: | B5: CO1.REQ.6877534
A6: Número del proceso | B6: SDIS-SAMC-010-2024. (Manifestación de interés (Menor Cuantía)) (Presentación de oferta)
A7: Nombre: | B7: COMUNIDAD DE VIDA (Manifestación de interés (Menor Cuantía)) (Presentación de oferta)
F9: Precio total estimado | G9: Incluya el precio como lo indique la Entidad Estatal | H9: Precio propuesta > que Presupuesto SDIS
E10: CONSOLIDADO OFERTA ECONOMICA 2024+2025 | F10: =F52+F96 -> 10223124286 | G10: =G52+G96 -> 9971291787 | H10: =IF(G10>F10,"No Habilitado","Habilitado") -> Habilitado
A12: OFERTA ECONOMICA PARA LA VIGENCIA 2024
A13: Nivel | B13: Id | C13: Ref. Artículo | D13: Código UNSPSC | E13: Descripción | F13: Precio total estimado | G13: Incluya el precio como lo indique la Entidad Estatal | H13: Precio propuesta > que Presupuesto SDIS
A14: 0 | B14: CO1.BILN.1203840706 | C14: 1 | D14: 93141506 | E14: COORDINADOR A O RESPONSABLE Cantidad de coordinador 1 Cantidad de coordinador 1 De acuerdo a lo indicado en el anexo Tecnico No 1 de 5 y estructura de costos | F14: 15399630 | G14: 15399630 | H14: =IF(G14>F14,"No","SI") -> SI
A15: 0 | B15: CO1.BILN.1203840707 | C15: 2 | D15: 93141506 | E15: NUTRICIONISTA DIETISTA Cantidad de nutricionista dietista 2 De acuerdo a lo indicado en el anexo Tecnico No 1 de 5 y estructura de costos | F15: 26398350 | G15: 26398350 | H15: =IF(G15>F15,"No","SI") -> SI
A16: 0 | B16: CO1.BILN.1203840708 | C16: 3 | D16: 93141506 | E16: PROFESIONAL EN PEDAGOGIA REEDUCADOR O LICENCIADO EN PEDAGO Cantidad Profesional en pedagogia reeducador o licenciado en pedagogia 2 De acuerdo al anexo Tecnico 1 de 5 y estructura de costos | F16: 26398350 | G16: 26398350 | H16: =IF(G16>F16,"No","SI") -> SI
A17: 0 | B17: CO1.BILN.1203840709 | C17: 4 | D17: 93141506 | E17: PROFESIONAL EN PSICOLOGIA Cantidad de profesional en psicologia 5 De acuerdo a lo indicado en el anexo Tecnico No 1 de 5 y estructura de costos | F17: 65995875 | G17: 65995875 | H17: =IF(G17>F17,"No","SI") -> SI
A18: 0 | B18: CO1.BILN.1203840710 | C18: 5 | D18: 93141506 | E18: TERAPEUTA OCUPACIONAL Cantidad de terapeuta ocupacional 5 De acuerdo a lo indicado en el anexo Tecnico No 1 de 5 y estructura de costos | F18: 65995875 | G18: 65995875 | H18: =IF(G18>F18,"No","SI") -> SI
A19: 0 | B19: CO1.BILN.1203840711 | C19: 6 | D19: 93141506 | E19: TRABAJADOR A SOCIAL Cantidad de trabajador a social 5 De acuerdo a lo indicado en el anexo Tecnico No 1 de 5 y estructura de costos | F19: 65995875 | G19: 65995875 | H19: =IF(G19>F19,"No","SI") -> SI
A20: 0 | B20: CO1.BILN.1203840712 | C20: 7 | D20: 93141506 | E20: EDUCADOR Fisico Cantidad de educador Fisico 2 De acuerdo a lo indicado en el anexo Tecnico No 1 de 5 y estructura de costos | F20: 21997440 | G20: 21997440 | H20: =IF(G20>F20,"No","SI") -> SI
A21: 0 | B21: CO1.BILN.1203840713 | C21: 8 | D21: 93141506 | E21: PROMOTORES AS SOCIAL Cantidad de promotores as social 20 De acuerdo a lo indicado en el anexo Tecnico No 1 de 5 y estructura de costos | F21: 146741400 | G21: 146741400 | H21: =IF(G21>F21,"No","SI") -> SI
A22: 0 | B22: CO1.BILN.1203840714 | C22: 9 | D22: 93141506 | E22: TECNICO OPERATIVO Cantidad Tecnico Operativo 1 De acuerdo a lo indicado en el anexo Tecnico No 1 de 5 y estructura de costos | F22: 8657760 | G22: 8657760 | H22: =IF(G22>F22,"No","SI") -> SI
A23: 0 | B23: CO1.BILN.1203840715 | C23: 10 | D23: 93141506 | E23: Tecnico ADMINISTRATIVO Cantidad de Tecnico administrativo 1 De acuerdo a lo indicado en el anexo Tecnico No 1 de 5 y estructura de costos | F23: 8657760 | G23: 8657760 | H23: =IF(G23>F23,"No","SI") -> SI
A24: 0 | B24: CO1.BILN.1203840716 | C24: 11 | D24: 93141506 | E24: Tecnico A O TECNoLOGO A AMBIENTAL Cantidad de Tecnico a o tecnologo a ambiental 1 De acuerdo a lo indicado en el anexo Tecnico No 1 de 5 y estructura de costos | F24: 8657760 | G24: 8657760 | H24: =IF(G24>F24,"No","SI") -> SI
A25: 0 | B25: CO1.BILN.1203840717 | C25: 12 | D25: 93141506 | E25: Tecnico A O TECNoLOGO A EN ALIMENTOS Cantidad de Tecnico a o tecnologo a en alimentos 1 De acuerdo a lo indicado en el anexo Tecnico No 1 de 5 y estructura de costos | F25: 8657760 | G25: 8657760 | H25: =IF(G25>F25,"No","SI") -> SI
... A50: 0 | B50: CO1.BILN.1203840742 | C50: 37 | D50: 93141506 | E50: ALIMENTACION Cantidad de alimentacion DIAria para 100 cupos de acuerdo a lo indicado en el anexo Tecnico No 2 de 5 y estructura de costos | F50: 421882652 | G50: 405007276 | H50: =IF(G50>F50,"No","SI") -> SI
F52: =SUM(F14:F51) -> 1980777266 | G52: =SUM(G14:G51) -> 1931403709 | H52: =IF(G52>F52,"No Habilitado","Habilitado") -> Habilitado
A55: OFERTA ECONOMICA PARA LA VIGENCIA 2025
A56: Nivel | B56: Id | C56: Ref. Artículo | D56: Código UNSPSC | E56: Descripción | F56: Precio total estimado | G56: Incluya el precio como lo indique la Entidad Estatal | H56: Precio propuesta > que Presupuesto SDIS
A57: 0 | B57: CO1.BILN.1203870830 | C57: 1 | D57: 93141506 | E57: COORDINADOR/A O RESPONSABLE Cantidad de coordinador 1 Cantidad de coordinador 1 De acuerdo a lo indicado en el anexo TECNICO No 1 de 5 y estructura de costos | F57: 65935056 | G57: 65935056 | H57: =IF(G57>F57,"No","SI") -> SI
A58: 0 | B58: CO1.BILN.1203870831 | C58: 2 | D58: 93141506 | E58: NUTRICIONISTA DIETISTA Cantidad de nutricionista dietista 2 De acuerdo a lo indicado en el anexo TECNICO No 1 de 5 y estructura de costos | F58: 113027184 | G58: 113027184 | H58: =IF(G58>F58,"No","SI") -> SI
A59: 0 | B59: CO1.BILN.1203870832 | C59: 3 | D59: 93141506 | E59: PROFESIONAL EN PEDAGOGiA REEDUCADOR O LICENCIADO EN PEDAGO Cantidad Profesional en pedagogia reeducador o licenciado en pedagogia 2 De acuerdo al anexo TECNICO 1 de 5 y estructura de costos | F59: 113027184 | G59: 113027184 | H59: =IF(G59>F59,"No","SI") -> SI
A60: 0 | B60: CO1.BILN.1203870833 | C60: 4 | D60: 93141506 | E60: PROFESIONAL EN PSICOLOGiA Cantidad de profesional en psicologia 5 De acuerdo a lo indicado en el anexo TECNICO No 1 de 5 y estructura de costos | F60: 282567960 | G60: 282567960 | H60: =IF(G60>F60,"No","SI") -> SI
A61: 0 | B61: CO1.BILN.1203870834 | C61: 5 | D61: 93141506 | E61: TERAPEUTA OCUPACIONAL Cantidad de terapeuta ocupacional 5 De acuerdo a lo indicado en el anexo TECNICO No 1 de 5 y estructura de costos | F61: 282567960 | G61: 282567960 | H61: =IF(G61>F61,"No","SI") -> SI
A62: 0 | B62: CO1.BILN.1203870835 | C62: 6 | D62: 93141506 | E62: TRABAJADOR A SOCIAL Cantidad de trabajador a social 5 De acuerdo a lo indicado en el anexo TECNICO No 1 de 5 y estructura de costos | F62: 282567960 | G62: 282567960 | H62: =IF(G62>F62,"No","SI") -> SI
A63: 0 | B63: CO1.BILN.1203870836 | C63: 7 | D63: 93141506 | E63: EDUCADOR FISICO Cantidad de educador FISICO 2 De acuerdo a lo indicado en el anexo TECNICO No 1 de 5 y estructura de costos | F63: 94184232 | G63: 94184232 | H63: =IF(G63>F63,"No","SI") -> SI
A64: 0 | B64: CO1.BILN.1203870837 | C64: 8 | D64: 93141506 | E64: PROMOTORES AS SOCIAL Cantidad de promotores as social 20 De acuerdo a lo indicado en el anexo TECNICO No 1 de 5 y estructura de costos | F64: 628288080 | G64: 628288080 | H64: =IF(G64>F64,"No","SI") -> SI
A65: 0 | B65: CO1.BILN.1203870838 | C65: 9 | D65: 93141506 | E65: TECNICO OPERATIVO Cantidad TECNICO Operativo 1 De acuerdo a lo indicado en el anexo TECNICO No 1 de 5 y estructura de costos | F65: 37069068 | G65: 37069068 | H65: =IF(G65>F65,"No","SI") -> SI
A66: 0 | B66: CO1.BILN.1203870839 | C66: 10 | D66: 93141506 | E66: TECNICO ADMINISTRATIVO Cantidad de TECNICO administrativo 1 De acuerdo a lo indicado en el anexo TECNICO No 1 de 5 y estructura de costos | F66: 37069068 | G66: 37069068 | H66: =IF(G66>F66,"No","SI") -> SI
A67: 0 | B67: CO1.BILN.1203870840 | C67: 11 | D67: 93141506 | E67: TECNICO A O TECNoLOGO A AMBIENTAL Cantidad de TECNICO a o tecnologo a ambiental 1 De acuerdo a lo indicado en el anexo TECNICO No 1 de 5 y estructura de costos | F67: 37069068 | G67: 37069068 | H67: =IF(G67>F67,"No","SI") -> SI
A68: 0 | B68: CO1.BILN.1203870841 | C68: 12 | D68: 93141506 | E68: TECNICO A O TECNoLOGO A EN ALIMENTOS Cantidad de TECNICO a o tecnologo a en alimentos 1 De acuerdo a lo indicado en el anexo TECNICO No 1 de 5 y estructura de costos | F68: 37069068 | G68: 37069068 | H68: =IF(G68>F68,"No","SI") -> SI
... A94: 0 | B94: CO1.BILN.1203870867 | C94: 38 | D94: 93141506 | E94: ALIMENTACION Cantidad de alimentacion diaria para 100 cupos de acuerdo a lo indicado en el anexo TECNICO No 2 de 5 y estructura de costos | F94: 1723986615 | G94: 1655026800 | H94: =IF(G94>F94,"No","SI") -> SI
F96: =SUM(F57:F95) -> 8242347020 | G96: =SUM(G57:G95) -> 8039888078 | H96: =IF(G96>F96,"No Habilitado","Habilitado") -> Habilitado

Sheet CON. HABITABILIDAD EN CALLE LT2
A2: Proveedor: | B2: CONSORCIO POR LA REDUCCION DE LA HABILITABILIDAD EN CALLE 2024
A3: Número de oferta | B3: COMUNIDADES DE VIDA TRES LOTES
A4: Fecha de envío: | B4: 9/25/2024 6:00:31 PM
A5: Id del procedimiento: | B5: CO1.REQ.6877534
A6: Número del proceso | B6: SDIS-SAMC-010-2024. (Manifestación de interés (Menor Cuantía)) (Presentación de oferta)
A7: Nombre: | B7: COMUNIDAD DE VIDA (Manifestación de interés (Menor Cuantía)) (Presentación de oferta)
F9: Precio total estimado | G9: Incluya el precio como lo indique la Entidad Estatal | H9: Precio propuesta > que Presupuesto SDIS
E10: CONSOLIDADO OFERTA ECONOMICA 2024+2025 | F10: =F52+F96 -> 10223124286 | G10: =G52+G96 -> 9971291787 | H10: =IF(G10>F10,"No Habilitado","Habilitado") -> Habilitado
A12: OFERTA ECONOMICA PARA LA VIGENCIA 2024
A13: Nivel | B13: Id | C13: Ref. Artículo | D13: Código UNSPSC | E13: Descripción | F13: Precio total estimado | G13: Incluya el precio como lo indique la Entidad Estatal | H13: Precio propuesta > que Presupuesto SDIS
A14: 0 | B14: CO1.BILN.1203870889 | C14: 1 | D14: 93141506 | E14: COORDINADOR A O RESPONSABLE Cantidad de coordinador 1 Cantidad de coordinador 1 De acuerdo a lo indicado en el anexo Tecnico No 1 de 5 y estructura de costos | F14: 15399630 | G14: 15399630 | H14: =IF(G14>F14,"No","SI") -> SI
A15: 0 | B15: CO1.BILN.1203870890 | C15: 2 | D15: 93141506 | E15: NUTRICIONISTA DIETISTA Cantidad de nutricionista dietista 2 De acuerdo a lo indicado en el anexo Tecnico No 1 de 5 y estructura de costos | F15: 26398350 | G15: 26398350 | H15: =IF(G15>F15,"No","SI") -> SI
A16: 0 | B16: CO1.BILN.1203870891 | C16: 3 | D16: 93141506 | E16: PROFESIONAL EN PEDAGOGIA REEDUCADOR O LICENCIADO EN PEDAGO Cantidad Profesional en pedagogia reeducador o licenciado en pedagogia 2 De acuerdo al anexo Tecnico 1 de 5 y estructura de costos | F16: 26398350 | G16: 26398350 | H16: =IF(G16>F16,"No","SI") -> SI
A17: 0 | B17: CO1.BILN.1203870892 | C17: 4 | D17: 93141506 | E17: PROFESIONAL EN PSICOLOGIA Cantidad de profesional en psicologia 5 De acuerdo a lo indicado en el anexo Tecnico No 1 de 5 y estructura de costos | F17: 65995875 | G17: 65995875 | H17: =IF(G17>F17,"No","SI") -> SI
A18: 0 | B18: CO1.BILN.1203870893 | C18: 5 | D18: 93141506 | E18: TERAPEUTA OCUPACIONAL Cantidad de terapeuta ocupacional 5 De acuerdo a lo indicado en el anexo Tecnico No 1 de 5 y estructura de costos | F18: 65995875 | G18: 65995875 | H18: =IF(G18>F18,"No","SI") -> SI
A19: 0 | B19: CO1.BILN.1203870894 | C19: 6 | D19: 93141506 | E19: TRABAJADOR A SOCIAL Cantidad de trabajador a social 5 De acuerdo a lo indicado en el anexo Tecnico No 1 de 5 y estructura de costos | F19: 65995875 | G19: 65995875 | H19: =IF(G19>F19,"No","SI") -> SI
A20: 0 | B20: CO1.BILN.1203870895 | C20: 7 | D20: 93141506 | E20: EDUCADOR Fisico Cantidad de educador Fisico 2 De acuerdo a lo indicado en el anexo Tecnico No 1 de 5 y estructura de costos | F20: 21997440 | G20: 21997440 | H20: =IF(G20>F20,"No","SI") -> SI
A21: 0 | B21: CO1.BILN.1203870896 | C21: 8 | D21: 93141506 | E21: PROMOTORES AS SOCIAL Cantidad de promotores as social 20 De acuerdo a lo indicado en el anexo Tecnico No 1 de 5 y estructura de costos | F21: 146741400 | G21: 146741400 | H21: =IF(G21>F21,"No","SI") -> SI
A22: 0 | B22: CO1.BILN.1203870897 | C22: 9 | D22: 93141506 | E22: TECNICO OPERATIVO Cantidad Tecnico Operativo 1 De acuerdo a lo indicado en el anexo Tecnico No 1 de 5 y estructura de costos | F22: 8657760 | G22: 8657760 | H22: =IF(G22>F22,"No","SI") -> SI
A23: 0 | B23: CO1.BILN.1203870898 | C23: 10 | D23: 93141506 | E23: Tecnico ADMINISTRATIVO Cantidad de Tecnico administrativo 1 De acuerdo a lo indicado en el anexo Tecnico No 1 de 5 y estructura de costos | F23: 8657760 | G23: 8657760 | H23: =IF(G23>F23,"No","SI") -> SI
A24: 0 | B24: CO1.BILN.1203870899 | C24: 11 | D24: 93141506 | E24: Tecnico A O TECNoLOGO A AMBIENTAL Cantidad de Tecnico a o tecnologo a ambiental 1 De acuerdo a lo indicado en el anexo Tecnico No 1 de 5 y estructura de costos | F24: 8657760 | G24: 8657760 | H24: =IF(G24>F24,"No","SI") -> SI
A25: 0 | B25: CO1.BILN.1203870900 | C25: 12 | D25: 93141506 | E25: Tecnico A O TECNoLOGO A EN ALIMENTOS Cantidad de Tecnico a o tecnologo a en alimentos 1 De acuerdo a lo indicado en el anexo Tecnico No 1 de 5 y estructura de costos | F25: 8657760 | G25: 8657760 | H25: =IF(G25>F25,"No","SI") -> SI
... A50: 0 | B50: CO1.BILN.1203870925 | C50: 37 | D50: 93141506 | E50: ALIMENTACION Cantidad de alimentacion DIAria para 100 cupos de acuerdo a lo indicado en el anexo Tecnico No 2 de 5 y estructura de costos | F50: 421882652 | G50: 405007276 | H50: =IF(G50>F50,"No","SI") -> SI
F52: =SUM(F14:F51) -> 1980777266 | G52: =SUM(G14:G51) -> 1931403709 | H52: =IF(G52>F52,"No Habilitado","Habilitado") -> Habilitado
A55: OFERTA ECONOMICA PARA LA VIGENCIA 2025
A56: Nivel | B56: Id | C56: Ref. Artículo | D56: Código UNSPSC | E56: Descripción | F56: Precio total estimado | G56: Incluya el precio como lo indique la Entidad Estatal | H56: Precio propuesta > que Presupuesto SDIS
A57: 0 | B57: CO1.BILN.1203870934 | C57: 1 | D57: 93141506 | E57: COORDINADOR A O RESPONSABLE Cantidad de coordinador 1 Cantidad de coordinador 1 De acuerdo a lo indicado en el anexo TECNICO No 1 de 5 y estructura de costos | F57: 65935056 | G57: 65935056 | H57: =IF(G57>F57,"No","SI") -> SI
A58: 0 | B58: CO1.BILN.1203870935 | C58: 2 | D58: 93141506 | E58: NUTRICIONISTA DIETISTA Cantidad de nutricionista dietista 2 De acuerdo a lo indicado en el anexo TECNICO No 1 de 5 y estructura de costos | F58: 113027184 | G58: 113027184 | H58: =IF(G58>F58,"No","SI") -> SI
A59: 0 | B59: CO1.BILN.1203870936 | C59: 3 | D59: 93141506 | E59: PROFESIONAL EN PEDAGOGIA REEDUCADOR O LICENCIADO EN PEDAGO Cantidad Profesional en pedagogia reeducador o licenciado en pedagogia 2 De acuerdo al anexo TECNICO 1 de 5 y estructura de costos | F59: 113027184 | G59: 113027184 | H59: =IF(G59>F59,"No","SI") -> SI
A60: 0 | B60: CO1.BILN.1203870937 | C60: 4 | D60: 93141506 | E60: PROFESIONAL EN PSICOLOGIA Cantidad de profesional en psicologia 5 De acuerdo a lo indicado en el anexo TECNICO No 1 de 5 y estructura de costos | F60: 282567960 | G60: 282567960 | H60: =IF(G60>F60,"No","SI") -> SI
A61: 0 | B61: CO1.BILN.1203870938 | C61: 5 | D61: 93141506 | E61: TERAPEUTA OCUPACIONAL Cantidad de terapeuta ocupacional 5 De acuerdo a lo indicado en el anexo TECNICO No 1 de 5 y estructura de costos | F61: 282567960 | G61: 282567960 | H61: =IF(G61>F61,"No","SI") -> SI
A62: 0 | B62: CO1.BILN.1203870939 | C62: 6 | D62: 93141506 | E62: TRABAJADOR A SOCIAL Cantidad de trabajador a social 5 De acuerdo a lo indicado en el anexo TECNICO No 1 de 5 y estructura de costos | F62: 282567960 | G62: 282567960 | H62: =IF(G62>F62,"No","SI") -> SI
A63: 0 | B63: CO1.BILN.1203870940 | C63: 7 | D63: 93141506 | E63: EDUCADOR FISICO Cantidad de educador FISICO 2 De acuerdo a lo indicado en el anexo TECNICO No 1 de 5 y estructura de costos | F63: 94184232 | G63: 94184232 | H63: =IF(G63>F63,"No","SI") -> SI
A64: 0 | B64: CO1.BILN.1203870941 | C64: 8 | D64: 93141506 | E64: PROMOTORES AS SOCIAL Cantidad de promotores as social 20 De acuerdo a lo indicado en el anexo TECNICO No 1 de 5 y estructura de costos | F64: 628288080 | G64: 628288080 | H64: =IF(G64>F64,"No","SI") -> SI
A65: 0 | B65: CO1.BILN.1203870942 | C65: 9 | D65: 93141506 | E65: TECNICO OPERATIVO Cantidad TECNICO Operativo 1 De acuerdo a lo indicado en el anexo TECNICO No 1 de 5 y estructura de costos | F65: 37069068 | G65: 37069068 | H65: =IF(G65>F65,"No","SI") -> SI
A66: 0 | B66: CO1.BILN.1203870943 | C66: 10 | D66: 93141506 | E66: TECNICO ADMINISTRATIVO Cantidad de TECNICO administrativo 1 De acuerdo a lo indicado en el anexo TECNICO No 1 de 5 y estructura de costos | F66: 37069068 | G66: 37069068 | H66: =IF(G66>F66,"No","SI") -> SI
A67: 0 | B67: CO1.BILN.1203870944 | C67: 11 | D67: 93141506 | E67: TECNICO A O TECNoLOGO A AMBIENTAL Cantidad de TECNICO a o tecnologo a ambiental 1 De acuerdo a lo indicado en el anexo TECNICO No 1 de 5 y estructura de costos | F67: 37069068 | G67: 37069068 | H67: =IF(G67>F67,"No","SI") -> SI
A68: 0 | B68: CO1.BILN.1203870945 | C68: 12 | D68: 93141506 | E68: TECNICO A O TECNoLOGO A EN ALIMENTOS Cantidad de TECNICO a o tecnologo a en alimentos 1 De acuerdo a lo indicado en el anexo TECNICO No 1 de 5 y estructura de costos | F68: 37069068 | G68: 37069068 | H68: =IF(G68>F68,"No","SI") -> SI
... A94: 0 | B94: CO1.BILN.1203870971 | C94: 38 | D94: 93141506 | E94: ALIMENTACION Cantidad de alimentacion Dria para 100 cupos de acuerdo a lo indicado en el anexo TECNICO No 2 de 5 y estructura de costos | F94: 1723986615 | G94: 1655026800 | H94: =IF(G94>F94,"No","SI") -> SI
F96: =SUM(F57:F95) -> 8242347020 | G96: =SUM(G57:G95) -> 8039888078 | H96: =IF(G96>F96,"No Habilitado","Habilitado") -> Habilitado

Sheet CON. HABITABILIDAD EN CALLE LT3
A2: Proveedor: | B2: CONSORCIO POR LA REDUCCION DE LA HABILITABILIDAD EN CALLE 2024
A3: Número de oferta | B3: COMUNIDADES DE VIDA TRES LOTES
A4: Fecha de envío: | B4: 9/25/2024 6:00:31 PM
A5: Id del procedimiento: | B5: CO1.REQ.6877534
A6: Número del proceso | B6: SDIS-SAMC-010-2024. (Manifestación de interés (Menor Cuantía)) (Presentación de oferta)
A7: Nombre: | B7: COMUNIDAD DE VIDA (Manifestación de interés (Menor Cuantía)) (Presentación de oferta)
F9: PRESUPUESTO SDIS | G9: PRECIO OFERTA | H9: Precio propuesta < que Presupuesto SDIS | J9: DIFERENCIA | K9: %
E10: CONSOLIDADO OFERTA ECONOMICA 2024+2025 | F10: =F52+F96 -> 8534714532 | G10: =G52+G96 -> 8329303795 | H10: =IF(G10<F10,"Habilitado","No Habilitado") -> Habilitado | J10: =F10-G10 -> 205410737 | K10: =J10/F10 -> 0.024067675
A12: OFERTA ECONOMICA PARA LA VIGENCIA 2024
A13: Nivel | B13: Id | C13: Ref. Artículo | D13: Código UNSPSC | E13: Descripción | F13: PRESUPUESTO SDIS | G13: PRECIO OFERTA | H13: Precio propuesta < que Presupuesto SDIS
A14: 0 | B14: CO1.BILN.1203871169 | C14: 1 | D14: 93141506 | E14: COORDINADOR/A O RESPONSABLE Cantidad de coordinador 1 Cantidad de coordinador 1 De acuerdo a lo indicado en el anexo tecnico No 1 de 5 y estructura de costos | F14: 15399630 | G14: 15399630 | H14: =IF(G14<=F14,"SI","NO") -> SI | J14: =F14-G14 -> 0 | K14: =J14/F14 -> 0
A15: 0 | B15: CO1.BILN.1203871170 | C15: 2 | D15: 93141506 | E15: NUTRICIONISTA DIETISTA Cantidad de nutricionista dietista 2 De acuerdo a lo indicado en el anexo tecnico No 1 de 5 y estructura de costos | F15: 26398350 | G15: 26398350 | H15: =IF(G15<=F15,"SI","NO") -> SI | J15: =F15-G15 -> 0 | K15: =J15/F15 -> 0
A16: 0 | B16: CO1.BILN.1203871171 | C16: 3 | D16: 93141506 | E16: PROFESIONAL EN PEDAGOGiA REEDUCADOR O LICENCIADO EN PEDAGO 2 Cantidad Profesional en pedagogia reeducador o licenciado en pedagogia 2 De acuerdo al anexo tecnico 1 de 5 y estructura de costos | F16: 26398350 | G16: 26398350 | H16: =IF(G16<=F16,"SI","NO") -> SI | J16: =F16-G16 -> 0 | K16: =J16/F16 -> 0
A17: 0 | B17: CO1.BILN.1203871172 | C17: 4 | D17: 93141506 | E17: PROFESIONAL EN PSICOLOGiA Cantidad de profesional en psicologia 4 De acuerdo a lo indicado en el anexo tecnico No 1 de 5 y estructura de costos | F17: 52796700 | G17: 52796700 | H17: =IF(G17<=F17,"SI","NO") -> SI | J17: =F17-G17 -> 0 | K17: =J17/F17 -> 0
A18: 0 | B18: CO1.BILN.1203871173 | C18: 5 | D18: 93141506 | E18: TERAPEUTA OCUPACIONAL Cantidad de terapeuta ocupacional 4 De acuerdo a lo indicado en el anexo tecnico No 1 de 5 y estructura de costos | F18: 52796700 | G18: 52796700 | H18: =IF(G18<=F18,"SI","NO") -> SI | J18: =F18-G18 -> 0 | K18: =J18/F18 -> 0
A19: 0 | B19: CO1.BILN.1203871174 | C19: 6 | D19: 93141506 | E19: TRABAJADOR A SOCIAL Cantidad de trabajador a social 4 De acuerdo a lo indicado en el anexo tecnico No 1 de 5 y estructura de costos | F19: 52796700 | G19: 52796700 | H19: =IF(G19<=F19,"SI","NO") -> SI | J19: =F19-G19 -> 0 | K19: =J19/F19 -> 0
A20: 0 | B20: CO1.BILN.1203871175 | C20: 7 | D20: 93141506 | E20: EDUCADOR FiSICO Cantidad de educador fisico 2 De acuerdo a lo indicado en el anexo tecnico No 1 de 5 y estructura de costos | F20: 21997440 | G20: 21997440 | H20: =IF(G20<=F20,"SI","NO") -> SI | J20: =F20-G20 -> 0 | K20: =J20/F20 -> 0
A21: 0 | B21: CO1.BILN.1203871176 | C21: 8 | D21: 93141506 | E21: PROMOTORES AS SOCIAL Cantidad de promotores as social 16 De acuerdo a lo indicado en el anexo tecnico No 1 de 5 y estructura de costos | F21: 117393120 | G21: 117393120 | H21: =IF(G21<=F21,"SI","NO") -> SI | J21: =F21-G21 -> 0 | K21: =J21/F21 -> 0
A22: 0 | B22: CO1.BILN.1203871177 | C22: 9 | D22: 93141506 | E22: TECNICO OPERATIVO Cantidad tecnico Operativo 1 De acuerdo a lo indicado en el anexo tecnico No 1 de 5 y estructura de costos | F22: 8657760 | G22: 8657760 | H22: =IF(G22<=F22,"SI","NO") -> SI | J22: =F22-G22 -> 0 | K22: =J22/F22 -> 0
A23: 0 | B23: CO1.BILN.1203871178 | C23: 10 | D23: 93141506 | E23: TeCNICO ADMINISTRATIVO Cantidad de tecnico administrativo 1 De acuerdo a lo indicado en el anexo tecnico No 1 de 5 y estructura de costos | F23: 8657760 | G23: 8657760 | H23: =IF(G23<=F23,"SI","NO") -> SI | J23: =F23-G23 -> 0 | K23: =J23/F23 -> 0
A24: 0 | B24: CO1.BILN.1203871179 | C24: 11 | D24: 93141506 | E24: TeCNICO A O TECNoLOGO A AMBIENTAL Cantidad de tecnico a o tecnologo a ambiental 1 De acuerdo a lo indicado en el anexo tecnico No 1 de 5 y estructura de costos | F24: 8657760 | G24: 8657760 | H24: =IF(G24<=F24,"SI","NO") -> SI | J24: =F24-G24 -> 0 | K24: =J24/F24 -> 0
A25: 0 | B25: CO1.BILN.1203871180 | C25: 12 | D25: 93141506 | E25: TeCNICO A O TECNoLOGO A EN ALIMENTOS Cantidad de tecnico a o tecnologo a en alimentos 1 De acuerdo a lo indicado en el anexo tecnico No 1 de 5 y estructura de costos | F25: 8657760 | G25: 8657760 | H25: =IF(G25<=F25,"SI","NO") -> SI | J25: =F25-G25 -> 0 | K25: =J25/F25 -> 0
... A50: 0 | B50: CO1.BILN.1203871205 | C50: 37 | D50: 93141506 | E50: ALIMENTACION Cantidad de alimentacion diaria para 100 cupos de acuerdo a lo indicado en el anexo tecnico No 2 de 5 y estructura de costos | F50: 324525124 | G50: 311544108 | H50: =IF(G50<=F50,"SI","NO") -> SI | J50: =F50-G50 -> 12981016 | K50: =J50/F50 -> 0.040000034
F52: =SUM(F14:F51) -> 1653127342 | G52: =SUM(G14:G51) -> 1612862806 | H52: =IF(G52<F52,"Habilitado","No Habilitado") -> Habilitado | J52: =F52-G52 -> 40264536 | K52: =J52/F52 -> 0.024356585
A55: OFERTA ECONOMICA PARA LA VIGENCIA 2025
A56: Nivel | B56: Id | C56: Ref. Artículo | D56: Código UNSPSC | E56: Descripción | F56: PRESUPUESTO SDIS | G56: PRECIO OFERTA | H56: Precio propuesta < que Presupuesto SDIS
A57: 0 | B57: CO1.BILN.1203871100 | C57: 1 | D57: 93141506 | E57: COORDINADOR/A O RESPONSABLE Cantidad de coordinador 1 Cantidad de coordinador 1 De acuerdo a lo indicado en el anexo tecnico No 1 de 5 y estructura de costos | F57: 65935056 | G57: 65935056 | H57: =IF(G57<=F57,"SI","NO") -> SI | J57: =F57-G57 -> 0 | K57: =J57/F57 -> 0
A58: 0 | B58: CO1.BILN.1203871101 | C58: 2 | D58: 93141506 | E58: NUTRICIONISTA DIETISTA Cantidad de nutricionista dietista 2 De acuerdo a lo indicado en el anexo tecnico No 1 de 5 y estructura de costos | F58: 113027184 | G58: 113027184 | H58: =IF(G58<=F58,"SI","NO") -> SI | J58: =F58-G58 -> 0 | K58: =J58/F58 -> 0
A59: 0 | B59: CO1.BILN.1203871102 | C59: 3 | D59: 93141506 | E59: PROFESIONAL EN PEDAGOGiA REEDUCADOR O LICENCIADO EN PEDAGO 2 Cantidad Profesional en pedagogia reeducador o licenciado en pedagogia 2 De acuerdo al anexo tecnico 1 de 5 y estructura de costos | F59: 113027184 | G59: 113027184 | H59: =IF(G59<=F59,"SI","NO") -> SI | J59: =F59-G59 -> 0 | K59: =J59/F59 -> 0
A60: 0 | B60: CO1.BILN.1203871103 | C60: 4 | D60: 93141506 | E60: PROFESIONAL EN PSICOLOGiA Cantidad de profesional en psicologia 4 De acuerdo a lo indicado en el anexo tecnico No 1 de 5 y estructura de costos | F60: 226054368 | G60: 226054368 | H60: =IF(G60<=F60,"SI","NO") -> SI | J60: =F60-G60 -> 0 | K60: =J60/F60 -> 0
A61: 0 | B61: CO1.BILN.1203871104 | C61: 5 | D61: 93141506 | E61: TERAPEUTA OCUPACIONAL Cantidad de terapeuta ocupacional 4 De acuerdo a lo indicado en el anexo tecnico No 1 de 5 y estructura de costos | F61: 226054368 | G61: 226054368 | H61: =IF(G61<=F61,"SI","NO") -> SI | J61: =F61-G61 -> 0 | K61: =J61/F61 -> 0
A62: 0 | B62: CO1.BILN.1203871105 | C62: 6 | D62: 93141506 | E62: TRABAJADOR A SOCIAL Cantidad de trabajador a social 4 De acuerdo a lo indicado en el anexo tecnico No 1 de 5 y estructura de costos | F62: 226054368 | G62: 226054368 | H62: =IF(G62<=F62,"SI","NO") -> SI | J62: =F62-G62 -> 0 | K62: =J62/F62 -> 0
A63: 0 | B63: CO1.BILN.1203871106 | C63: 7 | D63: 93141506 | E63: EDUCADOR FiSICO Cantidad de educador fisico 2 De acuerdo a lo indicado en el anexo tecnico No 1 de 5 y estructura de costos | F63: 94184232 | G63: 94184232 | H63: =IF(G63<=F63,"SI","NO") -> SI | J63: =F63-G63 -> 0 | K63: =J63/F63 -> 0
A64: 0 | B64: CO1.BILN.1203871107 | C64: 8 | D64: 93141506 | E64: PROMOTORES AS SOCIAL Cantidad de promotores as social 16 De acuerdo a lo indicado en el anexo tecnico No 1 de 5 y estructura de costos | F64: 502630464 | G64: 502630464 | H64: =IF(G64<=F64,"SI","NO") -> SI | J64: =F64-G64 -> 0 | K64: =J64/F64 -> 0
A65: 0 | B65: CO1.BILN.1203871108 | C65: 9 | D65: 93141506 | E65: TECNICO OPERATIVO Cantidad tecnico Operativo 1 De acuerdo a lo indicado en el anexo tecnico No 1 de 5 y estructura de costos | F65: 37069068 | G65: 37069068 | H65: =IF(G65<=F65,"SI","NO") -> SI | J65: =F65-G65 -> 0 | K65: =J65/F65 -> 0
A66: 0 | B66: CO1.BILN.1203871109 | C66: 10 | D66: 93141506 | E66: TeCNICO ADMINISTRATIVO Cantidad de tecnico administrativo 1 De acuerdo a lo indicado en el anexo tecnico No 1 de 5 y estructura de costos | F66: 37069068 | G66: 37069068 | H66: =IF(G66<=F66,"SI","NO") -> SI | J66: =F66-G66 -> 0 | K66: =J66/F66 -> 0
A67: 0 | B67: CO1.BILN.1203871110 | C67: 11 | D67: 93141506 | E67: TeCNICO A O TECNoLOGO A AMBIENTAL Cantidad de tecnico a o tecnologo a ambiental 1 De acuerdo a lo indicado en el anexo tecnico No 1 de 5 y estructura de costos | F67: 37069068 | G67: 37069068 | H67: =IF(G67<=F67,"SI","NO") -> SI | J67: =F67-G67 -> 0 | K67: =J67/F67 -> 0
A68: 0 | B68: CO1.BILN.1203871111 | C68: 12 | D68: 93141506 | E68: TeCNICO A O TECNoLOGO A EN ALIMENTOS Cantidad de tecnico a o tecnologo a en alimentos 1 De acuerdo a lo indicado en el anexo tecnico No 1 de 5 y estructura de costos | F68: 37069068 | G68: 37069068 | H68: =IF(G68<=F68,"SI","NO") -> SI | J68: =F68-G68 -> 0 | K68: =J68/F68 -> 0
... A94: 0 | B94: CO1.BILN.1203871137 | C94: 38 | D94: 93141506 | E94: ALIMENTACION Cantidad de alimentacion diaria para 100 cupos de acuerdo a lo indicado en el anexo tecnico No 2 de 5 y estructura de costos | F94: 1326143550 | G94: 1273097735 | H94: =IF(G94<=F94,"SI","NO") -> SI | J94: =F94-G94 -> 53045815 | K94: =J94/F94 -> 0.040000055
F96: =SUM(F57:F95) -> 6881587190 | G96: =SUM(G57:G95) -> 6716440989 | H96: =IF(G96<F96,"Habilitado","No Habilitado") -> Habilitado | J96: =F96-G96 -> 165146201 | K96: =J96/F96 -> 0.023998272

Sheet MESALUD LT 3
A2: Proveedor: | B2: MESALUD LIMITADA
A3: Número de oferta | B3: GUARDIANES DE SUEÑOS
A4: Fecha de envío: | B4: 9/26/2024 8:23:02 AM
A5: Id del procedimiento: | B5: CO1.REQ.6877534
A6: Número del proceso | B6: SDIS-SAMC-010-2024. (Manifestación de interés (Menor Cuantía)) (Presentación de oferta)
A7: Nombre: | B7: COMUNIDAD DE VIDA (Manifestación de interés (Menor Cuantía)) (Presentación de oferta)
F9: Precio total estimado | G9: Incluya el precio como lo indique la Entidad Estatal | H9: Precio propuesta > que Presupuesto SDIS
E10: CONSOLIDADO OFERTA ECONOMICA 2024+2025 | F10: =F52+F95 -> 8534714532 | G10: =G52+G95 -> 8447553539 | H10: =IF(G10>F10,"No Habilitado","Habilitado") -> Habilitado
A12: OFERTA ECONOMICA PARA LA VIGENCIA 2024
A13: Nivel | B13: Id | C13: Ref. Artículo | D13: Código UNSPSC | E13: Descripción | F13: Precio total estimado | G13: Incluya el precio como lo indique la Entidad Estatal | H13: Precio propuesta < que Presupuesto SDIS
A14: 0 | B14: CO1.BILN.1203871169 | C14: 1 | D14: 93141506 | E14: COORDINADOR/A O RESPONSABLE Cantidad de coordinador 1 Cantidad de coordinador 1 De acuerdo a lo indicado en el anexo tecnico No 1 de 5 y estructura de costos | F14: 15399630 | G14: 15399630 | H14: =IF(G14>F14,"No","SI") -> SI
A15: 0 | B15: CO1.BILN.1203871170 | C15: 2 | D15: 93141506 | E15: NUTRICIONISTA DIETISTA Cantidad de nutricionista dietista 2 De acuerdo a lo indicado en el anexo tecnico No 1 de 5 y estructura de costos | F15: 26398350 | G15: 26398350 | H15: =IF(G15>F15,"No","SI") -> SI
A16: 0 | B16: CO1.BILN.1203871171 | C16: 3 | D16: 93141506 | E16: PROFESIONAL EN PEDAGOGiA REEDUCADOR O LICENCIADO EN PEDAGO 2 Cantidad Profesional en pedagogia reeducador o licenciado en pedagogia 2 De acuerdo al anexo tecnico 1 de 5 y estructura de costos | F16: 26398350 | G16: 26398350 | H16: =IF(G16>F16,"No","SI") -> SI
A17: 0 | B17: CO1.BILN.1203871172 | C17: 4 | D17: 93141506 | E17: PROFESIONAL EN PSICOLOGiA Cantidad de profesional en psicologia 4 De acuerdo a lo indicado en el anexo tecnico No 1 de 5 y estructura de costos | F17: 52796700 | G17: 52796700 | H17: =IF(G17>F17,"No","SI") -> SI
A18: 0 | B18: CO1.BILN.1203871173 | C18: 5 | D18: 93141506 | E18: TERAPEUTA OCUPACIONAL Cantidad de terapeuta ocupacional 4 De acuerdo a lo indicado en el anexo tecnico No 1 de 5 y estructura de costos | F18: 52796700 | G18: 52796700 | H18: =IF(G18>F18,"No","SI") -> SI
A19: 0 | B19: CO1.BILN.1203871174 | C19: 6 | D19: 93141506 | E19: TRABAJADOR A SOCIAL Cantidad de trabajador a social 4 De acuerdo a lo indicado en el anexo tecnico No 1 de 5 y estructura de costos | F19: 52796700 | G19: 52796700 | H19: =IF(G19>F19,"No","SI") -> SI
A20: 0 | B20: CO1.BILN.1203871175 | C20: 7 | D20: 93141506 | E20: EDUCADOR FiSICO Cantidad de educador fisico 2 De acuerdo a lo indicado en el anexo tecnico No 1 de 5 y estructura de costos | F20: 21997440 | G20: 21997440 | H20: =IF(G20>F20,"No","SI") -> SI
A21: 0 | B21: CO1.BILN.1203871176 | C21: 8 | D21: 93141506 | E21: PROMOTORES AS SOCIAL Cantidad de promotores as social 16 De acuerdo a lo indicado en el anexo tecnico No 1 de 5 y estructura de costos | F21: 117393120 | G21: 117393120 | H21: =IF(G21>F21,"No","SI") -> SI
A22: 0 | B22: CO1.BILN.1203871177 | C22: 9 | D22: 93141506 | E22: TECNICO OPERATIVO Cantidad tecnico Operativo 1 De acuerdo a lo indicado en el anexo tecnico No 1 de 5 y estructura de costos | F22: 8657760 | G22: 8657760 | H22: =IF(G22>F22,"No","SI") -> SI
A23: 0 | B23: CO1.BILN.1203871178 | C23: 10 | D23: 93141506 | E23: TeCNICO ADMINISTRATIVO Cantidad de tecnico administrativo 1 De acuerdo a lo indicado en el anexo tecnico No 1 de 5 y estructura de costos | F23: 8657760 | G23: 8657760 | H23: =IF(G23>F23,"No","SI") -> SI
A24: 0 | B24: CO1.BILN.1203871179 | C24: 11 | D24: 93141506 | E24: TeCNICO A O TECNoLOGO A AMBIENTAL Cantidad de tecnico a o tecnologo a ambiental 1 De acuerdo a lo indicado en el anexo tecnico No 1 de 5 y estructura de costos | F24: 8657760 | G24: 8657760 | H24: =IF(G24>F24,"No","SI") -> SI
A25: 0 | B25: CO1.BILN.1203871180 | C25: 12 | D25: 93141506 | E25: TeCNICO A O TECNoLOGO A EN ALIMENTOS Cantidad de tecnico a o tecnologo a en alimentos 1 De acuerdo a lo indicado en el anexo tecnico No 1 de 5 y estructura de costos | F25: 8657760 | G25: 8657760 | H25: =IF(G25>F25,"No","SI") -> SI
... A50: 0 | B50: CO1.BILN.1203871205 | C50: 37 | D50: 93141506 | E50: ALIMENTACION Cantidad de alimentacion diaria para 100 cupos de acuerdo a lo indicado en el anexo tecnico No 2 de 5 y estructura de costos | F50: 324525124 | G50: 324525124 | H50: =IF(G50>F50,"No","SI") -> SI
F52: =SUM(F14:F51) -> 1653127342 | G52: =SUM(G14:G51) -> 1635375114 | H52: =IF(G52>F52,"No Habilitado","Habilitado") -> Habilitado
A54: OFERTA ECONOMICA PARA LA VIGENCIA 2025
A55: Nivel | B55: Id | C55: Ref. Artículo | D55: Código UNSPSC | E55: Descripción | F55: Precio total estimado | G55: Incluya el precio como lo indique la Entidad Estatal | H55: Precio propuesta < que Presupuesto SDIS
A56: 0 | B56: CO1.BILN.1203871100 | C56: 1 | D56: 93141506 | E56: COORDINADOR/A O RESPONSABLE Cantidad de coordinador 1 Cantidad de coordinador 1 De acuerdo a lo indicado en el anexo tecnico No 1 de 5 y estructura de costos | F56: 65935056 | G56: 65935056 | H56: =IF(G56>F56,"No","SI") -> SI
A57: 0 | B57: CO1.BILN.1203871101 | C57: 2 | D57: 93141506 | E57: NUTRICIONISTA DIETISTA Cantidad de nutricionista dietista 2 De acuerdo a lo indicado en el anexo tecnico No 1 de 5 y estructura de costos | F57: 113027184 | G57: 113027184 | H57: =IF(G57>F57,"No","SI") -> SI
A58: 0 | B58: CO1.BILN.1203871102 | C58: 3 | D58: 93141506 | E58: PROFESIONAL EN PEDAGOGiA REEDUCADOR O LICENCIADO EN PEDAGO 2 Cantidad Profesional en pedagogia reeducador o licenciado en pedagogia 2 De acuerdo al anexo tecnico 1 de 5 y estructura de costos | F58: 113027184 | G58: 113027184 | H58: =IF(G58>F58,"No","SI") -> SI
A59: 0 | B59: CO1.BILN.1203871103 | C59: 4 | D59: 93141506 | E59: PROFESIONAL EN PSICOLOGiA Cantidad de profesional en psicologia 4 De acuerdo a lo indicado en el anexo tecnico No 1 de 5 y estructura de costos | F59: 226054368 | G59: 226054368 | H59: =IF(G59>F59,"No","SI") -> SI
A60: 0 | B60: CO1.BILN.1203871104 | C60: 5 | D60: 93141506 | E60: TERAPEUTA OCUPACIONAL Cantidad de terapeuta ocupacional 4 De acuerdo a lo indicado en el anexo tecnico No 1 de 5 y estructura de costos | F60: 226054368 | G60: 226054368 | H60: =IF(G60>F60,"No","SI") -> SI
A61: 0 | B61: CO1.BILN.1203871105 | C61: 6 | D61: 93141506 | E61: TRABAJADOR A SOCIAL Cantidad de trabajador a social 4 De acuerdo a lo indicado en el anexo tecnico No 1 de 5 y estructura de costos | F61: 226054368 | G61: 226054368 | H61: =IF(G61>F61,"No","SI") -> SI
A62: 0 | B62: CO1.BILN.1203871106 | C62: 7 | D62: 93141506 | E62: EDUCADOR FiSICO Cantidad de educador fisico 2 De acuerdo a lo indicado en el anexo tecnico No 1 de 5 y estructura de costos | F62: 94184232 | G62: 94184232 | H62: =IF(G62>F62,"No","SI") -> SI
A63: 0 | B63: CO1.BILN.1203871107 | C63: 8 | D63: 93141506 | E63: PROMOTORES AS SOCIAL Cantidad de promotores as social 16 De acuerdo a lo indicado en el anexo tecnico No 1 de 5 y estructura de costos | F63: 502630464 | G63: 502630464 | H63: =IF(G63>F63,"No","SI") -> SI
A64: 0 | B64: CO1.BILN.1203871108 | C64: 9 | D64: 93141506 | E64: TECNICO OPERATIVO Cantidad tecnico Operativo 1 De acuerdo a lo indicado en el anexo tecnico No 1 de 5 y estructura de costos | F64: 37069068 | G64: 37069068 | H64: =IF(G64>F64,"No","SI") -> SI
A65: 0 | B65: CO1.BILN.1203871109 | C65: 10 | D65: 93141506 | E65: TeCNICO ADMINISTRATIVO Cantidad de tecnico administrativo 1 De acuerdo a lo indicado en el anexo tecnico No 1 de 5 y estructura de costos | F65: 37069068 | G65: 37069068 | H65: =IF(G65>F65,"No","SI") -> SI
A66: 0 | B66: CO1.BILN.1203871110 | C66: 11 | D66: 93141506 | E66: TeCNICO A O TECNoLOGO A AMBIENTAL Cantidad de tecnico a o tecnologo a ambiental 1 De acuerdo a lo indicado en el anexo tecnico No 1 de 5 y estructura de costos | F66: 37069068 | G66: 37069068 | H66: =IF(G66>F66,"No","SI") -> SI
A67: 0 | B67: CO1.BILN.1203871111 | C67: 12 | D67: 93141506 | E67: TeCNICO A O TECNoLOGO A EN ALIMENTOS Cantidad de tecnico a o tecnologo a en alimentos 1 De acuerdo a lo indicado en el anexo tecnico No 1 de 5 y estructura de costos | F67: 37069068 | G67: 37069068 | H67: =IF(G67>F67,"No","SI") -> SI
... A93: 0 | B93: CO1.BILN.1203871137 | C93: 38 | D93: 93141506 | E93: ALIMENTACION Cantidad de alimentacion diaria para 100 cupos de acuerdo a lo indicado en el anexo tecnico No 2 de 5 y estructura de costos | F93: 1326143550 | G93: 1326143550 | H93: =IF(G93>F93,"No","SI") -> SI
F95: =SUM(F56:F94) -> 6881587190 | G95: =SUM(G56:G94) -> 6812178425 | H95: =IF(G95>F95,"No Habilitado","Habilitado") -> Habilitado

Sheet FEZ INVERSIONES IN LT3
A2: Proveedor: | B2: FEZ INVERSIONES
A3: Número de oferta | B3: SDIS - Hab.Calle COMUNIDAD DE VIDA
A4: Fecha de envío: | B4: 9/26/2024 8:37:30 AM
A5: Id del procedimiento: | B5: CO1.REQ.6877534
A6: Número del proceso | B6: SDIS-SAMC-010-2024. (Manifestación de interés (Menor Cuantía)) (Presentación de oferta)
A7: Nombre: | B7: COMUNIDAD DE VIDA (Manifestación de interés (Menor Cuantía)) (Presentación de oferta)
F9: Precio total estimado | G9: Incluya el precio como lo indique la Entidad Estatal | H9: Precio propuesta > que Presupuesto SDIS
E10: CONSOLIDADO OFERTA ECONOMICA 2024+2025 | F10: =F52+F96 -> 8534714532 | G10: =G52+G96 -> 8512724700 | H10: =IF(G10>F10,"No Habilitado","Habilitado") -> Habilitado
A12: OFERTA ECONOMICA PARA LA VIGENCIA 2024
A13: Nivel | B13: Id | C13: Ref. Artículo | D13: Código UNSPSC | E13: Descripción | F13: Precio total estimado | G13: Incluya el precio como lo indique la Entidad Estatal | H13: Precio propuesta < que Presupuesto SDIS
A14: 0 | B14: CO1.BILN.1203871169 | C14: 1 | D14: 93141506 | E14: COORDINADOR/A O RESPONSABLE Cantidad de coordinador 1 Cantidad de coordinador 1 De acuerdo a lo indicado en el anexo tecnico No 1 de 5 y estructura de costos | F14: 15399630 | G14: 15399000 | H14: =IF(G14>F14,"No","SI") -> SI
A15: 0 | B15: CO1.BILN.1203871170 | C15: 2 | D15: 93141506 | E15: NUTRICIONISTA DIETISTA Cantidad de nutricionista dietista 2 De acuerdo a lo indicado en el anexo tecnico No 1 de 5 y estructura de costos | F15: 26398350 | G15: 26397000 | H15: =IF(G15>F15,"No","SI") -> SI
A16: 0 | B16: CO1.BILN.1203871171 | C16: 3 | D16: 93141506 | E16: PROFESIONAL EN PEDAGOGiA REEDUCADOR O LICENCIADO EN PEDAGO 2 Cantidad Profesional en pedagogia reeducador o licenciado en pedagogia 2 De acuerdo al anexo tecnico 1 de 5 y estructura de costos | F16: 26398350 | G16: 26397000 | H16: =IF(G16>F16,"No","SI") -> SI
A17: 0 | B17: CO1.BILN.1203871172 | C17: 4 | D17: 93141506 | E17: PROFESIONAL EN PSICOLOGiA Cantidad de profesional en psicologia 4 De acuerdo a lo indicado en el anexo tecnico No 1 de 5 y estructura de costos | F17: 52796700 | G17: 52794000 | H17: =IF(G17>F17,"No","SI") -> SI
A18: 0 | B18: CO1.BILN.1203871173 | C18: 5 | D18: 93141506 | E18: TERAPEUTA OCUPACIONAL Cantidad de terapeuta ocupacional 4 De acuerdo a lo indicado en el anexo tecnico No 1 de 5 y estructura de costos | F18: 52796700 | G18: 52794000 | H18: =IF(G18>F18,"No","SI") -> SI
A19: 0 | B19: CO1.BILN.1203871174 | C19: 6 | D19: 93141506 | E19: TRABAJADOR A SOCIAL Cantidad de trabajador a social 4 De acuerdo a lo indicado en el anexo tecnico No 1 de 5 y estructura de costos | F19: 52796700 | G19: 52794000 | H19: =IF(G19>F19,"No","SI") -> SI
A20: 0 | B20: CO1.BILN.1203871175 | C20: 7 | D20: 93141506 | E20: EDUCADOR FiSICO Cantidad de educador fisico 2 De acuerdo a lo indicado en el anexo tecnico No 1 de 5 y estructura de costos | F20: 21997440 | G20: 21996000 | H20: =IF(G20>F20,"No","SI") -> SI
A21: 0 | B21: CO1.BILN.1203871176 | C21: 8 | D21: 93141506 | E21: PROMOTORES AS SOCIAL Cantidad de promotores as social 16 De acuerdo a lo indicado en el anexo tecnico No 1 de 5 y estructura de costos | F21: 117393120 | G21: 117393000 | H21: =IF(G21>F21,"No","SI") -> SI
A22: 0 | B22: CO1.BILN.1203871177 | C22: 9 | D22: 93141506 | E22: TECNICO OPERATIVO Cantidad tecnico Operativo 1 De acuerdo a lo indicado en el anexo tecnico No 1 de 5 y estructura de costos | F22: 8657760 | G22: 8655000 | H22: =IF(G22>F22,"No","SI") -> SI
A23: 0 | B23: CO1.BILN.1203871178 | C23: 10 | D23: 93141506 | E23: TeCNICO ADMINISTRATIVO Cantidad de tecnico administrativo 1 De acuerdo a lo indicado en el anexo tecnico No 1 de 5 y estructura de costos | F23: 8657760 | G23: 8655000 | H23: =IF(G23>F23,"No","SI") -> SI
A24: 0 | B24: CO1.BILN.1203871179 | C24: 11 | D24: 93141506 | E24: TeCNICO A O TECNoLOGO A AMBIENTAL Cantidad de tecnico a o tecnologo a ambiental 1 De acuerdo a lo indicado en el anexo tecnico No 1 de 5 y estructura de costos | F24: 8657760 | G24: 8655000 | H24: =IF(G24>F24,"No","SI") -> SI
A25: 0 | B25: CO1.BILN.1203871180 | C25: 12 | D25: 93141506 | E25: TeCNICO A O TECNoLOGO A EN ALIMENTOS Cantidad de tecnico a o tecnologo a en alimentos 1 De acuerdo a lo indicado en el anexo tecnico No 1 de 5 y estructura de costos | F25: 8657760 | G25: 8655000 | H25: =IF(G25>F25,"No","SI") -> SI
... A50: 0 | B50: CO1.BILN.1203871205 | C50: 37 | D50: 93141506 | E50: ALIMENTACION Cantidad de alimentacion diaria para 100 cupos de acuerdo a lo indicado en el anexo tecnico No 2 de 5 y estructura de costos | F50: 324525124 | G50: 324484000 | H50: =IF(G50>F50,"No","SI") -> SI
F52: =SUM(F14:F51) -> 1653127342 | G52: =SUM(G14:G51) -> 1645697200 | H52: =IF(G52>F52,"No Habilitado","Habilitado") -> Habilitado
A55: OFERTA ECONOMICA PARA LA VIGENCIA 2025
A56: Nivel | B56: Id | C56: Ref. Artículo | D56: Código UNSPSC | E56: Descripción | F56: Precio total estimado | G56: Incluya el precio como lo indique la Entidad Estatal | H56: Precio propuesta < que Presupuesto SDIS
A57: 0 | B57: CO1.BILN.1203871100 | C57: 1 | D57: 93141506 | E57: COORDINADOR/A O RESPONSABLE Cantidad de coordinador 1 Cantidad de coordinador 1 De acuerdo a lo indicado en el anexo tecnico No 1 de 5 y estructura de costos | F57: 65935056 | G57: 65928000 | H57: =IF(G57>F57,"No","SI") -> SI
A58: 0 | B58: CO1.BILN.1203871101 | C58: 2 | D58: 93141506 | E58: NUTRICIONISTA DIETISTA Cantidad de nutricionista dietista 2 De acuerdo a lo indicado en el anexo tecnico No 1 de 5 y estructura de costos | F58: 113027184 | G58: 113016000 | H58: =IF(G58>F58,"No","SI") -> SI
A59: 0 | B59: CO1.BILN.1203871102 | C59: 3 | D59: 93141506 | E59: PROFESIONAL EN PEDAGOGiA REEDUCADOR O LICENCIADO EN PEDAGO 2 Cantidad Profesional en pedagogia reeducador o licenciado en pedagogia 2 De acuerdo al anexo tecnico 1 de 5 y estructura de costos | F59: 113027184 | G59: 113016000 | H59: =IF(G59>F59,"No","SI") -> SI
A60: 0 | B60: CO1.BILN.1203871103 | C60: 4 | D60: 93141506 | E60: PROFESIONAL EN PSICOLOGiA Cantidad de profesional en psicologia 4 De acuerdo a lo indicado en el anexo tecnico No 1 de 5 y estructura de costos | F60: 226054368 | G60: 226044000 | H60: =IF(G60>F60,"No","SI") -> SI
A61: 0 | B61: CO1.BILN.1203871104 | C61: 5 | D61: 93141506 | E61: TERAPEUTA OCUPACIONAL Cantidad de terapeuta ocupacional 4 De acuerdo a lo indicado en el anexo tecnico No 1 de 5 y estructura de costos | F61: 226054368 | G61: 226044000 | H61: =IF(G61>F61,"No","SI") -> SI
A62: 0 | B62: CO1.BILN.1203871105 | C62: 6 | D62: 93141506 | E62: TRABAJADOR A SOCIAL Cantidad de trabajador a social 4 De acuerdo a lo indicado en el anexo tecnico No 1 de 5 y estructura de costos | F62: 226054368 | G62: 226044000 | H62: =IF(G62>F62,"No","SI") -> SI
