Workbook

Sheet PRECIO COTIZACIONES
A1: CAMPANAS Y EXTRACTORES COCINAS SEDE BOGOTA | G1: COTIZACION 1 | H1: COTIZACION 2 | I1: COTIZACION 3 | J1: COTIZACION 4
A2: COCINA PRINCIPAL
A3: ITEM | B3: CODIGOS UNSPSC | C3: NOMBRE Y DESCRIPCION DEL SERVICIO | E3: UNIDAD DE MEDIDA | F3: CANTIDAD NECESIDAD REAL
A4: 1. LIMPIEZA CAMPANA | F4: 1 | G4: 2975000 | H4: 1785000 | I4: 1570800 | J4: 1785000
A5: MANTENIMIENTO PREVENTIVITO, CORRECTIVO
A6: CANTIDAD DE CAMPANA | C6: 3.5 Mts de largo x 2.5 Cm de ancho x 0.50Cms de alto
A7: DIAMETRO DE LA CAMPANA
A8: 1.1 | B8: 76111605 | C8: LIMPIEZA DE CAMPANAS EXTRACTORAS CON DESENGRASANTE INDUSTRIAL | E8: M2 | F8: 1
A9: 1.2 | B9: 76111605 | C9: RECOLECCION DE RESIDUOS DE GRASAS O RESIDUOS AJENOS AL MATERIAL DEL ELEMENTO Y DISPOSICION FINAL DE LOS MISMOS | E9: M2 | F9: 1
A11: ITEM | B11: CODIGOS UNSPSC | C11: NOMBRE Y DESCRIPCION DEL SERVICIO | E11: UNIDAD DE MEDIDA | F11: CANTIDAD NECESIDAD REAL
A12: 2. LIMPIEZA DUCTOS | F12: 1 | G12: 2975000 | H12: 4356590 | I12: 4344690 | J12: 3570000
A13: MANTENIMIENTO PREVENTIVITO, CORRECTIVO
A14: CANTIDAD DE DUCTOS | C14: 45 Mts de largo x 0.95Cm de ancho x 0.60Cms de alto
A15: DIAMETRO DE LA CAMPANA
A16: 2.1 | B16: 76111605 | C16: LIMPIEZA DE DUCTOS CON DESENGRASANTE INDUSTRIAL | E16: M2 | F16: 1
A17: 2.2 | B17: 76111605 | C17: RECOLECCION DE RESIDUOS DE GRASAS O RESIDUOS AJENOS AL MATERIAL DEL ELEMENTO Y DISPOSICION FINAL DE LOS MISMOS | E17: M2 | F17: 1
A19: ITEM | B19: CODIGOS UNSPSC | C19: NOMBRE Y DESCRIPCION DEL SERVICIO | E19: UNIDAD DE MEDIDA | F19: CANTIDAD NECESIDAD REAL
A20: 3. PINTURA DUCTOS | F20: 1 | G20: 2975000 | H20: 3561075 | I20: 3537275 | J20: 1428000
A21: MANTENIMIENTO PINTURA
A22: 3.1 | B22: 76111605 | C22: SUMINISTRO Y APLICACIÓN DE PINTURA EPÓXICA POLIAMIDA BASE SOLVENTE DE DOS COMPONENTES, QUE CON LA MEZCLA APROPIADA DE AMBOS PROPORCIONA UNA PELÍCULA CON BUENA ADHERENCIA Y FLEXIBILIDAD, RESISTENTE AL AGUA, ÁCIDOS DÉBILES, SALES, ÁLCALIS, DERIVADOS DEL PETRÓLEO Y DISOLVENTES AROMÁTICOS REDUNDE EN LA ALTA CALIDAD, CON LAS SIGUIENTES CARACTERISTICAS, ESPECIFICACIONES TÉCNICAS, PROPIEDAD RANGO UNIDADES, ACABADO SEMI-BRILLANTE, PESO NETO POR GALÓN COMP. 5.41 - 5.71 KG/GAL, PESO NETO POR ¼ DE GALÓN COMP. B 0.95 KG, SÓLIDOS POR VOLUMEN 45 50 %, MEZCLA POR VOLUMEN 3:1 X VOLUMEN (PINTURA /CATALIZADOR), ESPESOR SECO RECOMENDADO 50 75 MICRONES, PELÍCULA SECA 67 75 M²/GAL, MÉTODO DE APLICACIÓN BROCHA O RODILLO, AJUSTADOR O THINNER RECOMENDADO PARA LA DILUCIÓN, TIEMPO DE VIDA ÚTIL DE LA MEZCLA 8 HORAS 25°C, PUNTO DE CHISPA COPA ABIERTA COMPONENTE A: 58° C, COMPONENTE B: 55° C TCC, V.O.C COMPONENTE A: 420-470, COMPONENTE B: 447 G/L (ASTM D-3960) | E22: M2 | F22: 1
A24: ITEM | B24: CODIGOS UNSPSC | C24: NOMBRE Y DESCRIPCION DEL SERVICIO | E24: UNIDAD DE MEDIDA | F24: CANTIDAD NECESIDAD REAL
A25: 4. MANTENIMINETO MOTORES ELECTRICOS 03 HP. | F25: 1 | G25: 2142000 | H25: 1416100 | I25: 1477980 | J25: 2499000
A26: MANTENIMIENTO PINTURA
A27: CARACTERISTICAS DEL EQUIPO
A28: MARCA
A29: POTENCIA
A30: VOLT
A31: AMP
A32: FRECUENCIA
A33: 4.1 | B33: 76111605 | C33: MANTENIMIENTO CONSISTENTES EN: | E33: UNIDAD | F33: 1
C34: APLICACIÓN DE BARNIZ DIELECTRICO TRANSPARENTE.
C35: RUTINA MECANICA Y PINTURA A LA CARCARCASA. (PINTURA EPÓXICA POLIAMIDA, CON LAS CARACTGERISTICAS TÉCNICAS DEL ITEM NO. 8.)
C36: CAMBIO DE BORNERAS.
C37: VERIFICACIÓN DE RESISTENCIA DE AISLAMIENTO ELECTRICO. (MEGGEO)
C38: LAVADO CON LIMPIADOR ELECTRONICO AL ROTOR Y ESTATOR.
C39: CAMBIO DE RODAMIENTOS (DE ALTA CALIDAD, CON CERTIFICACION DE FABRICANTE).
C40: PUESTA EN SERVICIO.
C41: LAVADO CON LIMPIADOR ELECTRONICO AL ROTOR Y ESTATOR.
A43: ITEM | B43: CODIGOS UNSPSC | C43: NOMBRE Y DESCRIPCION DEL SERVICIO | E43: UNIDAD DE MEDIDA | F43: CANTIDAD NECESIDAD REAL
A44: 5. SUMINISTRO MANGAS | F44: A REQUERIMIENTO | G44: 595000 | H44: 533120 | I44: 517600 | J44: 130900
...

Sheet ANALISIS COTIZACIONES
A1: CAMPANAS Y EXTRACTORES COCINAS SEDE BOGOTA | G1: MENOR VALOR COTIZADO | H1: PRECIO PROMEDIO COTIZADO | I1: MEDIANA | J1: MEDIA GEOMETRICA | K1: DESVIACION ESTANDAR | L1: % DISPERCION | M1: METRICA UTILIZADA
A2: COCINA PRINCIPAL | O2: =+G2 -> 0
A3: ITEM | B3: CODIGOS UNSPSC | C3: NOMBRE Y DESCRIPCION DEL SERVICIO | E3: UNIDAD DE MEDIDA | F3: CANTIDAD NECESIDAD REAL
A4: 1. LIMPIEZA CAMPANA | F4: 1 | G4: =+MIN('PRECIO COTIZACIONES'!G4:J9) -> 1570800 | H4: =+AVERAGE('PRECIO COTIZACIONES'!G4:J9) -> 2028950 | I4: =+MEDIAN('PRECIO COTIZACIONES'!G4:J9) -> 1785000 | J4: =+GEOMEAN('PRECIO COTIZACIONES'!G4:J9) -> 1964360 | K4: =+STDEVA(J4,G4) -> 278288.93 | L4: =+K4/H4 -> 0.13715908 | M4: MENOR VALOR COTIZADO
A5: MANTENIMIENTO PREVENTIVITO, CORRECTIVO | H5: =+AVERAGE('PRECIO COTIZACIONES'!G5:J10) -> #DIV/0! | I5: =+MEDIAN('PRECIO COTIZACIONES'!G5:J10) -> #NUM! | J5: =+GEOMEAN('PRECIO COTIZACIONES'!G5:J10) -> #NUM! | K5: =+STDEVA(J5,G5) -> #NUM! | L5: =+K5/H5 -> #NUM!
A6: CANTIDAD DE CAMPANA | C6: 3.5 Mts de largo x 2.5 Cm de ancho x 0.50Cms de alto | H6: =+AVERAGE('PRECIO COTIZACIONES'!G6:J11) -> #DIV/0! | I6: =+MEDIAN('PRECIO COTIZACIONES'!G6:J11) -> #NUM! | J6: =+GEOMEAN('PRECIO COTIZACIONES'!G6:J11) -> #NUM! | K6: =+STDEVA(J6,G6) -> #NUM! | L6: =+K6/H6 -> #NUM!
A7: DIAMETRO DE LA CAMPANA | H7: =+AVERAGE('PRECIO COTIZACIONES'!G7:J12) -> 3811570 | I7: =+MEDIAN('PRECIO COTIZACIONES'!G7:J12) -> 3957345 | J7: =+GEOMEAN('PRECIO COTIZACIONES'!G7:J12) -> 3765435.1 | K7: =+STDEVA(J7,G7) -> #DIV/0! | L7: =+K7/H7 -> #DIV/0!
A8: 1.1 | B8: 76111605 | C8: LIMPIEZA DE CAMPANAS EXTRACTORAS CON DESENGRASANTE INDUSTRIAL | E8: M2 | F8: 1 | H8: =+AVERAGE('PRECIO COTIZACIONES'!G8:J13) -> 3811570 | I8: =+MEDIAN('PRECIO COTIZACIONES'!G8:J13) -> 3957345 | J8: =+GEOMEAN('PRECIO COTIZACIONES'!G8:J13) -> 3765435.1 | K8: =+STDEVA(J8,G8) -> #DIV/0! | L8: =+K8/H8 -> #DIV/0!
A9: 1.2 | B9: 76111605 | C9: RECOLECCION DE RESIDUOS DE GRASAS O RESIDUOS AJENOS AL MATERIAL DEL ELEMENTO Y DISPOSICION FINAL DE LOS MISMOS | E9: M2 | F9: 1 | H9: =+AVERAGE('PRECIO COTIZACIONES'!G9:J14) -> 3811570 | I9: =+MEDIAN('PRECIO COTIZACIONES'!G9:J14) -> 3957345 | J9: =+GEOMEAN('PRECIO COTIZACIONES'!G9:J14) -> 3765435.1 | K9: =+STDEVA(J9,G9) -> #DIV/0! | L9: =+K9/H9 -> #DIV/0!
H10: =+AVERAGE('PRECIO COTIZACIONES'!G10:J15) -> 3811570 | I10: =+MEDIAN('PRECIO COTIZACIONES'!G10:J15) -> 3957345 | J10: =+GEOMEAN('PRECIO COTIZACIONES'!G10:J15) -> 3765435.1 | K10: =+STDEVA(J10,G10) -> #DIV/0! | L10: =+K10/H10 -> #DIV/0!
A11: ITEM | B11: CODIGOS UNSPSC | C11: NOMBRE Y DESCRIPCION DEL SERVICIO | E11: UNIDAD DE MEDIDA | F11: CANTIDAD NECESIDAD REAL
A12: 2. LIMPIEZA DUCTOS | F12: 1 | G12: =+MIN('PRECIO COTIZACIONES'!G12:J17) -> 2975000 | H12: =+AVERAGE('PRECIO COTIZACIONES'!G12:J17) -> 3811570 | I12: =+MEDIAN('PRECIO COTIZACIONES'!G12:J17) -> 3957345 | J12: =+GEOMEAN('PRECIO COTIZACIONES'!G12:J17) -> 3765435.1 | K12: =+STDEVA(J12,G12) -> 558922.03 | L12: =+K12/H12 -> 0.14663827
A13: MANTENIMIENTO PREVENTIVITO, CORRECTIVO | H13: =+AVERAGE('PRECIO COTIZACIONES'!G13:J18) -> #DIV/0! | I13: =+MEDIAN('PRECIO COTIZACIONES'!G13:J18) -> #NUM! | J13: =+GEOMEAN('PRECIO COTIZACIONES'!G13:J18) -> #NUM! | K13: =+STDEVA(J13,G13) -> #NUM! | L13: =+K13/H13 -> #NUM!
A14: CANTIDAD DE DUCTOS | C14: 45 Mts de largo x 0.95Cm de ancho x 0.60Cms de alto | H14: =+AVERAGE('PRECIO COTIZACIONES'!G14:J19) -> #DIV/0! | I14: =+MEDIAN('PRECIO COTIZACIONES'!G14:J19) -> #NUM! | J14: =+GEOMEAN('PRECIO COTIZACIONES'!G14:J19) -> #NUM! | K14: =+STDEVA(J14,G14) -> #NUM! | L14: =+K14/H14 -> #NUM!
A15: DIAMETRO DE LA CAMPANA | H15: =+AVERAGE('PRECIO COTIZACIONES'!G15:J20) -> 2875337.5 | I15: =+MEDIAN('PRECIO COTIZACIONES'!G15:J20) -> 3256137.5 | J15: =+GEOMEAN('PRECIO COTIZACIONES'!G15:J20) -> 2704682.4 | K15: =+STDEVA(J15,G15) -> #DIV/0! | L15: =+K15/H15 -> #DIV/0!
A16: 2.1 | B16: 76111605 | C16: LIMPIEZA DE DUCTOS CON DESENGRASANTE INDUSTRIAL | E16: M2 | F16: 1 | H16: =+AVERAGE('PRECIO COTIZACIONES'!G16:J21) -> 2875337.5 | I16: =+MEDIAN('PRECIO COTIZACIONES'!G16:J21) -> 3256137.5 | J16: =+GEOMEAN('PRECIO COTIZACIONES'!G16:J21) -> 2704682.4 | K16: =+STDEVA(J16,G16) -> #DIV/0! | L16: =+K16/H16 -> #DIV/0!
A17: 2.2 | B17: 76111605 | C17: RECOLECCION DE RESIDUOS DE GRASAS O RESIDUOS AJENOS AL MATERIAL DEL ELEMENTO Y DISPOSICION FINAL DE LOS MISMOS | E17: M2 | F17: 1 | H17: =+AVERAGE('PRECIO COTIZACIONES'!G17:J22) -> 2875337.5 | I17: =+MEDIAN('PRECIO COTIZACIONES'!G17:J22) -> 3256137.5 | J17: =+GEOMEAN('PRECIO COTIZACIONES'!G17:J22) -> 2704682.4 | K17: =+STDEVA(J17,G17) -> #DIV/0! | L17: =+K17/H17 -> #DIV/0!
A19: ITEM | B19: CODIGOS UNSPSC | C19: NOMBRE Y DESCRIPCION DEL SERVICIO | E19: UNIDAD DE MEDIDA | F19: CANTIDAD NECESIDAD REAL | G19: =+MIN('PRECIO COTIZACIONES'!G19:J24) -> 1428000 | H19: =+AVERAGE('PRECIO COTIZACIONES'!G19:J24) -> 2875337.5 | I19: =+MEDIAN('PRECIO COTIZACIONES'!G19:J24) -> 3256137.5 | J19: =+GEOMEAN('PRECIO COTIZACIONES'!G19:J24) -> 2704682.4 | K19: =+STDEVA(J19,G19) -> 902750.81 | L19: =+K19/H19 -> 0.31396342
A20: 3. PINTURA DUCTOS | F20: 1 | H20: =+AVERAGE('PRECIO COTIZACIONES'!G20:J25) -> 2379553.8 | I20: =+MEDIAN('PRECIO COTIZACIONES'!G20:J25) -> 2320500 | J20: =+GEOMEAN('PRECIO COTIZACIONES'!G20:J25) -> 2224470.6 | K20: =+STDEVA(J20,G20) -> #DIV/0! | L20: =+K20/H20 -> #DIV/0!
A21: MANTENIMIENTO PINTURA | H21: =+AVERAGE('PRECIO COTIZACIONES'!G21:J26) -> 1883770 | I21: =+MEDIAN('PRECIO COTIZACIONES'!G21:J26) -> 1809990 | J21: =+GEOMEAN('PRECIO COTIZACIONES'!G21:J26) -> 1829519.5 | K21: =+STDEVA(J21,G21) -> #DIV/0! | L21: =+K21/H21 -> #DIV/0!
A22: 3.1 | B22: 76111605 | C22: SUMINISTRO Y APLICACIÓN DE PINTURA EPÓXICA POLIAMIDA BASE SOLVENTE DE DOS COMPONENTES, QUE CON LA MEZCLA APROPIADA DE AMBOS PROPORCIONA UNA PELÍCULA CON BUENA ADHERENCIA Y FLEXIBILIDAD, RESISTENTE AL AGUA, ÁCIDOS DÉBILES, SALES, ÁLCALIS, DERIVADOS DEL PETRÓLEO Y DISOLVENTES AROMÁTICOS REDUNDE EN LA ALTA CALIDAD, CON LAS SIGUIENTES CARACTERISTICAS, ESPECIFICACIONES TÉCNICAS, PROPIEDAD RANGO UNIDADES, ACABADO SEMI-BRILLANTE, PESO NETO POR GALÓN COMP. 5.41 - 5.71 KG/GAL, PESO NETO POR ¼ DE GALÓN COMP. B 0.95 KG, SÓLIDOS POR VOLUMEN 45 50 %, MEZCLA POR VOLUMEN 3:1 X VOLUMEN (PINTURA /CATALIZADOR), ESPESOR SECO RECOMENDADO 50 75 MICRONES, PELÍCULA SECA 67 75 M²/GAL, MÉTODO DE APLICACIÓN BROCHA O RODILLO, AJUSTADOR O THINNER RECOMENDADO PARA LA DILUCIÓN, TIEMPO DE VIDA ÚTIL DE LA MEZCLA 8 HORAS 25°C, PUNTO DE CHISPA COPA ABIERTA COMPONENTE A: 58° C, COMPONENTE B: 55° C TCC, V.O.C COMPONENTE A: 420-470, COMPONENTE B: 447 G/L (ASTM D-3960) | E22: M2 | F22: 1 | H22: =+AVERAGE('PRECIO COTIZACIONES'!G22:J27) -> 1883770 | I22: =+MEDIAN('PRECIO COTIZACIONES'!G22:J27) -> 1809990 | J22: =+GEOMEAN('PRECIO COTIZACIONES'!G22:J27) -> 1829519.5 | K22: =+STDEVA(J22,G22) -> #DIV/0! | L22: =+K22/H22 -> #DIV/0!
A24: ITEM | B24: CODIGOS UNSPSC | C24: NOMBRE Y DESCRIPCION DEL SERVICIO | E24: UNIDAD DE MEDIDA | F24: CANTIDAD NECESIDAD REAL
A25: 4. MANTENIMINETO MOTORES ELECTRICOS 03 HP. | F25: 1 | G25: =+MIN('PRECIO COTIZACIONES'!G25:J30) -> 1416100 | H25: =+AVERAGE('PRECIO COTIZACIONES'!G25:J30) -> 1883770 | I25: =+MEDIAN('PRECIO COTIZACIONES'!G25:J30) -> 1809990 | J25: =+GEOMEAN('PRECIO COTIZACIONES'!G25:J30) -> 1829519.5 | K25: =+STDEVA(J25,G25) -> 292331.76 | L25: =+K25/H25 -> 0.15518442
A26: MANTENIMIENTO PINTURA | H26: =+AVERAGE('PRECIO COTIZACIONES'!G26:J31) -> #DIV/0! | I26: =+MEDIAN('PRECIO COTIZACIONES'!G26:J31) -> #NUM! | J26: =+GEOMEAN('PRECIO COTIZACIONES'!G26:J31) -> #NUM! | K26: =+STDEVA(J26,G26) -> #NUM! | L26: =+K26/H26 -> #NUM!
A27: CARACTERISTICAS DEL EQUIPO | H27: =+AVERAGE('PRECIO COTIZACIONES'!G27:J32) -> #DIV/0! | I27: =+MEDIAN('PRECIO COTIZACIONES'!G27:J32) -> #NUM! | J27: =+GEOMEAN('PRECIO COTIZACIONES'!G27:J32) -> #NUM! | K27: =+STDEVA(J27,G27) -> #NUM! | L27: =+K27/H27 -> #NUM!
A28: MARCA | H28: =+AVERAGE('PRECIO COTIZACIONES'!G28:J33) -> #DIV/0! | I28: =+MEDIAN('PRECIO COTIZACIONES'!G28:J33) -> #NUM! | J28: =+GEOMEAN('PRECIO COTIZACIONES'!G28:J33) -> #NUM! | K28: =+STDEVA(J28,G28) -> #NUM! | L28: =+K28/H28 -> #NUM!
A29: POTENCIA | H29: =+AVERAGE('PRECIO COTIZACIONES'!G29:J34) -> #DIV/0! | I29: =+MEDIAN('PRECIO COTIZACIONES'!G29:J34) -> #NUM! | J29: =+GEOMEAN('PRECIO COTIZACIONES'!G29:J34) -> #NUM! | K29: =+STDEVA(J29,G29) -> #NUM! | L29: =+K29/H29 -> #NUM!
A30: VOLT | H30: =+AVERAGE('PRECIO COTIZACIONES'!G30:J35) -> #DIV/0! | I30: =+MEDIAN('PRECIO COTIZACIONES'!G30:J35) -> #NUM! | J30: =+GEOMEAN('PRECIO COTIZACIONES'!G30:J35) -> #NUM! | K30: =+STDEVA(J30,G30) -> #NUM! | L30: =+K30/H30 -> #NUM!
A31: AMP | H31: =+AVERAGE('PRECIO COTIZACIONES'!G31:J36) -> #DIV/0! | I31: =+MEDIAN('PRECIO COTIZACIONES'!G31:J36) -> #NUM! | J31: =+GEOMEAN('PRECIO COTIZACIONES'!G31:J36) -> #NUM! | K31: =+STDEVA(J31,G31) -> #NUM! | L31: =+K31/H31 -> #NUM!
A32: FRECUENCIA | H32: =+AVERAGE('PRECIO COTIZACIONES'!G32:J37) -> #DIV/0! | I32: =+MEDIAN('PRECIO COTIZACIONES'!G32:J37) -> #NUM! | J32: =+GEOMEAN('PRECIO COTIZACIONES'!G32:J37) -> #NUM! | K32: =+STDEVA(J32,G32) -> #NUM! | L32: =+K32/H32 -> #NUM!
A33: 4.1 | B33: 76111605 | C33: MANTENIMIENTO CONSISTENTES EN: | E33: UNIDAD | F33: 1 | H33: =+AVERAGE('PRECIO COTIZACIONES'!G33:J38) -> #DIV/0! | I33: =+MEDIAN('PRECIO COTIZACIONES'!G33:J38) -> #NUM! | J33: =+GEOMEAN('PRECIO COTIZACIONES'!G33:J38) -> #NUM! | K33: =+STDEVA(J33,G33) -> #NUM! | L33: =+K33/H33 -> #NUM!
C34: APLICACIÓN DE BARNIZ DIELECTRICO TRANSPARENTE. | H34: =+AVERAGE('PRECIO COTIZACIONES'!G34:J39) -> #DIV/0! | I34: =+MEDIAN('PRECIO COTIZACIONES'!G34:J39) -> #NUM! | J34: =+GEOMEAN('PRECIO COTIZACIONES'!G34:J39) -> #NUM! | K34: =+STDEVA(J34,G34) -> #NUM! | L34: =+K34/H34 -> #NUM!
C35: RUTINA MECANICA Y PINTURA A LA CARCARCASA. (PINTURA EPÓXICA POLIAMIDA, CON LAS CARACTGERISTICAS TÉCNICAS DEL ITEM NO. 8.) | H35: =+AVERAGE('PRECIO COTIZACIONES'!G35:J40) -> #DIV/0! | I35: =+MEDIAN('PRECIO COTIZACIONES'!G35:J40) -> #NUM! | J35: =+GEOMEAN('PRECIO COTIZACIONES'!G35:J40) -> #NUM! | K35: =+STDEVA(J35,G35) -> #NUM! | L35: =+K35/H35 -> #NUM!
C36: CAMBIO DE BORNERAS. | H36: =+AVERAGE('PRECIO COTIZACIONES'!G36:J41) -> #DIV/0! | I36: =+MEDIAN('PRECIO COTIZACIONES'!G36:J41) -> #NUM! | J36: =+GEOMEAN('PRECIO COTIZACIONES'!G36:J41) -> #NUM! | K36: =+STDEVA(J36,G36) -> #NUM! | L36: =+K36/H36 -> #NUM!
C37: VERIFICACIÓN DE RESISTENCIA DE AISLAMIENTO ELECTRICO. (MEGGEO) | H37: =+AVERAGE('PRECIO COTIZACIONES'!G37:J42) -> #DIV/0! | I37: =+MEDIAN('PRECIO COTIZACIONES'!G37:J42) -> #NUM! | J37: =+GEOMEAN('PRECIO COTIZACIONES'!G37:J42) -> #NUM! | K37: =+STDEVA(J37,G37) -> #NUM! | L37: =+K37/H37 -> #NUM!
C38: LAVADO CON LIMPIADOR ELECTRONICO AL ROTOR Y ESTATOR. | H38: =+AVERAGE('PRECIO COTIZACIONES'!G38:J43) -> #DIV/0! | I38: =+MEDIAN('PRECIO COTIZACIONES'!G38:J43) -> #NUM! | J38: =+GEOMEAN('PRECIO COTIZACIONES'!G38:J43) -> #NUM! | K38: =+STDEVA(J38,G38) -> #NUM! | L38: =+K38/H38 -> #NUM!
C39: CAMBIO DE RODAMIENTOS (DE ALTA CALIDAD, CON CERTIFICACION DE FABRICANTE). | H39: =+AVERAGE('PRECIO COTIZACIONES'!G39:J44) -> 444155 | I39: =+MEDIAN('PRECIO COTIZACIONES'!G39:J44) -> 525360 | J39: =+GEOMEAN('PRECIO COTIZACIONES'!G39:J44) -> 382885.54 | K39: =+STDEVA(J39,G39) -> #DIV/0! | L39: =+K39/H39 -> #DIV/0!
C40: PUESTA EN SERVICIO. | H40: =+AVERAGE('PRECIO COTIZACIONES'!G40:J45) -> 444155 | I40: =+MEDIAN('PRECIO COTIZACIONES'!G40:J45) -> 525360 | J40: =+GEOMEAN('PRECIO COTIZACIONES'!G40:J45) -> 382885.54 | K40: =+STDEVA(J40,G40) -> #DIV/0! | L40: =+K40/H40 -> #DIV/0!
C41: LAVADO CON LIMPIADOR ELECTRONICO AL ROTOR Y ESTATOR. | H41: =+AVERAGE('PRECIO COTIZACIONES'!G41:J46) -> 444155 | I41: =+MEDIAN('PRECIO COTIZACIONES'!G41:J46) -> 525360 | J41: =+GEOMEAN('PRECIO COTIZACIONES'!G41:J46) -> 382885.54 | K41: =+STDEVA(J41,G41) -> #DIV/0! | L41: =+K41/H41 -> #DIV/0!
A43: ITEM | B43: CODIGOS UNSPSC | C43: NOMBRE Y DESCRIPCION DEL SERVICIO | E43: UNIDAD DE MEDIDA | F43: CANTIDAD NECESIDAD REAL
...

Sheet PRECIO DE REFERENCIA
A1: CAMPANAS Y EXTRACTORES COCINAS SEDE BOGOTA | G1: PRECIO DE REFERENCIA
A2: COCINA PRINCIPAL
A3: ITEM | B3: CODIGOS UNSPSC | C3: NOMBRE Y DESCRIPCION DEL SERVICIO | E3: UNIDAD DE MEDIDA | F3: CANTIDAD NECESIDAD REAL
A4: 1. LIMPIEZA CAMPANA | F4: 1 | G4: =+MIN('PRECIO COTIZACIONES'!G4:J9) -> 1570800
A5: MANTENIMIENTO PREVENTIVITO, CORRECTIVO
A6: CANTIDAD DE CAMPANA | C6: 3.5 Mts de largo x 2.5 Cm de ancho x 0.50Cms de alto
A7: DIAMETRO DE LA CAMPANA
A8: 1.1 | B8: 76111605 | C8: LIMPIEZA DE CAMPANAS EXTRACTORAS CON DESENGRASANTE INDUSTRIAL | E8: M2 | F8: 1
A9: 1.2 | B9: 76111605 | C9: RECOLECCION DE RESIDUOS DE GRASAS O RESIDUOS AJENOS AL MATERIAL DEL ELEMENTO Y DISPOSICION FINAL DE LOS MISMOS | E9: M2 | F9: 1
A11: ITEM | B11: CODIGOS UNSPSC | C11: NOMBRE Y DESCRIPCION DEL SERVICIO | E11: UNIDAD DE MEDIDA | F11: CANTIDAD NECESIDAD REAL
A12: 2. LIMPIEZA DUCTOS | F12: 1 | G12: =+MIN('PRECIO COTIZACIONES'!G12:J17) -> 2975000
A13: MANTENIMIENTO PREVENTIVITO, CORRECTIVO
A14: CANTIDAD DE DUCTOS | C14: 45 Mts de largo x 0.95Cm de ancho x 0.60Cms de alto
A15: DIAMETRO DE LA CAMPANA
A16: 2.1 | B16: 76111605 | C16: LIMPIEZA DE DUCTOS CON DESENGRASANTE INDUSTRIAL | E16: M2 | F16: 1
A17: 2.2 | B17: 76111605 | C17: RECOLECCION DE RESIDUOS DE GRASAS O RESIDUOS AJENOS AL MATERIAL DEL ELEMENTO Y DISPOSICION FINAL DE LOS MISMOS | E17: M2 | F17: 1
A19: ITEM | B19: CODIGOS UNSPSC | C19: NOMBRE Y DESCRIPCION DEL SERVICIO | E19: UNIDAD DE MEDIDA | F19: CANTIDAD NECESIDAD REAL | G19: =+MIN('PRECIO COTIZACIONES'!G19:J24) -> 1428000
A20: 3. PINTURA DUCTOS | F20: 1
A21: MANTENIMIENTO PINTURA
A22: 3.1 | B22: 76111605 | C22: SUMINISTRO Y APLICACIÓN DE PINTURA EPÓXICA POLIAMIDA BASE SOLVENTE DE DOS COMPONENTES, QUE CON LA MEZCLA APROPIADA DE AMBOS PROPORCIONA UNA PELÍCULA CON BUENA ADHERENCIA Y FLEXIBILIDAD, RESISTENTE AL AGUA, ÁCIDOS DÉBILES, SALES, ÁLCALIS, DERIVADOS DEL PETRÓLEO Y DISOLVENTES AROMÁTICOS REDUNDE EN LA ALTA CALIDAD, CON LAS SIGUIENTES CARACTERISTICAS, ESPECIFICACIONES TÉCNICAS, PROPIEDAD RANGO UNIDADES, ACABADO SEMI-BRILLANTE, PESO NETO POR GALÓN COMP. 5.41 - 5.71 KG/GAL, PESO NETO POR ¼ DE GALÓN COMP. B 0.95 KG, SÓLIDOS POR VOLUMEN 45 50 %, MEZCLA POR VOLUMEN 3:1 X VOLUMEN (PINTURA /CATALIZADOR), ESPESOR SECO RECOMENDADO 50 75 MICRONES, PELÍCULA SECA 67 75 M²/GAL, MÉTODO DE APLICACIÓN BROCHA O RODILLO, AJUSTADOR O THINNER RECOMENDADO PARA LA DILUCIÓN, TIEMPO DE VIDA ÚTIL DE LA MEZCLA 8 HORAS 25°C, PUNTO DE CHISPA COPA ABIERTA COMPONENTE A: 58° C, COMPONENTE B: 55° C TCC, V.O.C COMPONENTE A: 420-470, COMPONENTE B: 447 G/L (ASTM D-3960) | E22: M2 | F22: 1
A24: ITEM | B24: CODIGOS UNSPSC | C24: NOMBRE Y DESCRIPCION DEL SERVICIO | E24: UNIDAD DE MEDIDA | F24: CANTIDAD NECESIDAD REAL
A25: 4. MANTENIMINETO MOTORES ELECTRICOS 03 HP. | F25: 1 | G25: =+MIN('PRECIO COTIZACIONES'!G25:J30) -> 1416100
A26: MANTENIMIENTO PINTURA
A27: CARACTERISTICAS DEL EQUIPO
A28: MARCA
A29: POTENCIA
A30: VOLT
A31: AMP
A32: FRECUENCIA
A33: 4.1 | B33: 76111605 | C33: MANTENIMIENTO CONSISTENTES EN: | E33: UNIDAD | F33: 1
C34: APLICACIÓN DE BARNIZ DIELECTRICO TRANSPARENTE.
C35: RUTINA MECANICA Y PINTURA A LA CARCARCASA. (PINTURA EPÓXICA POLIAMIDA, CON LAS CARACTGERISTICAS TÉCNICAS DEL ITEM NO. 8.)
C36: CAMBIO DE BORNERAS.
C37: VERIFICACIÓN DE RESISTENCIA DE AISLAMIENTO ELECTRICO. (MEGGEO)
C38: LAVADO CON LIMPIADOR ELECTRONICO AL ROTOR Y ESTATOR.
C39: CAMBIO DE RODAMIENTOS (DE ALTA CALIDAD, CON CERTIFICACION DE FABRICANTE).
C40: PUESTA EN SERVICIO.
C41: LAVADO CON LIMPIADOR ELECTRONICO AL ROTOR Y ESTATOR.
A43: ITEM | B43: CODIGOS UNSPSC | C43: NOMBRE Y DESCRIPCION DEL SERVICIO | E43: UNIDAD DE MEDIDA | F43: CANTIDAD NECESIDAD REAL
A44: 5. SUMINISTRO MANGAS | F44: A REQUERIMIENTO | G44: =+MIN('PRECIO COTIZACIONES'!G44:J49) -> 130900
...
