Workbook

Sheet PRECIO COTIZACIONES
A1: CAMPANAS Y EXTRACTORES COCINAS SEDE BOGOTA | G1: COTIZACION 1 | H1: COTIZACION 2 | I1: COTIZACION 3 | J1: COTIZACION 4
A2: COCINA PRINCIPAL
A3: ITEM | B3: CODIGOS UNSPSC | C3: NOMBRE Y DESCRIPCION DEL SERVICIO | E3: UNIDAD DE MEDIDA | F3: CANTIDAD NECESIDAD REAL
A4: 1. LIMPIEZA CAMPANA | F4: 1 | G4: 2975000 | H4: 1785000 | I4: 1570800 | J4: 1785000
A5: MANTENIMIENTO PREVENTIVITO, CORRECTIVO
A6: CANTIDAD DE CAMPANA | C6: 3.5 Mts de largo x 2.5 Cm de ancho x 0.50Cms de alto
A7: DIAMETRO DE LA CAMPANA
A8: 1.1 | B8: 76111605 | C8: LIMPIEZA DE CAMPANAS EXTRACTORAS CON DESENGRASANTE INDUSTRIAL | E8: M2 | F8: 1
A9: 1.2 | B9: 76111605 | C9: RECOLECCION DE RESIDUOS DE GRASAS O RESIDUOS AJENOS AL MATERIAL DEL ELEMENTO Y DISPOSICION FINAL DE LOS MISMOS | E9: M2 | F9: 1
A11: ITEM | B11: CODIGOS UNSPSC | C11: NOMBRE Y DESCRIPCION DEL SERVICIO | E11: UNIDAD DE MEDIDA | F11: CANTIDAD NECESIDAD REAL
A12: 2. LIMPIEZA DUCTOS | F12: 1 | G12: 2975000 | H12: 4356590 | I12: 4344690 | J12: 3570000
A13: MANTENIMIENTO PREVENTIVITO, CORRECTIVO
A14: CANTIDAD DE DUCTOS | C14: 45 Mts de largo x 0.95Cm de ancho x 0.60Cms de alto
A15: DIAMETRO DE LA CAMPANA
A16: 2.1 | B16: 76111605 | C16: LIMPIEZA DE DUCTOS CON DESENGRASANTE INDUSTRIAL | E16: M2 | F16: 1
A17: 2.2 | B17: 76111605 | C17: RECOLECCION DE RESIDUOS DE GRASAS O RESIDUOS AJENOS AL MATERIAL DEL ELEMENTO Y DISPOSICION FINAL DE LOS MISMOS | E17: M2 | F17: 1
A19: ITEM | B19: CODIGOS UNSPSC | C19: NOMBRE Y DESCRIPCION DEL SERVICIO | E19: UNIDAD DE MEDIDA | F19: CANTIDAD NECESIDAD REAL
A20: 3. PINTURA DUCTOS | F20: 1 | G20: 2975000 | H20: 3561075 | I20: 3537275 | J20: 1428000
A21: MANTENIMIENTO PINTURA
A22: 3.1 | B22: 76111605 | C22: SUMINISTRO Y APLICACIÓN DE PINTURA EPÓXICA POLIAMIDA BASE SOLVENTE DE DOS COMPONENTES, QUE CON LA MEZCLA APROPIADA DE AMBOS PROPORCIONA UNA PELÍCULA CON BUENA ADHERENCIA Y FLEXIBILIDAD, RESISTENTE AL AGUA, ÁCIDOS DÉBILES, SALES, ÁLCALIS, DERIVADOS DEL PETRÓLEO Y DISOLVENTES AROMÁTICOS REDUNDE EN LA ALTA CALIDAD, CON LAS SIGUIENTES CARACTERISTICAS, ESPECIFICACIONES TÉCNICAS, PROPIEDAD RANGO UNIDADES, ACABADO SEMI-BRILLANTE, PESO NETO POR GALÓN COMP. 5.41 - 5.71 KG/GAL, PESO NETO POR ¼ DE GALÓN COMP. B 0.95 KG, SÓLIDOS POR VOLUMEN 45 50 %, MEZCLA POR VOLUMEN 3:1 X VOLUMEN (PINTURA /CATALIZADOR), ESPESOR SECO RECOMENDADO 50 75 MICRONES, PELÍCULA SECA 67 75 M²/GAL, MÉTODO DE APLICACIÓN BROCHA O RODILLO, AJUSTADOR O THINNER RECOMENDADO PARA LA DILUCIÓN, TIEMPO DE VIDA ÚTIL DE LA MEZCLA 8 HORAS 25°C, PUNTO DE CHISPA COPA ABIERTA COMPONENTE A: 58° C, COMPONENTE B: 55° C TCC, V.O.C COMPONENTE A: 420-470, COMPONENTE B: 447 G/L (ASTM D-3960) | E22: M2 | F22: 1
A24: ITEM | B24: CODIGOS UNSPSC | C24: NOMBRE Y DESCRIPCION DEL SERVICIO | E24: UNIDAD DE MEDIDA | F24: CANTIDAD NECESIDAD REAL
A25: 4. MANTENIMINETO MOTORES ELECTRICOS 03 HP. | F25: 1 | G25: 2142000 | H25: 1416100 | I25: 1477980 | J25: 2499000
A26: MANTENIMIENTO PINTURA
A27: CARACTERISTICAS DEL EQUIPO
A28: MARCA
A29: POTENCIA
A30: VOLT
A31: AMP
A32: FRECUENCIA
A33: 4.1 | B33: 76111605 | C33: MANTENIMIENTO CONSISTENTES EN: | E33: UNIDAD | F33: 1
C34: APLICACIÓN DE BARNIZ DIELECTRICO TRANSPARENTE.
C35: RUTINA MECANICA Y PINTURA A LA CARCARCASA. (PINTURA EPÓXICA POLIAMIDA, CON LAS CARACTGERISTICAS TÉCNICAS DEL ITEM NO. 8.)
C36: CAMBIO DE BORNERAS.
C37: VERIFICACIÓN DE RESISTENCIA DE AISLAMIENTO ELECTRICO. (MEGGEO)
C38: LAVADO CON LIMPIADOR ELECTRONICO AL ROTOR Y ESTATOR.
C39: CAMBIO DE RODAMIENTOS (DE ALTA CALIDAD, CON CERTIFICACION DE FABRICANTE).
C40: PUESTA EN SERVICIO.
C41: LAVADO CON LIMPIADOR ELECTRONICO AL ROTOR Y ESTATOR.
A43: ITEM | B43: CODIGOS UNSPSC | C43: NOMBRE Y DESCRIPCION DEL SERVICIO | E43: UNIDAD DE MEDIDA | F43: CANTIDAD NECESIDAD REAL
A44: 5. SUMINISTRO MANGAS | F44: A REQUERIMIENTO | G44: 595000 | H44: 533120 | I44: 517600 | J44: 130900
A45: SUMINISTRO
A46: DIAMETRO
A47: METROS LARGO
A48: 5.1 | B48: 73152101 | C48: SUMINISTRO E INSTALACION DE MANGA EN LONA PARA UNION ENTRE DUCTO Y BLOWER | E48: UNIDAD | F48: 1
A50: ITEM | B50: CODIGOS UNSPSC | C50: NOMBRE Y DESCRIPCION DEL SERVICIO | E50: UNIDAD DE MEDIDA | F50: CANTIDAD NECESIDAD REAL
A51: 6. SUMINISTRO FILTROS | F51: A REQUERIMIENTO | G51: 714000 | H51: 749700 | I51: 768740 | J51: 2499000
A52: SUMINISTRO
A53: 6.1 | B53: 73152101 | C53: SUMINISTRO E INSTALACION DE FILTROS PARA CAMPANAS, EN ACERO INOXIDABLE DE ALTA CALIDAD. CON MEDIDA ESTANDAR. EN PLACA DE 50 X 50 CM. | E53: UNIDAD | F53: 1
A55: ITEM | B55: CODIGOS UNSPSC | C55: NOMBRE Y DESCRIPCION DEL SERVICIO | E55: UNIDAD DE MEDIDA | F55: CANTIDAD NECESIDAD REAL
A56: 7. SUMINISTRO MALLA TIPO FILTRO | F56: A REQUERIMIENTO | G56: 714000 | H56: 633080 | I56: 633080 | J56: 2142000
A57: SUMINISTRO
A58: 7.1 | B58: 73152101 | C58: SUMINISTRO E INSTALACION DE MALLA TIPO FILTRO CON MEDIDAS 0,40 CM ESPESOR, ELABORADO EN MATERIAL DE ALTA RESISTENCIA, MÁS ALTA DURACIÓN Y SEGURIDAD, RESISTENCIA LA INTEMPERIE, ALTA CALIDAD EN ALAMBRE, EN CADA UNA DE LAS SALIDAS DE LOS SISTEMAS DE EXTRACCÍON. | E58: UNIIDAD | F58: 1
A60: COCINA EMPLEADOS
A61: ITEM | B61: CODIGOS UNSPSC | C61: NOMBRE Y DESCRIPCION DEL SERVICIO | E61: UNIDAD DE MEDIDA | F61: CANTIDAD NECESIDAD REAL
A62: 1. LIMPIEZA CAMPANA | F62: 1 | G62: 2975000 | H62: 1332800 | I62: 1570800 | J62: 1785000
A63: MANTENIMIENTO PREVENTIVITO, CORRECTIVO
A64: CANTIDAD DE CAMPANA | C64: 2.5 Mts de largo x 2 Mts de ancho x 0.50Cms de alto
A65: DIAMETRO DE LA CAMPANA
A66: 1.1 | B66: 76111605 | C66: LIMPIEZA DE CAMPANAS EXTRACTORAS CON DESENGRASANTE INDUSTRIAL | E66: M2 | F66: 1
A67: 1.2 | B67: 76111605 | C67: RECOLECCION DE RESIDUOS DE GRASAS O RESIDUOS AJENOS AL MATERIAL DEL ELEMENTO Y DISPOSICION FINAL DE LOS MISMOS | E67: M2 | F67: 1
A69: ITEM | B69: CODIGOS UNSPSC | C69: NOMBRE Y DESCRIPCION DEL SERVICIO | E69: UNIDAD DE MEDIDA | F69: CANTIDAD NECESIDAD REAL
A70: 2. LIMPIEZA DUCTOS | F70: 1 | G70: 2975000 | H70: 3501932 | I70: 3501932 | J70: 3570000
A71: MANTENIMIENTO PREVENTIVITO, CORRECTIVO
A72: CANTIDAD DE DUCTOS | C72: 25 Mts de largo x 0.95Cm de ancho x 0.60Cms de alto
A73: DIAMETRO DE LA CAMPANA
A74: 2.1 | B74: 76111605 | C74: LIMPIEZA DE DUCTOS CON DESENGRASANTE INDUSTRIAL | E74: M2 | F74: 1
A75: 2.2 | B75: 76111605 | C75: RECOLECCION DE RESIDUOS DE GRASAS O RESIDUOS AJENOS AL MATERIAL DEL ELEMENTO Y DISPOSICION FINAL DE LOS MISMOS | E75: M2 | F75: 1
A77: ITEM | B77: CODIGOS UNSPSC | C77: NOMBRE Y DESCRIPCION DEL SERVICIO | E77: UNIDAD DE MEDIDA | F77: CANTIDAD NECESIDAD REAL
A78: 3. PINTURA DUCTOS | F78: 1 | G78: 2975000 | H78: 2848860 | I78: 2848860 | J78: 1428000
A79: MANTENIMIENTO PINTURA
A80: 3.1 | B80: 76111605 | C80: SUMINISTRO Y APLICACIÓN DE PINTURA EPÓXICA POLIAMIDA BASE SOLVENTE DE DOS COMPONENTES, QUE CON LA MEZCLA APROPIADA DE AMBOS PROPORCIONA UNA PELÍCULA CON BUENA ADHERENCIA Y FLEXIBILIDAD, RESISTENTE AL AGUA, ÁCIDOS DÉBILES, SALES, ÁLCALIS, DERIVADOS DEL PETRÓLEO Y DISOLVENTES AROMÁTICOS REDUNDE EN LA ALTA CALIDAD, CON LAS SIGUIENTES CARACTERISTICAS, ESPECIFICACIONES TÉCNICAS, PROPIEDAD RANGO UNIDADES, ACABADO SEMI-BRILLANTE, PESO NETO POR GALÓN COMP. 5.41 - 5.71 KG/GAL, PESO NETO POR ¼ DE GALÓN COMP. B 0.95 KG, SÓLIDOS POR VOLUMEN 45 50 %, MEZCLA POR VOLUMEN 3:1 X VOLUMEN (PINTURA /CATALIZADOR), ESPESOR SECO RECOMENDADO 50 75 MICRONES, PELÍCULA SECA 67 75 M²/GAL, MÉTODO DE APLICACIÓN BROCHA O RODILLO, AJUSTADOR O THINNER RECOMENDADO PARA LA DILUCIÓN, TIEMPO DE VIDA ÚTIL DE LA MEZCLA 8 HORAS 25°C, PUNTO DE CHISPA COPA ABIERTA COMPONENTE A: 58° C, COMPONENTE B: 55° C TCC, V.O.C COMPONENTE A: 420-470, COMPONENTE B: 447 G/L (ASTM D-3960) | E80: M2 | F80: 1
A82: ITEM | B82: CODIGOS UNSPSC | C82: NOMBRE Y DESCRIPCION DEL SERVICIO | E82: UNIDAD DE MEDIDA | F82: CANTIDAD NECESIDAD REAL
A83: 4. MANTENIMINETO MOTORES ELECTRICOS 03 HP. | F83: 1 | G83: 2142000 | H83: 1416100 | I83: 1477980 | J83: 2499000
A84: MANTENIMIENTO PINTURA
A85: CARACTERISTICAS DEL EQUIPO
A86: MARCA
A87: POTENCIA
A88: VOLT
A89: AMP
A90: FRECUENCIA
A91: 4.1 | B91: 76111605 | C91: MANTENIMIENTO CONSISTENTES EN: | E91: UNIDAD | F91: 1
C92: APLICACIÓN DE BARNIZ DIELECTRICO TRANSPARENTE.
C93: RUTINA MECANICA Y PINTURA A LA CARCARCASA. (PINTURA EPÓXICA POLIAMIDA, CON LAS CARACTGERISTICAS TÉCNICAS DEL ITEM NO. 8.)
C94: CAMBIO DE BORNERAS.
C95: VERIFICACIÓN DE RESISTENCIA DE AISLAMIENTO ELECTRICO. (MEGGEO)
C96: LAVADO CON LIMPIADOR ELECTRONICO AL ROTOR Y ESTATOR.
C97: CAMBIO DE RODAMIENTOS (DE ALTA CALIDAD, CON CERTIFICACION DE FABRICANTE).
C98: PUESTA EN SERVICIO.
C99: LAVADO CON LIMPIADOR ELECTRONICO AL ROTOR Y ESTATOR.
A101: ITEM | B101: CODIGOS UNSPSC | C101: NOMBRE Y DESCRIPCION DEL SERVICIO | E101: UNIDAD DE MEDIDA | F101: CANTIDAD NECESIDAD REAL
A102: 5. SUMINISTRO MANGAS | F102: A REQUERIMIENTO | G102: 595000 | H102: 533120 | I102: 517600 | J102: 1309000
A103: SUMINISTRO
A104: 5.1 | B104: 73152101 | C104: SUMINISTRO E INSTALACION DE MANGA EN LONA PARA UNION ENTRE DUCTO Y BLOWER | E104: UNIDAD | F104: 1
A106: ITEM | B106: CODIGOS UNSPSC | C106: NOMBRE Y DESCRIPCION DEL SERVICIO | E106: UNIDAD DE MEDIDA | F106: CANTIDAD NECESIDAD REAL
A107: 6. SUMINISTRO FILTROS | F107: A REQUERIMIENTO | G107: 714000 | H107: 749700 | I107: 768740 | J107: 2499000
A108: SUMINISTRO
A109: 6.1 | B109: 73152101 | C109: SUMINISTRO E INSTALACION DE FILTROS PARA CAMPANAS, EN ACERO INOXIDABLE DE ALTA CALIDAD. CON MEDIDA ESTANDAR. EN PLACA DE 50 X 50 CM. | E109: UNIDAD | F109: 1
A111: ITEM | B111: CODIGOS UNSPSC | C111: NOMBRE Y DESCRIPCION DEL SERVICIO | E111: UNIDAD DE MEDIDA | F111: CANTIDAD NECESIDAD REAL
A112: 7. SUMINISTRO MALLA TIPO FILTRO | F112: A REQUERIMIENTO | G112: 714000 | H112: 633080 | I112: 633080 | J112: 2142000
A113: SUMINISTRO
...

Sheet ANALISIS COTIZACIONES
A1: CAMPANAS Y EXTRACTORES COCINAS SEDE BOGOTA | G1: MENOR VALOR COTIZADO | H1: PRECIO PROMEDIO COTIZADO | I1: MEDIANA | J1: MEDIA GEOMETRICA | K1: DESVIACION ESTANDAR | L1: % DISPERCION | M1: METRICA UTILIZADA
A2: COCINA PRINCIPAL | O2: =+G2 -> 0
A3: ITEM | B3: CODIGOS UNSPSC | C3: NOMBRE Y DESCRIPCION DEL SERVICIO | E3: UNIDAD DE MEDIDA | F3: CANTIDAD NECESIDAD REAL
A4: 1. LIMPIEZA CAMPANA | F4: 1 | G4: =+MIN('PRECIO COTIZACIONES'!G4:J9) -> 1570800 | H4: =+AVERAGE('PRECIO COTIZACIONES'!G4:J9) -> 2028950 | I4: =+MEDIAN('PRECIO COTIZACIONES'!G4:J9) -> 1785000 | J4: =+GEOMEAN('PRECIO COTIZACIONES'!G4:J9) -> 1964360 | K4: =+STDEVA(J4,G4) -> 278288.93 | L4: =+K4/H4 -> 0.13715908 | M4: MENOR VALOR COTIZADO
A5: MANTENIMIENTO PREVENTIVITO, CORRECTIVO | H5: =+AVERAGE('PRECIO COTIZACIONES'!G5:J10) -> #DIV/0! | I5: =+MEDIAN('PRECIO COTIZACIONES'!G5:J10) -> #NUM! | J5: =+GEOMEAN('PRECIO COTIZACIONES'!G5:J10) -> #NUM! | K5: =+STDEVA(J5,G5) -> #NUM! | L5: =+K5/H5 -> #NUM!
A6: CANTIDAD DE CAMPANA | C6: 3.5 Mts de largo x 2.5 Cm de ancho x 0.50Cms de alto | H6: =+AVERAGE('PRECIO COTIZACIONES'!G6:J11) -> #DIV/0! | I6: =+MEDIAN('PRECIO COTIZACIONES'!G6:J11) -> #NUM! | J6: =+GEOMEAN('PRECIO COTIZACIONES'!G6:J11) -> #NUM! | K6: =+STDEVA(J6,G6) -> #NUM! | L6: =+K6/H6 -> #NUM!
A7: DIAMETRO DE LA CAMPANA | H7: =+AVERAGE('PRECIO COTIZACIONES'!G7:J12) -> 3811570 | I7: =+MEDIAN('PRECIO COTIZACIONES'!G7:J12) -> 3957345 | J7: =+GEOMEAN('PRECIO COTIZACIONES'!G7:J12) -> 3765435.1 | K7: =+STDEVA(J7,G7) -> #DIV/0! | L7: =+K7/H7 -> #DIV/0!
A8: 1.1 | B8: 76111605 | C8: LIMPIEZA DE CAMPANAS EXTRACTORAS CON DESENGRASANTE INDUSTRIAL | E8: M2 | F8: 1 | H8: =+AVERAGE('PRECIO COTIZACIONES'!G8:J13) -> 3811570 | I8: =+MEDIAN('PRECIO COTIZACIONES'!G8:J13) -> 3957345 | J8: =+GEOMEAN('PRECIO COTIZACIONES'!G8:J13) -> 3765435.1 | K8: =+STDEVA(J8,G8) -> #DIV/0! | L8: =+K8/H8 -> #DIV/0!
A9: 1.2 | B9: 76111605 | C9: RECOLECCION DE RESIDUOS DE GRASAS O RESIDUOS AJENOS AL MATERIAL DEL ELEMENTO Y DISPOSICION FINAL DE LOS MISMOS | E9: M2 | F9: 1 | H9: =+AVERAGE('PRECIO COTIZACIONES'!G9:J14) -> 3811570 | I9: =+MEDIAN('PRECIO COTIZACIONES'!G9:J14) -> 3957345 | J9: =+GEOMEAN('PRECIO COTIZACIONES'!G9:J14) -> 3765435.1 | K9: =+STDEVA(J9,G9) -> #DIV/0! | L9: =+K9/H9 -> #DIV/0!
H10: =+AVERAGE('PRECIO COTIZACIONES'!G10:J15) -> 3811570 | I10: =+MEDIAN('PRECIO COTIZACIONES'!G10:J15) -> 3957345 | J10: =+GEOMEAN('PRECIO COTIZACIONES'!G10:J15) -> 3765435.1 | K10: =+STDEVA(J10,G10) -> #DIV/0! | L10: =+K10/H10 -> #DIV/0!
A11: ITEM | B11: CODIGOS UNSPSC | C11: NOMBRE Y DESCRIPCION DEL SERVICIO | E11: UNIDAD DE MEDIDA | F11: CANTIDAD NECESIDAD REAL
A12: 2. LIMPIEZA DUCTOS | F12: 1 | G12: =+MIN('PRECIO COTIZACIONES'!G12:J17) -> 2975000 | H12: =+AVERAGE('PRECIO COTIZACIONES'!G12:J17) -> 3811570 | I12: =+MEDIAN('PRECIO COTIZACIONES'!G12:J17) -> 3957345 | J12: =+GEOMEAN('PRECIO COTIZACIONES'!G12:J17) -> 3765435.1 | K12: =+STDEVA(J12,G12) -> 558922.03 | L12: =+K12/H12 -> 0.14663827
A13: MANTENIMIENTO PREVENTIVITO, CORRECTIVO | H13: =+AVERAGE('PRECIO COTIZACIONES'!G13:J18) -> #DIV/0! | I13: =+MEDIAN('PRECIO COTIZACIONES'!G13:J18) -> #NUM! | J13: =+GEOMEAN('PRECIO COTIZACIONES'!G13:J18) -> #NUM! | K13: =+STDEVA(J13,G13) -> #NUM! | L13: =+K13/H13 -> #NUM!
A14: CANTIDAD DE DUCTOS | C14: 45 Mts de largo x 0.95Cm de ancho x 0.60Cms de alto | H14: =+AVERAGE('PRECIO COTIZACIONES'!G14:J19) -> #DIV/0! | I14: =+MEDIAN('PRECIO COTIZACIONES'!G14:J19) -> #NUM! | J14: =+GEOMEAN('PRECIO COTIZACIONES'!G14:J19) -> #NUM! | K14: =+STDEVA(J14,G14) -> #NUM! | L14: =+K14/H14 -> #NUM!
A15: DIAMETRO DE LA CAMPANA | H15: =+AVERAGE('PRECIO COTIZACIONES'!G15:J20) -> 2875337.5 | I15: =+MEDIAN('PRECIO COTIZACIONES'!G15:J20) -> 3256137.5 | J15: =+GEOMEAN('PRECIO COTIZACIONES'!G15:J20) -> 2704682.4 | K15: =+STDEVA(J15,G15) -> #DIV/0! | L15: =+K15/H15 -> #DIV/0!
A16: 2.1 | B16: 76111605 | C16: LIMPIEZA DE DUCTOS CON DESENGRASANTE INDUSTRIAL | E16: M2 | F16: 1 | H16: =+AVERAGE('PRECIO COTIZACIONES'!G16:J21) -> 2875337.5 | I16: =+MEDIAN('PRECIO COTIZACIONES'!G16:J21) -> 3256137.5 | J16: =+GEOMEAN('PRECIO COTIZACIONES'!G16:J21) -> 2704682.4 | K16: =+STDEVA(J16,G16) -> #DIV/0! | L16: =+K16/H16 -> #DIV/0!
A17: 2.2 | B17: 76111605 | C17: RECOLECCION DE RESIDUOS DE GRASAS O RESIDUOS AJENOS AL MATERIAL DEL ELEMENTO Y DISPOSICION FINAL DE LOS MISMOS | E17: M2 | F17: 1 | H17: =+AVERAGE('PRECIO COTIZACIONES'!G17:J22) -> 2875337.5 | I17: =+MEDIAN('PRECIO COTIZACIONES'!G17:J22) -> 3256137.5 | J17: =+GEOMEAN('PRECIO COTIZACIONES'!G17:J22) -> 2704682.4 | K17: =+STDEVA(J17,G17) -> #DIV/0! | L17: =+K17/H17 -> #DIV/0!
A19: ITEM | B19: CODIGOS UNSPSC | C19: NOMBRE Y DESCRIPCION DEL SERVICIO | E19: UNIDAD DE MEDIDA | F19: CANTIDAD NECESIDAD REAL | G19: =+MIN('PRECIO COTIZACIONES'!G19:J24) -> 1428000 | H19: =+AVERAGE('PRECIO COTIZACIONES'!G19:J24) -> 2875337.5 | I19: =+MEDIAN('PRECIO COTIZACIONES'!G19:J24) -> 3256137.5 | J19: =+GEOMEAN('PRECIO COTIZACIONES'!G19:J24) -> 2704682.4 | K19: =+STDEVA(J19,G19) -> 902750.81 | L19: =+K19/H19 -> 0.31396342
A20: 3. PINTURA DUCTOS | F20: 1 | H20: =+AVERAGE('PRECIO COTIZACIONES'!G20:J25) -> 2379553.8 | I20: =+MEDIAN('PRECIO COTIZACIONES'!G20:J25) -> 2320500 | J20: =+GEOMEAN('PRECIO COTIZACIONES'!G20:J25) -> 2224470.6 | K20: =+STDEVA(J20,G20) -> #DIV/0! | L20: =+K20/H20 -> #DIV/0!
A21: MANTENIMIENTO PINTURA | H21: =+AVERAGE('PRECIO COTIZACIONES'!G21:J26) -> 1883770 | I21: =+MEDIAN('PRECIO COTIZACIONES'!G21:J26) -> 1809990 | J21: =+GEOMEAN('PRECIO COTIZACIONES'!G21:J26) -> 1829519.5 | K21: =+STDEVA(J21,G21) -> #DIV/0! | L21: =+K21/H21 -> #DIV/0!
A22: 3.1 | B22: 76111605 | C22: SUMINISTRO Y APLICACIÓN DE PINTURA EPÓXICA POLIAMIDA BASE SOLVENTE DE DOS COMPONENTES, QUE CON LA MEZCLA APROPIADA DE AMBOS PROPORCIONA UNA PELÍCULA CON BUENA ADHERENCIA Y FLEXIBILIDAD, RESISTENTE AL AGUA, ÁCIDOS DÉBILES, SALES, ÁLCALIS, DERIVADOS DEL PETRÓLEO Y DISOLVENTES AROMÁTICOS REDUNDE EN LA ALTA CALIDAD, CON LAS SIGUIENTES CARACTERISTICAS, ESPECIFICACIONES TÉCNICAS, PROPIEDAD RANGO UNIDADES, ACABADO SEMI-BRILLANTE, PESO NETO POR GALÓN COMP. 5.41 - 5.71 KG/GAL, PESO NETO POR ¼ DE GALÓN COMP. B 0.95 KG, SÓLIDOS POR VOLUMEN 45 50 %, MEZCLA POR VOLUMEN 3:1 X VOLUMEN (PINTURA /CATALIZADOR), ESPESOR SECO RECOMENDADO 50 75 MICRONES, PELÍCULA SECA 67 75 M²/GAL, MÉTODO DE APLICACIÓN BROCHA O RODILLO, AJUSTADOR O THINNER RECOMENDADO PARA LA DILUCIÓN, TIEMPO DE VIDA ÚTIL DE LA MEZCLA 8 HORAS 25°C, PUNTO DE CHISPA COPA ABIERTA COMPONENTE A: 58° C, COMPONENTE B: 55° C TCC, V.O.C COMPONENTE A: 420-470, COMPONENTE B: 447 G/L (ASTM D-3960) | E22: M2 | F22: 1 | H22: =+AVERAGE('PRECIO COTIZACIONES'!G22:J27) -> 1883770 | I22: =+MEDIAN('PRECIO COTIZACIONES'!G22:J27) -> 1809990 | J22: =+GEOMEAN('PRECIO COTIZACIONES'!G22:J27) -> 1829519.5 | K22: =+STDEVA(J22,G22) -> #DIV/0! | L22: =+K22/H22 -> #DIV/0!
A24: ITEM | B24: CODIGOS UNSPSC | C24: NOMBRE Y DESCRIPCION DEL SERVICIO | E24: UNIDAD DE MEDIDA | F24: CANTIDAD NECESIDAD REAL
A25: 4. MANTENIMINETO MOTORES ELECTRICOS 03 HP. | F25: 1 | G25: =+MIN('PRECIO COTIZACIONES'!G25:J30) -> 1416100 | H25: =+AVERAGE('PRECIO COTIZACIONES'!G25:J30) -> 1883770 | I25: =+MEDIAN('PRECIO COTIZACIONES'!G25:J30) -> 1809990 | J25: =+GEOMEAN('PRECIO COTIZACIONES'!G25:J30) -> 1829519.5 | K25: =+STDEVA(J25,G25) -> 292331.76 | L25: =+K25/H25 -> 0.15518442
A26: MANTENIMIENTO PINTURA | H26: =+AVERAGE('PRECIO COTIZACIONES'!G26:J31) -> #DIV/0! | I26: =+MEDIAN('PRECIO COTIZACIONES'!G26:J31) -> #NUM! | J26: =+GEOMEAN('PRECIO COTIZACIONES'!G26:J31) -> #NUM! | K26: =+STDEVA(J26,G26) -> #NUM! | L26: =+K26/H26 -> #NUM!
A27: CARACTERISTICAS DEL EQUIPO | H27: =+AVERAGE('PRECIO COTIZACIONES'!G27:J32) -> #DIV/0! | I27: =+MEDIAN('PRECIO COTIZACIONES'!G27:J32) -> #NUM! | J27: =+GEOMEAN('PRECIO COTIZACIONES'!G27:J32) -> #NUM! | K27: =+STDEVA(J27,G27) -> #NUM! | L27: =+K27/H27 -> #NUM!
A28: MARCA | H28: =+AVERAGE('PRECIO COTIZACIONES'!G28:J33) -> #DIV/0! | I28: =+MEDIAN('PRECIO COTIZACIONES'!G28:J33) -> #NUM! | J28: =+GEOMEAN('PRECIO COTIZACIONES'!G28:J33) -> #NUM! | K28: =+STDEVA(J28,G28) -> #NUM! | L28: =+K28/H28 -> #NUM!
A29: POTENCIA | H29: =+AVERAGE('PRECIO COTIZACIONES'!G29:J34) -> #DIV/0! | I29: =+MEDIAN('PRECIO COTIZACIONES'!G29:J34) -> #NUM! | J29: =+GEOMEAN('PRECIO COTIZACIONES'!G29:J34) -> #NUM! | K29: =+STDEVA(J29,G29) -> #NUM! | L29: =+K29/H29 -> #NUM!
A30: VOLT | H30: =+AVERAGE('PRECIO COTIZACIONES'!G30:J35) -> #DIV/0! | I30: =+MEDIAN('PRECIO COTIZACIONES'!G30:J35) -> #NUM! | J30: =+GEOMEAN('PRECIO COTIZACIONES'!G30:J35) -> #NUM! | K30: =+STDEVA(J30,G30) -> #NUM! | L30: =+K30/H30 -> #NUM!
A31: AMP | H31: =+AVERAGE('PRECIO COTIZACIONES'!G31:J36) -> #DIV/0! | I31: =+MEDIAN('PRECIO COTIZACIONES'!G31:J36) -> #NUM! | J31: =+GEOMEAN('PRECIO COTIZACIONES'!G31:J36) -> #NUM! | K31: =+STDEVA(J31,G31) -> #NUM! | L31: =+K31/H31 -> #NUM!
A32: FRECUENCIA | H32: =+AVERAGE('PRECIO COTIZACIONES'!G32:J37) -> #DIV/0! | I32: =+MEDIAN('PRECIO COTIZACIONES'!G32:J37) -> #NUM! | J32: =+GEOMEAN('PRECIO COTIZACIONES'!G32:J37) -> #NUM! | K32: =+STDEVA(J32,G32) -> #NUM! | L32: =+K32/H32 -> #NUM!
A33: 4.1 | B33: 76111605 | C33: MANTENIMIENTO CONSISTENTES EN: | E33: UNIDAD | F33: 1 | H33: =+AVERAGE('PRECIO COTIZACIONES'!G33:J38) -> #DIV/0! | I33: =+MEDIAN('PRECIO COTIZACIONES'!G33:J38) -> #NUM! | J33: =+GEOMEAN('PRECIO COTIZACIONES'!G33:J38) -> #NUM! | K33: =+STDEVA(J33,G33) -> #NUM! | L33: =+K33/H33 -> #NUM!
C34: APLICACIÓN DE BARNIZ DIELECTRICO TRANSPARENTE. | H34: =+AVERAGE('PRECIO COTIZACIONES'!G34:J39) -> #DIV/0! | I34: =+MEDIAN('PRECIO COTIZACIONES'!G34:J39) -> #NUM! | J34: =+GEOMEAN('PRECIO COTIZACIONES'!G34:J39) -> #NUM! | K34: =+STDEVA(J34,G34) -> #NUM! | L34: =+K34/H34 -> #NUM!
C35: RUTINA MECANICA Y PINTURA A LA CARCARCASA. (PINTURA EPÓXICA POLIAMIDA, CON LAS CARACTGERISTICAS TÉCNICAS DEL ITEM NO. 8.) | H35: =+AVERAGE('PRECIO COTIZACIONES'!G35:J40) -> #DIV/0! | I35: =+MEDIAN('PRECIO COTIZACIONES'!G35:J40) -> #NUM! | J35: =+GEOMEAN('PRECIO COTIZACIONES'!G35:J40) -> #NUM! | K35: =+STDEVA(J35,G35) -> #NUM! | L35: =+K35/H35 -> #NUM!
C36: CAMBIO DE BORNERAS. | H36: =+AVERAGE('PRECIO COTIZACIONES'!G36:J41) -> #DIV/0! | I36: =+MEDIAN('PRECIO COTIZACIONES'!G36:J41) -> #NUM! | J36: =+GEOMEAN('PRECIO COTIZACIONES'!G36:J41) -> #NUM! | K36: =+STDEVA(J36,G36) -> #NUM! | L36: =+K36/H36 -> #NUM!
C37: VERIFICACIÓN DE RESISTENCIA DE AISLAMIENTO ELECTRICO. (MEGGEO) | H37: =+AVERAGE('PRECIO COTIZACIONES'!G37:J42) -> #DIV/0! | I37: =+MEDIAN('PRECIO COTIZACIONES'!G37:J42) -> #NUM! | J37: =+GEOMEAN('PRECIO COTIZACIONES'!G37:J42) -> #NUM! | K37: =+STDEVA(J37,G37) -> #NUM! | L37: =+K37/H37 -> #NUM!
C38: LAVADO CON LIMPIADOR ELECTRONICO AL ROTOR Y ESTATOR. | H38: =+AVERAGE('PRECIO COTIZACIONES'!G38:J43) -> #DIV/0! | I38: =+MEDIAN('PRECIO COTIZACIONES'!G38:J43) -> #NUM! | J38: =+GEOMEAN('PRECIO COTIZACIONES'!G38:J43) -> #NUM! | K38: =+STDEVA(J38,G38) -> #NUM! | L38: =+K38/H38 -> #NUM!
C39: CAMBIO DE RODAMIENTOS (DE ALTA CALIDAD, CON CERTIFICACION DE FABRICANTE). | H39: =+AVERAGE('PRECIO COTIZACIONES'!G39:J44) -> 444155 | I39: =+MEDIAN('PRECIO COTIZACIONES'!G39:J44) -> 525360 | J39: =+GEOMEAN('PRECIO COTIZACIONES'!G39:J44) -> 382885.54 | K39: =+STDEVA(J39,G39) -> #DIV/0! | L39: =+K39/H39 -> #DIV/0!
C40: PUESTA EN SERVICIO. | H40: =+AVERAGE('PRECIO COTIZACIONES'!G40:J45) -> 444155 | I40: =+MEDIAN('PRECIO COTIZACIONES'!G40:J45) -> 525360 | J40: =+GEOMEAN('PRECIO COTIZACIONES'!G40:J45) -> 382885.54 | K40: =+STDEVA(J40,G40) -> #DIV/0! | L40: =+K40/H40 -> #DIV/0!
C41: LAVADO CON LIMPIADOR ELECTRONICO AL ROTOR Y ESTATOR. | H41: =+AVERAGE('PRECIO COTIZACIONES'!G41:J46) -> 444155 | I41: =+MEDIAN('PRECIO COTIZACIONES'!G41:J46) -> 525360 | J41: =+GEOMEAN('PRECIO COTIZACIONES'!G41:J46) -> 382885.54 | K41: =+STDEVA(J41,G41) -> #DIV/0! | L41: =+K41/H41 -> #DIV/0!
A43: ITEM | B43: CODIGOS UNSPSC | C43: NOMBRE Y DESCRIPCION DEL SERVICIO | E43: UNIDAD DE MEDIDA | F43: CANTIDAD NECESIDAD REAL
A44: 5. SUMINISTRO MANGAS | F44: A REQUERIMIENTO | G44: =+MIN('PRECIO COTIZACIONES'!G44:J49) -> 130900 | H44: =+AVERAGE('PRECIO COTIZACIONES'!G44:J49) -> 444155 | I44: =+MEDIAN('PRECIO COTIZACIONES'!G44:J49) -> 525360 | J44: =+GEOMEAN('PRECIO COTIZACIONES'!G44:J49) -> 382885.54 | K44: =+STDEVA(J44,G44) -> 178180.68 | L44: =+K44/H44 -> 0.4011678
A45: SUMINISTRO | H45: =+AVERAGE('PRECIO COTIZACIONES'!G45:J50) -> #DIV/0! | I45: =+MEDIAN('PRECIO COTIZACIONES'!G45:J50) -> #NUM! | J45: =+GEOMEAN('PRECIO COTIZACIONES'!G45:J50) -> #NUM! | K45: =+STDEVA(J45,G45) -> #NUM! | L45: =+K45/H45 -> #NUM!
A46: DIAMETRO | H46: =+AVERAGE('PRECIO COTIZACIONES'!G46:J51) -> 1182860 | I46: =+MEDIAN('PRECIO COTIZACIONES'!G46:J51) -> 759220 | J46: =+GEOMEAN('PRECIO COTIZACIONES'!G46:J51) -> 1007007.9 | K46: =+STDEVA(J46,G46) -> #DIV/0! | L46: =+K46/H46 -> #DIV/0!
A47: METROS LARGO | H47: =+AVERAGE('PRECIO COTIZACIONES'!G47:J52) -> 1182860 | I47: =+MEDIAN('PRECIO COTIZACIONES'!G47:J52) -> 759220 | J47: =+GEOMEAN('PRECIO COTIZACIONES'!G47:J52) -> 1007007.9 | K47: =+STDEVA(J47,G47) -> #DIV/0! | L47: =+K47/H47 -> #DIV/0!
A48: 5.1 | B48: 73152101 | C48: SUMINISTRO E INSTALACION DE MANGA EN LONA PARA UNION ENTRE DUCTO Y BLOWER | E48: UNIDAD | F48: 1 | H48: =+AVERAGE('PRECIO COTIZACIONES'!G48:J53) -> 1182860 | I48: =+MEDIAN('PRECIO COTIZACIONES'!G48:J53) -> 759220 | J48: =+GEOMEAN('PRECIO COTIZACIONES'!G48:J53) -> 1007007.9 | K48: =+STDEVA(J48,G48) -> #DIV/0! | L48: =+K48/H48 -> #DIV/0!
A50: ITEM | B50: CODIGOS UNSPSC | C50: NOMBRE Y DESCRIPCION DEL SERVICIO | E50: UNIDAD DE MEDIDA | F50: CANTIDAD NECESIDAD REAL
A51: 6. SUMINISTRO FILTROS | F51: A REQUERIMIENTO | G51: =+MIN('PRECIO COTIZACIONES'!G51:J56) -> 633080 | H51: =+AVERAGE('PRECIO COTIZACIONES'!G51:J56) -> 1106700 | I51: =+MEDIAN('PRECIO COTIZACIONES'!G51:J56) -> 731850 | J51: =+GEOMEAN('PRECIO COTIZACIONES'!G51:J56) -> 943943.04 | K51: =+STDEVA(J51,G51) -> 219813.37 | L51: =+K51/H51 -> 0.19862055
A52: SUMINISTRO | H52: =+AVERAGE('PRECIO COTIZACIONES'!G52:J57) -> 1030540 | I52: =+MEDIAN('PRECIO COTIZACIONES'!G52:J57) -> 673540 | J52: =+GEOMEAN('PRECIO COTIZACIONES'!G52:J57) -> 884827.71 | K52: =+STDEVA(J52,G52) -> #DIV/0! | L52: =+K52/H52 -> #DIV/0!
A53: 6.1 | B53: 73152101 | C53: SUMINISTRO E INSTALACION DE FILTROS PARA CAMPANAS, EN ACERO INOXIDABLE DE ALTA CALIDAD. CON MEDIDA ESTANDAR. EN PLACA DE 50 X 50 CM. | E53: UNIDAD | F53: 1 | H53: =+AVERAGE('PRECIO COTIZACIONES'!G53:J58) -> 1030540 | I53: =+MEDIAN('PRECIO COTIZACIONES'!G53:J58) -> 673540 | J53: =+GEOMEAN('PRECIO COTIZACIONES'!G53:J58) -> 884827.71 | K53: =+STDEVA(J53,G53) -> #DIV/0! | L53: =+K53/H53 -> #DIV/0!
A55: ITEM | B55: CODIGOS UNSPSC | C55: NOMBRE Y DESCRIPCION DEL SERVICIO | E55: UNIDAD DE MEDIDA | F55: CANTIDAD NECESIDAD REAL
A56: 7. SUMINISTRO MALLA TIPO FILTRO | F56: A REQUERIMIENTO | G56: =+MIN('PRECIO COTIZACIONES'!G56:J61) -> 633080 | H56: =+AVERAGE('PRECIO COTIZACIONES'!G56:J61) -> 1030540 | I56: =+MEDIAN('PRECIO COTIZACIONES'!G56:J61) -> 673540 | J56: =+GEOMEAN('PRECIO COTIZACIONES'!G56:J61) -> 884827.71 | K56: =+STDEVA(J56,G56) -> 178012.52 | L56: =+K56/H56 -> 0.17273712
A57: SUMINISTRO | H57: =+AVERAGE('PRECIO COTIZACIONES'!G57:J62) -> 1915900 | I57: =+MEDIAN('PRECIO COTIZACIONES'!G57:J62) -> 1677900 | J57: =+GEOMEAN('PRECIO COTIZACIONES'!G57:J62) -> 1826008.4 | K57: =+STDEVA(J57,G57) -> #DIV/0! | L57: =+K57/H57 -> #DIV/0!
A58: 7.1 | B58: 73152101 | C58: SUMINISTRO E INSTALACION DE MALLA TIPO FILTRO CON MEDIDAS 0,40 CM ESPESOR, ELABORADO EN MATERIAL DE ALTA RESISTENCIA, MÁS ALTA DURACIÓN Y SEGURIDAD, RESISTENCIA LA INTEMPERIE, ALTA CALIDAD EN ALAMBRE, EN CADA UNA DE LAS SALIDAS DE LOS SISTEMAS DE EXTRACCÍON. | E58: UNIIDAD | F58: 1 | H58: =+AVERAGE('PRECIO COTIZACIONES'!G58:J63) -> 1915900 | I58: =+MEDIAN('PRECIO COTIZACIONES'!G58:J63) -> 1677900 | J58: =+GEOMEAN('PRECIO COTIZACIONES'!G58:J63) -> 1826008.4 | K58: =+STDEVA(J58,G58) -> #DIV/0! | L58: =+K58/H58 -> #DIV/0!
A60: COCINA EMPLEADOS
A61: ITEM | B61: CODIGOS UNSPSC | C61: NOMBRE Y DESCRIPCION DEL SERVICIO | E61: UNIDAD DE MEDIDA | F61: CANTIDAD NECESIDAD REAL
A62: 1. LIMPIEZA CAMPANA | F62: 1 | G62: =+MIN('PRECIO COTIZACIONES'!G62:J67) -> 1332800 | H62: =+AVERAGE('PRECIO COTIZACIONES'!G62:J67) -> 1915900 | I62: =+MEDIAN('PRECIO COTIZACIONES'!G62:J67) -> 1677900 | J62: =+GEOMEAN('PRECIO COTIZACIONES'!G62:J67) -> 1826008.4 | K62: =+STDEVA(J62,G62) -> 348750.99 | L62: =+K62/H62 -> 0.18202985
A63: MANTENIMIENTO PREVENTIVITO, CORRECTIVO | H63: =+AVERAGE('PRECIO COTIZACIONES'!G63:J68) -> #DIV/0! | I63: =+MEDIAN('PRECIO COTIZACIONES'!G63:J68) -> #NUM! | J63: =+GEOMEAN('PRECIO COTIZACIONES'!G63:J68) -> #NUM! | K63: =+STDEVA(J63,G63) -> #NUM! | L63: =+K63/H63 -> #NUM!
A64: CANTIDAD DE CAMPANA | C64: 2.5 Mts de largo x 2 Mts de ancho x 0.50Cms de alto | H64: =+AVERAGE('PRECIO COTIZACIONES'!G64:J69) -> #DIV/0! | I64: =+MEDIAN('PRECIO COTIZACIONES'!G64:J69) -> #NUM! | J64: =+GEOMEAN('PRECIO COTIZACIONES'!G64:J69) -> #NUM! | K64: =+STDEVA(J64,G64) -> #NUM! | L64: =+K64/H64 -> #NUM!
A65: DIAMETRO DE LA CAMPANA | H65: =+AVERAGE('PRECIO COTIZACIONES'!G65:J70) -> 3387216 | I65: =+MEDIAN('PRECIO COTIZACIONES'!G65:J70) -> 3501932 | J65: =+GEOMEAN('PRECIO COTIZACIONES'!G65:J70) -> 3378256.7 | K65: =+STDEVA(J65,G65) -> #DIV/0! | L65: =+K65/H65 -> #DIV/0!
A66: 1.1 | B66: 76111605 | C66: LIMPIEZA DE CAMPANAS EXTRACTORAS CON DESENGRASANTE INDUSTRIAL | E66: M2 | F66: 1 | H66: =+AVERAGE('PRECIO COTIZACIONES'!G66:J71) -> 3387216 | I66: =+MEDIAN('PRECIO COTIZACIONES'!G66:J71) -> 3501932 | J66: =+GEOMEAN('PRECIO COTIZACIONES'!G66:J71) -> 3378256.7 | K66: =+STDEVA(J66,G66) -> #DIV/0! | L66: =+K66/H66 -> #DIV/0!
A67: 1.2 | B67: 76111605 | C67: RECOLECCION DE RESIDUOS DE GRASAS O RESIDUOS AJENOS AL MATERIAL DEL ELEMENTO Y DISPOSICION FINAL DE LOS MISMOS | E67: M2 | F67: 1 | H67: =+AVERAGE('PRECIO COTIZACIONES'!G67:J72) -> 3387216 | I67: =+MEDIAN('PRECIO COTIZACIONES'!G67:J72) -> 3501932 | J67: =+GEOMEAN('PRECIO COTIZACIONES'!G67:J72) -> 3378256.7 | K67: =+STDEVA(J67,G67) -> #DIV/0! | L67: =+K67/H67 -> #DIV/0!
A69: ITEM | B69: CODIGOS UNSPSC | C69: NOMBRE Y DESCRIPCION DEL SERVICIO | E69: UNIDAD DE MEDIDA | F69: CANTIDAD NECESIDAD REAL
A70: 2. LIMPIEZA DUCTOS | F70: 1 | G70: =+MIN('PRECIO COTIZACIONES'!G70:J75) -> 2975000 | H70: =+AVERAGE('PRECIO COTIZACIONES'!G70:J75) -> 3387216 | I70: =+MEDIAN('PRECIO COTIZACIONES'!G70:J75) -> 3501932 | J70: =+GEOMEAN('PRECIO COTIZACIONES'!G70:J75) -> 3378256.7 | K70: =+STDEVA(J70,G70) -> 285145.57 | L70: =+K70/H70 -> 0.084182872
A71: MANTENIMIENTO PREVENTIVITO, CORRECTIVO | H71: =+AVERAGE('PRECIO COTIZACIONES'!G71:J76) -> #DIV/0! | I71: =+MEDIAN('PRECIO COTIZACIONES'!G71:J76) -> #NUM! | J71: =+GEOMEAN('PRECIO COTIZACIONES'!G71:J76) -> #NUM! | K71: =+STDEVA(J71,G71) -> #NUM! | L71: =+K71/H71 -> #NUM!
A72: CANTIDAD DE DUCTOS | C72: 25 Mts de largo x 0.95Cm de ancho x 0.60Cms de alto | H72: =+AVERAGE('PRECIO COTIZACIONES'!G72:J77) -> #DIV/0! | I72: =+MEDIAN('PRECIO COTIZACIONES'!G72:J77) -> #NUM! | J72: =+GEOMEAN('PRECIO COTIZACIONES'!G72:J77) -> #NUM! | K72: =+STDEVA(J72,G72) -> #NUM! | L72: =+K72/H72 -> #NUM!
A73: DIAMETRO DE LA CAMPANA | H73: =+AVERAGE('PRECIO COTIZACIONES'!G73:J78) -> 2525180 | I73: =+MEDIAN('PRECIO COTIZACIONES'!G73:J78) -> 2848860 | J73: =+GEOMEAN('PRECIO COTIZACIONES'!G73:J78) -> 2423200.5 | K73: =+STDEVA(J73,G73) -> #DIV/0! | L73: =+K73/H73 -> #DIV/0!
A74: 2.1 | B74: 76111605 | C74: LIMPIEZA DE DUCTOS CON DESENGRASANTE INDUSTRIAL | E74: M2 | F74: 1 | H74: =+AVERAGE('PRECIO COTIZACIONES'!G74:J79) -> 2525180 | I74: =+MEDIAN('PRECIO COTIZACIONES'!G74:J79) -> 2848860 | J74: =+GEOMEAN('PRECIO COTIZACIONES'!G74:J79) -> 2423200.5 | K74: =+STDEVA(J74,G74) -> #DIV/0! | L74: =+K74/H74 -> #DIV/0!
A75: 2.2 | B75: 76111605 | C75: RECOLECCION DE RESIDUOS DE GRASAS O RESIDUOS AJENOS AL MATERIAL DEL ELEMENTO Y DISPOSICION FINAL DE LOS MISMOS | E75: M2 | F75: 1 | H75: =+AVERAGE('PRECIO COTIZACIONES'!G75:J80) -> 2525180 | I75: =+MEDIAN('PRECIO COTIZACIONES'!G75:J80) -> 2848860 | J75: =+GEOMEAN('PRECIO COTIZACIONES'!G75:J80) -> 2423200.5 | K75: =+STDEVA(J75,G75) -> #DIV/0! | L75: =+K75/H75 -> #DIV/0!
A77: ITEM | B77: CODIGOS UNSPSC | C77: NOMBRE Y DESCRIPCION DEL SERVICIO | E77: UNIDAD DE MEDIDA | F77: CANTIDAD NECESIDAD REAL | G77: =+MIN('PRECIO COTIZACIONES'!G77:J82) -> 1428000 | H77: =+AVERAGE('PRECIO COTIZACIONES'!G77:J82) -> 2525180 | I77: =+MEDIAN('PRECIO COTIZACIONES'!G77:J82) -> 2848860 | J77: =+GEOMEAN('PRECIO COTIZACIONES'!G77:J82) -> 2423200.5 | K77: =+STDEVA(J77,G77) -> 703713.01 | L77: =+K77/H77 -> 0.27867836
A78: 3. PINTURA DUCTOS | F78: 1 | H78: =+AVERAGE('PRECIO COTIZACIONES'!G78:J83) -> 2204475 | I78: =+MEDIAN('PRECIO COTIZACIONES'!G78:J83) -> 2320500 | J78: =+GEOMEAN('PRECIO COTIZACIONES'!G78:J83) -> 2105538.6 | K78: =+STDEVA(J78,G78) -> #DIV/0! | L78: =+K78/H78 -> #DIV/0!
A79: MANTENIMIENTO PINTURA | H79: =+AVERAGE('PRECIO COTIZACIONES'!G79:J84) -> 1883770 | I79: =+MEDIAN('PRECIO COTIZACIONES'!G79:J84) -> 1809990 | J79: =+GEOMEAN('PRECIO COTIZACIONES'!G79:J84) -> 1829519.5 | K79: =+STDEVA(J79,G79) -> #DIV/0! | L79: =+K79/H79 -> #DIV/0!
A80: 3.1 | B80: 76111605 | C80: SUMINISTRO Y APLICACIÓN DE PINTURA EPÓXICA POLIAMIDA BASE SOLVENTE DE DOS COMPONENTES, QUE CON LA MEZCLA APROPIADA DE AMBOS PROPORCIONA UNA PELÍCULA CON BUENA ADHERENCIA Y FLEXIBILIDAD, RESISTENTE AL AGUA, ÁCIDOS DÉBILES, SALES, ÁLCALIS, DERIVADOS DEL PETRÓLEO Y DISOLVENTES AROMÁTICOS REDUNDE EN LA ALTA CALIDAD, CON LAS SIGUIENTES CARACTERISTICAS, ESPECIFICACIONES TÉCNICAS, PROPIEDAD RANGO UNIDADES, ACABADO SEMI-BRILLANTE, PESO NETO POR GALÓN COMP. 5.41 - 5.71 KG/GAL, PESO NETO POR ¼ DE GALÓN COMP. B 0.95 KG, SÓLIDOS POR VOLUMEN 45 50 %, MEZCLA POR VOLUMEN 3:1 X VOLUMEN (PINTURA /CATALIZADOR), ESPESOR SECO RECOMENDADO 50 75 MICRONES, PELÍCULA SECA 67 75 M²/GAL, MÉTODO DE APLICACIÓN BROCHA O RODILLO, AJUSTADOR O THINNER RECOMENDADO PARA LA DILUCIÓN, TIEMPO DE VIDA ÚTIL DE LA MEZCLA 8 HORAS 25°C, PUNTO DE CHISPA COPA ABIERTA COMPONENTE A: 58° C, COMPONENTE B: 55° C TCC, V.O.C COMPONENTE A: 420-470, COMPONENTE B: 447 G/L (ASTM D-3960) | E80: M2 | F80: 1 | H80: =+AVERAGE('PRECIO COTIZACIONES'!G80:J85) -> 1883770 | I80: =+MEDIAN('PRECIO COTIZACIONES'!G80:J85) -> 1809990 | J80: =+GEOMEAN('PRECIO COTIZACIONES'!G80:J85) -> 1829519.5 | K80: =+STDEVA(J80,G80) -> #DIV/0! | L80: =+K80/H80 -> #DIV/0!
A82: ITEM | B82: CODIGOS UNSPSC | C82: NOMBRE Y DESCRIPCION DEL SERVICIO | E82: UNIDAD DE MEDIDA | F82: CANTIDAD NECESIDAD REAL
A83: 4. MANTENIMINETO MOTORES ELECTRICOS 03 HP. | F83: 1 | G83: =+MIN('PRECIO COTIZACIONES'!G83:J88) -> 1416100 | H83: =+AVERAGE('PRECIO COTIZACIONES'!G83:J88) -> 1883770 | I83: =+MEDIAN('PRECIO COTIZACIONES'!G83:J88) -> 1809990 | J83: =+GEOMEAN('PRECIO COTIZACIONES'!G83:J88) -> 1829519.5 | K83: =+STDEVA(J83,G83) -> 292331.76 | L83: =+K83/H83 -> 0.15518442
A84: MANTENIMIENTO PINTURA | H84: =+AVERAGE('PRECIO COTIZACIONES'!G84:J89) -> #DIV/0! | I84: =+MEDIAN('PRECIO COTIZACIONES'!G84:J89) -> #NUM! | J84: =+GEOMEAN('PRECIO COTIZACIONES'!G84:J89) -> #NUM! | K84: =+STDEVA(J84,G84) -> #NUM! | L84: =+K84/H84 -> #NUM!
A85: CARACTERISTICAS DEL EQUIPO | H85: =+AVERAGE('PRECIO COTIZACIONES'!G85:J90) -> #DIV/0! | I85: =+MEDIAN('PRECIO COTIZACIONES'!G85:J90) -> #NUM! | J85: =+GEOMEAN('PRECIO COTIZACIONES'!G85:J90) -> #NUM! | K85: =+STDEVA(J85,G85) -> #NUM! | L85: =+K85/H85 -> #NUM!
A86: MARCA | H86: =+AVERAGE('PRECIO COTIZACIONES'!G86:J91) -> #DIV/0! | I86: =+MEDIAN('PRECIO COTIZACIONES'!G86:J91) -> #NUM! | J86: =+GEOMEAN('PRECIO COTIZACIONES'!G86:J91) -> #NUM! | K86: =+STDEVA(J86,G86) -> #NUM! | L86: =+K86/H86 -> #NUM!
A87: POTENCIA | H87: =+AVERAGE('PRECIO COTIZACIONES'!G87:J92) -> #DIV/0! | I87: =+MEDIAN('PRECIO COTIZACIONES'!G87:J92) -> #NUM! | J87: =+GEOMEAN('PRECIO COTIZACIONES'!G87:J92) -> #NUM! | K87: =+STDEVA(J87,G87) -> #NUM! | L87: =+K87/H87 -> #NUM!
A88: VOLT | H88: =+AVERAGE('PRECIO COTIZACIONES'!G88:J93) -> #DIV/0! | I88: =+MEDIAN('PRECIO COTIZACIONES'!G88:J93) -> #NUM! | J88: =+GEOMEAN('PRECIO COTIZACIONES'!G88:J93) -> #NUM! | K88: =+STDEVA(J88,G88) -> #NUM! | L88: =+K88/H88 -> #NUM!
A89: AMP | H89: =+AVERAGE('PRECIO COTIZACIONES'!G89:J94) -> #DIV/0! | I89: =+MEDIAN('PRECIO COTIZACIONES'!G89:J94) -> #NUM! | J89: =+GEOMEAN('PRECIO COTIZACIONES'!G89:J94) -> #NUM! | K89: =+STDEVA(J89,G89) -> #NUM! | L89: =+K89/H89 -> #NUM!
A90: FRECUENCIA | H90: =+AVERAGE('PRECIO COTIZACIONES'!G90:J95) -> #DIV/0! | I90: =+MEDIAN('PRECIO COTIZACIONES'!G90:J95) -> #NUM! | J90: =+GEOMEAN('PRECIO COTIZACIONES'!G90:J95) -> #NUM! | K90: =+STDEVA(J90,G90) -> #NUM! | L90: =+K90/H90 -> #NUM!
A91: 4.1 | B91: 76111605 | C91: MANTENIMIENTO CONSISTENTES EN: | E91: UNIDAD | F91: 1 | H91: =+AVERAGE('PRECIO COTIZACIONES'!G91:J96) -> #DIV/0! | I91: =+MEDIAN('PRECIO COTIZACIONES'!G91:J96) -> #NUM! | J91: =+GEOMEAN('PRECIO COTIZACIONES'!G91:J96) -> #NUM! | K91: =+STDEVA(J91,G91) -> #NUM! | L91: =+K91/H91 -> #NUM!
C92: APLICACIÓN DE BARNIZ DIELECTRICO TRANSPARENTE. | H92: =+AVERAGE('PRECIO COTIZACIONES'!G92:J97) -> #DIV/0! | I92: =+MEDIAN('PRECIO COTIZACIONES'!G92:J97) -> #NUM! | J92: =+GEOMEAN('PRECIO COTIZACIONES'!G92:J97) -> #NUM! | K92: =+STDEVA(J92,G92) -> #NUM! | L92: =+K92/H92 -> #NUM!
C93: RUTINA MECANICA Y PINTURA A LA CARCARCASA. (PINTURA EPÓXICA POLIAMIDA, CON LAS CARACTGERISTICAS TÉCNICAS DEL ITEM NO. 8.) | H93: =+AVERAGE('PRECIO COTIZACIONES'!G93:J98) -> #DIV/0! | I93: =+MEDIAN('PRECIO COTIZACIONES'!G93:J98) -> #NUM! | J93: =+GEOMEAN('PRECIO COTIZACIONES'!G93:J98) -> #NUM! | K93: =+STDEVA(J93,G93) -> #NUM! | L93: =+K93/H93 -> #NUM!
C94: CAMBIO DE BORNERAS. | H94: =+AVERAGE('PRECIO COTIZACIONES'!G94:J99) -> #DIV/0! | I94: =+MEDIAN('PRECIO COTIZACIONES'!G94:J99) -> #NUM! | J94: =+GEOMEAN('PRECIO COTIZACIONES'!G94:J99) -> #NUM! | K94: =+STDEVA(J94,G94) -> #NUM! | L94: =+K94/H94 -> #NUM!
C95: VERIFICACIÓN DE RESISTENCIA DE AISLAMIENTO ELECTRICO. (MEGGEO) | H95: =+AVERAGE('PRECIO COTIZACIONES'!G95:J100) -> #DIV/0! | I95: =+MEDIAN('PRECIO COTIZACIONES'!G95:J100) -> #NUM! | J95: =+GEOMEAN('PRECIO COTIZACIONES'!G95:J100) -> #NUM! | K95: =+STDEVA(J95,G95) -> #NUM! | L95: =+K95/H95 -> #NUM!
C96: LAVADO CON LIMPIADOR ELECTRONICO AL ROTOR Y ESTATOR. | H96: =+AVERAGE('PRECIO COTIZACIONES'!G96:J101) -> #DIV/0! | I96: =+MEDIAN('PRECIO COTIZACIONES'!G96:J101) -> #NUM! | J96: =+GEOMEAN('PRECIO COTIZACIONES'!G96:J101) -> #NUM! | K96: =+STDEVA(J96,G96) -> #NUM! | L96: =+K96/H96 -> #NUM!
C97: CAMBIO DE RODAMIENTOS (DE ALTA CALIDAD, CON CERTIFICACION DE FABRICANTE). | H97: =+AVERAGE('PRECIO COTIZACIONES'!G97:J102) -> 738680 | I97: =+MEDIAN('PRECIO COTIZACIONES'!G97:J102) -> 564060 | J97: =+GEOMEAN('PRECIO COTIZACIONES'!G97:J102) -> 680877.47 | K97: =+STDEVA(J97,G97) -> #DIV/0! | L97: =+K97/H97 -> #DIV/0!
C98: PUESTA EN SERVICIO. | H98: =+AVERAGE('PRECIO COTIZACIONES'!G98:J103) -> 738680 | I98: =+MEDIAN('PRECIO COTIZACIONES'!G98:J103) -> 564060 | J98: =+GEOMEAN('PRECIO COTIZACIONES'!G98:J103) -> 680877.47 | K98: =+STDEVA(J98,G98) -> #DIV/0! | L98: =+K98/H98 -> #DIV/0!
C99: LAVADO CON LIMPIADOR ELECTRONICO AL ROTOR Y ESTATOR. | H99: =+AVERAGE('PRECIO COTIZACIONES'!G99:J104) -> 738680 | I99: =+MEDIAN('PRECIO COTIZACIONES'!G99:J104) -> 564060 | J99: =+GEOMEAN('PRECIO COTIZACIONES'!G99:J104) -> 680877.47 | K99: =+STDEVA(J99,G99) -> #DIV/0! | L99: =+K99/H99 -> #DIV/0!
A101: ITEM | B101: CODIGOS UNSPSC | C101: NOMBRE Y DESCRIPCION DEL SERVICIO | E101: UNIDAD DE MEDIDA | F101: CANTIDAD NECESIDAD REAL
A102: 5. SUMINISTRO MANGAS | F102: A REQUERIMIENTO | G102: =+MIN('PRECIO COTIZACIONES'!G102:J107) -> 517600 | H102: =+AVERAGE('PRECIO COTIZACIONES'!G102:J107) -> 960770 | I102: =+MEDIAN('PRECIO COTIZACIONES'!G102:J107) -> 731850 | J102: =+GEOMEAN('PRECIO COTIZACIONES'!G102:J107) -> 828039.23 | K102: =+STDEVA(J102,G102) -> 219513.69 | L102: =+K102/H102 -> 0.22847683
A103: SUMINISTRO | H103: =+AVERAGE('PRECIO COTIZACIONES'!G103:J108) -> 1182860 | I103: =+MEDIAN('PRECIO COTIZACIONES'!G103:J108) -> 759220 | J103: =+GEOMEAN('PRECIO COTIZACIONES'!G103:J108) -> 1007007.9 | K103: =+STDEVA(J103,G103) -> #DIV/0! | L103: =+K103/H103 -> #DIV/0!
A104: 5.1 | B104: 73152101 | C104: SUMINISTRO E INSTALACION DE MANGA EN LONA PARA UNION ENTRE DUCTO Y BLOWER | E104: UNIDAD | F104: 1 | H104: =+AVERAGE('PRECIO COTIZACIONES'!G104:J109) -> 1182860 | I104: =+MEDIAN('PRECIO COTIZACIONES'!G104:J109) -> 759220 | J104: =+GEOMEAN('PRECIO COTIZACIONES'!G104:J109) -> 1007007.9 | K104: =+STDEVA(J104,G104) -> #DIV/0! | L104: =+K104/H104 -> #DIV/0!
A106: ITEM | B106: CODIGOS UNSPSC | C106: NOMBRE Y DESCRIPCION DEL SERVICIO | E106: UNIDAD DE MEDIDA | F106: CANTIDAD NECESIDAD REAL | G106: =+MIN('PRECIO COTIZACIONES'!G106:J111) -> 714000 | H106: =+AVERAGE('PRECIO COTIZACIONES'!G106:J111) -> 1182860 | I106: =+MEDIAN('PRECIO COTIZACIONES'!G106:J111) -> 759220 | J106: =+GEOMEAN('PRECIO COTIZACIONES'!G106:J111) -> 1007007.9 | K106: =+STDEVA(J106,G106) -> 207187.85 | L106: =+K106/H106 -> 0.17515839
A107: 6. SUMINISTRO FILTROS | F107: A REQUERIMIENTO | H107: =+AVERAGE('PRECIO COTIZACIONES'!G107:J112) -> 1106700 | I107: =+MEDIAN('PRECIO COTIZACIONES'!G107:J112) -> 731850 | J107: =+GEOMEAN('PRECIO COTIZACIONES'!G107:J112) -> 943943.04 | K107: =+STDEVA(J107,G107) -> #DIV/0! | L107: =+K107/H107 -> #DIV/0!
A108: SUMINISTRO | H108: =+AVERAGE('PRECIO COTIZACIONES'!G108:J113) -> 1030540 | I108: =+MEDIAN('PRECIO COTIZACIONES'!G108:J113) -> 673540 | J108: =+GEOMEAN('PRECIO COTIZACIONES'!G108:J113) -> 884827.71 | K108: =+STDEVA(J108,G108) -> #DIV/0! | L108: =+K108/H108 -> #DIV/0!
A109: 6.1 | B109: 73152101 | C109: SUMINISTRO E INSTALACION DE FILTROS PARA CAMPANAS, EN ACERO INOXIDABLE DE ALTA CALIDAD. CON MEDIDA ESTANDAR. EN PLACA DE 50 X 50 CM. | E109: UNIDAD | F109: 1 | H109: =+AVERAGE('PRECIO COTIZACIONES'!G109:J114) -> 1030540 | I109: =+MEDIAN('PRECIO COTIZACIONES'!G109:J114) -> 673540 | J109: =+GEOMEAN('PRECIO COTIZACIONES'!G109:J114) -> 884827.71 | K109: =+STDEVA(J109,G109) -> #DIV/0! | L109: =+K109/H109 -> #DIV/0!
A111: ITEM | B111: CODIGOS UNSPSC | C111: NOMBRE Y DESCRIPCION DEL SERVICIO | E111: UNIDAD DE MEDIDA | F111: CANTIDAD NECESIDAD REAL
A112: 7. SUMINISTRO MALLA TIPO FILTRO | F112: A REQUERIMIENTO | G112: =+MIN('PRECIO COTIZACIONES'!G112:J117) -> 633080 | H112: =+AVERAGE('PRECIO COTIZACIONES'!G112:J117) -> 1030540 | I112: =+MEDIAN('PRECIO COTIZACIONES'!G112:J117) -> 673540 | J112: =+GEOMEAN('PRECIO COTIZACIONES'!G112:J117) -> 884827.71 | K112: =+STDEVA(J112,G112) -> 178012.52 | L112: =+K112/H112 -> 0.17273712
...

Sheet PRECIO DE REFERENCIA
A1: CAMPANAS Y EXTRACTORES COCINAS SEDE BOGOTA | G1: PRECIO DE REFERENCIA
A2: COCINA PRINCIPAL
A3: ITEM | B3: CODIGOS UNSPSC | C3: NOMBRE Y DESCRIPCION DEL SERVICIO | E3: UNIDAD DE MEDIDA | F3: CANTIDAD NECESIDAD REAL
A4: 1. LIMPIEZA CAMPANA | F4: 1 | G4: =+MIN('PRECIO COTIZACIONES'!G4:J9) -> 1570800
A5: MANTENIMIENTO PREVENTIVITO, CORRECTIVO
A6: CANTIDAD DE CAMPANA | C6: 3.5 Mts de largo x 2.5 Cm de ancho x 0.50Cms de alto
A7: DIAMETRO DE LA CAMPANA
A8: 1.1 | B8: 76111605 | C8: LIMPIEZA DE CAMPANAS EXTRACTORAS CON DESENGRASANTE INDUSTRIAL | E8: M2 | F8: 1
A9: 1.2 | B9: 76111605 | C9: RECOLECCION DE RESIDUOS DE GRASAS O RESIDUOS AJENOS AL MATERIAL DEL ELEMENTO Y DISPOSICION FINAL DE LOS MISMOS | E9: M2 | F9: 1
A11: ITEM | B11: CODIGOS UNSPSC | C11: NOMBRE Y DESCRIPCION DEL SERVICIO | E11: UNIDAD DE MEDIDA | F11: CANTIDAD NECESIDAD REAL
A12: 2. LIMPIEZA DUCTOS | F12: 1 | G12: =+MIN('PRECIO COTIZACIONES'!G12:J17) -> 2975000
A13: MANTENIMIENTO PREVENTIVITO, CORRECTIVO
A14: CANTIDAD DE DUCTOS | C14: 45 Mts de largo x 0.95Cm de ancho x 0.60Cms de alto
A15: DIAMETRO DE LA CAMPANA
A16: 2.1 | B16: 76111605 | C16: LIMPIEZA DE DUCTOS CON DESENGRASANTE INDUSTRIAL | E16: M2 | F16: 1
A17: 2.2 | B17: 76111605 | C17: RECOLECCION DE RESIDUOS DE GRASAS O RESIDUOS AJENOS AL MATERIAL DEL ELEMENTO Y DISPOSICION FINAL DE LOS MISMOS | E17: M2 | F17: 1
A19: ITEM | B19: CODIGOS UNSPSC | C19: NOMBRE Y DESCRIPCION DEL SERVICIO | E19: UNIDAD DE MEDIDA | F19: CANTIDAD NECESIDAD REAL | G19: =+MIN('PRECIO COTIZACIONES'!G19:J24) -> 1428000
A20: 3. PINTURA DUCTOS | F20: 1
A21: MANTENIMIENTO PINTURA
A22: 3.1 | B22: 76111605 | C22: SUMINISTRO Y APLICACIÓN DE PINTURA EPÓXICA POLIAMIDA BASE SOLVENTE DE DOS COMPONENTES, QUE CON LA MEZCLA APROPIADA DE AMBOS PROPORCIONA UNA PELÍCULA CON BUENA ADHERENCIA Y FLEXIBILIDAD, RESISTENTE AL AGUA, ÁCIDOS DÉBILES, SALES, ÁLCALIS, DERIVADOS DEL PETRÓLEO Y DISOLVENTES AROMÁTICOS REDUNDE EN LA ALTA CALIDAD, CON LAS SIGUIENTES CARACTERISTICAS, ESPECIFICACIONES TÉCNICAS, PROPIEDAD RANGO UNIDADES, ACABADO SEMI-BRILLANTE, PESO NETO POR GALÓN COMP. 5.41 - 5.71 KG/GAL, PESO NETO POR ¼ DE GALÓN COMP. B 0.95 KG, SÓLIDOS POR VOLUMEN 45 50 %, MEZCLA POR VOLUMEN 3:1 X VOLUMEN (PINTURA /CATALIZADOR), ESPESOR SECO RECOMENDADO 50 75 MICRONES, PELÍCULA SECA 67 75 M²/GAL, MÉTODO DE APLICACIÓN BROCHA O RODILLO, AJUSTADOR O THINNER RECOMENDADO PARA LA DILUCIÓN, TIEMPO DE VIDA ÚTIL DE LA MEZCLA 8 HORAS 25°C, PUNTO DE CHISPA COPA ABIERTA COMPONENTE A: 58° C, COMPONENTE B: 55° C TCC, V.O.C COMPONENTE A: 420-470, COMPONENTE B: 447 G/L (ASTM D-3960) | E22: M2 | F22: 1
A24: ITEM | B24: CODIGOS UNSPSC | C24: NOMBRE Y DESCRIPCION DEL SERVICIO | E24: UNIDAD DE MEDIDA | F24: CANTIDAD NECESIDAD REAL
A25: 4. MANTENIMINETO MOTORES ELECTRICOS 03 HP. | F25: 1 | G25: =+MIN('PRECIO COTIZACIONES'!G25:J30) -> 1416100
A26: MANTENIMIENTO PINTURA
A27: CARACTERISTICAS DEL EQUIPO
A28: MARCA
A29: POTENCIA
A30: VOLT
A31: AMP
A32: FRECUENCIA
A33: 4.1 | B33: 76111605 | C33: MANTENIMIENTO CONSISTENTES EN: | E33: UNIDAD | F33: 1
C34: APLICACIÓN DE BARNIZ DIELECTRICO TRANSPARENTE.
C35: RUTINA MECANICA Y PINTURA A LA CARCARCASA. (PINTURA EPÓXICA POLIAMIDA, CON LAS CARACTGERISTICAS TÉCNICAS DEL ITEM NO. 8.)
C36: CAMBIO DE BORNERAS.
C37: VERIFICACIÓN DE RESISTENCIA DE AISLAMIENTO ELECTRICO. (MEGGEO)
C38: LAVADO CON LIMPIADOR ELECTRONICO AL ROTOR Y ESTATOR.
C39: CAMBIO DE RODAMIENTOS (DE ALTA CALIDAD, CON CERTIFICACION DE FABRICANTE).
C40: PUESTA EN SERVICIO.
C41: LAVADO CON LIMPIADOR ELECTRONICO AL ROTOR Y ESTATOR.
A43: ITEM | B43: CODIGOS UNSPSC | C43: NOMBRE Y DESCRIPCION DEL SERVICIO | E43: UNIDAD DE MEDIDA | F43: CANTIDAD NECESIDAD REAL
A44: 5. SUMINISTRO MANGAS | F44: A REQUERIMIENTO | G44: =+MIN('PRECIO COTIZACIONES'!G44:J49) -> 130900
A45: SUMINISTRO
A46: DIAMETRO
A47: METROS LARGO
A48: 5.1 | B48: 73152101 | C48: SUMINISTRO E INSTALACION DE MANGA EN LONA PARA UNION ENTRE DUCTO Y BLOWER | E48: UNIDAD | F48: 1
A50: ITEM | B50: CODIGOS UNSPSC | C50: NOMBRE Y DESCRIPCION DEL SERVICIO | E50: UNIDAD DE MEDIDA | F50: CANTIDAD NECESIDAD REAL
A51: 6. SUMINISTRO FILTROS | F51: A REQUERIMIENTO | G51: =+MIN('PRECIO COTIZACIONES'!G51:J56) -> 633080
A52: SUMINISTRO
A53: 6.1 | B53: 73152101 | C53: SUMINISTRO E INSTALACION DE FILTROS PARA CAMPANAS, EN ACERO INOXIDABLE DE ALTA CALIDAD. CON MEDIDA ESTANDAR. EN PLACA DE 50 X 50 CM. | E53: UNIDAD | F53: 1
A55: ITEM | B55: CODIGOS UNSPSC | C55: NOMBRE Y DESCRIPCION DEL SERVICIO | E55: UNIDAD DE MEDIDA | F55: CANTIDAD NECESIDAD REAL
A56: 7. SUMINISTRO MALLA TIPO FILTRO | F56: A REQUERIMIENTO | G56: =+MIN('PRECIO COTIZACIONES'!G56:J61) -> 633080
A57: SUMINISTRO
A58: 7.1 | B58: 73152101 | C58: SUMINISTRO E INSTALACION DE MALLA TIPO FILTRO CON MEDIDAS 0,40 CM ESPESOR, ELABORADO EN MATERIAL DE ALTA RESISTENCIA, MÁS ALTA DURACIÓN Y SEGURIDAD, RESISTENCIA LA INTEMPERIE, ALTA CALIDAD EN ALAMBRE, EN CADA UNA DE LAS SALIDAS DE LOS SISTEMAS DE EXTRACCÍON. | E58: UNIIDAD | F58: 1
A60: COCINA EMPLEADOS
A61: ITEM | B61: CODIGOS UNSPSC | C61: NOMBRE Y DESCRIPCION DEL SERVICIO | E61: UNIDAD DE MEDIDA | F61: CANTIDAD NECESIDAD REAL
A62: 1. LIMPIEZA CAMPANA | F62: 1 | G62: =+MIN('PRECIO COTIZACIONES'!G62:J67) -> 1332800
A63: MANTENIMIENTO PREVENTIVITO, CORRECTIVO
A64: CANTIDAD DE CAMPANA | C64: 2.5 Mts de largo x 2 Mts de ancho x 0.50Cms de alto
A65: DIAMETRO DE LA CAMPANA
A66: 1.1 | B66: 76111605 | C66: LIMPIEZA DE CAMPANAS EXTRACTORAS CON DESENGRASANTE INDUSTRIAL | E66: M2 | F66: 1
A67: 1.2 | B67: 76111605 | C67: RECOLECCION DE RESIDUOS DE GRASAS O RESIDUOS AJENOS AL MATERIAL DEL ELEMENTO Y DISPOSICION FINAL DE LOS MISMOS | E67: M2 | F67: 1
A69: ITEM | B69: CODIGOS UNSPSC | C69: NOMBRE Y DESCRIPCION DEL SERVICIO | E69: UNIDAD DE MEDIDA | F69: CANTIDAD NECESIDAD REAL
A70: 2. LIMPIEZA DUCTOS | F70: 1 | G70: =+MIN('PRECIO COTIZACIONES'!G70:J75) -> 2975000
A71: MANTENIMIENTO PREVENTIVITO, CORRECTIVO
A72: CANTIDAD DE DUCTOS | C72: 25 Mts de largo x 0.95Cm de ancho x 0.60Cms de alto
A73: DIAMETRO DE LA CAMPANA
A74: 2.1 | B74: 76111605 | C74: LIMPIEZA DE DUCTOS CON DESENGRASANTE INDUSTRIAL | E74: M2 | F74: 1
A75: 2.2 | B75: 76111605 | C75: RECOLECCION DE RESIDUOS DE GRASAS O RESIDUOS AJENOS AL MATERIAL DEL ELEMENTO Y DISPOSICION FINAL DE LOS MISMOS | E75: M2 | F75: 1
A77: ITEM | B77: CODIGOS UNSPSC | C77: NOMBRE Y DESCRIPCION DEL SERVICIO | E77: UNIDAD DE MEDIDA | F77: CANTIDAD NECESIDAD REAL | G77: =+MIN('PRECIO COTIZACIONES'!G77:J82) -> 1428000
A78: 3. PINTURA DUCTOS | F78: 1
A79: MANTENIMIENTO PINTURA
A80: 3.1 | B80: 76111605 | C80: SUMINISTRO Y APLICACIÓN DE PINTURA EPÓXICA POLIAMIDA BASE SOLVENTE DE DOS COMPONENTES, QUE CON LA MEZCLA APROPIADA DE AMBOS PROPORCIONA UNA PELÍCULA CON BUENA ADHERENCIA Y FLEXIBILIDAD, RESISTENTE AL AGUA, ÁCIDOS DÉBILES, SALES, ÁLCALIS, DERIVADOS DEL PETRÓLEO Y DISOLVENTES AROMÁTICOS REDUNDE EN LA ALTA CALIDAD, CON LAS SIGUIENTES CARACTERISTICAS, ESPECIFICACIONES TÉCNICAS, PROPIEDAD RANGO UNIDADES, ACABADO SEMI-BRILLANTE, PESO NETO POR GALÓN COMP. 5.41 - 5.71 KG/GAL, PESO NETO POR ¼ DE GALÓN COMP. B 0.95 KG, SÓLIDOS POR VOLUMEN 45 50 %, MEZCLA POR VOLUMEN 3:1 X VOLUMEN (PINTURA /CATALIZADOR), ESPESOR SECO RECOMENDADO 50 75 MICRONES, PELÍCULA SECA 67 75 M²/GAL, MÉTODO DE APLICACIÓN BROCHA O RODILLO, AJUSTADOR O THINNER RECOMENDADO PARA LA DILUCIÓN, TIEMPO DE VIDA ÚTIL DE LA MEZCLA 8 HORAS 25°C, PUNTO DE CHISPA COPA ABIERTA COMPONENTE A: 58° C, COMPONENTE B: 55° C TCC, V.O.C COMPONENTE A: 420-470, COMPONENTE B: 447 G/L (ASTM D-3960) | E80: M2 | F80: 1
A82: ITEM | B82: CODIGOS UNSPSC | C82: NOMBRE Y DESCRIPCION DEL SERVICIO | E82: UNIDAD DE MEDIDA | F82: CANTIDAD NECESIDAD REAL
A83: 4. MANTENIMINETO MOTORES ELECTRICOS 03 HP. | F83: 1 | G83: =+MIN('PRECIO COTIZACIONES'!G83:J88) -> 1416100
A84: MANTENIMIENTO PINTURA
A85: CARACTERISTICAS DEL EQUIPO
A86: MARCA
A87: POTENCIA
A88: VOLT
A89: AMP
A90: FRECUENCIA
A91: 4.1 | B91: 76111605 | C91: MANTENIMIENTO CONSISTENTES EN: | E91: UNIDAD | F91: 1
C92: APLICACIÓN DE BARNIZ DIELECTRICO TRANSPARENTE.
C93: RUTINA MECANICA Y PINTURA A LA CARCARCASA. (PINTURA EPÓXICA POLIAMIDA, CON LAS CARACTGERISTICAS TÉCNICAS DEL ITEM NO. 8.)
C94: CAMBIO DE BORNERAS.
C95: VERIFICACIÓN DE RESISTENCIA DE AISLAMIENTO ELECTRICO. (MEGGEO)
C96: LAVADO CON LIMPIADOR ELECTRONICO AL ROTOR Y ESTATOR.
C97: CAMBIO DE RODAMIENTOS (DE ALTA CALIDAD, CON CERTIFICACION DE FABRICANTE).
C98: PUESTA EN SERVICIO.
C99: LAVADO CON LIMPIADOR ELECTRONICO AL ROTOR Y ESTATOR.
A101: ITEM | B101: CODIGOS UNSPSC | C101: NOMBRE Y DESCRIPCION DEL SERVICIO | E101: UNIDAD DE MEDIDA | F101: CANTIDAD NECESIDAD REAL
A102: 5. SUMINISTRO MANGAS | F102: A REQUERIMIENTO | G102: =+MIN('PRECIO COTIZACIONES'!G102:J107) -> 517600
A103: SUMINISTRO
A104: 5.1 | B104: 73152101 | C104: SUMINISTRO E INSTALACION DE MANGA EN LONA PARA UNION ENTRE DUCTO Y BLOWER | E104: UNIDAD | F104: 1
A106: ITEM | B106: CODIGOS UNSPSC | C106: NOMBRE Y DESCRIPCION DEL SERVICIO | E106: UNIDAD DE MEDIDA | F106: CANTIDAD NECESIDAD REAL | G106: =+MIN('PRECIO COTIZACIONES'!G106:J111) -> 714000
A107: 6. SUMINISTRO FILTROS | F107: A REQUERIMIENTO
A108: SUMINISTRO
A109: 6.1 | B109: 73152101 | C109: SUMINISTRO E INSTALACION DE FILTROS PARA CAMPANAS, EN ACERO INOXIDABLE DE ALTA CALIDAD. CON MEDIDA ESTANDAR. EN PLACA DE 50 X 50 CM. | E109: UNIDAD | F109: 1
A111: ITEM | B111: CODIGOS UNSPSC | C111: NOMBRE Y DESCRIPCION DEL SERVICIO | E111: UNIDAD DE MEDIDA | F111: CANTIDAD NECESIDAD REAL
A112: 7. SUMINISTRO MALLA TIPO FILTRO | F112: A REQUERIMIENTO | G112: =+MIN('PRECIO COTIZACIONES'!G112:J117) -> 633080
A113: SUMINISTRO
...
