Workbook
Name centro_gestor: #REF!
Name centro_gestor: Listados!$C$2:$C$28
Name excepcional: #REF!
Name excepcional: Listados!$A$17:$A$23
Name fondo: #REF!
Name fondo: Listados!$R$2:$R$924
Name gasto_publico: #REF!
Name gasto_publico: Listados!$Y$2:$Y$7
Name grupos_vulnerables: #REF!
Name grupos_vulnerables: Listados!$A$26:$A$32
Name meta_plan: #REF!
Name meta_plan: Listados!$I$2:$I$713
Name meta_territorio: #REF!
Name meta_territorio: Listados!$M$2:$M$497
Name movilizador: #REF!
Name movilizador: Listados!$A$35:$A$92
Name politica_publica: #REF!
Name politica_publica: Listados!$W$2:$W$21
Name pospre: #REF!
Name pospre: Listados!$O$2:$O$475
Name Programa_PDD: Listados!$F$2:$F$22
Name ruta: #REF!
Name ruta: Listados!$A$2:$A$3
Name sector_mga: #REF!
Name sector_mga: Listados!$U$2:$U$32

Sheet Listados
A1: DECISIÓN | C1: Centro Gestor | D1: Denominación Centro Gestor | F1: Código Programa PDD | G1: Programa PDD | I1: Meta Plan de Desarrollo | L1: Metal Plan de Desarrollo Comuna o Corregimiento | O1: Codigo POSPRE | P1: Denominación POSPRE | R1: Codigo Fondo | S1: Denominación Fondo | U1: Sector MGA | W1: POLÍTICAS PÚBLICAS | Y1: SECTORES GASTO PUBLICO SOCIAL | AA1: Código del Producto | AB1: Producto | AC1: Código del Indicador de Producto | AD1: Indicador de Producto | AE1: Unidad de medida
A2: Si | C2: 4112 | D2: Secretaría de Gobierno | F2: 6101001 | G2: Espacios públicos seguros | I2: 61010010001 | J2: Zonas públicas WiFi operando en el Distrito de Santiago de Cali | L2: 62020010013-0101 | M2: A diciembre de 2027, se han adecuado o rehabilitado 2 parques y zonas verdes para la conservación ambiental de la comuna | O2: NO* 2.3 | P2: Inversión | R2: 1.2.1.0.00 | S2: Ingresos corrientes de Libre Destinación | U2: 01-Congreso | W2: Acuerdo 292 POR EL CUAL SE ADOPTA LA POLÍTICA PÚBLICA PARA LAS MUJERES EN EL MUNICIPIO DE SANTIAGO DE CALI Y SE DICTAN OTRAS DISPOSICIONES | Y2: Salud | AA2: 0401001 | AB2: Bases de datos de la temática de Demografía y Población | AC2: 040100100 | AD2: Bases de datos de la temática de Demografía y Población anonimizadas producidas | AE2: Número
A3: No | C3: 4121 | D3: Departamento Administrativo de Gestión Jurídica Pública | F3: 6101002 | G3: Prevención y resolución de conflictos | I3: 61010010002 | J3: Alumbrado público modernizado y eficiente | L3: 62010040006-0102 | M3: A diciembre de 2027, se han capacitado 150 personas en conociemiento ambiental en el marco de la Política Pública de Educacón Ambiental | O3: NO* 2.3.1 | P3: Gastos de personal | R3: 1.2.1.0.00 | S3: Ingresos corrientes de Libre Destinación | U3: 02-Presidencia de la república | W3: Acuerdo 0565 de 2023 POR EL CUAL SE ADOPTA LA POLÍTICA PÚBLICA DE CIENCIA, TECNOLOGÍA E INNOVACIÓN Y SE DICTAN OTRAS DISPOSICIONES | Y3: Educacion | AA3: 0401004 | AB3: Bases de Datos de la temática de Mercado Laboral | AC3: 040100400 | AD3: Bases de datos de la temática de Mercado Laboral producidas en el archivo nacional de datos | AE3: Número
C4: 4123 | D4: Departamento Administrativo de Control Interno | F4: 6101003 | G4: Proyectos de vida para los jóvenes | I4: 61010010003 | J4: Intervenciones integrales para la mejora del área de espacio público afectada por residuos sólidos realizadas. | L4: 62020010011-0103 | M4: A diciembre de 2027, se han establecido 27 procesos de restauración en areas de ecosistema | O4: NO* 2.3.1.01 | P4: Planta de personal permanente | R4: 1.2.2.0.00.01 | S4: Servicios de expedición de permisos, conceptos ambientales | U4: 03-Planeación | W4: Acuerdo 382 POR MEDIO DEL CUAL SE ADOPTA LA POLÍTICA PÚBLICA Y EL PLAN INDICATIVO DE ATENCIÓN A LA DISCAPACIDAD EN EL MUNICIPIO DE SANTIAGO DE CALI Y SE DEROGA EL ACUERDO 0197 DE 2006 | Y4: Saneamiento ambiental | AA4: 0401005 | AB4: Bases de Datos de la temática de Pobreza y Condiciones de Vida | AC4: 040100500 | AD4: Bases de Datos de la temática de Pobreza y Condiciones de Vida publicadas | AE4: Número
A5: TIPO DE RECURSO | C5: 4124 | D5: Departamento Administrativo de Control Disciplinario Interno | F5: 6101004 | G5: Vigilancia y Prevención del Delito | I5: 61010010004 | J5: Luminarias instaladas LED en fuentes, monumentos y bienes de interés cultural con sistemas de iluminación ornamental conservadas | L5: 62020010021-0104 | M5: A diciembre de 2027, se han realizado 9 asistencias técnicas en la implementación de alternativas de aprovechamiento de residuos sólidos orgánicos en la comuna | O5: NO* 2.3.1.01.01 | P5: Factores constitutivos de salario | R5: 1.2.2.0.00.02 | S5: Contribución y recargos valorización | U5: 04-Información estadística | W5: Acuerdo 392 POR MEDIO DEL CUAL SE ADOPTA LA POLÍTICA PÚBLICA DE PRIMERA INFANCIA, INFANCIA Y ADOLESCENCIA 2015 - 2024, CALI, MUNICIPIO RESPONSABLE Y AMIGO DE LOS NIÑOS, NIÑAS Y ADOLESCENTES Y SE DICTAN OTRAS DISPOSICIONES | Y5: Agua potable | AA5: 0401006 | AB5: Bases de Datos de la temática de Salud | AC5: 040100600 | AD5: Bases de Datos de la temática de Salud publicadas | AE5: Número
A6: Propios | C6: 4131 | D6: Departamento Administrativo de Hacienda | F6: 6102001 | G6: Cali Educada | I6: 61010010005 | J6: Sistema de telegestión para alumbrado públlico implementado | L6: 61020030021-0105 | M6: A diciembre de 2027, se han vinculado 3200 niñas, niños, adolescentes, jóvenes, adultos y adultos mayores (incluidos con discapacidad) a actividades deportivas y aprovechamiento del tiempo libre. | O6: NO* 2.3.1.01.01.001 | P6: Factores salariales comunes | R6: 1.2.2.0.00.03 | S6: Impuesto de Circulación y Tránsito Sobre Vehículos de Servicio Público - S.I.T.MIO | U6: 05-Empleo público | W6: Acuerdo 420 POR EL CUAL SE ADOPTA LA POLÍTICA PÚBLICA DE ENVEJECIMIENTO Y VEJEZ PARA LAS PERSONAS MAYORES EN EL MUNICIPIO DE SANTIAGO DE CALI 2017 - 2027 | Y6: Deporte y recreación | AA6: 0401007 | AB6: Boletines Técnicos de la Temática Agropecuaria | AC6: 040100700 | AD6: Boletines Técnicos de la Temática Agropecuaria producidos | AE6: Número
A7: SGP Educación | C7: 4132 | D7: Departamento Administrativo de Planeación Municipal | F7: 6102002 | G7: Desarrollo productivo | I7: 61010020001 | J7: Jóvenes asistidos técnicamente en prácticas organizativas en el territorio | L7: 62010010014-0106 | M7: A diciembre de 2027, se ha realizado 1 intervenciones de adecuación o mantenimiento a escenarios deportivos y recreativos de la comuna (previo concepto técnico) | O7: NO* 2.3.1.01.01.001.01 | P7: Sueldo básico | R7: 1.2.2.0.00.04 | S7: Conceptos técnicos aprovechamiento de las aguas subterráneas y superficiales | U7: 11-Relaciones exteriores | W7: Acuerdo 411 POR EL CUAL SE ADOPTA LA POLÍTICA PÚBLICA DE MEJORAMIENTO INTEGRAL DEL HÁBITAT DE LOS ASENTAMIENTOS HUMANOS PRECARIOS EN EL MUNICIPIO DE SANTIAGO DE CALI - MI HÁBITAT Y SE DICTAN OTRAS DISPOSICIONES | Y7: Vivienda | AA7: 0401008 | AB7: Boletines Técnicos de la Temática Ambiental | AC7: 040100800 | AD7: Boletines Técnicos de la Temática Ambiental producidos | AE7: Número
A8: SGP Salud | C8: 4133 | D8: Departamento Administrativo de Gestión del Medio Ambiente | F8: 6102003 | G8: Cali Distrito Deportivo, Cultural y Turístico | I8: 61010020002 | J8: Mujeres víctimas de violencias basadas en género y su núcleo familiar vinculadas a servicios de atención integral | L8: 61020030016-0107 | M8: A diciembre de 2027, se han realizado 2 eventos deportivos y recreativos en la comuna 1 | O8: NO* 2.3.1.01.01.001.01.01 | P8: Sueldo básico Docente | R8: 1.2.2.0.00.05 | S8: Sanciones por Violación de Normas - DAGMA | U8: 12-Justicia y del derecho | W8: Acuerdo 424 POR MEDIO DEL CUAL SE ADOPTA LA POLÍTICA PÚBLICA DE REGULACIÓN Y ORGANIZACIÓN DE VENTAS INFORMALES EN EL ESPACIO PÚBLICO EN EL MUNICIPIO DE SANTIAGO DE CALI | AA8: 0401010 | AB8: Boletines Técnicos Temática Construcción | AC8: 040101000 | AD8: Boletines Técnicos Temática Construcción producidos | AE8: Número
A9: SGP Agua Potable y Saneamiento Básico | C9: 4134 | D9: Departamento Administrativo de Tecnologías de la Información y las Comunicaciones | F9: 6102004 | G9: Salud Integral y de Calidad | I9: 61010020003 | J9: Personas beneficiadas con la oferta de servicios del plan de migrantes y flujos migratorios mixtos | L9: 61020020017-0108 | M9: A diciembre de 2027, se han fortalecido 300 personas del ecosistema empresarial | O9: 2.3.1.01.01.001.01.01.01 | P9: Sueldo Docente Csf | R9: 1.2.2.0.00.06 | S9: Seguimiento plan de saneamiento y manejo de vertimientos | U9: 13-Hacienda | W9: Acuerdo 422 POR EL CUAL SE ADOPTA LA POLÍTICA PÚBLICA MUNICIPAL DE EDUCACIÓN AMBIENTAL DE SANTIAGO DE CALI 2017 - 2036 | AA9: 0401011 | AB9: Boletines Técnicos Temática Transporte | AC9: 040101100 | AD9: Boletines Técnicos Temática Transporte producidos | AE9: Número
A10: SGP Alimentación Escolar | C10: 4135 | D10: Departamento Administrativo de Contratación Pública | F10: 6102005 | G10: Hambre Cero | I10: 61010020004 | J10: Personas Jóvenes beneficiadas de servicios de atención integral con enfoque de derechos, poblacional, vocacional e interseccional | L10: 61020020019-0109 | M10: A diciembre de 2027, se han formado 20 personas de la comuna 1 en competencias laborales para cierre de brechas | O10: 2.3.1.01.01.001.01.01.02 | P10: Sueldo Docente Ssf | R10: 1.2.2.0.00.07 | S10: Contribucion valorización nuevo plan de obras | U10: 15-Defensa y policía | W10: Acuerdo 463 POR EL CUAL SE ADOPTA LA POLÍTICA PÚBLICA DE DESARROLLO ECONÓMICO DE SANTIAGO DE CALI Y SE DICTAN OTRAS DISPOSICIONES | AA10: 0401014 | AB10: Boletines Técnicos de la Temática Cultura | AC10: 040101400 | AD10: Boletines Técnicos de la Temática Cultura Producidos | AE10: Número
A11: SGP Primera Infancia | C11: 4137 | D11: Departamento Administrativo de Desarrollo e Innovación Institucional | F11: 6102006 | G11: Atención integral a poblaciones | I11: 61010020005 | J11: Personas vinculadas a estrategias de promoción de derechos y prevención de las violencias basadas en género | L11: 61020030031-0110 | M11: A diciembre de 2027, se han apoyado 4, iniciativas de turismo de la comuna 1 para el desarrollo local | O11: NO* 2.3.1.01.01.001.01.02 | P11: Sueldo básico Directivo Docente | R11: 1.2.2.0.00.08 | S11: Aportes urbanísticos por mayor edificabilidad | U11: 17-Agricultura y desarrollo rural | W11: Acuerdo 470 POR EL CUAL SE ADOPTA LA POLÍTICA PÚBLICA DE SOBERANÍA Y SEGURIDAD ALIMENTARÍA Y NUTRICIONAL DEL DISTRITO ESPECIAL DE SANTIAGO DE CALI Y SE DICTAN OTRAS DISPOSICIONES | AA11: 0401015 | AB11: Boletines Técnicos para la temática de servicios | AC11: 040101500 | AD11: Boletines Técnicos Temática Servicio producidos | AE11: Número
A12: SGP Propósito General Cultura | C12: 4143 | D12: Secretaría de Educación | F12: 6201001 | G12: Ordenamiento Territorial e Integración Regional | I12: 61010020006 | J12: Casos atendidos en la ruta de riesgo por amenaza (mujeres en riesgo de feminicidio, líderes y lideresas defensores, DD.HH., víctimas del conflicto armado y población vulnerable amenazada en Cali) | L12: 61020010016-0111 | M12: A diciembre de 2027, se ha beneficiado con 4 dotaciones a las sedes educativas oficiales de la comuna 1 | O12: 2.3.1.01.01.001.01.02.01 | P12: Sueldo Directivo Docente Csf | R12: 1.2.2.0.00.09 | S12: Expedición de Licencias de funcionamiento de establecimientos educativos para el trabajo y el desarrollo humano | U12: 19-Salud y protección social | W12: Acuerdo 461 POR MEDIO DEL CUAL SE ADOPTA LA POLÍTICA PÚBLICA "CALIDIVERSIDAD" PARA LA GARANTÍA DEL EJERCICIO EFECTIVO DE LOS DERECHOS DE LAS PERSONAS DE LOS SECTORES SOCIALES LGBTI, Y DE PERSONAS CON ORIENTACIONES SEXTUALES E IDENTIDADES DE GÉNERO DIVERSAS EN SANTIAGO DE CALI Y SE DICTAN OTRAS DISPOSICIONES | AA12: 0401017 | AB12: Boletines Técnicos de la Temática Educación | AC12: 040101700 | AD12: Boletines Técnicos de la Temática Educación Producidos | AE12: Número
A13: SGP Propósito General Deporte | C13: 4145 | D13: Secretaría de Salud Pública | F13: 6201002 | G13: Vivienda sostenible, saneamiento básico y servicios públicos | I13: 61010020007 | J13: Personas beneficiadas a través de estrategia para la atención y prevención de violencias basadas en género | L13: 61020010018-0112 | M13: A diciembre de 2027, se ha realizado 2 intervención de adecuación o mantenimiento, en sede educativa pública de la comuna 1 (previo concepto de viabilidad técnica) | O13: 2.3.1.01.01.001.01.02.02 | P13: Sueldo Directivo Docente Ssf | R13: 1.2.2.0.00.10 | S13: Fondo de Promoción de la Movilidad Sostenible | U13: 21-Minas y energía | W13: Acuerdo 464 POR EL CUAL SE ADOPTA LA POLÍTICA PÚBLICA DE JUVENTUDES DE SANTIAGO DE CALI Y SE DICTAN OTRAS DISPOSICIONES | AA13: 0401019 | AB13: Boletines Técnicos de la Temática Industria | AC13: 040101900 | AD13: Boletines Técnicos de la Temática Industria producidos | AE13: Número
A14: SGP Propósito General Otros Sectores | C14: 4146 | D14: Secretaría de Bienestar Social | F14: 6201003 | G14: Movilidad segura y sostenible | I14: 61010020008 | J14: Personas beneficiadas a través de la promoción de los servicios de acceso a la justicia | L14: 62010010012-0113 | M14: A diciembre de 2027, se ha dotado 1 espacio cultural de la comuna | O14: NO* 2.3.1.01.01.001.01.03 | P14: Sueldo básico Administrativo | R14: 1.2.2.0.00.11 | S14: Recursos Convenio Municipio CDAV | U14: 22-Educación | W14: Acuerdo 459 POR EL CUAL SE ADOPTA LA POLÍTICA PÚBLICA AFROCOLOMBIANA, NEGRA, PALENQUERA Y RAIZAL DE SANTIAGO DE CALI - CALIAFRO | AA14: 0401020 | AB14: Boletines Técnicos de la Temática Mercado Laboral | AC14: 040102000 | AD14: Boletines Técnicos de la Temática Mercado Laboral producidos | AE14: Número
C15: 4147 | D15: Secretaría de Vivienda Social y Hábitat | F15: 6201004 | G15: Planificación para el desarrollo | I15: 61010020009 | J15: Niñas y niños de primera infancia con experiencias en juego, lúdica y recreación beneficiados. | L15: 61020030011-0114 | M15: A diciembre de 2027, se han vinculado en procesos de educación informal al sector artístico y cultural a 900 personas de diferentes grupos poblacionales de la comuna | O15: 2.3.1.01.01.001.01.03.01 | P15: Sueldo Administrativo | R15: 1.2.2.0.00.12 | S15: Participación en la Plusvalía | U15: 23-Tecnologías de la información y las comunicaciones | W15: Decreto 411.2.010.20.0507 POR EL CUAL SE DA CUMPLIMIENTO A LA SENTENCIA T-291 DE 20 DE ABRIL DE 2009 Y AUTO A-117 DE 6 DE MAYO DE 2014 Y SE DICTAN OTRAS DISPOSICIONES - POLÍTICA PÚBLICA DE RECICLADORES DE OFICIO | AA15: 0401021 | AB15: Boletines Técnicos de la Temática Pobreza y Condiciones de Vida | AC15: 040102100 | AD15: Boletines Técnicos de la Temática Pobreza y Condiciones de Vida Producidos | AE15: Número
A16: SITUACIONES EXCEPCIONALES | C16: 4148 | D16: Secretaría de Cultura | F16: 6202001 | G16: Protección ambiental y mitigación del cambio climático | I16: 61010020010 | J16: Niñas, niños de infancia, adolescencia, juventud y sus cuidadores con experiencias en juego, lúdica y recreación beneficiados . | L16: 61020030004-0115 | M16: A diciembre de 2027, se han realizado 6 eventos artisticos y culturales para promover la identidad y vocación cultural de la comuna | O16: 2.3.1.01.01.001.01.03.02 | P16: Incremento Por Antigüedad Administrativo | R16: 1.2.2.0.00.13 | S16: Impuesto de Circulación y Tránsito Sobre Vehículos de Servicio Público - Tradicional | U16: 24-Transporte | W16: Acuerdo 549 POR EL CUAL SE ADOPTA LA POLÍTICA PÚBLICA DE TURISMO DE SANTIAGO DE CALI 2022 - 2023 Y SE DICTAN OTRAS DISPOSICIONES | AA16: 0401022 | AB16: Boletines Técnicos de la Temática Precios y Costos | AC16: 040102200 | AD16: Boletines Técnicos de la Temática Precios y Costos producidos | AE16: Número
A17: Ninguna | C17: 4151 | D17: Secretaría de Infraestructura | F17: 6202002 | G17: Gestión del Riesgo y Atención de Desastres | I17: 61010020011 | J17: Acciones pedagógicas, artísticas y culturales realizadas para el fortalecimiento de buenas prácticas ciudadanas | L17: 61020010018-0201 | M17: A diciembre de 2027, se ha realizado 10 intervención de adecuación o mantenimiento, en sede educativa pública de la comuna (previo concepto de viabilidad técnica) | O17: NO* 2.3.1.01.01.001.02 | P17: Horas extras, dominicales, festivos y recargos | R17: 1.2.2.0.00.14 | S17: Otros derechos de Tránsito | U17: 25-Organismos de control | W17: Acuerdo 560 POR EL CUAL SE ADOPTA LA POLÍTICA PÚBLICA DEL DEPORTE, LA RECREACIÓN Y LA ACTIVIDAD FÍSICA "CALI CIUDAD DEPORTIVA" Y SE DICTAN OTRAS DISPOSICIONES. | AA17: 0401023 | AB17: Boletines Técnicos Temática de la Seguridad y Defensa | AC17: 040102300 | AD17: Boletines Técnicos Temática de la Seguridad y Defensa Producidos | AE17: Número
A18: Asociadas a fenomenos de origen biologico: plagas, epidemias | C18: 4152 | D18: Secretaría de Movilidad | F18: 6202003 | G18: Protección animal | I18: 61010020012 | J18: Espacios de mediación, diálogo y reconciliación promovidos | L18: 61020010016-0202 | M18: A diciembre de 2027, se ha beneficiado a 5 sedes educativas oficiales con dotación | O18: 2.3.1.01.01.001.02.01 | P18: Horas extras, dominicales, festivos y recargos Docente | R18: 1.2.2.0.00.15 | S18: Participación del impuesto sobre vehículos automotores | U18: 27-Rama judicial | W18: Acuerdo 562 POR MEDIO DEL CUAL SE ADOPTA LA POLÍTICA PÚBLICA DE DERECHOS HUMANOS 2022 - 2031 DEL DISTRITO ESPECIAL, DEPORTIVO, CULTURAL, TURÍSTICO, EMPRESARIAL Y DE SERVICIOS DE SANTIAGO DE CALI Y SE DICTAN OTRAS DISPOSICIONES | AA18: 0401024 | AB18: Boletines Técnicos de la Temática Tecnología e Innovación | AC18: 040102400 | AD18: Boletines Técnicos de la Temática Tecnología e Innovación producidos | AE18: Número
A19: Asociadas a fenomenos de origen humano no intencionales: aglomeracion de publico | C19: 4161 | D19: Secretaría de Seguridad y Justicia | F19: 6301001 | G19: Ciudadanía activa | I19: 61010020013 | J19: Iniciativas de promoción de la Cultura Ciudadana, la paz, la reconciliación y la Justicia Comunitaria y Restaurativa apoyadas o creadas | L19: 62010040006-0203 | M19: A diciembre de 2027, se han capacitado 100 personas en conociemiento ambiental en el marco de la Política Pública de Educacón Ambiental | O19: 2.3.1.01.01.001.02.02 | P19: Horas extras, dominicales, festivos y recargos Directivo Docente | R19: 1.2.2.0.00.16 | S19: Cobros por Estacionamiento en Espacio Público o en Lotes de Parqueo | U19: 28-Registraduría | W19: POLÍTICA PÚBLICA PARA LA ATENCIÓN INTEGRAL A VÍCTIMAS DEL CONFLICTO ARMADO - LEY 1448 | AA19: 0401026 | AB19: Cuadros de resultados para la temática agropecuaria | AC19: 040102600 | AD19: Cuadros de resultados para la temática agropecuaria producidos | AE19: Número
A20: Asociadas a fenomenos de origen natural: atmosfericos, hidrologicos, geologicos, otros. | C20: 4162 | D20: Secretaría del Deporte y la Recreación | F20: 6301002 | G20: Gobierno abierto | I20: 61010020014 | J20: Instancias Territoriales de Promoción de la Cultura Ciudadana, Derechos Humanos y Construcción de Paz fortalecidas | L20: 63010020005-0204 | M20: A diciembre de 2027, se ha implementado 1 (una) Plataforma tecnológica de monitoreo ambiental y en operación. | O20: 2.3.1.01.01.001.02.03 | P20: Horas extras, dominicales, festivos y recargos Administrtivo | R20: 1.2.2.0.00.17 | S20: Sobretasa Gasol malla vial | U20: 29-Fiscalía | W20: Acuerdo 501 POR EL CUAL SE ADOPTA LA POLÍTICA PÚBLICA DE SALUD MENTAL, CONVIVENCIA SOCIAL Y ABORDAJE DEL CONSUMO DE SUSTANCIAS PSICOACTIVAS EN EL DISTRITO ESPECIAL, DEPORTIVO, CULTURAL, TURISTICO, EMPRESARIAL Y DE SERVICIOS DE SANTIAGO DE CALI "TEJIENDO CALEÑIDAD Y CIUDADANIA AFECTIVA" | AA20: 0401029 | AB20: Cuadros de resultados para la temática de comercio interno | AC20: 040102900 | AD20: Cuadros de Resultados Temática Comercio Interno producidos | AE20: Número
A21: Asociadas a fenomenos de origen socianatural: inundaciones, movimientos en masa, incedios forestales. | C21: 4163 | D21: Secretaría de Gestión del Riesgo de Emergencias y Desastres | F21: 6302001 | G21: Fortalecimiento institucional | I21: 61010020015 | J21: Personas que participan en procesos pedagógicos de derechos humanos, cultura ciudadana y construcción de paz | L21: 62020010013-0205 | M21: A diciembre de 2027, se han adecuado o rehabilitado 6 parques y zonas verdes para la conservación ambiental de la comuna. | O21: NO* 2.3.1.01.01.001.04 | P21: Subsidio de alimentación | R21: 1.2.2.0.00.18 | S21: Sobt gasol 97%(15%) S.I.T.M. | U21: 32-Ambiente y desarrollo sostenible | W21: Acuerdo 457 de 2018 PLAN DECENAL DE CULTURA, CALI: HACIA UN TERRITORIO INTERCULTURAL (2018-2028) | AA21: 0401031 | AB21: Cuadros de resultados para la temática de cultura | AC21: 040103100 | AD21: Cuadros de resultados para la temática de cultura producidos | AE21: Número
A22: Asociadas a fenomenos de origen tecnologico: quimicos, electricos, mecoanicos, termicos. | C22: 4164 | D22: Secretaría de Paz y Cultura Ciudadana | F22: 6302002 | G22: Trámites rápidos y sin complicaciones | I22: 61010020016 | J22: Política pública de Barrismo formulada y presentada | L22: 61020020017-0206 | M22: A diciembre de 2027, se han fortalecido 300 personas del ecosistema empresarial. | O22: 2.3.1.01.01.001.04.01 | P22: Subsidio de alimentación Docente | R22: 1.2.2.0.00.19 | S22: Impuesto a la Telefonía Urbana | U22: 33-Cultura | AA22: 0401032 | AB22: Cuadros de resultados para la temática de demografía y población | AC22: 040103200 | AD22: Cuadros de resultados para la temática de demografía y población producidos | AE22: Número
A23: Otras | C23: 4171 | D23: Secretaría de Desarrollo Económico | I23: 61010020017 | J23: Política pública de Reconciliación para la Paz formulada | L23: 61020020019-0207 | M23: A diciembre de 2027, se han formado 300 personas de la Comuna en competencias laborales para cierre de brechas. | O23: 2.3.1.01.01.001.04.02 | P23: Subsidio de alimentación Directivo Docente | R23: 1.2.2.0.00.25 | S23: Contribución fondo especial de intervenidas | U23: 35-Comercio, industria y turismo | AA23: 0401033 | AB23: Cuadros de Resultados temática Educación | AC23: 040103300 | AD23: Cuadros de Resultados temática Educación producidos | AE23: Número
C24: 4172 | D24: Secretaría de Turismo | I24: 61010030001 | J24: Adolescentes y/o jóvenes vinculados al Sistema de Responsabilidad Penal atendidos en programas de justicia juvenil restaurativa y terapéutica | L24: 61020030031-0208 | M24: A diciembre de 2027, se han apoyado 4 iniciativas de turismo de la comuna para el desarrollo local | O24: 2.3.1.01.01.001.04.03 | P24: Subsidio de alimentación Administrativo | R24: 1.2.2.0.00.27 | S24: Contribución por el servicio de parqueadero o de estacionamiento en vía | U24: 36-Trabajo | AA24: 0401035 | AB24: Cuadros de resultados para la temática de industria | AC24: 040103500 | AD24: Cuadros de resultados para la temática de industria producidos | AE24: Número
A25: GRUPOS VULNERABLES | C25: 4173 | D25: Secretaría de Desarrollo Territorial y Participación Ciudadana | I25: 61010030002 | J25: Jóvenes atendidos con enfoque diferencial, territorial y de género en estrategias de prevención social de la violencia | L25: 61020060010-0209 | M25: A diciembre de 2027, se han beneficiado 300 personas con discapacidad, sus familias y cuidadores con servicios de atención integral en la comuna | O25: NO* 2.3.1.01.01.001.05 | P25: Auxilio de transporte | R25: 1.2.2.0.00.28 | S25: Contraprestaciones por el uso del espacio público | U25: 37-Interior | AA25: 0401036 | AB25: Cuadros de resultados para la temática de mercado laboral | AC25: 040103600 | AD25: Cuadros de Resultados temática Mercado Laboral producidos | AE25: Número
A26: Niños, Niñas, Adolecentes y Jóvenes | C26: 4181 | D26: Unidad Administrativa Especial de Gestión de Bienes y Servicios | I26: 61010030003 | J26: Personas vinculadas a programas de construcción de paz y promoción de la cultura ciudadana para la generación de oportunidades | L26: 61020060014-0210 | M26: A diciembre de 2027, se han beneficiado 300 personas mayores con servicios de atención integral en la comuna | O26: 2.3.1.01.01.001.05.01 | P26: Auxilio de transporte Docente | R26: 1.2.2.0.00.29 | S26: Sobretasa Gasolina S.I.T.M. MIO | U26: 39-Ciencia, tecnología e innovación | AA26: 0401037 | AB26: Cuadros de resultados para la temática de pobreza y condiciones de vida | AC26: 040103700 | AD26: Cuadros de resultados para la temática de pobreza y condiciones de vida producidos | AE26: Número
A27: Adulto Mayor | C27: 4182 | D27: Unidad Administrativa Especial de Servicios Públicos | I27: 61010040001 | J27: Espacios generados para la consolidación del sistema local de justicia de Cali | L27: 61010020008-0211 | M27: A diciembre de 2027, se han atendido 60 personas en estrategias de prevención social de la violencia | O27: 2.3.1.01.01.001.05.02 | P27: Auxilio de transporte Directivo Docente | R27: 1.2.3.1.01 | S27: Sobretasa / participación ambiental - Corporaciones Autónomas Regionales | U27: 40-Vivienda, ciudad y territorio | AA27: 0401038 | AB27: Cuadros de resultados para la temática de precios y costos | AC27: 040103800 | AD27: Cuadros de resultados para la temática de precios y costos producidos | AE27: Número
A28: Víctimas | C28: 4183 | D28: Unidad Administrativa Especial de Protección Animal | I28: 61010040002 | J28: Estrategias de fortalecimiento a funciones operativas, forenses, investigación y judicialización de las agencias de seguridad implementadas | L28: 62010010014-0212 | M28: A diciembre de 2027, se ha realizado 6 intervenciones de adecuación o mantenimiento a escenarios deportivos y recreativos de la comuna (previo concepto técnico). | O28: 2.3.1.01.01.001.05.03 | P28: Auxilio de transporte Administrativo | R28: 1.2.3.1.03.01 | S28: Impuesto de Circulación y Tránsito Sobre Vehículos de Servicio Público - S.I.T.MIO | U28: 41-Inclusión social y reconciliación | AA28: 0401039 | AB28: Cuadros de resultados para la temática de salud | AC28: 040103900 | AD28: Cuadros de Resultados temática Salud producidos | AE28: Número
A29: Discapacidad | I29: 61010040003 | J29: Estrategias implementadas para la gestión territorial de la seguridad y convivencia | L29: 61020030021-0213 | M29: A diciembre de 2027, se han vinculado 1500 Niñas, niños, adolescentes, jóvenes, adultos y adultos mayores (incluidos con discapacidad) a actividades deportivas y aprovechamiento del tiempo libre. | O29: NO* 2.3.1.01.01.001.06 | P29: Prima de servicio | R29: 1.2.3.1.03.02 | S29: Impuesto de Circulación y Tránsito Sobre Vehículos de Servicio Público - Tradicional | U29: 42-Inteligencia | AA29: 0401040 | AB29: Cuadros de resultados para la temática de seguridad y defensa | AC29: 040104000 | AD29: Cuadros de resultados para la temática de seguridad y defensa producidos | AE29: Número
A30: Mujeres | I30: 61010040004 | J30: Estudios técnicos en seguridad y convivencia realizados | L30: 61020030016-0214 | M30: A diciembre de 2027 se han realizado 4 eventos deportivos y recreativos en la comuna. | O30: 2.3.1.01.01.001.06.01 | P30: Prima de servicio Docente | R30: 1.2.3.1.05.01 | S30: Impuesto de Alumbrado Público - Predio Lotes | U30: 43-Deporte y recreación | AA30: 0401041 | AB30: Cuadros de resultados para la temática de servicios | AC30: 040104100 | AD30: Cuadros de resultados para la temática de Servicio producidos | AE30: Número
A31: Etnias | I31: 61010040005 | J31: Infraestructura de seguridad y justicia mejorada | L31: 61020020017-0301 | M31: A diciembre de 2027, se han fortalecido 400 personas del ecosistema empresarial. | O31: 2.3.1.01.01.001.06.02 | P31: Prima de servicio Directivo Docente | R31: 1.2.3.1.05.02 | S31: Impuesto de Alumbrado Público EMCALI y Otros Comercializadores | U31: 44-Sistema integral de verdad, justicia, reparación y no repetición | AA31: 0401042 | AB31: Cuadros de resultados para la temática de tecnología e innovación | AC31: 040104200 | AD31: Cuadros de Resultados temática Tecnología e Innovación producidos | AE31: Número
A32: Equidad de Genero | I32: 61010040006 | J32: Personas beneficiadas con estrategia para la atención y garantía de derechos de la población privada de la libertad | L32: 61020020019-302 | M32: A diciembre de 2027, se han formado 150 personas del corregimiento en competencias laborales para cierre de brechas. | O32: 2.3.1.01.01.001.06.03 | P32: Prima de servicio Administrativo | R32: 1.2.3.1.05.03 | S32: Alumb Acdo 357 (10% navideño) | U32: 45-Gobierno territorial | AA32: 0401043 | AB32: Cuadros de resultados para la temática de transporte | AC32: 040104300 | AD32: Cuadros de resultados para la temática de transporte producidos | AE32: Número
I33: 61010040007 | J33: Política Pública de Seguridad y Convivencia Ciudadana formulada y presentada | L33: 63010010006-0303 | M33: A diciembre de 2027, se han intervenido 4 sedes comunales de propiedad del Distrito. | O33: NO* 2.3.1.01.01.001.07 | P33: Bonificación por servicios prestados | R33: 1.2.3.1.05.04 | S33: Impuesto de Alumbrado Público Liquidación Directa | AA33: 0401060 | AB33: Cuadros de Resultados para la temática construcción | AC33: 040106000 | AD33: Cuadros de Resultados para la temática construcción Producidos | AE33: Número
A34: MOVILIZADORES | I34: 61010040008 | J34: Subsistema de videovigilancia fortalecido y funcionando | L34: 61010020012-0304 | M34: A diciembre de 2027, se han realizado 4 acciones pedagógicas, artísticas y culturales para el fortalecimiento de buenas prácticas de Cultura Ciudadana en la comuna | O34: 2.3.1.01.01.001.07.01 | P34: Bonificación por servicios prestados Docente | R34: 1.2.3.1.12 | S34: Impuesto de espectáculos públicos nacional con destino al deporte | AA34: 0401061 | AB34: Bases de datos de la Temática Agropecuaria | AC34: 040106100 | AD34: Bases de datos de la Temática Agropecuaria Generadas | AE34: Número
A35: P.M.51010011: Área de Desarrollo Naranja Ciudad Inteligente – Ciudad Paraíso | I35: 61020010001 | J35: Personas formadas en el uso y apropiación de tecnologías de la información y las comunicaciones (TIC) en el Distrito de Santiago de Cali | L35: 61020030021-0306 | M35: A diciembre de 2027, se han vinculado 1890 Niñas, niños, adolescentes, jóvenes, adultos y adultos mayores (incluidos con discapacidad) a actividades deportivas y aprovechamiento del tiempo libre. | O35: 2.3.1.01.01.001.07.02 | P35: Bonificación por servicios prestados Directivo Docente | R35: 1.2.3.1.14 | S35: Sobretasa Bomberil | AA35: 0401062 | AB35: Bases de datos de la Temática Ambiental | AC35: 040106200 | AD35: Bases de datos de la Temática Ambiental Generadas | AE35: Número
A36: P.M.51010012: Lo Virtual: otra Dimensión de la Escuela | I36: 61020010002 | J36: Observatorio de educación en operación | L36: 61020030016-0307 | M36: A diciembre de 2027 se han realizado 7 eventos deportivos y recreativos en la comuna | O36: 2.3.1.01.01.001.07.03 | P36: Bonificación por servicios prestados Administrativo | R36: 1.2.3.1.14.01 | S36: Impuesto de Alumbrado Público - Predio Lotes | AA36: 0401064 | AB36: Bases de datos de la Temática de Comercio Interno | AC36: 040106400 | AD36: Bases de datos de la Temática de Comercio interno Generadas | AE36: Número
A37: P.M.51010013: Sistema Semafórico Inteligente | I37: 61020010003 | J37: Establecimientos educativos en operación | L37: 61020030011-0309 | M37: A diciembre de 2027, se han vinculado en procesos de educación informal del sector artistico y cultural a 1442 personas de diferentes grupos poblacionales de la comuna | O37: NO* 2.3.1.01.01.001.08 | P37: Prestaciones sociales | R37: 1.2.3.1.14.02 | S37: Impuesto de Alumbrado Público EMCALI y Otros Comercializadores | AA37: 0401065 | AB37: Bases de datos de la Temática de Construcción | AC37: 040106500 | AD37: Bases de datos de la Temática de Construcción Generadas | AE37: Número
A38: P.M.51020011: Área de Desarrollo Naranja Parque Pacífico: cultura, arte, música, gastronomía, artesanía y diseño. | I38: 61020010004 | J38: Estudiantes atendidos a traves de Metodologías Educativas Flexibles para la población en extraedad, educación formal de jóvenes y adultos y apoyo academico especial y emocional | L38: 61020030004-0310 | M38: A diciembre de 2027, se han realizado 7 eventos artísticos y culturales para promover la identidad y vocación cultural de la comuna | O38: NO* 2.3.1.01.01.001.08.01 | P38: Prima de navidad | R38: 1.2.3.1.14.03 | S38: Alumb Acdo 357 (10% navideño) | AA38: 0401066 | AB38: Bases de datos de la Temática de Cultura | AC38: 040106600 | AD38: Bases de datos de la Temática de Cultura Generadas | AE38: Número
A39: P.M.51020012: Área de Desarrollo Naranja Alameda de la Salsa | I39: 61020010005 | J39: Estudiantes de las IEO con apoyo financiero para el ingreso y permanencia a programas técnicos, técnico profesional, tecnólogicos y/o profesional | L39: 61020010018-0312 | M39: A diciembre de 2027, se ha realizado 9 intervención de adecuación o mantenimiento en sedes educativa pública de la comuna (previo concepto de viabilidad técnica) | O39: 2.3.1.01.01.001.08.01.01 | P39: Prima de Navidad Docente | R39: 1.2.3.1.14.04 | S39: Impuesto de Alumbrado Público Liquidación Directa | AA39: 0401068 | AB39: Bases de datos de la Temática de Educación | AC39: 040106800 | AD39: Bases de datos de la Temática de Educación Generadas | AE39: Número
A40: P.M.51020013: Parque Tecnológico de Innovación San Fernando | I40: 61020010006 | J40: Estudiantes de las Instituciones Educativas Oficiales beneficiados con estrategia de Transporte Escolar. | L40: 61020020017-0401 | M40: A diciembre de 2027, se han fortalecido 480 personas del ecosistema empresarial. | O40: 2.3.1.01.01.001.08.01.02 | P40: Prima de Navidad Directivo Docente | R40: 1.2.3.1.15 | S40: Sobretasa bomberil | AA40: 0401069 | AB40: Bases de datos de la Temática de Gobierno | AC40: 040106900 | AD40: Bases de datos de la Temática de Gobierno Generadas | AE40: Número
...

Sheet  ACTIVIDADES PPTO PROYECTADA
C1: 7 | AG1: 7
A9: Código BP | B9: BP-26005411 | D9: Código BPIN | F9: 2024760010192 | I9: Versión PPM: | K9: 000 | N9: Vigencia | P9: 2024 | R9: Meta PDD CC | W9: Programa PDD | X9: 6102006 | AE9: Código BP | AF9: BP-26005411 | AH9: Código BPIN | AJ9: 2024760010192 | AM9: Versión PPM: | AO9: 000 | AR9: Vigencia | AT9: 2024 | AV9: Meta PDD CC | BA9: Programa PDD | BB9: 6102006
I10: Versión PS: | K10: 000 | N10: Población Objetivo | P10: 9504 | X10: =IF(X9=""," ",VLOOKUP(X9,Listados!$F:$G,2,0)) -> Atención integral a poblaciones | AM10: Versión PS: | AO10: 000 | AR10: Población Objetivo | AT10: 9504 | BB10: =IF(BB9=""," ",VLOOKUP(BB9,Listados!$F:$G,2,0)) -> Atención integral a poblaciones
A11: Nombre del Proyecto | B11: Implementación de atenciones integrales y diferenciales para la primera infancia en Santiago de Cali | I11: Centro Gestor | K11: 4146 | L11: =IF(K11=""," ",VLOOKUP(K11,Listados!$C:$D,2,0)) -> Secretaría de Bienestar Social | R11: Denominación Meta PDD CC | W11: Validador Programa PDD | AE11: Nombre del Proyecto | AF11: Implementación de atenciones integrales y diferenciales para la primera infancia en Santiago de Cali | AM11: Centro Gestor | AO11: 4146 | AP11: =IF(AO11=""," ",VLOOKUP(AO11,Listados!$C:$D,2,0)) -> Secretaría de Bienestar Social | AV11: Denominación Meta PDD CC | BA11: Validador Programa PDD
R12: =IF(R10=""," ",VLOOKUP(R10,Listados!$L:$M,2,0)) | W12: {=IF(AND(COUNTIF(O15:O43, "<>")>0, SUMPRODUCT((ISNUMBER(VALUE(IFERROR(O15:O43, ""))))*(LEN(O15:O43)=11)*(LEFT(O15:O43, 7)=$X$9&""))=COUNTA(O15:O43)), "CORRECTO", "REVISAR META PDD")} -> CORRECTO | AV12: =IF(AV10=""," ",VLOOKUP(AV10,Listados!$L:$M,2,0)) | BA12: {=IF(AND(COUNTIF(AS15:AS43, "<>")>0, SUMPRODUCT((ISNUMBER(VALUE(IFERROR(AS15:AS43, ""))))*(LEN(AS15:AS43)=11)*(LEFT(AS15:AS43, 7)=$X$9&""))=COUNTA(AS15:AS43)), "CORRECTO", "REVISAR META PDD")} -> CORRECTO
A14: Objetivo General | B14: Indicador Objetivo General | C14: Unidad de Medida | D14: Cantidad | E14: # Objetivo específico | F14: Objetivos Específicos | G14: Código MGA Producto | H14: # Producto | I14: Productos | J14: Código MGA Indicador Producto | K14: Indicador de Producto | L14: Unidad de Medida | M14: Cantidad | N14: % Ponderación Productos | O14: Meta Plan de Desarrollo | P14: Denominación Meta PDD | Q14: # Actividad | R14: Código Programa Presupuestario | S14: Actividades | T14: Ruta Crítica Si/No | U14: % Ponderación Actividad | V14: Código POSPRE | W14: Denominación POSPRE | X14: Código FONDO | Y14: Denominación FONDO | Z14: Valor Actividades | AA14: TRASLADO DE RECURSOS | AB14: CAMBIO DE POSPRE | AC14: AJUSTE DE ACTIVIDAD | AD14: AJUSTE DE PROYECTO | AE14: Objetivo General | AF14: Indicador Objetivo General | AG14: Unidad de Medida | AH14: Cantidad | AI14: # Objetivo específico | AJ14: Objetivos Específicos | AK14: Código MGA Producto | AL14: # Producto | AM14: Productos | AN14: Código MGA Indicador Producto | AO14: Indicador de Producto | AP14: Unidad de Medida | AQ14: Cantidad | AR14: % Ponderación Productos | AS14: Meta Plan de Desarrollo | AT14: Denominación Meta PDD | AU14: # Actividad | AV14: Código Programa Presupuestario | AW14: Actividades | AX14: Ruta Crítica Si/No | AY14: % Ponderación Actividad | AZ14: Código POSPRE | BA14: Denominación POSPRE | BB14: Código FONDO | BC14: Denominación FONDO | BD14: Valor Actividades | BE14: Modificación 2024
A15: Garantizar la Atención Integral y diferencial para la Primera Infancia en Santiago de Cali | B15: Beneficiarios atendidos en el Marco de la Atención integral a la primera infancia | C15: NÚMERO | D15: 15000 | E15: 1 | F15: Fortalecer la calidad de la atención integral y diferencial de la primera infancia en el Distrito Especial de Santiago de Cali. | G15: 4102001 | H15: 1.1 | I15: Servicio de atención integral a la primera infancia | J15: 410200100 | K15: Niños y niñas atendidos en Servicio integrales | L15: Número | M15: 9504 | N15: 1 | O15: 61020060002 | P15: Beneficiarios atendidos en el marco de la atención integral a la primera infancia | Q15: 1.1.1 | R15: BP-26005411/1/01/01/01 | S15: Brindar servicios de atención Integral para la primera infancia. | T15: Si | U15: =SUM(Z21:Z30)/SUM(Z21:Z50) -> 0.58152438 | V15: 2.3.2.02.02.009 | W15: =IF(V15=""," ",VLOOKUP(V15,Listados!$O:$P,2,0)) -> Servicios para la comunidad, sociales y personales | X15: 1.2.3.1.19.42 | Y15: =IF(X15=""," ",VLOOKUP(X15,[1]Listados!$O:$P,2,0)) -> Estampilla Prodesarrollo Urbano (20% primera infancia) | Z15: 9962468999 | AE15: Garantizar la Atención Integral y diferencial para la Primera Infancia en Santiago de Cali | AF15: Beneficiarios atendidos en el Marco de la Atención integral a la primera infancia | AG15: NÚMERO | AH15: 15000 | AI15: 1 | AJ15: Fortalecer la calidad de la atención integral y diferencial de la primera infancia en el Distrito Especial de Santiago de Cali. | AK15: 4102001 | AL15: 1.1 | AM15: Servicio de atención integral a la primera infancia | AN15: 410200100 | AO15: Niños y niñas atendidos en Servicio integrales | AP15: Número | AQ15: 9504 | AR15: 1 | AS15: 61020060002 | AT15: Beneficiarios atendidos en el marco de la atención integral a la primera infancia | AU15: 1.1.1 | AV15: BP-26005411/1/01/01/01 | AW15: Brindar servicios de atención Integral para la primera infancia. | AX15: Si | AY15: =SUM(BD21:BD30)/SUM(BD21:BD50) -> 0.43405093 | AZ15: 2.3.2.02.02.009 | BA15: =IF(AZ15=""," ",VLOOKUP(AZ15,Listados!$O:$P,2,0)) -> Servicios para la comunidad, sociales y personales | BB15: 1.2.3.1.19.42 | BC15: =IF(BB15=""," ",VLOOKUP(BB15,[1]Listados!$O:$P,2,0)) -> Estampilla Prodesarrollo Urbano (20% primera infancia) | BD15: 9962468999
R16: BP-26005411/1/01/01/14 | S16: Brindar servicios de atención Integral para la primera infancia. | T16: Si | V16: 2.3.2.02.02.009 | W16: =IF(V16=""," ",VLOOKUP(V16,Listados!$O:$P,2,0)) -> Servicios para la comunidad, sociales y personales | X16: 1.2.4.3.03.01 | Y16: =IF(X16=""," ",VLOOKUP(X16,[1]Listados!$O:$P,2,0)) -> SGP-Propósito General-Libre inversión 11/12 | Z16: 4630301499 | AV16: BP-26005411/1/01/01/14 | AW16: Brindar servicios de atención Integral para la primera infancia. | AX16: Si | AZ16: 2.3.2.02.02.009 | BA16: =IF(AZ16=""," ",VLOOKUP(AZ16,Listados!$O:$P,2,0)) -> Servicios para la comunidad, sociales y personales | BB16: 1.2.4.3.03.01 | BC16: =IF(BB16=""," ",VLOOKUP(BB16,[1]Listados!$O:$P,2,0)) -> SGP-Propósito General-Libre inversión 11/12 | BD16: 4630301499
R17: BP-26005411/1/01/01/15 | S17: Brindar servicios de atención Integral para la primera infancia. | T17: Si | V17: 2.3.2.02.02.009 | W17: =IF(V17=""," ",VLOOKUP(V17,Listados!$O:$P,2,0)) -> Servicios para la comunidad, sociales y personales | X17: 1.3.2.3.01.01 | Y17: =IF(X17=""," ",VLOOKUP(X17,[1]Listados!$O:$P,2,0)) -> R.F. ICLD | Z17: 5763463431 | AV17: BP-26005411/1/01/01/15 | AW17: Brindar servicios de atención Integral para la primera infancia. | AX17: Si | AZ17: 2.3.2.02.02.009 | BA17: =IF(AZ17=""," ",VLOOKUP(AZ17,Listados!$O:$P,2,0)) -> Servicios para la comunidad, sociales y personales | BB17: 1.3.2.3.01.01 | BC17: =IF(BB17=""," ",VLOOKUP(BB17,[1]Listados!$O:$P,2,0)) -> R.F. ICLD | BD17: 5763463431
R18: BP-26005411/1/01/01/16 | S18: Brindar servicios de atención Integral para la primera infancia. | T18: Si | V18: 2.3.2.02.02.009 | W18: =IF(V18=""," ",VLOOKUP(V18,Listados!$O:$P,2,0)) -> Servicios para la comunidad, sociales y personales | X18: 1.3.2.3.01.105 | Y18: =IF(X18=""," ",VLOOKUP(X18,[1]Listados!$O:$P,2,0)) -> R.F. Estampilla Prodesarrollo Urbano (20% Primera Infancia) | Z18: 717447647 | AV18: BP-26005411/1/01/01/16 | AW18: Brindar servicios de atención Integral para la primera infancia. | AX18: Si | AZ18: 2.3.2.02.02.009 | BA18: =IF(AZ18=""," ",VLOOKUP(AZ18,Listados!$O:$P,2,0)) -> Servicios para la comunidad, sociales y personales | BB18: 1.3.2.3.01.105 | BC18: =IF(BB18=""," ",VLOOKUP(BB18,[1]Listados!$O:$P,2,0)) -> R.F. Estampilla Prodesarrollo Urbano (20% Primera Infancia) | BD18: 717447647
R19: BP-26005411/1/01/01/17 | S19: Brindar servicios de atención Integral para la primera infancia. | T19: Si | V19: 2.3.2.02.02.009 | W19: =IF(V19=""," ",VLOOKUP(V19,Listados!$O:$P,2,0)) -> Servicios para la comunidad, sociales y personales | X19: 1.2.1.0.00 | Y19: =IF(X19=""," ",VLOOKUP(X19,[1]Listados!$O:$P,2,0)) -> Ingresos corrientes de Libre Destinación | Z19: 2057124296 | AA19: -427564390 | AV19: BP-26005411/1/01/01/17 | AW19: Brindar servicios de atención Integral para la primera infancia. | AX19: Si | AZ19: 2.3.2.02.02.009 | BA19: =IF(AZ19=""," ",VLOOKUP(AZ19,Listados!$O:$P,2,0)) -> Servicios para la comunidad, sociales y personales | BB19: 1.2.1.0.00 | BC19: =IF(BB19=""," ",VLOOKUP(BB19,[1]Listados!$O:$P,2,0)) -> Ingresos corrientes de Libre Destinación | BD19: =+Z19+AA19 -> 1629559906
R20: BP-26005411/1/01/01/21 | S20: Brindar servicios de atención Integral para la primera infancia. | T20: Si | V20: 2.3.2.02.02.009 | W20: =IF(V20=""," ",VLOOKUP(V20,Listados!$O:$P,2,0)) -> Servicios para la comunidad, sociales y personales | X20: 1.3.3.5.01.06 | Y20: =IF(X20=""," ",VLOOKUP(X20,[1]Listados!$O:$P,2,0)) -> R.B. Convenio ICBF 7600481/21 | Z20: 238918828 | AV20: BP-26005411/1/01/01/21 | AW20: Brindar servicios de atención Integral para la primera infancia. | AX20: Si | AZ20: 2.3.2.02.02.009 | BA20: =IF(AZ20=""," ",VLOOKUP(AZ20,Listados!$O:$P,2,0)) -> Servicios para la comunidad, sociales y personales | BB20: 1.3.3.5.01.06 | BC20: =IF(BB20=""," ",VLOOKUP(BB20,[1]Listados!$O:$P,2,0)) -> R.B. Convenio ICBF 7600481/21 | BD20: 238918828
R21: BP-26005411/1/01/01/18 | S21: Brindar servicios de atención Integral para la primera infancia. | T21: Si | V21: 2.3.2.02.02.009 | W21: =IF(V21=""," ",VLOOKUP(V21,Listados!$O:$P,2,0)) -> Servicios para la comunidad, sociales y personales | X21: 1.3.3.5.04.03 | Y21: =IF(X21=""," ",VLOOKUP(X21,[1]Listados!$O:$P,2,0)) -> R.B. Convenio ICBF 7600608/21 | Z21: 126249395 | AV21: BP-26005411/1/01/01/18 | AW21: Brindar servicios de atención Integral para la primera infancia. | AX21: Si | AZ21: 2.3.2.02.02.009 | BA21: =IF(AZ21=""," ",VLOOKUP(AZ21,Listados!$O:$P,2,0)) -> Servicios para la comunidad, sociales y personales | BB21: 1.3.3.5.04.03 | BC21: =IF(BB21=""," ",VLOOKUP(BB21,[1]Listados!$O:$P,2,0)) -> R.B. Convenio ICBF 7600608/21 | BD21: 126249395
R22: BP-26005411/1/01/01/20 | S22: Brindar servicios de atención Integral para la primera infancia. | T22: Si | V22: 2.3.2.02.02.008 | W22: =IF(V22=""," ",VLOOKUP(V22,Listados!$O:$P,2,0)) -> Servicios prestados a las empresas y servicios de producción | X22: 1.3.2.3.01.01 | Y22: =IF(X22=""," ",VLOOKUP(X22,[1]Listados!$O:$P,2,0)) -> R.F. ICLD | Z22: 1973965747 | AA22: -1133049747 | AV22: BP-26005411/1/01/01/20 | AW22: Brindar servicios de atención Integral para la primera infancia. | AX22: Si | AZ22: 2.3.2.02.02.008 | BA22: =IF(AZ22=""," ",VLOOKUP(AZ22,Listados!$O:$P,2,0)) -> Servicios prestados a las empresas y servicios de producción | BB22: 1.3.2.3.01.01 | BC22: =IF(BB22=""," ",VLOOKUP(BB22,[1]Listados!$O:$P,2,0)) -> R.F. ICLD | BD22: 1091948260
R23: BP-26005411/1/01/01/19 | S23: Brindar servicios de atención Integral para la primera infancia. | T23: Si | V23: 2.3.2.02.02.008 | W23: =IF(V23=""," ",VLOOKUP(V23,Listados!$O:$P,2,0)) -> Servicios prestados a las empresas y servicios de producción | X23: 1.2.3.1.19.42 | Y23: =IF(X23=""," ",VLOOKUP(X23,[1]Listados!$O:$P,2,0)) -> Estampilla Prodesarrollo Urbano (20% primera infancia) | Z23: 677935365 | AA23: -677935365 | AV23: BP-26005411/1/01/01/19 | AW23: Brindar servicios de atención Integral para la primera infancia. | AX23: Si | AZ23: 2.3.2.02.02.008 | BA23: =IF(AZ23=""," ",VLOOKUP(AZ23,Listados!$O:$P,2,0)) -> Servicios prestados a las empresas y servicios de producción | BB23: 1.2.3.1.19.42 | BC23: =IF(BB23=""," ",VLOOKUP(BB23,[1]Listados!$O:$P,2,0)) -> Estampilla Prodesarrollo Urbano (20% primera infancia) | BD23: =+Z23+AA23 -> 0
R24: BP-26005411/1/01/01/24 | S24: Brindar servicios de atención Integral para la primera infancia. | T24: Si | V24: 2.3.2.02.01.003 | W24: =IF(V24=""," ",VLOOKUP(V24,Listados!$O:$P,2,0)) -> Otros bienes transportables (excepto productos metálicos, maquinaria y equipo) | X24: 1.3.2.3.01.01 | Y24: =IF(X24=""," ",VLOOKUP(X24,[1]Listados!$O:$P,2,0)) -> R.F. ICLD | Z24: 12715476 | AV24: BP-26005411/1/01/01/24 | AW24: Brindar servicios de atención Integral para la primera infancia. | AX24: Si | AZ24: 2.3.2.02.01.003 | BA24: =IF(AZ24=""," ",VLOOKUP(AZ24,Listados!$O:$P,2,0)) -> Otros bienes transportables (excepto productos metálicos, maquinaria y equipo) | BB24: 1.3.2.3.01.01 | BC24: =IF(BB24=""," ",VLOOKUP(BB24,[1]Listados!$O:$P,2,0)) -> R.F. ICLD | BD24: 12715476
R25: BP-26005411/1/01/01/22 | S25: Brindar servicios de atención Integral para la primera infancia. | T25: Si | V25: 2.3.2.02.01.003 | W25: =IF(V25=""," ",VLOOKUP(V25,Listados!$O:$P,2,0)) -> Otros bienes transportables (excepto productos metálicos, maquinaria y equipo) | X25: F.1.3.3.3.20.42 | Y25: =IF(X25=""," ",VLOOKUP(X25,[1]Listados!$O:$P,2,0)) -> R.B.R.F. Estampilla Prodesarrollo Urbano (20% primera infancia) | Z25: 97399141 | AV25: BP-26005411/1/01/01/22 | AW25: Brindar servicios de atención Integral para la primera infancia. | AX25: Si | AZ25: 2.3.2.02.01.003 | BA25: =IF(AZ25=""," ",VLOOKUP(AZ25,Listados!$O:$P,2,0)) -> Otros bienes transportables (excepto productos metálicos, maquinaria y equipo) | BB25: F.1.3.3.3.20.42 | BC25: =IF(BB25=""," ",VLOOKUP(BB25,[1]Listados!$O:$P,2,0)) -> R.B.R.F. Estampilla Prodesarrollo Urbano (20% primera infancia) | BD25: 97399141
R26: BP-26005411/1/01/01/23 | S26: Brindar servicios de atención Integral para la primera infancia. | T26: Si | V26: 2.3.2.02.01.003 | W26: =IF(V26=""," ",VLOOKUP(V26,Listados!$O:$P,2,0)) -> Otros bienes transportables (excepto productos metálicos, maquinaria y equipo) | X26: 1.2.1.0.00 | Y26: =IF(X26=""," ",VLOOKUP(X26,[1]Listados!$O:$P,2,0)) -> Ingresos corrientes de Libre Destinación | Z26: 210926018 | AV26: BP-26005411/1/01/01/23 | AW26: Brindar servicios de atención Integral para la primera infancia. | AX26: Si | AZ26: 2.3.2.02.01.003 | BA26: =IF(AZ26=""," ",VLOOKUP(AZ26,Listados!$O:$P,2,0)) -> Otros bienes transportables (excepto productos metálicos, maquinaria y equipo) | BB26: 1.2.1.0.00 | BC26: =IF(BB26=""," ",VLOOKUP(BB26,[1]Listados!$O:$P,2,0)) -> Ingresos corrientes de Libre Destinación | BD26: 210926018
R27: BP-26005411/1/01/01/27 | S27: Brindar servicios de atención Integral para la primera infancia. | T27: Si | V27: 2.3.2.02.01.003 | W27: =IF(V27=""," ",VLOOKUP(V27,Listados!$O:$P,2,0)) -> Otros bienes transportables (excepto productos metálicos, maquinaria y equipo) | X27: 1.3.3.3.20.42 | Y27: =IF(X27=""," ",VLOOKUP(X27,[1]Listados!$O:$P,2,0)) -> R.B. Estampilla Prodesarrollo Urbano (20% primera infancia) | Z27: 138959365 | AV27: BP-26005411/1/01/01/27 | AW27: Brindar servicios de atención Integral para la primera infancia. | AX27: Si | AZ27: 2.3.2.02.01.003 | BA27: =IF(AZ27=""," ",VLOOKUP(AZ27,Listados!$O:$P,2,0)) -> Otros bienes transportables (excepto productos metálicos, maquinaria y equipo) | BB27: 1.3.3.3.20.42 | BC27: =IF(BB27=""," ",VLOOKUP(BB27,[1]Listados!$O:$P,2,0)) -> R.B. Estampilla Prodesarrollo Urbano (20% primera infancia) | BD27: 138959365
R28: BP-26005411/1/01/01/25 | S28: Brindar servicios de atención Integral para la primera infancia. | T28: Si | V28: 2.3.2.01.01.003.05.02 | W28: =IF(V28=""," ",VLOOKUP(V28,Listados!$O:$P,2,0)) -> Aparatos transmisores de televisión y radio; televisión, video y cámaras digitales; teléfonos | X28: 1.3.3.3.20.42 | Y28: =IF(X28=""," ",VLOOKUP(X28,[1]Listados!$O:$P,2,0)) -> R.B. Estampilla Prodesarrollo Urbano (20% primera infancia) | Z28: 124298503 | AV28: BP-26005411/1/01/01/25 | AW28: Brindar servicios de atención Integral para la primera infancia. | AX28: Si | AZ28: 2.3.2.01.01.003.05.02 | BA28: =IF(AZ28=""," ",VLOOKUP(AZ28,Listados!$O:$P,2,0)) -> Aparatos transmisores de televisión y radio; televisión, video y cámaras digitales; teléfonos | BB28: 1.3.3.3.20.42 | BC28: =IF(BB28=""," ",VLOOKUP(BB28,[1]Listados!$O:$P,2,0)) -> R.B. Estampilla Prodesarrollo Urbano (20% primera infancia) | BD28: 124298503
R29: BP-26005411/1/01/01/26 | S29: Brindar servicios de atención Integral para la primera infancia. | T29: Si | V29: 2.3.2.01.01.003.05.02 | W29: =IF(V29=""," ",VLOOKUP(V29,Listados!$O:$P,2,0)) -> Aparatos transmisores de televisión y radio; televisión, video y cámaras digitales; teléfonos | X29: 1.3.3.1.00 | Y29: =IF(X29=""," ",VLOOKUP(X29,[1]Listados!$O:$P,2,0)) -> R.B. Ingresos Corrientes de Libre Destinanción | Z29: 734701497 | AV29: BP-26005411/1/01/01/26 | AW29: Brindar servicios de atención Integral para la primera infancia. | AX29: Si | AZ29: 2.3.2.01.01.003.05.02 | BA29: =IF(AZ29=""," ",VLOOKUP(AZ29,Listados!$O:$P,2,0)) -> Aparatos transmisores de televisión y radio; televisión, video y cámaras digitales; teléfonos | BB29: 1.3.3.1.00 | BC29: =IF(BB29=""," ",VLOOKUP(BB29,[1]Listados!$O:$P,2,0)) -> R.B. Ingresos Corrientes de Libre Destinanción | BD29: 734701497
R30: BP-26005411/1/01/01/28 | S30: Brindar servicios de atención Integral para la primera infancia. | T30: Si | V30: 2.3.2.02.02.006 | W30: Servicios de alojamiento; servicios de suministro de comidas y bebidas; servicios de transporte; y servicios de distribución de electricidad, gas y agua | X30: 1.3.3.1.00 | Y30: =IF(X30=""," ",VLOOKUP(X30,[1]Listados!$O:$P,2,0)) -> R.B. Ingresos Corrientes de Libre Destinanción | Z30: 500000000 | AA30: -500000000 | AV30: BP-26005411/1/01/01/28 | AW30: Brindar servicios de atención Integral para la primera infancia. | AX30: Si | AZ30: 2.3.2.02.02.006 | BA30: Servicios de alojamiento; servicios de suministro de comidas y bebidas; servicios de transporte; y servicios de distribución de electricidad, gas y agua | BB30: 1.3.3.1.00 | BC30: =IF(BB30=""," ",VLOOKUP(BB30,[1]Listados!$O:$P,2,0)) -> R.B. Ingresos Corrientes de Libre Destinanción | BD30: =+Z30+AA30 -> 0
Q31: 1.1.2 | R31: BP-26005411/1/01/01/02 | S31: Brindar acompañamiento técnico al talento humano de los servicios de atención integral. | T31: No | U31: =SUM(Z31)/SUM($Z$21:$Z$48) -> 0.014827627 | V31: 2.3.2.02.02.008 | W31: =IF(V31=""," ",VLOOKUP(V31,Listados!$O:$P,2,0)) -> Servicios prestados a las empresas y servicios de producción | X31: 1.3.3.1.00 | Y31: =IF(X31=""," ",VLOOKUP(X31,[1]Listados!$O:$P,2,0)) -> R.B. Ingresos Corrientes de Libre Destinanción | Z31: 116000000 | AU31: 1.1.2 | AV31: BP-26005411/1/01/01/02 | AW31: Brindar acompañamiento técnico al talento humano de los servicios de atención integral. | AX31: No | AY31: =SUM(BD31)/SUM($Z$21:$Z$48) -> 0.014827627 | AZ31: 2.3.2.02.02.008 | BA31: =IF(AZ31=""," ",VLOOKUP(AZ31,Listados!$O:$P,2,0)) -> Servicios prestados a las empresas y servicios de producción | BB31: 1.3.3.1.00 | BC31: =IF(BB31=""," ",VLOOKUP(BB31,[1]Listados!$O:$P,2,0)) -> R.B. Ingresos Corrientes de Libre Destinanción | BD31: 116000000
Q32: 1.1.3 | R32: BP-26005411/1/01/01/03 | S32: Desarrollar estrategias de cuidado al cuidador | T32: No | U32: =SUM(Z32)/SUM($Z$21:$Z$48) -> 0 | V32: 2.3.2.02.02.009 | W32: =IF(V32=""," ",VLOOKUP(V32,Listados!$O:$P,2,0)) -> Servicios para la comunidad, sociales y personales | Y32: =IF(X32=""," ",VLOOKUP(X32,[1]Listados!$O:$P,2,0)) | Z32: 0 | AU32: 1.1.3 | AV32: BP-26005411/1/01/01/03 | AW32: Desarrollar estrategias de cuidado al cuidador | AX32: No | AY32: =SUM(BD32)/SUM($Z$21:$Z$48) -> 0 | AZ32: 2.3.2.02.02.009 | BA32: =IF(AZ32=""," ",VLOOKUP(AZ32,Listados!$O:$P,2,0)) -> Servicios para la comunidad, sociales y personales | BC32: =IF(BB32=""," ",VLOOKUP(BB32,[1]Listados!$O:$P,2,0)) | BD32: 0
Q33: 1.1.4 | R33: BP-26005411/1/01/01/04 | S33: Realizar mantenimiento a las infraestructuras destinadas a la atención de la primera infancia. | T33: Si | U33: =SUM(Z33)/SUM($Z$21:$Z$48) -> 0 | V33: 2.3.2.02.02.009 | W33: =IF(V33=""," ",VLOOKUP(V33,Listados!$O:$P,2,0)) -> Servicios para la comunidad, sociales y personales | Y33: =IF(X33=""," ",VLOOKUP(X33,[1]Listados!$O:$P,2,0)) | Z33: 0 | AA33: 671000000 | AU33: 1.1.4 | AV33: BP-26005411/1/01/01/04 | AW33: Realizar mantenimiento a las infraestructuras destinadas a la atención de la primera infancia. | AX33: Si | AY33: =SUM(BD33)/SUM($Z$21:$Z$48) -> 0.085770154 | AZ33: 2.3.2.02.02.009 | BA33: =IF(AZ33=""," ",VLOOKUP(AZ33,Listados!$O:$P,2,0)) -> Servicios para la comunidad, sociales y personales | BB33: 1.3.3.1.00 | BC33: R.B. Ingresos Corrientes de Libre Destinanción | BD33: 671000000
Q34: 1.1.5 | R34: BP-26005411/1/01/01/05 | S34: Realizar movilización social para la atención integral en Santiago de Cali. | T34: No | U34: =SUM(Z34)/SUM($Z$21:$Z$48) -> 0.027384112 | V34: 2.3.2.02.02.008 | W34: =IF(V34=""," ",VLOOKUP(V34,Listados!$O:$P,2,0)) -> Servicios prestados a las empresas y servicios de producción | X34: 1.3.2.3.01.105 | Y34: =IF(X34=""," ",VLOOKUP(X34,[1]Listados!$O:$P,2,0)) -> R.F. Estampilla Prodesarrollo Urbano (20% Primera Infancia) | Z34: 214232320 | AU34: 1.1.5 | AV34: BP-26005411/1/01/01/05 | AW34: Realizar movilización social para la atención integral en Santiago de Cali. | AX34: No | AY34: =SUM(BD34)/SUM($Z$21:$Z$48) -> 0.027384112 | AZ34: 2.3.2.02.02.008 | BA34: =IF(AZ34=""," ",VLOOKUP(AZ34,Listados!$O:$P,2,0)) -> Servicios prestados a las empresas y servicios de producción | BB34: 1.3.2.3.01.105 | BC34: =IF(BB34=""," ",VLOOKUP(BB34,[1]Listados!$O:$P,2,0)) -> R.F. Estampilla Prodesarrollo Urbano (20% Primera Infancia) | BD34: 214232320
R35: BP-26005411/1/01/01/29 | S35: Realizar movilización social para la atención integral en Santiago de Cali. | T35: No | U35: =SUM(Z35)/SUM($Z$21:$Z$48) -> 0.012782437 | V35: 2.3.2.02.02.008 | W35: =IF(V35=""," ",VLOOKUP(V35,Listados!$O:$P,2,0)) -> Servicios prestados a las empresas y servicios de producción | X35: 1.3.3.1.00 | Y35: =IF(X35=""," ",VLOOKUP(X35,[1]Listados!$O:$P,2,0)) -> R.B. Ingresos Corrientes de Libre Destinanción | Z35: 100000000 | AV35: BP-26005411/1/01/01/29 | AW35: Realizar movilización social para la atención integral en Santiago de Cali. | AX35: No | AY35: =SUM(BD35)/SUM($Z$21:$Z$48) -> 0.012782437 | AZ35: 2.3.2.02.02.008 | BA35: =IF(AZ35=""," ",VLOOKUP(AZ35,Listados!$O:$P,2,0)) -> Servicios prestados a las empresas y servicios de producción | BB35: 1.3.3.1.00 | BC35: =IF(BB35=""," ",VLOOKUP(BB35,[1]Listados!$O:$P,2,0)) -> R.B. Ingresos Corrientes de Libre Destinanción | BD35: 100000000
Q36: 1.1.6 | R36: BP-26005411/1/01/01/06 | S36: Implementar el Sistema Distrital de Atención Integral a la Primera Infancia en Santiago de Cali. | T36: No | U36: =SUM(Z36)/SUM($Z$21:$Z$48) -> 0 | V36: 2.3.2.02.02.009 | W36: =IF(V36=""," ",VLOOKUP(V36,Listados!$O:$P,2,0)) -> Servicios para la comunidad, sociales y personales | Y36: =IF(X36=""," ",VLOOKUP(X36,[1]Listados!$O:$P,2,0)) | Z36: 0 | AU36: 1.1.6 | AV36: BP-26005411/1/01/01/06 | AW36: Implementar el Sistema Distrital de Atención Integral a la Primera Infancia en Santiago de Cali. | AX36: No | AY36: =SUM(BD36)/SUM($Z$21:$Z$48) -> 0 | AZ36: 2.3.2.02.02.009 | BA36: =IF(AZ36=""," ",VLOOKUP(AZ36,Listados!$O:$P,2,0)) -> Servicios para la comunidad, sociales y personales | BC36: =IF(BB36=""," ",VLOOKUP(BB36,[1]Listados!$O:$P,2,0)) | BD36: 0
Q37: 1.1.7 | R37: BP-26005411/1/01/01/07 | S37: Implementar la Ruta integral de Atención - RIA. | T37: Si | U37: =SUM(Z37)/SUM($Z$21:$Z$48) -> 0.027902547 | V37: 2.3.2.02.02.009 | W37: =IF(V37=""," ",VLOOKUP(V37,Listados!$O:$P,2,0)) -> Servicios para la comunidad, sociales y personales | X37: 1.3.2.3.01.105 | Y37: =IF(X37=""," ",VLOOKUP(X37,[1]Listados!$O:$P,2,0)) -> R.F. Estampilla Prodesarrollo Urbano (20% Primera Infancia) | Z37: 218288160 | AU37: 1.1.7 | AV37: BP-26005411/1/01/01/07 | AW37: Implementar la Ruta integral de Atención - RIA. | AX37: Si | AY37: =SUM(BD37)/SUM($Z$21:$Z$48) -> 0.027902547 | AZ37: 2.3.2.02.02.009 | BA37: =IF(AZ37=""," ",VLOOKUP(AZ37,Listados!$O:$P,2,0)) -> Servicios para la comunidad, sociales y personales | BB37: 1.3.2.3.01.105 | BC37: =IF(BB37=""," ",VLOOKUP(BB37,[1]Listados!$O:$P,2,0)) -> R.F. Estampilla Prodesarrollo Urbano (20% Primera Infancia) | BD37: 218288160
R38: BP-26005411/1/01/01/30 | S38: Implementar la Ruta integral de Atención - RIA. | T38: Si | U38: =SUM(Z38)/SUM($Z$21:$Z$48) -> 0.012782437 | V38: 2.3.2.02.02.009 | W38: =IF(V38=""," ",VLOOKUP(V38,Listados!$O:$P,2,0)) -> Servicios para la comunidad, sociales y personales | X38: 1.3.3.1.00 | Y38: =IF(X38=""," ",VLOOKUP(X38,[1]Listados!$O:$P,2,0)) -> R.B. Ingresos Corrientes de Libre Destinanción | Z38: 100000000 | AV38: BP-26005411/1/01/01/30 | AW38: Implementar la Ruta integral de Atención - RIA. | AX38: Si | AY38: =SUM(BD38)/SUM($Z$21:$Z$48) -> 0.012782437 | AZ38: 2.3.2.02.02.009 | BA38: =IF(AZ38=""," ",VLOOKUP(AZ38,Listados!$O:$P,2,0)) -> Servicios para la comunidad, sociales y personales | BB38: 1.3.3.1.00 | BC38: =IF(BB38=""," ",VLOOKUP(BB38,[1]Listados!$O:$P,2,0)) -> R.B. Ingresos Corrientes de Libre Destinanción | BD38: 100000000
Q39: 1.1.8 | R39: BP-26005411/1/01/01/08 | S39: Realizar articulación y cooperación internacional. | T39: No | U39: =SUM(Z39)/SUM($Z$21:$Z$48) -> 0.0053060889 | V39: 2.3.2.02.02.009 | W39: =IF(V39=""," ",VLOOKUP(V39,Listados!$O:$P,2,0)) -> Servicios para la comunidad, sociales y personales | X39: 1.3.3.1.00 | Y39: =IF(X39=""," ",VLOOKUP(X39,[1]Listados!$O:$P,2,0)) -> R.B. Ingresos Corrientes de Libre Destinanción | Z39: 41510776 | AU39: 1.1.8 | AV39: BP-26005411/1/01/01/08 | AW39: Realizar articulación y cooperación internacional. | AX39: No | AY39: =SUM(BD39)/SUM($Z$21:$Z$48) -> 0.0053060889 | AZ39: 2.3.2.02.02.009 | BA39: =IF(AZ39=""," ",VLOOKUP(AZ39,Listados!$O:$P,2,0)) -> Servicios para la comunidad, sociales y personales | BB39: 1.3.3.1.00 | BC39: =IF(BB39=""," ",VLOOKUP(BB39,[1]Listados!$O:$P,2,0)) -> R.B. Ingresos Corrientes de Libre Destinanción | BD39: 41510776
