Workbook
Name _____________________________________________AFC1: [1]INV!$A$25:$D$28
Name _____________________________________________AFC3: [1]INV!$F$25:$I$28
Name _____________________________________________AFC5: [1]INV!$K$25:$N$28
Name _____________________________________________BGC1: [1]INV!$A$5:$D$8
Name _____________________________________________BGC3: [1]INV!$F$5:$I$8
Name _____________________________________________BGC5: [1]INV!$K$5:$N$8
Name _____________________________________________CAC1: [1]INV!$A$19:$D$22
Name _____________________________________________CAC3: [1]INV!$F$19:$I$22
Name _____________________________________________CAC5: [1]INV!$K$19:$N$22
Name _____________________________________________SBC1: [1]INV!$A$12:$D$15
Name _____________________________________________SBC3: [1]INV!$F$12:$I$15
Name _____________________________________________SBC5: [1]INV!$K$12:$N$15
Name ____________________________________________AFC1: [1]INV!$A$25:$D$28
Name ____________________________________________AFC3: [1]INV!$F$25:$I$28
Name ____________________________________________AFC5: [1]INV!$K$25:$N$28
Name ____________________________________________BGC1: [1]INV!$A$5:$D$8
Name ____________________________________________BGC3: [1]INV!$F$5:$I$8
Name ____________________________________________BGC5: [1]INV!$K$5:$N$8
Name ____________________________________________CAC1: [1]INV!$A$19:$D$22
Name ____________________________________________CAC3: [1]INV!$F$19:$I$22
Name ____________________________________________CAC5: [1]INV!$K$19:$N$22
Name ____________________________________________SBC1: [1]INV!$A$12:$D$15
Name ____________________________________________SBC3: [1]INV!$F$12:$I$15
Name ____________________________________________SBC5: [1]INV!$K$12:$N$15
Name ___________________________________________AFC1: [1]INV!$A$25:$D$28
Name ___________________________________________AFC3: [1]INV!$F$25:$I$28
Name ___________________________________________AFC5: [1]INV!$K$25:$N$28
Name ___________________________________________BGC1: [1]INV!$A$5:$D$8
Name ___________________________________________BGC3: [1]INV!$F$5:$I$8
Name ___________________________________________BGC5: [1]INV!$K$5:$N$8
Name ___________________________________________CAC1: [1]INV!$A$19:$D$22
Name ___________________________________________CAC3: [1]INV!$F$19:$I$22
Name ___________________________________________CAC5: [1]INV!$K$19:$N$22
Name ___________________________________________SBC1: [1]INV!$A$12:$D$15
Name ___________________________________________SBC3: [1]INV!$F$12:$I$15
Name ___________________________________________SBC5: [1]INV!$K$12:$N$15
Name __________________________________________AFC1: [1]INV!$A$25:$D$28
Name __________________________________________AFC3: [1]INV!$F$25:$I$28
Name __________________________________________AFC5: [1]INV!$K$25:$N$28
Name __________________________________________BGC1: [1]INV!$A$5:$D$8
Name __________________________________________BGC3: [1]INV!$F$5:$I$8
Name __________________________________________BGC5: [1]INV!$K$5:$N$8
Name __________________________________________CAC1: [1]INV!$A$19:$D$22
Name __________________________________________CAC3: [1]INV!$F$19:$I$22
Name __________________________________________CAC5: [1]INV!$K$19:$N$22
Name __________________________________________SBC1: [1]INV!$A$12:$D$15
Name __________________________________________SBC3: [1]INV!$F$12:$I$15
Name __________________________________________SBC5: [1]INV!$K$12:$N$15
Name _________________________________________AFC1: [1]INV!$A$25:$D$28
Name _________________________________________AFC3: [1]INV!$F$25:$I$28
Name _________________________________________AFC5: [1]INV!$K$25:$N$28
Name _________________________________________BGC1: [1]INV!$A$5:$D$8
Name _________________________________________BGC3: [1]INV!$F$5:$I$8
Name _________________________________________BGC5: [1]INV!$K$5:$N$8
Name _________________________________________CAC1: [1]INV!$A$19:$D$22
Name _________________________________________CAC3: [1]INV!$F$19:$I$22
Name _________________________________________CAC5: [1]INV!$K$19:$N$22
Name _________________________________________SBC1: [1]INV!$A$12:$D$15
Name _________________________________________SBC3: [1]INV!$F$12:$I$15
Name _________________________________________SBC5: [1]INV!$K$12:$N$15

Sheet ANALISIS COMPARATIVO V U
A1: ESTUDIO DE MERCADO Y/O ANALISIS COMPARATIVO DE PRECIOS
A4: RFI DE FERRETERIA PROCESO IDACO | O4: El coheficiente de variacion Celda sg (Amarillo), se debe modificar en el porcentaje establecido para el proceso, como ejemplo se establece un 20%. Modificar la formula de la celda S7 de acuerdo con lo establecido en la celda T5 y copiar formula para los demas items
O5: PROMEDIO UNITARIO DE LAS COTIZACIONES ALLEGADAS | P5: COTIZACIONES ALLEGADAS | Q5: DESVIACION ESTANDAR | R5: COEFICIENTE DE VARIACION (CV) | S5: 0.2 | T5: SI / NO APLICA LIMITE | V5: LIMITE INFERIOR LIMITE SUPERIOR | Y5: VALOR UNITARIO PROMEDIO | AA5: JUSTIFICACION | AB5: DESVIACION RESPECTO AL PROMEDIO | AM5: VALIDACION
A6: No. | B6: NOMBRE DEL ÍTEM | C6: RFI | D6: 178209_-_IDACO_-_region_5_Prese | E6: 178209_IDACO | F6: RFI_FERRETERIA_(16)_Evento_1782 | G6: EVENTO_No._178209_SEP.__24_SEP | H6: 178209_RFI_FERRETERIA | I6: RFI_178209 | M6: VALOR UNITARIO PROMEDIO | S6: COHEFICIENTE CV ESTABLECIDO PARA EL PROCESO 20 % | V6: Rango inferior de eliminación | W6: Rango superior de eliminación | AB6: =C6 -> RFI | AC6: =D6 -> 178209_-_IDACO_-_region_5_Prese | AD6: =E6 -> 178209_IDACO | AE6: =F6 -> RFI_FERRETERIA_(16)_Evento_1782 | AF6: =G6 -> EVENTO_No._178209_SEP.__24_SEP | AG6: =H6 -> 178209_RFI_FERRETERIA | AH6: =I6 -> RFI_178209 | AI6: =J6 -> 0 | ... AK6: =L6 -> 0 | AM6: =C6 -> RFI | AN6: =D6 -> 178209_-_IDACO_-_region_5_Prese | AO6: =E6 -> 178209_IDACO | AP6: =F6 -> RFI_FERRETERIA_(16)_Evento_1782 | AQ6: =G6 -> EVENTO_No._178209_SEP.__24_SEP | AR6: =H6 -> 178209_RFI_FERRETERIA | AS6: =I6 -> RFI_178209 | AT6: =J6 -> 0 | ... AV6: =L6 -> 0
A7: =+[55]ESPECIFICACIONES!A2 -> 1 | B7: =+[55]ESPECIFICACIONES!B2 -> Planta generadora eléctrica Voltaje de corriente alterna: 120V/240V. Alternativa segura para cortes de suministro. Potencia máxima: 2800W. Tipo de arranque: manual. Tipo de alimentación: gasolina. Peso: 37 kg. Duración del tanque en trabajo continuo: 6 horas (15 L de combustible). | C7: =+[55]RFI!F2 -> 1680000 | D7: =+'[55]178209_-_IDACO_-_region_5_Prese'!F4 -> 10500672 | E7: =+'[55]178209_IDACO'!F4 -> 1753070.5 | F7: =+'[55]RFI_FERRETERIA_(16)_Evento_1782'!F4 -> 3777181 | G7: =+'[55]EVENTO_No._178209_SEP.__24_SEP'!F5 -> 3325210.1 | H7: =+'[55]178209_RFI_FERRETERIA'!F4 -> 4464285.7 | I7: =+[55]RFI_178209!F4 -> 2794537.8 | M7: =IF(P7<=1,Y7,(ROUND(+Y7,0))) -> 2965714 | O7: =ROUND(AVERAGE(C7:L7),0) -> 4042137 | P7: =COUNT(C7:L7) -> 7 | Q7: =+STDEVA(C7:L7) -> 3023549 | R7: =+Q7/O7 -> 0.74800754 | S7: =IF(R7>=$S$5,"COEFICIENTE DE VARIACION MAYOR AL 20%",IF(R7<=$S$5,"COEFICIENTE DE VARIACION MENOR AL 20%")) -> COEFICIENTE DE VARIACION MAYOR AL 20% | T7: =IF(P7<=1,"NO APLICA LIMITES",IF(R7>=$S$5,"SI APLICA LIMITE INFERIOR Y SUPERIOR",IF(R7<=$S$5,"NO APLICA LIMITES"))) -> SI APLICA LIMITE INFERIOR Y SUPERIOR | V7: =O7-Q7 -> 1018588 | W7: =O7+Q7 -> 7065686 | Y7: =AVERAGEIFS(C7:L7,AM7:AV7,"promediar") -> 2965714.2 | AA7: =IF(T7="NO APLICA LIMITES","Las cotizaciones tenidas en cuenta son las allegadas por las empresas: "&IF(AND(AM7="PROMEDIAR",C7<>""),$C$6&", ","")&IF(AND(AN7="PROMEDIAR",D7<>""),$D$6&", ","")&IF(AND(AO7="PROMEDIAR",E7<>""),$E$6&", ","")&IF(AND(AP7="PROMEDIAR",F7<>""),$F$6&", ","")&IF(AND(AQ7="PROMEDIAR",G7<>""),$G$6&", ","")&" "&IF(AND(AR7="PROMEDIAR",H7<>""),$H$6&", ","")&" "&IF(AND(AS7="PROMEDIAR",I7<>""),$I$6&", ","")&" "&IF(AND(AT7="PROMEDIAR",J7<>""),$J$6&", ","")&" "&IF(AND(AU7="PROMEDIAR",K7<>""),$K$6&", ","")&" "&IF(AND(AV7="PROMEDIAR",L7<>""),$L$6&", ","")&" por encontrarse dentro del promedio requerido por la Corporación","Las cotizaciones tenidas en cuenta son las allegadas por las empresas: "&IF(AND(AM7="PROMEDIAR",C7<>""),$C$6&", ","")&IF(AND(AN7="PROMEDIAR",D7<>""),$D$6&", ","")&IF(AND(AO7="PROMEDIAR",E7<>""),$E$6&", ","")&IF(AND(AP7="PROMEDIAR",F7<>""),$F$6&", ","")&IF(AND(AQ7="PROMEDIAR",G7<>""),$G$6&", ","")&" "&IF(AND(AR7="PROMEDIAR",H7<>""),$H$6&", ","")&" "&IF(AND(AS7="PROMEDIAR",I7<>""),$I$6&", ","")&" "&IF(AND(AT7="PROMEDIAR",J7<>""),$J$6&", ","")&" "&IF(AND(AU7="PROMEDIAR",K7<>""),$K$6&", ","")&" "&IF(AND(AV7="PROMEDIAR",L7<>""),$L$6&", ","")&" por encontrarse dentro del promedio requerido por la Corporación"&" y se descarta los valores cotizados por: "&IF(AND(AM7="DESCARTAR",C7<>""),$C$6&", ","")&IF(AND(AN7="DESCARTAR",D7<>""),$D$6&", ","")&IF(AND(AO7="DESCARTAR",E7<>""),$E$6&", ","")&IF(AND(AP7="DESCARTAR",F7<>""),$F$6&", ","")&IF(AND(AQ7="DESCARTAR",G7<>""),$G$6&", ","")&" "&IF(AND(AR7="DESCARTAR",H7<>""),$H$6&", ","")&" "&IF(AND(AS7="PROMEDIAR",I7<>""),$I$6&", ","")&" "&IF(AND(AT7="PROMEDIAR",J7<>""),$J$6&", ","")&" "&IF(AND(AU7="PROMEDIAR",K7<>""),$K$6&", ","")&" "&IF(AND(AV7="PROMEDIAR",L7<>""),$L$6&", ","")&"por ser un dato atípico.") -> Las cotizaciones tenidas en cuenta son las allegadas por las empresas: RFI, 178209_IDACO, RFI_FERRETERIA_(16)_Evento_1782, EVENTO_No._178209_SEP.__24_SEP, 178209_RFI_FERRETERIA, RFI_178209, por encontrarse dentro del promedio requerido por la Corporación y se descarta los valores cotizados por: 178209_-_IDACO_-_region_5_Prese, RFI_178209, por ser un dato atípico. | AB7: =IF(C7<>"",(C7/$M7-1),"") -> -0.43352596 | AC7: =IF(D7<>"",(D7/$M7-1),"") -> 2.5406894 | AD7: =IF(E7<>"",(E7/$M7-1),"") -> -0.40888755 | AE7: =IF(F7<>"",(F7/$M7-1),"") -> 0.27361607 | AF7: =IF(G7<>"",(G7/$M7-1),"") -> 0.12121738 | AG7: =IF(H7<>"",(H7/$M7-1),"") -> 0.5052988 | AH7: =IF(I7<>"",(I7/$I7-1),"") -> 0 | AI7: =IF(J7<>"",(J7/$I7-1),"") | AJ7: =IF(K7<>"",(K7/$I7-1),"") | AK7: =IF(L7<>"",(L7/$I7-1),"") | AM7: =IF(C7<>"",IF(C7=0,"SIN COTIZACIÓN",IF(T7="NO APLICA LIMITES","PROMEDIAR",IF(C7<V7,"DESCARTAR",IF(C7>W7,"DESCARTAR","PROMEDIAR")))),"") -> PROMEDIAR | AN7: =IF(D7<>"",IF(D7=0,"SIN COTIZACIÓN",IF($T7="NO APLICA LIMITES","PROMEDIAR",IF(D7<$V7,"DESCARTAR",IF(D7>$W7,"DESCARTAR","PROMEDIAR")))),"") -> DESCARTAR | AO7: =IF(E7<>"",IF(E7=0,"SIN COTIZACIÓN",IF($T7="NO APLICA LIMITES","PROMEDIAR",IF(E7<$V7,"DESCARTAR",IF(E7>$W7,"DESCARTAR","PROMEDIAR")))),"") -> PROMEDIAR | AP7: =IF(F7<>"",IF(F7=0,"SIN COTIZACIÓN",IF($T7="NO APLICA LIMITES","PROMEDIAR",IF(F7<$V7,"DESCARTAR",IF(F7>$W7,"DESCARTAR","PROMEDIAR")))),"") -> PROMEDIAR | AQ7: =IF(G7<>"",IF(G7=0,"SIN COTIZACIÓN",IF($T7="NO APLICA LIMITES","PROMEDIAR",IF(G7<$V7,"DESCARTAR",IF(G7>$W7,"DESCARTAR","PROMEDIAR")))),"") -> PROMEDIAR | AR7: =IF(H7<>"",IF(H7=0,"SIN COTIZACIÓN",IF($T7="NO APLICA LIMITES","PROMEDIAR",IF(H7<$V7,"DESCARTAR",IF(H7>$W7,"DESCARTAR","PROMEDIAR")))),"") -> PROMEDIAR | AS7: =IF(I7<>"",IF(I7=0,"SIN COTIZACIÓN",IF($T7="NO APLICA LIMITES","PROMEDIAR",IF(I7<$V7,"DESCARTAR",IF(I7>$W7,"DESCARTAR","PROMEDIAR")))),"") -> PROMEDIAR | AT7: =IF(J7<>"",IF(J7=0,"SIN COTIZACIÓN",IF($T7="NO APLICA LIMITES","PROMEDIAR",IF(J7<$V7,"DESCARTAR",IF(J7>$W7,"DESCARTAR","PROMEDIAR")))),"") | AU7: =IF(K7<>"",IF(K7=0,"SIN COTIZACIÓN",IF($T7="NO APLICA LIMITES","PROMEDIAR",IF(K7<$V7,"DESCARTAR",IF(K7>$W7,"DESCARTAR","PROMEDIAR")))),"") | AV7: =IF(L7<>"",IF(L7=0,"SIN COTIZACIÓN",IF($T7="NO APLICA LIMITES","PROMEDIAR",IF(L7<$V7,"DESCARTAR",IF(L7>$W7,"DESCARTAR","PROMEDIAR")))),"")
A8: =+[55]ESPECIFICACIONES!A3 -> 2 | B8: =+[55]ESPECIFICACIONES!B3 -> Extensión 30 metros (Extensión eléctrica de uso rudo, 30 metros, con polo a tierra.) | C8: =+[55]RFI!F3 -> 433333.33 | D8: =+'[55]178209_-_IDACO_-_region_5_Prese'!F5 -> 1008235 | E8: =+'[55]178209_IDACO'!F5 -> 148933.42 | F8: =+'[55]RFI_FERRETERIA_(16)_Evento_1782'!F5 -> 251127 | G8: =+'[55]EVENTO_No._178209_SEP.__24_SEP'!F6 -> 374369.75 | H8: =+'[55]178209_RFI_FERRETERIA'!F5 -> 274285.71 | I8: =+[55]RFI_178209!F5 -> 214285.71 | M8: =IF(P8<=1,Y8,(ROUND(+Y8,0))) -> 282722 | O8: =ROUND(AVERAGE(C8:L8),0) -> 386367 | P8: =COUNT(C8:L8) -> 7 | Q8: =+STDEVA(C8:L8) -> 290375.71 | R8: =+Q8/O8 -> 0.75155412 | S8: =IF(R8>=$S$5,"COEFICIENTE DE VARIACION MAYOR AL 20%",IF(R8<=$S$5,"COEFICIENTE DE VARIACION MENOR AL 20%")) -> COEFICIENTE DE VARIACION MAYOR AL 20% | T8: =IF(P8<=1,"NO APLICA LIMITES",IF(R8>=$S$5,"SI APLICA LIMITE INFERIOR Y SUPERIOR",IF(R8<=$S$5,"NO APLICA LIMITES"))) -> SI APLICA LIMITE INFERIOR Y SUPERIOR | V8: =O8-Q8 -> 95991.288 | W8: =O8+Q8 -> 676742.71 | Y8: =AVERAGEIFS(C8:L8,AM8:AV8,"promediar") -> 282722.49 | AA8: =IF(T8="NO APLICA LIMITES","Las cotizaciones tenidas en cuenta son las allegadas por las empresas: "&IF(AND(AM8="PROMEDIAR",C8<>""),$C$6&", ","")&IF(AND(AN8="PROMEDIAR",D8<>""),$D$6&", ","")&IF(AND(AO8="PROMEDIAR",E8<>""),$E$6&", ","")&IF(AND(AP8="PROMEDIAR",F8<>""),$F$6&", ","")&IF(AND(AQ8="PROMEDIAR",G8<>""),$G$6&", ","")&" "&IF(AND(AR8="PROMEDIAR",H8<>""),$H$6&", ","")&" "&IF(AND(AS8="PROMEDIAR",I8<>""),$I$6&", ","")&" "&IF(AND(AT8="PROMEDIAR",J8<>""),$J$6&", ","")&" "&IF(AND(AU8="PROMEDIAR",K8<>""),$K$6&", ","")&" "&IF(AND(AV8="PROMEDIAR",L8<>""),$L$6&", ","")&" por encontrarse dentro del promedio requerido por la Corporación","Las cotizaciones tenidas en cuenta son las allegadas por las empresas: "&IF(AND(AM8="PROMEDIAR",C8<>""),$C$6&", ","")&IF(AND(AN8="PROMEDIAR",D8<>""),$D$6&", ","")&IF(AND(AO8="PROMEDIAR",E8<>""),$E$6&", ","")&IF(AND(AP8="PROMEDIAR",F8<>""),$F$6&", ","")&IF(AND(AQ8="PROMEDIAR",G8<>""),$G$6&", ","")&" "&IF(AND(AR8="PROMEDIAR",H8<>""),$H$6&", ","")&" "&IF(AND(AS8="PROMEDIAR",I8<>""),$I$6&", ","")&" "&IF(AND(AT8="PROMEDIAR",J8<>""),$J$6&", ","")&" "&IF(AND(AU8="PROMEDIAR",K8<>""),$K$6&", ","")&" "&IF(AND(AV8="PROMEDIAR",L8<>""),$L$6&", ","")&" por encontrarse dentro del promedio requerido por la Corporación"&" y se descarta los valores cotizados por: "&IF(AND(AM8="DESCARTAR",C8<>""),$C$6&", ","")&IF(AND(AN8="DESCARTAR",D8<>""),$D$6&", ","")&IF(AND(AO8="DESCARTAR",E8<>""),$E$6&", ","")&IF(AND(AP8="DESCARTAR",F8<>""),$F$6&", ","")&IF(AND(AQ8="DESCARTAR",G8<>""),$G$6&", ","")&" "&IF(AND(AR8="DESCARTAR",H8<>""),$H$6&", ","")&" "&IF(AND(AS8="PROMEDIAR",I8<>""),$I$6&", ","")&" "&IF(AND(AT8="PROMEDIAR",J8<>""),$J$6&", ","")&" "&IF(AND(AU8="PROMEDIAR",K8<>""),$K$6&", ","")&" "&IF(AND(AV8="PROMEDIAR",L8<>""),$L$6&", ","")&"por ser un dato atípico.") -> Las cotizaciones tenidas en cuenta son las allegadas por las empresas: RFI, 178209_IDACO, RFI_FERRETERIA_(16)_Evento_1782, EVENTO_No._178209_SEP.__24_SEP, 178209_RFI_FERRETERIA, RFI_178209, por encontrarse dentro del promedio requerido por la Corporación y se descarta los valores cotizados por: 178209_-_IDACO_-_region_5_Prese, RFI_178209, por ser un dato atípico. | AB8: =IF(C8<>"",(C8/$M8-1),"") -> 0.53271883 | AC8: =IF(D8<>"",(D8/$M8-1),"") -> 2.566171 | AD8: =IF(E8<>"",(E8/$M8-1),"") -> -0.47321602 | AE8: =IF(F8<>"",(F8/$M8-1),"") -> -0.11175289 | AF8: =IF(G8<>"",(G8/$M8-1),"") -> 0.32416207 | AG8: =IF(H8<>"",(H8/$M8-1),"") -> -0.029839509 | AH8: =IF(I8<>"",(I8/$I8-1),"") -> 0 | AI8: =IF(J8<>"",(J8/$I8-1),"") | AJ8: =IF(K8<>"",(K8/$I8-1),"") | AK8: =IF(L8<>"",(L8/$I8-1),"") | AM8: =IF(C8<>"",IF(C8=0,"SIN COTIZACIÓN",IF(T8="NO APLICA LIMITES","PROMEDIAR",IF(C8<V8,"DESCARTAR",IF(C8>W8,"DESCARTAR","PROMEDIAR")))),"") -> PROMEDIAR | AN8: =IF(D8<>"",IF(D8=0,"SIN COTIZACIÓN",IF($T8="NO APLICA LIMITES","PROMEDIAR",IF(D8<$V8,"DESCARTAR",IF(D8>$W8,"DESCARTAR","PROMEDIAR")))),"") -> DESCARTAR | AO8: =IF(E8<>"",IF(E8=0,"SIN COTIZACIÓN",IF($T8="NO APLICA LIMITES","PROMEDIAR",IF(E8<$V8,"DESCARTAR",IF(E8>$W8,"DESCARTAR","PROMEDIAR")))),"") -> PROMEDIAR | AP8: =IF(F8<>"",IF(F8=0,"SIN COTIZACIÓN",IF($T8="NO APLICA LIMITES","PROMEDIAR",IF(F8<$V8,"DESCARTAR",IF(F8>$W8,"DESCARTAR","PROMEDIAR")))),"") -> PROMEDIAR | AQ8: =IF(G8<>"",IF(G8=0,"SIN COTIZACIÓN",IF($T8="NO APLICA LIMITES","PROMEDIAR",IF(G8<$V8,"DESCARTAR",IF(G8>$W8,"DESCARTAR","PROMEDIAR")))),"") -> PROMEDIAR | AR8: =IF(H8<>"",IF(H8=0,"SIN COTIZACIÓN",IF($T8="NO APLICA LIMITES","PROMEDIAR",IF(H8<$V8,"DESCARTAR",IF(H8>$W8,"DESCARTAR","PROMEDIAR")))),"") -> PROMEDIAR | AS8: =IF(I8<>"",IF(I8=0,"SIN COTIZACIÓN",IF($T8="NO APLICA LIMITES","PROMEDIAR",IF(I8<$V8,"DESCARTAR",IF(I8>$W8,"DESCARTAR","PROMEDIAR")))),"") -> PROMEDIAR | AT8: =IF(J8<>"",IF(J8=0,"SIN COTIZACIÓN",IF($T8="NO APLICA LIMITES","PROMEDIAR",IF(J8<$V8,"DESCARTAR",IF(J8>$W8,"DESCARTAR","PROMEDIAR")))),"") | AU8: =IF(K8<>"",IF(K8=0,"SIN COTIZACIÓN",IF($T8="NO APLICA LIMITES","PROMEDIAR",IF(K8<$V8,"DESCARTAR",IF(K8>$W8,"DESCARTAR","PROMEDIAR")))),"") | AV8: =IF(L8<>"",IF(L8=0,"SIN COTIZACIÓN",IF($T8="NO APLICA LIMITES","PROMEDIAR",IF(L8<$V8,"DESCARTAR",IF(L8>$W8,"DESCARTAR","PROMEDIAR")))),"") | AZ8: ,
A9: =+[55]ESPECIFICACIONES!A4 -> 3 | B9: =+[55]ESPECIFICACIONES!B4 -> REFLECTOR LED CON PANEL SOLAR Y CONTROL REMOTO 300W • Referencia: FLOSUN300 • Tipo de LED: SMD 3030 • Temperatura de trabajo: -20ºC + 40ºC • Potencia: 300W • Temperatura de color (K): 6500K • Flujo luminoso inicial (Lm): 4100Lm • Batería: 3.2V 30AH Lipo4 • Potencia panel monocristalino: 5V/30W • Tiempo de recarga: >4-6H @4.000Lux • Autonomía de operación: >10-12H • Dimerizable: No Dimerizable • Dimensiones (mm): 360.5×300.5×46.5 mm • Dimensión panel (mm): 430×390×17 mm • Grado de protección: IP65 • Garantía: 24 Meses | C9: =+[55]RFI!F4 -> 393333.33 | D9: =+'[55]178209_-_IDACO_-_region_5_Prese'!F6 -> 840168 | E9: =+'[55]178209_IDACO'!F6 -> 540271.49 | F9: =+'[55]RFI_FERRETERIA_(16)_Evento_1782'!F6 -> 547059 | G9: =+'[55]EVENTO_No._178209_SEP.__24_SEP'!F7 -> 1030588.2 | H9: =+'[55]178209_RFI_FERRETERIA'!F6 -> 500000 | I9: =+[55]RFI_178209!F6 -> 618655.46 | M9: =IF(P9<=1,Y9,(ROUND(+Y9,0))) -> 609231 | O9: =ROUND(AVERAGE(C9:L9),0) -> 638582 | P9: =COUNT(C9:L9) -> 7 | Q9: =+STDEVA(C9:L9) -> 220641.55 | R9: =+Q9/O9 -> 0.34551796 | S9: =IF(R9>=$S$5,"COEFICIENTE DE VARIACION MAYOR AL 20%",IF(R9<=$S$5,"COEFICIENTE DE VARIACION MENOR AL 20%")) -> COEFICIENTE DE VARIACION MAYOR AL 20% | T9: =IF(P9<=1,"NO APLICA LIMITES",IF(R9>=$S$5,"SI APLICA LIMITE INFERIOR Y SUPERIOR",IF(R9<=$S$5,"NO APLICA LIMITES"))) -> SI APLICA LIMITE INFERIOR Y SUPERIOR | V9: =O9-Q9 -> 417940.45 | W9: =O9+Q9 -> 859223.55 | Y9: =AVERAGEIFS(C9:L9,AM9:AV9,"promediar") -> 609230.79 | AA9: =IF(T9="NO APLICA LIMITES","Las cotizaciones tenidas en cuenta son las allegadas por las empresas: "&IF(AND(AM9="PROMEDIAR",C9<>""),$C$6&", ","")&IF(AND(AN9="PROMEDIAR",D9<>""),$D$6&", ","")&IF(AND(AO9="PROMEDIAR",E9<>""),$E$6&", ","")&IF(AND(AP9="PROMEDIAR",F9<>""),$F$6&", ","")&IF(AND(AQ9="PROMEDIAR",G9<>""),$G$6&", ","")&" "&IF(AND(AR9="PROMEDIAR",H9<>""),$H$6&", ","")&" "&IF(AND(AS9="PROMEDIAR",I9<>""),$I$6&", ","")&" "&IF(AND(AT9="PROMEDIAR",J9<>""),$J$6&", ","")&" "&IF(AND(AU9="PROMEDIAR",K9<>""),$K$6&", ","")&" "&IF(AND(AV9="PROMEDIAR",L9<>""),$L$6&", ","")&" por encontrarse dentro del promedio requerido por la Corporación","Las cotizaciones tenidas en cuenta son las allegadas por las empresas: "&IF(AND(AM9="PROMEDIAR",C9<>""),$C$6&", ","")&IF(AND(AN9="PROMEDIAR",D9<>""),$D$6&", ","")&IF(AND(AO9="PROMEDIAR",E9<>""),$E$6&", ","")&IF(AND(AP9="PROMEDIAR",F9<>""),$F$6&", ","")&IF(AND(AQ9="PROMEDIAR",G9<>""),$G$6&", ","")&" "&IF(AND(AR9="PROMEDIAR",H9<>""),$H$6&", ","")&" "&IF(AND(AS9="PROMEDIAR",I9<>""),$I$6&", ","")&" "&IF(AND(AT9="PROMEDIAR",J9<>""),$J$6&", ","")&" "&IF(AND(AU9="PROMEDIAR",K9<>""),$K$6&", ","")&" "&IF(AND(AV9="PROMEDIAR",L9<>""),$L$6&", ","")&" por encontrarse dentro del promedio requerido por la Corporación"&" y se descarta los valores cotizados por: "&IF(AND(AM9="DESCARTAR",C9<>""),$C$6&", ","")&IF(AND(AN9="DESCARTAR",D9<>""),$D$6&", ","")&IF(AND(AO9="DESCARTAR",E9<>""),$E$6&", ","")&IF(AND(AP9="DESCARTAR",F9<>""),$F$6&", ","")&IF(AND(AQ9="DESCARTAR",G9<>""),$G$6&", ","")&" "&IF(AND(AR9="DESCARTAR",H9<>""),$H$6&", ","")&" "&IF(AND(AS9="PROMEDIAR",I9<>""),$I$6&", ","")&" "&IF(AND(AT9="PROMEDIAR",J9<>""),$J$6&", ","")&" "&IF(AND(AU9="PROMEDIAR",K9<>""),$K$6&", ","")&" "&IF(AND(AV9="PROMEDIAR",L9<>""),$L$6&", ","")&"por ser un dato atípico.") -> Las cotizaciones tenidas en cuenta son las allegadas por las empresas: 178209_-_IDACO_-_region_5_Prese, 178209_IDACO, RFI_FERRETERIA_(16)_Evento_1782, 178209_RFI_FERRETERIA, RFI_178209, por encontrarse dentro del promedio requerido por la Corporación y se descarta los valores cotizados por: RFI, EVENTO_No._178209_SEP.__24_SEP, RFI_178209, por ser un dato atípico. | AB9: =IF(C9<>"",(C9/$M9-1),"") -> -0.35437735 | AC9: =IF(D9<>"",(D9/$M9-1),"") -> 0.37906311 | AD9: =IF(E9<>"",(E9/$M9-1),"") -> -0.11319107 | AE9: =IF(F9<>"",(F9/$M9-1),"") -> -0.10204996 | AF9: =IF(G9<>"",(G9/$M9-1),"") -> 0.69162146 | AG9: =IF(H9<>"",(H9/$M9-1),"") -> -0.17929324 | AH9: =IF(I9<>"",(I9/$I9-1),"") -> 0 | AI9: =IF(J9<>"",(J9/$I9-1),"") | AJ9: =IF(K9<>"",(K9/$I9-1),"") | AK9: =IF(L9<>"",(L9/$I9-1),"") | AM9: =IF(C9<>"",IF(C9=0,"SIN COTIZACIÓN",IF(T9="NO APLICA LIMITES","PROMEDIAR",IF(C9<V9,"DESCARTAR",IF(C9>W9,"DESCARTAR","PROMEDIAR")))),"") -> DESCARTAR | AN9: =IF(D9<>"",IF(D9=0,"SIN COTIZACIÓN",IF($T9="NO APLICA LIMITES","PROMEDIAR",IF(D9<$V9,"DESCARTAR",IF(D9>$W9,"DESCARTAR","PROMEDIAR")))),"") -> PROMEDIAR | AO9: =IF(E9<>"",IF(E9=0,"SIN COTIZACIÓN",IF($T9="NO APLICA LIMITES","PROMEDIAR",IF(E9<$V9,"DESCARTAR",IF(E9>$W9,"DESCARTAR","PROMEDIAR")))),"") -> PROMEDIAR | AP9: =IF(F9<>"",IF(F9=0,"SIN COTIZACIÓN",IF($T9="NO APLICA LIMITES","PROMEDIAR",IF(F9<$V9,"DESCARTAR",IF(F9>$W9,"DESCARTAR","PROMEDIAR")))),"") -> PROMEDIAR | AQ9: =IF(G9<>"",IF(G9=0,"SIN COTIZACIÓN",IF($T9="NO APLICA LIMITES","PROMEDIAR",IF(G9<$V9,"DESCARTAR",IF(G9>$W9,"DESCARTAR","PROMEDIAR")))),"") -> DESCARTAR | AR9: =IF(H9<>"",IF(H9=0,"SIN COTIZACIÓN",IF($T9="NO APLICA LIMITES","PROMEDIAR",IF(H9<$V9,"DESCARTAR",IF(H9>$W9,"DESCARTAR","PROMEDIAR")))),"") -> PROMEDIAR | AS9: =IF(I9<>"",IF(I9=0,"SIN COTIZACIÓN",IF($T9="NO APLICA LIMITES","PROMEDIAR",IF(I9<$V9,"DESCARTAR",IF(I9>$W9,"DESCARTAR","PROMEDIAR")))),"") -> PROMEDIAR | AT9: =IF(J9<>"",IF(J9=0,"SIN COTIZACIÓN",IF($T9="NO APLICA LIMITES","PROMEDIAR",IF(J9<$V9,"DESCARTAR",IF(J9>$W9,"DESCARTAR","PROMEDIAR")))),"") | AU9: =IF(K9<>"",IF(K9=0,"SIN COTIZACIÓN",IF($T9="NO APLICA LIMITES","PROMEDIAR",IF(K9<$V9,"DESCARTAR",IF(K9>$W9,"DESCARTAR","PROMEDIAR")))),"") | AV9: =IF(L9<>"",IF(L9=0,"SIN COTIZACIÓN",IF($T9="NO APLICA LIMITES","PROMEDIAR",IF(L9<$V9,"DESCARTAR",IF(L9>$W9,"DESCARTAR","PROMEDIAR")))),"")
A10: =+[55]ESPECIFICACIONES!A5 -> 4 | B10: =+[55]ESPECIFICACIONES!B5 -> Guadaña a gasolina, Alto 42 cm, Uso de herramienta Profesional Modelo VS400(W)TU43, Ancho de corte 350 mm, Dimensiones (LxAxAL) 1.806 x 620 x 420 (mm) Términos Garantía 24 meses Mezcla Gasolina / Aceite FD 50:1 Rango Cilindraje/Potencia Entre 39 y 43 cc Cilindraje 42,7 cc Carburador Diafragma WALBRO Motor 2 Tiempos 0.9 litros Largo máximo de corte 180 cm Potencia 2.6 HP Tipo maquinaria jardín Desbrozadora Peso 8 Kg Tipo Guadañas de combustión Rígido | C10: =+[55]RFI!F5 -> 1306666.7 | D10: =+'[55]178209_-_IDACO_-_region_5_Prese'!F7 -> 2588067 | E10: =+'[55]178209_IDACO'!F7 -> 2070071.1 | F10: =+'[55]RFI_FERRETERIA_(16)_Evento_1782'!F7 -> 2509524 | G10: =+'[55]EVENTO_No._178209_SEP.__24_SEP'!F8 -> 3030252.1 | H10: =+'[55]178209_RFI_FERRETERIA'!F7 -> 2270000 | I10: =+[55]RFI_178209!F7 -> 2327747.9 | M10: =IF(P10<=1,Y10,(ROUND(+Y10,0))) -> 2353082 | O10: =ROUND(AVERAGE(C10:L10),0) -> 2300333 | P10: =COUNT(C10:L10) -> 7 | Q10: =+STDEVA(C10:L10) -> 532509.56 | R10: =+Q10/O10 -> 0.23149238 | S10: =IF(R10>=$S$5,"COEFICIENTE DE VARIACION MAYOR AL 20%",IF(R10<=$S$5,"COEFICIENTE DE VARIACION MENOR AL 20%")) -> COEFICIENTE DE VARIACION MAYOR AL 20% | T10: =IF(P10<=1,"NO APLICA LIMITES",IF(R10>=$S$5,"SI APLICA LIMITE INFERIOR Y SUPERIOR",IF(R10<=$S$5,"NO APLICA LIMITES"))) -> SI APLICA LIMITE INFERIOR Y SUPERIOR | V10: =O10-Q10 -> 1767823.4 | W10: =O10+Q10 -> 2832842.6 | Y10: =AVERAGEIFS(C10:L10,AM10:AV10,"promediar") -> 2353082 | AA10: =IF(T10="NO APLICA LIMITES","Las cotizaciones tenidas en cuenta son las allegadas por las empresas: "&IF(AND(AM10="PROMEDIAR",C10<>""),$C$6&", ","")&IF(AND(AN10="PROMEDIAR",D10<>""),$D$6&", ","")&IF(AND(AO10="PROMEDIAR",E10<>""),$E$6&", ","")&IF(AND(AP10="PROMEDIAR",F10<>""),$F$6&", ","")&IF(AND(AQ10="PROMEDIAR",G10<>""),$G$6&", ","")&" "&IF(AND(AR10="PROMEDIAR",H10<>""),$H$6&", ","")&" "&IF(AND(AS10="PROMEDIAR",I10<>""),$I$6&", ","")&" "&IF(AND(AT10="PROMEDIAR",J10<>""),$J$6&", ","")&" "&IF(AND(AU10="PROMEDIAR",K10<>""),$K$6&", ","")&" "&IF(AND(AV10="PROMEDIAR",L10<>""),$L$6&", ","")&" por encontrarse dentro del promedio requerido por la Corporación","Las cotizaciones tenidas en cuenta son las allegadas por las empresas: "&IF(AND(AM10="PROMEDIAR",C10<>""),$C$6&", ","")&IF(AND(AN10="PROMEDIAR",D10<>""),$D$6&", ","")&IF(AND(AO10="PROMEDIAR",E10<>""),$E$6&", ","")&IF(AND(AP10="PROMEDIAR",F10<>""),$F$6&", ","")&IF(AND(AQ10="PROMEDIAR",G10<>""),$G$6&", ","")&" "&IF(AND(AR10="PROMEDIAR",H10<>""),$H$6&", ","")&" "&IF(AND(AS10="PROMEDIAR",I10<>""),$I$6&", ","")&" "&IF(AND(AT10="PROMEDIAR",J10<>""),$J$6&", ","")&" "&IF(AND(AU10="PROMEDIAR",K10<>""),$K$6&", ","")&" "&IF(AND(AV10="PROMEDIAR",L10<>""),$L$6&", ","")&" por encontrarse dentro del promedio requerido por la Corporación"&" y se descarta los valores cotizados por: "&IF(AND(AM10="DESCARTAR",C10<>""),$C$6&", ","")&IF(AND(AN10="DESCARTAR",D10<>""),$D$6&", ","")&IF(AND(AO10="DESCARTAR",E10<>""),$E$6&", ","")&IF(AND(AP10="DESCARTAR",F10<>""),$F$6&", ","")&IF(AND(AQ10="DESCARTAR",G10<>""),$G$6&", ","")&" "&IF(AND(AR10="DESCARTAR",H10<>""),$H$6&", ","")&" "&IF(AND(AS10="PROMEDIAR",I10<>""),$I$6&", ","")&" "&IF(AND(AT10="PROMEDIAR",J10<>""),$J$6&", ","")&" "&IF(AND(AU10="PROMEDIAR",K10<>""),$K$6&", ","")&" "&IF(AND(AV10="PROMEDIAR",L10<>""),$L$6&", ","")&"por ser un dato atípico.") -> Las cotizaciones tenidas en cuenta son las allegadas por las empresas: 178209_-_IDACO_-_region_5_Prese, 178209_IDACO, RFI_FERRETERIA_(16)_Evento_1782, 178209_RFI_FERRETERIA, RFI_178209, por encontrarse dentro del promedio requerido por la Corporación y se descarta los valores cotizados por: RFI, EVENTO_No._178209_SEP.__24_SEP, RFI_178209, por ser un dato atípico. | AB10: =IF(C10<>"",(C10/$M10-1),"") -> -0.4446999 | AC10: =IF(D10<>"",(D10/$M10-1),"") -> 0.099862648 | AD10: =IF(E10<>"",(E10/$M10-1),"") -> -0.12027243 | AE10: =IF(F10<>"",(F10/$M10-1),"") -> 0.066483871 | AF10: =IF(G10<>"",(G10/$M10-1),"") -> 0.28778007 | AG10: =IF(H10<>"",(H10/$M10-1),"") -> -0.035307737 | AH10: =IF(I10<>"",(I10/$I10-1),"") -> 0 | AI10: =IF(J10<>"",(J10/$I10-1),"") | AJ10: =IF(K10<>"",(K10/$I10-1),"") | AK10: =IF(L10<>"",(L10/$I10-1),"") | AM10: =IF(C10<>"",IF(C10=0,"SIN COTIZACIÓN",IF(T10="NO APLICA LIMITES","PROMEDIAR",IF(C10<V10,"DESCARTAR",IF(C10>W10,"DESCARTAR","PROMEDIAR")))),"") -> DESCARTAR | AN10: =IF(D10<>"",IF(D10=0,"SIN COTIZACIÓN",IF($T10="NO APLICA LIMITES","PROMEDIAR",IF(D10<$V10,"DESCARTAR",IF(D10>$W10,"DESCARTAR","PROMEDIAR")))),"") -> PROMEDIAR | AO10: =IF(E10<>"",IF(E10=0,"SIN COTIZACIÓN",IF($T10="NO APLICA LIMITES","PROMEDIAR",IF(E10<$V10,"DESCARTAR",IF(E10>$W10,"DESCARTAR","PROMEDIAR")))),"") -> PROMEDIAR | AP10: =IF(F10<>"",IF(F10=0,"SIN COTIZACIÓN",IF($T10="NO APLICA LIMITES","PROMEDIAR",IF(F10<$V10,"DESCARTAR",IF(F10>$W10,"DESCARTAR","PROMEDIAR")))),"") -> PROMEDIAR | AQ10: =IF(G10<>"",IF(G10=0,"SIN COTIZACIÓN",IF($T10="NO APLICA LIMITES","PROMEDIAR",IF(G10<$V10,"DESCARTAR",IF(G10>$W10,"DESCARTAR","PROMEDIAR")))),"") -> DESCARTAR | AR10: =IF(H10<>"",IF(H10=0,"SIN COTIZACIÓN",IF($T10="NO APLICA LIMITES","PROMEDIAR",IF(H10<$V10,"DESCARTAR",IF(H10>$W10,"DESCARTAR","PROMEDIAR")))),"") -> PROMEDIAR | AS10: =IF(I10<>"",IF(I10=0,"SIN COTIZACIÓN",IF($T10="NO APLICA LIMITES","PROMEDIAR",IF(I10<$V10,"DESCARTAR",IF(I10>$W10,"DESCARTAR","PROMEDIAR")))),"") -> PROMEDIAR | AT10: =IF(J10<>"",IF(J10=0,"SIN COTIZACIÓN",IF($T10="NO APLICA LIMITES","PROMEDIAR",IF(J10<$V10,"DESCARTAR",IF(J10>$W10,"DESCARTAR","PROMEDIAR")))),"") | AU10: =IF(K10<>"",IF(K10=0,"SIN COTIZACIÓN",IF($T10="NO APLICA LIMITES","PROMEDIAR",IF(K10<$V10,"DESCARTAR",IF(K10>$W10,"DESCARTAR","PROMEDIAR")))),"") | AV10: =IF(L10<>"",IF(L10=0,"SIN COTIZACIÓN",IF($T10="NO APLICA LIMITES","PROMEDIAR",IF(L10<$V10,"DESCARTAR",IF(L10>$W10,"DESCARTAR","PROMEDIAR")))),"")
A11: =+[55]ESPECIFICACIONES!A6 -> 5 | B11: =+[55]ESPECIFICACIONES!B6 -> Motosierra a Gasolina- Potencia 3,2 kW-Potencia 4,4PS, Potencia 4,3 bhp Espada 50 cm 325″ RMC Carter Magnesio Motor 2 Tiempos Potencia 3.4 HP / 2.6 kW Cilindrada 50.2 cmᵌ Peso sin conjunto de corte 4.8 kg Longitud de corte 50 cm, 20″ Paso de cadena 0.325 “ Capacidad del depósito de Combustible 0.46 L Capacidad del depósito de Aceite 0.29 L | C11: =+[55]RFI!F6 -> 1893333.3 | D11: =+'[55]178209_-_IDACO_-_region_5_Prese'!F8 -> 4109828 | E11: =+'[55]178209_IDACO'!F8 -> 3396380.1 | F11: =+'[55]RFI_FERRETERIA_(16)_Evento_1782'!F8 -> 3033445 | G11: =+'[55]EVENTO_No._178209_SEP.__24_SEP'!F9 -> 5392437 | H11: =+'[55]178209_RFI_FERRETERIA'!F8 -> 2669285.7 | I11: =+[55]RFI_178209!F8 -> 3084201.7 | M11: =IF(P11<=1,Y11,(ROUND(+Y11,0))) -> 3258628 | O11: =ROUND(AVERAGE(C11:L11),0) -> 3368416 | P11: =COUNT(C11:L11) -> 7 | Q11: =+STDEVA(C11:L11) -> 1118389.5 | R11: =+Q11/O11 -> 0.33202237 | S11: =IF(R11>=$S$5,"COEFICIENTE DE VARIACION MAYOR AL 20%",IF(R11<=$S$5,"COEFICIENTE DE VARIACION MENOR AL 20%")) -> COEFICIENTE DE VARIACION MAYOR AL 20% | T11: =IF(P11<=1,"NO APLICA LIMITES",IF(R11>=$S$5,"SI APLICA LIMITE INFERIOR Y SUPERIOR",IF(R11<=$S$5,"NO APLICA LIMITES"))) -> SI APLICA LIMITE INFERIOR Y SUPERIOR | V11: =O11-Q11 -> 2250026.5 | W11: =O11+Q11 -> 4486805.5 | Y11: =AVERAGEIFS(C11:L11,AM11:AV11,"promediar") -> 3258628.1 | AA11: =IF(T11="NO APLICA LIMITES","Las cotizaciones tenidas en cuenta son las allegadas por las empresas: "&IF(AND(AM11="PROMEDIAR",C11<>""),$C$6&", ","")&IF(AND(AN11="PROMEDIAR",D11<>""),$D$6&", ","")&IF(AND(AO11="PROMEDIAR",E11<>""),$E$6&", ","")&IF(AND(AP11="PROMEDIAR",F11<>""),$F$6&", ","")&IF(AND(AQ11="PROMEDIAR",G11<>""),$G$6&", ","")&" "&IF(AND(AR11="PROMEDIAR",H11<>""),$H$6&", ","")&" "&IF(AND(AS11="PROMEDIAR",I11<>""),$I$6&", ","")&" "&IF(AND(AT11="PROMEDIAR",J11<>""),$J$6&", ","")&" "&IF(AND(AU11="PROMEDIAR",K11<>""),$K$6&", ","")&" "&IF(AND(AV11="PROMEDIAR",L11<>""),$L$6&", ","")&" por encontrarse dentro del promedio requerido por la Corporación","Las cotizaciones tenidas en cuenta son las allegadas por las empresas: "&IF(AND(AM11="PROMEDIAR",C11<>""),$C$6&", ","")&IF(AND(AN11="PROMEDIAR",D11<>""),$D$6&", ","")&IF(AND(AO11="PROMEDIAR",E11<>""),$E$6&", ","")&IF(AND(AP11="PROMEDIAR",F11<>""),$F$6&", ","")&IF(AND(AQ11="PROMEDIAR",G11<>""),$G$6&", ","")&" "&IF(AND(AR11="PROMEDIAR",H11<>""),$H$6&", ","")&" "&IF(AND(AS11="PROMEDIAR",I11<>""),$I$6&", ","")&" "&IF(AND(AT11="PROMEDIAR",J11<>""),$J$6&", ","")&" "&IF(AND(AU11="PROMEDIAR",K11<>""),$K$6&", ","")&" "&IF(AND(AV11="PROMEDIAR",L11<>""),$L$6&", ","")&" por encontrarse dentro del promedio requerido por la Corporación"&" y se descarta los valores cotizados por: "&IF(AND(AM11="DESCARTAR",C11<>""),$C$6&", ","")&IF(AND(AN11="DESCARTAR",D11<>""),$D$6&", ","")&IF(AND(AO11="DESCARTAR",E11<>""),$E$6&", ","")&IF(AND(AP11="DESCARTAR",F11<>""),$F$6&", ","")&IF(AND(AQ11="DESCARTAR",G11<>""),$G$6&", ","")&" "&IF(AND(AR11="DESCARTAR",H11<>""),$H$6&", ","")&" "&IF(AND(AS11="PROMEDIAR",I11<>""),$I$6&", ","")&" "&IF(AND(AT11="PROMEDIAR",J11<>""),$J$6&", ","")&" "&IF(AND(AU11="PROMEDIAR",K11<>""),$K$6&", ","")&" "&IF(AND(AV11="PROMEDIAR",L11<>""),$L$6&", ","")&"por ser un dato atípico.") -> Las cotizaciones tenidas en cuenta son las allegadas por las empresas: 178209_-_IDACO_-_region_5_Prese, 178209_IDACO, RFI_FERRETERIA_(16)_Evento_1782, 178209_RFI_FERRETERIA, RFI_178209, por encontrarse dentro del promedio requerido por la Corporación y se descarta los valores cotizados por: RFI, EVENTO_No._178209_SEP.__24_SEP, RFI_178209, por ser un dato atípico. | AB11: =IF(C11<>"",(C11/$M11-1),"") -> -0.41897838 | AC11: =IF(D11<>"",(D11/$M11-1),"") -> 0.26121423 | AD11: =IF(E11<>"",(E11/$M11-1),"") -> 0.042273033 | AE11: =IF(F11<>"",(F11/$M11-1),"") -> -0.069103623 | AF11: =IF(G11<>"",(G11/$M11-1),"") -> 0.65481822 | AG11: =IF(H11<>"",(H11/$M11-1),"") -> -0.18085596 | AH11: =IF(I11<>"",(I11/$I11-1),"") -> 0 | AI11: =IF(J11<>"",(J11/$I11-1),"") | AJ11: =IF(K11<>"",(K11/$I11-1),"") | AK11: =IF(L11<>"",(L11/$I11-1),"") | AM11: =IF(C11<>"",IF(C11=0,"SIN COTIZACIÓN",IF(T11="NO APLICA LIMITES","PROMEDIAR",IF(C11<V11,"DESCARTAR",IF(C11>W11,"DESCARTAR","PROMEDIAR")))),"") -> DESCARTAR | AN11: =IF(D11<>"",IF(D11=0,"SIN COTIZACIÓN",IF($T11="NO APLICA LIMITES","PROMEDIAR",IF(D11<$V11,"DESCARTAR",IF(D11>$W11,"DESCARTAR","PROMEDIAR")))),"") -> PROMEDIAR | AO11: =IF(E11<>"",IF(E11=0,"SIN COTIZACIÓN",IF($T11="NO APLICA LIMITES","PROMEDIAR",IF(E11<$V11,"DESCARTAR",IF(E11>$W11,"DESCARTAR","PROMEDIAR")))),"") -> PROMEDIAR | AP11: =IF(F11<>"",IF(F11=0,"SIN COTIZACIÓN",IF($T11="NO APLICA LIMITES","PROMEDIAR",IF(F11<$V11,"DESCARTAR",IF(F11>$W11,"DESCARTAR","PROMEDIAR")))),"") -> PROMEDIAR | AQ11: =IF(G11<>"",IF(G11=0,"SIN COTIZACIÓN",IF($T11="NO APLICA LIMITES","PROMEDIAR",IF(G11<$V11,"DESCARTAR",IF(G11>$W11,"DESCARTAR","PROMEDIAR")))),"") -> DESCARTAR | AR11: =IF(H11<>"",IF(H11=0,"SIN COTIZACIÓN",IF($T11="NO APLICA LIMITES","PROMEDIAR",IF(H11<$V11,"DESCARTAR",IF(H11>$W11,"DESCARTAR","PROMEDIAR")))),"") -> PROMEDIAR | AS11: =IF(I11<>"",IF(I11=0,"SIN COTIZACIÓN",IF($T11="NO APLICA LIMITES","PROMEDIAR",IF(I11<$V11,"DESCARTAR",IF(I11>$W11,"DESCARTAR","PROMEDIAR")))),"") -> PROMEDIAR | AT11: =IF(J11<>"",IF(J11=0,"SIN COTIZACIÓN",IF($T11="NO APLICA LIMITES","PROMEDIAR",IF(J11<$V11,"DESCARTAR",IF(J11>$W11,"DESCARTAR","PROMEDIAR")))),"") | AU11: =IF(K11<>"",IF(K11=0,"SIN COTIZACIÓN",IF($T11="NO APLICA LIMITES","PROMEDIAR",IF(K11<$V11,"DESCARTAR",IF(K11>$W11,"DESCARTAR","PROMEDIAR")))),"") | AV11: =IF(L11<>"",IF(L11=0,"SIN COTIZACIÓN",IF($T11="NO APLICA LIMITES","PROMEDIAR",IF(L11<$V11,"DESCARTAR",IF(L11>$W11,"DESCARTAR","PROMEDIAR")))),"")
A12: =+[55]ESPECIFICACIONES!A7 -> 6 | B12: =+[55]ESPECIFICACIONES!B7 -> Kit de Seguridad y protección para guadaña - Casco con visor transparente y malla. - Delantal de cáñamo. - Guantes de poliuretano. - Canilleras de cáñamo. - Arnés. | C12: =+[55]RFI!F7 -> 168066.67 | D12: =+'[55]178209_-_IDACO_-_region_5_Prese'!F9 -> 667400 | E12: =+'[55]178209_IDACO'!F9 -> 320620.56 | F12: =+'[55]RFI_FERRETERIA_(16)_Evento_1782'!F9 -> 377167 | G12: =+'[55]EVENTO_No._178209_SEP.__24_SEP'!F10 -> 478991.6 | H12: =+'[55]178209_RFI_FERRETERIA'!F9 -> 171428.57 | I12: =+[55]RFI_178209!F9 -> 319327.73 | M12: =IF(P12<=1,Y12,(ROUND(+Y12,0))) -> 374027 | O12: =ROUND(AVERAGE(C12:L12),0) -> 357572 | P12: =COUNT(C12:L12) -> 7 | Q12: =+STDEVA(C12:L12) -> 175361.41 | R12: =+Q12/O12 -> 0.49042267 | S12: =IF(R12>=$S$5,"COEFICIENTE DE VARIACION MAYOR AL 20%",IF(R12<=$S$5,"COEFICIENTE DE VARIACION MENOR AL 20%")) -> COEFICIENTE DE VARIACION MAYOR AL 20% | T12: =IF(P12<=1,"NO APLICA LIMITES",IF(R12>=$S$5,"SI APLICA LIMITE INFERIOR Y SUPERIOR",IF(R12<=$S$5,"NO APLICA LIMITES"))) -> SI APLICA LIMITE INFERIOR Y SUPERIOR | V12: =O12-Q12 -> 182210.59 | W12: =O12+Q12 -> 532933.41 | Y12: =AVERAGEIFS(C12:L12,AM12:AV12,"promediar") -> 374026.72 | AA12: =IF(T12="NO APLICA LIMITES","Las cotizaciones tenidas en cuenta son las allegadas por las empresas: "&IF(AND(AM12="PROMEDIAR",C12<>""),$C$6&", ","")&IF(AND(AN12="PROMEDIAR",D12<>""),$D$6&", ","")&IF(AND(AO12="PROMEDIAR",E12<>""),$E$6&", ","")&IF(AND(AP12="PROMEDIAR",F12<>""),$F$6&", ","")&IF(AND(AQ12="PROMEDIAR",G12<>""),$G$6&", ","")&" "&IF(AND(AR12="PROMEDIAR",H12<>""),$H$6&", ","")&" "&IF(AND(AS12="PROMEDIAR",I12<>""),$I$6&", ","")&" "&IF(AND(AT12="PROMEDIAR",J12<>""),$J$6&", ","")&" "&IF(AND(AU12="PROMEDIAR",K12<>""),$K$6&", ","")&" "&IF(AND(AV12="PROMEDIAR",L12<>""),$L$6&", ","")&" por encontrarse dentro del promedio requerido por la Corporación","Las cotizaciones tenidas en cuenta son las allegadas por las empresas: "&IF(AND(AM12="PROMEDIAR",C12<>""),$C$6&", ","")&IF(AND(AN12="PROMEDIAR",D12<>""),$D$6&", ","")&IF(AND(AO12="PROMEDIAR",E12<>""),$E$6&", ","")&IF(AND(AP12="PROMEDIAR",F12<>""),$F$6&", ","")&IF(AND(AQ12="PROMEDIAR",G12<>""),$G$6&", ","")&" "&IF(AND(AR12="PROMEDIAR",H12<>""),$H$6&", ","")&" "&IF(AND(AS12="PROMEDIAR",I12<>""),$I$6&", ","")&" "&IF(AND(AT12="PROMEDIAR",J12<>""),$J$6&", ","")&" "&IF(AND(AU12="PROMEDIAR",K12<>""),$K$6&", ","")&" "&IF(AND(AV12="PROMEDIAR",L12<>""),$L$6&", ","")&" por encontrarse dentro del promedio requerido por la Corporación"&" y se descarta los valores cotizados por: "&IF(AND(AM12="DESCARTAR",C12<>""),$C$6&", ","")&IF(AND(AN12="DESCARTAR",D12<>""),$D$6&", ","")&IF(AND(AO12="DESCARTAR",E12<>""),$E$6&", ","")&IF(AND(AP12="DESCARTAR",F12<>""),$F$6&", ","")&IF(AND(AQ12="DESCARTAR",G12<>""),$G$6&", ","")&" "&IF(AND(AR12="DESCARTAR",H12<>""),$H$6&", ","")&" "&IF(AND(AS12="PROMEDIAR",I12<>""),$I$6&", ","")&" "&IF(AND(AT12="PROMEDIAR",J12<>""),$J$6&", ","")&" "&IF(AND(AU12="PROMEDIAR",K12<>""),$K$6&", ","")&" "&IF(AND(AV12="PROMEDIAR",L12<>""),$L$6&", ","")&"por ser un dato atípico.") -> Las cotizaciones tenidas en cuenta son las allegadas por las empresas: 178209_IDACO, RFI_FERRETERIA_(16)_Evento_1782, EVENTO_No._178209_SEP.__24_SEP, RFI_178209, por encontrarse dentro del promedio requerido por la Corporación y se descarta los valores cotizados por: RFI, 178209_-_IDACO_-_region_5_Prese, 178209_RFI_FERRETERIA, RFI_178209, por ser un dato atípico. | AB12: =IF(C12<>"",(C12/$M12-1),"") -> -0.55065633 | AC12: =IF(D12<>"",(D12/$M12-1),"") -> 0.78436316 | AD12: =IF(E12<>"",(E12/$M12-1),"") -> -0.14278767 | AE12: =IF(F12<>"",(F12/$M12-1),"") -> 0.0083951159 | AF12: =IF(G12<>"",(G12/$M12-1),"") -> 0.28063374 | AG12: =IF(H12<>"",(H12/$M12-1),"") -> -0.54166792 | AH12: =IF(I12<>"",(I12/$I12-1),"") -> 0 | AI12: =IF(J12<>"",(J12/$I12-1),"") | AJ12: =IF(K12<>"",(K12/$I12-1),"") | AK12: =IF(L12<>"",(L12/$I12-1),"") | AM12: =IF(C12<>"",IF(C12=0,"SIN COTIZACIÓN",IF(T12="NO APLICA LIMITES","PROMEDIAR",IF(C12<V12,"DESCARTAR",IF(C12>W12,"DESCARTAR","PROMEDIAR")))),"") -> DESCARTAR | AN12: =IF(D12<>"",IF(D12=0,"SIN COTIZACIÓN",IF($T12="NO APLICA LIMITES","PROMEDIAR",IF(D12<$V12,"DESCARTAR",IF(D12>$W12,"DESCARTAR","PROMEDIAR")))),"") -> DESCARTAR | AO12: =IF(E12<>"",IF(E12=0,"SIN COTIZACIÓN",IF($T12="NO APLICA LIMITES","PROMEDIAR",IF(E12<$V12,"DESCARTAR",IF(E12>$W12,"DESCARTAR","PROMEDIAR")))),"") -> PROMEDIAR | AP12: =IF(F12<>"",IF(F12=0,"SIN COTIZACIÓN",IF($T12="NO APLICA LIMITES","PROMEDIAR",IF(F12<$V12,"DESCARTAR",IF(F12>$W12,"DESCARTAR","PROMEDIAR")))),"") -> PROMEDIAR | AQ12: =IF(G12<>"",IF(G12=0,"SIN COTIZACIÓN",IF($T12="NO APLICA LIMITES","PROMEDIAR",IF(G12<$V12,"DESCARTAR",IF(G12>$W12,"DESCARTAR","PROMEDIAR")))),"") -> PROMEDIAR | AR12: =IF(H12<>"",IF(H12=0,"SIN COTIZACIÓN",IF($T12="NO APLICA LIMITES","PROMEDIAR",IF(H12<$V12,"DESCARTAR",IF(H12>$W12,"DESCARTAR","PROMEDIAR")))),"") -> DESCARTAR | AS12: =IF(I12<>"",IF(I12=0,"SIN COTIZACIÓN",IF($T12="NO APLICA LIMITES","PROMEDIAR",IF(I12<$V12,"DESCARTAR",IF(I12>$W12,"DESCARTAR","PROMEDIAR")))),"") -> PROMEDIAR | AT12: =IF(J12<>"",IF(J12=0,"SIN COTIZACIÓN",IF($T12="NO APLICA LIMITES","PROMEDIAR",IF(J12<$V12,"DESCARTAR",IF(J12>$W12,"DESCARTAR","PROMEDIAR")))),"") | AU12: =IF(K12<>"",IF(K12=0,"SIN COTIZACIÓN",IF($T12="NO APLICA LIMITES","PROMEDIAR",IF(K12<$V12,"DESCARTAR",IF(K12>$W12,"DESCARTAR","PROMEDIAR")))),"") | AV12: =IF(L12<>"",IF(L12=0,"SIN COTIZACIÓN",IF($T12="NO APLICA LIMITES","PROMEDIAR",IF(L12<$V12,"DESCARTAR",IF(L12>$W12,"DESCARTAR","PROMEDIAR")))),"")
A13: =+[55]ESPECIFICACIONES!A8 -> 7 | B13: =+[55]ESPECIFICACIONES!B8 -> Carretilla Capacidad máxima en volumen 200 L Plástica Antipinchazo | C13: =+[55]RFI!F8 -> 233333.33 | D13: =+'[55]178209_-_IDACO_-_region_5_Prese'!F10 -> 1053613 | E13: =+'[55]178209_IDACO'!F10 -> 369618.62 | F13: =+'[55]RFI_FERRETERIA_(16)_Evento_1782'!F10 -> 403782 | G13: =+'[55]EVENTO_No._178209_SEP.__24_SEP'!F11 -> 598739.5 | H13: =+'[55]178209_RFI_FERRETERIA'!F10 -> 335714.29 | I13: =+[55]RFI_178209!F10 -> 363025.21 | M13: =IF(P13<=1,Y13,(ROUND(+Y13,0))) -> 384035 | O13: =ROUND(AVERAGE(C13:L13),0) -> 479689 | P13: =COUNT(C13:L13) -> 7 | Q13: =+STDEVA(C13:L13) -> 275822.83 | R13: =+Q13/O13 -> 0.57500346 | S13: =IF(R13>=$S$5,"COEFICIENTE DE VARIACION MAYOR AL 20%",IF(R13<=$S$5,"COEFICIENTE DE VARIACION MENOR AL 20%")) -> COEFICIENTE DE VARIACION MAYOR AL 20% | T13: =IF(P13<=1,"NO APLICA LIMITES",IF(R13>=$S$5,"SI APLICA LIMITE INFERIOR Y SUPERIOR",IF(R13<=$S$5,"NO APLICA LIMITES"))) -> SI APLICA LIMITE INFERIOR Y SUPERIOR | V13: =O13-Q13 -> 203866.17 | W13: =O13+Q13 -> 755511.83 | Y13: =AVERAGEIFS(C13:L13,AM13:AV13,"promediar") -> 384035.49 | AA13: =IF(T13="NO APLICA LIMITES","Las cotizaciones tenidas en cuenta son las allegadas por las empresas: "&IF(AND(AM13="PROMEDIAR",C13<>""),$C$6&", ","")&IF(AND(AN13="PROMEDIAR",D13<>""),$D$6&", ","")&IF(AND(AO13="PROMEDIAR",E13<>""),$E$6&", ","")&IF(AND(AP13="PROMEDIAR",F13<>""),$F$6&", ","")&IF(AND(AQ13="PROMEDIAR",G13<>""),$G$6&", ","")&" "&IF(AND(AR13="PROMEDIAR",H13<>""),$H$6&", ","")&" "&IF(AND(AS13="PROMEDIAR",I13<>""),$I$6&", ","")&" "&IF(AND(AT13="PROMEDIAR",J13<>""),$J$6&", ","")&" "&IF(AND(AU13="PROMEDIAR",K13<>""),$K$6&", ","")&" "&IF(AND(AV13="PROMEDIAR",L13<>""),$L$6&", ","")&" por encontrarse dentro del promedio requerido por la Corporación","Las cotizaciones tenidas en cuenta son las allegadas por las empresas: "&IF(AND(AM13="PROMEDIAR",C13<>""),$C$6&", ","")&IF(AND(AN13="PROMEDIAR",D13<>""),$D$6&", ","")&IF(AND(AO13="PROMEDIAR",E13<>""),$E$6&", ","")&IF(AND(AP13="PROMEDIAR",F13<>""),$F$6&", ","")&IF(AND(AQ13="PROMEDIAR",G13<>""),$G$6&", ","")&" "&IF(AND(AR13="PROMEDIAR",H13<>""),$H$6&", ","")&" "&IF(AND(AS13="PROMEDIAR",I13<>""),$I$6&", ","")&" "&IF(AND(AT13="PROMEDIAR",J13<>""),$J$6&", ","")&" "&IF(AND(AU13="PROMEDIAR",K13<>""),$K$6&", ","")&" "&IF(AND(AV13="PROMEDIAR",L13<>""),$L$6&", ","")&" por encontrarse dentro del promedio requerido por la Corporación"&" y se descarta los valores cotizados por: "&IF(AND(AM13="DESCARTAR",C13<>""),$C$6&", ","")&IF(AND(AN13="DESCARTAR",D13<>""),$D$6&", ","")&IF(AND(AO13="DESCARTAR",E13<>""),$E$6&", ","")&IF(AND(AP13="DESCARTAR",F13<>""),$F$6&", ","")&IF(AND(AQ13="DESCARTAR",G13<>""),$G$6&", ","")&" "&IF(AND(AR13="DESCARTAR",H13<>""),$H$6&", ","")&" "&IF(AND(AS13="PROMEDIAR",I13<>""),$I$6&", ","")&" "&IF(AND(AT13="PROMEDIAR",J13<>""),$J$6&", ","")&" "&IF(AND(AU13="PROMEDIAR",K13<>""),$K$6&", ","")&" "&IF(AND(AV13="PROMEDIAR",L13<>""),$L$6&", ","")&"por ser un dato atípico.") -> Las cotizaciones tenidas en cuenta son las allegadas por las empresas: RFI, 178209_IDACO, RFI_FERRETERIA_(16)_Evento_1782, EVENTO_No._178209_SEP.__24_SEP, 178209_RFI_FERRETERIA, RFI_178209, por encontrarse dentro del promedio requerido por la Corporación y se descarta los valores cotizados por: 178209_-_IDACO_-_region_5_Prese, RFI_178209, por ser un dato atípico. | AB13: =IF(C13<>"",(C13/$M13-1),"") -> -0.39241649 | AC13: =IF(D13<>"",(D13/$M13-1),"") -> 1.7435338 | AD13: =IF(E13<>"",(E13/$M13-1),"") -> -0.037539243 | AE13: =IF(F13<>"",(F13/$M13-1),"") -> 0.051419792 | AF13: =IF(G13<>"",(G13/$M13-1),"") -> 0.55907533 | AG13: =IF(H13<>"",(H13/$M13-1),"") -> -0.12582373 | AH13: =IF(I13<>"",(I13/$I13-1),"") -> 0 | AI13: =IF(J13<>"",(J13/$I13-1),"") | AJ13: =IF(K13<>"",(K13/$I13-1),"") | AK13: =IF(L13<>"",(L13/$I13-1),"") | AM13: =IF(C13<>"",IF(C13=0,"SIN COTIZACIÓN",IF(T13="NO APLICA LIMITES","PROMEDIAR",IF(C13<V13,"DESCARTAR",IF(C13>W13,"DESCARTAR","PROMEDIAR")))),"") -> PROMEDIAR | AN13: =IF(D13<>"",IF(D13=0,"SIN COTIZACIÓN",IF($T13="NO APLICA LIMITES","PROMEDIAR",IF(D13<$V13,"DESCARTAR",IF(D13>$W13,"DESCARTAR","PROMEDIAR")))),"") -> DESCARTAR | AO13: =IF(E13<>"",IF(E13=0,"SIN COTIZACIÓN",IF($T13="NO APLICA LIMITES","PROMEDIAR",IF(E13<$V13,"DESCARTAR",IF(E13>$W13,"DESCARTAR","PROMEDIAR")))),"") -> PROMEDIAR | AP13: =IF(F13<>"",IF(F13=0,"SIN COTIZACIÓN",IF($T13="NO APLICA LIMITES","PROMEDIAR",IF(F13<$V13,"DESCARTAR",IF(F13>$W13,"DESCARTAR","PROMEDIAR")))),"") -> PROMEDIAR | AQ13: =IF(G13<>"",IF(G13=0,"SIN COTIZACIÓN",IF($T13="NO APLICA LIMITES","PROMEDIAR",IF(G13<$V13,"DESCARTAR",IF(G13>$W13,"DESCARTAR","PROMEDIAR")))),"") -> PROMEDIAR | AR13: =IF(H13<>"",IF(H13=0,"SIN COTIZACIÓN",IF($T13="NO APLICA LIMITES","PROMEDIAR",IF(H13<$V13,"DESCARTAR",IF(H13>$W13,"DESCARTAR","PROMEDIAR")))),"") -> PROMEDIAR | AS13: =IF(I13<>"",IF(I13=0,"SIN COTIZACIÓN",IF($T13="NO APLICA LIMITES","PROMEDIAR",IF(I13<$V13,"DESCARTAR",IF(I13>$W13,"DESCARTAR","PROMEDIAR")))),"") -> PROMEDIAR | AT13: =IF(J13<>"",IF(J13=0,"SIN COTIZACIÓN",IF($T13="NO APLICA LIMITES","PROMEDIAR",IF(J13<$V13,"DESCARTAR",IF(J13>$W13,"DESCARTAR","PROMEDIAR")))),"") | AU13: =IF(K13<>"",IF(K13=0,"SIN COTIZACIÓN",IF($T13="NO APLICA LIMITES","PROMEDIAR",IF(K13<$V13,"DESCARTAR",IF(K13>$W13,"DESCARTAR","PROMEDIAR")))),"") | AV13: =IF(L13<>"",IF(L13=0,"SIN COTIZACIÓN",IF($T13="NO APLICA LIMITES","PROMEDIAR",IF(L13<$V13,"DESCARTAR",IF(L13>$W13,"DESCARTAR","PROMEDIAR")))),"")
A14: =+[55]ESPECIFICACIONES!A9 -> 8 | B14: =+[55]ESPECIFICACIONES!B9 -> Pica En Hierro De 5lbs - Cabo En Madera | C14: =+[55]RFI!F9 -> 54000 | D14: =+'[55]178209_-_IDACO_-_region_5_Prese'!F11 -> 142689 | E14: =+'[55]178209_IDACO'!F11 -> 109760.83 | F14: =+'[55]RFI_FERRETERIA_(16)_Evento_1782'!F11 -> 104825 | G14: =+'[55]EVENTO_No._178209_SEP.__24_SEP'!F12 -> 144000 | H14: =+'[55]178209_RFI_FERRETERIA'!F11 -> 64285.714 | I14: =+[55]RFI_178209!F11 -> 142857.14 | M14: =IF(P14<=1,Y14,(ROUND(+Y14,0))) -> 128826 | O14: =ROUND(AVERAGE(C14:L14),0) -> 108917 | P14: =COUNT(C14:L14) -> 7 | Q14: =+STDEVA(C14:L14) -> 37746.044 | R14: =+Q14/O14 -> 0.34655788 | S14: =IF(R14>=$S$5,"COEFICIENTE DE VARIACION MAYOR AL 20%",IF(R14<=$S$5,"COEFICIENTE DE VARIACION MENOR AL 20%")) -> COEFICIENTE DE VARIACION MAYOR AL 20% | T14: =IF(P14<=1,"NO APLICA LIMITES",IF(R14>=$S$5,"SI APLICA LIMITE INFERIOR Y SUPERIOR",IF(R14<=$S$5,"NO APLICA LIMITES"))) -> SI APLICA LIMITE INFERIOR Y SUPERIOR | V14: =O14-Q14 -> 71170.956 | W14: =O14+Q14 -> 146663.04 | Y14: =AVERAGEIFS(C14:L14,AM14:AV14,"promediar") -> 128826.39 | AA14: =IF(T14="NO APLICA LIMITES","Las cotizaciones tenidas en cuenta son las allegadas por las empresas: "&IF(AND(AM14="PROMEDIAR",C14<>""),$C$6&", ","")&IF(AND(AN14="PROMEDIAR",D14<>""),$D$6&", ","")&IF(AND(AO14="PROMEDIAR",E14<>""),$E$6&", ","")&IF(AND(AP14="PROMEDIAR",F14<>""),$F$6&", ","")&IF(AND(AQ14="PROMEDIAR",G14<>""),$G$6&", ","")&" "&IF(AND(AR14="PROMEDIAR",H14<>""),$H$6&", ","")&" "&IF(AND(AS14="PROMEDIAR",I14<>""),$I$6&", ","")&" "&IF(AND(AT14="PROMEDIAR",J14<>""),$J$6&", ","")&" "&IF(AND(AU14="PROMEDIAR",K14<>""),$K$6&", ","")&" "&IF(AND(AV14="PROMEDIAR",L14<>""),$L$6&", ","")&" por encontrarse dentro del promedio requerido por la Corporación","Las cotizaciones tenidas en cuenta son las allegadas por las empresas: "&IF(AND(AM14="PROMEDIAR",C14<>""),$C$6&", ","")&IF(AND(AN14="PROMEDIAR",D14<>""),$D$6&", ","")&IF(AND(AO14="PROMEDIAR",E14<>""),$E$6&", ","")&IF(AND(AP14="PROMEDIAR",F14<>""),$F$6&", ","")&IF(AND(AQ14="PROMEDIAR",G14<>""),$G$6&", ","")&" "&IF(AND(AR14="PROMEDIAR",H14<>""),$H$6&", ","")&" "&IF(AND(AS14="PROMEDIAR",I14<>""),$I$6&", ","")&" "&IF(AND(AT14="PROMEDIAR",J14<>""),$J$6&", ","")&" "&IF(AND(AU14="PROMEDIAR",K14<>""),$K$6&", ","")&" "&IF(AND(AV14="PROMEDIAR",L14<>""),$L$6&", ","")&" por encontrarse dentro del promedio requerido por la Corporación"&" y se descarta los valores cotizados por: "&IF(AND(AM14="DESCARTAR",C14<>""),$C$6&", ","")&IF(AND(AN14="DESCARTAR",D14<>""),$D$6&", ","")&IF(AND(AO14="DESCARTAR",E14<>""),$E$6&", ","")&IF(AND(AP14="DESCARTAR",F14<>""),$F$6&", ","")&IF(AND(AQ14="DESCARTAR",G14<>""),$G$6&", ","")&" "&IF(AND(AR14="DESCARTAR",H14<>""),$H$6&", ","")&" "&IF(AND(AS14="PROMEDIAR",I14<>""),$I$6&", ","")&" "&IF(AND(AT14="PROMEDIAR",J14<>""),$J$6&", ","")&" "&IF(AND(AU14="PROMEDIAR",K14<>""),$K$6&", ","")&" "&IF(AND(AV14="PROMEDIAR",L14<>""),$L$6&", ","")&"por ser un dato atípico.") -> Las cotizaciones tenidas en cuenta son las allegadas por las empresas: 178209_-_IDACO_-_region_5_Prese, 178209_IDACO, RFI_FERRETERIA_(16)_Evento_1782, EVENTO_No._178209_SEP.__24_SEP, RFI_178209, por encontrarse dentro del promedio requerido por la Corporación y se descarta los valores cotizados por: RFI, 178209_RFI_FERRETERIA, RFI_178209, por ser un dato atípico. | AB14: =IF(C14<>"",(C14/$M14-1),"") -> -0.58082996 | AC14: =IF(D14<>"",(D14/$M14-1),"") -> 0.10761027 | AD14: =IF(E14<>"",(E14/$M14-1),"") -> -0.14799165 | AE14: =IF(F14<>"",(F14/$M14-1),"") -> -0.18630556 | AF14: =IF(G14<>"",(G14/$M14-1),"") -> 0.11778678 | AG14: =IF(H14<>"",(H14/$M14-1),"") -> -0.50098804 | AH14: =IF(I14<>"",(I14/$I14-1),"") -> 0 | AI14: =IF(J14<>"",(J14/$I14-1),"") | AJ14: =IF(K14<>"",(K14/$I14-1),"") | AK14: =IF(L14<>"",(L14/$I14-1),"") | AM14: =IF(C14<>"",IF(C14=0,"SIN COTIZACIÓN",IF(T14="NO APLICA LIMITES","PROMEDIAR",IF(C14<V14,"DESCARTAR",IF(C14>W14,"DESCARTAR","PROMEDIAR")))),"") -> DESCARTAR | AN14: =IF(D14<>"",IF(D14=0,"SIN COTIZACIÓN",IF($T14="NO APLICA LIMITES","PROMEDIAR",IF(D14<$V14,"DESCARTAR",IF(D14>$W14,"DESCARTAR","PROMEDIAR")))),"") -> PROMEDIAR | AO14: =IF(E14<>"",IF(E14=0,"SIN COTIZACIÓN",IF($T14="NO APLICA LIMITES","PROMEDIAR",IF(E14<$V14,"DESCARTAR",IF(E14>$W14,"DESCARTAR","PROMEDIAR")))),"") -> PROMEDIAR | AP14: =IF(F14<>"",IF(F14=0,"SIN COTIZACIÓN",IF($T14="NO APLICA LIMITES","PROMEDIAR",IF(F14<$V14,"DESCARTAR",IF(F14>$W14,"DESCARTAR","PROMEDIAR")))),"") -> PROMEDIAR | AQ14: =IF(G14<>"",IF(G14=0,"SIN COTIZACIÓN",IF($T14="NO APLICA LIMITES","PROMEDIAR",IF(G14<$V14,"DESCARTAR",IF(G14>$W14,"DESCARTAR","PROMEDIAR")))),"") -> PROMEDIAR | AR14: =IF(H14<>"",IF(H14=0,"SIN COTIZACIÓN",IF($T14="NO APLICA LIMITES","PROMEDIAR",IF(H14<$V14,"DESCARTAR",IF(H14>$W14,"DESCARTAR","PROMEDIAR")))),"") -> DESCARTAR | AS14: =IF(I14<>"",IF(I14=0,"SIN COTIZACIÓN",IF($T14="NO APLICA LIMITES","PROMEDIAR",IF(I14<$V14,"DESCARTAR",IF(I14>$W14,"DESCARTAR","PROMEDIAR")))),"") -> PROMEDIAR | AT14: =IF(J14<>"",IF(J14=0,"SIN COTIZACIÓN",IF($T14="NO APLICA LIMITES","PROMEDIAR",IF(J14<$V14,"DESCARTAR",IF(J14>$W14,"DESCARTAR","PROMEDIAR")))),"") | AU14: =IF(K14<>"",IF(K14=0,"SIN COTIZACIÓN",IF($T14="NO APLICA LIMITES","PROMEDIAR",IF(K14<$V14,"DESCARTAR",IF(K14>$W14,"DESCARTAR","PROMEDIAR")))),"") | AV14: =IF(L14<>"",IF(L14=0,"SIN COTIZACIÓN",IF($T14="NO APLICA LIMITES","PROMEDIAR",IF(L14<$V14,"DESCARTAR",IF(L14>$W14,"DESCARTAR","PROMEDIAR")))),"")
A15: =+[55]ESPECIFICACIONES!A10 -> 9 | B15: =+[55]ESPECIFICACIONES!B10 -> Palas Con Cabo de Madera | C15: =+[55]RFI!F10 -> 70000 | D15: =+'[55]178209_-_IDACO_-_region_5_Prese'!F12 -> 129244 | E15: =+'[55]178209_IDACO'!F12 -> 99418.229 | F15: =+'[55]RFI_FERRETERIA_(16)_Evento_1782'!F12 -> 113520 | G15: =+'[55]EVENTO_No._178209_SEP.__24_SEP'!F13 -> 193865.55 | H15: =+'[55]178209_RFI_FERRETERIA'!F12 -> 13571.429 | I15: =+[55]RFI_178209!F12 -> 161764.71 | M15: =IF(P15<=1,Y15,(ROUND(+Y15,0))) -> 114789 | O15: =ROUND(AVERAGE(C15:L15),0) -> 111626 | P15: =COUNT(C15:L15) -> 7 | Q15: =+STDEVA(C15:L15) -> 59284.155 | R15: =+Q15/O15 -> 0.5310963 | S15: =IF(R15>=$S$5,"COEFICIENTE DE VARIACION MAYOR AL 20%",IF(R15<=$S$5,"COEFICIENTE DE VARIACION MENOR AL 20%")) -> COEFICIENTE DE VARIACION MAYOR AL 20% | T15: =IF(P15<=1,"NO APLICA LIMITES",IF(R15>=$S$5,"SI APLICA LIMITE INFERIOR Y SUPERIOR",IF(R15<=$S$5,"NO APLICA LIMITES"))) -> SI APLICA LIMITE INFERIOR Y SUPERIOR | V15: =O15-Q15 -> 52341.845 | W15: =O15+Q15 -> 170910.16 | Y15: =AVERAGEIFS(C15:L15,AM15:AV15,"promediar") -> 114789.39 | AA15: =IF(T15="NO APLICA LIMITES","Las cotizaciones tenidas en cuenta son las allegadas por las empresas: "&IF(AND(AM15="PROMEDIAR",C15<>""),$C$6&", ","")&IF(AND(AN15="PROMEDIAR",D15<>""),$D$6&", ","")&IF(AND(AO15="PROMEDIAR",E15<>""),$E$6&", ","")&IF(AND(AP15="PROMEDIAR",F15<>""),$F$6&", ","")&IF(AND(AQ15="PROMEDIAR",G15<>""),$G$6&", ","")&" "&IF(AND(AR15="PROMEDIAR",H15<>""),$H$6&", ","")&" "&IF(AND(AS15="PROMEDIAR",I15<>""),$I$6&", ","")&" "&IF(AND(AT15="PROMEDIAR",J15<>""),$J$6&", ","")&" "&IF(AND(AU15="PROMEDIAR",K15<>""),$K$6&", ","")&" "&IF(AND(AV15="PROMEDIAR",L15<>""),$L$6&", ","")&" por encontrarse dentro del promedio requerido por la Corporación","Las cotizaciones tenidas en cuenta son las allegadas por las empresas: "&IF(AND(AM15="PROMEDIAR",C15<>""),$C$6&", ","")&IF(AND(AN15="PROMEDIAR",D15<>""),$D$6&", ","")&IF(AND(AO15="PROMEDIAR",E15<>""),$E$6&", ","")&IF(AND(AP15="PROMEDIAR",F15<>""),$F$6&", ","")&IF(AND(AQ15="PROMEDIAR",G15<>""),$G$6&", ","")&" "&IF(AND(AR15="PROMEDIAR",H15<>""),$H$6&", ","")&" "&IF(AND(AS15="PROMEDIAR",I15<>""),$I$6&", ","")&" "&IF(AND(AT15="PROMEDIAR",J15<>""),$J$6&", ","")&" "&IF(AND(AU15="PROMEDIAR",K15<>""),$K$6&", ","")&" "&IF(AND(AV15="PROMEDIAR",L15<>""),$L$6&", ","")&" por encontrarse dentro del promedio requerido por la Corporación"&" y se descarta los valores cotizados por: "&IF(AND(AM15="DESCARTAR",C15<>""),$C$6&", ","")&IF(AND(AN15="DESCARTAR",D15<>""),$D$6&", ","")&IF(AND(AO15="DESCARTAR",E15<>""),$E$6&", ","")&IF(AND(AP15="DESCARTAR",F15<>""),$F$6&", ","")&IF(AND(AQ15="DESCARTAR",G15<>""),$G$6&", ","")&" "&IF(AND(AR15="DESCARTAR",H15<>""),$H$6&", ","")&" "&IF(AND(AS15="PROMEDIAR",I15<>""),$I$6&", ","")&" "&IF(AND(AT15="PROMEDIAR",J15<>""),$J$6&", ","")&" "&IF(AND(AU15="PROMEDIAR",K15<>""),$K$6&", ","")&" "&IF(AND(AV15="PROMEDIAR",L15<>""),$L$6&", ","")&"por ser un dato atípico.") -> Las cotizaciones tenidas en cuenta son las allegadas por las empresas: RFI, 178209_-_IDACO_-_region_5_Prese, 178209_IDACO, RFI_FERRETERIA_(16)_Evento_1782, RFI_178209, por encontrarse dentro del promedio requerido por la Corporación y se descarta los valores cotizados por: EVENTO_No._178209_SEP.__24_SEP, 178209_RFI_FERRETERIA, RFI_178209, por ser un dato atípico. | AB15: =IF(C15<>"",(C15/$M15-1),"") -> -0.39018547 | AC15: =IF(D15<>"",(D15/$M15-1),"") -> 0.1259267 | AD15: =IF(E15<>"",(E15/$M15-1),"") -> -0.13390457 | AE15: =IF(F15<>"",(F15/$M15-1),"") -> -0.011055066 | AF15: =IF(G15<>"",(G15/$M15-1),"") -> 0.6888861 | AG15: =IF(H15<>"",(H15/$M15-1),"") -> -0.88177065 | AH15: =IF(I15<>"",(I15/$I15-1),"") -> 0 | AI15: =IF(J15<>"",(J15/$I15-1),"") | AJ15: =IF(K15<>"",(K15/$I15-1),"") | AK15: =IF(L15<>"",(L15/$I15-1),"") | AM15: =IF(C15<>"",IF(C15=0,"SIN COTIZACIÓN",IF(T15="NO APLICA LIMITES","PROMEDIAR",IF(C15<V15,"DESCARTAR",IF(C15>W15,"DESCARTAR","PROMEDIAR")))),"") -> PROMEDIAR | AN15: =IF(D15<>"",IF(D15=0,"SIN COTIZACIÓN",IF($T15="NO APLICA LIMITES","PROMEDIAR",IF(D15<$V15,"DESCARTAR",IF(D15>$W15,"DESCARTAR","PROMEDIAR")))),"") -> PROMEDIAR | AO15: =IF(E15<>"",IF(E15=0,"SIN COTIZACIÓN",IF($T15="NO APLICA LIMITES","PROMEDIAR",IF(E15<$V15,"DESCARTAR",IF(E15>$W15,"DESCARTAR","PROMEDIAR")))),"") -> PROMEDIAR | AP15: =IF(F15<>"",IF(F15=0,"SIN COTIZACIÓN",IF($T15="NO APLICA LIMITES","PROMEDIAR",IF(F15<$V15,"DESCARTAR",IF(F15>$W15,"DESCARTAR","PROMEDIAR")))),"") -> PROMEDIAR | AQ15: =IF(G15<>"",IF(G15=0,"SIN COTIZACIÓN",IF($T15="NO APLICA LIMITES","PROMEDIAR",IF(G15<$V15,"DESCARTAR",IF(G15>$W15,"DESCARTAR","PROMEDIAR")))),"") -> DESCARTAR | AR15: =IF(H15<>"",IF(H15=0,"SIN COTIZACIÓN",IF($T15="NO APLICA LIMITES","PROMEDIAR",IF(H15<$V15,"DESCARTAR",IF(H15>$W15,"DESCARTAR","PROMEDIAR")))),"") -> DESCARTAR | AS15: =IF(I15<>"",IF(I15=0,"SIN COTIZACIÓN",IF($T15="NO APLICA LIMITES","PROMEDIAR",IF(I15<$V15,"DESCARTAR",IF(I15>$W15,"DESCARTAR","PROMEDIAR")))),"") -> PROMEDIAR | AT15: =IF(J15<>"",IF(J15=0,"SIN COTIZACIÓN",IF($T15="NO APLICA LIMITES","PROMEDIAR",IF(J15<$V15,"DESCARTAR",IF(J15>$W15,"DESCARTAR","PROMEDIAR")))),"") | AU15: =IF(K15<>"",IF(K15=0,"SIN COTIZACIÓN",IF($T15="NO APLICA LIMITES","PROMEDIAR",IF(K15<$V15,"DESCARTAR",IF(K15>$W15,"DESCARTAR","PROMEDIAR")))),"") | AV15: =IF(L15<>"",IF(L15=0,"SIN COTIZACIÓN",IF($T15="NO APLICA LIMITES","PROMEDIAR",IF(L15<$V15,"DESCARTAR",IF(L15>$W15,"DESCARTAR","PROMEDIAR")))),"")
