Workbook
Name _____PJ50: #REF!
Name _____PJ50: #REF!
Name _____PJ50: #REF!
Name _____PJ50: #REF!
Name _____PJ50: #REF!
Name _____PJ50: #REF!
Name _____PJ50: #REF!
Name _____pj51: #REF!
Name _____pj51: #REF!
Name _____pj51: #REF!
Name _____pj51: #REF!
Name _____pj51: #REF!
Name _____pj51: #REF!
Name _____pj51: #REF!
Name ____PJ50: #REF!
Name ____PJ50: #REF!
Name ____PJ50: #REF!
Name ____PJ50: #REF!
Name ____PJ50: #REF!
Name ____PJ50: #REF!
Name ____PJ50: #REF!
Name ____pj51: #REF!
Name ____pj51: #REF!
Name ____pj51: #REF!
Name ____pj51: #REF!
Name ____pj51: #REF!
Name ____pj51: #REF!
Name ____pj51: #REF!
Name ___PJ50: #REF!
Name ___PJ50: #REF!
Name ___PJ50: #REF!
Name ___PJ50: #REF!
Name ___PJ50: #REF!
Name ___PJ50: #REF!
Name ___PJ50: #REF!
Name ___pj51: #REF!
Name ___pj51: #REF!
Name ___pj51: #REF!
Name ___pj51: #REF!
Name ___pj51: #REF!
Name ___pj51: #REF!
Name ___pj51: #REF!
Name __222: #REF!
Name __222: #REF!
Name __222: #REF!
Name __222: #REF!
Name __222: #REF!
Name __222: #REF!
Name __PJ50: #REF!
Name __PJ50: #REF!
Name __PJ50: #REF!
Name __PJ50: #REF!
Name __PJ50: #REF!
Name __PJ50: #REF!
Name __PJ50: #REF!
Name __pj51: #REF!
Name __pj51: #REF!
Name __pj51: #REF!
Name __pj51: #REF!
Name __pj51: #REF!

Sheet F_PRESTACIONES SOCIALES 
A3: (Personal por encima de 2 SMMLV) | J3: (Personal por debajo de 2 SMMLV)
B4: CONCEPTO | G4: PORCENTAJE | K4: CONCEPTO | P4: PORCENTAJE
A5: 1. | B5: Salarios y Prestaciones Sociales de Personal Facturable | J5: 1. | K5: Salarios y Prestaciones Sociales de Personal Facturable
A7: 1.1 | B7: Salarios | G7: 1 | J7: 1.1 | K7: Salarios | P7: 1
A8: 1.2 | B8: Prima anual (legal) | G8: =1/12 -> 0.083333333 | J8: 1.2 | K8: Prima anual (legal) | P8: =1/12 -> 0.083333333
A9: 1.3 | B9: Cesantía | G9: =1/12 -> 0.083333333 | J9: 1.3 | K9: Cesantía | P9: =1/12 -> 0.083333333
A10: 1.4 | B10: Intereses de cesantía | G10: 0.01 | J10: 1.4 | K10: Intereses de cesantía | P10: 0.01
A11: 1.5 | B11: Vacaciones | G11: =+G9/2 -> 0.041666667 | J11: 1.5 | K11: Vacaciones | P11: =+P9/2 -> 0.041666667
A12: 1.6 | B12: Seguridad Social - salud | G12: 0.085 | J12: 1.6 | K12: Seguridad Social - salud | P12: 0.085
A13: 1.7 | B13: Seguridad Social - pensión | G13: 0.12 | J13: 1.7 | K13: Seguridad Social - pensión | P13: 0.12
A14: 1.8 | B14: Caja de Compensación Familiar | G14: 0.04 | J14: 1.8 | K14: Caja de Compensación Familiar | P14: 0.04
A15: 1.9 | B15: Riesgos Profesionales (ARL) | G15: 0.0696 | J15: 1.9 | K15: Riesgos Profesionales (ARL) | P15: 0.0696
A16: 1.1 | B16: Transporte | G16: 0 | J16: 1.1 | K16: Transporte | P16: 0.1172
A17: 1.11 | B17: Otros (Auxilios varios, prestaciones extralegales, Incapacidades no cubiertas) | G17: 0.04 | J17: 1.11 | K17: Otros (Auxilios varios, prestaciones extralegales, Incapacidades no cubiertas) | P17: 0.04
D18: TOTAL FACTOR PRESTACIONAL | G18: =SUM(G7:G17) -> 1.5729333 | M18: TOTAL FACTOR PRESTACIONAL | P18: =SUM(P7:P17)/100 -> 0.016901333
A20: 2. | B20: Gastos Generales | J20: 2. | K20: Gastos Generales
A21: 2.1 | B21: Servicios públicos, servicios de aseo y cafetería | G21: 0.06 | J21: 2.1 | K21: Servicios públicos, servicios de aseo y cafetería, incluye mantenimiento | P21: 0.06
A22: 2.2 | B22: Personal Administrativo no facturado | G22: 0.02 | J22: 2.2 | K22: Personal Administrativo no facturado | P22: 0.02 | Q22: Incluye entre otros personal para la ejecución de tareas adminstrativas como pagos, correspondencia, trámites, aseo, etc
A23: 2.3 | B23: Personal Profesional y Técnico no facturado | G23: 0.02 | J23: 2.3 | K23: Personal Profesional y Técnico no facturado | P23: 0.02 | Q23: Incluye entre otros Ingeniero de apoyo, dibujantes
G24: =SUM(G21:G23) -> 0.1 | P24: =SUM(P21:P23) -> 0.1
A30: Fórmulas para liquidar prestaciones sociales:
A31: 1. Prima de servicios: (Salario mensual * Días trabajados en el semestre)/360.
A32: 2. Cesantías: (Salario mensual * Días trabajados)/360.
A33: 3. Intereses sobre cesantías: (Cesantías * Días trabajados * 0,12)/360.
A34: 4. Vacaciones: (Salario mensual básico * Días trabajados)/720.

Sheet SUPUESTOSMACROECONOM
B1: SUPUESTOS MACROECONÓMICOS 2020 - 2031
C3: 2020 | D3: 2021 | E3: 2022 | F3: 2023 | G3: 2024 | H3: 2025 | I3: 2026 | J3: 2027 | K3: 2028 | L3: 2029 | M3: 2030 | N3: 2031
B4: Inflación doméstica (fin de período) | C4: 2.4 | D4: 3 | E4: 3 | F4: 3 | G4: 3 | H4: 3 | I4: 3 | J4: 3 | K4: 3 | L4: 3 | M4: 3 | N4: 3
B5: PIB Nación (Var real %) | C5: -5.5 | D5: 6.6 | E5: 5.5 | F5: 5 | G5: 4.6 | H5: 4.2 | I5: 3.9 | J5: 3.6 | K5: 3.4 | L5: 3.3 | M5: 3.3 | N5: 3.3
B6: PIB Bogotá (Var real %)*
B7: Tasa de cambio (Promedio de Período) | C7: 3959.875 | D7: 3747.4469 | E7: 3811.1535 | F7: 3875.9432 | G7: 3950 | H7: 4025 | I7: 4101 | J7: 4179 | K7: 4258 | L7: 4339 | M7: 4422 | N7: 4506
B8: Fuente: Supuestos macroeconómicos del Ministerio de Hacienda y Crédito Público - MFMP 2020 ( Julio de 2020). * El PIB de Bogotá se presentará con la publicación del MFMP 2020, Proyecto de presupuesto 2021
B11: SUPUESTOS MACROECONÓMICOS 2018 - 2030
C13: 2018 | D13: 2019 | E13: 2020 | F13: 2021 | G13: 2022 | H13: 2023 | I13: 2024 | J13: 2025 | K13: 2026 | L13: 2027 | M13: 2028 | N13: 2029 | O13: 2030
B14: Inflación doméstica (fin de período) | C14: 3.18 | D14: 3.7048837 | E14: 3.3306977 | F14: 3.1 | G14: 3.1 | H14: 3.1 | I14: 3 | J14: 3 | K14: 3 | L14: 3 | M14: 3 | N14: 3 | O14: 3
B15: PIB Nación (Var real %) | C15: 2.569221 | D15: 3.09 | E15: 3.2 | F15: 3.3 | G15: 3.4 | H15: 3.5 | I15: 3.5 | J15: 3.5 | K15: 3.5 | L15: 3.5 | M15: 3.5 | N15: 3.5 | O15: 3.5
B16: PIB Bogotá (Var real %) | C16: 2.9631151 | D16: 3.2829809 | E16: 3.4997639 | F16: 3.7581515 | G16: 4.0208674 | H16: 4.0752187 | I16: 3.9969998 | J16: 3.9042908 | K16: 3.8078081 | L16: 3.8229845 | M16: 3.6868977 | N16: 3.5960875 | O16: 3.5911501
B17: Tasa de cambio (Promedio de Período) | C17: 2958 | D17: 3203 | E17: 3215 | F17: 3209 | G17: 3215 | H17: 3221 | I17: 3273.8244 | J17: 3327.5151 | K17: 3382.0864 | L17: 3437.5526 | M17: 3493.9284 | N17: 3551.2289 | O17: 3609.469
B18: Fuente: Supuestos macroeconómicos del Ministerio de Hacienda y Crédito Público ( Junio de 2019), LatinFocus consensus Forcast. El PIB Bogotá corresponde a las cifras publicadas por el DANE en las Cuentas departamentales ( 2018) y a estimaciones de la DEEF-SDH - (2019-2020). Versión: Agosto 2019
B21: AÑO | C21: 2018 | D21: 2019 | E21: 2020 | F21: 2021 | G21: 2022 | H21: 2023 | I21: 2024 | J21: 2025 | K21: 2026 | L21: 2027 | M21: 2028 | N21: 2029 | O21: 2030 | P21: 2031
B22: 44013 | E22: 3959.875 | F22: 3747.4469 | G22: 3811.1535 | H22: 3875.9432 | I22: 3950 | J22: 4025 | K22: 4101 | L22: 4179 | M22: 4258 | N22: 4339 | O22: 4422 | P22: 4506
B23: 43617 | C23: 2958 | D23: 3203 | E23: 3215 | F23: 3209 | G23: 3215 | H23: 3221 | I23: 3273.8244 | J23: 3327.5151 | K23: 3382.0864 | L23: 3437.5526 | M23: 3493.9284 | N23: 3551.2289 | O23: 3609.469
F24: =+F22-F23 -> 538.44695 | G24: =+G22-G23 -> 596.15355 | H24: =+H22-H23 -> 654.94316 | I24: =+I22-I23 -> 676.1756 | J24: =+J22-J23 -> 697.48488 | K24: =+K22-K23 -> 718.91363 | L24: =+L22-L23 -> 741.44742 | M24: =+M22-M23 -> 764.07155 | ... O24: =+O22-O23 -> 812.53097
F25: =+F22/E22-1 -> -0.053645141 | G25: =+G22/F22-1 -> 0.017 | H25: =+H22/G22-1 -> 0.017 | I25: =+I22/H22-1 -> 0.019106793 | J25: =+J22/I22-1 -> 0.018987342 | K25: =+K22/J22-1 -> 0.018881988 | L25: =+L22/K22-1 -> 0.019019751 | M25: =+M22/L22-1 -> 0.018904044 | ... P25: =+P22/O22-1 -> 0.018995929
D26: =+D23/C23-1 -> 0.082826234 | E26: =+E23/D23-1 -> 0.0037464877 | F26: =+F23/E23-1 -> -0.0018662519 | G26: =+G23/F23-1 -> 0.0018697414 | H26: =+H23/G23-1 -> 0.0018662519 | I26: =+I23/H23-1 -> 0.0164 | J26: =+J23/I23-1 -> 0.0164 | K26: =+K23/J23-1 -> 0.0164 | ... P26: =+P23/O23-1 -> -1

Sheet IDU_2024_INSUMOS
B2: Origen | C2: Grupo de base de datos | D2: Código | E2: Nombre | F2: UM | G2: Precio | H2: Fecha de Actualización
B3: Demanda | C3: CONCRETOS Y MORTEROS PREMEZCLADOS | D3: 322 | E3: CONCRETO GRAVA COMÚN 2000 PSI 14 MPa (140 Kg/m2) | F3: M3 | G3: 529550 | H3: Actualización 2024-I - Fase I
B4: Demanda | C4: CONCRETOS Y MORTEROS PREMEZCLADOS | D4: 323 | E4: CONCRETO GRAVA COMÚN 2500 PSI 17 MPa (175 Kg/cm2) | F4: M3 | G4: 545437 | H4: Actualización 2024-I - Fase I
B5: Demanda | C5: CONCRETOS Y MORTEROS PREMEZCLADOS | D5: 324 | E5: CONCRETO GRAVA COMÚN 3000 PSI 21 MPa (210 Kg/cm2) | F5: M3 | G5: 559205 | H5: Actualización 2024-I - Fase I
B6: Demanda | C6: CONCRETOS Y MORTEROS PREMEZCLADOS | D6: 325 | E6: CONCRETO GRAVA COMÚN 3500 PSI 24 MPa (245 Kg/cm2) | F6: M3 | G6: 576150 | H6: Actualización 2024-I - Fase I
B7: Demanda | C7: CONCRETOS Y MORTEROS PREMEZCLADOS | D7: 326 | E7: CONCRETO GRAVA COMÚN 4000 PSI 27 MPa (280 Kg/cm2) | F7: M3 | G7: 593096 | H7: Actualización 2024-I - Fase I
B8: Demanda | C8: CONCRETOS Y MORTEROS PREMEZCLADOS | D8: 328 | E8: CONCRETO GRAVA COMÚN 5000 PSI 34 MPa (350 Kg/cm2) | F8: M3 | G8: 637049 | H8: Actualización 2024-I - Fase I
B9: Demanda | C9: CONCRETOS Y MORTEROS PREMEZCLADOS | D9: 333 | E9: CONCRETO GRAVA FINA 3000 PSI 21 MPa (210 Kg/cm2) | F9: M3 | G9: 572973 | H9: Actualización 2024-I - Fase I
B10: Demanda | C10: CONCRETOS Y MORTEROS PREMEZCLADOS | D10: 366 | E10: MORTERO 2000 PSI 14 MPa (140 Kg/cm2) | F10: M3 | G10: 555767 | H10: Actualización 2024-I - Fase I
B11: Demanda | C11: EQUIPO PESADO | D11: 1505 | E11: COMPACTADOR DE LLANTAS - MASA SIN LASTRES DE 9 A 11 TONELADAS - INCLUYE OPERARIO Y COMBUSTIBLE | F11: HR | G11: 182521 | H11: Actualización 2024-I - Fase I
B12: Demanda | C12: ARBOLES-GRAMAS-VEGETACIÓN Y PLANTACIÓN PAISAJÍSTIC | D12: 1512 | E12: GRAMA | F12: M2 | G12: 8500 | H12: Actualización 2023-I - Fase II + M.O. ley 2101 de 2021
B13: Demanda | C13: FORMALETAS, ENTIBADOS, ANDAMIOS Y ACCESORIOS | D13: 1515 | E13: FORMALETA METÁLICA SARDINEL | F13: ML/DI | G13: 1071 | H13: Actualización 2023-I - Fase II + M.O. ley 2101 de 2021
B14: Demanda | C14: MALLAS Y ACEROS PARA REFUERZO | D14: 1794 | E14: ALAMBRE RECOCIDO No.18 | F14: KG | G14: 5501 | H14: Actualización 2024-I - Fase I
... B2835: Demanda | C2835: ELEMENTOS DE SEÑALIZACION TRANSMILENIO | D2835: 13415 | E2835: SUMINISTRO E INSTALACION DE PORTA MAPAS INFORMATIVO PARA ESTACION (205X168CM APROX). SEGUN CARTILLA DE SEÑALETICA TRANSMILENIO 2023 | F2835: UN | G2835: 13289577 | H2835: Actualización 2024-I - Fase I

Sheet APU_IDU
B1: Origen | C1: Capítulo | D1: Subcapítulo | E1: Código | F1: Nombre | G1: UM | H1: Valor | I1: Fecha de actualización
B2: Antiguo | C2: EXCAVACIONES | D2: EXC. CONFORMACIÓN DE SUBRASANTE | E2: 3007 | F2: REPLANTEO GENERAL | G2: M2 | H2: 874 | I2: Actualización 2024-I - Fase I
B3: Antiguo | C3: EXCAVACIONES | D3: EXC. ESTRUCTURAS Y REDES | E3: 3009 | F3: EXCAVACION MANUAL PARA REDES PROFUNDIDAD 0M - 2M (INCLUYE CARGUE) | G3: M3 | H3: 41998 | I3: Actualización 2023-I - Fase II + M.O. 2024
B4: Antiguo | C4: DEMOLICIONES | D4: DEMOLICIONES | E4: 3010 | F4: DEMOLICION PAVIMENTO ASFALTICO (INCLUYE CARGUE). NO INCLUYE TRANSPORTE Y DISPOSICIÓN FINAL DE SOBRANTES. | G4: M3 | H4: 37090 | I4: Actualización 2024-I - Fase I
B5: Antiguo | C5: DEMOLICIONES | D5: DEMOLICIONES | E5: 3011 | F5: DEMOLICION MANUAL SARDINEL EXISTENTE (INCLUYE CARGUE). NO INCLUYE TRANSPORTE Y DISPOSICIÓN FINAL DE SOBRANTES. | G5: ML | H5: 5842 | I5: Actualización 2023-I - Fase II + M.O. 2024
B6: Antiguo | C6: DEMOLICIONES | D6: DEMOLICIONES | E6: 3012 | F6: DEMOLICIÓN PISOS DE CONCRETO (ESPESOR VARIABLE HASTA 0.10 M. INCLUYE CARGUE). NO INCLUYE TRANSPORTE Y DISPOSICIÓN FINAL DE SOBRANTES. | G6: M2 | H6: 7809 | I6: Actualización 2024-I - Fase I
B7: Antiguo | C7: REDES ELECTRICAS | D7: RED ELECTRICA CODENSA | E7: 3015 | F7: RETIRO DE POSTES DE AP/LA (INCLUYE TRASLADO A SITIO DE ACOPIO) | G7: UN | H7: 242945 | I7: Actualización 2024-I - Fase I
B8: Antiguo | C8: TRANSPORTES Y ACARREOS | D8: TRANSPORTES Y ACARREOS | E8: 3017 | F8: TRANSPORTE Y DISPOSICIÓN FINAL DE ESCOMBROS EN SITIO AUTORIZADO (DISTANCIA DE TRANSPORTE 21 KM). A DISTANCIA MAYOR DEL ACARREO LIBRE (90 M) EN SITIO AUTORIZADO POR LA ENTIDAD AMBIENTAL COMPETENTE. | G8: M3 | H8: 43960 | I8: Actualización 2024-I - Fase I
B9: Antiguo | C9: RELLENOS Y CAPAS GRANULARES | D9: RELLENOS EN TIERRA | E9: 3018 | F9: RELLENO EN TIERRA NEGRA PARA EMPRADIZACION (SUMINISTRO Y EXTENDIDO) | G9: M3 | H9: 81363 | I9: Actualización 2023-I - Fase II + M.O. 2024
B10: Antiguo | C10: DEMOLICIONES | D10: DEMOLICIONES | E10: 3021 | F10: DEMOLICION PAVIMENTO ASFALTICO (ESPESOR VARIABLE. INCLUYE CARGUE). NO INCLUYE TRANSPORTE Y DISPOSICIÓN FINAL DE SOBRANTES. | G10: M2 | H10: 7015 | I10: Actualización 2024-I - Fase I
B11: Antiguo | C11: DEMOLICIONES | D11: DEMOLICIONES | E11: 3022 | F11: DEMOLICIÓN PISOS DE CONCRETO (INCLUYE CARGUE). NO INCLUYE TRANSPORTE Y DISPOSICIÓN FINAL DE SOBRANTES. | G11: M3 | H11: 56015 | I11: Actualización 2024-I - Fase I
B12: Antiguo | C12: RELLENOS Y CAPAS GRANULARES | D12: RELLENOS PARA ANDENES Y REDES | E12: 3024 | F12: RELLENO PARA REDES EN ARENA DE PEÑA (SUMINISTRO, EXTENDIDO, HUMEDECIMIENTO Y COMPACTACIÓN) | G12: M3 | H12: 151748 | I12: Actualización 2024-I - Fase I
B13: Antiguo | C13: ANDENES Y SARDINELES | D13: SARDINELES Y BORDILLOS | E13: 3027 | F13: SARDINEL TIPO A10 (SUMINISTRO E INSTALACIÓN. INCLUYE 3CM MORTERO 1:5) | G13: ML | H13: 78707 | I13: Actualización 2024-I - Fase I
... B3249: Solicitud SGI | C3249: TRANSMILENIO | D3249: ELEMENTOS DE SEÑALIZACION TRANSMILENIO | E3249: 10336 | F3249: SUMINISTRO E INSTALACION DE PORTA MAPAS INFORMATIVO PARA ESTACION (205X168CM APROX). SEGUN CARTILLA DE SEÑALETICA TRANSMILENIO 2023 | G3249: UN | H3249: 13289577 | I3249: Actualización 2024-I - Fase I

Sheet PSS S
A1: CALCULO DEL FACTOR PRESTACIONAL
A2: VALOR REAL DEL SALARIO 2020 - AFECTACIÓN PRESTACIONAL ANUAL
A4: Salario minimo vigente | B4: 877803 | C4: Decreto 2360, del 26 de diciembre de 2019
A5: Subsidio de transporte | B5: 102854 | C5: Dec_2361 _ del 26 de dic de 20192018 | G5: =+E10/C10 -> 1.2
X6: 2500
C7: AFECTACIÓN PRESTACIONAL ANUAL | X7: PESOS | Y7: DOLARES
C8: 1 | E8: 1.2 | G8: 1.5 | I8: 2 | K8: 2.5 | M8: 3 | O8: 4 | Q8: 4.5 | S8: 5 | V8: 1 | W8: AYUDANTE | X8: 36359.04 | Y8: 14.543616
A9: SALARIO | C9: 1 | D9: % | E9: 1.2 | F9: % | G9: 1.5 | H9: % | I9: 2 | J9: % | K9: 2.5 | L9: % | M9: 3 | N9: % | O9: 4 | P9: % | Q9: 4.5 | R9: % | S9: 5 | T9: % | V9: 2 | W9: OFICIAL | X9: 58442.133 | Y9: 23.376853
A10: Mensual | C10: =+$B$4*C9 -> 877803 | E10: =+$B$4*E9 -> 1053363.6 | G10: =+$B$4*G9 -> 1316704.5 | I10: =+$B$4*I9 -> 1755606 | K10: =+$B$4*K9 -> 2194507.5 | M10: =+$B$4*M9 -> 2633409 | O10: =+$B$4*O9 -> 3511212 | Q10: =+$B$4*Q9 -> 3950113.5 | S10: =+$B$4*S9 -> 4389015 | V10: 3 | W10: OPERARIO | X10: 82811.6 | Y10: 33.12464
A11: Subsidio de transporte | C11: =+$B$5 -> 102854 | E11: =+$B$5 -> 102854 | G11: =+$B$5 -> 102854 | I11: =+$B$5 -> 102854 | K11: =+$B$5 -> 102854 | M11: =+$B$5 -> 102854 | O11: =+$B$5 -> 102854 | Q11: =+$B$5 -> 102854 | S11: =+$B$5 -> 102854 | V11: 4 | W11: TOPOGRAFO | X11: 110415.47 | Y11: 44.166187
A12: Total mensual | C12: =+C11+C10 -> 980657 | E12: =+E11+E10 -> 1156217.6 | G12: =+G11+G10 -> 1419558.5 | I12: =+I11+I10 -> 1858460 | K12: =+K11+K10 -> 2297361.5 | M12: =+M11+M10 -> 2736263 | O12: =+O11+O10 -> 3614066 | Q12: =+Q11+Q10 -> 4052967.5 | S12: =+S11+S10 -> 4491869 | V12: 5 | W12: MAESTRO | X12: 110415.47
A13: JORNAL | C13: =+C12/30 -> 32688.567 | E13: =+E12/30 -> 38540.587 | G13: =+G12/30 -> 47318.617 | I13: =+I12/30 -> 61948.667 | K13: =+K12/30 -> 76578.717 | M13: =+M12/30 -> 91208.767 | O13: =+O12/30 -> 120468.87 | Q13: =+Q12/30 -> 135098.92 | S13: =+S12/30 -> 149728.97
A14: Total anual (A/30*365) | B14: 12.166667 | C14: =+C10/30*365 -> 10679936 | D14: 1 | E14: =+E10/30*365 -> 12815924 | F14: 1 | G14: =+G10/30*365 -> 16019905 | H14: 1 | I14: =+I10/30*365 -> 21359873 | J14: 1 | K14: =+K10/30*365 -> 26699841 | L14: 1 | M14: =+M10/30*365 -> 32039810 | N14: 1 | O14: =+O10/30*365 -> 42719746 | P14: 1 | Q14: =+Q10/30*365 -> 48059714 | R14: 1 | S14: =+S10/30*365 -> 53399682 | T14: 1
A15: Subsidio de transporte anual | B15: 12.166667 | C15: =+C11/30*365 -> 1251390.3 | E15: =+E11/30*365 -> 1251390.3 | G15: =+G11/30*365 -> 1251390.3 | I15: =+I11/30*365 -> 1251390.3 | K15: =+K11/30*365 -> 1251390.3 | M15: =+M11/30*365 -> 1251390.3 | O15: =+O11/30*365 -> 1251390.3 | Q15: =+Q11/30*365 -> 1251390.3 | S15: =+S11/30*365 -> 1251390.3
A16: Salario anual con sub. De transporte | C16: =+ROUND(SUM(C14:C15),0) -> 11931327 | E16: =+ROUND(SUM(E14:E15),0) -> 14067314 | G16: =+ROUND(SUM(G14:G15),0) -> 17271295 | I16: =+ROUND(SUM(I14:I15),0) -> 22611263 | K16: =+ROUND(SUM(K14:K15),0) -> 27951232 | M16: =+ROUND(SUM(M14:M15),0) -> 33291200 | O16: =+ROUND(SUM(O14:O15),0) -> 43971136 | Q16: =+ROUND(SUM(Q14:Q15),0) -> 49311105 | S16: =+ROUND(SUM(S14:S15),0) -> 54651073
A17: SALARIO NOMINAL (365 días)
A18: Salario anual
A19: Subsidio de transporte
A20: PRESTACIONES SOCIALES | D20: % | F20: % | H20: % | J20: % | L20: % | N20: % | P20: % | R20: % | T20: %
A21: Cesantias anuales | B21: 0.0833 | C21: =+C16*$B$21 -> 993879.54 | D21: 0.11018683 | E21: =+E16*$B$21 -> 1171807.3 | F21: 0.10826071 | G21: =+G16*$B$21 -> 1438698.9 | H21: 0.1063346 | I21: =+I16*$B$21 -> 1883518.2 | J21: 0.10440848 | K21: =+K16*$B$21 -> 2328337.6 | L21: 0.098630137 | M21: =+M16*$B$21 -> 2773157 | N21: 0.098630137 | O21: =+O16*$B$21 -> 3662795.6 | P21: 0.098630137 | Q21: =+Q16*$B$21 -> 4107615 | R21: 0.098630137 | S21: =+S16*$B$21 -> 4552434.4 | T21: 0.098630137
A22: Interes sobre cesantia | B22: 0.12 | C22: =+C21*$B$22 -> 119265.54 | D22: 0.013222419 | E22: =+E21*$B$22 -> 140616.87 | F22: 0.012991285 | G22: =+G21*$B$22 -> 172643.86 | H22: 0.012760152 | I22: =+I21*$B$22 -> 226022.18 | J22: 0.012529018 | K22: =+K21*$B$22 -> 279400.52 | L22: 0.011835616 | M22: =+M21*$B$22 -> 332778.84 | N22: 0.011835616 | O22: =+O21*$B$22 -> 439535.48 | P22: 0.011835616 | Q22: =+Q21*$B$22 -> 492913.81 | R22: 0.011835616 | S22: =+S21*$B$22 -> 546292.13 | T22: 0.011835616
A23: Prima - 30 días | B23: 1 | C23: =+C10 -> 877803 | D23: 0.082191781 | E23: =+E10 -> 1053363.6 | F23: 0.082191781 | G23: =+G10 -> 1316704.5 | H23: 0.082191781 | I23: =+I10 -> 1755606 | J23: 0.082191781 | K23: =+K10 -> 2194507.5 | L23: 0.082191781 | M23: =+M10 -> 2633409 | N23: 0.082191781 | O23: =+O10 -> 3511212 | P23: 0.082191781 | Q23: =+Q10 -> 3950113.5 | R23: 0.082191781 | S23: =+S10 -> 4389015 | T23: 0.082191781
A24: Vacaciones - 15 días | B24: 0.5 | C24: =+C10*0.5 -> 438901.5 | D24: 0.04109589 | E24: =+E10*0.5 -> 526681.8 | F24: 0.04109589 | G24: =+G10*0.5 -> 658352.25 | H24: 0.04109589 | I24: =+I10*0.5 -> 877803 | J24: 0.04109589 | K24: =+K10*0.5 -> 1097253.8 | L24: 0.04109589 | M24: =+M10*0.5 -> 1316704.5 | N24: 0.04109589 | O24: =+O10*0.5 -> 1755606 | P24: 0.04109589 | Q24: =+Q10*0.5 -> 1975056.8 | R24: 0.04109589 | S24: =+S10*0.5 -> 2194507.5 | T24: 0.04109589
A25: SUBTOTAL PRESTACIONES SOCIALES | C25: =SUM(C21:C24) -> 2429849.6 | E25: =SUM(E21:E24) -> 2892469.5 | G25: =SUM(G21:G24) -> 3586399.5 | I25: =SUM(I21:I24) -> 4742949.4 | K25: =SUM(K21:K24) -> 5899499.4 | M25: =SUM(M21:M24) -> 7056049.3 | O25: =SUM(O21:O24) -> 9369149.1 | Q25: =SUM(Q21:Q24) -> 10525699 | S25: =SUM(S21:S24) -> 11682249
A26: SEGURIDAD SOCIAL | D26: % | F26: % | H26: % | J26: % | L26: % | N26: % | P26: % | R26: % | T26: %
A27: Pensiones | B27: 0.12 | C27: =+C14*$B$27 -> 1281592.4 | D27: 0.12 | E27: =+E14*$B$27 -> 1537910.9 | F27: 0.12 | G27: =+G14*$B$27 -> 1922388.6 | H27: 0.12 | I27: =+I14*$B$27 -> 2563184.8 | J27: 0.12 | K27: =+K14*$B$27 -> 3203980.9 | L27: 0.12 | M27: =+M14*$B$27 -> 3844777.1 | N27: 0.12 | O27: =+O14*$B$27 -> 5126369.5 | P27: 0.12 | Q27: =+Q14*$B$27 -> 5767165.7 | R27: 0.12 | S27: =+S14*$B$27 -> 6407961.9 | T27: 0.12
A28: Salud (Afectado por la reforma tributaria) | B28: 0 | C28: =+$B$28*C14 -> 0 | D28: 0 | E28: =+$B$28*E14 -> 0 | F28: 0 | G28: =+$B$28*G14 -> 0 | H28: 0 | I28: =+$B$28*I14 -> 0 | J28: 0 | K28: =+$B$28*K14 -> 0 | L28: 0 | M28: =+$B$28*M14 -> 0 | N28: 0 | O28: =+$B$28*O14 -> 0 | P28: 0 | Q28: =+$B$28*Q14 -> 0 | R28: 0 | S28: =+$B$28*S14 -> 0 | T28: 0
A29: Riesgos Profesionales (ARL) | B29: 0.0696 | C29: =+$B$29*C14 -> 743323.58 | D29: 0.0696 | E29: =+$B$29*E14 -> 891988.3 | F29: 0.0696 | G29: =+$B$29*G14 -> 1114985.4 | H29: 0.0696 | I29: =+$B$29*I14 -> 1486647.2 | J29: 0.0696 | K29: =+$B$29*K14 -> 1858309 | L29: 0.0696 | M29: =+$B$29*M14 -> 2229970.7 | N29: 0.0696 | O29: =+$B$29*O14 -> 2973294.3 | P29: 0.0696 | Q29: =+$B$29*Q14 -> 3344956.1 | R29: 0.0696 | S29: =+$B$29*S14 -> 3716617.9 | T29: 0.0696
A30: SUBTOTAL SEGURIDAD SOCIAL | C30: =ROUND(SUM(C27:C29),0) -> 2024916 | E30: =ROUND(SUM(E27:E29),0) -> 2429899 | G30: =ROUND(SUM(G27:G29),0) -> 3037374 | I30: =ROUND(SUM(I27:I29),0) -> 4049832 | K30: =ROUND(SUM(K27:K29),0) -> 5062290 | M30: =ROUND(SUM(M27:M29),0) -> 6074748 | O30: =ROUND(SUM(O27:O29),0) -> 8099664 | Q30: =ROUND(SUM(Q27:Q29),0) -> 9112122 | S30: =ROUND(SUM(S27:S29),0) -> 10124580
A31: APORTES PARAFISCALES | D31: % | F31: % | H31: % | J31: % | L31: % | N31: % | P31: % | R31: % | T31: %
A32: SENA (Afectado por la reforma tributaria) - asumido por el CREE | B32: 0 | C32: =+$B$32*C14 -> 0 | D32: 0 | E32: =+$B$32*E14 -> 0 | F32: 0 | G32: =+$B$32*G14 -> 0 | H32: 0 | I32: =+$B$32*I14 -> 0 | J32: 0 | K32: =+$B$32*K14 -> 0 | L32: 0 | M32: =+$B$32*M14 -> 0 | N32: 0 | O32: =+$B$32*O14 -> 0 | P32: 0 | Q32: =+$B$32*Q14 -> 0 | R32: 0 | S32: =+$B$32*S14 -> 0 | T32: 0
A33: ICBF (Afectado por la reforma tributaria) - asumido por el CREE | B33: 0 | C33: =+$B$33*C14 -> 0 | D33: 0 | E33: =+$B$33*E14 -> 0 | F33: 0 | G33: =+$B$33*G14 -> 0 | H33: 0 | I33: =+$B$33*I14 -> 0 | J33: 0 | K33: =+$B$33*K14 -> 0 | L33: 0 | M33: =+$B$33*M14 -> 0 | N33: 0 | O33: =+$B$33*O14 -> 0 | P33: 0 | Q33: =+$B$33*Q14 -> 0 | R33: 0 | S33: =+$B$33*S14 -> 0 | T33: 0
A34: Caja de compensación familiar | B34: 0.04 | C34: =+C14*$B$34 -> 427197.46 | D34: 0.04 | E34: =+E14*$B$34 -> 512636.95 | F34: 0.04 | G34: =+G14*$B$34 -> 640796.19 | H34: 0.04 | I34: =+I14*$B$34 -> 854394.92 | J34: 0.04 | K34: =+K14*$B$34 -> 1067993.6 | L34: 0.04 | M34: =+M14*$B$34 -> 1281592.4 | N34: 0.04 | O34: =+O14*$B$34 -> 1708789.8 | P34: 0.04 | Q34: =+Q14*$B$34 -> 1922388.6 | R34: 0.04 | S34: =+S14*$B$34 -> 2135987.3 | T34: 0.04
A35: FIC (Fondo Nacional de Formación Profesional de la Industria de la Construcción) | B35: 0.025 | C35: =+$B$35*$C$14 -> 266998.41 | D35: 0.030821918 | E35: =+$B$35*$C$14 -> 266998.41 | F35: 0.025684932 | G35: =+$B$35*$C$14 -> 266998.41 | H35: 0.020547945 | I35: =+$B$35*$C$14 -> 266998.41 | J35: 0.015410959 | K35: =+$B$35*$C$14 -> 266998.41 | L35: 0.012328767 | M35: =+$B$35*$C$14 -> 266998.41 | N35: 0.010273973 | O35: =+$B$35*$C$14 -> 266998.41 | P35: 0.0077054795 | Q35: =+$B$35*$C$14 -> 266998.41 | R35: 0.0068493151 | S35: =+$B$35*$C$14 -> 266998.41 | T35: 0.0061643836
A36: SUBTOTAL PARAFISCALES | C36: =SUM(C32:C35) -> 694195.87 | E36: =SUM(E32:E35) -> 779635.36 | G36: =SUM(G32:G35) -> 907794.6 | I36: =SUM(I32:I35) -> 1121393.3 | K36: =SUM(K32:K35) -> 1334992.1 | M36: =SUM(M32:M35) -> 1548590.8 | O36: =SUM(O32:O35) -> 1975788.3 | Q36: =SUM(Q32:Q35) -> 2189387 | S36: =SUM(S32:S35) -> 2402985.7
A37: DOTACIÓN | D37: % | F37: % | H37: % | J37: % | L37: % | N37: % | P37: % | R37: % | T37: %
A38: Dotación | C38: 350000 | D38: 0.034738036 | E38: 350000 | F38: 0.028948363 | G38: 350000 | H38: 0.023158691 | I38: 350000 | J38: 0.017369018 | K38: 350000 | L38: 0.013895214 | M38: 350000 | N38: 0 | O38: 350000 | P38: 0 | Q38: 350000 | R38: 0 | S38: 350000 | T38: 0
A39: Implementos de Seguridad | C39: 280000 | D39: 0.027790429 | E39: 280000 | F39: 0.023158691 | G39: 280000 | H39: 0.018526952 | I39: 280000 | J39: 0.013895214 | K39: 280000 | L39: 0.011116171 | M39: 280000 | N39: 0 | O39: 280000 | P39: 0 | Q39: 280000 | R39: 0 | S39: 280000 | T39: 0
A40: SUBTOTAL DOTACIÓN | C40: =SUM(C38:C39) -> 630000 | E40: =SUM(E38:E39) -> 630000 | G40: =SUM(G38:G39) -> 630000 | I40: =SUM(I38:I39) -> 630000 | K40: =SUM(K38:K39) -> 630000 | M40: =SUM(M38:M39) -> 630000 | O40: =SUM(O38:O39) -> 630000 | Q40: =SUM(Q38:Q39) -> 630000 | S40: =SUM(S38:S39) -> 630000
A41: VALOR REAL DEL SALARIO | C41: =+C16+C25+C30+C36+C40 -> 17710288 | D41: 1.5696473 | E41: =+E16+E25+E30+E36+E40 -> 20799318 | F41: 1.5519317 | G41: =+G16+G25+G30+G36+G40 -> 25432863 | H41: 1.534216 | I41: =+I16+I25+I30+I36+I40 -> 33155438 | J41: 1.5165004 | K41: =+K16+K25+K30+K36+K40 -> 40878013 | L41: 1.5006936 | M41: =+M16+M25+M30+M36+M40 -> 48600588 | N41: 1.4736274 | O41: =+O16+O25+O30+O36+O40 -> 64045737 | P41: 1.4710589 | Q41: =+Q16+Q25+Q30+Q36+Q40 -> 71768313 | R41: 1.4702027 | S41: =+S16+S25+S30+S36+S40 -> 79490888 | T41: 1.4695178
...

Sheet F PRESTACIONAL Y G GENERALES
A3: (Personal por encima de 2 SMMLV) | J3: (Personal por debajo de 2 SMMLV)
B4: CONCEPTO | G4: PORCENTAJE | K4: CONCEPTO | P4: PORCENTAJE
A5: 1. | B5: Salarios y Prestaciones Sociales de Personal Facturable | J5: 1. | K5: Salarios y Prestaciones Sociales de Personal Facturable
A7: 1.1 | B7: Salarios | G7: 1 | J7: 1.1 | K7: Salarios | P7: 1
A8: 1.2 | B8: Prima anual (legal) | G8: =1/12 -> 0.083333333 | J8: 1.2 | K8: Prima anual (legal) | P8: =1/12 -> 0.083333333
A9: 1.3 | B9: Cesantía | G9: =1/12 -> 0.083333333 | J9: 1.3 | K9: Cesantía | P9: =1/12 -> 0.083333333
A10: 1.4 | B10: Intereses de cesantía | G10: 0.01 | J10: 1.4 | K10: Intereses de cesantía | P10: 0.01
A11: 1.5 | B11: Vacaciones | G11: =+G9/2 -> 0.041666667 | J11: 1.5 | K11: Vacaciones | P11: =+P9/2 -> 0.041666667
A12: 1.6 | B12: Seguridad Social - salud | G12: 0.085 | J12: 1.6 | K12: Seguridad Social - salud | P12: 0.085
A13: 1.7 | B13: Seguridad Social - pensión | G13: 0.12 | J13: 1.7 | K13: Seguridad Social - pensión | P13: 0.12
A14: 1.8 | B14: Caja de Compensación Familiar | G14: 0.04 | J14: 1.8 | K14: Caja de Compensación Familiar | P14: 0.04
A15: 1.9 | B15: Riesgos Profesionales (ARL) | G15: 0.0696 | J15: 1.9 | K15: Riesgos Profesionales (ARL) | P15: 0.0696
A16: 1.1 | B16: Transporte | G16: 0 | J16: 1.1 | K16: Transporte | P16: 0.1172
A17: 1.11 | B17: Otros (Auxilios varios, prestaciones extralegales, Incapacidades no cubiertas) | G17: 0.04 | J17: 1.11 | K17: Otros (Auxilios varios, prestaciones extralegales, Incapacidades no cubiertas) | P17: 0.04
D18: TOTAL FACTOR PRESTACIONAL | G18: =SUM(G7:G17) -> 1.5729333 | M18: TOTAL FACTOR PRESTACIONAL | P18: =SUM(P7:P17)/100 -> 0.016901333
A20: 2. | B20: Gastos Generales | J20: 2. | K20: Gastos Generales
A21: 2.1 | B21: Servicios públicos, servicios de aseo y cafetería | G21: 0.06 | J21: 2.1 | K21: Servicios públicos, servicios de aseo y cafetería, incluye mantenimiento | P21: 0.06
A22: 2.2 | B22: Personal Administrativo no facturado | G22: 0.02 | J22: 2.2 | K22: Personal Administrativo no facturado | P22: 0.02 | Q22: Incluye entre otros personal para la ejecución de tareas adminstrativas como pagos, correspondencia, trámites, aseo, etc
A23: 2.3 | B23: Personal Profesional y Técnico no facturado | G23: 0.02 | J23: 2.3 | K23: Personal Profesional y Técnico no facturado | P23: 0.02 | Q23: Incluye entre otros Ingeniero de apoyo, dibujantes
G24: =SUM(G21:G23) -> 0.1 | P24: =SUM(P21:P23) -> 0.1
A30: Fórmulas para liquidar prestaciones sociales:
A31: 1. Prima de servicios: (Salario mensual * Días trabajados en el semestre)/360.
A32: 2. Cesantías: (Salario mensual * Días trabajados)/360.
A33: 3. Intereses sobre cesantías: (Cesantías * Días trabajados * 0,12)/360.
A34: 4. Vacaciones: (Salario mensual básico * Días trabajados)/720.

Sheet AIU
A1: CALCULO DEL A.I.U
A3: Recurso Humano | B3: Cantidad | C3: Dedicación | D3: Salario o valor | E3: F.P | F3: Plazo 2024 | G3: Plazo 2025 | H3: Plazo 2026 | I3: Plazo 2027 | J3: Vr. Total 2024 | K3: Vr. Total 2025 | L3: Vr. Total 2026 | M3: Vr. Total 2027
A4: Director de Obra del proyecto | B4: 1 | C4: 0.7 | D4: =+PERSONAL!F32 -> 8744430 | E4: 1.57 | F4: 2 | G4: 12 | H4: 12 | I4: 8 | J4: =+ROUND((B4*C4*D4*E4*F4),0) -> 19220257 | K4: =+ROUND(((((J4/2)*12))*1.0573),0) -> 121929466 | L4: =+ROUND((K4*1.0323),0) -> 125867788 | M4: =+ROUND(((((L4/12)*8))*1.03),0) -> 86429214
A5: Especialista en Tránsito | B5: 1 | C5: 0.5 | D5: =+PERSONAL!F15 -> 7254810 | E5: 1.57 | F5: 2 | G5: 12 | H5: 12 | I5: 8 | J5: =+ROUND((B5*C5*D5*E5*F5),0) -> 11390052 | K5: =+ROUND(((((J5/2)*12))*1.0573),0) -> 72256212 | L5: =+ROUND((K5*1.0323),0) -> 74590088 | M5: =+ROUND(((((L5/12)*8))*1.03),0) -> 51218527
A6: Ingeniero Residente diurno | B6: 1 | C6: 1 | D6: =PERSONAL!F16 -> 5734230 | E6: 1.57 | F6: 2 | G6: 12 | H6: 12 | I6: 8 | J6: =+ROUND((B6*C6*D6*E6*F6),0) -> 18005482 | K6: =+ROUND(((((J6/2)*12))*1.0573),0) -> 114223177 | L6: =+ROUND((K6*1.0323),0) -> 117912586 | M6: =+ROUND(((((L6/12)*8))*1.03),0) -> 80966642
A7: Ingeniero Residente nocturno | B7: 1 | C7: 1 | D7: =PERSONAL!F17 -> 6807150 | E7: 1.57 | F7: 2 | G7: 12 | H7: 12 | I7: 8 | J7: =+ROUND((B7*C7*D7*E7*F7),0) -> 21374451 | K7: =+ROUND(((((J7/2)*12))*1.0573),0) -> 135595242 | L7: =+ROUND((K7*1.0323),0) -> 139974968 | M7: =+ROUND(((((L7/12)*8))*1.03),0) -> 96116145
A8: Trabajador Social | B8: 1 | C8: 0.5 | D8: =+PERSONAL!F36 -> 4392540 | E8: 1.57 | F8: 2 | G8: 12 | H8: 12 | I8: 8 | J8: =+ROUND((B8*C8*D8*E8*F8),0) -> 6896288 | K8: =+ROUND(((((J8/2)*12))*1.0573),0) -> 43748672 | L8: =+ROUND((K8*1.0323),0) -> 45161754 | M8: =+ROUND(((((L8/12)*8))*1.03),0) -> 31011071 | Q8: año | R8: 2024 | S8: =ROUND(O16*5,0) -> 17927761136 | T8: =S8/$S$12 -> 0.13643621
A9: Profesional SST | B9: 1 | C9: 0.5 | D9: =+PERSONAL!F35 -> 4599150 | E9: 1.57 | F9: 2 | G9: 12 | H9: 12 | I9: 8 | J9: =+ROUND((B9*C9*D9*E9*F9),0) -> 7220666 | K9: =+ROUND(((((J9/2)*12))*1.0573),0) -> 45806461 | L9: =+ROUND((K9*1.0323),0) -> 47286010 | M9: =+ROUND(((((L9/12)*8))*1.03),0) -> 32469727 | R9: 2025 | S9: =ROUND(O16*12*1.03,0) -> 44317425529 | T9: =S9/$S$12 -> 0.33727032
A10: Tecnólogo en georreferenciación | B10: 1 | C10: 1 | D10: =+PERSONAL!F50 -> 4204290 | E10: 1.57 | F10: 2 | G10: 12 | H10: 12 | I10: 8 | J10: =+ROUND((B10*C10*D10*E10*F10),0) -> 13201471 | K10: =+ROUND(((((J10/2)*12))*1.0573),0) -> 83747492 | L10: =+ROUND((K10*1.0323),0) -> 86452536 | M10: =+ROUND(((((L10/12)*8))*1.03),0) -> 59364075 | O10: =131400313333 -> 131400313333 | R10: 2026 | S10: =ROUND(S9*1.03,0) -> 45646948295 | T10: =S10/$S$12 -> 0.34738843
A11: Conductor Diurno | B11: 1 | C11: 1 | D11: =+PERSONAL!F8 -> 1562640 | E11: 1.69 | F11: 2 | G11: 12 | H11: 12 | I11: 8 | J11: =+ROUND((B11*C11*D11*E11*F11),0) -> 5281723 | K11: =+ROUND(((((J11/2)*12))*1.0573),0) -> 33506194 | L11: =+ROUND((K11*1.0323),0) -> 34588444 | M11: =+ROUND(((((L11/12)*8))*1.03),0) -> 23750732 | O11: =O10/35 -> 3.7542947e+09 | R11: 2027 | S11: =ROUND(O16*6*1.03^3,0) -> 23508178372 | T11: =S11/$S$12 -> 0.17890504
A12: Conductor nocturno | B12: 1 | C12: 1 | D12: =+PERSONAL!F47 -> 2118180 | E12: 1.69 | F12: 2 | G12: 12 | H12: 12 | I12: 8 | J12: =+ROUND((B12*C12*D12*E12*F12),0) -> 7159448 | K12: =+ROUND(((((J12/2)*12))*1.0573),0) -> 45418106 | L12: =+ROUND((K12*1.0323),0) -> 46885111 | M12: =+ROUND(((((L12/12)*8))*1.03),0) -> 32194443 | O12: =O11*5 -> 1.8771473e+10 | S12: =S8+S9+S10+S11 -> 131400313332
A13: Secretaria | B13: 1 | C13: 1 | D13: =+PERSONAL!F38 -> 1645950 | E13: 1.69 | F13: 2 | G13: 12 | H13: 12 | I13: 8 | J13: =+ROUND((B13*C13*D13*E13*F13),0) -> 5563311 | K13: =+ROUND(((((J13/2)*12))*1.0573),0) -> 35292532 | L13: =+ROUND((K13*1.0323),0) -> 36432481 | M13: =+ROUND(((((L13/12)*8))*1.03),0) -> 25016970
G14: TOTAL RECURSO HUMANO | J14: =SUM(J4:J13) -> 115313149 | K14: =SUM(K4:K13) -> 731523554 | L14: =SUM(L4:L13) -> 755151766 | M14: =SUM(M4:M13) -> 518537546
A16: Otros gastos de Administración | O16: 3.5855522e+09 | P16: =5*O16+12*O16*1.03+12*O16*1.03^2+6*O16*1.03^3 -> 131400313333
A17: Arrendamiento Arrendamiento Bodega y oficina | B17: 1 | C17: mes | D17: =50*48579 -> 2428950 | F17: 2 | G17: 12 | H17: 12 | I17: 8 | J17: =+ROUND((B17*D17*F17),0) -> 4857900 | K17: =+ROUND(((((J17/2)*12))*1.0573),0) -> 30817546 | L17: =+ROUND((K17*1.0323),0) -> 31812953 | M17: =+ROUND(((((L17/12)*8))*1.03),0) -> 21844894
A18: Alquiler de computador con Office y Autocad | B18: 1 | C18: mes | D18: =117810 -> 117810 | F18: 2 | G18: 12 | H18: 12 | I18: 8 | J18: =+ROUND((B18*D18*F18),0) -> 235620 | K18: =+ROUND(((((J18/2)*12))*1.0573),0) -> 1494726 | L18: =+ROUND((K18*1.0323),0) -> 1543006 | M18: =+ROUND(((((L18/12)*8))*1.03),0) -> 1059531
A19: Alquiler de impresoras | B19: 1 | C19: mes | D19: =92463 -> 92463 | F19: 2 | G19: 12 | H19: 12 | I19: 8 | J19: =+ROUND((B19*D19*F19),0) -> 184926 | K19: =+ROUND(((((J19/2)*12))*1.0573),0) -> 1173134 | L19: =+ROUND((K19*1.0323),0) -> 1211026 | M19: =+ROUND(((((L19/12)*8))*1.03),0) -> 831571
A20: Alquiler plotter | B20: 1 | C20: mes | D20: =20000000/35 -> 571428.57 | F20: 2 | G20: 12 | H20: 12 | I20: 8 | J20: =+ROUND((B20*D20*F20),0) -> 1142857 | K20: =+ROUND(((((J20/2)*12))*1.0573),0) -> 7250056 | L20: =+ROUND((K20*1.0323),0) -> 7484233 | M20: =+ROUND(((((L20/12)*8))*1.03),0) -> 5139173
A21: Servicio públicos Servicios públicos, incluye servicios de comunicaciones (teléfono, fax, internet), y otros. | B21: 0.0063 | C21: mes | F21: 2 | G21: 12 | H21: 12 | I21: 8 | J21: =+ROUND(($B21*F$58),0) -> 17739042 | K21: =+ROUND(($B21*G$58),0) -> 39119773 | L21: =+ROUND(($B21*H$58),0) -> 40470539 | M21: =+ROUND(($B21*I$58),0) -> 20930927
A22: Personal Administrativo no facturado | B22: 0.0125 | C22: mes | F22: 2 | G22: 12 | H22: 12 | I22: 8 | J22: =+ROUND(($B22*F$58),0) -> 35196513 | K22: =+ROUND(($B22*G$58),0) -> 77618598 | L22: =+ROUND(($B22*H$58),0) -> 80298689 | M22: =+ROUND(($B22*I$58),0) -> 41529618
A23: Personal Profesional y Técnico no facturado | B23: =B22 -> 0.0125 | C23: mes | F23: 2 | G23: 12 | H23: 12 | I23: 8 | J23: =+ROUND(($B23*F$58),0) -> 35196513 | K23: =+ROUND(($B23*G$58),0) -> 77618598 | L23: =+ROUND(($B23*H$58),0) -> 80298689 | M23: =+ROUND(($B23*I$58),0) -> 41529618
A24: Transporte Vehículo para transporte del personal. Camioneta 4x2, doble-cabina, modelo 2015 o superior, con placa blanca, para trabajos en jornada diurna. Incluye salario del conductor y todas las prestaciones de ley asociadas al mismo. | B24: 1 | C24: mes | D24: 6328000 | F24: 2 | G24: 12 | H24: 12 | I24: 8 | J24: =+ROUND((B24*D24*F24),0) -> 12656000 | K24: =+ROUND(((((J24/2)*12))*1.0573),0) -> 80287133 | L24: =+ROUND((K24*1.0323),0) -> 82880407 | M24: =+ROUND(((((L24/12)*8))*1.03),0) -> 56911213
A25: Auxilio para gastos de papeleria, papel plotter fotocopias y otros Suministros de oficina necesarios para el desarrollo de las actividades del contrato | B25: 1 | C25: mes | D25: =1140473*0.2 -> 228094.6 | F25: 2 | G25: 12 | H25: 12 | I25: 8 | J25: =+ROUND((B25*D25*F25),0) -> 456189 | K25: =+ROUND(((((J25/2)*12))*1.0573),0) -> 2893972 | L25: =+ROUND((K25*1.0323),0) -> 2987447 | M25: =+ROUND(((((L25/12)*8))*1.03),0) -> 2051380
A26: Auxilio por celulares - equipo y consumo- Alquiler celulares con plan de datos | B26: 1 | C26: mes | F26: 2 | G26: 12 | H26: 12 | I26: 8 | J26: =+ROUND((B26*D26*F26),0) -> 0 | K26: =+ROUND(((((J26/2)*12))*1.0573),0) -> 0 | L26: =+ROUND((K26*1.0323),0) -> 0 | M26: =+ROUND(((((L26/12)*8))*1.03),0) -> 0
A27: Otro Alquiler de cámara fotográfica digital | B27: 3 | C27: mes | D27: =541646/41 -> 13210.878 | F27: 2 | G27: 12 | H27: 12 | I27: 8 | J27: =+ROUND((B27*D27*F27),0) -> 79265 | K27: =+ROUND(((((J27/2)*12))*1.0573),0) -> 502841 | L27: =+ROUND((K27*1.0323),0) -> 519083 | M27: =+ROUND(((((L27/12)*8))*1.03),0) -> 356437
A28: Alquiler mobiliario de oficina | B28: 1 | C28: mes | D28: =199702+180511 -> 380213 | F28: 2 | G28: 12 | H28: 12 | I28: 8 | J28: =+ROUND((B28*D28*F28),0) -> 760426 | K28: =+ROUND(((((J28/2)*12))*1.0573),0) -> 4823990 | L28: =+ROUND((K28*1.0323),0) -> 4979805 | M28: =+ROUND(((((L28/12)*8))*1.03),0) -> 3419466
A29: Dotación personal mínimo | B29: 10 | C29: mes | D29: =149691/4 -> 37422.75 | F29: 2 | G29: 12 | H29: 12 | I29: 8 | J29: =+ROUND((B29*D29*F29),0) -> 748455 | K29: =+ROUND(((((J29/2)*12))*1.0573),0) -> 4748049 | L29: =+ROUND((K29*1.0323),0) -> 4901411 | M29: =+ROUND(((((L29/12)*8))*1.03),0) -> 3365636
A30: Dotación personal operativo mínimo | B30: 36 | C30: mes | D30: =348540/4 -> 87135 | F30: 2 | G30: 12 | H30: 12 | I30: 8 | J30: =+ROUND((B30*D30*F30),0) -> 6273720 | K30: =+ROUND(((((J30/2)*12))*1.0573),0) -> 39799225 | L30: =+ROUND((K30*1.0323),0) -> 41084740 | M30: =+ROUND(((((L30/12)*8))*1.03),0) -> 28211521
A31: Elementos de bioseguridad | B31: 46 | C31: mes | F31: 2 | G31: 12 | H31: 12 | I31: 8 | J31: =+ROUND((B31*D31*F31),0) -> 0 | K31: =+ROUND(((((J31/2)*12))*1.0573),0) -> 0 | L31: =+ROUND((K31*1.0323),0) -> 0 | M31: =+ROUND(((((L31/12)*8))*1.03),0) -> 0
A32: Termómetro Infrarojo Temperatura Corporal | B32: 2 | C32: mes | D32: =110000/41 -> 2682.9268 | F32: 2 | G32: 12 | H32: 12 | I32: 8 | J32: =+ROUND((B32*D32*F32),0) -> 10732 | K32: =+ROUND(((((J32/2)*12))*1.0573),0) -> 68082 | L32: =+ROUND((K32*1.0323),0) -> 70281 | M32: =+ROUND(((((L32/12)*8))*1.03),0) -> 48260
F33: TOTAL OTROS GASTOS ADMINISTRATIVOS | J33: =SUM(J17:J32) -> 115538158 | K33: =SUM(K17:K32) -> 368215723 | L33: =SUM(L17:L32) -> 380542309 | M33: =SUM(M17:M32) -> 227229245
A35: Estampillas e Impuestos
A36: Estampilla Procultura | B36: =[19]GARANTIAS!F13 -> 0.005 | C36: Vigencia | J36: =+ROUND((B36*$F$58),0) -> 14078605 | K36: =+ROUND((B36*$G$58),0) -> 31047439 | L36: =+ROUND((B36*$H$58),0) -> 32119476 | M36: =+ROUND((B36*$I$58),0) -> 16611847
A37: Estampilla Pro Adulto Mayor | B37: =[19]GARANTIAS!F14 -> 0.02 | C37: Vigencia | J37: =+ROUND((B37*$F$58),0) -> 56314420 | K37: =+ROUND((B37*$G$58),0) -> 124189757 | L37: =+ROUND((B37*$H$58),0) -> 128477903 | M37: =+ROUND((B37*$I$58),0) -> 66447389
A38: Estampilla Universidad Pedagógica | B38: =[19]GARANTIAS!F15 -> 0.005 | C38: Vigencia | J38: =+ROUND((B38*$F$58),0) -> 14078605 | K38: =+ROUND((B38*$G$58),0) -> 31047439 | L38: =+ROUND((B38*$H$58),0) -> 32119476 | M38: =+ROUND((B38*$I$58),0) -> 16611847
A39: Estampilla Universidad Distrital | B39: =[19]GARANTIAS!F16 -> 0.011 | C39: Vigencia | J39: =+ROUND((B39*$F$58),0) -> 30972931 | K39: =+ROUND((B39*$G$58),0) -> 68304366 | L39: =+ROUND((B39*$H$58),0) -> 70662847 | M39: =+ROUND((B39*$I$58),0) -> 36546064
A40: Contribución Especial | B40: 0.05 | C40: Vigencia | J40: =+ROUND((B40*$F$58),0) -> 140786050 | K40: =+ROUND((B40*$G$58),0) -> 310474393 | L40: =+ROUND((B40*$H$58),0) -> 321194757 | M40: =+ROUND((B40*$I$58),0) -> 166118471
A41: Retención | B41: =[19]GARANTIAS!F18 -> 0.02 | C41: Vigencia | J41: =+ROUND((B41*$F$58),0) -> 56314420 | K41: =+ROUND((B41*$G$58),0) -> 124189757 | L41: =+ROUND((B41*$H$58),0) -> 128477903 | M41: =+ROUND((B41*$I$58),0) -> 66447389
A42: ICA | B42: 0.0076 | C42: Vigencia | J42: =+ROUND((B42*$F$58),0) -> 21399480 | K42: =+ROUND((B42*$G$58),0) -> 47192108 | L42: =+ROUND((B42*$H$58),0) -> 48821603 | M42: =+ROUND((B42*$I$58),0) -> 25250008
F43: TOTAL ESTAMPILLAS E IMPUESTOS | J43: =SUM(J36:J42) -> 333944511 | K43: =SUM(K36:K42) -> 736445259 | L43: =SUM(L36:L42) -> 761873965 | M43: =SUM(M36:M42) -> 394033015
...

Sheet CUADRILLAS_ALQUILER
A1: CUADRILLAS
A2: SALARIO MINIMO 2020 | B2: MES | D2: AÑO
A3: 877803 | B3: Factores | C3: M. Obra AA Albañileria | D3: M. ObraBB INSTALACIONES | E3: M. Obra CC PINTURA
D4: AA+10% | E4: AA+15%
D5: DIA
A6: Jornal ayudante | B6: 1,2 Minimos | C6: =+A3/30 -> 29260.1 | D6: =+C6*1.1 -> 32186.11 | E6: =+C6*1.15 -> 33649.115
A7: valor real del jornal | B7: 2.1651 | C7: =+C6*B7 -> 63351.043 | D7: =+C7*1.1 -> 69686.147 | E7: =+C7*1.15 -> 72853.699
A8: valor total hora ayudante | C8: =+ROUND(C7/8,0) -> 7919 | D8: =+C8*1.1 -> 8710.9 | E8: =+C8*1.15 -> 9106.85
A9: jornal Oficial | B9: 2,1 Minimos | C9: =2.1*C6 -> 61446.21 | D9: =+C9*1.1 -> 67590.831 | E9: =+C9*1.15 -> 70663.141
A10: valor real del jornal | B10: 2.1232 | C10: =+B10*C9 -> 130462.59 | D10: =+C10*1.1 -> 143508.85 | E10: =+C10*1.15 -> 150031.98
A11: valor total hora oficial | C11: =+ROUND(C10/8,0) -> 16308 | D11: =+C11*1.1 -> 17938.8 | E11: =+C11*1.15 -> 18754.2
A12: Valor dia cuadrilla | C12: =+C7+C10 -> 193813.64 | D12: =+C12*1.1 -> 213195 | E12: =+C12*1.15 -> 222885.68
A13: Valor hora cuadrilla | C13: =+C8+C11 -> 24227 | D13: =+ROUND((D8+D11),0) -> 26650 | E13: =+ROUND((E8+E11),0) -> 27861 | F13: =+E13/35 -> 796.02857
A14: Salida Electrica
D19: =60*0.33 -> 19.8 | E19: =+E13/35 -> 796.02857
B57: EQUIPO | D57: UNIDAD | E57: PRECIO | F57: VENTA | G57: %
B58: MEZCLADORA ELECTRICA 1,5 BT | D58: $/ DIA | E58: =+ROUND(39900,0) -> 39900 | G58: =+IFERROR(E58/F58,0) -> 0 | I58: $/ DIA
B59: TALADRO PERCUTOR 1/2 | D59: $/ DIA | E59: 11900 | F59: 129121 | G59: =+IFERROR(E59/F59,0) -> 0.092161616 | I59: $/HORA
B60: ROTAMARTILLO | D60: $/ DIA | E60: 48900 | G60: =+IFERROR(E60/F60,0) -> 0 | I60: $/MES
B61: PLANTA ELECTRICA 4 TIEMPOS | D61: $/ DIA | E61: 66900 | F61: 1450000 | G61: =+IFERROR(E61/F61,0) -> 0.046137931
B62: SOLDADOR LINCON | D62: $/ DIA | E62: 51900 | G62: =+IFERROR(E62/F62,0) -> 0
B63: HIDROLAVADORA 6,5 LT/ MIN | D63: $/ DIA | E63: 48900 | G63: =+IFERROR(E63/F63,0) -> 0
B64: Alquiler Sierra Circular 7 1/4 Pulg 1950W | D64: $/ DIA | E64: 16900 | G64: =+IFERROR(E64/F64,0) -> 0
B65: Alquiler Tronzadora 14" | D65: $/ DIA | E65: 28900 | G65: =+IFERROR(E65/F65,0) -> 0
B66: PULIDORA 9" | D66: $/ DIA | E66: 18900 | F66: 400000 | G66: =+IFERROR(E66/F66,0) -> 0.04725
B67: COMPRESOR | D67: $/ DIA | F67: 400000 | G67: =+IFERROR(E67/F67,0) -> 0
F68: G | G68: =+IFERROR(E68/F68,0) -> 0
F69: C | G69: =+IFERROR(E69/F69,0) -> 0
F70: PIPI | G70: =+IFERROR(E70/F70,0) -> 0
G71: =+IFERROR(E71/F71,0) -> 0
G72: =+IFERROR(E72/F72,0) -> 0
G73: =+IFERROR(E73/F73,0) -> 0
G74: =+IFERROR(E74/F74,0) -> 0
G75: =+IFERROR(E75/F75,0) -> 0
G76: =+IFERROR(E76/F76,0) -> 0

Sheet PINTURAS_CONSUMOS 
F2: RENDIMIENTO | H2: COSUMO
B3: CLASE | C3: UNIDAD | D3: DENSIDAD_KGR / GALON | F3: M2 /GALON | G3: ML / GALON | H3: GAL / M2 | I3: GAL / ML | M3: PINTURA ESMALTE SINTETICO
B4: PLASTICO EN FRIO __LLANA | C4: GAL | D4: 7.05 | E4: 7.45 | F4: 3 | G4: =F4/0.12 -> 25 | H4: =2.4/7.25 -> 0.33103448 | I4: =+H4*0.12 -> 0.039724138 | M4: PINTURA ACRÍLICA BASE AGUA PIGMENTADA (VERDE, NARANJA, ROJO O AZUL)
B5: PLASTICO EN FRIO __PULVERIZACION | C5: GAL | D5: 7.05 | E5: 7.45 | F5: =ROUND(7.25/1.2,0) -> 6 | G5: =F5/0.12 -> 50 | H5: =1.2/7.25 -> 0.16551724 | I5: =+H5*0.12 -> 0.019862069 | M5: PINTURA ACRÍLICA BASE DE AGUA BLANCA Y AMARILLA
B6: PLASTICO EN FRIO __ MAQUINA AUTOMATICA | C6: GAL | D6: 7.05 | E6: 7.45 | F6: =ROUND(7.25/2.45,0) -> 3 | G6: =F6/0.12 -> 25 | H6: =2.4/7.25 -> 0.33103448 | I6: =+H6*0.12 -> 0.039724138 | K6: =0.13*6.7 -> 0.871 | M6: PINTURA ACRÍLICA BASE DE AGUA NEGRA
B7: PLASTICO EN FRIO __ RODILLO | C7: GAL | D7: 7.05 | E7: 7.45 | F7: =ROUND(7.25/1.2,0) -> 6 | G7: =F7/0.12 -> 50 | H7: =1.2/7.25 -> 0.16551724 | I7: =+H7*0.12 -> 0.019862069 | M7: PINTURA ACRÍLICA BASE SOLVENTE BLANCA Y AMARILLA
B8: PINTURA O RESINA TERMOPLÁSTICA _EXTRUSION | C8: KGR | H8: =+I8/0.12 -> 5.2083333 | I8: 0.625 | J8: =5.21*0.15 -> 0.7815 | M8: PINTURA ACRÍLICA BASE SOLVENTE PIGMENTADA (VERDE, NARANJA, ROJO O AZUL)
B9: PINTURA O RESINA TERMOPLÁSTICA -pulverizacion | C9: KGR | H9: =+I9/0.12 -> 6.9166667 | I9: 0.83
B10: IMPRIMANTE ACRILICO - NEGRO | C10: GAL | D10: 5.6 | E10: 5.8 | F10: 16 | H10: 0.0625 | I10: =+H10*0.12 -> 0.0075
B11: PINTURA ACRÍLICA BASE DE AGUA BLANCA Y AMARILLA | C11: GAL | D11: 6.7 | E11: 6.8 | F11: 7.5 | G11: 84 | H11: =1/F11 -> 0.13333333 | I11: =1/G11 -> 0.011904762 | J11: REVISAR ESTOS UNITARIOS POR CONSUMO
B12: PINTURA ACRÍLICA BASE DE AGUA BLANCA Y AMARILLA | C12: GAL | D12: 6.7 | E12: 6.8 | H12: =0.813/6.7 -> 0.12134328 | I12: =+H12*0.12 -> 0.014561194 | M12: PINTURA O RESINA TERMOPLÁSTICA
B13: PINTURA ACRÍLICA BASE SOLVENTE BLANCA Y AMARILLA | C13: GAL | F13: =1/7.5 -> 0.13333333 | M13: PINTURA PLÁSTICO EN FRIO METIL METACRILATO BLANCA O AMARILLA - EXTRUSIÓN (98:2)
B14: PINTURA ELECTROSTÁTICA M2 | C14: KGR | H14: =1/8 -> 0.125 | J14: =0.09*0.12 -> 0.0108 | M14: PINTURA PLÁSTICO EN FRIO METIL METACRILATO BLANCA O AMARILLA - PARA APLICACIÓN CON LLANA (98:2), INCLUYE CATALIZADOR
B15: PINTURA EN POLVO | C15: GAL | M15: PINTURA PLÁSTICO EN FRIO METIL METACRILATO BLANCA O AMARILLA - SPRAY (1:1)
B16: PINTURA ANTICORROSIVA | C16: GAL | J16: =0.61*3.78/6.7 -> 0.34414925 | M16: PINTURA PLÁSTICO EN FRIO METIL METACRILATO PIGMENTADA (NARANJA - VERDE - ROJO - AZUL) - PARA APLICACIÓN CON LLANA (98:2), INCLUYE CATALIZADOR
B17: PINTURA ESMALTE SINTETICO | C17: GAL
H27: =2.45/3.78 -> 0.64814815
C32: =0.6/3.78 -> 0.15873016 | F32: 0.61

Sheet ENLACES 
A1: No. | B1: DESCRIPCION | C1: UNIDAD | D1: SDM 2019 | E1: https://www.dvial.es/bolardos-de-plastico-hitos-y-balizas/999-191-hito-de-vertice-divergente-de-senalizacion-obispo.html#/24-tamano-120/267-color-azul | G1: AVERY DENNISON | H1: PROVESI | I1: PINTUCO | J1: FERRETERÍA Y ELÉCTRICOS SARAY | K1: SUMINISTROS OSORIO | L1: UTIL | M1: LA FERRETEMIA | N1: LO ENCUENTRAS. COM. CO | O1: IDU PRECIO DE REFERENCIA | P1: CONSTRUMOLE | Q1: CEMEX | R1: ICCU | S1: HOMECENTER | T1: EASY | U1: ACUEDUCTO | V1: FERROPETROL | W1: EL PALUSTRE | X1: FERRETERÍA LEVALLEJO AZ | Y1: DIGALTEX S.A.S | Z1: OTROS | AA1: GLP | AB1: SOCINTER | AC1: MADERAS PUERTO COLOMBIA LTDA | AD1: ASERRIO SAN IGNACIO LTDA | AE1: FORMADERAS Y CASETONES WP SAS
A2: 1 | B2: ACERO DE REFUERZO FY 36000 PSI | C2: KG
A3: =+A2+1 -> 2 | B3: ACERO DE REFUERZO FY 60000 PSI | C3: KG
A4: =+A3+1 -> 3 | B4: AGUA | C4: LT
A5: =+A4+1 -> 4 | B5: ALAMBRE NEGRO CL-18 | C5: KGR | K5: https://ferreteriaosorio.com/products/alambre-negro | N5: https://www.loencuentras.com.co/hierros/70-alambre-negro-de-amarre.html | S5: https://www.homecenter.com.co/homecenter-co/product/278147/alambre-negro-1kg-c17-147mm-alm/278147/
A6: =+A5+1 -> 5 | B6: ÁNGULO METÁLICO DE 2"X2"X1/4" L=6M | C6: ML | W6: https://elpalustre.com.co/index.php?route=product/product&product_id=3945
A7: =+A6+1 -> 6 | B7: ÁNGULO METÁLICO DE 2"X2"X1/8" L=6M | C7: ML | V7: https://ferropetrol.com/shop/sin-categoria/angulo-hr-1-4-x-2-x-6-mts/ | W7: https://elpalustre.com.co/index.php?route=product/product&path=17_139&product_id=789
A8: =+A7+1 -> 7 | B8: ANTIDESLIZANTE – SUPER GRIP | C8: KGR | V8: https://ferropetrol.com/shop/sin-categoria/angulo-hr-1-8-x-2-x-6-mts/
A9: =+A8+1 -> 8 | B9: ARENA LAVADA | C9: M³
A10: =+A9+1 -> 9 | B10: BALIZA ILUMINADA ELEVADA (LUZ INTERMITENTE DE COLOR AMARILLO) DIMENSIONES DE ACUERDO CON LA FIGURA 6,1-4 DE RESOLUCIÓN 1885 DE 2015. | C10: UND
A11: =+A10+1 -> 10 | B11: BANDA ALERTADORA EN RESINA CON ALTA RESISTENCIA AL IMPACTO CON ANCHO MINIMO DE 25 CM Y ALTURA MAXIMA DE 2 CM. INCLUYE ELEMENTOS PARA LA FIJACIÓN (BANDA SONORA PLÁSTICA) | C11: ML
A12: =+A11+1 -> 11 | B12: BARRICADA, ANCHO 2,4 M, 3 LISTONES DE 20 CM DE ANCHO EN MATERIAL REFLECTIVO TIPO IV O SUPERIOR (BLANCO Y NARANJA), ALTURA MIN 1,5M, FIGURA 4-15 RESOLUCIÓN 1885 DE 2015 | C12: UND | Z12: https://fullmineria.com/producto/barricada-metalica-tipo-idu-2/
A13: =+A12+1 -> 12 | B13: BORDILLO NO TRANSPASABLE CONCRETO AMARILLO Y REFUERZO 1/2" CUATRO ANCLAJES 5/8" X 4" DE LARGO (DE15 CM, 20 CM Y 100 CM) | C13: UND
A14: =+A13+1 -> 13 | B14: BORDILLO NO TRANSPASABLE, EN RESINA POLIÉSTER DE COLOR AMARILLO CON ALTA RESISTENCIA AL IMPACTO (TIPO PIRAMIDAL CON INCRUSTACIÓN AL PAVIMENTO EN CUATRO ANCLAJES, LARGO 100 CM, ANCHO DE 20 CM Y ALTURA MINIMA DE 15 CM DE ACUERDO CON LA FIGURA 5-18) | C14: UND
A15: =+A14+1 -> 14 | B15: BORDILLO TRANSPASABLE EN RESINA POLIÉSTER DE COLOR AMARILLO CON ALTA RESISTENCIA AL IMPACTO (TIPO PIRAMIDAL, LARGO 40 CM, ANCHO DE 15 CM Y ALTURA MINIMA DE 8 CM DE ACUERDO CON LA FIGURA 5-18 DE LA RESOLUCIÓN 1885 DE 2015) | C15: UND
A16: =+A15+1 -> 15 | B16: BORDILLO TRANSPASABLE METÁLICO DE COLOR AMARILLO CON ALTA RESISTENCIA AL IMPACTO (TIPO PIRAMIDAL, LARGO 40 CM, ANCHO DE 15 CM Y ALTURA MINIMA DE 8 CM DE ACUERDO CON LA FIGURA 5-18 DE LA RESOLUCIÓN 1885 DE 2015) | C16: UND
A17: =+A16+1 -> 16 | B17: BOYA METÁLICA DE COLOR AMARILLO, CON ALTA RESISTENCIA AL IMPACTO, CON LENTES REFLECTANTES (DIMENSIONES MÁXIMAS: DE 10 CM DE ALTURA Y 24 CM DE BASE) | C17: UND
A18: =+A17+1 -> 17 | B18: BOYA PLÁSTICA DE COLOR AMARILLO, CON ALTA RESISTENCIA AL IMPACTO, CON LENTES REFLECTANTES (DIMENSIONES MÁXIMAS: DE 10 CM DE ALTURA Y 24 CM DE BASE) | C18: UND
A19: =+A18+1 -> 18 | B19: BROCA PUNTA DE TUNGSTENO DE 1/2" | C19: UND | L19: https://www.util.com.co/broca-tipo-usa-pmuro-punta-tungsteno-12-x-4-/p | S19: https://www.homecenter.com.co/homecenter-co/product/555989/broca-tipo-usa-p-muro-punta-tungsteno-1-2-x-4-/555989/
A20: =+A19+1 -> 19 | B20: BROCA PARA METAL 1/2" | C20: UND | K20: https://ferreteriaosorio.com/products/broca-hss-irwin?variant=36692845461654 | S20: https://www.homecenter.com.co/homecenter-co/product/96669/broca-hss-1-2-pulgada-d60a331/96669/
A21: =+A20+1 -> 20 | B21: BROCA TUNGSTENO DE 5/8" | C21: UND | L21: https://www.util.com.co/broca-s-d-s-tungsteno-trab-pesado-discover-58-x-8/p | S21: https://www.homecenter.com.co/homecenter-co/product/555985/broca-tipo-usa-p-muro-punta-tungsteno-5-8-x-6/555985/
A22: =+A21+1 -> 21 | B22: CANECA VIAL DE SEÑALIZACION | C22: UND
A23: =+A22+1 -> 22 | B23: CEMENTO GRIS | C23: KG | S23: https://www.homecenter.com.co/homecenter-co/product/13846/cemento-argos-gris-50kg/13846/ | T23: https://www.easy.com.co/cemento-argos-portland-tipo-i-x-50-kg/p
A24: =+A23+1 -> 23 | B24: CHAZO ANCLA DE CUNA 1/2 X 4 1/2 | C24: UND | M24: https://laferretemia.com/index.php/product/chazo-cuna/
A25: =+A24+1 -> 24 | B25: CINTA DE SEÑALIZACIÓN CALIBRE MÍNIMO DE 2 MM, ANCHO 10 CM X 500M DE LONGITUD | C25: ML | S25: https://www.homecenter.com.co/homecenter-co/product/336895/cinta-de-acordonamiento-rollo-500mt/336895/
A26: =+A25+1 -> 25 | B26: CONCRETO HIDRAULICO 2000 PSI 14 MPA (140 KG/M2) | C26: M³
A27: =+A26+1 -> 26 | B27: CONCRETO HIDRAULICO 2500 PSI 17 MPA (175 KG/CM2) | C27: M³
A28: =+A27+1 -> 27 | B28: CONCRETO HIDRAULICO 3000 PSI 21 MPA (210 KG/CM2) | C28: M³
A29: =+A28+1 -> 28 | B29: CONCRETO HIDRAULICO 3500 PSI 24 MPA (245 KG/CM2) | C29: M³
A30: =+A29+1 -> 29 | B30: CONCRETO HIDRAULICO 4000 PSI 28 MPA (280 KG/CM2) | C30: M³
A31: =+A30+1 -> 30 | B31: CONCRETO HIDRAULICO 5000 PSI 34 MPA (350 KG/CM2) | C31: M³
A32: =+A31+1 -> 31 | B32: CONCRETO GRAVA FINA 3000 PSI 21 MPA (210 KG/CM2) | C32: M³
A33: =+A32+1 -> 32 | B33: CONO VIAL. | C33: UND
A34: =+A33+1 -> 33 | B34: CONO VIAL CONSTRUIDO EN MATERIAL SINTETICO FLEXIBLE CON TRES BANDAS DE 10 CM EN PAPEL REFLECTIVO BLANCO TIPO IV O SUPERIOR, ALTURA 90 CM. | C34: UND
A35: =+A34+1 -> 34 | B35: DELINEADOR DE CORONA (HITO DE ARISTA) MATERIAL SINTETICO FLEXIBLE BLANCO, FRANJA NEGRA Y MATERIAL RETROFLECTIVO (TIPO "A", FIJADO EN CONCRETO, MIN DE 75 Y MÁX DE 120 CM FIGURA 5-2 Y 5-3) | C35: UND | Z35: https://fullmineria.com/producto/hitos-de-arista/
A36: =+A35+1 -> 35 | B36: DELINEADOR TUBULAR SIMPLE (HITO PLÁSTICO - FIGURA 5-17A) MATAREIAL SINTETICO FLEXIBLE COLOR AMARILLO CON TRES BANDAS DE 7,5 CM EN PAPEL REFLECTIVO BLANCO (MÍN 70 CM Y MÍNIMO DE 8 CM) | C36: UND | H36: https://provesi.com.co/otros-senalizacion-vial/842-hito-delineador-vial-flexible-naranja-tubo-senalizacion-tg-tornillos.html
A37: =+A36+1 -> 36 | B37: DELINEADOR TUBULAR TIPO CANALIZADOR DE 129 CM DE ALTURA. | C37: UND | H37: https://provesi.com.co/otros-senalizacion-vial/837-senalizador-vial-tubular-base-cono-naranja-baliza-3-reflectivos-pg-.html
A38: =+A37+1 -> 37 | B38: DISCO DE CORTE / ABRASIVO 4 1/2 X 1/8" | C38: UND | Z38: https://tiendabosch.co/discos-abrasivos/21121-disco-flap-fibra-4-12-curvo-grano-40-bosch-.html
A39: =+A38+1 -> 38 | B39: DISOLVENTE AJUSTADOR LENTO XILOL | C39: GALON | S39: https://www.homecenter.com.co/homecenter-co/product/338593/disolvente-xilol-industrial-x-3-litros/338593/ | V39: https://ferropetrol.com/shop/pintuco/galon-ajustador-xilol-21204-10017263/
A40: =+A39+1 -> 39 | B40: ESTOPEROL METÁLICO CON ESPIGO, DIAMETRO MÍNIMO 10 CM Y ALTURA MÁXIMA 2,5 CM DE ALTURA CON UN ESPIGO DE MÍNIMO 5 CM (NTC 4745) | C40: UND
...

Sheet PERSONAL
F1: PSS
A2: N° | B2: DESCRIPCION | C2: JORNAL | D2: JOR *PSS | E2: JORNAL TOTAL | F2: 0.5729 | G2: $ / Hra | H2: RENDIMIENTO/HRA | I2: PRECIOS 2017 | J2: SECOP II SDM-011-2020 ESTRUCTURADOR COLOMBIA 13-10-2020 | K2: SECOP II SDM-011-2020 INTEGRAL S.A. 13-10-2020 | L2: LPC INGENIERÍA VIAL 14-10-2020 | M2: PROYECTADOS DEL 2021 A 2024 | N2: IDU | O2: SOCINTER | P2: PROMEDIO | Q2: IDU 2024 | R2: JR 2021 | S2: PROMEDIO EN MES
A3: 1 | B3: AUXILIAR DE TRÁFICO | C3: =+IFERROR(P3,0) -> 56985 | D3: =+C3*$F$2 -> 32646.706 | E3: =+ROUND((C3+D3),0) -> 89632 | F3: =+C3*30 -> 1709550 | G3: =+ROUND(E3/30/8,2) -> 373.47 | M3: =R3*110.07%*116%*112.07% -> 66805.512 | N3: =+Q3 -> 50600 | O3: =(1350000/30)*1.19 -> 53550 | P3: =+ROUND(AVERAGE(I3:O3),0) -> 56985 | Q3: =1518000/30 -> 50600 | R3: 46687 | S3: =P3*30 -> 1709550
A4: =+A3+1 -> 2 | B4: AUXILIAR DE TRÁFICO NOCTURNO | C4: =+IFERROR(P4,0) -> 62383 | D4: =+C4*$F$2 -> 35739.221 | E4: =+ROUND((C4+D4),0) -> 98122 | F4: =+C4*30 -> 1871490 | M4: =R4*110.07%*116%*112.07% -> 66805.512 | N4: =+Q4 -> 66792 | O4: =(1350000/30)*1.19 -> 53550 | P4: =+ROUND(AVERAGE(I4:O4),0) -> 62383 | Q4: =2003760/30 -> 66792 | R4: 46687 | S4: =P4*30 -> 1871490
A5: =+A4+1 -> 3 | B5: AYUDANTE | C5: =+IFERROR(P5,0) -> 46078 | D5: =+C5*$F$2 -> 26398.086 | E5: =+ROUND((C5+D5),0) -> 72476 | F5: =+C5*30 -> 1382340 | M5: =R5*110.07%*116%*112.07% -> 43334.078 | N5: =+Q5 -> 43333.333 | O5: =(1300000/30)*1.19 -> 51566.667 | P5: =+ROUND(AVERAGE(I5:O5),0) -> 46078 | Q5: =1300000/30 -> 43333.333 | R5: 30284 | S5: =P5*30 -> 1382340
A6: =+A5+1 -> 4 | B6: AYUDANTE NOCTURNO | C6: =+IFERROR(P6,0) -> 53012 | D6: =+C6*$F$2 -> 30370.575 | E6: =+ROUND((C6+D6),0) -> 83383 | F6: =+C6*30 -> 1590360 | M6: =R6*110.07%*116%*112.07% -> 58501.864 | N6: =+Q6 -> 57200 | O6: =1300000/30 -> 43333.333 | P6: =+ROUND(AVERAGE(I6:O6),0) -> 53012 | Q6: =1716000/30 -> 57200 | R6: 40884 | S6: =P6*30 -> 1590360
A7: =+A6+1 -> 5 | B7: COLAMINADOR | C7: =+IFERROR(P7,0) -> 58030 | D7: =+C7*$F$2 -> 33245.387 | E7: =+ROUND((C7+D7),0) -> 91275 | F7: =+C7*30 -> 1740900 | M7: =R7*110.07%*116%*112.07% -> 70424.317 | N7: =+Q7 -> 53667 | O7: =1500000/30 -> 50000 | P7: =+ROUND(AVERAGE(I7:O7),0) -> 58030 | Q7: =+[20]insumos!$K$1375 -> 53667 | R7: 49216 | S7: =P7*30 -> 1740900
A8: =+A7+1 -> 6 | B8: CONDUCTOR | C8: =+IFERROR(P8,0) -> 52088 | D8: =+C8*$F$2 -> 29841.215 | E8: =+ROUND((C8+D8),0) -> 81929 | F8: =+C8*30 -> 1562640 | M8: =R8*110.07%*116%*112.07% -> 55662.913 | N8: =+Q8 -> 50600 | O8: =1500000/30 -> 50000 | P8: =+ROUND(AVERAGE(I8:O8),0) -> 52088 | Q8: =1518000/30 -> 50600 | R8: 38900 | S8: =P8*30 -> 1562640
A9: =+A8+1 -> 7 | B9: CORTADOR | C9: =+IFERROR(P9,0) -> 60119 | D9: =+C9*$F$2 -> 34442.175 | E9: =+ROUND((C9+D9),0) -> 94561 | F9: =+C9*30 -> 1803570 | M9: =R9*110.07%*116%*112.07% -> 70424.317 | N9: =+Q9 -> 59933.333 | O9: =1500000/30 -> 50000 | P9: =+ROUND(AVERAGE(I9:O9),0) -> 60119 | Q9: =1798000/30 -> 59933.333 | R9: 49216 | S9: =P9*30 -> 1803570
A10: =+A9+1 -> 8 | B10: DIBUJANTE 1 | C10: =+IFERROR(P10,0) -> 83465 | D10: =+C10*$F$2 -> 47817.099 | E10: =+ROUND((C10+D10),0) -> 131282 | F10: =+C10*30 -> 2503950 | M10: =R10*110.07%*116%*112.07% -> 97460.18 | N10: =+Q10 -> 99600 | O10: =1600000/30 -> 53333.333 | P10: =+ROUND(AVERAGE(I10:O10),0) -> 83465 | Q10: =2988000/30 -> 99600 | R10: 68110 | S10: =P10*30 -> 2503950
A11: =+A10+1 -> 9 | B11: DIBUJANTE 2 | C11: =+IFERROR(P11,0) -> 64903 | D11: =+C11*$F$2 -> 37182.929 | E11: =+ROUND((C11+D11),0) -> 102086 | F11: =+C11*30 -> 1947090 | M11: =R11*110.07%*116%*112.07% -> 82673.019 | N11: =+Q11 -> 47133.333 | P11: =+ROUND(AVERAGE(I11:O11),0) -> 64903 | Q11: =1414000/30 -> 47133.333 | R11: 57776 | S11: =P11*30 -> 1947090
A12: =+A11+1 -> 10 | B12: DOBLADOR | C12: =+IFERROR(P12,0) -> 58030 | D12: =+C12*$F$2 -> 33245.387 | E12: =+ROUND((C12+D12),0) -> 91275 | F12: =+C12*30 -> 1740900 | M12: =R12*110.07%*116%*112.07% -> 70424.317 | N12: =+Q12 -> 53667 | O12: =1500000/30 -> 50000 | P12: =+ROUND(AVERAGE(I12:O12),0) -> 58030 | Q12: =+Q7 -> 53667 | R12: 49216 | S12: =P12*30 -> 1740900
A13: =+A12+1 -> 11 | B13: ING SEGURIDAD INDUSTRIAL Y SALUD OCUPACIONAL | C13: =+IFERROR(P13,0) -> 206027 | D13: =+C13*$F$2 -> 118032.87 | E13: =+ROUND((C13+D13),0) -> 324060 | F13: =+C13*30 -> 6180810 | M13: =R13*110.07%*116%*112.07% -> 181154.88 | N13: =+Q13 -> 230900 | P13: =+ROUND(AVERAGE(I13:O13),0) -> 206027 | Q13: =6927000/30 -> 230900 | R13: 126600 | S13: =P13*30 -> 6180810
A14: =+A13+1 -> 12 | B14: INGENIERO AUXILIAR DE INGENIERIA | C14: =+IFERROR(P14,0) -> 137585 | D14: =+C14*$F$2 -> 78822.446 | E14: =+ROUND((C14+D14),0) -> 216407 | F14: =+C14*30 -> 4127550 | M14: =R14*110.07%*116%*112.07% -> 110404.31 | N14: =+Q14 -> 164766.67 | P14: =+ROUND(AVERAGE(I14:O14),0) -> 137585 | Q14: =4943000/30 -> 164766.67 | R14: 77156 | S14: =P14*30 -> 4127550
A15: =+A14+1 -> 13 | B15: INGENIERO ESPECIALISTA | C15: =+IFERROR(P15,0) -> 241827 | D15: =+C15*$F$2 -> 138542.69 | E15: =+ROUND((C15+D15),0) -> 380370 | F15: =+C15*30 -> 7254810 | M15: =R15*110.07%*116%*112.07% -> 255082.09 | N15: =+Q15 -> 287066.67 | O15: =5500000/30 -> 183333.33 | P15: =+ROUND(AVERAGE(I15:O15),0) -> 241827 | Q15: =8612000/30 -> 287066.67 | R15: 178264 | S15: =P15*30 -> 7254810
A16: =+A15+1 -> 14 | B16: INGENIERO RESIDENTE DIURNO | C16: =+IFERROR(P16,0) -> 191141 | D16: =+C16*$F$2 -> 109504.68 | E16: =+ROUND((C16+D16),0) -> 300646 | F16: =+C16*30 -> 5734230 | M16: =R16*110.07%*116%*112.07% -> 181154.88 | N16: =+Q16 -> 258933.33 | O16: =4000000/30 -> 133333.33 | P16: =+ROUND(AVERAGE(I16:O16),0) -> 191141 | Q16: =7768000/30 -> 258933.33 | R16: 126600 | S16: =P16*30 -> 5734230
A17: =+A16+1 -> 15 | B17: INGENIERO RESIDENTE NOCTURNO | C17: =+IFERROR(P17,0) -> 226905 | D17: =+C17*$F$2 -> 129993.87 | E17: =+ROUND((C17+D17),0) -> 356899 | F17: =+C17*30 -> 6807150 | M17: =R17*110.07%*116%*112.07% -> 181154.88 | N17: =+Q17 -> 349560 | O17: =4500000/30 -> 150000 | P17: =+ROUND(AVERAGE(I17:O17),0) -> 226905 | Q17: =Q16*1.35 -> 349560 | R17: 126600 | S17: =P17*30 -> 6807150
A18: =+A17+1 -> 16 | B18: JEFE DE CUADRILLA DIURNO | C18: =+IFERROR(P18,0) -> 105557 | D18: =+C18*$F$2 -> 60473.605 | E18: =+ROUND((C18+D18),0) -> 166031 | F18: =+C18*30 -> 3166710 | M18: =R18*110.07%*116%*112.07% -> 130003.67 | N18: =+Q18 -> 130000 | O18: =1700000/30 -> 56666.667 | P18: =+ROUND(AVERAGE(I18:O18),0) -> 105557 | Q18: =3900000/30 -> 130000 | R18: 90853 | S18: =P18*30 -> 3166710
A19: =+A18+1 -> 17 | B19: JEFE DE CUADRILLA NOCTURNO | C19: =+IFERROR(P19,0) -> 135890 | D19: =+C19*$F$2 -> 77851.381 | E19: =+ROUND((C19+D19),0) -> 213741 | F19: =+C19*30 -> 4076700 | M19: =R19*110.07%*116%*112.07% -> 175504.16 | N19: =+Q19 -> 175500 | O19: =1700000/30 -> 56666.667 | P19: =+ROUND(AVERAGE(I19:O19),0) -> 135890 | Q19: =Q18*1.35 -> 175500 | R19: 122651 | S19: =P19*30 -> 4076700
A20: =+A19+1 -> 18 | B20: MAESTRO | C20: =+IFERROR(P20,0) -> 111908 | D20: =+C20*$F$2 -> 64112.093 | E20: =+ROUND((C20+D20),0) -> 176020 | F20: =+C20*30 -> 3357240 | M20: =R20*110.07%*116%*112.07% -> 129057.83 | N20: =+Q20 -> 130000 | O20: =2300000/30 -> 76666.667 | P20: =+ROUND(AVERAGE(I20:O20),0) -> 111908 | Q20: =3900000/30 -> 130000 | R20: 90192 | S20: =P20*30 -> 3357240
A21: =+A20+1 -> 19 | B21: MAESTRO NOCTURNO | C21: =+IFERROR(P21,0) -> 142131 | D21: =+C21*$F$2 -> 81426.85 | E21: =+ROUND((C21+D21),0) -> 223558 | F21: =+C21*30 -> 4263930 | M21: =R21*110.07%*116%*112.07% -> 174226.35 | N21: =+Q21 -> 175500 | O21: =2300000/30 -> 76666.667 | P21: =+ROUND(AVERAGE(I21:O21),0) -> 142131 | Q21: =5265000/30 -> 175500 | R21: 121758 | S21: =P21*30 -> 4263930
A22: =+A21+1 -> 20 | B22: OFICIAL | C22: =+IFERROR(P22,0) -> 64512 | D22: =+C22*$F$2 -> 36958.925 | E22: =+ROUND((C22+D22),0) -> 101471 | F22: =+C22*30 -> 1935360 | M22: =R22*110.07%*116%*112.07% -> 75203.6 | N22: =+Q22 -> 65000 | O22: =1600000/30 -> 53333.333 | P22: =+ROUND(AVERAGE(I22:O22),0) -> 64512 | Q22: =1950000/30 -> 65000 | R22: 52556 | S22: =P22*30 -> 1935360
