Workbook

Sheet capacitacion
A1: convenio IDPAC - SAN CRISTOBAL
A2: PERFIL | B2: DESCRIPCION | C2: total personal requerido | D2: PLAZO | E2: VALOR
A3: COORDINADOR | B3: Título profesional en administración pública, ciencias humanas, o ciencias de la educación, con más de 60 meses de experiencia profesional debidamente certificada, preferiblemente en educación y desarrollo de proyectos sociales orientados al fortalecimiento de los sectores poblacionales. | C3: 1 | D3: 7 | E3: 8000000 | F3: =E3*D3*C3 -> 56000000 | H3: =E3 -> 8000000
A4: APOYO COORDINADOR | B4: Título de formación técnica o tecnológica, o acreditación y aprobación del 50% o más de un plan de estudios de una carrera profesional afín con el objeto del contrato, más de 24 meses de experiencia relacionada debidamente certificada. | C4: 2 | D4: 7 | E4: 7000000 | F4: =E4*D4*C4 -> 98000000 | H4: =E4*4 -> 28000000
A5: CAPACITADOR/ ADMIN | B5: Título profesional en ciencias humanas, ciencias sociales, ciencias de la educación, administración pública y/o derecho , con experiencia de 48 meses de experiencia debidamente certificada. | C5: 4 | D5: 5 | E5: 5000000 | F5: =E5*D5*C5 -> 100000000 | H5: =E5*2 -> 10000000
A6: CAPACITADOR/ ADMIN | B6: Título profesional en ciencias de la educación, con experiencia de 48 meses de experiencia debidamente certificada. | C6: 3 | D6: 5 | E6: 5000000 | F6: =E6*D6*C6 -> 75000000 | H6: =E6*2 -> 10000000
A7: PONENTE CONFERENCISTA | B7: Experto en los temas a tratar en el congreso de participación ciudadana, que se encargarán de presentar sus investigaciones, experiencias y propuestas. | C7: 2 | D7: 0.03 | E7: 5000000 | F7: =E7*D7*C7 -> 300000 | H7: =SUM(H3:H6) -> 56000000
A8: EXPERTO EN OUTDOOR TRAINING Y COACHING | B8: Cada uno adelantará una (1) ponencias de una (1) hora cada una. | C8: 1 | D8: 0.03 | E8: 5000000 | F8: =E8*D8*C8 -> 150000
C9: =SUM(C3:C8) -> 13 | F9: =SUM(F3:F8) -> 329450000
A10: COMPONENTE 1: CONGRESO DE PARTICIPACIÓN CIUDADANA Y LIDERAZGO PARA 150 ACTORES SOCIALES
A11: ITEM | B11: DESCRIPCION | C11: CANTIDAD | D11: COD REF | E11: VALOR UNITARIO | F11: TOTAL
A12: Transporte | B12: Buses con capacidad para 40 personas que realicen recorrido ida y vuelta. Nota: El contratista presentará los siguientes documentos de cada bus: -Tarjeta de propiedad del bus -SOAT -Certificado de revisión técnico mecánica vigente (Para los casos que aplique según modelo del bus) -Documento de identidad del conductor -Licencia de conducción del conductor -Certificado de comparendos del conductor (No podrá tener comparendos vigentes) -Registro fotográfico y fílmico del interior y exterior del bus que evidencie sus condiciones y la placa del mismo. -Póliza de responsabilidad civil extracontractual -Modelo 2020 en adelante Nota 1: En caso de avería, falla mecánica o alguna situación que imposibilite la circulación de algún(os) bus(es), el contratista deberá estar en la capacidad de cambiar el (los) mismo(s) de manera inmediata. | C12: 4 | D12: 564 | E12: 1985400 | F12: =E12*C12 -> 7941600
A13: Refrigerios | B13: Tipo B: Sándwich pan baguette 15 cm, que incluya: • 1 proteína de 120gr (carne, pechuga de pavo, salami, pepperoni, roast beef o lomo de cerdo). • 1 tajada de queso de 28 gr, puede ser mozarella, doble-crema. • verduras (3 rodajas de tomate, 1 hoja de lechuga, pepinillos). • 1 gaseosa de 330ml • 1 fruta de cosecha • 1 dulce (chocolatina 12gr) Nota 1: Se debe garantizar dos sobres de salsas (tomate y mayonesa) de 80gr Nota 2: Los mismos deberán estar contenidos en un empaque tipo bolsa de papel Kraft. | C13: 165 | D13: 25 | E13: 20900 | F13: =E13*C13 -> 3448500
A14: Almuerzo | B14: Almuerzo balanceado: con 250g de proteína cocida o a la plancha. (Res, Pollo, Cerdo o pescado), dos porciones variadas de carbohidratos o cereales de 100g cada una, una porción de verduras o legumbres de 100gr, bebida de 200ml de marca reconocida en el mercado, y un postre, servidas calientes a la mesa de manera individual conservando la calidad física y microbiológica y garantizar la inocuidad de los alimentos. Nota 1: 15 alimentos más que corresponden al equipo logístico. Nota 2: El contratista presentará tres (3) propuestas con registro fílmico y fotográfico, que cumplan con las condiciones técnicas, para la aprobación del FDLSC | C14: 165 | D14: 9 | E14: 32050 | F14: =E14*C14 -> 5288250
A15: Agenda | B15: Tipo cuaderno con tapa en pasta dura con anillo oculto, impresión a full color, plastificada mate en papel ecológico tamaño media carta argollada doble O, de 100 hojas internas impresas a una tinta en papel ecológico de 75 gr., con 8 separadores impresos a full color por las dos caras en papel ecológico de 150 gr. Incluye diseño Nota 1: El contratista presentará tres (3) propuestas que cumplan con las condiciones técnicas correspondientes a manual de prensa, para la aprobación del FDLSC | C15: 150 | D15: 461 | E15: 19500 | F15: =E15*C15 -> 2925000
A16: Esfero | B16: Acartonados personalizados a una tinta con diseño alusivo al FDLSC, punta y clip negro. Incluye diseño. Nota 1: El contratista presentará tres (3) propuestas que cumplan con las condiciones técnicas correspondientes a manual de prensa, para la aprobación del FDLSC | C16: 150 | D16: 388 | E16: 2300 | F16: =E16*C16 -> 345000
A17: Escarapela | B17: Papel propalcote 300gr, impresas a full color según diseño entregado por la Alcaldía Local. Incluye: Porta escarapelas y reata. Nota 1: 15 escarapelas más que corresponden al equipo logístico Incluye diseño Nota 2: El contratista presentará tres (3) propuestas que cumplan con las condiciones técnicas correspondientes a manual de prensa, para la aprobación del FDLSC | C17: 165 | D17: 473 | E17: 6850 | F17: =E17*C17 -> 1130250 | G17: =SUM(F12:F17) -> 21078600
A18: COMPONENTE 2: PROCESO DE FORMACIÓN EN PARTICIPACIÓN CIUDADANA PARA 80 NIÑOS, NIÑAS Y ADOLESCENTES
A19: ITEM | B19: DESCRIPCION | C19: CANTIDAD | D19: COD REF | E19: VALOR UNITARIO | F19: TOTAL
A20: CERTIFICADOS | B20: Certificados de reconocimiento en papel opalina gramaje de 125 gramos a 3 tintas con logos institucionales. Diseño coordinado en comité técnico. Incluye diseño. Nota 1: El contratista presentará tres (3) propuestas que cumplan con las condiciones técnicas correspondientes a manual de prensa, para la aprobación del FDLSC | C20: 80 | D20: 470 | E20: 6200 | F20: =E20*C20 -> 496000
A21: MATERIAL PEDAGOGICO | B21: Material que se requiera para el desarrollo de las sesiones del proceso de formación, por un valor de $2.000.000 ($500.000 por cada grupo). | C21: 4 | D21: 0 | E21: 500000 | F21: =E21*C21 -> 2000000
A22: SALIDA AL PARQUE MUNDO AVENTURA | B22: PASAPORTE GOLD | C22: 80 | D22: 0 | E22: 75000 | F22: =E22*C22 -> 6000000
A23: REFRIGERIOS AM | B23: Tipo B: Sándwich pan baguette 15 cm, que incluya: • 1 proteína de 120gr (carne, pechuga de pavo, salami, pepperoni, roast beef o lomo de cerdo). • 1 tajada de queso de 28 gr, puede ser mozarella, doble-crema. • verduras (3 rodajas de tomate, 1 hoja de lechuga, pepinillos). • 1 gaseosa de 330ml • 1 fruta de cosecha • 1 dulce (chocolatina 12gr) Nota 1: Se debe garantizar dos sobres de salsas (tomate y mayonesa) de 80gr Nota 2: Los mismos deberán estar contenidos en un empaque tipo bolsa de papel Kraft. | C23: 165 | D23: 25 | E23: 20900 | F23: =E23*C23 -> 3448500
A24: ALMUERZO | B24: lmuerzo balanceado: con 150g de proteína cocida o a la plancha. (Res, Pollo, Cerdo o pescado), dos porciones variadas de carbohidratos o cereales de 100g cada una, una porción de verduras o legumbres de 100gr, bebida de 200ml de marca reconocida en el mercado, y un postre, servidas calientes a la mesa de manera individual conservando la calidad física y microbiológica y garantizar la inocuidad de los alimentos. Nota 1: 15 alimentos más que corresponden al equipo logístico. Nota 2: El contratista presentará tres (3) propuestas con registro fílmico y fotográfico, que cumplan con las condiciones técnicas, para la aprobación del FDLSC. Nota 3: Se debe tener en cuenta la voz de las y los participantes en aras que puedan decidir sobre el menú de esa salida. | C24: 165 | D24: 9 | E24: 32050 | F24: =E24*C24 -> 5288250
A25: REFRIGERIOS PM | B25: Tipo B: Sándwich pan baguette 15 cm, que incluya: • 1 proteína de 120gr (carne, pechuga de pavo, salami, pepperoni, roast beef o lomo de cerdo). • 1 tajada de queso de 28 gr, puede ser mozarella, doble-crema. • verduras (3 rodajas de tomate, 1 hoja de lechuga, pepinillos). • 1 gaseosa de 330ml • 1 fruta de cosecha • 1 dulce (chocolatina 12gr) Nota 1: Se debe garantizar dos sobres de salsas (tomate y mayonesa) de 80gr Nota 2: Los mismos deberán estar contenidos en un empaque tipo bolsa de papel Kraft. | C25: 165 | D25: 25 | E25: 20900 | F25: =E25*C25 -> 3448500
A26: ACOMPAÑAMIENTO | B26: Título de formación técnica o tecnológica, o acreditación y aprobación del 50% o más de un plan de estudios de una carrera profesional en ciencias de la educación, más de 12 meses de experiencia relacionada debidamente certificada en acciones con NNAJ y/o logística Nota 1. Serán para el día del cierre y se contara 1 persona por cada 10 NNAJ Nota 2 se encargarán de cada una de las necesidades y logística de su grupo asignado | C26: 8 | D26: 449 | E26: 161900 | F26: =E26*C26 -> 1295200
A27: TRANSPORTE | B27: Buses con capacidad para 40 personas que realicen recorrido de ida y vuelta, al parque de diversiones dentro de Bogotá, por una jornada de seis (10) horas. Nota: El contratista presentará los siguientes documentos de cada bus: -Tarjeta de propiedad del bus -SOAT -Certificado de revisión técnico mecánica vigente (Para los casos que aplique según modelo del bus) -Documento de identidad del conductor -Licencia de conducción del conductor -Certificado de comparendos del conductor (No podrá tener comparendos vigentes) -Registro fotográfico y fílmico del interior y exterior del bus que evidencie sus condiciones y la placa del mismo. -Póliza de responsabilidad civil extracontractual -Modelo 2020 en adelante Nota: En caso de avería, falla mecánica o alguna situación que imposibilite la circulación de algún(os) bus(es), el contratista deberá estar en la capacidad de cambiar el (los) mismo(s) de manera inmediata. | C27: 3 | D27: 564 | E27: 1985400 | F27: =E27*C27 -> 5956200
A28: POLIZA | B28: Con cobertura para los 80 niños, niñas y adolescentes, para un (1) recorrido | C28: 80 | D28: 0 | E28: 50000 | F28: =E28*C28 -> 4000000
A29: GORRA | B29: Gorra tipo “baseball” o “casual” con una estructura de seis paneles. Paneles: Seis paneles cosidos que forman la corona de la gorra, proporcionando una forma estructurada y ajustable. Visera: Visera pre-curvada para protección solar y estilo clásico. Puede tener refuerzo interno para mantener su forma. Correa de cierre: Correa ajustable de tela. Bordado: La ubicación del bordado se realiza en la parte frontal de la gorra, en el centro o en una ubicación personalizada según el diseño solicitado. Tipo de Bordado: Bordado de alta calidad utilizando hilos de poliéster o algodón resistente. Puede ser bordado en relieve, plano o con técnicas de bordado especializadas (como 3D, satín Stich, o fill stitch). Ajuste y tamaño: Ajustable, con la posibilidad de adaptarse a diferentes tamaños de cabeza gracias a la correa de cierre. Típicamente, el rango de ajuste es de 54 cm a 60 cm de diámetro. Nota 1: El contratista presentará tres (3) propuestas que cumplan con las condiciones técnicas correspondientes a manual de prensa, para la aprobación del FDLSC | C29: 80 | D29: https://articulo.mercadolibre.com.co/MCO-2394592392-gorras-unicolor-publicitaria-cachuchas-con-cierre-en-hebilla-_JM?searchVariation=180535176460#position%3D22%26search_layout%3Dgrid%26type%3Ditem%26tracking_id%3Ddd3767e8-5f71-4631-93d6-728b3aec1469#polycard_client=search-nordic&position=22&search_layout=grid&type=item&tracking_id=dd3767e8-5f71-4631-93d6-728b3aec1469 | E29: 19200 | F29: =E29*C29 -> 1536000
A30: CAMISETA | B30: Materiales y composición: Tela Principal: 100% algodón piqué o una mezcla de algodón con poliéster (65% algodón y 35% poliéster) para una mayor durabilidad, comodidad y transpirabilidad. Diseño y Estructura: Tipo polo clásico con cuello tipo “polo” o “pique”, con botones en la parte frontal. Paneles: Corte en forma de “T” con un diseño de manga corta. Los paneles son cosidos con costuras reforzadas para asegurar durabilidad. Cuello: Cuello tipo ribeteado, diseñado para mantener su forma y evitar el estiramiento. Generalmente, el cuello puede ser de tela a rayas o sólido, dependiendo del diseño. Botones: Tres botones en la parte frontal del cuello, hechos de plástico o material resistente a la corrosión. Pueden ser del mismo color que la camiseta o en contraste. Mangas: Mangas cortas con ribete en los puños, a juego con el diseño del cuello. Los ribetes pueden ser a rayas o sólidos. Bordado: En la parte delantera de la camiseta, a la altura del pecho, y en el parte posterior centrado Nota 1: las camisetas deben estar estampadas | C30: 80 | D30: 469 | E30: 56800 | F30: =E30*C30 -> 4544000
G32: =SUM(F20:F30) -> 38012650
A33: COMPONENTE 3: PROCESO DE FORMACIÓN EN PARTICIPACIÓN CIUDADANA PARA 60 ACTORES SOCIALES LOCALES
A34: ITEM | B34: DESCRIPCION | C34: CANTIDAD | D34: COD REF | E34: VALOR UNITARIO | F34: TOTAL
A35: CERTIFICADOS | B35: Certificados de reconocimiento en papel opalina gramaje de 125 gramos a 3 tintas con logos institucionales. Diseño coordinado en comité técnico. Incluye diseño. | C35: 60 | D35: 470 | E35: 6200 | F35: =E35*C35 -> 372000
A36: AGENDA | B36: Tipo cuaderno con tapa en pasta dura con anillo oculto, impresión a full color, plastificada mate en papel ecológico tamaño media carta argollada doble O, de 100 hojas internas impresas a una tinta en papel ecológico de 75 gr., con 8 separadores impresos a full color por las dos caras en papel ecológico de 150 gr. Incluye diseño. | C36: 60 | D36: 461 | E36: 19500 | F36: =E36*C36 -> 1170000
A37: ESFERO | B37: Metálicos personalizados a una tinta con diseño alusivo al FDLSC, punta y clip negro (incluye diseño). | C37: 60 | D37: 388 | E37: 2300 | F37: =E37*C37 -> 138000
A38: MATERIAL PEDAGOGICO - CAJA DE HERRAMIENTAS | B38: Material que se requiera para el desarrollo de las sesiones del proceso de formación, por un valor de $2.100.000 ($700.000 por cada grupo). Desarrollo de una caja de herramientas para cada persona árticipante del grupo con material de apoyo y pedagógico que permita profundizar los conceptos, cuadernillos de practica y material para multiplicación del conocimiento adquirido MARCADORES ESFEROS PAPEL PERIODICO CARTULINA BORRADOR CUADERNO DONDE SE TIENE QUE TRABAJO DE LOS 11 MODULOS | C38: 3 | D38: 0 | E38: 700000 | F38: =E38*C38 -> 2100000
A39: OLLA COMUNITARIA | B39: Adquisición de elementos para el desarrollo de una olla comunitarias: verdura, carbohidrato, proteína, menaje biodegradable) y demás elementos para la jornada de cierre de cada uno de los grupos formados por valor de $550.000 cada una. | C39: 3 | D39: 0 | E39: 550000 | F39: =E39*C39 -> 1650000 | G39: =SUM(F35:F39) -> 5430000
A40: COMPONENTE 4: PROCESO DE MULTIPLICACION EN PARTICIPACIÓN CIUDADANA PARA 600 PERSONAS LOCALES
A41: ITEM | B41: DESCRIPCION | C41: CANTIDAD | D41: COD REF | E41: VALOR UNITARIO | F41: TOTAL
...

Sheet fortalecimiento
A1: convenio IDPAC - SAN CRISTOBAL
A2: PERFIL | B2: COMPONENTE FORTALECIMIENTO | C2: total personal requerido | D2: PLAZO | E2: VALOR | F2: VALOR TOTAL
A3: COORDINADOR | B3: 1 | C3: =SUM(B3:B3) -> 1 | D3: 7 | E3: 8000000 | F3: =E3*D3*C3 -> 56000000 | G3: =E3*2 -> 16000000 | H3: 8000000 | J3: =E3*2 -> 16000000
A4: ADMINISTRATIVO | B4: 2 | C4: =SUM(B4:B4) -> 2 | D4: 7 | E4: 7000000 | F4: =E4*D4*C4 -> 98000000 | G4: =E4*2 -> 14000000 | H4: 6000000 | J4: =E4*4 -> 28000000
A5: PROFESIONAL SOCIAL / ADMIN | B5: 4 | C5: =SUM(B5:B5) -> 4 | D5: 6 | E5: 5000000 | F5: =E5*D5*C5 -> 120000000 | G5: =(E5*2)*2 -> 20000000 | H5: 20000000 | J5: =E5*C5 -> 20000000
A6: PROFESIONAL TECNICO | B6: 1 | C6: 1 | D6: 6 | E6: 5000000 | F6: =E6*D6*C6 -> 30000000 | G6: =SUM(G3:G5) -> 50000000 | H6: 5000000 | I6: =SUM(H3:H6) -> 39000000 | J6: =E6*C6 -> 5000000
E7: subtotal | F7: =SUM(F3:F6) -> 304000000 | H7: =SUM(H3:H6) -> 39000000 | J7: =SUM(J3:J6) -> 69000000
A8: convenios con juntas | B8: 80 | E8: 10000000 | F8: =E8*B8 -> 800000000 | G8: =SUM(E3:E6) -> 25000000
A9: convenios solidarios | B9: 10000000 | E9: total | F9: =F8+F7 -> 1104000000 | H9: =E3+E4 -> 15000000
C10: =SUM(C3:C9) -> 8

Sheet contrapartida
A1: CONTRAPARTIDA IDPAC
A2: PERFIL | B2: IDPAC | C2: total personal requerido | D2: PLAZO | E2: VALOR
A3: Coordinador juridico | B3: 1 | C3: =SUM(B3:B3) -> 1 | D3: 7 | E3: 8000000 | F3: =E3*D3*C3 -> 56000000
A4: Abogado de apoyo | B4: 5 | C4: =SUM(B4:B4) -> 5 | D4: 7 | E4: 5000000 | F4: =E4*D4*C4 -> 175000000
A5: PROFESIONAL TECNICO | B5: 2 | C5: =SUM(B5:B5) -> 2 | D5: 7 | E5: 5000000 | F5: =E5*D5*C5 -> 70000000
A6: video | B6: 60 | C6: 1 | D6: 1 | E6: 5000000 | F6: =E6*D6*C6 -> 5000000
A7: divulgacion | B7: 60 | C7: 1 | D7: 1 | E7: 5000000 | F7: =E7*D7*C7 -> 5000000
A8: curso de presupuestos participativos | B8: 1 | C8: 60 | D8: 3 | E8: 250000 | F8: =E8*D8*C8 -> 45000000
E9: subtotal | F9: =SUM(F3:F8) -> 356000000

Sheet COMPILADO PTO
A1: convenio SAN CRISTOBAL - IDPAC
A2: FORMACION | B2: =capacitacion!F53 -> 518994850
A3: FORTALECIMIENTO | B3: =fortalecimiento!F9 -> 1104000000
A4: CONTRAPARTIDA IDPAC | B4: =contrapartida!F9 -> 356000000
A5: TOTAL | B5: =SUM(B2:B4) -> 1978994850

Sheet flujo de caja
B3: FLUJO DE CAJA
C5: AÑO 2024 | G5: AÑO 2025
C6: Septiembre | D6: Octubre | E6: Noviembre | F6: Diciembre | G6: Enero | H6: Febrero | I6: Marzo | J6: Abril | K6: Mayo | L6: Junio | M6: Julio | N6: Agosto | O6: Septiembre
B8: Saldo Inicial | C8: 0 | G8: =F15 -> 0
B11: Ingresos
B12: Pago por parte del convenio | D12: =D21+E21+G25+E26+E29+F29+F26+F21+D29 -> 328275000 | G12: =G21+G22+H21+I21+J21+K21+J29+I29+H29+G29+G28+G27+K29 -> 1127680000 | I12: =SUM(D12:G12) -> 1455955000
B15: Total Ingresos | C15: =SUM(C12:C14) -> 0 | D15: =SUM(D12:D14) -> 328275000 | E15: =SUM(E12:E14) -> 0 | F15: =SUM(F12:F14) -> 0 | G15: =SUM(G12:G14) -> 1127680000 | H15: =SUM(H12:H14) -> 0 | I15: =SUM(I12:I14) -> 1455955000 | J15: =SUM(J12:J14) -> 0 | ... O15: =SUM(O12:O14) -> 0
B18: Gastos
B20: Fortalecimiento
B21: personal de convocatoria | D21: 14000000 | E21: 39000000 | F21: 39000000 | G21: 39000000 | H21: 39000000 | I21: 39000000 | J21: 39000000
B22: convenios | G22: 600000000
B24: Formación
B25: Componente #1 | G25: 19280350
B26: Componente #2 | E26: 69997325 | F26: 69997325
B27: Componente #3 | G27: =capacitacion!G39 -> 5430000
B28: Componente #4 | G28: =capacitacion!G48 -> 85800000
B29: personal de formacion | D29: 14000000 | E29: 14000000 | F29: 49000000 | G29: 49000000 | H29: =77000000+450000 -> 77450000 | I29: 77000000 | J29: 77000000
B31: Total gastos | C31: =SUM(C19:C30) -> 0 | D31: =SUM(D19:D30) -> 28000000 | E31: =SUM(E19:E30) -> 122997325 | F31: =SUM(F19:F30) -> 157997325 | G31: =SUM(G19:G30) -> 798510350 | H31: =SUM(H19:H30) -> 116450000 | I31: =SUM(I19:I30) -> 116000000 | J31: =SUM(J19:J30) -> 116000000 | ... O31: =SUM(O19:O30) -> 0
B33: Flujo de caja económico | C33: =SUM(C8+C15-C31) -> 0 | D33: =SUM(D8+D15-D31) -> 300275000 | E33: =SUM(E8+E15-E31) -> -122997325 | F33: =SUM(F8+F15-F31) -> -157997325 | G33: =SUM(G8+G15-G31) -> 329169650 | H33: =SUM(H8+H15-H31) -> -116450000 | I33: =SUM(I8+I15-I31) -> 1339955000 | J33: =SUM(J8+J15-J31) -> -116000000 | ... O33: =SUM(O8+O15-O31) -> 0
