Workbook

Sheet Formulario 1- Lote 5
C3: Formulario 1 - Propuesta económica - Documento tipo de licitación de obra pública de infraestructura de transporte - versión 3
C4: Código | D4: CCE-EICP-FM-14 | E4: Versión | F4: 3
C6: FORMULARIO 1 - LOTE 5
C7: PROPUESTA ECONÓMICA
C8: FDLBOSALIC 002-2023 (89928)
C10: PRESUPUESTO OFICIAL DEL FDLB - LOTE 5 | N10: VALORES OFERTADOS POR EL PROPONENTE
C11: OBJETO: | N11: NOMBRE DEL PROPONENTE
C12: “REALIZAR LAS OBRAS PARA LA CONSERVACIÓN DE MALLA VIAL Y ESPACIO PUBLICO ASOCIADO DE LA LOCALIDAD DE BOSA - BOGOTÁ, D.C. A TRAVÉS DEL SISTEMA DE PRECIOS UNITARIOS FIJOS Y A MONTO AGOTABLE, DE ACUERDO CON LA DESCRIPCIÓN, ESPECIFICACIONES Y DEMÁS CONDICIONES ESTABLECIDAS EN EL ANEXO TÉCNICO”
C13: ACTIVIDADES DE CONSERVACIÓN
C14: Nº | D14: ÍTEM DE PAGO | E14: ESPECIFICACIONES | G14: DESCRIPCIÓN | H14: UND. | I14: CANTIDAD | J14: VALOR UNITARIO SIN A.I.U. | K14: VALOR TOTAL | N14: VALOR UNITARIO SIN AIU OFERTADO POR EL PROPONENTE | O14: VALOR UNITARIO SIN AIU (CORREGIDO) | P14: VALOR PARCIAL CORREGIDO | Q14: VERIFICACIÓN
E15: GENERAL | F15: PARTICULAR
D16: 1 | G16: PRELIMINARES
C17: 3007 | D17: 1.001 | G17: REPLANTEO GENERAL | H17: M2 | I17: 1 | J17: 886 | K17: =+I17*J17 -> 886 | O17: =ROUND((+N17),0) -> 0 | P17: =ROUND((O17*$I17),0) -> 0 | Q17: =IF(OR(P17<=0,P17>$K17),"ERROR","OK") -> ERROR
C18: Subtotal | K18: =SUM(K17:K17) -> 886 | N18: =SUM(N17:N17) -> 0 | P18: =SUM(P17:P17) -> 0 | Q18: =IF(OR(P18<=0,P18>$K18,COUNTIF(Q17:Q17,"ERROR")>0),"ERROR","OK") -> ERROR
D19: 2 | G19: EXPLANACIONES
C20: 3710 | D20: 2.001 | G20: EXCAVACIÓN MECÁNICA EN MATERIAL COMÚN (INCLUYE CARGUE) | H20: M3 | I20: 1 | J20: 5511 | K20: =+J20*I20 -> 5511 | O20: =ROUND((+N20),0) -> 0 | P20: =ROUND((O20*$I20),0) -> 0 | Q20: =IF(OR(P20<=0,P20>$K20),"ERROR","OK") -> ERROR
C21: 3464 | D21: 2.002 | G21: EXCAVACION MANUAL EN MATERIAL COMUN. INCLUYE CARGUE. | H21: M3 | I21: 1 | J21: 42888 | K21: =+J21*I21 -> 42888 | O21: =ROUND((+N21),0) -> 0 | P21: =ROUND((O21*$I21),0) -> 0 | Q21: =IF(OR(P21<=0,P21>$K21),"ERROR","OK") -> ERROR
C22: 3009 | D22: 2.003 | G22: EXCAVACION MANUAL PARA REDES PROFUNDIDAD 0M - 2M (INCLUYE CARGUE) | H22: M3 | I22: 1 | J22: 42888 | K22: =+J22*I22 -> 42888 | O22: =ROUND((+N22),0) -> 0 | P22: =ROUND((O22*$I22),0) -> 0 | Q22: =IF(OR(P22<=0,P22>$K22),"ERROR","OK") -> ERROR
C23: 7513 | D23: 2.004 | G23: DEMOLICIÓN DE PLACA (INCLUYE CARGUE, RETIRO DE MATERIAL, TRANSPORTE Y DISPOSICIÓN FINAL DE ESCOMBROS EN SITIO AUTORIZADO). | H23: M2 | I23: 1 | J23: 29938 | K23: =+J23*I23 -> 29938 | O23: =ROUND((+N23),0) -> 0 | P23: =ROUND((O23*$I23),0) -> 0 | Q23: =IF(OR(P23<=0,P23>$K23),"ERROR","OK") -> ERROR
C24: 3017 | D24: 2.005 | G24: TRANSPORTE Y DISPOSICIÓN FINAL DE ESCOMBROS EN SITIO AUTORIZADO (DISTANCIA DE TRANSPORTE 21 KM). A DISTANCIA MAYOR DEL ACARREO LIBRE (90 M) EN SITIO AUTORIZADO POR LA ENTIDAD AMBIENTAL COMPETENTE. | H24: M3 | I24: 1 | J24: 43960 | K24: =+J24*I24 -> 43960 | O24: =ROUND((+N24),0) -> 0 | P24: =ROUND((O24*$I24),0) -> 0 | Q24: =IF(OR(P24<=0,P24>$K24),"ERROR","OK") -> ERROR
C25: Subtotal | K25: =SUM(K20:K24) -> 165185 | N25: =SUM(N20:N24) -> 0 | P25: =SUM(P20:P24) -> 0 | Q25: =IF(OR(P25<=0,P25>$K25,COUNTIF(Q20:Q24,"ERROR")>0),"ERROR","OK") -> ERROR
D26: 3 | G26: PAVIMENTOS FLEXIBLES Y RIGIDOS
C27: 10014 | D27: 3.001 | G27: ESTABILIZACION O MEJORAMIENTO DE SUBRASANTE CON RAJON = 6" A 12" (15 - 30 cm) Y SELLO CON SUBBASE GRANULAR CLASE C - Gr1 (SBGC_Gr1). INCLUYE (SUMINISTRO, EXTENDIDO Y NIVELACION MANUAL , COMPACTACION MECANICA VIBROCOMPACTADOR TIPO RANA, TRANSPORTE DEL RAJON Y SELLO HASTA 21 KM) | H27: =+VLOOKUP(C27,Hoja2!$A$2:$H$4093,7,TRUE) -> M3 | I27: 1 | J27: =+VLOOKUP(C27,Hoja2!$A$2:$H$4093,8,TRUE) -> 160396 | K27: =+J27*I27 -> 160396 | O27: =ROUND((+N27),0) -> 0 | P27: =ROUND((O27*$I27),0) -> 0 | Q27: =IF(OR(P27<=0,P27>$K27),"ERROR","OK") -> ERROR
C28: 4669 | D28: 3.002 | G28: =+VLOOKUP(C28,Hoja2!$A$2:$H$4093,6,TRUE) -> GEOTEXTIL NT 1800 PARA SEPARACION SUBRASANTE/CAPAS GRANULARES (INCLUYE SUMINISTRO E INSTALACIÓN) | H28: =+VLOOKUP(C28,Hoja2!$A$2:$H$4093,7,TRUE) -> M2 | I28: 1 | J28: =+VLOOKUP(C28,Hoja2!$A$2:$H$4093,8,TRUE) -> 7609 | K28: =+J28*I28 -> 7609 | O28: =ROUND((+N28),0) -> 0 | P28: =ROUND((O28*$I28),0) -> 0 | Q28: =IF(OR(P28<=0,P28>$K28),"ERROR","OK") -> ERROR
C29: 4673 | D29: 3.003 | G29: =+VLOOKUP(C29,Hoja2!$A$2:$H$4093,6,TRUE) -> GEOTEXTIL NT 1800 PARA SUBDRENES/FILTROS (INCLUYE SUMINISTRO E INSTALACIÓN) | H29: =+VLOOKUP(C29,Hoja2!$A$2:$H$4093,7,TRUE) -> M2 | I29: 1 | J29: =+VLOOKUP(C29,Hoja2!$A$2:$H$4093,8,TRUE) -> 7609 | K29: =+J29*I29 -> 7609 | O29: =ROUND((+N29),0) -> 0 | P29: =ROUND((O29*$I29),0) -> 0 | Q29: =IF(OR(P29<=0,P29>$K29),"ERROR","OK") -> ERROR
C30: 7362 | D30: 3.004 | G30: =+VLOOKUP(C30,Hoja2!$A$2:$H$4093,6,TRUE) -> GEOMALLA TENSAR BX 1100 PARA REFUERZO DE MATERIALES GRANULARES. (INCLUYE SUMINISTRO E INSTALACIÓN). | H30: =+VLOOKUP(C30,Hoja2!$A$2:$H$4093,7,TRUE) -> M2 | I30: 1 | J30: =+VLOOKUP(C30,Hoja2!$A$2:$H$4093,8,TRUE) -> 12819 | K30: =+J30*I30 -> 12819 | O30: =ROUND((+N30),0) -> 0 | P30: =ROUND((O30*$I30),0) -> 0 | Q30: =IF(OR(P30<=0,P30>$K30),"ERROR","OK") -> ERROR
C31: 7900 | D31: 3.005 | G31: =+VLOOKUP(C31,Hoja2!$A$2:$H$4093,6,TRUE) -> GEOCELDA HDPE PERFORADA, ALTURA 15 CM (SUMINISTRO E INSTALACIÓN). | H31: =+VLOOKUP(C31,Hoja2!$A$2:$H$4093,7,TRUE) -> M2 | I31: 1 | J31: =+VLOOKUP(C31,Hoja2!$A$2:$H$4093,8,TRUE) -> 73423 | K31: =+J31*I31 -> 73423 | O31: =ROUND((+N31),0) -> 0 | P31: =ROUND((O31*$I31),0) -> 0 | Q31: =IF(OR(P31<=0,P31>$K31),"ERROR","OK") -> ERROR
C32: 6053 | D32: 3.006 | G32: =+VLOOKUP(C32,Hoja2!$A$2:$H$4093,6,TRUE) -> CAPA DE SUELO DE SUBRASANTE ESTABILIZADA CON CAL HIDRATADA TIPO N, IN SITU AL 4%. (SUMINISTRO, EXTENDIDO, NIVELACION, HUMEDECIMIENTO Y COMPACTACION). | H32: =+VLOOKUP(C32,Hoja2!$A$2:$H$4093,7,TRUE) -> M3 | I32: 1 | J32: =+VLOOKUP(C32,Hoja2!$A$2:$H$4093,8,TRUE) -> 100519 | K32: =+J32*I32 -> 100519 | O32: =ROUND((+N32),0) -> 0 | P32: =ROUND((O32*$I32),0) -> 0 | Q32: =IF(OR(P32<=0,P32>$K32),"ERROR","OK") -> ERROR
C33: 4908 | D33: 3.007 | G33: =+VLOOKUP(C33,Hoja2!$A$2:$H$4093,6,TRUE) -> MATERIAL SELECCIONADO. SUMINISTRO, EXTENDIDO MANUAL, NIVELACIÓN, HUMEDECIMIENTO Y COMPACTACIÓN. | H33: =+VLOOKUP(C33,Hoja2!$A$2:$H$4093,7,TRUE) -> M3 | I33: 1 | J33: =+VLOOKUP(C33,Hoja2!$A$2:$H$4093,8,TRUE) -> 105079 | K33: =+J33*I33 -> 105079 | O33: =ROUND((+N33),0) -> 0 | P33: =ROUND((O33*$I33),0) -> 0 | Q33: =IF(OR(P33<=0,P33>$K33),"ERROR","OK") -> ERROR
C34: 4159 | D34: 3.008 | G34: =+VLOOKUP(C34,Hoja2!$A$2:$H$4093,6,TRUE) -> SUBBASE GRANULAR CLASE C (SBG_C) (SUMINISTRO, EXTENDIDO, NIVELACIÓN, HUMEDECIMIENTO Y COMPACTACIÓN CON VIBROCOMPACTADOR) | H34: =+VLOOKUP(C34,Hoja2!$A$2:$H$4093,7,TRUE) -> M3 | I34: 1 | J34: =+VLOOKUP(C34,Hoja2!$A$2:$H$4093,8,TRUE) -> 154004 | K34: =+J34*I34 -> 154004 | O34: =ROUND((+N34),0) -> 0 | P34: =ROUND((O34*$I34),0) -> 0 | Q34: =IF(OR(P34<=0,P34>$K34),"ERROR","OK") -> ERROR
C35: 4156 | D35: 3.009 | G35: =+VLOOKUP(C35,Hoja2!$A$2:$H$4093,6,TRUE) -> BASE GRANULAR CLASE C (BG_C) (SUMINISTRO, EXTENDIDO, NIVELACIÓN, HUMEDECIMIENTO Y COMPACTACIÓN CON VIBROCOMPACTADOR) | H35: =+VLOOKUP(C35,Hoja2!$A$2:$H$4093,7,TRUE) -> M3 | I35: 1 | J35: =+VLOOKUP(C35,Hoja2!$A$2:$H$4093,8,TRUE) -> 167930 | K35: =+J35*I35 -> 167930 | O35: =ROUND((+N35),0) -> 0 | P35: =ROUND((O35*$I35),0) -> 0 | Q35: =IF(OR(P35<=0,P35>$K35),"ERROR","OK") -> ERROR
C36: 4157 | D36: 3.01 | G36: =+VLOOKUP(C36,Hoja2!$A$2:$H$4093,6,TRUE) -> BASE GRANULAR CLASE B (BG_B) (SUMINISTRO, EXTENDIDO, NIVELACIÓN, HUMEDECIMIENTO Y COMPACTACIÓN CON VIBROCOMPACTADOR) | H36: =+VLOOKUP(C36,Hoja2!$A$2:$H$4093,7,TRUE) -> M3 | I36: 1 | J36: =+VLOOKUP(C36,Hoja2!$A$2:$H$4093,8,TRUE) -> 180303 | K36: =+J36*I36 -> 180303 | O36: =ROUND((+N36),0) -> 0 | P36: =ROUND((O36*$I36),0) -> 0 | Q36: =IF(OR(P36<=0,P36>$K36),"ERROR","OK") -> ERROR
C37: 4142 | D37: 3.011 | G37: =+VLOOKUP(C37,Hoja2!$A$2:$H$4093,6,TRUE) -> SUBBASE GRANULAR SBG-A (SUMINISTRO, EXTENDIDO, NIVELACIÓN, HUMEDECIMIENTO Y COMPACTACIÓN CON VIBROCOMPACTADOR) | H37: =+VLOOKUP(C37,Hoja2!$A$2:$H$4093,7,TRUE) -> M3 | I37: 1 | J37: =+VLOOKUP(C37,Hoja2!$A$2:$H$4093,8,TRUE) -> 174822 | K37: =+J37*I37 -> 174822 | O37: =ROUND((+N37),0) -> 0 | P37: =ROUND((O37*$I37),0) -> 0 | Q37: =IF(OR(P37<=0,P37>$K37),"ERROR","OK") -> ERROR
C38: 4032 | D38: 3.012 | G38: =+VLOOKUP(C38,Hoja2!$A$2:$H$4093,6,TRUE) -> GEOTEXTIL T, RESIST. ULTIMA (TIRA ANCHA)=40 KN/M PARA SEPARACION SUBRASANTE/CAPAS GRANULARES (INC. SUMIN. E INSTALACIÓN) | H38: =+VLOOKUP(C38,Hoja2!$A$2:$H$4093,7,TRUE) -> M2 | I38: 1 | J38: =+VLOOKUP(C38,Hoja2!$A$2:$H$4093,8,TRUE) -> 9773 | K38: =+J38*I38 -> 9773 | O38: =ROUND((+N38),0) -> 0 | P38: =ROUND((O38*$I38),0) -> 0 | Q38: =IF(OR(P38<=0,P38>$K38),"ERROR","OK") -> ERROR
C39: 7378 | D39: 3.013 | G39: =+VLOOKUP(C39,Hoja2!$A$2:$H$4093,6,TRUE) -> GEOMALLA UNIAXIAL RESISTENCIA ÚLTIMA 60KN/MK PARA REFUERZO DE MATERIALES GRANULARES. (INCLUYE SUMINISTRO E INSTALACIÓN) | H39: =+VLOOKUP(C39,Hoja2!$A$2:$H$4093,7,TRUE) -> M2 | I39: 1 | J39: =+VLOOKUP(C39,Hoja2!$A$2:$H$4093,8,TRUE) -> 25847 | K39: =+J39*I39 -> 25847 | O39: =ROUND((+N39),0) -> 0 | P39: =ROUND((O39*$I39),0) -> 0 | Q39: =IF(OR(P39<=0,P39>$K39),"ERROR","OK") -> ERROR
... C48: 5177 | D48: 3.022 | G48: =+VLOOKUP(C48,Hoja2!$A$2:$H$4093,6,TRUE) -> PARCHEO EN PAVIMENTO FLEXIBLE PARA ACCIONES DE MOVILIDAD. (INCLUYE CORTE, DEMOLICIÓN, CARGUE, TRANSPORTE Y DISPOSICIÓN FINAL DE ESCOMBROS, IMPRIMACIÓN, SUMINISTRO, EXTENDIDO Y COMPACTACIÓN MECANICA DE MEZCLA ASFÁLTICA) TRABAJO NOCTURNO. | H48: =+VLOOKUP(C48,Hoja2!$A$2:$H$4093,7,TRUE) -> M3 | I48: 1 | J48: =+VLOOKUP(C48,Hoja2!$A$2:$H$4093,8,TRUE) -> 1649820 | K48: =+J48*I48 -> 1649820 | O48: =ROUND((+N48),0) -> 0 | P48: =ROUND((O48*$I48),0) -> 0 | Q48: =IF(OR(P48<=0,P48>$K48),"ERROR","OK") -> ERROR
C49: Subtotal | K49: =SUM(K27:K48) -> 8348999 | N49: =SUM(N27:N48) -> 0 | P49: =SUM(P31:P48) -> 0 | Q49: =IF(OR(P49<=0,P49>$K49,COUNTIF(Q31:Q48,"ERROR")>0),"ERROR","OK") -> ERROR
D50: 4 | G50: URBANISMO Y ESPACIO PUBLICO Y OTROS
C51: 3708 | D51: 4.001 | G51: ACERO DE REFUERZO FY=60000 PSI. SUMINISTRO E INSTALACIÓN. DE ACUERDO A LO ESTIPULADO POR LA NSR-10, NORMA ASTM A-706, ICONTEC 2289 PARA EL ACERO PDR-60. INCLUYE TODOS LOS COSTOS DE SUMINISTRO DE MATERIALES (REFUERZO (G60) FIGURADO, CORRUGADO, INCLUYE EL ALAMBRE DE AMARRE), EQUIPOS, TRANSPORTES, MANEJO, ALMACENAMIENTO, DESPERDICIOS Y MANO DE OBRA. | H51: KG | I51: 1 | J51: 5551 | K51: =+J51*I51 -> 5551 | O51: =ROUND((+N51),0) -> 0 | P51: =ROUND((O51*$I51),0) -> 0 | Q51: =IF(OR(P51<=0,P51>$K51),"ERROR","OK") -> ERROR
C52: 7341 | D52: 4.002 | G52: CARCAMO AGUAS LLUVIAS 0.45 X 0.60 M. (INCLUYE REJILLA) SUMINISTRO E INSTALACIÓN | H52: ML | I52: 1 | J52: 1243963 | K52: =+J52*I52 -> 1243963 | O52: =ROUND((+N52),0) -> 0 | P52: =ROUND((O52*$I52),0) -> 0 | Q52: =IF(OR(P52<=0,P52>$K52),"ERROR","OK") -> ERROR
...

Sheet Hoja2
A2: Código | B2: Origen | C2: Capítulo | D2: Subcapítulo | E2: Código | F2: Nombre | G2: UM | H2: Valor | I2: Fecha de actualización
A3: 3007 | B3: Antiguo | C3: EXCAVACIONES | D3: EXC. CONFORMACIÓN DE SUBRASANTE | E3: 3007 | F3: REPLANTEO GENERAL | G3: M2 | H3: 886 | I3: Actualización 2023-I - Fase II + M.O. ley 2101 de 2021
A4: 3009 | B4: Antiguo | C4: EXCAVACIONES | D4: EXC. ESTRUCTURAS Y REDES | E4: 3009 | F4: EXCAVACION MANUAL PARA REDES PROFUNDIDAD 0M - 2M (INCLUYE CARGUE) | G4: M3 | H4: 42888 | I4: Actualización 2023-I - Fase II + M.O. ley 2101 de 2021
A5: 3010 | B5: Antiguo | C5: DEMOLICIONES | D5: DEMOLICIONES | E5: 3010 | F5: DEMOLICION PAVIMENTO ASFALTICO (INCLUYE CARGUE). NO INCLUYE TRANSPORTE Y DISPOSICIÓN FINAL DE SOBRANTES. | G5: M3 | H5: 37431 | I5: Actualización 2023-I - Fase II + M.O. ley 2101 de 2021
A6: 3011 | B6: Antiguo | C6: DEMOLICIONES | D6: DEMOLICIONES | E6: 3011 | F6: DEMOLICION MANUAL SARDINEL EXISTENTE (INCLUYE CARGUE). NO INCLUYE TRANSPORTE Y DISPOSICIÓN FINAL DE SOBRANTES. | G6: ML | H6: 5958 | I6: Actualización 2023-I - Fase II + M.O. ley 2101 de 2021
A7: 3012 | B7: Antiguo | C7: DEMOLICIONES | D7: DEMOLICIONES | E7: 3012 | F7: DEMOLICIÓN PISOS DE CONCRETO (ESPESOR VARIABLE HASTA 0.10 M. INCLUYE CARGUE). NO INCLUYE TRANSPORTE Y DISPOSICIÓN FINAL DE SOBRANTES. | G7: M2 | H7: 7900 | I7: Actualización 2023-I - Fase II + M.O. ley 2101 de 2021
A8: 3015 | B8: Antiguo | C8: REDES ELECTRICAS | D8: RED ELECTRICA CODENSA | E8: 3015 | F8: RETIRO DE POSTES DE AP/LA (INCLUYE TRASLADO A SITIO DE ACOPIO) | G8: UN | H8: 244034 | I8: Actualización 2023-I - Fase II + M.O. ley 2101 de 2021
A9: 3017 | B9: Antiguo | C9: TRANSPORTES Y ACARREOS | D9: TRANSPORTES Y ACARREOS | E9: 3017 | F9: TRANSPORTE Y DISPOSICIÓN FINAL DE ESCOMBROS EN SITIO AUTORIZADO (DISTANCIA DE TRANSPORTE 21 KM). A DISTANCIA MAYOR DEL ACARREO LIBRE (90 M) EN SITIO AUTORIZADO POR LA ENTIDAD AMBIENTAL COMPETENTE. | G9: M3 | H9: 43960 | I9: Actualización 2023-I - Fase II + M.O. ley 2101 de 2021
A10: 3018 | B10: Antiguo | C10: RELLENOS Y CAPAS GRANULARES | D10: RELLENOS EN TIERRA | E10: 3018 | F10: RELLENO EN TIERRA NEGRA PARA EMPRADIZACION (SUMINISTRO Y EXTENDIDO) | G10: M3 | H10: 97550 | I10: Actualización 2023-I - Fase II + M.O. ley 2101 de 2021
A11: 3021 | B11: Antiguo | C11: DEMOLICIONES | D11: DEMOLICIONES | E11: 3021 | F11: DEMOLICION PAVIMENTO ASFALTICO (ESPESOR VARIABLE. INCLUYE CARGUE). NO INCLUYE TRANSPORTE Y DISPOSICIÓN FINAL DE SOBRANTES. | G11: M2 | H11: 7101 | I11: Actualización 2023-I - Fase II + M.O. ley 2101 de 2021
A12: 3022 | B12: Antiguo | C12: DEMOLICIONES | D12: DEMOLICIONES | E12: 3022 | F12: DEMOLICIÓN PISOS DE CONCRETO (INCLUYE CARGUE). NO INCLUYE TRANSPORTE Y DISPOSICIÓN FINAL DE SOBRANTES. | G12: M3 | H12: 56473 | I12: Actualización 2023-I - Fase II + M.O. ley 2101 de 2021
A13: 3024 | B13: Antiguo | C13: RELLENOS Y CAPAS GRANULARES | D13: RELLENOS PARA ANDENES Y REDES | E13: 3024 | F13: RELLENO PARA REDES EN ARENA DE PEÑA (SUMINISTRO, EXTENDIDO, HUMEDECIMIENTO Y COMPACTACIÓN) | G13: M3 | H13: 152203 | I13: Actualización 2023-I - Fase II + M.O. ley 2101 de 2021
A14: 3027 | B14: Antiguo | C14: ANDENES Y SARDINELES | D14: SARDINELES Y BORDILLOS | E14: 3027 | F14: SARDINEL TIPO A10 (SUMINISTRO E INSTALACIÓN. INCLUYE 3CM MORTERO 1:5) | G14: ML | H14: 79019 | I14: Actualización 2023-I - Fase II + M.O. ley 2101 de 2021
... A4093: 10035 | B4093: Nuevo DTINI | C4093: PROYECTO ESPECÍFICO | D4093: Diagnóstico y determinación de estado de infraestructuras en Bogotá D.C. | E4093: 10035 | F4093: Diagnóstico y determinación de estado de infraestructuras en Bogotá D.C. - Espacialización, caracterización atributiva e inclusión en el inventario entregado por el IDU, de los elementos nuevos de espacio público que se identifiquen en los recorridos y de todos los elementos geográficos que lo conforman, a partir de la metodología establecida en los documentos que hacen parte integral del contrato | G4093: KM | H4093: 3884 | I4093: Actualización 2022-I
