Workbook
Name contratación: 'IDENTIFICACION Y ANALISIS'!$B$39:$B$43
Name ejecución: 'IDENTIFICACION Y ANALISIS'!$B$45:$B$68
Name OPCIONES: 'ASIGNACION Y TRATAMIENTO'!$B$40:$B$42
Name planeación: 'IDENTIFICACION Y ANALISIS'!$B$19:$B$29
Name selección: 'IDENTIFICACION Y ANALISIS'!$B$31:$B$37

Sheet CONTEXTO
C1: MATRIZ DE RIESGOS EN CONTRATACIÓN | F1: Código: GCO-GCI-F164 Versión: 02 Vigencia: 1 diciembre de 2022 Caso HOLA: 280117
B5: ESTABLECER EL CONTEXTO
B6: El punto inicial es identificar el contexto en el cual interactúa la Entidad Estatal para conocer el ambiente social, económico y político, e identificar (i) sus propios Riesgos; (ii) los Riesgos comunes a sus Procesos de Contratación; y (iii) los Riesgos del Proceso de Contratación en particular. (Aplica igual para contratos interadministrativos) En este paso la Entidad Estatal debe identificar los aspectos que se mencionan a continuación y los posibles efectos adversos que estos pueden generar.
B7: Objeto del Proceso de Contratación: PRESTACIÓN DE SERVICIOS DE APOYO LOGÍSTICO PARA LA REALIZACIÓN DE LOS JUEGOS DEPORTIVOS RURALES Y CAMPESINOS DE SUMAPAZ 2024
B8: Partícipes del Proceso de Contratación: Agentes externos (Organismos de control, veedurías ciudadanas), agentes internos (supervisores, funcionarios y demás usuarios).
B9: Ciudadanía que se beneficia del Proceso de Contratación: Agentes internos (funcionarios, pasantes) y externos (contratistas, visitantes y usuarios externos en general)
B10: Capacidad de la Entidad Estatal entendida como la disponibilidad de recursos y conocimientos para el Proceso de Contratación: La disponibilidad de la Entidad de sus recursos y el conocimiento de su equipo humano se refleja en los diferentes funcionarios que participarán en las diversas etapas del proceso de selección: participan las áreas que requieren los procesos de contratación (Etapa de Estudios previos), el área de Contratos de la Secretaría General (Etapa contractual), los evaluadores designados, idóneos y con experiencia en el tema.
B11: Suficiencia del presupuesto oficial del Proceso de Contratación: De acuerdo al Plan de contratación para la vigencia 2023, se estimaron los recursos necesarios para el desarrollo del proceso de la contratación, el cual tendrá el soporte presupuestal suficiente para su desarrollo.
B12: Condiciones geográficas y de acceso del lugar en el cual se debe cumplir el objeto del Proceso de Contratación: El suministro, obra o servicio se prestará principalmente en las Sedes de la Entidad, o en el lugar indicado en los estudios previos del proceso.
B13: Entorno socio ambiental: Si aplican
B14: Condiciones políticas: Si aplican
B15: Factores ambientales: El contratista debe manejar normas ambientales para el destino final de algunos repuestos que se retiran cuando se hace mantenimiento correctivo al sistema.
B16: Sector del objeto del Proceso de Contratación y su mercado: Todos los clientes (entidades privadas, Estatales y Gubernamentales), alrededor en todo el Territorio Nacional Colombiano y el exterior, quienes solicitan equipos y servicios de seguridad y control de acceso, con niveles elevados de flujo peatonal.
... B18: Experiencia propia y de otras Entidades Estatales en Procesos de Contratación del mismo tipo: -Explicar brevemente la experiencia de la Entidad en el tipo de contratación que se va a adelantar-, A manera de ejemplo se deja el siguiente texto que aplicaría en el caso de la contratación de los seguros: " La Entidad contrata anualmente el programa de seguros necesario para su funcionamiento, por lo cual es un proceso que ha sido adelantado de manera permanente; así las cosas se cuenta con la experiencia adquirida en el adelantamiento de este tipo de procesos que ha sido la necesaria para prevenir circunstancias inesperadas y lograr el cumplimiento de los fines de la contratación".

Sheet IDENTIFICACION Y ANALISIS
C2: MATRIZ DE RIESGOS DE CONTRATACIÓN | F2: Código: GCO-GCI-F164 Versión: 02 Vigencia: 1 diciembre de 2022 Caso HOLA: 280117
B6: DEFINICIONES
B7: RIESGO: evento que puede generar efectos adversos y de distinta magnitud en el logro de los objetivos del Proceso de Contratación o en la ejecución de un contrato
B8: RIESGOS PREVISIBLES: Son los posibles hechos o circunstancias que por la naturaleza del contrato y de la actividad a ejecutar es factible su ocurrencia.
B9: ETAPA DE PLANEACIÓN: Está comprendida entre la elaboración del Plan Anual de Adquisiciones y la fecha en la cual decide continuar o no con el Proceso de Contratación
B10: ETAPA DE SELECCIÓN: Está comprendida entre el acto de Apertura del Proceso de Contratación y la Adjudicación o la declaración de desierto del Proceso de Contratación
B11: ETAPA DE CONTRATACIÓN: Una vez adjudicado el contrato objeto del Proceso de Contratación, inicia la etapa de contratación en la cual se debe cumplir con el cronograma previsto para la celebración del contrato, el registro presupuestal, la publicación en el SECOP y el cumplimiento de los requisitos para el perfeccionamiento, ejecución y pago.
B12: ETAPA DE EJECUCIÓN: Inicia una vez cumplidos los requisitos previstos para iniciar la ejecución del contrato respectivo y termina con el vencimiento del plazo del contrato o la fecha de liquidación si hay lugar a ella.
B13: RIESGO GENERAL: Es un riesgo de todos los procesos de contratación adelantados por la Entidad Estatal, por lo cual está presente en toda su actividad contractual.
B14: RIEGO ESPECIFICO: Es un riesgo propio del proceso de contratación objeto de análisis.
B15: INSTRUCCIONES PARA LA IDENTIFICACIÓN, ANALISIS, EVALUACIÓN , ASIGNACIÓN Y TRATAMIENTO DE RIESGOS EN LA CONTRATACIÓN
B16: 1) Identifique los riesgos previsibles que le apliquen al objeto contractual que se adelante; En caso de identificar otro riesgo inclúyalo en la proforma e informe al Área de Contratos de la Secretaría General para que sea actualizada en el SIG.
C17: ETAPAS | D17: CLASE | E17: FUENTE | F17: TIPO
C18: PLANEACIÓN
B19: Inadecuada escogencia de la modalidad de contratación | D19: General | E19: Interno | F19: Operacionales
B20: Requisitos habilitantes inapropiados para el proceso de selección | F20: Operacionales
B21: Inadecuado análisis económico estimativo del valor del contrato | F21: Economicos
B22: Inadecuada descripción del bien o servicio requerido | F22: Operacionales
B23: Inadecuada elaboración de estudios y diseños | F23: Operacionales
B24: Requisitos habilitantes que impidan la selección objetiva | F24: Operacionales
B25: Falta de profundidad en el estudio de sector no identificandose claramente aspectos de oferta y demanda | F25: Economicos
B26: Ausencia de fundamentación de la justificación y conveniencia de la contratación | F26: Operacionales
B27: Inadecuada identificación de las condiciones contractuales | D27: General | E27: Interno | F27: Operacionales
B28: No aprobación o demoras en la expedición vigencias futuras | F28: Operacionales
B29: Apertura de procesos sin disponibilidad presupuestal | F29: Operacionales
C30: SELECCIÓN
B31: Inadecuada evaluación de las ofertas y/o verificación de requisitos habilitantes | F31: Operacionales
B32: Inadecuado manejo administrativo del proceso contractual | D32: General | E32: Interno | F32: Operacionales
B33: Falta de claridad en la elaboración de los actos administrativos | F33: Operacionales
B34: Contestación inoportuna a todas las observaciones formuladas a los documentos de la contratación | F34: Operacionales
B35: No publicación de la documentación del proceso de selección en el SECOP | F35: Operacionales
B36: Confabulacion de los proponentes (Colusión) | D36: General | E36: Externo | F36: Operacionales
B37: Selección de ofertas con precios artificialmente bajos. | F37: Operacionales
C38: CONTRATACIÓN
B39: Riesgo de que no se firme el contrato. | D39: General | E39: Interno | F39: Operacionales
B40: Falta de constitución o constitución tardía de la garantía única. Aceptación de garantías que no se ajustan a lo contemplado en el contrato | D40: General | E40: Interno | F40: Operacionales
B41: Falta de solicitud o solicitud tardía del registro presupuestal | F41: Operacionales
B42: No publicación de la documentación del proceso de selección en el SECOP | F42: Operacionales
B43: Presentación de reclamos de terceros sobre la selección del oferente que retrasen el perfeccionamiento del contrato. | F43: Operacionales
C44: EJECUCIÓN
...

Sheet EVALUACION
D1: MATRIZ DE RIESGOS DE CONTRATACIÓN | K1: Código: GCO-GCI-F164 Versión: 02 Vigencia: 1 diciembre de 2022 Caso HOLA: 280117
B5: Objeto Contractual: PRESTACIÓN DE SERVICIOS DE APOYO LOGÍSTICO PARA LA REALIZACIÓN DE LOS JUEGOS DEPORTIVOS RURALES Y CAMPESINOS DE SUMAPAZ 2024
B6: INSTRUCCIONES PARA LA IDENTIFICACIÓN, ANALISIS, EVALUACIÓN , ASIGNACIÓN Y TRATAMIENTO DE RIESGOS EN LA CONTRATACIÓN
B7: 1) Seleccione el tipo de calificación (Cualitativa ó Monetaria)
B8: 2) Seleccione la(s) etapas y los riesgos que aplican al objeto contractual
B9: 3) Asigne la probabilidad de ocurrencia del riesgo, de conformidad con la tabla de probabilidad
B10: 4) Asigne el impacto que generaría la materialización del riesgo, de conformidad con la tabla de impacto
B11: 5) Al realizar las anteriores actividades se obtendrá la calificación total y la valoración del riesgo (prioridad) , traslde al formato evaluación con controles, los que tengan un nivel de criticidad diferente a bajo.
B12: 6) Continúe en la hoja de evaluación de controles
B14: CALIFICACIÓN | H14: Cualitativa
B15: ETAPA | C15: Descripción (Que puede pasar y, cómo puede ocurrir) | H15: Consecuencias de la ocurrencia del evento | I15: Probabilidad de Ocurrencia | J15: Impacto | K15: Calificación Total | L15: Prioridad
B16: PLANEACIÓN | C16: Inadecuada escogencia de la modalidad de contratación | H16: Imposibilidad de adjudicar el contrato | I16: 2 | J16: 1 | K16: =+I16+J16 -> 3 | L16: =IF(K16<=4,"BAJO",IF(K16=5,"MEDIO",IF(K16=6,"ALTO",IF(K16=7,"ALTO","EXTREMO")))) -> BAJO
B17: PLANEACIÓN | C17: Inadecuada identificación de las condiciones contractuales | H17: Imposibilidad de adjudicar el contrato | I17: 2 | J17: 1 | K17: =+I17+J17 -> 3 | L17: =IF(K17<=4,"BAJO",IF(K17=5,"MEDIO",IF(K17=6,"ALTO",IF(K17=7,"ALTO","EXTREMO")))) -> BAJO
B18: SELECCIÓN | C18: Inadecuado manejo administrativo del proceso contractual | H18: Retraso en la ejecución del contrato o no ejecución del contrato | I18: 2 | J18: 2 | K18: =+I18+J18 -> 4 | L18: =IF(K18<=4,"BAJO",IF(K18=5,"MEDIO",IF(K18=6,"ALTO",IF(K18=7,"ALTO","EXTREMO")))) -> BAJO
B19: SELECCIÓN | C19: Confabulacion de los proponentes (Colusión) | H19: Que el proceso de selección se vea afectado en cuanto objetividad y transparencia | I19: 2 | J19: 1 | K19: =+I19+J19 -> 3 | L19: =IF(K19<=4,"BAJO",IF(K19=5,"MEDIO",IF(K19=6,"ALTO",IF(K19=7,"ALTO","EXTREMO")))) -> BAJO
B20: CONTRATACIÓN | C20: Riesgo de que no se firme el contrato. | H20: Necesidad de volver a realizar el proceso | I20: 2 | J20: 1 | K20: =+I20+J20 -> 3 | L20: =IF(K20<=4,"BAJO",IF(K20=5,"MEDIO",IF(K20=6,"ALTO",IF(K20=7,"ALTO","EXTREMO")))) -> BAJO
B21: CONTRATACIÓN | C21: Falta de constitución o constitución tardía de la garantía única. Aceptación de garantías que no se ajustan a lo contemplado en el contrato | H21: Retraso en la ejecución del contrato o no ejecución del contrato | I21: 2 | J21: 1 | K21: =+I21+J21 -> 3 | L21: =IF(K21<=4,"BAJO",IF(K21=5,"MEDIO",IF(K21=6,"ALTO",IF(K21=7,"ALTO","EXTREMO")))) -> BAJO
B22: EJECUCIÓN | C22: Fluctuaciones del valor de la moneda | H22: El proceso puede verse afectado por las variaciones del valor de la moneda para establecer el presupuesto | I22: 2 | J22: 1 | K22: =+I22+J22 -> 3 | L22: =IF(K22<=4,"BAJO",IF(K22=5,"MEDIO",IF(K22=6,"ALTO",IF(K22=7,"ALTO","EXTREMO")))) -> BAJO
B23: EJECUCIÓN | C23: Variación de los precios del mercado | H23: Puede causar incumplimientos en la entrega de los productos y/o servicios | I23: 2 | J23: 2 | K23: =+I23+J23 -> 4 | L23: =IF(K23<=4,"BAJO",IF(K23=5,"MEDIO",IF(K23=6,"ALTO",IF(K23=7,"ALTO","EXTREMO")))) -> BAJO
B24: EJECUCIÓN | C24: Incumplimiento de compromisos adquiridos por el contratista seleccionado con sus subcontratistas, suministradores de bienes y servicios. | H24: Retraso en la ejecución del contrato o no ejecución del contrato | I24: 2 | J24: 1 | K24: =+I24+J24 -> 3 | L24: =IF(K24<=4,"BAJO",IF(K24=5,"MEDIO",IF(K24=6,"ALTO",IF(K24=7,"ALTO","EXTREMO")))) -> BAJO
B25: EJECUCIÓN | C25: Variación en la disponibilidad o en el costo de los insumos necesarios para prestar los servicios. | H25: Desabastecimiento de los repuestos | I25: 2 | J25: 2 | K25: =+I25+J25 -> 4 | L25: =IF(K25<=4,"BAJO",IF(K25=5,"MEDIO",IF(K25=6,"ALTO",IF(K25=7,"ALTO","EXTREMO")))) -> BAJO
B28: Probabilidad | C28: Catagoria | E28: Valoración | G28: Impacto | H28: Categoria | I28: Valoración
C29: Raro (puede ocurrir excepcionalmente) | E29: 1 | H29: Insignificante | I29: 1
C30: Improbable (puede ocurrir ocasionalmente) | E30: 2 | H30: Menor | I30: 2
C31: Posible (puede ocurrir en cualquier momento futuro) | E31: 3 | H31: Moderado | I31: 3
C32: Probable (probablemente va a ocurrir) | E32: 4 | H32: Mayor | I32: 4
C33: Casi cierto (ocurre en la mayoria de circunstancias) | E33: 5 | H33: Catastrófico | I33: 5
C35: Valoración del Riesgo
C36: Calificación Cualitativa | F36: Obstruye la ejecución del contrato de manera intrascendente. | G36: Dificulta la ejecución del contrato de manera baja, aplicando medidas mínimas se pueden lograr el objeto contractual | H36: Afecta la ejecución del contrato sin alterar el beneficio para las partes | I36: Obstruye la ejecución del contrato sustancialmente pero aun así permite la consecución del objeto contractual | K36: Perturba la ejecución del contrato de manera grave imposibilitando la consecución del objeto contractual.
C37: Calificación Monetaria | F37: Los sobrecostos no representan más del uno por ciento (1%) del valor del contrato. | G37: Los sobrecostos no representan más del cinco por ciento (5%) del valor del contrato. | H37: Genera un impacto sobre el valor del contrato entre el cinco (5%) y el quince por ciento (15%). | I37: Incrementa el valor del contrato entre el quince (15%) y el treinta por ciento (30%). | K37: Impacto sobre el valor del contrato en más del treinta por ciento (30%).
C38: Categoría | E38: Valoración | F38: Insignificante | G38: Menor | H38: Moderado | I38: Mayor | K38: Catastrófico
F39: 1 | G39: 2 | H39: 3 | I39: 4 | K39: 5
C40: Raro (puede ocurrir excepcionalmente) | E40: 1 | F40: 2 | G40: 3 | H40: 4 | I40: 5 | K40: 6
C41: Improbable (puede ocurrir ocasionalmente) | E41: 2 | F41: 3 | G41: 4 | H41: 5 | I41: 6 | K41: 7
C42: Posible (puede ocurrir en cualquier momento futuro) | E42: 3 | F42: 4 | G42: 5 | H42: 6 | I42: 7 | K42: 8
C43: Probable (probablemente va a ocurrir) | E43: 4 | F43: 5 | G43: 6 | H43: 7 | I43: 8 | K43: 9
C44: Casi cierto (ocurre en la mayoria de circunstancias) | E44: 5 | F44: 6 | G44: 7 | H44: 8 | I44: 9 | K44: 10
G46: Categoria del Riesgo
G47: Valoración del Riesgo | H47: Categoría
G48: 8, 9 y 10 | H48: Riesgo extremo
...

Sheet EVALUACION CON CONTROLES
D2: MATRIZ DE RIESGOS DE CONTRATACIÓN | P2: Código: GCO-GCI-F164 Versión: 02 Vigencia: 1 diciembre de 2022 Caso HOLA: 280117
A6: Objeto Contractual: PRESTACIÓN DE SERVICIOS DE APOYO LOGÍSTICO PARA LA REALIZACIÓN DE LOS JUEGOS DEPORTIVOS RURALES Y CAMPESINOS DE SUMAPAZ 2024
A7: INSTRUCCIONES PARA LA IDENTIFICACIÓN, ANALISIS, EVALUACIÓN , ASIGNACIÓN Y TRATAMIENTO DE RIESGOS EN LA CONTRATACIÓN
A8: 1) Describa el tratamiento/controles a ser implementados
A9: 2) Teniendo en cuenta el tratamiento descrito, asigne la probabilidad de ocurrencia del riesgo, de conformidad con la tabla de probabilidad
A10: 3) Teniendo en cuenta el tratamiento descrito, asigne el impacto que generaría la materialización del riesgo, de conformidad con la tabla de impacto
A11: 4) Al realizar las anteriores actividades se obtendrá la calificación total y la valoración del riesgo (prioridad)
A12: 5) Diligencie la información de las démas columnas
A13: 7) Continúe en la hoja de asignación y tratamiento
A15: ETAPA | B15: Descripción (Que puede pasar y, cómo puede ocurrir) | F15: Tratamiento/Controles a ser implementados | H15: Probabilidad de Ocurrencia | I15: Impacto | J15: Calificación Total | K15: Prioridad | L15: ¿Afecta el equilibrio económico del contrato? | M15: Persona responsable por implementar el tratamiento | N15: Fecha estimada en que se inicia el tratamiento | O15: Fecha estimada en que se completa el tratamiento | P15: ¿Cómo se realiza el monitoreo? | Q15: Periodicidad ¿Cuándo?
A16: =+EVALUACION!B16 -> PLANEACIÓN | B16: =+EVALUACION!C16 -> Inadecuada escogencia de la modalidad de contratación | F16: Verificación y evaluación de las propuestas presentadas | H16: =+EVALUACION!I16 -> 2 | I16: =+EVALUACION!J16 -> 1 | J16: =+H16+I16 -> 3 | K16: =IF(J16<=4,"BAJO",IF(J16=5,"MEDIO",IF(J16=6,"ALTO",IF(J16=7,"ALTO","EXTREMO")))) -> BAJO | L16: NO | M16: COMITÉ EVALUADOR | N16: Al momento de evaluar las propuestas | O16: Al finalizar las evaluacion | P16: Estudio de las propuestas | Q16: Durante el periodo de evaluación
A17: =+EVALUACION!B17 -> PLANEACIÓN | B17: =+EVALUACION!C17 -> Inadecuada identificación de las condiciones contractuales | F17: Verificar correctamente las condiciones contractuales del proceso | H17: =+EVALUACION!I18 -> 2 | I17: =+EVALUACION!J18 -> 2 | J17: =+H17+I17 -> 4 | K17: =IF(J17<=4,"BAJO",IF(J17=5,"MEDIO",IF(J17=6,"ALTO",IF(J17=7,"ALTO","EXTREMO")))) -> BAJO | L17: NO | M17: CONTRATACION | N17: Desde la adjudicación | O17: Hasta la firma o aceptacion del contrato | P17: Mediante requerimientos, correos electrónicos, o informes | Q17: Cuando ocurra, y se aplicara de manera inmediata
A18: =+EVALUACION!B18 -> SELECCIÓN | B18: =+EVALUACION!C18 -> Inadecuado manejo administrativo del proceso contractual | F18: Diligenciamiento del pacto de transparencia, compromiso anticorrupción y certificado de participación independiente y verificación de las evaluaciones | H18: =+EVALUACION!I19 -> 2 | I18: =+EVALUACION!J19 -> 1 | J18: =+H18+I18 -> 3 | K18: =IF(J18<=4,"BAJO",IF(J18=5,"MEDIO",IF(J18=6,"ALTO",IF(J18=7,"ALTO","EXTREMO")))) -> BAJO | L18: NO | M18: COMITÉ EVALUADOR | N18: En el periodo de evaluación de las propuestas | O18: Al finalizar las evaluacion | P18: Evaluación- con el inicio de la debida investigación | Q18: Durante la evaluación del contrato mientras dure la investigación
A19: =+EVALUACION!B19 -> SELECCIÓN | B19: =+EVALUACION!C19 -> Confabulacion de los proponentes (Colusión) | F19: Realizar estudio de la normatividad y llevar a cabo la aplicación de las medidas gubernamentales | H19: =+EVALUACION!I20 -> 2 | I19: =+EVALUACION!J20 -> 1 | J19: =+H19+I19 -> 3 | K19: =IF(J19<=4,"BAJO",IF(J19=5,"MEDIO",IF(J19=6,"ALTO",IF(J19=7,"ALTO","EXTREMO")))) -> BAJO | L19: SI | M19: COMITÉ EVALUADOR | N19: Al momento de evaluar las propuestas | O19: Al finalizar las evaluacion | P19: Estudio de la normatividad y aplicación de las medidas gubernamentales | Q19: Cuando ocurra
A20: =+EVALUACION!B20 -> CONTRATACIÓN | B20: =+EVALUACION!C20 -> Riesgo de que no se firme el contrato. | F20: Verificar detalladamente la modalidad de contratación y las condiciones contactuales | H20: =+EVALUACION!I21 -> 2 | I20: =+EVALUACION!J21 -> 1 | J20: =+H20+I20 -> 3 | K20: =IF(J20<=4,"BAJO",IF(J20=5,"MEDIO",IF(J20=6,"ALTO",IF(J20=7,"ALTO","EXTREMO")))) -> BAJO | L20: SI | M20: Entidad / Contratista 50/50 | N20: Desde la adjudicación | O20: Hasta la terminación del contrato | P20: Inspecciones preventivas permanentes | Q20: Diarias
A21: =+EVALUACION!B21 -> CONTRATACIÓN | B21: =+EVALUACION!C21 -> Falta de constitución o constitución tardía de la garantía única. Aceptación de garantías que no se ajustan a lo contemplado en el contrato | F21: Llevar a cabo verificación de de las garantias expedidas | H21: =+EVALUACION!I22 -> 2 | I21: =+EVALUACION!J22 -> 1 | J21: =+H21+I21 -> 3 | K21: =IF(J21<=4,"BAJO",IF(J21=5,"MEDIO",IF(J21=6,"ALTO",IF(J21=7,"ALTO","EXTREMO")))) -> BAJO | L21: NO | M21: Entidad | N21: Desde la estructuración del proceso | O21: Hasta la terminación del contrato | P21: Revisando las condiciones contractuales que se suscriben | Q21: Cuando ocurra, y se aplicara de manera inmediata
A22: =+EVALUACION!B22 -> EJECUCIÓN | B22: =+EVALUACION!C22 -> Fluctuaciones del valor de la moneda | F22: Establecer el presupuesto de acuerdo al comportamiento de las fluctuaciones del valor de la moneda | H22: =+EVALUACION!I23 -> 2 | I22: =+EVALUACION!J23 -> 2 | J22: =+H22+I22 -> 4 | K22: =IF(J22<=4,"BAJO",IF(J22=5,"MEDIO",IF(J22=6,"ALTO",IF(J22=7,"ALTO","EXTREMO")))) -> BAJO | L22: SI | M22: Entidad | N22: Desde la estructuración del proceso | O22: Hasta la terminación del contrato | P22: Verificacion de cotizaciones y precios en el mercado | Q22: Cuando ocurra, y se aplicara de manera inmediata
A23: =+EVALUACION!B23 -> EJECUCIÓN | B23: =+EVALUACION!C23 -> Variación de los precios del mercado | F23: Definir adecuadamente los precios de los productos y/o servicios que se requieren | H23: =+EVALUACION!I24 -> 2 | I23: =+EVALUACION!J24 -> 1 | J23: =+H23+I23 -> 3 | K23: =IF(J23<=4,"BAJO",IF(J23=5,"MEDIO",IF(J23=6,"ALTO",IF(J23=7,"ALTO","EXTREMO")))) -> BAJO | L23: NO | M23: Entidad y proponentes | N23: Desde la estructuración del proceso | O23: Hasta la terminación del contrato | P23: Estudio de las propuestas | Q23: Cuando ocurra, y se aplicara de manera inmediata
A24: =+EVALUACION!B24 -> EJECUCIÓN | B24: =+EVALUACION!C24 -> Incumplimiento de compromisos adquiridos por el contratista seleccionado con sus subcontratistas, suministradores de bienes y servicios. | F24: Requerimientos o inicio del debido proceso para poder hacer efectivas las garantías | H24: =+EVALUACION!I25 -> 2 | I24: =+EVALUACION!J25 -> 2 | J24: =+H24+I24 -> 4 | K24: =IF(J24<=4,"BAJO",IF(J24=5,"MEDIO",IF(J24=6,"ALTO",IF(J24=7,"ALTO","EXTREMO")))) -> BAJO | L24: SI | M24: Entidad | N24: Desde la adjudicación del proceso | O24: Hasta la terminación del contrato | P24: Verificacion de cotizacione y precios en el mercado | Q24: Cuando ocurra, y se aplicara de manera inmediata
A25: =+EVALUACION!B25 -> EJECUCIÓN | B25: =+EVALUACION!C25 -> Variación en la disponibilidad o en el costo de los insumos necesarios para prestar los servicios. | F25: Realizar un adecuado estudio economico y de mercado | H25: 2 | I25: 2 | J25: =+H25+I25 -> 4 | K25: =IF(J25<=4,"BAJO",IF(J25=5,"MEDIO",IF(J25=6,"ALTO",IF(J25=7,"ALTO","EXTREMO")))) -> BAJO | L25: SI | M25: Entidad y proponentes | N25: Desde la estructuración del proceso | O25: Hasta la terminación del contrato | P25: Verificacion de cotizacione, precios y disponibilidad en el mercado | Q25: Cuando ocurra, y se aplicara de manera inmediata
B27: Categoria del Riesgo | G27: Impacto del Riesgo
A28: Probabilidad | B28: Catagoria | E28: Valoración | G28: Categoria | I28: Valoración | M28: Categoria del Riesgo
B29: Raro (puede ocurrir excepcionalmente) | E29: 1 | G29: Insignificante | I29: 1 | M29: Valoración del Riesgo | O29: Categoría
B30: Improbable (puede ocurrir ocasionalmente) | E30: 2 | G30: Menor | I30: 2 | M30: 8, 9 y 10 | O30: Riesgo extremo
B31: Posible (puede ocurrir en cualquier momento futuro) | E31: 3 | G31: Moderado | I31: 3 | M31: 6 y 7 | O31: Riesgo alto
B32: Probable (probablemente va a ocurrir) | E32: 4 | G32: Mayor | I32: 4 | M32: 5 | O32: Riesgo medio
B33: Casi cierto (ocurre en la mayoria de circunstancias) | E33: 5 | G33: Catastrófico | I33: 5 | M33: 2, 3 y 4 | O33: Riesgo bajo
B35: Valoración del Riesgo
B36: Calificación Cualitativa | F36: Obstruye la ejecución del contrato de manera intrascendente. | H36: Dificulta la ejecución del contrato de manera baja, aplicando medidas mínimas se pueden lograr el objeto contractual | K36: Afecta la ejecución del contrato sin alterar el beneficio para las partes | M36: Obstruye la ejecución del contrato sustancialmente pero aun así permite la consecución del objeto contractual | O36: Perturba la ejecución del contrato de manera grave imposibilitando la consecución del objeto contractual.
B37: Calificación Monetaria | F37: Los sobrecostos no representan más del uno por ciento (1%) del valor del contrato. | H37: Los sobrecostos no representan más del cinco por ciento (5%) del valor del contrato. | K37: Genera un impacto sobre el valor del contrato entre el cinco (5%) y el quince por ciento (15%). | M37: Incrementa el valor del contrato entre el quince (15%) y el treinta por ciento (30%). | O37: Impacto sobre el valor del contrato en más del treinta por ciento (30%).
B38: Catagoria | E38: Valoración | F38: Insignificante | H38: Menor | K38: Moderado | M38: Mayor | O38: Catastrófico
F39: 1 | H39: 2 | K39: 3 | M39: 4 | O39: 5
B40: Raro (puede ocurrir excepcionalmente) | E40: 1 | F40: 2 | H40: 3 | K40: 4 | M40: 5 | O40: 6
B41: Improbable (puede ocurrir ocasionalmente) | E41: 2 | F41: 3 | H41: 4 | K41: 5 | M41: 6 | O41: 7
B42: Posible (puede ocurrir en cualquier momento futuro) | E42: 3 | F42: 4 | H42: 5 | K42: 6 | M42: 7 | O42: 8
B43: Probable (probablemente va a ocurrir) | E43: 4 | F43: 5 | H43: 6 | K43: 7 | M43: 8 | O43: 9
B44: Casi cierto (ocurre en la mayoria de circunstancias) | E44: 5 | F44: 6 | H44: 7 | K44: 8 | M44: 9 | O44: 10

Sheet ASIGNACION Y TRATAMIENTO
D2: MATRIZ DE RIESGOS DE CONTRATACIÓN | W2: Código: GCO-GCI-F164 Versión: 02 Vigencia: 1 diciembre de 2022 Caso HOLA: 280117
B6: Objeto Contractual: PRESTACIÓN DE SERVICIOS DE APOYO LOGÍSTICO PARA LA REALIZACIÓN DE LOS JUEGOS DEPORTIVOS RURALES Y CAMPESINOS DE SUMAPAZ 2024
B7: IDENTIFICACIÓN, ANALISIS, EVALUACIÓN , ASIGNACIÓN Y TRATAMIENTO DE RIESGOS EN LA CONTRATACIÓN
B8: Esta matriz es un documento anexo del Estudio Previo
B10: No | C10: Descripción (Que puede pasar y, cómo puede ocurrir) | D10: Etapa | E10: Clase | F10: Fuente | G10: Consecuencias de la ocurrencia del evento | H10: Probabilidad | I10: Impacto | J10: Calificación total | K10: Prioridad | L10: ¿A quien se le asigna? | M10: % | N10: Tratamiento/Controles a ser implementados | O10: Probabilidad | P10: Impacto | Q10: Calificación total | R10: Prioridad | S10: ¿Afecta el equilibrio económico del contrato? | T10: Persona responsable por implementar el tratamiento | U10: Fecha estimada en que se inicia el tratamiento | V10: Fecha estimada en que se completa el tratamiento | W10: ¿Cómo se realiza el monitoreo | X10: Periodicidad ¿Cuándo?
B11: 1 | C11: =+EVALUACION!C16 -> Inadecuada escogencia de la modalidad de contratación | D11: =+'EVALUACION CON CONTROLES'!A16 -> PLANEACIÓN | E11: =VLOOKUP(C11,'IDENTIFICACION Y ANALISIS'!$B$19:$F$68,3,FALSE) -> General | F11: =VLOOKUP(C11,'IDENTIFICACION Y ANALISIS'!$B$19:$F$68,4,FALSE) -> Interno | G11: =+EVALUACION!H16 -> Imposibilidad de adjudicar el contrato | H11: =+EVALUACION!I16 -> 2 | I11: =+EVALUACION!J16 -> 1 | J11: =+EVALUACION!K16 -> 3 | K11: =+EVALUACION!L16 -> BAJO | L11: CONTRATISTA Y SDG | M11: 50 | N11: =+'EVALUACION CON CONTROLES'!F16 -> Verificación y evaluación de las propuestas presentadas | O11: =+'EVALUACION CON CONTROLES'!H16 -> 2 | P11: =+'EVALUACION CON CONTROLES'!I16 -> 1 | Q11: =+'EVALUACION CON CONTROLES'!J16 -> 3 | R11: =+'EVALUACION CON CONTROLES'!K16 -> BAJO | S11: =+'EVALUACION CON CONTROLES'!L16 -> NO | T11: =+'EVALUACION CON CONTROLES'!M16 -> COMITÉ EVALUADOR | U11: =+'EVALUACION CON CONTROLES'!N16 -> Al momento de evaluar las propuestas | V11: =+'EVALUACION CON CONTROLES'!O16 -> Al finalizar las evaluacion | ... X11: =+'EVALUACION CON CONTROLES'!Q16 -> Durante el periodo de evaluación
B12: 2 | C12: =+EVALUACION!C18 -> Inadecuado manejo administrativo del proceso contractual | D12: =+'EVALUACION CON CONTROLES'!A17 -> PLANEACIÓN | E12: =VLOOKUP(C12,'IDENTIFICACION Y ANALISIS'!$B$19:$F$68,3,FALSE) -> General | F12: =VLOOKUP(C12,'IDENTIFICACION Y ANALISIS'!$B$19:$F$68,4,FALSE) -> Interno | G12: =+EVALUACION!H18 -> Retraso en la ejecución del contrato o no ejecución del contrato | H12: =+EVALUACION!I18 -> 2 | I12: =+EVALUACION!J18 -> 2 | J12: =+EVALUACION!K18 -> 4 | K12: =+EVALUACION!L18 -> BAJO | L12: CONTRATISTA | M12: 100 | N12: =+'EVALUACION CON CONTROLES'!F17 -> Verificar correctamente las condiciones contractuales del proceso | O12: =+'EVALUACION CON CONTROLES'!H17 -> 2 | P12: =+'EVALUACION CON CONTROLES'!I17 -> 2 | Q12: =+'EVALUACION CON CONTROLES'!J17 -> 4 | R12: =+'EVALUACION CON CONTROLES'!K17 -> BAJO | S12: =+'EVALUACION CON CONTROLES'!L17 -> NO | T12: =+'EVALUACION CON CONTROLES'!M17 -> CONTRATACION | U12: =+'EVALUACION CON CONTROLES'!N17 -> Desde la adjudicación | V12: =+'EVALUACION CON CONTROLES'!O17 -> Hasta la firma o aceptacion del contrato | ... X12: =+'EVALUACION CON CONTROLES'!Q17 -> Cuando ocurra, y se aplicara de manera inmediata
B13: 3 | C13: =+EVALUACION!C19 -> Confabulacion de los proponentes (Colusión) | D13: =+'EVALUACION CON CONTROLES'!A18 -> SELECCIÓN | E13: =VLOOKUP(C13,'IDENTIFICACION Y ANALISIS'!$B$19:$F$68,3,FALSE) -> General | F13: =VLOOKUP(C13,'IDENTIFICACION Y ANALISIS'!$B$19:$F$68,4,FALSE) -> Externo | G13: =+EVALUACION!H19 -> Que el proceso de selección se vea afectado en cuanto objetividad y transparencia | H13: =+EVALUACION!I19 -> 2 | I13: =+EVALUACION!J19 -> 1 | J13: =+EVALUACION!K19 -> 3 | K13: =+EVALUACION!L19 -> BAJO | L13: CONTRATISTA | M13: 100 | N13: =+'EVALUACION CON CONTROLES'!F18 -> Diligenciamiento del pacto de transparencia, compromiso anticorrupción y certificado de participación independiente y verificación de las evaluaciones | O13: =+'EVALUACION CON CONTROLES'!H18 -> 2 | P13: =+'EVALUACION CON CONTROLES'!I18 -> 1 | Q13: =+'EVALUACION CON CONTROLES'!J18 -> 3 | R13: =+'EVALUACION CON CONTROLES'!K18 -> BAJO | S13: =+'EVALUACION CON CONTROLES'!L18 -> NO | T13: =+'EVALUACION CON CONTROLES'!M18 -> COMITÉ EVALUADOR | U13: =+'EVALUACION CON CONTROLES'!N18 -> En el periodo de evaluación de las propuestas | V13: =+'EVALUACION CON CONTROLES'!O18 -> Al finalizar las evaluacion | W13: =+'EVALUACION CON CONTROLES'!P18 -> Evaluación- con el inicio de la debida investigación | X13: Durante la evaluación del contrato mientras dure la investigación
B14: 4 | C14: =+EVALUACION!C20 -> Riesgo de que no se firme el contrato. | D14: =+'EVALUACION CON CONTROLES'!A19 -> SELECCIÓN | E14: =VLOOKUP(C14,'IDENTIFICACION Y ANALISIS'!$B$19:$F$68,3,FALSE) -> General | F14: =VLOOKUP(C14,'IDENTIFICACION Y ANALISIS'!$B$19:$F$68,4,FALSE) -> Interno | G14: =+EVALUACION!H20 -> Necesidad de volver a realizar el proceso | H14: =+EVALUACION!I20 -> 2 | I14: =+EVALUACION!J20 -> 1 | J14: =+EVALUACION!K20 -> 3 | K14: =+EVALUACION!L20 -> BAJO | L14: CONTRATISTA Y SDG | M14: 50 | N14: =+'EVALUACION CON CONTROLES'!F19 -> Realizar estudio de la normatividad y llevar a cabo la aplicación de las medidas gubernamentales | O14: =+'EVALUACION CON CONTROLES'!H19 -> 2 | P14: =+'EVALUACION CON CONTROLES'!I19 -> 1 | Q14: =+'EVALUACION CON CONTROLES'!J19 -> 3 | R14: =+'EVALUACION CON CONTROLES'!K19 -> BAJO | S14: =+'EVALUACION CON CONTROLES'!L19 -> SI | T14: =+'EVALUACION CON CONTROLES'!M19 -> COMITÉ EVALUADOR | U14: =+'EVALUACION CON CONTROLES'!N19 -> Al momento de evaluar las propuestas | V14: =+'EVALUACION CON CONTROLES'!O19 -> Al finalizar las evaluacion | ... X14: =+'EVALUACION CON CONTROLES'!Q19 -> Cuando ocurra
B15: 5 | C15: =+EVALUACION!C21 -> Falta de constitución o constitución tardía de la garantía única. Aceptación de garantías que no se ajustan a lo contemplado en el contrato | D15: =+'EVALUACION CON CONTROLES'!A20 -> CONTRATACIÓN | E15: =VLOOKUP(C15,'IDENTIFICACION Y ANALISIS'!$B$19:$F$68,3,FALSE) -> General | F15: =VLOOKUP(C15,'IDENTIFICACION Y ANALISIS'!$B$19:$F$68,4,FALSE) -> Interno | G15: =+EVALUACION!H21 -> Retraso en la ejecución del contrato o no ejecución del contrato | H15: =+EVALUACION!I21 -> 2 | I15: =+EVALUACION!J21 -> 1 | J15: =+EVALUACION!K21 -> 3 | K15: =+EVALUACION!L21 -> BAJO | L15: CONTRATISTA Y SDG | M15: 50 | N15: =+'EVALUACION CON CONTROLES'!F21 -> Llevar a cabo verificación de de las garantias expedidas | O15: =+'EVALUACION CON CONTROLES'!H20 -> 2 | P15: =+'EVALUACION CON CONTROLES'!I20 -> 1 | Q15: =+'EVALUACION CON CONTROLES'!J20 -> 3 | R15: =+'EVALUACION CON CONTROLES'!K20 -> BAJO | S15: =+'EVALUACION CON CONTROLES'!L20 -> SI | T15: =+'EVALUACION CON CONTROLES'!M20 -> Entidad / Contratista 50/50 | U15: =+'EVALUACION CON CONTROLES'!N20 -> Desde la adjudicación | V15: =+'EVALUACION CON CONTROLES'!O20 -> Hasta la terminación del contrato | ... X15: =+'EVALUACION CON CONTROLES'!Q20 -> Diarias
B16: 6 | C16: =+EVALUACION!C22 -> Fluctuaciones del valor de la moneda | D16: =+'EVALUACION CON CONTROLES'!A21 -> CONTRATACIÓN | E16: =VLOOKUP(C16,'IDENTIFICACION Y ANALISIS'!$B$19:$F$68,3,FALSE) -> Especifico | F16: =VLOOKUP(C16,'IDENTIFICACION Y ANALISIS'!$B$19:$F$68,4,FALSE) -> Externo | G16: =+EVALUACION!H22 -> El proceso puede verse afectado por las variaciones del valor de la moneda para establecer el presupuesto | H16: =+EVALUACION!I22 -> 2 | I16: =+EVALUACION!J22 -> 1 | J16: =+EVALUACION!K22 -> 3 | K16: =+EVALUACION!L22 -> BAJO | L16: CONTRATISTA | M16: 100 | N16: =+'EVALUACION CON CONTROLES'!F22 -> Establecer el presupuesto de acuerdo al comportamiento de las fluctuaciones del valor de la moneda | O16: =+'EVALUACION CON CONTROLES'!H21 -> 2 | P16: =+'EVALUACION CON CONTROLES'!I21 -> 1 | Q16: =+'EVALUACION CON CONTROLES'!J21 -> 3 | R16: =+'EVALUACION CON CONTROLES'!K21 -> BAJO | S16: =+'EVALUACION CON CONTROLES'!L21 -> NO | T16: =+'EVALUACION CON CONTROLES'!M21 -> Entidad | U16: =+'EVALUACION CON CONTROLES'!N21 -> Desde la estructuración del proceso | V16: =+'EVALUACION CON CONTROLES'!O21 -> Hasta la terminación del contrato | ... X16: =+'EVALUACION CON CONTROLES'!Q21 -> Cuando ocurra, y se aplicara de manera inmediata
B17: 7 | C17: =+EVALUACION!C23 -> Variación de los precios del mercado | D17: =+'EVALUACION CON CONTROLES'!A22 -> EJECUCIÓN | E17: =VLOOKUP(C17,'IDENTIFICACION Y ANALISIS'!$B$19:$F$68,3,FALSE) -> Especifico | F17: =VLOOKUP(C17,'IDENTIFICACION Y ANALISIS'!$B$19:$F$68,4,FALSE) -> Externo | G17: =+EVALUACION!H23 -> Puede causar incumplimientos en la entrega de los productos y/o servicios | H17: =+EVALUACION!I23 -> 2 | I17: =+EVALUACION!J23 -> 2 | J17: =+EVALUACION!K23 -> 4 | K17: =+EVALUACION!L23 -> BAJO | L17: SDG | M17: 100 | N17: =+'EVALUACION CON CONTROLES'!F23 -> Definir adecuadamente los precios de los productos y/o servicios que se requieren | O17: =+'EVALUACION CON CONTROLES'!H22 -> 2 | P17: =+'EVALUACION CON CONTROLES'!I22 -> 2 | Q17: =+'EVALUACION CON CONTROLES'!J22 -> 4 | R17: =+'EVALUACION CON CONTROLES'!K22 -> BAJO | S17: =+'EVALUACION CON CONTROLES'!L22 -> SI | T17: =+'EVALUACION CON CONTROLES'!M22 -> Entidad | U17: =+'EVALUACION CON CONTROLES'!N22 -> Desde la estructuración del proceso | V17: =+'EVALUACION CON CONTROLES'!O22 -> Hasta la terminación del contrato | ... X17: =+'EVALUACION CON CONTROLES'!Q22 -> Cuando ocurra, y se aplicara de manera inmediata
B18: 8 | C18: =+EVALUACION!C24 -> Incumplimiento de compromisos adquiridos por el contratista seleccionado con sus subcontratistas, suministradores de bienes y servicios. | D18: =+'EVALUACION CON CONTROLES'!A23 -> EJECUCIÓN | E18: =VLOOKUP(C18,'IDENTIFICACION Y ANALISIS'!$B$19:$F$68,3,FALSE) -> Especifico | F18: =VLOOKUP(C18,'IDENTIFICACION Y ANALISIS'!$B$19:$F$68,4,FALSE) -> Externo | G18: =+EVALUACION!H24 -> Retraso en la ejecución del contrato o no ejecución del contrato | H18: =+EVALUACION!I24 -> 2 | I18: =+EVALUACION!J24 -> 1 | J18: =+EVALUACION!K24 -> 3 | K18: =+EVALUACION!L24 -> BAJO | L18: CONTRATISTA Y SDG | M18: 50 | N18: =+'EVALUACION CON CONTROLES'!F24 -> Requerimientos o inicio del debido proceso para poder hacer efectivas las garantías | O18: =+'EVALUACION CON CONTROLES'!H23 -> 2 | P18: =+'EVALUACION CON CONTROLES'!I23 -> 1 | Q18: =+'EVALUACION CON CONTROLES'!J23 -> 3 | R18: =+'EVALUACION CON CONTROLES'!K23 -> BAJO | S18: =+'EVALUACION CON CONTROLES'!L23 -> NO | T18: =+'EVALUACION CON CONTROLES'!M23 -> Entidad y proponentes | U18: =+'EVALUACION CON CONTROLES'!N23 -> Desde la estructuración del proceso | V18: =+'EVALUACION CON CONTROLES'!O23 -> Hasta la terminación del contrato | ... X18: =+'EVALUACION CON CONTROLES'!Q23 -> Cuando ocurra, y se aplicara de manera inmediata
F20: Categoria | J20: Impacto del Riesgo
E21: Probabilidad | F21: Catagoria | G21: Valoración | J21: Categoria | L21: Valoración
F22: Raro (puede ocurrir excepcionalmente) | G22: 1 | J22: Insignificante | L22: 1
F23: Improbable (puede ocurrir ocasionalmente) | G23: 2 | J23: Menor | L23: 2
F24: Posible (puede ocurrir en cualquier momento futuro) | G24: 3 | J24: Moderado | L24: 3
F25: Probable (probablemente va a ocurrir) | G25: 4 | J25: Mayor | L25: 4
F26: Casi cierto (ocurre en la mayoria de circunstancias) | G26: 5 | J26: Catastrófico | L26: 5
D28: Valoración del Riesgo
D29: Catagoria | E29: Valoración | F29: Insignificante | H29: Menor | J29: Moderado | K29: Mayor | L29: Catastrófico | P29: Categoria del Riesgo
F30: 1 | H30: 2 | J30: 3 | K30: 4 | L30: 5 | P30: Valoración del Riesgo | S30: Categoría
D31: Raro (puede ocurrir excepcionalmente) | E31: 1 | F31: 2 | H31: 3 | J31: 4 | K31: 5 | L31: 6 | P31: 8, 9 y 10 | S31: Riesgo extremo
D32: Improbable (puede ocurrir ocasionalmente) | E32: 2 | F32: 3 | H32: 4 | J32: 5 | K32: 6 | L32: 7 | P32: 6 y 7 | S32: Riesgo alto
D33: Posible (puede ocurrir en cualquier momento futuro) | E33: 3 | F33: 4 | H33: 5 | J33: 6 | K33: 7 | L33: 8 | P33: 5 | S33: Riesgo medio
D34: Probable (probablemente va a ocurrir) | E34: 4 | F34: 5 | H34: 6 | J34: 7 | K34: 8 | L34: 9 | P34: 2, 3 y 4 | S34: Riesgo bajo
D35: Casi cierto (ocurre en la mayoria de circunstancias) | E35: 5 | F35: 6 | H35: 7 | J35: 8 | K35: 9 | L35: 10
B40: CONTRATISTA
B41: SDG
B42: CONTRATISTA Y SDG
