Workbook
Name contratación: 'IDENTIFICACION Y ANALISIS'!$B$38:$B$42
Name ejecución: 'IDENTIFICACION Y ANALISIS'!$B$44:$B$56
Name OPCIONES: 'ASIGNACION Y TRATAMIENTO'!$B$51:$B$53
Name planeación: 'IDENTIFICACION Y ANALISIS'!$B$19:$B$29
Name selección: 'IDENTIFICACION Y ANALISIS'!$B$31:$B$36

Sheet CONTEXTO
C1: MATRIZ DE RIESGOS EN CONTRATACIÓN | F1: Código: GCO-GCI-F164 Versión: 01 Vigencia: 16 diciembre de 2021 Caso HOLA: 206942
B5: ESTABLECER EL CONTEXTO
B6: El punto inicial es identificar el contexto en el cual interactúa la Entidad Estatal para conocer el ambiente social, económico y político, e identificar (i) sus propios Riesgos; (ii) los Riesgos comunes a sus Procesos de Contratación; y (iii) los Riesgos del Proceso de Contratación en particular. (Aplica igual para contratos interadministrativos) En este paso la Entidad Estatal debe identificar los aspectos que se mencionan a continuación y los posibles efectos adversos que estos pueden generar.
B7: Objeto del Proceso de Contratación: PRESTACIÓN DE SERVICIOS AL FONDO DE DESARROLLO LOCAL DE LA CANDELARIA PARA REALIZAR LA AUDITORIA DE RECERTIFICACIÓN (2024) DE LA LOCALIDAD DE LA CANDELARIA COMO ÁREA TURÍSTICA SOSTENIBLE, DE ACUERDO CON LOS LINEAMIENTOS QUE EXIGE LA NORMA TÉCNICA SECTORIAL COLOMBIANA NTS TS 001-1
B8: Partícipes del Proceso de Contratación: Contratista y funcionarios del FONDO DE DESARROLLO LOCAL DE LA CANDELARIA
B9: Ciudadanía que se beneficia del Proceso de Contratación: Población residente: niños, niñas, jóvenes, adultos, adultos mayores, Empresarios y Entidades del territoiro en la Localidad de La Candelaria.
B10: Capacidad de la Entidad Estatal entendida como la disponibilidad de recursos y conocimientos para el Proceso de Contratación: El Fondo de Desarrollo Local de La Candelaria cuenta con personas capacitadas para manejar la etapa precontractual, contractual y vigilar la ejecución.
B11: Suficiencia del presupuesto oficial del Proceso de Contratación: De acuerdo al Plan de contratación para la vigencia 2024, se estimaron los recursos necesarios para el desarrollo del proceso de la contratación, el cual tendrá el soporte presupuestal suficiente para su desarrollo.
B12: Condiciones geográficas y de acceso del lugar en el cual se debe cumplir el objeto del Proceso de Contratación: El suministro, obra o servicio se prestará principalmente en las Sedes de la Entidad, o en el lugar indicado en los estudios previos del proceso.
B13: Entorno socio ambiental: Si aplican
B14: Condiciones políticas: Si aplican
B15: Factores ambientales: Sí aplican
B16: Sector del objeto del Proceso de Contratación y su mercado: Todos los clientes (entidades privadas, Estatales y Gubernamentales), alrededor en todo el Territorio Nacional Colombiano y el exterior, quienes solicitan servicios de auditoria en la gestión y producto para la acreditación ante entidades de carácter nacional.
... B18: Experiencia propia y de otras Entidades Estatales en Procesos de Contratación del mismo tipo: - La Localidad desde el año 2018 cuenta con la certificación como Área Turística Sostenible, proceso que anualmente exige un acompañamiento y que desde la administración local se ha realizado.

Sheet IDENTIFICACION Y ANALISIS
C2: MATRIZ DE RIESGOS DE CONTRATACIÓN INVERSIÓN SOCIAL | F2: Código: GCO-GCI-F164 Versión: 01 Vigencia: 16 diciembre de 2021 Caso HOLA: 206942
B6: DEFINICIONES
B7: RIESGO: evento que puede generar efectos adversos y de distinta magnitud en el logro de los objetivos del Proceso de Contratación o en la ejecución de un contrato
B8: RIESGOS PREVISIBLES: Son los posibles hechos o circunstancias que por la naturaleza del contrato y de la actividad a ejecutar es factible su ocurrencia.
B9: ETAPA DE PLANEACIÓN: Está comprendida entre la elaboración del Plan Anual de Adquisiciones y la fecha en la cual decide continuar o no con el Proceso de Contratación
B10: ETAPA DE SELECCIÓN: Está comprendida entre el acto de Apertura del Proceso de Contratación y la Adjudicación o la declaración de desierto del Proceso de Contratación
B11: ETAPA DE CONTRATACIÓN: Una vez adjudicado el contrato objeto del Proceso de Contratación, inicia la etapa de contratación en la cual se debe cumplir con el cronograma previsto para la celebración del contrato, el registro presupuestal, la publicación en el SECOP y el cumplimiento de los requisitos para el perfeccionamiento, ejecución y pago.
B12: ETAPA DE EJECUCIÓN: Inicia una vez cumplidos los requisitos previstos para iniciar la ejecución del contrato respectivo y termina con el vencimiento del plazo del contrato o la fecha de liquidación si hay lugar a ella.
B13: RIESGO GENERAL: Es un riesgo de todos los procesos de contratación adelantados por la Entidad Estatal, por lo cual está presente en toda su actividad contractual.
B14: RIEGO ESPECIFICO: Es un riesgo propio del proceso de contratación objeto de análisis.
B15: INSTRUCCIONES PARA LA IDENTIFICACIÓN, ANALISIS, EVALUACIÓN , ASIGNACIÓN Y TRATAMIENTO DE RIESGOS EN LA CONTRATACIÓN
B16: 1) Identifique los riesgos previsibles que le apliquen al objeto contractual que se adelante; En caso de identificar otro riesgo inclúyalo en la proforma e informe al Área de Contratos de la Secretaría General para que sea actualizada en el SIG.
C17: ETAPAS | D17: CLASE | E17: FUENTE | F17: TIPO
C18: PLANEACIÓN
B19: Inadecuada escogencia de la modalidad de contratación | D19: General | E19: Externo | F19: Operacionales
B20: Criterios técnicos de la norma sectorial no incluídos en el anexo técnico | D20: General | E20: Externo | F20: Operacionales
B21: Inadecuado análisis económico estimativo del valor del contrato | D21: General | E21: Interno | F21: Economicos
B22: Inadecuada descripción del bien o servicio requerido | D22: General | E22: Interno | F22: Operacionales
B23: Inadecuada elaboración de estudios y diseños | D23: General | E23: Interno | F23: Operacionales
B24: Requisitos habilitantes que impidan la selección objetiva | D24: General | E24: Interno | F24: Operacionales
B25: Falta de profundidad en el estudio de sector no identificandose claramente aspectos de oferta y demanda | D25: General | E25: Interno | F25: Economicos
B26: Ausencia de fundamentación de la justificación y conveniencia de la contratación | D26: General | E26: Interno | F26: Operacionales
B27: Inadecuada identificación de las condiciones contractuales | D27: General | E27: Interno | F27: Operacionales
B28: No aprobación o demoras en la expedición vigencias futuras | D28: General | E28: Interno | F28: Operacionales
B29: Apertura de procesos sin disponibilidad presupuestal | D29: General | E29: Interno | F29: Operacionales
C30: SELECCIÓN
B31: Inadecuada evaluación de las ofertas y/o verificación de requisitos habilitantes | D31: General | E31: Interno | F31: Operacionales
B32: Inadecuado manejo administrativo del proceso contractual | D32: General | E32: Interno | F32: Operacionales
B33: Falta de claridad en la elaboración de los actos administrativos | D33: General | E33: Interno | F33: Operacionales
B34: Contestación inoportuna a todas las observaciones formuladas a los documentos de la contratación | D34: General | E34: Interno | F34: Operacionales
B35: No publicación de la documentación del proceso de selección en el SECOP | D35: General | E35: Interno | F35: Operacionales
B36: Selección de ofertas con precios artificialmente bajos. | D36: General | E36: Externo | F36: Operacionales
D37: General | E37: Interno | F37: Operacionales
B38: Riesgo de que no se firme el contrato. | C38: CONTRATACIÓN
B39: Falta de constitución o constitución tardía de la garantía única. Aceptación de garantías que no se ajustan a lo contemplado en el contrato | D39: General | E39: Externo | F39: Operacionales
B40: Falta de solicitud o solicitud tardía del registro presupuestal | D40: General | E40: Externo | F40: Operacionales
B41: No publicación de la documentación del proceso de selección en el SECOP | D41: General | E41: Interno | F41: Operacionales
B42: Presentación de reclamos de terceros sobre la selección del oferente que retrasen el perfeccionamiento del contrato. | D42: General | E42: Interno | F42: Operacionales
D43: General | E43: Externo | F43: Operacionales
B44: Cambio de precios en factores de producción. | C44: EJECUCIÓN
...

Sheet EVALUACION
D1: MATRIZ DE RIESGOS DE INVERSIÓN SOCIAL | K1: Código: GCO-GCI-F164 Versión: 01 Vigencia: 16 diciembre de 2021 Caso HOLA: 206942
B5: Objeto Contractual:PRESTACIÓN DE SERVICIOS AL FONDO DE DESARROLLO LOCAL DE LA CANDELARIA PARA REALIZAR LA AUDITORIA DE RECERTIFICACIÓN (2024) DE LA LOCALIDAD DE LA CANDELARIA COMO ÁREA TURÍSTICA SOSTENIBLE, DE ACUERDO CON LOS LINEAMIENTOS QUE EXIGE LA NORMA TÉCNICA SECTORIAL COLOMBIANA NTS TS 001-1
B6: INSTRUCCIONES PARA LA IDENTIFICACIÓN, ANALISIS, EVALUACIÓN , ASIGNACIÓN Y TRATAMIENTO DE RIESGOS EN LA CONTRATACIÓN
B7: 1) Seleccione el tipo de calificación (Cualitativa ó Monetaria)
B8: 2) Seleccione la(s) etapas y los riesgos que aplican al objeto contractual
B9: 3) Asigne la probabilidad de ocurrencia del riesgo, de conformidad con la tabla de probabilidad
B10: 4) Asigne el impacto que generaría la materialización del riesgo, de conformidad con la tabla de impacto
B11: 5) Al realizar las anteriores actividades se obtendrá la calificación total y la valoración del riesgo (prioridad) , traslde al formato evaluación con controles, los que tengan un nivel de criticidad diferente a bajo.
B12: 6) Continúe en la hoja de evaluación de controles
B14: CALIFICACIÓN | H14: Cualitativa
B15: ETAPA | C15: Descripción (Que puede pasar y, cómo puede ocurrir) | H15: Consecuencias de la ocurrencia del evento | I15: Probabilidad de Ocurrencia | J15: Impacto | K15: Calificación Total | L15: Prioridad
B16: PLANEACIÓN | C16: Criterios técnicos de la norma sectorial no incluídos en el anexo técnico | H16: Ejecución imperfecto | I16: 1 | J16: 3 | K16: =+I16+J16 -> 4 | L16: =IF(K16<=4,"BAJO",IF(K16=5,"MEDIO",IF(K16=6,"ALTO",IF(K16=7,"ALTO","EXTREMO")))) -> BAJO
B17: PLANEACIÓN | C17: Inadecuada elaboración de estudios y diseños | H17: Ejecución imperfecta | I17: 3 | J17: 3 | K17: =+I17+J17 -> 6 | L17: =IF(K17<=4,"BAJO",IF(K17=5,"MEDIO",IF(K17=6,"ALTO",IF(K17=7,"ALTO","EXTREMO")))) -> ALTO
B18: PLANEACIÓN | C18: Falta de profundidad en el estudio de sector no identificandose claramente aspectos de oferta y demanda | H18: Ejecución que no llega a todos los beneficiarios | I18: 2 | J18: 3 | K18: =+I18+J18 -> 5 | L18: =IF(K18<=4,"BAJO",IF(K18=5,"MEDIO",IF(K18=6,"ALTO",IF(K18=7,"ALTO","EXTREMO")))) -> MEDIO
B19: PLANEACIÓN | C19: Falta de profundidad en el estudio de sector no identificandose claramente aspectos de oferta y demanda | H19: Problemas de ejecución | I19: 3 | J19: 4 | K19: =+I19+J19 -> 7 | L19: =IF(K19<=4,"BAJO",IF(K19=5,"MEDIO",IF(K19=6,"ALTO",IF(K19=7,"ALTO","EXTREMO")))) -> ALTO
B20: SELECCIÓN | C20: Inadecuada evaluación de las ofertas y/o verificación de requisitos habilitantes | H20: Genera sobrecostos | I20: 2 | J20: 4 | K20: =+I20+J20 -> 6 | L20: =IF(K20<=4,"BAJO",IF(K20=5,"MEDIO",IF(K20=6,"ALTO",IF(K20=7,"ALTO","EXTREMO")))) -> ALTO
B21: SELECCIÓN | C21: Contestación inoportuna a todas las observaciones formuladas a los documentos de la contratación | H21: contrato queda con vacios entre los proponentes | I21: 3 | J21: 2 | K21: =+I21+J21 -> 5 | L21: =IF(K21<=4,"BAJO",IF(K21=5,"MEDIO",IF(K21=6,"ALTO",IF(K21=7,"ALTO","EXTREMO")))) -> MEDIO
B22: CONTRATACIÓN | C22: Falta de constitución o constitución tardía de la garantía única. Aceptación de garantías que no se ajustan a lo contemplado en el contrato | H22: El FDLC corre el riesgo de asumir el siniestro | I22: 3 | J22: 3 | K22: =+I22+J22 -> 6 | L22: =IF(K22<=4,"BAJO",IF(K22=5,"MEDIO",IF(K22=6,"ALTO",IF(K22=7,"ALTO","EXTREMO")))) -> ALTO
B23: CONTRATACIÓN | C23: Presentación de reclamos de terceros sobre la selección del oferente que retrasen el perfeccionamiento del contrato. | H23: Retraso en el inicio de ejecución y sobrecostos | I23: 3 | J23: 3 | K23: =+I23+J23 -> 6 | L23: =IF(K23<=4,"BAJO",IF(K23=5,"MEDIO",IF(K23=6,"ALTO",IF(K23=7,"ALTO","EXTREMO")))) -> ALTO
B24: EJECUCIÓN | C24: Variación de los precios del mercado | H24: Sobrecostos | I24: 2 | J24: 3 | K24: =+I24+J24 -> 5 | L24: =IF(K24<=4,"BAJO",IF(K24=5,"MEDIO",IF(K24=6,"ALTO",IF(K24=7,"ALTO","EXTREMO")))) -> MEDIO
B25: EJECUCIÓN | C25: Cancelación de pedidos. | H25: Cancelaciòn de la actividad | I25: 3 | J25: 4 | K25: =+I25+J25 -> 7 | L25: =IF(K25<=4,"BAJO",IF(K25=5,"MEDIO",IF(K25=6,"ALTO",IF(K25=7,"ALTO","EXTREMO")))) -> ALTO
B26: EJECUCIÓN | C26: Incumplimiento de compromisos adquiridos por el contratista seleccionado con sus subcontratistas, suministradores de bienes y servicios. | H26: Deficiencia en la ejecución | I26: 3 | J26: 4 | K26: =+I26+J26 -> 7 | L26: =IF(K26<=4,"BAJO",IF(K26=5,"MEDIO",IF(K26=6,"ALTO",IF(K26=7,"ALTO","EXTREMO")))) -> ALTO
B27: EJECUCIÓN | C27: Incumplimiento de la administración en los pagos. | H27: Corrupción | I27: 3 | J27: 4 | K27: =+I27+J27 -> 7 | L27: =IF(K27<=4,"BAJO",IF(K27=5,"MEDIO",IF(K27=6,"ALTO",IF(K27=7,"ALTO","EXTREMO")))) -> ALTO
... B29: EJECUCIÓN | C29: Incumplimiento derivado del trámite de los permisos con autoridades ambientales, la obtención de los mismos, paz y salvos | H29: Falta de ejeución del evento o retraso en el cronograma de ejeución | I29: 1 | J29: 2 | K29: =+I29+J29 -> 3 | L29: =IF(K29<=4,"BAJO",IF(K29=5,"MEDIO",IF(K29=6,"ALTO",IF(K29=7,"ALTO","EXTREMO")))) -> BAJO
B32: Probabilidad | C32: Catagoria | E32: Valoración | G32: Impacto | H32: Categoria | I32: Valoración
C33: Raro (puede ocurrir excepcionalmente) | E33: 1 | H33: Insignificante | I33: 1
C34: Improbable (puede ocurrir ocasionalmente) | E34: 2 | H34: Menor | I34: 2
C35: Posible (puede ocurrir en cualquier momento futuro) | E35: 3 | H35: Moderado | I35: 3
C36: Probable (probablemente va a ocurrir) | E36: 4 | H36: Mayor | I36: 4
C37: Casi cierto (ocurre en la mayoria de circunstancias) | E37: 5 | H37: Catastrófico | I37: 5
C39: Valoración del Riesgo
C40: Calificación Cualitativa | F40: Obstruye la ejecución del contrato de manera intrascendente. | G40: Dificulta la ejecución del contrato de manera baja, aplicando medidas mínimas se pueden lograr el objeto contractual | H40: Afecta la ejecución del contrato sin alterar el beneficio para las partes | I40: Obstruye la ejecución del contrato sustancialmente pero aun así permite la consecución del objeto contractual | K40: Perturba la ejecución del contrato de manera grave imposibilitando la consecución del objeto contractual.
C41: Calificación Monetaria | F41: Los sobrecostos no representan más del uno por ciento (1%) del valor del contrato. | G41: Los sobrecostos no representan más del cinco por ciento (5%) del valor del contrato. | H41: Genera un impacto sobre el valor del contrato entre el cinco (5%) y el quince por ciento (15%). | I41: Incrementa el valor del contrato entre el quince (15%) y el treinta por ciento (30%). | K41: Impacto sobre el valor del contrato en más del treinta por ciento (30%).
C42: Categoría | E42: Valoración | F42: Insignificante | G42: Menor | H42: Moderado | I42: Mayor | K42: Catastrófico
F43: 1 | G43: 2 | H43: 3 | I43: 4 | K43: 5
C44: Raro (puede ocurrir excepcionalmente) | E44: 1 | F44: 2 | G44: 3 | H44: 4 | I44: 5 | K44: 6
C45: Improbable (puede ocurrir ocasionalmente) | E45: 2 | F45: 3 | G45: 4 | H45: 5 | I45: 6 | K45: 7
C46: Posible (puede ocurrir en cualquier momento futuro) | E46: 3 | F46: 4 | G46: 5 | H46: 6 | I46: 7 | K46: 8
C47: Probable (probablemente va a ocurrir) | E47: 4 | F47: 5 | G47: 6 | H47: 7 | I47: 8 | K47: 9
C48: Casi cierto (ocurre en la mayoria de circunstancias) | E48: 5 | F48: 6 | G48: 7 | H48: 8 | I48: 9 | K48: 10
...

Sheet EVALUACION CON CONTROLES
D2: MATRIZ DE RIESGOS DE CONTRATACIÓN | P2: Código: GCO-GCI-F164 Versión: 01 Vigencia: 16 diciembre de 2021 Caso HOLA: 206942
A6: Objeto Contractual: “PRESTAR SERVICIOS PROFESIONALES AL FONDO DE DESARROLLO LOCAL DE LA CANDELARIA PARA REALIZAR LA AUDITORÍA DE RECERTIFICACIÓN (2024) AL ÁREA TURÍSTICA SOSTENIBLE DE LA CANDELARIA, DE ACUERDO A LOS LINEAMIENTOS QUE EXIGE LA NORMA TÉCNICA SECTORIAL COLOMBIANA NTS TS 001-1, PARA GARANTIZAR SU CONSERVACIÓN”.
A7: INSTRUCCIONES PARA LA IDENTIFICACIÓN, ANALISIS, EVALUACIÓN , ASIGNACIÓN Y TRATAMIENTO DE RIESGOS EN LA CONTRATACIÓN
A8: 1) Describa el tratamiento/controles a ser implementados
A9: 2) Teniendo en cuenta el tratamiento descrito, asigne la probabilidad de ocurrencia del riesgo, de conformidad con la tabla de probabilidad
A10: 3) Teniendo en cuenta el tratamiento descrito, asigne el impacto que generaría la materialización del riesgo, de conformidad con la tabla de impacto
A11: 4) Al realizar las anteriores actividades se obtendrá la calificación total y la valoración del riesgo (prioridad)
A12: 5) Diligencie la información de las démas columnas
A13: 7) Continúe en la hoja de asignación y tratamiento
A15: ETAPA | B15: Descripción (Que puede pasar y, cómo puede ocurrir) | F15: Tratamiento/Controles a ser implementados | H15: Probabilidad de Ocurrencia | I15: Impacto | J15: Calificación Total | K15: Prioridad | L15: ¿Afecta el equilibrio económico del contrato? | M15: Persona responsable por implementar el tratamiento | N15: Fecha estimada en que se inicia el tratamiento | O15: Fecha estimada en que se completa el tratamiento | P15: ¿Cómo se realiza el monitoreo? | Q15: Periodicidad ¿Cuándo?
A16: =+EVALUACION!B16 -> PLANEACIÓN | B16: Riesgo de colusión que dos o más oferentes realicen acuerdos de manera fraudulenta, con el fin de lograr que el proceso se adjudique a un proponente único en particular | F16: Que se violen los principios de transparencia y selección objetiva y puede obstruir la ejecución de contrato sustancialmente | H16: =+EVALUACION!I16 -> 1 | I16: 2 | J16: =+H16+I16 -> 3 | K16: =IF(J16<=4,"BAJO",IF(J16=5,"MEDIO",IF(J16=6,"ALTO",IF(J16=7,"ALTO","EXTREMO")))) -> BAJO | L16: Sí | M16: Formulador Supervisor | N16: En la respectiva etapa | O16: En la respectiva etapa | P16: Acta | Q16: Quincenal | U16: Riesgo de colusión que dos o más oferentes realicen acuerdos de manera fraudulenta, con el fin de lograr que el proceso se adjudique a un proponente único en particular
A17: =+EVALUACION!B17 -> PLANEACIÓN | B17: Se presenta cuando el contratista seleccionado no firma el contrato en el plazo establecido y/o se retrasa en la constitución y presentación de las garantías que amparan el cumplimiento del contrato. | F17: Se establecen plazos perentorios para el perfeccionamiento y ejecución del contrato | H17: 1 | I17: 2 | J17: =+H17+I17 -> 3 | K17: =IF(J17<=4,"BAJO",IF(J17=5,"MEDIO",IF(J17=6,"ALTO",IF(J17=7,"ALTO","EXTREMO")))) -> BAJO | L17: Sí | M17: Formulador Supervisor | N17: En la respectiva etapa | O17: En la respectiva etapa | P17: Acta | Q17: Quincenal | U17: Se presenta cuando el contratista seleccionado no firma el contrato en el plazo establecido y/o se retrasa en la constitución y presentación de las garantías que amparan el cumplimiento del contrato.
A18: =+EVALUACION!B18 -> PLANEACIÓN | B18: Ocurre cuando se presentan retrasos o incumplimientos en la entrega de los informes y/o productos a cargo del contratista, con ocasión de la ejecución del contrato. | F18: Seguimiento y verificación del cumplimiento de las obligaciones pactadas en el contrato. | H18: 1 | I18: 2 | J18: =+H18+I18 -> 3 | K18: =IF(J18<=4,"BAJO",IF(J18=5,"MEDIO",IF(J18=6,"ALTO",IF(J18=7,"ALTO","EXTREMO")))) -> BAJO | L18: Sí | M18: Formulador Supervisor | N18: En la respectiva etapa | O18: En la respectiva etapa | P18: Acta | Q18: Quincenal | U18: Ocurre cuando se presentan retrasos o incumplimientos en la entrega de los informes y/o productos a cargo del contratista, con ocasión de la ejecución del contrato.
A19: =+EVALUACION!B19 -> PLANEACIÓN | B19: Ocurre cuando se presentan demoras por parte de la Entidad en las aprobaciones previas de los productos y/o informes desarrollados por el contratista. | F19: Revisión y aprobación oportuna de la documentación inherente a los productos e informes del contrato. | H19: 1 | I19: 2 | J19: =+H19+I19 -> 3 | K19: =IF(J19<=4,"BAJO",IF(J19=5,"MEDIO",IF(J19=6,"ALTO",IF(J19=7,"ALTO","EXTREMO")))) -> BAJO | L19: No | M19: Formulador Supervisor | N19: En la respectiva etapa | O19: En la respectiva etapa | P19: Acta | Q19: Quincenal | U19: Ocurre cuando se presentan demoras por parte de la Entidad en las aprobaciones previas de los productos y/o informes desarrollados por el contratista.
A20: =+EVALUACION!B20 -> SELECCIÓN | B20: Se presenta por la expedición de normas que impongan nuevos tributos, impuestos o cargas parafiscales, que pueden afectar el equilibrio económico del contrato. | F20: Aplicación inmediata de las disposiciones legales y ajuste de los procesos internos de la entidad. | H20: 1 | I20: 2 | J20: =+H20+I20 -> 3 | K20: =IF(J20<=4,"BAJO",IF(J20=5,"MEDIO",IF(J20=6,"ALTO",IF(J20=7,"ALTO","EXTREMO")))) -> BAJO | L20: Sí | M20: Formulador y contratación | N20: En la respectiva etapa | O20: En la respectiva etapa | P20: Acta | Q20: Semanal | U20: Se presenta por la expedición de normas que impongan nuevos tributos, impuestos o cargas parafiscales, que pueden afectar el equilibrio económico del contrato.
A21: =+EVALUACION!B21 -> SELECCIÓN | B21: Derivados de la imposibilidad de que el contratista obtenga toda la información necesaria para la ejecución del proyecto. | F21: Se debe realizar seguimiento al cumplimiento del cronograma. | H21: 1 | I21: 4 | J21: =+H21+I21 -> 5 | K21: =IF(J21<=4,"BAJO",IF(J21=5,"MEDIO",IF(J21=6,"ALTO",IF(J21=7,"ALTO","EXTREMO")))) -> MEDIO | L21: Sí | M21: Formulador y contratación | N21: En la respectiva etapa | O21: En la respectiva etapa | P21: Acta | Q21: Semanal | U21: Derivados de la imposibilidad de que el contratista obtenga toda la información necesaria para la ejecución del proyecto.
A22: =+EVALUACION!B22 -> CONTRATACIÓN | B22: Que ninguno de los proponentes cumplan los requisitos habilitantes establecidos en el pliego de condiciones. | H22: 2 | I22: =+EVALUACION!J22 -> 3 | J22: =+H22+I22 -> 5 | K22: =IF(J22<=4,"BAJO",IF(J22=5,"MEDIO",IF(J22=6,"ALTO",IF(J22=7,"ALTO","EXTREMO")))) -> MEDIO | L22: Sí | M22: Contratación | N22: En la respectiva etapa | O22: En la respectiva etapa | P22: Acta | Q22: Semanal | U22: Que ninguno de los proponentes cumplan los requisitos habilitantes establecidos en el pliego de condiciones.
A23: =+EVALUACION!B23 -> CONTRATACIÓN | B23: Falta de idoneidad del personal profesional asignado por el contratista, aun cuando cumplan con los perfiles profesionales solicitados. | H23: =+EVALUACION!I23 -> 3 | I23: =+EVALUACION!J23 -> 3 | J23: =+H23+I23 -> 6 | K23: =IF(J23<=4,"BAJO",IF(J23=5,"MEDIO",IF(J23=6,"ALTO",IF(J23=7,"ALTO","EXTREMO")))) -> ALTO | L23: Sí | M23: Contratación | N23: En la respectiva etapa | O23: En la respectiva etapa | P23: Acta | Q23: Semanal | U23: Falta de idoneidad del personal profesional asignado por el contratista, aun cuando cumplan con los perfiles profesionales solicitados.
A24: =+EVALUACION!B24 -> EJECUCIÓN | B24: Accidentes del personal de campo que apoya la ejecución del contrato, enfermedades profesionales y/o muerte de algún miembro del equipo humano del contratista. | H24: =+EVALUACION!I24 -> 2 | I24: =+EVALUACION!J24 -> 3 | J24: =+H24+I24 -> 5 | K24: =IF(J24<=4,"BAJO",IF(J24=5,"MEDIO",IF(J24=6,"ALTO",IF(J24=7,"ALTO","EXTREMO")))) -> MEDIO | L24: Sí | M24: Supervisión | N24: En la respectiva etapa | O24: En la respectiva etapa | P24: Comité técnico del contrato | Q24: Semanal | U24: Accidentes del personal de campo que apoya la ejecución del contrato, enfermedades profesionales y/o muerte de algún miembro del equipo humano del contratista.
A25: =+EVALUACION!B25 -> EJECUCIÓN | B25: Retraso en el cumplimiento del cronograma de trabajo por causas ajenas a las partes | H25: =+EVALUACION!I25 -> 3 | I25: =+EVALUACION!J25 -> 4 | J25: =+H25+I25 -> 7 | K25: =IF(J25<=4,"BAJO",IF(J25=5,"MEDIO",IF(J25=6,"ALTO",IF(J25=7,"ALTO","EXTREMO")))) -> ALTO | L25: Sí | M25: Supervisión | N25: En la respectiva etapa | O25: En la respectiva etapa | P25: Comité técnico del contrato | Q25: Semanal | U25: Retraso en el cumplimiento del cronograma de trabajo por causas ajenas a las partes
A26: =+EVALUACION!B26 -> EJECUCIÓN | B26: Necesidad de solicitar una nueva licencia o permiso para la ejecución del contrato principal. | H26: 1 | I26: 3 | J26: =+H26+I26 -> 4 | K26: =IF(J26<=4,"BAJO",IF(J26=5,"MEDIO",IF(J26=6,"ALTO",IF(J26=7,"ALTO","EXTREMO")))) -> BAJO | L26: Sí | M26: Supervisión | N26: En la respectiva etapa | O26: En la respectiva etapa | P26: Comité técnico del contrato | Q26: Semanal | U26: Necesidad de solicitar una nueva licencia o permiso para la ejecución del contrato principal.
B28: Categoria del Riesgo | G28: Impacto del Riesgo
A29: Probabilidad | B29: Catagoria | E29: Valoración | G29: Categoria | I29: Valoración | M29: Categoria del Riesgo
B30: Raro (puede ocurrir excepcionalmente) | E30: 1 | G30: Insignificante | I30: 1 | M30: Valoración del Riesgo | O30: Categoría
B31: Improbable (puede ocurrir ocasionalmente) | E31: 2 | G31: Menor | I31: 2 | M31: 8, 9 y 10 | O31: Riesgo extremo
B32: Posible (puede ocurrir en cualquier momento futuro) | E32: 3 | G32: Moderado | I32: 3 | M32: 6 y 7 | O32: Riesgo alto
B33: Probable (probablemente va a ocurrir) | E33: 4 | G33: Mayor | I33: 4 | M33: 5 | O33: Riesgo medio
B34: Casi cierto (ocurre en la mayoria de circunstancias) | E34: 5 | G34: Catastrófico | I34: 5 | M34: 2, 3 y 4 | O34: Riesgo bajo
B36: Valoración del Riesgo
B37: Calificación Cualitativa | F37: Obstruye la ejecución del contrato de manera intrascendente. | H37: Dificulta la ejecución del contrato de manera baja, aplicando medidas mínimas se pueden lograr el objeto contractual | K37: Afecta la ejecución del contrato sin alterar el beneficio para las partes | M37: Obstruye la ejecución del contrato sustancialmente pero aun así permite la consecución del objeto contractual | O37: Perturba la ejecución del contrato de manera grave imposibilitando la consecución del objeto contractual.
B38: Calificación Monetaria | F38: Los sobrecostos no representan más del uno por ciento (1%) del valor del contrato. | H38: Los sobrecostos no representan más del cinco por ciento (5%) del valor del contrato. | K38: Genera un impacto sobre el valor del contrato entre el cinco (5%) y el quince por ciento (15%). | M38: Incrementa el valor del contrato entre el quince (15%) y el treinta por ciento (30%). | O38: Impacto sobre el valor del contrato en más del treinta por ciento (30%).
B39: Catagoria | E39: Valoración | F39: Insignificante | H39: Menor | K39: Moderado | M39: Mayor | O39: Catastrófico
F40: 1 | H40: 2 | K40: 3 | M40: 4 | O40: 5
B41: Raro (puede ocurrir excepcionalmente) | E41: 1 | F41: 2 | H41: 3 | K41: 4 | M41: 5 | O41: 6
B42: Improbable (puede ocurrir ocasionalmente) | E42: 2 | F42: 3 | H42: 4 | K42: 5 | M42: 6 | O42: 7
B43: Posible (puede ocurrir en cualquier momento futuro) | E43: 3 | F43: 4 | H43: 5 | K43: 6 | M43: 7 | O43: 8
B44: Probable (probablemente va a ocurrir) | E44: 4 | F44: 5 | H44: 6 | K44: 7 | M44: 8 | O44: 9
B45: Casi cierto (ocurre en la mayoria de circunstancias) | E45: 5 | F45: 6 | H45: 7 | K45: 8 | M45: 9 | O45: 10

Sheet ASIGNACION Y TRATAMIENTO
D2: MATRIZ DE RIESGOS DE CONTRATACIÓN | W2: Código: GCO-GCI-F164 Versión: 01 Vigencia: 16 diciembre de 2021 Caso HOLA: 206942
B6: Objeto Contractual: PRESTAR LOS SERVICIOS LOGÍSTICOS Y TÉCNICOS NECESARIOS PARA LA REALIZACIÓN DE EVENTOS, FIESTAS Y FESTIVALES DE LA LOCALIDAD DE LA CANDELARIA
B7: IDENTIFICACIÓN, ANALISIS, EVALUACIÓN , ASIGNACIÓN Y TRATAMIENTO DE RIESGOS EN LA CONTRATACIÓN
B8: Esta matriz es un documento anexo del Estudio Previo
B10: No | C10: Descripción (Que puede pasar y, cómo puede ocurrir) | D10: Etapa | E10: Clase | F10: Fuente | G10: Consecuencias de la ocurrencia del evento | H10: Probabilidad | I10: Impacto | J10: Calificación total | K10: Prioridad | L10: ¿A quien se le asigna? | M10: % | N10: Tratamiento/Controles a ser implementados | O10: Probabilidad | P10: Impacto | Q10: Calificación total | R10: Prioridad | S10: ¿Afecta el equilibrio económico del contrato? | T10: Persona responsable por implementar el tratamiento | U10: Fecha estimada en que se inicia el tratamiento | V10: Fecha estimada en que se completa el tratamiento | W10: ¿Cómo se realiza el monitoreo | X10: Periodicidad ¿Cuándo?
B11: 1 | C11: Se presenta cuando el contratista seleccionado no firma el contrato en el plazo establecido y/o se retrasa en la constitución y presentación de las garantías que amparan el cumplimiento del contrato. | D11: SELECCIÓN | E11: GENERAL | F11: EXTERNO | G11: Retraso en la ejecución del contrato | H11: 2 | I11: 2 | J11: =+H11+I11 -> 4 | K11: =IF(J11<=4,"BAJO",IF(J11=5,"MEDIO",IF(J11=6,"ALTO",IF(J11=7,"ALTO","EXTREMO")))) -> BAJO | L11: CONTRATISTA | M11: 100 | N11: =+'EVALUACION CON CONTROLES'!F17 -> Se establecen plazos perentorios para el perfeccionamiento y ejecución del contrato | O11: =+'EVALUACION CON CONTROLES'!H17 -> 1 | P11: =+'EVALUACION CON CONTROLES'!I17 -> 2 | Q11: =+O11+P11 -> 3 | R11: =IF(Q11<=4,"BAJO",IF(Q11=5,"MEDIO",IF(Q11=6,"ALTO",IF(Q11=7,"ALTO","EXTREMO")))) -> BAJO | S11: =+'EVALUACION CON CONTROLES'!L17 -> Sí | T11: =+'EVALUACION CON CONTROLES'!M17 -> Formulador Supervisor | U11: =+'EVALUACION CON CONTROLES'!N17 -> En la respectiva etapa | V11: =+'EVALUACION CON CONTROLES'!O17 -> En la respectiva etapa | W11: Secop II | X11: =+'EVALUACION CON CONTROLES'!Q17 -> Quincenal
B12: 2 | C12: Ocurre cuando se presentan retrasos o incumplimientos en la entrega de los informes y/o productos a cargo del contratista, con ocasión de la ejecución del contrato. | D12: CONTRATACIÓN | E12: GENERAL | F12: EXTERNO | G12: Retraso en la ejecución del contrato | H12: 2 | I12: =+EVALUACION!J18 -> 3 | J12: =+H12+I12 -> 5 | K12: =IF(J12<=4,"BAJO",IF(J12=5,"MEDIO",IF(J12=6,"ALTO",IF(J12=7,"ALTO","EXTREMO")))) -> MEDIO | L12: CONTRATISTA | M12: 100 | N12: =+'EVALUACION CON CONTROLES'!F18 -> Seguimiento y verificación del cumplimiento de las obligaciones pactadas en el contrato. | O12: =+'EVALUACION CON CONTROLES'!H18 -> 1 | P12: =+'EVALUACION CON CONTROLES'!I18 -> 2 | Q12: =+O12+P12 -> 3 | R12: =IF(Q12<=4,"BAJO",IF(Q12=5,"MEDIO",IF(Q12=6,"ALTO",IF(Q12=7,"ALTO","EXTREMO")))) -> BAJO | S12: =+'EVALUACION CON CONTROLES'!L18 -> Sí | T12: =+'EVALUACION CON CONTROLES'!M18 -> Formulador Supervisor | U12: =+'EVALUACION CON CONTROLES'!N18 -> En la respectiva etapa | V12: =+'EVALUACION CON CONTROLES'!O18 -> En la respectiva etapa | W12: Secop II | X12: =+'EVALUACION CON CONTROLES'!Q18 -> Quincenal
B13: 3 | C13: Adjudicar una propuesta artificialmente baja / Que el valor del contrato no corresponda a los precios del mercado. | D13: CONTRATACIÓN | E13: GENERAL | F13: EXTERNO | G13: Reclamaciones del contratista por desequilibrio económico, con el propósito de evitar pérdidas. | H13: =+EVALUACION!I27 -> 3 | I13: 3 | J13: =+H13+I13 -> 6 | K13: =IF(J13<=4,"BAJO",IF(J13=5,"MEDIO",IF(J13=6,"ALTO",IF(J13=7,"ALTO","EXTREMO")))) -> ALTO | L13: CONTRATISTA Y FDLC | M13: 50/50 | N13: solicitar la infromacion y aclaracion que se requiera frente a la oferta | O13: 2 | P13: 2 | Q13: =+O13+P13 -> 4 | R13: =IF(Q13<=4,"BAJO",IF(Q13=5,"MEDIO",IF(Q13=6,"ALTO",IF(Q13=7,"ALTO","EXTREMO")))) -> BAJO | S13: =+'EVALUACION CON CONTROLES'!L27 -> 0 | T13: Contratista Supervisor | U13: =+'EVALUACION CON CONTROLES'!N19 -> En la respectiva etapa | V13: =+'EVALUACION CON CONTROLES'!O19 -> En la respectiva etapa | W13: seguimiento al cumplimiento del contrato | X13: Durante la ejecucion del contrato
B14: 4 | C14: Ocurre cuando se presentan demoras por parte de la Entidad en las aprobaciones previas de los productos y/o informes desarrollados por el contratista. | D14: EJECUCIÓN | E14: GENERAL | F14: EXTERNO | G14: Retraso en la ejecución del contrato | H14: 2 | I14: 3 | J14: =+H14+I14 -> 5 | K14: =IF(J14<=4,"BAJO",IF(J14=5,"MEDIO",IF(J14=6,"ALTO",IF(J14=7,"ALTO","EXTREMO")))) -> MEDIO | L14: CONTRATISTA Y FDLC | M14: 50/50 | N14: =+'EVALUACION CON CONTROLES'!F19 -> Revisión y aprobación oportuna de la documentación inherente a los productos e informes del contrato. | O14: =+'EVALUACION CON CONTROLES'!H19 -> 1 | P14: =+'EVALUACION CON CONTROLES'!I19 -> 2 | Q14: =+O14+P14 -> 3 | R14: =IF(Q14<=4,"BAJO",IF(Q14=5,"MEDIO",IF(Q14=6,"ALTO",IF(Q14=7,"ALTO","EXTREMO")))) -> BAJO | S14: =+'EVALUACION CON CONTROLES'!L19 -> No | T14: Contratista Supervisor | U14: =+'EVALUACION CON CONTROLES'!N19 -> En la respectiva etapa | V14: =+'EVALUACION CON CONTROLES'!O19 -> En la respectiva etapa | W14: Documentos e informes de la ejecución del contrato | X14: Durante la ejecucion del contrato
B15: 5 | C15: Se presenta por la expedición de normas que impongan nuevos tributos, impuestos o cargas parafiscales, que pueden afectar el equilibrio económico del contrato. | D15: EJECUCIÓN | E15: GENERAL | F15: EXTERNO | G15: Sobrecostos en la ejecución del contrato. | H15: 1 | I15: =+EVALUACION!J20 -> 4 | J15: =+H15+I15 -> 5 | K15: =IF(J15<=4,"BAJO",IF(J15=5,"MEDIO",IF(J15=6,"ALTO",IF(J15=7,"ALTO","EXTREMO")))) -> MEDIO | L15: CONTRATISTA Y FDLC | M15: 50/50 | N15: =+'EVALUACION CON CONTROLES'!F20 -> Aplicación inmediata de las disposiciones legales y ajuste de los procesos internos de la entidad. | O15: =+'EVALUACION CON CONTROLES'!H20 -> 1 | P15: =+'EVALUACION CON CONTROLES'!I20 -> 2 | Q15: =+O15+P15 -> 3 | R15: =IF(Q15<=4,"BAJO",IF(Q15=5,"MEDIO",IF(Q15=6,"ALTO",IF(Q15=7,"ALTO","EXTREMO")))) -> BAJO | S15: =+'EVALUACION CON CONTROLES'!L20 -> Sí | T15: Contratista Supervisor | U15: =+'EVALUACION CON CONTROLES'!N20 -> En la respectiva etapa | V15: =+'EVALUACION CON CONTROLES'!O20 -> En la respectiva etapa | W15: Documentos e informes de la ejecución del contrato | X15: Durante la ejecucion del contrato
B16: 6 | C16: Derivados de la imposibilidad de que el contratista obtenga toda la información necesaria para la ejecución del proyecto. | D16: EJECUCIÓN | E16: GENERAL | F16: EXTERNO | G16: Retraso en la ejecución del contrato | H16: 1 | I16: =+EVALUACION!J21 -> 2 | J16: =+H16+I16 -> 3 | K16: =IF(J16<=4,"BAJO",IF(J16=5,"MEDIO",IF(J16=6,"ALTO",IF(J16=7,"ALTO","EXTREMO")))) -> BAJO | L16: CONTRATISTA Y FDLC | M16: 50/50 | N16: =+'EVALUACION CON CONTROLES'!F21 -> Se debe realizar seguimiento al cumplimiento del cronograma. | O16: =+'EVALUACION CON CONTROLES'!H21 -> 1 | P16: 2 | Q16: =+O16+P16 -> 3 | R16: =IF(Q16<=4,"BAJO",IF(Q16=5,"MEDIO",IF(Q16=6,"ALTO",IF(Q16=7,"ALTO","EXTREMO")))) -> BAJO | S16: =+'EVALUACION CON CONTROLES'!L21 -> Sí | T16: Contratista Supervisor | U16: =+'EVALUACION CON CONTROLES'!N21 -> En la respectiva etapa | V16: =+'EVALUACION CON CONTROLES'!O21 -> En la respectiva etapa | W16: Documentos e informes de la ejecución del contrato | X16: Durante la ejecucion del contrato
B17: 7 | C17: Falta de idoneidad del personal profesional asignado por el contratista, aun cuando cumplan con los perfiles profesionales solicitados. | D17: EJECUCIÓN | E17: GENERAL | F17: EXTERNO | G17: Inadecuada o deficiente ejecución del contrato. Retrasos en la ejecución contractual. | H17: 1 | I17: 2 | J17: =+H17+I17 -> 3 | K17: =IF(J17<=4,"BAJO",IF(J17=5,"MEDIO",IF(J17=6,"ALTO",IF(J17=7,"ALTO","EXTREMO")))) -> BAJO | L17: CONTRATISTA | M17: 100 | N17: Verificar los perfiles y la idoneidad de las personas que apoyen la ejecución del contrato | O17: 1 | P17: 1 | Q17: =+O17+P17 -> 2 | R17: =IF(Q17<=4,"BAJO",IF(Q17=5,"MEDIO",IF(Q17=6,"ALTO",IF(Q17=7,"ALTO","EXTREMO")))) -> BAJO | S17: =+'EVALUACION CON CONTROLES'!L23 -> Sí | T17: Contratista Supervisor | U17: =+'EVALUACION CON CONTROLES'!N23 -> En la respectiva etapa | V17: =+'EVALUACION CON CONTROLES'!O23 -> En la respectiva etapa | W17: Actas de reunión de verificación de perfiles | X17: Durante la ejecucion del contrato
B18: 8 | C18: Accidentes del personal de campo que apoya la ejecución del contrato, enfermedades profesionales y/o muerte de algún miembro del equipo humano del contratista. | D18: EJECUCIÓN | E18: GENERAL | F18: EXTERNO | G18: Sobrecostos en la ejecución del contrato. Demandas y reclamaciones laborales. | H18: 1 | I18: 2 | J18: =+H18+I18 -> 3 | K18: =IF(J18<=4,"BAJO",IF(J18=5,"MEDIO",IF(J18=6,"ALTO",IF(J18=7,"ALTO","EXTREMO")))) -> BAJO | L18: CONTRATISTA | M18: 100 | N18: Notificar a la entidad que se requiera oportunamente | O18: 1 | P18: 1 | Q18: =+O18+P18 -> 2 | R18: =IF(Q18<=4,"BAJO",IF(Q18=5,"MEDIO",IF(Q18=6,"ALTO",IF(Q18=7,"ALTO","EXTREMO")))) -> BAJO | S18: =+'EVALUACION CON CONTROLES'!L24 -> Sí | T18: Contratista Supervisor | U18: =+'EVALUACION CON CONTROLES'!N24 -> En la respectiva etapa | V18: =+'EVALUACION CON CONTROLES'!O24 -> En la respectiva etapa | W18: Reportes realizados oportunamente | X18: Durante la ejecucion del contrato
B19: 9 | C19: Retraso en el cumplimiento del cronograma de trabajo por causas ajenas a las partes | D19: EJECUCIÓN | E19: GENERAL | F19: EXTERNO | G19: Prórrogas al contrato. Insatisfacción de las necesidades de la entidad | H19: =+EVALUACION!I25 -> 3 | I19: 3 | J19: =+H19+I19 -> 6 | K19: =IF(J19<=4,"BAJO",IF(J19=5,"MEDIO",IF(J19=6,"ALTO",IF(J19=7,"ALTO","EXTREMO")))) -> ALTO | L19: CONTRATISTA Y FDLC | M19: 50/50 | N19: establecer plan de contingencia y actualización de plan de trabajo | O19: 2 | P19: 2 | Q19: =+O19+P19 -> 4 | R19: =IF(Q19<=4,"BAJO",IF(Q19=5,"MEDIO",IF(Q19=6,"ALTO",IF(Q19=7,"ALTO","EXTREMO")))) -> BAJO | S19: =+'EVALUACION CON CONTROLES'!L25 -> Sí | T19: Contratista Supervisor | U19: =+'EVALUACION CON CONTROLES'!N25 -> En la respectiva etapa | V19: =+'EVALUACION CON CONTROLES'!O25 -> En la respectiva etapa | W19: seguimiento al cumplimiento del contrato | X19: Durante la ejecucion del contrato
B20: 10 | C20: Baja calidad de la información, y/o equipos y/o elementos necesarios que debe suministrar el contratante al contratista. | D20: EJECUCIÓN | E20: GENERAL | F20: EXTERNO | G20: Deficiencia o demora en la prestación del servicio | H20: 4 | I20: 3 | J20: =+H20+I20 -> 7 | K20: =IF(J20<=4,"BAJO",IF(J20=5,"MEDIO",IF(J20=6,"ALTO",IF(J20=7,"ALTO","EXTREMO")))) -> ALTO | L20: CONTRATISTA | M20: 1100 | N20: Verificar y hacer seguiminto al cumplimiento de las condiciones de los elementos suministrados | O20: 1 | P20: 2 | Q20: =+O20+P20 -> 3 | R20: =IF(Q20<=4,"BAJO",IF(Q20=5,"MEDIO",IF(Q20=6,"ALTO",IF(Q20=7,"ALTO","EXTREMO")))) -> BAJO | S20: =+'EVALUACION CON CONTROLES'!L26 -> Sí | T20: Contratista Supervisor | U20: =+'EVALUACION CON CONTROLES'!N26 -> En la respectiva etapa | V20: =+'EVALUACION CON CONTROLES'!O26 -> En la respectiva etapa | W20: seguimiento al cumplimiento del contrato | X20: Durante la ejecucion del contrato
B21: 11 | C21: Necesidad de solicitar una nueva licencia o permiso para la ejecución del contrato | D21: EJECUCIÓN | E21: GENERAL | F21: EXTERNO | G21: suspensión del contrato sobrecostos en la ejecución contractual posible desequilibrio económico del contrato | H21: 2 | I21: =+EVALUACION!J26 -> 4 | J21: =+H21+I21 -> 6 | K21: =IF(J21<=4,"BAJO",IF(J21=5,"MEDIO",IF(J21=6,"ALTO",IF(J21=7,"ALTO","EXTREMO")))) -> ALTO | L21: CONTRATISTA Y FDLC | M21: 50/50 | N21: Verificar desde el inicio del contrato los permisos y licencias que se requieran para la ejecución | O21: =+'EVALUACION CON CONTROLES'!H26 -> 1 | P21: =+'EVALUACION CON CONTROLES'!I26 -> 3 | Q21: =+O21+P21 -> 4 | R21: =IF(Q21<=4,"BAJO",IF(Q21=5,"MEDIO",IF(Q21=6,"ALTO",IF(Q21=7,"ALTO","EXTREMO")))) -> BAJO | S21: =+'EVALUACION CON CONTROLES'!L26 -> Sí | T21: Contratista Supervisor | U21: =+'EVALUACION CON CONTROLES'!N26 -> En la respectiva etapa | V21: =+'EVALUACION CON CONTROLES'!O26 -> En la respectiva etapa | W21: Documentos e informes de la ejecución del contrato | X21: Durante la ejecucion del contrato
B22: 12 | C22: No realizar oportunamente el correspondiente pago de los artistas que se presentan en el evento | D22: EJECUCIÓN | E22: GENERAL | F22: INTERNO | G22: Mala impresión al evento y no presentacion de artistas y manifestaciones o huelgas | H22: 4 | I22: 3 | J22: =+H22+I22 -> 7 | K22: =IF(J22<=4,"BAJO",IF(J22=5,"MEDIO",IF(J22=6,"ALTO",IF(J22=7,"ALTO","EXTREMO")))) -> ALTO | L22: CONTRATISTA | M22: 100 | N22: Verificar que se realizaron los pagos despues de la presentacion de los artistas, durante el evento | O22: 2 | P22: 3 | Q22: =+O22+P22 -> 5 | R22: BAJO | S22: Sí | T22: Contratista Supervisor | U22: En la respectiva etapa | V22: En la respectiva etapa | W22: Documentos e informes de la ejecución del contrato | X22: Durante la ejecucion del contrato
B23: 13 | C23: No mantener el personal logistico necesario para la realizacion del evento | D23: EJECUCIÓN | E23: GENERAL | F23: INTERNO | G23: Desorden en el evento y falla en el montaje | H23: 4 | I23: 3 | J23: =+H23+I23 -> 7 | K23: =IF(J23<=4,"BAJO",IF(J23=5,"MEDIO",IF(J23=6,"ALTO",IF(J23=7,"ALTO","EXTREMO")))) -> ALTO | L23: CONTRATISTA | M23: 100 | N23: por parte del supervisor y el contratista, buscar identificar personal antes del inicio de la actividad | O23: 2 | P23: 1 | Q23: =+O23+P23 -> 3 | R23: BAJO | S23: Sí | T23: Contratista Supervisor | U23: En la respectiva etapa | V23: En la respectiva etapa | W23: Documentos e informes de la ejecución del contrato | X23: Durante la ejecucion del contrato
B24: 14 | C24: Fallo de algun componente electrico que genere corto | D24: EJECUCIÓN | E24: GENERAL | F24: EXTERNO | G24: incendio que puede generar heridos por quemaduras | H24: 2 | I24: 4 | J24: =+H24+I24 -> 6 | K24: =IF(J24<=4,"BAJO",IF(J24=5,"MEDIO",IF(J24=6,"ALTO",IF(J24=7,"ALTO","EXTREMO")))) -> ALTO | L24: CONTRATISTA | M24: 100 | N24: Revision de instalaciones electricas realizadas | O24: 1 | P24: 3 | Q24: =+O24+P24 -> 4 | R24: BAJO | S24: Sí | T24: Contratista Supervisor | U24: En la respectiva etapa | V24: En la respectiva etapa | W24: Documentos e informes de la ejecución del contrato | X24: Durante la ejecucion del contrato
B25: 15 | C25: que se evidencie el suministro por parte del contratista de elementos de proteccion personal de mala calidad | D25: EJECUCIÓN | E25: GENERAL | F25: EXTERNO | G25: Que los elementos de proteccion personal se dañen y deban ser reemplazados durante el evento y no protegan como es debido. | H25: 2 | I25: 2 | J25: =+H25+I25 -> 4 | K25: =IF(J25<=4,"BAJO",IF(J25=5,"MEDIO",IF(J25=6,"ALTO",IF(J25=7,"ALTO","EXTREMO")))) -> BAJO | L25: CONTRATISTA | M25: 100 | N25: Verificar calidad por parte del apoyo a la supervision antes de ser entregados | O25: 3 | P25: 1 | Q25: =+O25+P25 -> 4 | R25: BAJO | S25: Sí | T25: Contratista Supervisor | U25: En la respectiva etapa | V25: En la respectiva etapa | W25: Documentos e informes de la ejecución del contrato | X25: Durante la ejecucion del contrato
B26: 16 | C26: Falla en el sistema de sonido mientras se encuentra un artista en tarima | D26: EJECUCIÓN | E26: GENERAL | F26: EXTERNO | G26: mala impresión al evento y afectaciones en la presentacion del artista | H26: 1 | I26: 3 | J26: =+H26+I26 -> 4 | K26: =IF(J26<=4,"BAJO",IF(J26=5,"MEDIO",IF(J26=6,"ALTO",IF(J26=7,"ALTO","EXTREMO")))) -> BAJO | L26: CONTRATISTA | M26: 100 | N26: Verificacion de equipos parte del contratista y el apoyo a la supervision y tener plan de contingencia | O26: 2 | P26: 2 | Q26: =+O26+P26 -> 4 | R26: BAJO | S26: Sí | T26: Contratista Supervisor | U26: En la respectiva etapa | V26: En la respectiva etapa | W26: Documentos e informes de la ejecución del contrato | X26: Durante la ejecucion del contrato
B27: 17 | C27: suministro de alimentos en mal estado | D27: EJECUCIÓN | E27: GENERAL | F27: EXTERNO | G27: personas con cuadros de intoxicacion que deban ser atendidas por medicos | H27: 4 | I27: 5 | J27: =+H27+I27 -> 9 | K27: =IF(J27<=4,"BAJO",IF(J27=5,"MEDIO",IF(J27=6,"ALTO",IF(J27=7,"ALTO","EXTREMO")))) -> EXTREMO | L27: CONTRATISTA | M27: 100 | N27: compra de alimentos en lugares reconocidos comercialmente, garantizando calidad del alimento | O27: 1 | P27: 1 | Q27: =+O27+P27 -> 2 | R27: BAJO | S27: Sí | T27: Contratista Supervisor | U27: En la respectiva etapa | V27: En la respectiva etapa | W27: Documentos e informes de la ejecución del contrato | X27: Durante la ejecucion del contrato
B28: 18 | C28: Que se evidencie el no pago al personal logistico | D28: EJECUCIÓN | E28: GENERAL | F28: INTERNO | G28: abandono de cargo y afectacion al desarrollo del evento. | H28: 2 | I28: 4 | J28: =+H28+I28 -> 6 | K28: =IF(J28<=4,"BAJO",IF(J28=5,"MEDIO",IF(J28=6,"ALTO",IF(J28=7,"ALTO","EXTREMO")))) -> ALTO | L28: CONTRATISTA | M28: 100 | N28: verificar soportes de pago al personal una vez finalice el evento y previo al pago del contratista | O28: 1 | P28: 2 | Q28: =+O28+P28 -> 3 | R28: BAJO | S28: Sí | T28: Contratista Supervisor | U28: En la respectiva etapa | V28: En la respectiva etapa | W28: Documentos e informes de la ejecución del contrato | X28: Durante la ejecucion del contrato
B29: 19 | C29: Se evidencia ingreso de bebidas alcoholicas que puedan afectar la correcta ejecucion del evento | D29: EJECUCIÓN | E29: GENERAL | F29: EXTERNO | G29: Personas en estado de alicoramiento que pueden generar riñas | H29: 4 | I29: 5 | J29: =+H29+I29 -> 9 | K29: =IF(J29<=4,"BAJO",IF(J29=5,"MEDIO",IF(J29=6,"ALTO",IF(J29=7,"ALTO","EXTREMO")))) -> EXTREMO | L29: CONTRATISTA Y FDLC | M29: 50/50 | N29: solcitar el apoyo del control policial y control por parte del PMU. | O29: 1 | P29: 3 | Q29: =+O29+P29 -> 4 | R29: BAJO | S29: Sí | T29: Contratista Supervisor | U29: En la respectiva etapa | V29: En la respectiva etapa | W29: Documentos e informes de la ejecución del contrato | X29: Durante la ejecucion del contrato
F31: Categoria | J31: Impacto del Riesgo
E32: Probabilidad | F32: Catagoria | G32: Valoración | J32: Categoria | L32: Valoración
F33: Raro (puede ocurrir excepcionalmente) | G33: 1 | J33: Insignificante | L33: 1
F34: Improbable (puede ocurrir ocasionalmente) | G34: 2 | J34: Menor | L34: 2
F35: Posible (puede ocurrir en cualquier momento futuro) | G35: 3 | J35: Moderado | L35: 3
F36: Probable (probablemente va a ocurrir) | G36: 4 | J36: Mayor | L36: 4
F37: Casi cierto (ocurre en la mayoria de circunstancias) | G37: 5 | J37: Catastrófico | L37: 5
D39: Valoración del Riesgo
D40: Catagoria | E40: Valoración | F40: Insignificante | H40: Menor | J40: Moderado | K40: Mayor | L40: Catastrófico | P40: Categoria del Riesgo
F41: 1 | H41: 2 | J41: 3 | K41: 4 | L41: 5 | P41: Valoración del Riesgo | S41: Categoría
D42: Raro (puede ocurrir excepcionalmente) | E42: 1 | F42: 2 | H42: 3 | J42: 4 | K42: 5 | L42: 6 | P42: 8, 9 y 10 | S42: Riesgo extremo
D43: Improbable (puede ocurrir ocasionalmente) | E43: 2 | F43: 3 | H43: 4 | J43: 5 | K43: 6 | L43: 7 | P43: 6 y 7 | S43: Riesgo alto
D44: Posible (puede ocurrir en cualquier momento futuro) | E44: 3 | F44: 4 | H44: 5 | J44: 6 | K44: 7 | L44: 8 | P44: 5 | S44: Riesgo medio
D45: Probable (probablemente va a ocurrir) | E45: 4 | F45: 5 | H45: 6 | J45: 7 | K45: 8 | L45: 9 | P45: 2, 3 y 4 | S45: Riesgo bajo
D46: Casi cierto (ocurre en la mayoria de circunstancias) | E46: 5 | F46: 6 | H46: 7 | J46: 8 | K46: 9 | L46: 10
B51: CONTRATISTA
...
