Workbook
Name IVA: 'Valores Unitarios'!$M$3

Sheet Maestra
A1: EQUIPO REDES | B1: CANTIDAD / SERVICIOS | C1: COSTO INSTALACION_PUT | D1: COSTO MENSUAL_PUT | E1: COSTO TOTAL INSTALACION | F1: COSTO TOTAL MENSUAL | G1: TIEMPO MESES | H1: COSTO TOTAL ZONA | I1: TIPO SEDE | J1: OBSERVACION | K1: ZONA | L1: Rev01 | M1: Rev02 | U1: Zona | V1: Dir_Celda | W1: Dir_Instalacion | X1: Dir_Mensualidad | AB1: Item | AC1: EQUIPO REDES | AD1: PT INSTALACION / EQUIPO | AE1: PT VR UN MENSUAL IVA | AF1: Zona | AG1: KLlave01 | AH1: Item Old | AI1: Item New | AJ1: Etq01 | AK1: Rev01 | AL1: Rev02 | AM1: PT INSTALACION / EQUIPO_Old | AN1: PT VR UN MENSUAL IVA_Old | AO1: PT INSTALACION / EQUIPO_New | AP1: PT VR UN MENSUAL IVA_New | AQ1: Aux_PT INSTALACION / EQUIPO | AR1: Aux_PT VR UN MENSUAL IVA | AS1: Notas
A2: ALQUILER EQUIPO ROUTER CORE DATOS MULTIOPERADOR DE ACUERDO A ANEXO TECNICO NUMERAL 11 | B2: 1 | C2: 4261700 | D2: 8590941.4 | E2: 4261700 | F2: 8590941.4 | G2: 10.5 | H2: 90204885 | I2: ADMINISTRATIVA | K2: Zona 1 | L2: =COUNTIF(Tbl_Borrador_PT[EQUIPO REDES],Tbl_Borrador_PT[[#This Row],[EQUIPO REDES]]) -> 1 | M2: =Tbl_Borrador_PT[[#This Row],[COSTO INSTALACION_PUT]]&"/"&Tbl_Borrador_PT[[#This Row],[COSTO MENSUAL_PUT]] -> 4261700/8590941,41665475 | U2: 1 | V2: ='Valores Unitarios'!$A$1 -> 0 | W2: =SUBSTITUTE(SUBSTITUTE(_xlfn.FORMULATEXT(Ind_Columnas_Cot[[#This Row],[Dir_Celda]]),"=",""),"$A$1","")&"G:G" -> 'Valores Unitarios'!G:G | X2: =SUBSTITUTE(SUBSTITUTE(_xlfn.FORMULATEXT(Ind_Columnas_Cot[[#This Row],[Dir_Celda]]),"=",""),"$A$1","")&"K:K" -> 'Valores Unitarios'!K:K | AB2: 1.1 | AC2: ALQUILER EQUIPO ROUTER CORE DATOS MULTIOPERADOR DE ACUERDO A ANEXO TECNICO NUMERAL 11 | AF2: 0 | AG2: =Tbl_Precio_Techo[[#This Row],[Zona]]&"/"&Tbl_Precio_Techo[[#This Row],[Item]] -> 0/1.1 | AH2: 1.1 | AI2: 1.1 | AK2: 2 | AL2: =COUNTIF(Tbl_Precio_Techo[EQUIPO REDES],Tbl_Precio_Techo[[#This Row],[EQUIPO REDES]]) -> 1 | AO2: 0 | AP2: 0 | AQ2: =Tbl_Precio_Techo[[#This Row],[PT INSTALACION / EQUIPO]] -> 0 | AR2: =Tbl_Precio_Techo[[#This Row],[PT VR UN MENSUAL IVA]] -> 0
A3: ENLACE DEDICADO SIMETRICO 1 Mbps | B3: 6 | C3: 761700 | D3: 479427.69 | E3: 4570200 | F3: 2876566.2 | G3: 10.5 | H3: 30203945 | I3: ADMINISTRATIVA | J3: DILES + CADE | K3: Zona 1 | L3: =COUNTIF(Tbl_Borrador_PT[EQUIPO REDES],Tbl_Borrador_PT[[#This Row],[EQUIPO REDES]]) -> 5 | M3: =Tbl_Borrador_PT[[#This Row],[COSTO INSTALACION_PUT]]&"/"&Tbl_Borrador_PT[[#This Row],[COSTO MENSUAL_PUT]] -> 761700/479427,693333333 | U3: 2 | V3: ='Valores Unitarios'!$A$1 -> 0 | W3: =SUBSTITUTE(SUBSTITUTE(_xlfn.FORMULATEXT(Ind_Columnas_Cot[[#This Row],[Dir_Celda]]),"=",""),"$A$1","")&"G:G" -> 'Valores Unitarios'!G:G | X3: =SUBSTITUTE(SUBSTITUTE(_xlfn.FORMULATEXT(Ind_Columnas_Cot[[#This Row],[Dir_Celda]]),"=",""),"$A$1","")&"K:K" -> 'Valores Unitarios'!K:K | AB3: 2.1 | AC3: ENLACE DEDICADO SIMETRICO 1 Mbps | AF3: 0 | AG3: =Tbl_Precio_Techo[[#This Row],[Zona]]&"/"&Tbl_Precio_Techo[[#This Row],[Item]] -> 0/2.1 | AH3: 2.1 | AI3: 2.1 | AK3: 4 | AL3: =COUNTIF(Tbl_Precio_Techo[EQUIPO REDES],Tbl_Precio_Techo[[#This Row],[EQUIPO REDES]]) -> 4 | AO3: 0 | AP3: 0 | AQ3: =Tbl_Precio_Techo[[#This Row],[PT INSTALACION / EQUIPO]] -> 0 | AR3: =Tbl_Precio_Techo[[#This Row],[PT VR UN MENSUAL IVA]] -> 0
A4: Enlace Internet Dedicado Simétrico (U.M. Fibra Óptica) 30Mbps | B4: 1 | C4: 761700 | D4: 1461737.9 | E4: 761700 | F4: 1461737.9 | G4: 10.5 | H4: 15348248 | I4: ADMINISTRATIVA | K4: Zona 1 | L4: =COUNTIF(Tbl_Borrador_PT[EQUIPO REDES],Tbl_Borrador_PT[[#This Row],[EQUIPO REDES]]) -> 6 | M4: =Tbl_Borrador_PT[[#This Row],[COSTO INSTALACION_PUT]]&"/"&Tbl_Borrador_PT[[#This Row],[COSTO MENSUAL_PUT]] -> 761700/1461737,94 | U4: 3 | V4: ='Valores Unitarios'!$A$1 -> 0 | W4: =SUBSTITUTE(SUBSTITUTE(_xlfn.FORMULATEXT(Ind_Columnas_Cot[[#This Row],[Dir_Celda]]),"=",""),"$A$1","")&"G:G" -> 'Valores Unitarios'!G:G | X4: =SUBSTITUTE(SUBSTITUTE(_xlfn.FORMULATEXT(Ind_Columnas_Cot[[#This Row],[Dir_Celda]]),"=",""),"$A$1","")&"K:K" -> 'Valores Unitarios'!K:K | AB4: 2.2 | AC4: ENLACE DEDICADO SIMETRICO 2 Mbps | AF4: 0 | AG4: =Tbl_Precio_Techo[[#This Row],[Zona]]&"/"&Tbl_Precio_Techo[[#This Row],[Item]] -> 0/2.2 | AH4: 2.2 | AI4: 2.2 | AK4: 5 | AL4: =COUNTIF(Tbl_Precio_Techo[EQUIPO REDES],Tbl_Precio_Techo[[#This Row],[EQUIPO REDES]]) -> 4 | AO4: 0 | AP4: 0 | AQ4: =Tbl_Precio_Techo[[#This Row],[PT INSTALACION / EQUIPO]] -> 0 | AR4: =Tbl_Precio_Techo[[#This Row],[PT VR UN MENSUAL IVA]] -> 0
A5: Enlace Internet Dedicado Simétrico (U.M. Fibra Óptica) 60Mbps | B5: 5 | C5: 761700 | D5: 2118376.6 | E5: 3808500 | F5: 10591883 | G5: 10.5 | H5: 1.1121477e+08 | I5: ADMINISTRATIVA | J5: DILES | K5: Zona 1 | L5: =COUNTIF(Tbl_Borrador_PT[EQUIPO REDES],Tbl_Borrador_PT[[#This Row],[EQUIPO REDES]]) -> 5 | M5: =Tbl_Borrador_PT[[#This Row],[COSTO INSTALACION_PUT]]&"/"&Tbl_Borrador_PT[[#This Row],[COSTO MENSUAL_PUT]] -> 761700/2118376,56 | AB5: 2.3 | AC5: ENLACE DEDICADO SIMETRICO 3 Mbps | AF5: 0 | AG5: =Tbl_Precio_Techo[[#This Row],[Zona]]&"/"&Tbl_Precio_Techo[[#This Row],[Item]] -> 0/2.3 | AH5: 2.3 | AI5: 2.3 | AK5: 6 | AL5: =COUNTIF(Tbl_Precio_Techo[EQUIPO REDES],Tbl_Precio_Techo[[#This Row],[EQUIPO REDES]]) -> 4 | AO5: 0 | AP5: 0 | AQ5: =Tbl_Precio_Techo[[#This Row],[PT INSTALACION / EQUIPO]] -> 0 | AR5: =Tbl_Precio_Techo[[#This Row],[PT VR UN MENSUAL IVA]] -> 0
A6: Seguridad Internet Dedicado 30 Mbps | B6: 1 | C6: 2000000 | D6: 1432474 | E6: 2000000 | F6: 1432474 | G6: 10.5 | H6: 15040977 | I6: ADMINISTRATIVA | J6: Enlace CADE | K6: Zona 1 | L6: =COUNTIF(Tbl_Borrador_PT[EQUIPO REDES],Tbl_Borrador_PT[[#This Row],[EQUIPO REDES]]) -> 6 | M6: =Tbl_Borrador_PT[[#This Row],[COSTO INSTALACION_PUT]]&"/"&Tbl_Borrador_PT[[#This Row],[COSTO MENSUAL_PUT]] -> 2000000/1432474 | AB6: 2.4 | AC6: ENLACE DEDICADO SIMETRICO 5 Mbps | AF6: 0 | AG6: =Tbl_Precio_Techo[[#This Row],[Zona]]&"/"&Tbl_Precio_Techo[[#This Row],[Item]] -> 0/2.4 | AH6: 2.4 | AI6: 2.4 | AK6: 7 | AL6: =COUNTIF(Tbl_Precio_Techo[EQUIPO REDES],Tbl_Precio_Techo[[#This Row],[EQUIPO REDES]]) -> 4 | AO6: 0 | AP6: 0 | AQ6: =Tbl_Precio_Techo[[#This Row],[PT INSTALACION / EQUIPO]] -> 0 | AR6: =Tbl_Precio_Techo[[#This Row],[PT VR UN MENSUAL IVA]] -> 0
A7: Seguridad Internet Dedicado 60 Mbps | B7: 5 | C7: 2000000 | D7: 2125491.7 | E7: 10000000 | F7: 10627458 | G7: 10.5 | H7: 1.1158831e+08 | I7: ADMINISTRATIVA | J7: DILES | K7: Zona 1 | L7: =COUNTIF(Tbl_Borrador_PT[EQUIPO REDES],Tbl_Borrador_PT[[#This Row],[EQUIPO REDES]]) -> 5 | M7: =Tbl_Borrador_PT[[#This Row],[COSTO INSTALACION_PUT]]&"/"&Tbl_Borrador_PT[[#This Row],[COSTO MENSUAL_PUT]] -> 2000000/2125491,66666667 | AB7: 2.5 | AC7: ENLACE DEDICADO SIMETRICO 10 Mbps | AF7: 0 | AG7: =Tbl_Precio_Techo[[#This Row],[Zona]]&"/"&Tbl_Precio_Techo[[#This Row],[Item]] -> 0/2.5 | AH7: 2.5 | AI7: 2.5 | AK7: 8 | AL7: =COUNTIF(Tbl_Precio_Techo[EQUIPO REDES],Tbl_Precio_Techo[[#This Row],[EQUIPO REDES]]) -> 4 | AO7: 0 | AP7: 0 | AQ7: =Tbl_Precio_Techo[[#This Row],[PT INSTALACION / EQUIPO]] -> 0 | AR7: =Tbl_Precio_Techo[[#This Row],[PT VR UN MENSUAL IVA]] -> 0
A8: ENLACE DEDICADO SIMETRICO 1 Mbps | B8: 249 | C8: 761700 | D8: 479427.69 | E8: 189663300 | F8: 1.193775e+08 | G8: 10 | H8: 1.193775e+09 | I8: COLEGIOS | K8: Zona 1 | L8: =COUNTIF(Tbl_Borrador_PT[EQUIPO REDES],Tbl_Borrador_PT[[#This Row],[EQUIPO REDES]]) -> 5 | M8: =Tbl_Borrador_PT[[#This Row],[COSTO INSTALACION_PUT]]&"/"&Tbl_Borrador_PT[[#This Row],[COSTO MENSUAL_PUT]] -> 761700/479427,693333333 | AB8: 2.6 | AC8: ENLACE DEDICADO SIMETRICO 20 Mbps | AF8: 0 | AG8: =Tbl_Precio_Techo[[#This Row],[Zona]]&"/"&Tbl_Precio_Techo[[#This Row],[Item]] -> 0/2.6 | AH8: 2.6 | AI8: 2.6 | AK8: 9 | AL8: =COUNTIF(Tbl_Precio_Techo[EQUIPO REDES],Tbl_Precio_Techo[[#This Row],[EQUIPO REDES]]) -> 4 | AO8: 0 | AP8: 0 | AQ8: =Tbl_Precio_Techo[[#This Row],[PT INSTALACION / EQUIPO]] -> 0 | AR8: =Tbl_Precio_Techo[[#This Row],[PT VR UN MENSUAL IVA]] -> 0
A9: PUNTO DE CONCENTRACION SIMETRICO 200 MPBS | B9: 1 | C9: 901700 | D9: 6904526.8 | E9: 901700 | F9: 6904526.8 | G9: 10.5 | H9: 72497531 | I9: ADMINISTRATIVA | J9: Dacenter | K9: Zona 1 | L9: =COUNTIF(Tbl_Borrador_PT[EQUIPO REDES],Tbl_Borrador_PT[[#This Row],[EQUIPO REDES]]) -> 3 | M9: =Tbl_Borrador_PT[[#This Row],[COSTO INSTALACION_PUT]]&"/"&Tbl_Borrador_PT[[#This Row],[COSTO MENSUAL_PUT]] -> 901700/6904526,76666667 | AB9: 2.7 | AC9: ENLACE DEDICADO SIMETRICO 20 Mbps BP(Pasivo - Red propia) | AF9: 0 | AG9: =Tbl_Precio_Techo[[#This Row],[Zona]]&"/"&Tbl_Precio_Techo[[#This Row],[Item]] -> 0/2.7 | AH9: 2.7 | AI9: 2.7 | AK9: 10 | AL9: =COUNTIF(Tbl_Precio_Techo[EQUIPO REDES],Tbl_Precio_Techo[[#This Row],[EQUIPO REDES]]) -> 4 | AO9: 0 | AP9: 0 | AQ9: =Tbl_Precio_Techo[[#This Row],[PT INSTALACION / EQUIPO]] -> 0 | AR9: =Tbl_Precio_Techo[[#This Row],[PT VR UN MENSUAL IVA]] -> 0
A10: REDUNDANCIA PUNTO DE CONCENTRACION SIMETRICO 200 MBPS ACTIVO/PASIVO | B10: 1 | C10: 901700 | D10: 5887264.2 | E10: 901700 | F10: 5887264.2 | G10: 10.5 | H10: 61816274 | I10: ADMINISTRATIVA | J10: Dacenter | K10: Zona 1 | L10: =COUNTIF(Tbl_Borrador_PT[EQUIPO REDES],Tbl_Borrador_PT[[#This Row],[EQUIPO REDES]]) -> 3 | M10: =Tbl_Borrador_PT[[#This Row],[COSTO INSTALACION_PUT]]&"/"&Tbl_Borrador_PT[[#This Row],[COSTO MENSUAL_PUT]] -> 901700/5887264,16666667 | AC10: ENLACE DEDICADO SIMETRICO 20 Mbps BP(Pasivo - Red Tercero/Aliado) | AF10: 0 | AG10: =Tbl_Precio_Techo[[#This Row],[Zona]]&"/"&Tbl_Precio_Techo[[#This Row],[Item]] -> 0/ | AH10: 2.8 | AJ10: Eliminar | AK10: 11 | AL10: =COUNTIF(Tbl_Precio_Techo[EQUIPO REDES],Tbl_Precio_Techo[[#This Row],[EQUIPO REDES]]) -> 4 | AO10: 0 | AP10: 0 | AQ10: =Tbl_Precio_Techo[[#This Row],[PT INSTALACION / EQUIPO]] -> 0 | AR10: =Tbl_Precio_Techo[[#This Row],[PT VR UN MENSUAL IVA]] -> 0
A11: Enlace Internet Dedicado Simétrico (U.M. Fibra Óptica) 30Mbps | B11: 5 | C11: 761700 | D11: 1461737.9 | E11: 3808500 | F11: 7308689.7 | G11: 10 | H11: 73086897 | I11: COLEGIOS | K11: Zona 1 | L11: =COUNTIF(Tbl_Borrador_PT[EQUIPO REDES],Tbl_Borrador_PT[[#This Row],[EQUIPO REDES]]) -> 6 | M11: =Tbl_Borrador_PT[[#This Row],[COSTO INSTALACION_PUT]]&"/"&Tbl_Borrador_PT[[#This Row],[COSTO MENSUAL_PUT]] -> 761700/1461737,94 | AB11: 2.8 | AC11: ENLACE DEDICADO SIMETRICO 30 Mbps | AF11: 0 | AG11: =Tbl_Precio_Techo[[#This Row],[Zona]]&"/"&Tbl_Precio_Techo[[#This Row],[Item]] -> 0/2.8 | AH11: 2.9 | AI11: 2.8 | AK11: 12 | AL11: =COUNTIF(Tbl_Precio_Techo[EQUIPO REDES],Tbl_Precio_Techo[[#This Row],[EQUIPO REDES]]) -> 4 | AO11: 0 | AP11: 0 | AQ11: =Tbl_Precio_Techo[[#This Row],[PT INSTALACION / EQUIPO]] -> 0 | AR11: =Tbl_Precio_Techo[[#This Row],[PT VR UN MENSUAL IVA]] -> 0
A12: Enlace Internet Dedicado Simétrico (U.M. Fibra Óptica) 60Mbps | B12: 1 | C12: 761700 | D12: 2118376.6 | E12: 761700 | F12: 2118376.6 | G12: 10 | H12: 21183766 | I12: COLEGIOS | K12: Zona 1 | L12: =COUNTIF(Tbl_Borrador_PT[EQUIPO REDES],Tbl_Borrador_PT[[#This Row],[EQUIPO REDES]]) -> 5 | M12: =Tbl_Borrador_PT[[#This Row],[COSTO INSTALACION_PUT]]&"/"&Tbl_Borrador_PT[[#This Row],[COSTO MENSUAL_PUT]] -> 761700/2118376,56 | AB12: 2.9 | AC12: ENLACE DEDICADO SIMETRICO 50 Mbps | AF12: 0 | AG12: =Tbl_Precio_Techo[[#This Row],[Zona]]&"/"&Tbl_Precio_Techo[[#This Row],[Item]] -> 0/2.9 | AH12: 2.10 | AI12: 2.9 | AK12: 13 | AL12: =COUNTIF(Tbl_Precio_Techo[EQUIPO REDES],Tbl_Precio_Techo[[#This Row],[EQUIPO REDES]]) -> 4 | AO12: 0 | AP12: 0 | AQ12: =Tbl_Precio_Techo[[#This Row],[PT INSTALACION / EQUIPO]] -> 0 | AR12: =Tbl_Precio_Techo[[#This Row],[PT VR UN MENSUAL IVA]] -> 0
A13: Enlace Internet Dedicado Simétrico (U.M. Fibra Óptica) 100Mbps | B13: 125 | C13: 901700 | D13: 2776691.4 | E13: 112712500 | F13: 3.4708642e+08 | G13: 10 | H13: 3.4708642e+09 | I13: COLEGIOS | J13: 5 sedes adicionales proyectadas de obra | K13: Zona 1 | L13: =COUNTIF(Tbl_Borrador_PT[EQUIPO REDES],Tbl_Borrador_PT[[#This Row],[EQUIPO REDES]]) -> 4 | M13: =Tbl_Borrador_PT[[#This Row],[COSTO INSTALACION_PUT]]&"/"&Tbl_Borrador_PT[[#This Row],[COSTO MENSUAL_PUT]] -> 901700/2776691,38666667 | AB13: 2.10 | AC13: ENLACE DEDICADO SIMETRICO 50Mbps BP(Pasivo - Red propia) | AF13: 0 | AG13: =Tbl_Precio_Techo[[#This Row],[Zona]]&"/"&Tbl_Precio_Techo[[#This Row],[Item]] -> 0/2.10 | AH13: 2.11 | AI13: 2.10 | AK13: 14 | AL13: =COUNTIF(Tbl_Precio_Techo[EQUIPO REDES],Tbl_Precio_Techo[[#This Row],[EQUIPO REDES]]) -> 4 | AO13: 0 | AP13: 0 | AQ13: =Tbl_Precio_Techo[[#This Row],[PT INSTALACION / EQUIPO]] -> 0 | AR13: =Tbl_Precio_Techo[[#This Row],[PT VR UN MENSUAL IVA]] -> 0
A14: Enlace Internet Dedicado Simétrico (U.M. Fibra Óptica) 256Mbps | B14: 70 | C14: 761700 | D14: 6031937.2 | E14: 53319000 | F14: 4.222356e+08 | G14: 10 | H14: 4.222356e+09 | I14: COLEGIOS | K14: Zona 1 | L14: =COUNTIF(Tbl_Borrador_PT[EQUIPO REDES],Tbl_Borrador_PT[[#This Row],[EQUIPO REDES]]) -> 3 | M14: =Tbl_Borrador_PT[[#This Row],[COSTO INSTALACION_PUT]]&"/"&Tbl_Borrador_PT[[#This Row],[COSTO MENSUAL_PUT]] -> 761700/6031937,21333333 | AC14: ENLACE DEDICADO SIMETRICO 50Mbps BP(Pasivo - Red Tercero/Aliado) | AF14: 0 | AG14: =Tbl_Precio_Techo[[#This Row],[Zona]]&"/"&Tbl_Precio_Techo[[#This Row],[Item]] -> 0/ | AH14: 2.12 | AJ14: Eliminar | AK14: 15 | AL14: =COUNTIF(Tbl_Precio_Techo[EQUIPO REDES],Tbl_Precio_Techo[[#This Row],[EQUIPO REDES]]) -> 4 | AO14: 0 | AP14: 0 | AQ14: =Tbl_Precio_Techo[[#This Row],[PT INSTALACION / EQUIPO]] -> 0 | AR14: =Tbl_Precio_Techo[[#This Row],[PT VR UN MENSUAL IVA]] -> 0
A15: Enlace Internet Dedicado Simétrico (U.M. Fibra Óptica) 512Mbps | B15: 48 | C15: 901700 | D15: 8975658.2 | E15: 43281600 | F15: 4.3083159e+08 | G15: 10 | H15: 4.3083159e+09 | I15: COLEGIOS | K15: Zona 1 | L15: =COUNTIF(Tbl_Borrador_PT[EQUIPO REDES],Tbl_Borrador_PT[[#This Row],[EQUIPO REDES]]) -> 4 | M15: =Tbl_Borrador_PT[[#This Row],[COSTO INSTALACION_PUT]]&"/"&Tbl_Borrador_PT[[#This Row],[COSTO MENSUAL_PUT]] -> 901700/8975658,16 | AB15: 2.11 | AC15: ENLACE DEDICADO SIMETRICO 80 Mbps | AF15: 0 | AG15: =Tbl_Precio_Techo[[#This Row],[Zona]]&"/"&Tbl_Precio_Techo[[#This Row],[Item]] -> 0/2.11 | AH15: 2.13 | AI15: 2.11 | AK15: 16 | AL15: =COUNTIF(Tbl_Precio_Techo[EQUIPO REDES],Tbl_Precio_Techo[[#This Row],[EQUIPO REDES]]) -> 4 | AO15: 0 | AP15: 0 | AQ15: =Tbl_Precio_Techo[[#This Row],[PT INSTALACION / EQUIPO]] -> 0 | AR15: =Tbl_Precio_Techo[[#This Row],[PT VR UN MENSUAL IVA]] -> 0
A16: Seguridad Internet Dedicado 30 Mbps | B16: 5 | C16: 2000000 | D16: 1432474 | E16: 10000000 | F16: 7162370 | G16: 10 | H16: 71623700 | I16: COLEGIOS | K16: Zona 1 | L16: =COUNTIF(Tbl_Borrador_PT[EQUIPO REDES],Tbl_Borrador_PT[[#This Row],[EQUIPO REDES]]) -> 6 | M16: =Tbl_Borrador_PT[[#This Row],[COSTO INSTALACION_PUT]]&"/"&Tbl_Borrador_PT[[#This Row],[COSTO MENSUAL_PUT]] -> 2000000/1432474 | AB16: 2.12 | AC16: ENLACE DEDICADO SIMETRICO 80Mbps BP(Pasivo - Red propia) | AF16: 0 | AG16: =Tbl_Precio_Techo[[#This Row],[Zona]]&"/"&Tbl_Precio_Techo[[#This Row],[Item]] -> 0/2.12 | AH16: 2.14 | AI16: 2.12 | AK16: 17 | AL16: =COUNTIF(Tbl_Precio_Techo[EQUIPO REDES],Tbl_Precio_Techo[[#This Row],[EQUIPO REDES]]) -> 4 | AO16: 0 | AP16: 0 | AQ16: =Tbl_Precio_Techo[[#This Row],[PT INSTALACION / EQUIPO]] -> 0 | AR16: =Tbl_Precio_Techo[[#This Row],[PT VR UN MENSUAL IVA]] -> 0
A17: Seguridad Internet Dedicado 60 Mbps | B17: 1 | C17: 2000000 | D17: 2125491.7 | E17: 2000000 | F17: 2125491.7 | G17: 10 | H17: 21254917 | I17: COLEGIOS | K17: Zona 1 | L17: =COUNTIF(Tbl_Borrador_PT[EQUIPO REDES],Tbl_Borrador_PT[[#This Row],[EQUIPO REDES]]) -> 5 | M17: =Tbl_Borrador_PT[[#This Row],[COSTO INSTALACION_PUT]]&"/"&Tbl_Borrador_PT[[#This Row],[COSTO MENSUAL_PUT]] -> 2000000/2125491,66666667 | AC17: ENLACE DEDICADO SIMETRICO 80Mbps BP(Pasivo - Red Tercero/Aliado) | AF17: 0 | AG17: =Tbl_Precio_Techo[[#This Row],[Zona]]&"/"&Tbl_Precio_Techo[[#This Row],[Item]] -> 0/ | AH17: 2.15 | AJ17: Eliminar | AK17: 18 | AL17: =COUNTIF(Tbl_Precio_Techo[EQUIPO REDES],Tbl_Precio_Techo[[#This Row],[EQUIPO REDES]]) -> 4 | AO17: 0 | AP17: 0 | AQ17: =Tbl_Precio_Techo[[#This Row],[PT INSTALACION / EQUIPO]] -> 0 | AR17: =Tbl_Precio_Techo[[#This Row],[PT VR UN MENSUAL IVA]] -> 0
A18: Seguridad Internet Dedicado 100 Mbps | B18: 125 | C18: 2000000 | D18: 2821671.3 | E18: 250000000 | F18: 3.5270892e+08 | G18: 10 | H18: 3.5270892e+09 | I18: COLEGIOS | J18: 5 sedes adicionales proyectadas de obra | K18: Zona 1 | L18: =COUNTIF(Tbl_Borrador_PT[EQUIPO REDES],Tbl_Borrador_PT[[#This Row],[EQUIPO REDES]]) -> 4 | M18: =Tbl_Borrador_PT[[#This Row],[COSTO INSTALACION_PUT]]&"/"&Tbl_Borrador_PT[[#This Row],[COSTO MENSUAL_PUT]] -> 2000000/2821671,33333333 | AB18: 2.13 | AC18: ENLACE DEDICADO SIMETRICO 100 Mbps | AF18: 0 | AG18: =Tbl_Precio_Techo[[#This Row],[Zona]]&"/"&Tbl_Precio_Techo[[#This Row],[Item]] -> 0/2.13 | AH18: 2.16 | AI18: 2.13 | AK18: 19 | AL18: =COUNTIF(Tbl_Precio_Techo[EQUIPO REDES],Tbl_Precio_Techo[[#This Row],[EQUIPO REDES]]) -> 4 | AO18: 0 | AP18: 0 | AQ18: =Tbl_Precio_Techo[[#This Row],[PT INSTALACION / EQUIPO]] -> 0 | AR18: =Tbl_Precio_Techo[[#This Row],[PT VR UN MENSUAL IVA]] -> 0
A19: Seguridad Internet Dedicado 256 Mbps | B19: 70 | C19: 2000000 | D19: 4242758.3 | E19: 140000000 | F19: 2.9699308e+08 | G19: 10 | H19: 2.9699308e+09 | I19: COLEGIOS | K19: Zona 1 | L19: =COUNTIF(Tbl_Borrador_PT[EQUIPO REDES],Tbl_Borrador_PT[[#This Row],[EQUIPO REDES]]) -> 3 | M19: =Tbl_Borrador_PT[[#This Row],[COSTO INSTALACION_PUT]]&"/"&Tbl_Borrador_PT[[#This Row],[COSTO MENSUAL_PUT]] -> 2000000/4242758,33333333 | AB19: 2.14 | AC19: ENLACE DEDICADO SIMETRICO 100Mbps BP(Pasivo - Red propia) | AF19: 0 | AG19: =Tbl_Precio_Techo[[#This Row],[Zona]]&"/"&Tbl_Precio_Techo[[#This Row],[Item]] -> 0/2.14 | AH19: 2.17 | AI19: 2.14 | AK19: 20 | AL19: =COUNTIF(Tbl_Precio_Techo[EQUIPO REDES],Tbl_Precio_Techo[[#This Row],[EQUIPO REDES]]) -> 4 | AO19: 0 | AP19: 0 | AQ19: =Tbl_Precio_Techo[[#This Row],[PT INSTALACION / EQUIPO]] -> 0 | AR19: =Tbl_Precio_Techo[[#This Row],[PT VR UN MENSUAL IVA]] -> 0
A20: Seguridad Internet Dedicado 512 Mbps | B20: 48 | C20: 2000000 | D20: 5947780.3 | E20: 96000000 | F20: 285493456 | G20: 10 | H20: 2854934560 | I20: COLEGIOS | K20: Zona 1 | L20: =COUNTIF(Tbl_Borrador_PT[EQUIPO REDES],Tbl_Borrador_PT[[#This Row],[EQUIPO REDES]]) -> 3 | M20: =Tbl_Borrador_PT[[#This Row],[COSTO INSTALACION_PUT]]&"/"&Tbl_Borrador_PT[[#This Row],[COSTO MENSUAL_PUT]] -> 2000000/5947780,33333333 | AC20: ENLACE DEDICADO SIMETRICO 100Mbps BP(Pasivo - Red Tercero/Aliado) | AF20: 0 | AG20: =Tbl_Precio_Techo[[#This Row],[Zona]]&"/"&Tbl_Precio_Techo[[#This Row],[Item]] -> 0/ | AH20: 2.18 | AJ20: Eliminar | AK20: 21 | AL20: =COUNTIF(Tbl_Precio_Techo[EQUIPO REDES],Tbl_Precio_Techo[[#This Row],[EQUIPO REDES]]) -> 4 | AO20: 0 | AP20: 0 | AQ20: =Tbl_Precio_Techo[[#This Row],[PT INSTALACION / EQUIPO]] -> 0 | AR20: =Tbl_Precio_Techo[[#This Row],[PT VR UN MENSUAL IVA]] -> 0
A21: ALQUILER EQUIPO ROUTER CORE DATOS MULTIOPERADOR DE ACUERDO A ANEXO TECNICO NUMERAL 7.1 | B21: 1 | C21: 1023400 | D21: 8590941.4 | E21: 1023400 | F21: 8590941.4 | G21: 10.5 | H21: 90204885 | I21: ADMINISTRATIVA | K21: Zona 2 | L21: =COUNTIF(Tbl_Borrador_PT[EQUIPO REDES],Tbl_Borrador_PT[[#This Row],[EQUIPO REDES]]) -> 2 | M21: =Tbl_Borrador_PT[[#This Row],[COSTO INSTALACION_PUT]]&"/"&Tbl_Borrador_PT[[#This Row],[COSTO MENSUAL_PUT]] -> 1023400/8590941,41665475 | AB21: 2.15 | AC21: PUNTO DE CONCENTRACIÓN SIMETRICO 100Mbps | AF21: 0 | AG21: =Tbl_Precio_Techo[[#This Row],[Zona]]&"/"&Tbl_Precio_Techo[[#This Row],[Item]] -> 0/2.15 | AH21: 2.19 | AI21: 2.15 | AK21: 22 | AL21: =COUNTIF(Tbl_Precio_Techo[EQUIPO REDES],Tbl_Precio_Techo[[#This Row],[EQUIPO REDES]]) -> 4 | AO21: 0 | AP21: 0 | AQ21: =Tbl_Precio_Techo[[#This Row],[PT INSTALACION / EQUIPO]] -> 0 | AR21: =Tbl_Precio_Techo[[#This Row],[PT VR UN MENSUAL IVA]] -> 0
A22: ENLACE DEDICADO SIMETRICO 1 Mbps | B22: 10 | C22: 761700 | D22: 484100 | E22: 7617000 | F22: 4841000 | G22: 10.5 | H22: 50830500 | I22: ADMINISTRATIVA | K22: Zona 2 | L22: =COUNTIF(Tbl_Borrador_PT[EQUIPO REDES],Tbl_Borrador_PT[[#This Row],[EQUIPO REDES]]) -> 5 | M22: =Tbl_Borrador_PT[[#This Row],[COSTO INSTALACION_PUT]]&"/"&Tbl_Borrador_PT[[#This Row],[COSTO MENSUAL_PUT]] -> 761700/484100 | AB22: 2.16 | AC22: REDUNDANCIA PUNTO DE CONCENTRACION SIMETRICO 100 MBPS ACTIVO/PASIVO | AF22: 0 | AG22: =Tbl_Precio_Techo[[#This Row],[Zona]]&"/"&Tbl_Precio_Techo[[#This Row],[Item]] -> 0/2.16 | AH22: 2.20 | AI22: 2.16 | AK22: 23 | AL22: =COUNTIF(Tbl_Precio_Techo[EQUIPO REDES],Tbl_Precio_Techo[[#This Row],[EQUIPO REDES]]) -> 4 | AO22: 0 | AP22: 0 | AQ22: =Tbl_Precio_Techo[[#This Row],[PT INSTALACION / EQUIPO]] -> 0 | AR22: =Tbl_Precio_Techo[[#This Row],[PT VR UN MENSUAL IVA]] -> 0
A23: Enlace Internet Dedicado Simétrico (U.M. Fibra Óptica) 30Mbps | B23: 3 | C23: 761700 | D23: 1485341.3 | E23: 2285100 | F23: 4456023.8 | G23: 10.5 | H23: 46788250 | I23: ADMINISTRATIVA | J23: Enlace CADES + Bodega | K23: Zona 2 | L23: =COUNTIF(Tbl_Borrador_PT[EQUIPO REDES],Tbl_Borrador_PT[[#This Row],[EQUIPO REDES]]) -> 6 | M23: =Tbl_Borrador_PT[[#This Row],[COSTO INSTALACION_PUT]]&"/"&Tbl_Borrador_PT[[#This Row],[COSTO MENSUAL_PUT]] -> 761700/1485341,27333333 | AB23: 2.17 | AC23: ENLACE DEDICADO 256 Mbps | AF23: 0 | AG23: =Tbl_Precio_Techo[[#This Row],[Zona]]&"/"&Tbl_Precio_Techo[[#This Row],[Item]] -> 0/2.17 | AH23: 2.21 | AI23: 2.17 | AK23: 24 | AL23: =COUNTIF(Tbl_Precio_Techo[EQUIPO REDES],Tbl_Precio_Techo[[#This Row],[EQUIPO REDES]]) -> 4 | AO23: 0 | AP23: 0 | AQ23: =Tbl_Precio_Techo[[#This Row],[PT INSTALACION / EQUIPO]] -> 0 | AR23: =Tbl_Precio_Techo[[#This Row],[PT VR UN MENSUAL IVA]] -> 0
A24: Enlace Internet Dedicado Simétrico (U.M. Fibra Óptica) 60Mbps | B24: 7 | C24: 761700 | D24: 2147974.6 | E24: 5331900 | F24: 15035822 | G24: 10.5 | H24: 1.5787613e+08 | I24: ADMINISTRATIVA | J24: DILES + BODEGA | K24: Zona 2 | L24: =COUNTIF(Tbl_Borrador_PT[EQUIPO REDES],Tbl_Borrador_PT[[#This Row],[EQUIPO REDES]]) -> 5 | M24: =Tbl_Borrador_PT[[#This Row],[COSTO INSTALACION_PUT]]&"/"&Tbl_Borrador_PT[[#This Row],[COSTO MENSUAL_PUT]] -> 761700/2147974,56 | AB24: 2.18 | AC24: ENLACE DEDICADO 256 Mbps BP Pasivo | AF24: 0 | AG24: =Tbl_Precio_Techo[[#This Row],[Zona]]&"/"&Tbl_Precio_Techo[[#This Row],[Item]] -> 0/2.18 | AH24: 2.22 | AI24: 2.18 | AK24: 25 | AL24: =COUNTIF(Tbl_Precio_Techo[EQUIPO REDES],Tbl_Precio_Techo[[#This Row],[EQUIPO REDES]]) -> 4 | AO24: 0 | AP24: 0 | AQ24: =Tbl_Precio_Techo[[#This Row],[PT INSTALACION / EQUIPO]] -> 0 | AR24: =Tbl_Precio_Techo[[#This Row],[PT VR UN MENSUAL IVA]] -> 0
A25: Seguridad Internet Dedicado 30 Mbps | B25: 3 | C25: 2000000 | D25: 1438774 | E25: 6000000 | F25: 4316322 | G25: 10.5 | H25: 45321381 | I25: ADMINISTRATIVA | J25: Enlace CADES + Bodega | K25: Zona 2 | L25: =COUNTIF(Tbl_Borrador_PT[EQUIPO REDES],Tbl_Borrador_PT[[#This Row],[EQUIPO REDES]]) -> 6 | M25: =Tbl_Borrador_PT[[#This Row],[COSTO INSTALACION_PUT]]&"/"&Tbl_Borrador_PT[[#This Row],[COSTO MENSUAL_PUT]] -> 2000000/1438774 | AB25: 2.19 | AC25: ENLACE DEDICADO 512 Mbps | AF25: 0 | AG25: =Tbl_Precio_Techo[[#This Row],[Zona]]&"/"&Tbl_Precio_Techo[[#This Row],[Item]] -> 0/2.19 | AH25: 2.23 | AI25: 2.19 | AK25: 26 | AL25: =COUNTIF(Tbl_Precio_Techo[EQUIPO REDES],Tbl_Precio_Techo[[#This Row],[EQUIPO REDES]]) -> 4 | AO25: 0 | AP25: 0 | AQ25: =Tbl_Precio_Techo[[#This Row],[PT INSTALACION / EQUIPO]] -> 0 | AR25: =Tbl_Precio_Techo[[#This Row],[PT VR UN MENSUAL IVA]] -> 0
A26: Seguridad Internet Dedicado 60 Mbps | B26: 7 | C26: 2000000 | D26: 949861 | E26: 14000000 | F26: 6649027 | G26: 10.5 | H26: 69814784 | I26: ADMINISTRATIVA | J26: DILES + BODEGA | K26: Zona 2 | L26: =COUNTIF(Tbl_Borrador_PT[EQUIPO REDES],Tbl_Borrador_PT[[#This Row],[EQUIPO REDES]]) -> 5 | M26: =Tbl_Borrador_PT[[#This Row],[COSTO INSTALACION_PUT]]&"/"&Tbl_Borrador_PT[[#This Row],[COSTO MENSUAL_PUT]] -> 2000000/949861 | AB26: 2.20 | AC26: ENLACE DEDICADO 512 Mbps BP Pasivo | AF26: 0 | AG26: =Tbl_Precio_Techo[[#This Row],[Zona]]&"/"&Tbl_Precio_Techo[[#This Row],[Item]] -> 0/2.20 | AH26: 2.24 | AI26: 2.20 | AK26: 27 | AL26: =COUNTIF(Tbl_Precio_Techo[EQUIPO REDES],Tbl_Precio_Techo[[#This Row],[EQUIPO REDES]]) -> 4 | AO26: 0 | AP26: 0 | AQ26: =Tbl_Precio_Techo[[#This Row],[PT INSTALACION / EQUIPO]] -> 0 | AR26: =Tbl_Precio_Techo[[#This Row],[PT VR UN MENSUAL IVA]] -> 0
A27: ENLACE DEDICADO SIMETRICO 1 Mbps | B27: 235 | C27: 761700 | D27: 484100 | E27: 178999500 | F27: 113763500 | G27: 10 | H27: 1137635000 | I27: ADMINISTRATIVO | K27: Zona 2 | L27: =COUNTIF(Tbl_Borrador_PT[EQUIPO REDES],Tbl_Borrador_PT[[#This Row],[EQUIPO REDES]]) -> 5 | M27: =Tbl_Borrador_PT[[#This Row],[COSTO INSTALACION_PUT]]&"/"&Tbl_Borrador_PT[[#This Row],[COSTO MENSUAL_PUT]] -> 761700/484100 | AB27: 2.21 | AC27: ENLACE DEDICADO 1 Gbps | AF27: 0 | AG27: =Tbl_Precio_Techo[[#This Row],[Zona]]&"/"&Tbl_Precio_Techo[[#This Row],[Item]] -> 0/2.21 | AH27: 2.25 | AI27: 2.21 | AK27: 28 | AL27: =COUNTIF(Tbl_Precio_Techo[EQUIPO REDES],Tbl_Precio_Techo[[#This Row],[EQUIPO REDES]]) -> 4 | AO27: 0 | AP27: 0 | AQ27: =Tbl_Precio_Techo[[#This Row],[PT INSTALACION / EQUIPO]] -> 0 | AR27: =Tbl_Precio_Techo[[#This Row],[PT VR UN MENSUAL IVA]] -> 0
A28: PUNTO DE CONCENTRACION SIMETRICO 200 MPBS | B28: 1 | C28: 901700 | D28: 6528304.3 | E28: 901700 | F28: 6528304.3 | G28: 10.5 | H28: 68547195 | I28: ADMINISTRATIVO | J28: Dacenter | K28: Zona 2 | L28: =COUNTIF(Tbl_Borrador_PT[EQUIPO REDES],Tbl_Borrador_PT[[#This Row],[EQUIPO REDES]]) -> 3 | M28: =Tbl_Borrador_PT[[#This Row],[COSTO INSTALACION_PUT]]&"/"&Tbl_Borrador_PT[[#This Row],[COSTO MENSUAL_PUT]] -> 901700/6528304,3 | AB28: 2.22 | AC28: ENLACE DEDICADO 1 Gbps BP Pasivo | AF28: 0 | AG28: =Tbl_Precio_Techo[[#This Row],[Zona]]&"/"&Tbl_Precio_Techo[[#This Row],[Item]] -> 0/2.22 | AH28: 2.26 | AI28: 2.22 | AK28: 29 | AL28: =COUNTIF(Tbl_Precio_Techo[EQUIPO REDES],Tbl_Precio_Techo[[#This Row],[EQUIPO REDES]]) -> 4 | AO28: 0 | AP28: 0 | AQ28: =Tbl_Precio_Techo[[#This Row],[PT INSTALACION / EQUIPO]] -> 0 | AR28: =Tbl_Precio_Techo[[#This Row],[PT VR UN MENSUAL IVA]] -> 0
A29: REDUNDANCIA PUNTO DE CONCENTRACION SIMETRICO 200 MBPS ACTIVO/PASIVO | B29: 1 | C29: 901700 | D29: 2732746 | E29: 901700 | F29: 2732746 | G29: 10.5 | H29: 28693833 | I29: ADMINISTRATIVO | J29: Dacenter | K29: Zona 2 | L29: =COUNTIF(Tbl_Borrador_PT[EQUIPO REDES],Tbl_Borrador_PT[[#This Row],[EQUIPO REDES]]) -> 3 | M29: =Tbl_Borrador_PT[[#This Row],[COSTO INSTALACION_PUT]]&"/"&Tbl_Borrador_PT[[#This Row],[COSTO MENSUAL_PUT]] -> 901700/2732746 | AB29: 2.23 | AC29: ENLACE DEDICADO 5 Gbps | AF29: 0 | AG29: =Tbl_Precio_Techo[[#This Row],[Zona]]&"/"&Tbl_Precio_Techo[[#This Row],[Item]] -> 0/2.23 | AH29: 2.27 | AI29: 2.23 | AK29: 30 | AL29: =COUNTIF(Tbl_Precio_Techo[EQUIPO REDES],Tbl_Precio_Techo[[#This Row],[EQUIPO REDES]]) -> 4 | AO29: 0 | AP29: 0 | AQ29: =Tbl_Precio_Techo[[#This Row],[PT INSTALACION / EQUIPO]] -> 0 | AR29: =Tbl_Precio_Techo[[#This Row],[PT VR UN MENSUAL IVA]] -> 0
A30: Enlace Internet Dedicado Simétrico (U.M. Fibra Óptica) 30Mbps | B30: 13 | C30: 761700 | D30: 1485341.3 | E30: 9902100 | F30: 19309437 | G30: 10 | H30: 1.9309437e+08 | I30: COLEGIOS | K30: Zona 2 | L30: =COUNTIF(Tbl_Borrador_PT[EQUIPO REDES],Tbl_Borrador_PT[[#This Row],[EQUIPO REDES]]) -> 6 | M30: =Tbl_Borrador_PT[[#This Row],[COSTO INSTALACION_PUT]]&"/"&Tbl_Borrador_PT[[#This Row],[COSTO MENSUAL_PUT]] -> 761700/1485341,27333333 | AB30: 2.24 | AC30: ENLACE DEDICADO 5 Gbps BP Pasivo | AF30: 0 | AG30: =Tbl_Precio_Techo[[#This Row],[Zona]]&"/"&Tbl_Precio_Techo[[#This Row],[Item]] -> 0/2.24 | AH30: 2.28 | AI30: 2.24 | AK30: 31 | AL30: =COUNTIF(Tbl_Precio_Techo[EQUIPO REDES],Tbl_Precio_Techo[[#This Row],[EQUIPO REDES]]) -> 4 | AO30: 0 | AP30: 0 | AQ30: =Tbl_Precio_Techo[[#This Row],[PT INSTALACION / EQUIPO]] -> 0 | AR30: =Tbl_Precio_Techo[[#This Row],[PT VR UN MENSUAL IVA]] -> 0
A31: Enlace Internet Dedicado Simétrico (U.M. Fibra Óptica) 60Mbps | B31: 2 | C31: 761700 | D31: 2147974.6 | E31: 1523400 | F31: 4295949.1 | G31: 10 | H31: 42959491 | I31: COLEGIOS | K31: Zona 2 | L31: =COUNTIF(Tbl_Borrador_PT[EQUIPO REDES],Tbl_Borrador_PT[[#This Row],[EQUIPO REDES]]) -> 5 | M31: =Tbl_Borrador_PT[[#This Row],[COSTO INSTALACION_PUT]]&"/"&Tbl_Borrador_PT[[#This Row],[COSTO MENSUAL_PUT]] -> 761700/2147974,56 | AB31: 2.25 | AC31: ENLACE DEDICADO 10 Gbps | AF31: 0 | AG31: =Tbl_Precio_Techo[[#This Row],[Zona]]&"/"&Tbl_Precio_Techo[[#This Row],[Item]] -> 0/2.25 | AH31: 2.29 | AI31: 2.25 | AK31: 32 | AL31: =COUNTIF(Tbl_Precio_Techo[EQUIPO REDES],Tbl_Precio_Techo[[#This Row],[EQUIPO REDES]]) -> 4 | AO31: 0 | AP31: 0 | AQ31: =Tbl_Precio_Techo[[#This Row],[PT INSTALACION / EQUIPO]] -> 0 | AR31: =Tbl_Precio_Techo[[#This Row],[PT VR UN MENSUAL IVA]] -> 0
A32: Enlace Internet Dedicado Simétrico (U.M. Fibra Óptica) 100Mbps | B32: 108 | C32: 901700 | D32: 2808355 | E32: 97383600 | F32: 303302340 | G32: 10 | H32: 3033023400 | I32: COLEGIOS | J32: 5 sedes adicionales proyectadas de obra | K32: Zona 2 | L32: =COUNTIF(Tbl_Borrador_PT[EQUIPO REDES],Tbl_Borrador_PT[[#This Row],[EQUIPO REDES]]) -> 4 | M32: =Tbl_Borrador_PT[[#This Row],[COSTO INSTALACION_PUT]]&"/"&Tbl_Borrador_PT[[#This Row],[COSTO MENSUAL_PUT]] -> 901700/2808355 | AB32: 2.26 | AC32: ENLACE DEDICADO 10 Gbps BP Pasivo | AF32: 0 | AG32: =Tbl_Precio_Techo[[#This Row],[Zona]]&"/"&Tbl_Precio_Techo[[#This Row],[Item]] -> 0/2.26 | AH32: 2.30 | AI32: 2.26 | AK32: 33 | AL32: =COUNTIF(Tbl_Precio_Techo[EQUIPO REDES],Tbl_Precio_Techo[[#This Row],[EQUIPO REDES]]) -> 4 | AO32: 0 | AP32: 0 | AQ32: =Tbl_Precio_Techo[[#This Row],[PT INSTALACION / EQUIPO]] -> 0 | AR32: =Tbl_Precio_Techo[[#This Row],[PT VR UN MENSUAL IVA]] -> 0
A33: Enlace Internet Dedicado Simétrico (U.M. Fibra Óptica) 256Mbps | B33: 82 | C33: 761700 | D33: 6122959 | E33: 62459400 | F33: 502082638 | G33: 10 | H33: 5020826380 | I33: COLEGIOS | K33: Zona 2 | L33: =COUNTIF(Tbl_Borrador_PT[EQUIPO REDES],Tbl_Borrador_PT[[#This Row],[EQUIPO REDES]]) -> 3 | M33: =Tbl_Borrador_PT[[#This Row],[COSTO INSTALACION_PUT]]&"/"&Tbl_Borrador_PT[[#This Row],[COSTO MENSUAL_PUT]] -> 761700/6122959 | AB33: 2.27 | AC33: ENLACE DEDICADO 20 Gbps | AF33: 0 | AG33: =Tbl_Precio_Techo[[#This Row],[Zona]]&"/"&Tbl_Precio_Techo[[#This Row],[Item]] -> 0/2.27 | AH33: 2.31 | AI33: 2.27 | AK33: 34 | AL33: =COUNTIF(Tbl_Precio_Techo[EQUIPO REDES],Tbl_Precio_Techo[[#This Row],[EQUIPO REDES]]) -> 4 | AO33: 0 | AP33: 0 | AQ33: =Tbl_Precio_Techo[[#This Row],[PT INSTALACION / EQUIPO]] -> 0 | AR33: =Tbl_Precio_Techo[[#This Row],[PT VR UN MENSUAL IVA]] -> 0
A34: Enlace Internet Dedicado Simétrico (U.M. Fibra Óptica) 512Mbps | B34: 30 | C34: 901700 | D34: 9157701 | E34: 27051000 | F34: 274731030 | G34: 10 | H34: 2747310300 | I34: COLEGIOS | K34: Zona 2 | L34: =COUNTIF(Tbl_Borrador_PT[EQUIPO REDES],Tbl_Borrador_PT[[#This Row],[EQUIPO REDES]]) -> 4 | M34: =Tbl_Borrador_PT[[#This Row],[COSTO INSTALACION_PUT]]&"/"&Tbl_Borrador_PT[[#This Row],[COSTO MENSUAL_PUT]] -> 901700/9157701 | AB34: 2.28 | AC34: ENLACE DEDICADO 20 Gbps BP Pasivo | AF34: 0 | AG34: =Tbl_Precio_Techo[[#This Row],[Zona]]&"/"&Tbl_Precio_Techo[[#This Row],[Item]] -> 0/2.28 | AH34: 2.32 | AI34: 2.28 | AK34: 35 | AL34: =COUNTIF(Tbl_Precio_Techo[EQUIPO REDES],Tbl_Precio_Techo[[#This Row],[EQUIPO REDES]]) -> 4 | AO34: 0 | AP34: 0 | AQ34: =Tbl_Precio_Techo[[#This Row],[PT INSTALACION / EQUIPO]] -> 0 | AR34: =Tbl_Precio_Techo[[#This Row],[PT VR UN MENSUAL IVA]] -> 0
A35: Seguridad Internet Dedicado 30 Mbps | B35: 13 | C35: 2000000 | D35: 1438774 | E35: 26000000 | F35: 18704062 | G35: 10 | H35: 187040620 | I35: COLEGIOS | K35: Zona 2 | L35: =COUNTIF(Tbl_Borrador_PT[EQUIPO REDES],Tbl_Borrador_PT[[#This Row],[EQUIPO REDES]]) -> 6 | M35: =Tbl_Borrador_PT[[#This Row],[COSTO INSTALACION_PUT]]&"/"&Tbl_Borrador_PT[[#This Row],[COSTO MENSUAL_PUT]] -> 2000000/1438774 | AB35: 2.29 | AC35: PUNTO DE CONCENTRACION SIMETRICO 200 MPBS | AF35: 0 | AG35: =Tbl_Precio_Techo[[#This Row],[Zona]]&"/"&Tbl_Precio_Techo[[#This Row],[Item]] -> 0/2.29 | AH35: 2.33 | AI35: 2.29 | AK35: 36 | AL35: =COUNTIF(Tbl_Precio_Techo[EQUIPO REDES],Tbl_Precio_Techo[[#This Row],[EQUIPO REDES]]) -> 4 | AO35: 0 | AP35: 0 | AQ35: =Tbl_Precio_Techo[[#This Row],[PT INSTALACION / EQUIPO]] -> 0 | AR35: =Tbl_Precio_Techo[[#This Row],[PT VR UN MENSUAL IVA]] -> 0
A36: Seguridad Internet Dedicado 60 Mbps | B36: 2 | C36: 2000000 | D36: 949861 | E36: 4000000 | F36: 1899722 | G36: 10 | H36: 18997220 | I36: COLEGIOS | K36: Zona 2 | L36: =COUNTIF(Tbl_Borrador_PT[EQUIPO REDES],Tbl_Borrador_PT[[#This Row],[EQUIPO REDES]]) -> 5 | M36: =Tbl_Borrador_PT[[#This Row],[COSTO INSTALACION_PUT]]&"/"&Tbl_Borrador_PT[[#This Row],[COSTO MENSUAL_PUT]] -> 2000000/949861 | AB36: 2.30 | AC36: REDUNDANCIA PUNTO DE CONCENTRACION SIMETRICO 200 MBPS ACTIVO/PASIVO | AF36: 0 | AG36: =Tbl_Precio_Techo[[#This Row],[Zona]]&"/"&Tbl_Precio_Techo[[#This Row],[Item]] -> 0/2.30 | AH36: 2.34 | AI36: 2.30 | AK36: 37 | AL36: =COUNTIF(Tbl_Precio_Techo[EQUIPO REDES],Tbl_Precio_Techo[[#This Row],[EQUIPO REDES]]) -> 4 | AO36: 0 | AP36: 0 | AQ36: =Tbl_Precio_Techo[[#This Row],[PT INSTALACION / EQUIPO]] -> 0 | AR36: =Tbl_Precio_Techo[[#This Row],[PT VR UN MENSUAL IVA]] -> 0
A37: Seguridad Internet Dedicado 100 Mbps | B37: 108 | C37: 2000000 | D37: 1247617.5 | E37: 216000000 | F37: 134742690 | G37: 10 | H37: 1347426900 | I37: COLEGIOS | J37: 5 sedes adicionales proyectadas de obra | K37: Zona 2 | L37: =COUNTIF(Tbl_Borrador_PT[EQUIPO REDES],Tbl_Borrador_PT[[#This Row],[EQUIPO REDES]]) -> 4 | M37: =Tbl_Borrador_PT[[#This Row],[COSTO INSTALACION_PUT]]&"/"&Tbl_Borrador_PT[[#This Row],[COSTO MENSUAL_PUT]] -> 2000000/1247617,5 | AB37: 2.31 | AC37: PUNTO DE CONCENTRACIÓN SIMETRICO 300Mbps | AF37: 0 | AG37: =Tbl_Precio_Techo[[#This Row],[Zona]]&"/"&Tbl_Precio_Techo[[#This Row],[Item]] -> 0/2.31 | AH37: 2.35 | AI37: 2.31 | AK37: 38 | AL37: =COUNTIF(Tbl_Precio_Techo[EQUIPO REDES],Tbl_Precio_Techo[[#This Row],[EQUIPO REDES]]) -> 4 | AO37: 0 | AP37: 0 | AQ37: =Tbl_Precio_Techo[[#This Row],[PT INSTALACION / EQUIPO]] -> 0 | AR37: =Tbl_Precio_Techo[[#This Row],[PT VR UN MENSUAL IVA]] -> 0
A38: Seguridad Internet Dedicado 256 Mbps | B38: 82 | C38: 2000000 | D38: 4265968 | E38: 164000000 | F38: 349809376 | G38: 10 | H38: 3498093760 | I38: COLEGIOS | K38: Zona 2 | L38: =COUNTIF(Tbl_Borrador_PT[EQUIPO REDES],Tbl_Borrador_PT[[#This Row],[EQUIPO REDES]]) -> 3 | M38: =Tbl_Borrador_PT[[#This Row],[COSTO INSTALACION_PUT]]&"/"&Tbl_Borrador_PT[[#This Row],[COSTO MENSUAL_PUT]] -> 2000000/4265968 | AB38: 2.32 | AC38: REDUNDANCIA PUNTO DE CONCENTRACION SIMETRICO 300 MBPS ACTIVO/PASIVO | AF38: 0 | AG38: =Tbl_Precio_Techo[[#This Row],[Zona]]&"/"&Tbl_Precio_Techo[[#This Row],[Item]] -> 0/2.32 | AH38: 2.36 | AI38: 2.32 | AK38: 39 | AL38: =COUNTIF(Tbl_Precio_Techo[EQUIPO REDES],Tbl_Precio_Techo[[#This Row],[EQUIPO REDES]]) -> 4 | AO38: 0 | AP38: 0 | AQ38: =Tbl_Precio_Techo[[#This Row],[PT INSTALACION / EQUIPO]] -> 0 | AR38: =Tbl_Precio_Techo[[#This Row],[PT VR UN MENSUAL IVA]] -> 0
A39: Seguridad Internet Dedicado 512 Mbps | B39: 30 | C39: 2000000 | D39: 5993271.7 | E39: 60000000 | F39: 179798150 | G39: 10 | H39: 1797981500 | I39: COLEGIOS | K39: Zona 2 | L39: =COUNTIF(Tbl_Borrador_PT[EQUIPO REDES],Tbl_Borrador_PT[[#This Row],[EQUIPO REDES]]) -> 3 | M39: =Tbl_Borrador_PT[[#This Row],[COSTO INSTALACION_PUT]]&"/"&Tbl_Borrador_PT[[#This Row],[COSTO MENSUAL_PUT]] -> 2000000/5993271,66666667 | AB39: 2.33 | AC39: PUNTO DE CONCENTRACIÓN SIMETRICO 400Mbps | AF39: 0 | AG39: =Tbl_Precio_Techo[[#This Row],[Zona]]&"/"&Tbl_Precio_Techo[[#This Row],[Item]] -> 0/2.33 | AH39: 2.37 | AI39: 2.33 | AK39: 40 | AL39: =COUNTIF(Tbl_Precio_Techo[EQUIPO REDES],Tbl_Precio_Techo[[#This Row],[EQUIPO REDES]]) -> 4 | AO39: 0 | AP39: 0 | AQ39: =Tbl_Precio_Techo[[#This Row],[PT INSTALACION / EQUIPO]] -> 0 | AR39: =Tbl_Precio_Techo[[#This Row],[PT VR UN MENSUAL IVA]] -> 0
A40: ALQUILER EQUIPO ROUTER CORE DATOS MULTIOPERADOR DE ACUERDO A ANEXO TECNICO NUMERAL 7.1 | B40: 1 | C40: 1023400 | D40: 8590941.4 | E40: 1023400 | F40: 8590941.4 | G40: 10.5 | H40: 90204885 | I40: ADMINISTRATIVO | K40: Zona 3 | L40: =COUNTIF(Tbl_Borrador_PT[EQUIPO REDES],Tbl_Borrador_PT[[#This Row],[EQUIPO REDES]]) -> 2 | M40: =Tbl_Borrador_PT[[#This Row],[COSTO INSTALACION_PUT]]&"/"&Tbl_Borrador_PT[[#This Row],[COSTO MENSUAL_PUT]] -> 1023400/8590941,41665475 | AB40: 2.34 | AC40: REDUNDANCIA PUNTO DE CONCENTRACION SIMETRICO 400 MBPS ACTIVO/PASIVO | AF40: 0 | AG40: =Tbl_Precio_Techo[[#This Row],[Zona]]&"/"&Tbl_Precio_Techo[[#This Row],[Item]] -> 0/2.34 | AH40: 2.38 | AI40: 2.34 | AK40: 41 | AL40: =COUNTIF(Tbl_Precio_Techo[EQUIPO REDES],Tbl_Precio_Techo[[#This Row],[EQUIPO REDES]]) -> 4 | AO40: 0 | AP40: 0 | AQ40: =Tbl_Precio_Techo[[#This Row],[PT INSTALACION / EQUIPO]] -> 0 | AR40: =Tbl_Precio_Techo[[#This Row],[PT VR UN MENSUAL IVA]] -> 0
...

Sheet Valores Unitarios
B2: ALCALDÍA MAYOR DE BOGOTÁ D.C. SECRETARÍA DE EDUCACIÓN DEL DISTRITO SOLICITUD DE COTIZACION SED-LP-OTIC-072-2024 | M2: IVA
M3: 0.19
B6: OBJETO: PRESTAR LOS SERVICIOS DE TELECOMUNICACIONES A LA SECRETARÍA DE EDUCACIÓN EN LOS TRES NIVELES INSTITUCIONALES DE ACUERDO CON LA ZONA ADJUDICADA
B7: PROYECTO Y ÁREA ENCARGADA: OFICINA DE LAS TECNOLOGIAS DE LA INFORMACION Y LAS COMUNICACIONES
B8: Nombre del proponente: | I8: NIT:
B9: Contacto : | I9: Cargo:
B11: 1. COSTOS DIRECTOS
B12: Se debera tener en cuenta: Desplegar por completo la descripcion. El Valor unitario ofertado debe incluir, las tasas y contribuciones de carácter municipal y/o nacional, todos los costos, gastos directos e indirectos así como la utilidad del proveedor. Ver archivos anexo "ANEXO TECNICO" (LUGAR DE EJECUCIÓN, PLAZO DE EJECUCIÓN, FORMA DE PAGO, OBLIGACIONES ESPECIFICAS, GARANTIAS Y FICHAS TECNICAS).
B13: Zona 2
B14: Item | C14: EQUIPO REDES | E14: COSTO INSTALACION ANTES DE IVA | F14: IVA COSTO INSTALACION (Cuando ello hubiere lugar) | G14: COSTO INSTALACION INCLUIDO IVA | H14: PRECIO TECHO COSTO INSTALACION INCLUIDO IVA | I14: VALOR UNITARIO SERVICIO MENSUAL ANTES DE IVA | J14: IVA SERVICIO MENSUAL (Cuando ello hubiere lugar) | K14: VALOR UNITARIO SERVICIO MENSUAL INCLUIDO IVA | L14: PRECIO TECHO VALOR UNITARIO SERVICIO MENSUAL INCLUIDO IVA
B15: 1.1 | C15: ALQUILER EQUIPO ROUTER CORE DATOS MULTIOPERADOR DE ACUERDO A ANEXO TECNICO NUMERAL 11 | F15: =IF(E15="","",E15*IVA) | G15: =IF(COUNTBLANK(E15:F15)=2,"",ROUND(E15+ROUND(F15,0),0)) | H15: =IFERROR(ROUND(_xlfn.XLOOKUP(RIGHT($B$13,1)&"/"&B15,Tbl_Precio_Techo[KLlave01],Tbl_Precio_Techo[PT INSTALACION / EQUIPO],"",0,1),0),"") -> 1023400 | J15: =IF(I15="","",I15*IVA) | K15: =IF(COUNTBLANK(I15:J15)=2,"",ROUND(I15+ROUND(J15,0),0)) | L15: =IFERROR(ROUND(_xlfn.XLOOKUP(RIGHT($B$13,1)&"/"&B15,Tbl_Precio_Techo[KLlave01],Tbl_Precio_Techo[PT VR UN MENSUAL IVA],"",0,1),0),"") -> 8590941
B16: Item | C16: CANALES DE DATOS DEDICADOS SIMÉTRICOS (INCLUYE CPE) U.M. FIBRA OPTICA | E16: COSTO INSTALACION ANTES DE IVA | F16: IVA COSTO INSTALACION (Cuando ello hubiere lugar) | G16: COSTO INSTALACION INCLUIDO IVA | H16: PRECIO TECHO COSTO INSTALACION INCLUIDO IVA | I16: VALOR UNITARIO SERVICIO MENSUAL ANTES DE IVA | J16: IVA SERVICIO MENSUAL (Cuando ello hubiere lugar) | K16: VALOR UNITARIO SERVICIO MENSUAL INCLUIDO IVA | L16: PRECIO TECHO VALOR UNITARIO SERVICIO MENSUAL INCLUIDO IVA
B17: 2.1 | C17: ENLACE DEDICADO SIMETRICO 1 Mbps | F17: =IF(E17="","",E17*IVA) | G17: =IF(COUNTBLANK(E17:F17)=2,"",ROUND(E17+ROUND(F17,0),0)) | H17: =IFERROR(ROUND(_xlfn.XLOOKUP(RIGHT($B$13,1)&"/"&B17,Tbl_Precio_Techo[KLlave01],Tbl_Precio_Techo[PT INSTALACION / EQUIPO],"",0,1),0),"") -> 761700 | J17: =IF(I17="","",I17*IVA) | K17: =IF(COUNTBLANK(I17:J17)=2,"",ROUND(I17+ROUND(J17,0),0)) | L17: =IFERROR(ROUND(_xlfn.XLOOKUP(RIGHT($B$13,1)&"/"&B17,Tbl_Precio_Techo[KLlave01],Tbl_Precio_Techo[PT VR UN MENSUAL IVA],"",0,1),0),"") -> 484100
B18: 2.2 | C18: ENLACE DEDICADO SIMETRICO 2 Mbps | F18: =IF(E18="","",E18*IVA) | G18: =IF(COUNTBLANK(E18:F18)=2,"",ROUND(E18+ROUND(F18,0),0)) | H18: =IFERROR(ROUND(_xlfn.XLOOKUP(RIGHT($B$13,1)&"/"&B18,Tbl_Precio_Techo[KLlave01],Tbl_Precio_Techo[PT INSTALACION / EQUIPO],"",0,1),0),"") -> 761700 | J18: =IF(I18="","",I18*IVA) | K18: =IF(COUNTBLANK(I18:J18)=2,"",ROUND(I18+ROUND(J18,0),0)) | L18: =IFERROR(ROUND(_xlfn.XLOOKUP(RIGHT($B$13,1)&"/"&B18,Tbl_Precio_Techo[KLlave01],Tbl_Precio_Techo[PT VR UN MENSUAL IVA],"",0,1),0),"") -> 603952
B19: 2.3 | C19: ENLACE DEDICADO SIMETRICO 3 Mbps | F19: =IF(E19="","",E19*IVA) | G19: =IF(COUNTBLANK(E19:F19)=2,"",ROUND(E19+ROUND(F19,0),0)) | H19: =IFERROR(ROUND(_xlfn.XLOOKUP(RIGHT($B$13,1)&"/"&B19,Tbl_Precio_Techo[KLlave01],Tbl_Precio_Techo[PT INSTALACION / EQUIPO],"",0,1),0),"") -> 761700 | J19: =IF(I19="","",I19*IVA) | K19: =IF(COUNTBLANK(I19:J19)=2,"",ROUND(I19+ROUND(J19,0),0)) | L19: =IFERROR(ROUND(_xlfn.XLOOKUP(RIGHT($B$13,1)&"/"&B19,Tbl_Precio_Techo[KLlave01],Tbl_Precio_Techo[PT VR UN MENSUAL IVA],"",0,1),0),"") -> 724906
B20: 2.4 | C20: ENLACE DEDICADO SIMETRICO 5 Mbps | F20: =IF(E20="","",E20*IVA) | G20: =IF(COUNTBLANK(E20:F20)=2,"",ROUND(E20+ROUND(F20,0),0)) | H20: =IFERROR(ROUND(_xlfn.XLOOKUP(RIGHT($B$13,1)&"/"&B20,Tbl_Precio_Techo[KLlave01],Tbl_Precio_Techo[PT INSTALACION / EQUIPO],"",0,1),0),"") -> 761700 | J20: =IF(I20="","",I20*IVA) | K20: =IF(COUNTBLANK(I20:J20)=2,"",ROUND(I20+ROUND(J20,0),0)) | L20: =IFERROR(ROUND(_xlfn.XLOOKUP(RIGHT($B$13,1)&"/"&B20,Tbl_Precio_Techo[KLlave01],Tbl_Precio_Techo[PT VR UN MENSUAL IVA],"",0,1),0),"") -> 795164
B21: 2.5 | C21: ENLACE DEDICADO SIMETRICO 10 Mbps | F21: =IF(E21="","",E21*IVA) | G21: =IF(COUNTBLANK(E21:F21)=2,"",ROUND(E21+ROUND(F21,0),0)) | H21: =IFERROR(ROUND(_xlfn.XLOOKUP(RIGHT($B$13,1)&"/"&B21,Tbl_Precio_Techo[KLlave01],Tbl_Precio_Techo[PT INSTALACION / EQUIPO],"",0,1),0),"") -> 761700 | J21: =IF(I21="","",I21*IVA) | K21: =IF(COUNTBLANK(I21:J21)=2,"",ROUND(I21+ROUND(J21,0),0)) | L21: =IFERROR(ROUND(_xlfn.XLOOKUP(RIGHT($B$13,1)&"/"&B21,Tbl_Precio_Techo[KLlave01],Tbl_Precio_Techo[PT VR UN MENSUAL IVA],"",0,1),0),"") -> 891569
B22: 2.6 | C22: ENLACE DEDICADO SIMETRICO 20 Mbps | F22: =IF(E22="","",E22*IVA) | G22: =IF(COUNTBLANK(E22:F22)=2,"",ROUND(E22+ROUND(F22,0),0)) | H22: =IFERROR(ROUND(_xlfn.XLOOKUP(RIGHT($B$13,1)&"/"&B22,Tbl_Precio_Techo[KLlave01],Tbl_Precio_Techo[PT INSTALACION / EQUIPO],"",0,1),0),"") -> 761700 | J22: =IF(I22="","",I22*IVA) | K22: =IF(COUNTBLANK(I22:J22)=2,"",ROUND(I22+ROUND(J22,0),0)) | L22: =IFERROR(ROUND(_xlfn.XLOOKUP(RIGHT($B$13,1)&"/"&B22,Tbl_Precio_Techo[KLlave01],Tbl_Precio_Techo[PT VR UN MENSUAL IVA],"",0,1),0),"") -> 1317493
B23: 2.7 | C23: ENLACE DEDICADO SIMETRICO 20 Mbps BP(Pasivo) | F23: =IF(E23="","",E23*IVA) | G23: =IF(COUNTBLANK(E23:F23)=2,"",ROUND(E23+ROUND(F23,0),0)) | H23: =IFERROR(ROUND(_xlfn.XLOOKUP(RIGHT($B$13,1)&"/"&B23,Tbl_Precio_Techo[KLlave01],Tbl_Precio_Techo[PT INSTALACION / EQUIPO],"",0,1),0),"") -> 761700 | J23: =IF(I23="","",I23*IVA) | K23: =IF(COUNTBLANK(I23:J23)=2,"",ROUND(I23+ROUND(J23,0),0)) | L23: =IFERROR(ROUND(_xlfn.XLOOKUP(RIGHT($B$13,1)&"/"&B23,Tbl_Precio_Techo[KLlave01],Tbl_Precio_Techo[PT VR UN MENSUAL IVA],"",0,1),0),"") -> 898958
B24: 2.8 | C24: ENLACE DEDICADO SIMETRICO 30 Mbps | F24: =IF(E24="","",E24*IVA) | G24: =IF(COUNTBLANK(E24:F24)=2,"",ROUND(E24+ROUND(F24,0),0)) | H24: =IFERROR(ROUND(_xlfn.XLOOKUP(RIGHT($B$13,1)&"/"&B24,Tbl_Precio_Techo[KLlave01],Tbl_Precio_Techo[PT INSTALACION / EQUIPO],"",0,1),0),"") -> 761700 | J24: =IF(I24="","",I24*IVA) | K24: =IF(COUNTBLANK(I24:J24)=2,"",ROUND(I24+ROUND(J24,0),0)) | L24: =IFERROR(ROUND(_xlfn.XLOOKUP(RIGHT($B$13,1)&"/"&B24,Tbl_Precio_Techo[KLlave01],Tbl_Precio_Techo[PT VR UN MENSUAL IVA],"",0,1),0),"") -> 2007100
B25: 2.9 | C25: ENLACE DEDICADO SIMETRICO 50 Mbps | F25: =IF(E25="","",E25*IVA) | G25: =IF(COUNTBLANK(E25:F25)=2,"",ROUND(E25+ROUND(F25,0),0)) | H25: =IFERROR(ROUND(_xlfn.XLOOKUP(RIGHT($B$13,1)&"/"&B25,Tbl_Precio_Techo[KLlave01],Tbl_Precio_Techo[PT INSTALACION / EQUIPO],"",0,1),0),"") -> 761700 | J25: =IF(I25="","",I25*IVA) | K25: =IF(COUNTBLANK(I25:J25)=2,"",ROUND(I25+ROUND(J25,0),0)) | L25: =IFERROR(ROUND(_xlfn.XLOOKUP(RIGHT($B$13,1)&"/"&B25,Tbl_Precio_Techo[KLlave01],Tbl_Precio_Techo[PT VR UN MENSUAL IVA],"",0,1),0),"") -> 2601190
B26: 2.10 | C26: ENLACE DEDICADO SIMETRICO 50Mbps BP(Pasivo) | F26: =IF(E26="","",E26*IVA) | G26: =IF(COUNTBLANK(E26:F26)=2,"",ROUND(E26+ROUND(F26,0),0)) | H26: =IFERROR(ROUND(_xlfn.XLOOKUP(RIGHT($B$13,1)&"/"&B26,Tbl_Precio_Techo[KLlave01],Tbl_Precio_Techo[PT INSTALACION / EQUIPO],"",0,1),0),"") -> 761700 | J26: =IF(I26="","",I26*IVA) | K26: =IF(COUNTBLANK(I26:J26)=2,"",ROUND(I26+ROUND(J26,0),0)) | L26: =IFERROR(ROUND(_xlfn.XLOOKUP(RIGHT($B$13,1)&"/"&B26,Tbl_Precio_Techo[KLlave01],Tbl_Precio_Techo[PT VR UN MENSUAL IVA],"",0,1),0),"") -> 1513794
B27: 2.11 | C27: ENLACE DEDICADO SIMETRICO 80 Mbps | F27: =IF(E27="","",E27*IVA) | G27: =IF(COUNTBLANK(E27:F27)=2,"",ROUND(E27+ROUND(F27,0),0)) | H27: =IFERROR(ROUND(_xlfn.XLOOKUP(RIGHT($B$13,1)&"/"&B27,Tbl_Precio_Techo[KLlave01],Tbl_Precio_Techo[PT INSTALACION / EQUIPO],"",0,1),0),"") -> 761700 | J27: =IF(I27="","",I27*IVA) | K27: =IF(COUNTBLANK(I27:J27)=2,"",ROUND(I27+ROUND(J27,0),0)) | L27: =IFERROR(ROUND(_xlfn.XLOOKUP(RIGHT($B$13,1)&"/"&B27,Tbl_Precio_Techo[KLlave01],Tbl_Precio_Techo[PT VR UN MENSUAL IVA],"",0,1),0),"") -> 3833901
B28: 2.12 | C28: ENLACE DEDICADO SIMETRICO 80Mbps BP(Pasivo) | F28: =IF(E28="","",E28*IVA) | G28: =IF(COUNTBLANK(E28:F28)=2,"",ROUND(E28+ROUND(F28,0),0)) | H28: =IFERROR(ROUND(_xlfn.XLOOKUP(RIGHT($B$13,1)&"/"&B28,Tbl_Precio_Techo[KLlave01],Tbl_Precio_Techo[PT INSTALACION / EQUIPO],"",0,1),0),"") -> 761700 | J28: =IF(I28="","",I28*IVA) | K28: =IF(COUNTBLANK(I28:J28)=2,"",ROUND(I28+ROUND(J28,0),0)) | L28: =IFERROR(ROUND(_xlfn.XLOOKUP(RIGHT($B$13,1)&"/"&B28,Tbl_Precio_Techo[KLlave01],Tbl_Precio_Techo[PT VR UN MENSUAL IVA],"",0,1),0),"") -> 2471968
... B56: 2.40 | C56: REDUNDANCIA PUNTO DE CONCENTRACION SIMETRICO 1,5 GBPS ACTIVO/PASIVO | F56: =IF(E56="","",E56*IVA) | G56: =IF(COUNTBLANK(E56:F56)=2,"",ROUND(E56+ROUND(F56,0),0)) | H56: =IFERROR(ROUND(_xlfn.XLOOKUP(RIGHT($B$13,1)&"/"&B56,Tbl_Precio_Techo[KLlave01],Tbl_Precio_Techo[PT INSTALACION / EQUIPO],"",0,1),0),"") -> 901700 | J56: =IF(I56="","",I56*IVA) | K56: =IF(COUNTBLANK(I56:J56)=2,"",ROUND(I56+ROUND(J56,0),0)) | L56: =IFERROR(ROUND(_xlfn.XLOOKUP(RIGHT($B$13,1)&"/"&B56,Tbl_Precio_Techo[KLlave01],Tbl_Precio_Techo[PT VR UN MENSUAL IVA],"",0,1),0),"") -> 5612790
B57: Item | C57: ENLACE DE DATOS DEDICADO SIMETRICO U.M.RADIO INCLUYE CPE | E57: COSTO INSTALACION ANTES DE IVA | F57: IVA COSTO INSTALACION (Cuando ello hubiere lugar) | G57: COSTO INSTALACION INCLUIDO IVA | H57: PRECIO TECHO COSTO INSTALACION INCLUIDO IVA | I57: VALOR UNITARIO SERVICIO MENSUAL ANTES DE IVA | J57: IVA SERVICIO MENSUAL (Cuando ello hubiere lugar) | K57: VALOR UNITARIO SERVICIO MENSUAL INCLUIDO IVA | L57: PRECIO TECHO VALOR UNITARIO SERVICIO MENSUAL INCLUIDO IVA
B58: 3.1 | C58: Enlace Datos Dedicado Simétrico (U.M. Radio) 6Mbps | F58: =IF(E58="","",E58*IVA) | G58: =IF(COUNTBLANK(E58:F58)=2,"",ROUND(E58+ROUND(F58,0),0)) | H58: =IFERROR(ROUND(_xlfn.XLOOKUP(RIGHT($B$13,1)&"/"&B58,Tbl_Precio_Techo[KLlave01],Tbl_Precio_Techo[PT INSTALACION / EQUIPO],"",0,1),0),"") -> 2147500 | J58: =IF(I58="","",I58*IVA) | K58: =IF(COUNTBLANK(I58:J58)=2,"",ROUND(I58+ROUND(J58,0),0)) | L58: =IFERROR(ROUND(_xlfn.XLOOKUP(RIGHT($B$13,1)&"/"&B58,Tbl_Precio_Techo[KLlave01],Tbl_Precio_Techo[PT VR UN MENSUAL IVA],"",0,1),0),"") -> 4764960
B59: 3.2 | C59: Enlace Datos Dedicado Simétrico (U.M. Radio) 12Mbps | F59: =IF(E59="","",E59*IVA) | G59: =IF(COUNTBLANK(E59:F59)=2,"",ROUND(E59+ROUND(F59,0),0)) | H59: =IFERROR(ROUND(_xlfn.XLOOKUP(RIGHT($B$13,1)&"/"&B59,Tbl_Precio_Techo[KLlave01],Tbl_Precio_Techo[PT INSTALACION / EQUIPO],"",0,1),0),"") -> 2147500 | J59: =IF(I59="","",I59*IVA) | K59: =IF(COUNTBLANK(I59:J59)=2,"",ROUND(I59+ROUND(J59,0),0)) | L59: =IFERROR(ROUND(_xlfn.XLOOKUP(RIGHT($B$13,1)&"/"&B59,Tbl_Precio_Techo[KLlave01],Tbl_Precio_Techo[PT VR UN MENSUAL IVA],"",0,1),0),"") -> 5338346
B60: 3.3 | C60: Enlace Datos Dedicado Simétrico (U.M. Radio) 18Mbps | F60: =IF(E60="","",E60*IVA) | G60: =IF(COUNTBLANK(E60:F60)=2,"",ROUND(E60+ROUND(F60,0),0)) | H60: =IFERROR(ROUND(_xlfn.XLOOKUP(RIGHT($B$13,1)&"/"&B60,Tbl_Precio_Techo[KLlave01],Tbl_Precio_Techo[PT INSTALACION / EQUIPO],"",0,1),0),"") -> 2147500 | J60: =IF(I60="","",I60*IVA) | K60: =IF(COUNTBLANK(I60:J60)=2,"",ROUND(I60+ROUND(J60,0),0)) | L60: =IFERROR(ROUND(_xlfn.XLOOKUP(RIGHT($B$13,1)&"/"&B60,Tbl_Precio_Techo[KLlave01],Tbl_Precio_Techo[PT VR UN MENSUAL IVA],"",0,1),0),"") -> 6563843
B61: 3.4 | C61: Enlace Datos Dedicado Simétrico (U.M. Radio) 24Mbps | F61: =IF(E61="","",E61*IVA) | G61: =IF(COUNTBLANK(E61:F61)=2,"",ROUND(E61+ROUND(F61,0),0)) | H61: =IFERROR(ROUND(_xlfn.XLOOKUP(RIGHT($B$13,1)&"/"&B61,Tbl_Precio_Techo[KLlave01],Tbl_Precio_Techo[PT INSTALACION / EQUIPO],"",0,1),0),"") -> 2147500 | J61: =IF(I61="","",I61*IVA) | K61: =IF(COUNTBLANK(I61:J61)=2,"",ROUND(I61+ROUND(J61,0),0)) | L61: =IFERROR(ROUND(_xlfn.XLOOKUP(RIGHT($B$13,1)&"/"&B61,Tbl_Precio_Techo[KLlave01],Tbl_Precio_Techo[PT VR UN MENSUAL IVA],"",0,1),0),"") -> 6948359
B62: 3.5 | C62: Enlace Datos Dedicado Simétrico (U.M. Radio) 30Mbps | F62: =IF(E62="","",E62*IVA) | G62: =IF(COUNTBLANK(E62:F62)=2,"",ROUND(E62+ROUND(F62,0),0)) | H62: =IFERROR(ROUND(_xlfn.XLOOKUP(RIGHT($B$13,1)&"/"&B62,Tbl_Precio_Techo[KLlave01],Tbl_Precio_Techo[PT INSTALACION / EQUIPO],"",0,1),0),"") -> 2147500 | J62: =IF(I62="","",I62*IVA) | K62: =IF(COUNTBLANK(I62:J62)=2,"",ROUND(I62+ROUND(J62,0),0)) | L62: =IFERROR(ROUND(_xlfn.XLOOKUP(RIGHT($B$13,1)&"/"&B62,Tbl_Precio_Techo[KLlave01],Tbl_Precio_Techo[PT VR UN MENSUAL IVA],"",0,1),0),"") -> 7662647
B63: 3.6 | C63: Enlace Datos Dedicado Simétrico (U.M. Radio) 60Mbps | F63: =IF(E63="","",E63*IVA) | G63: =IF(COUNTBLANK(E63:F63)=2,"",ROUND(E63+ROUND(F63,0),0)) | H63: =IFERROR(ROUND(_xlfn.XLOOKUP(RIGHT($B$13,1)&"/"&B63,Tbl_Precio_Techo[KLlave01],Tbl_Precio_Techo[PT INSTALACION / EQUIPO],"",0,1),0),"") -> 2147500 | J63: =IF(I63="","",I63*IVA) | K63: =IF(COUNTBLANK(I63:J63)=2,"",ROUND(I63+ROUND(J63,0),0)) | L63: =IFERROR(ROUND(_xlfn.XLOOKUP(RIGHT($B$13,1)&"/"&B63,Tbl_Precio_Techo[KLlave01],Tbl_Precio_Techo[PT VR UN MENSUAL IVA],"",0,1),0),"") -> 8936306
B64: 3.7 | C64: Enlace Datos Dedicado Simétrico (U.M. Radio) 80Mbps | F64: =IF(E64="","",E64*IVA) | G64: =IF(COUNTBLANK(E64:F64)=2,"",ROUND(E64+ROUND(F64,0),0)) | H64: =IFERROR(ROUND(_xlfn.XLOOKUP(RIGHT($B$13,1)&"/"&B64,Tbl_Precio_Techo[KLlave01],Tbl_Precio_Techo[PT INSTALACION / EQUIPO],"",0,1),0),"") -> 2147500 | J64: =IF(I64="","",I64*IVA) | K64: =IF(COUNTBLANK(I64:J64)=2,"",ROUND(I64+ROUND(J64,0),0)) | L64: =IFERROR(ROUND(_xlfn.XLOOKUP(RIGHT($B$13,1)&"/"&B64,Tbl_Precio_Techo[KLlave01],Tbl_Precio_Techo[PT VR UN MENSUAL IVA],"",0,1),0),"") -> 10925507
B65: 3.8 | C65: Enlace Datos Dedicado Simétrico (U.M. Radio) 100Mbps | F65: =IF(E65="","",E65*IVA) | G65: =IF(COUNTBLANK(E65:F65)=2,"",ROUND(E65+ROUND(F65,0),0)) | H65: =IFERROR(ROUND(_xlfn.XLOOKUP(RIGHT($B$13,1)&"/"&B65,Tbl_Precio_Techo[KLlave01],Tbl_Precio_Techo[PT INSTALACION / EQUIPO],"",0,1),0),"") -> 2147500 | J65: =IF(I65="","",I65*IVA) | K65: =IF(COUNTBLANK(I65:J65)=2,"",ROUND(I65+ROUND(J65,0),0)) | L65: =IFERROR(ROUND(_xlfn.XLOOKUP(RIGHT($B$13,1)&"/"&B65,Tbl_Precio_Techo[KLlave01],Tbl_Precio_Techo[PT VR UN MENSUAL IVA],"",0,1),0),"") -> 13173779
B66: Item | C66: ENLACE SATELITAL INCLUYE CPE | E66: COSTO INSTALACION ANTES DE IVA | F66: IVA COSTO INSTALACION (Cuando ello hubiere lugar) | G66: COSTO INSTALACION INCLUIDO IVA | H66: PRECIO TECHO COSTO INSTALACION INCLUIDO IVA | I66: VALOR UNITARIO SERVICIO MENSUAL ANTES DE IVA | J66: IVA SERVICIO MENSUAL (Cuando ello hubiere lugar) | K66: VALOR UNITARIO SERVICIO MENSUAL INCLUIDO IVA | L66: PRECIO TECHO VALOR UNITARIO SERVICIO MENSUAL INCLUIDO IVA
B67: 4.1 | C67: ENLACE SATELITALES 256/256 | F67: =IF(E67="","",E67*IVA) | G67: =IF(COUNTBLANK(E67:F67)=2,"",ROUND(E67+ROUND(F67,0),0)) | H67: =IFERROR(ROUND(_xlfn.XLOOKUP(RIGHT($B$13,1)&"/"&B67,Tbl_Precio_Techo[KLlave01],Tbl_Precio_Techo[PT INSTALACION / EQUIPO],"",0,1),0),"") -> 5675000 | J67: =IF(I67="","",I67*IVA) | K67: =IF(COUNTBLANK(I67:J67)=2,"",ROUND(I67+ROUND(J67,0),0)) | L67: =IFERROR(ROUND(_xlfn.XLOOKUP(RIGHT($B$13,1)&"/"&B67,Tbl_Precio_Techo[KLlave01],Tbl_Precio_Techo[PT VR UN MENSUAL IVA],"",0,1),0),"") -> 2936413
B68: 4.2 | C68: ENLACE SATELITALES 512/256 | F68: =IF(E68="","",E68*IVA) | G68: =IF(COUNTBLANK(E68:F68)=2,"",ROUND(E68+ROUND(F68,0),0)) | H68: =IFERROR(ROUND(_xlfn.XLOOKUP(RIGHT($B$13,1)&"/"&B68,Tbl_Precio_Techo[KLlave01],Tbl_Precio_Techo[PT INSTALACION / EQUIPO],"",0,1),0),"") -> 5675000 | J68: =IF(I68="","",I68*IVA) | K68: =IF(COUNTBLANK(I68:J68)=2,"",ROUND(I68+ROUND(J68,0),0)) | L68: =IFERROR(ROUND(_xlfn.XLOOKUP(RIGHT($B$13,1)&"/"&B68,Tbl_Precio_Techo[KLlave01],Tbl_Precio_Techo[PT VR UN MENSUAL IVA],"",0,1),0),"") -> 3837791
B69: 4.3 | C69: ENLACE SATELITALES 1024/512 | F69: =IF(E69="","",E69*IVA) | G69: =IF(COUNTBLANK(E69:F69)=2,"",ROUND(E69+ROUND(F69,0),0)) | H69: =IFERROR(ROUND(_xlfn.XLOOKUP(RIGHT($B$13,1)&"/"&B69,Tbl_Precio_Techo[KLlave01],Tbl_Precio_Techo[PT INSTALACION / EQUIPO],"",0,1),0),"") -> 5675000 | J69: =IF(I69="","",I69*IVA) | K69: =IF(COUNTBLANK(I69:J69)=2,"",ROUND(I69+ROUND(J69,0),0)) | L69: =IFERROR(ROUND(_xlfn.XLOOKUP(RIGHT($B$13,1)&"/"&B69,Tbl_Precio_Techo[KLlave01],Tbl_Precio_Techo[PT VR UN MENSUAL IVA],"",0,1),0),"") -> 4581500
B70: 4.4 | C70: ENLACE SATELITALES 6Mbps/1Mbps (banda C) | F70: =IF(E70="","",E70*IVA) | G70: =IF(COUNTBLANK(E70:F70)=2,"",ROUND(E70+ROUND(F70,0),0)) | H70: =IFERROR(ROUND(_xlfn.XLOOKUP(RIGHT($B$13,1)&"/"&B70,Tbl_Precio_Techo[KLlave01],Tbl_Precio_Techo[PT INSTALACION / EQUIPO],"",0,1),0),"") -> 5675000 | J70: =IF(I70="","",I70*IVA) | K70: =IF(COUNTBLANK(I70:J70)=2,"",ROUND(I70+ROUND(J70,0),0)) | L70: =IFERROR(ROUND(_xlfn.XLOOKUP(RIGHT($B$13,1)&"/"&B70,Tbl_Precio_Techo[KLlave01],Tbl_Precio_Techo[PT VR UN MENSUAL IVA],"",0,1),0),"") -> 13326480
B71: 4.5 | C71: ENLACE SATELITALES 12Mbps/2Mbps (banda C) | F71: =IF(E71="","",E71*IVA) | G71: =IF(COUNTBLANK(E71:F71)=2,"",ROUND(E71+ROUND(F71,0),0)) | H71: =IFERROR(ROUND(_xlfn.XLOOKUP(RIGHT($B$13,1)&"/"&B71,Tbl_Precio_Techo[KLlave01],Tbl_Precio_Techo[PT INSTALACION / EQUIPO],"",0,1),0),"") -> 5675000 | J71: =IF(I71="","",I71*IVA) | K71: =IF(COUNTBLANK(I71:J71)=2,"",ROUND(I71+ROUND(J71,0),0)) | L71: =IFERROR(ROUND(_xlfn.XLOOKUP(RIGHT($B$13,1)&"/"&B71,Tbl_Precio_Techo[KLlave01],Tbl_Precio_Techo[PT VR UN MENSUAL IVA],"",0,1),0),"") -> 24374151
...

Sheet Oferta Economica
A1: ='Valores Unitarios'!B8&" "&'Valores Unitarios'!D8 -> Nombre del proponente: | G1: ='Valores Unitarios'!I8&" "&'Valores Unitarios'!J8 -> NIT:
A2: ='Valores Unitarios'!B9&" "&'Valores Unitarios'!D9 -> Contacto : | G2: ='Valores Unitarios'!I9&" "&'Valores Unitarios'!J9 -> Cargo:
A4: Oferta Zona 2
A5: Item | B5: EQUIPO REDES | C5: SERVICIOS / CANTIDAD | D5: COSTO INSTALACION | E5: COSTO MENSUAL | F5: COSTO TOTAL INSTALACION | G5: COSTO TOTAL MENSUAL | H5: TIEMPO MESES | I5: COSTO TOTAL SERVICIO | J5: NIVEL ENTIDAD
A6: 1.1 | B6: ALQUILER EQUIPO ROUTER CORE DATOS MULTIOPERADOR DE ACUERDO A ANEXO TECNICO NUMERAL 11 | C6: 1 | D6: =VLOOKUP(Tbl_Comp_ZN[[#This Row],[Item]],'Valores Unitarios'!B:K,6,0) | E6: =VLOOKUP(Tbl_Comp_ZN[[#This Row],[Item]],'Valores Unitarios'!B:K,10,0) | F6: =IFERROR(Tbl_Comp_ZN[[#This Row],[SERVICIOS / CANTIDAD]]*Tbl_Comp_ZN[[#This Row],[COSTO INSTALACION]],"") | G6: =IFERROR(Tbl_Comp_ZN[[#This Row],[SERVICIOS / CANTIDAD]]*Tbl_Comp_ZN[[#This Row],[COSTO MENSUAL]],"") | H6: 10.5 | I6: =IFERROR(ROUND(Tbl_Comp_ZN[[#This Row],[COSTO TOTAL MENSUAL]]*Tbl_Comp_ZN[[#This Row],[TIEMPO MESES]],0),"") | J6: NIVEL CENTRAL
A7: 2.1 | B7: ENLACE DEDICADO SIMETRICO 1 Mbps | C7: 10 | D7: =VLOOKUP(Tbl_Comp_ZN[[#This Row],[Item]],'Valores Unitarios'!B:K,6,0) | E7: =VLOOKUP(Tbl_Comp_ZN[[#This Row],[Item]],'Valores Unitarios'!B:K,10,0) | F7: =IFERROR(Tbl_Comp_ZN[[#This Row],[SERVICIOS / CANTIDAD]]*Tbl_Comp_ZN[[#This Row],[COSTO INSTALACION]],"") | G7: =IFERROR(Tbl_Comp_ZN[[#This Row],[SERVICIOS / CANTIDAD]]*Tbl_Comp_ZN[[#This Row],[COSTO MENSUAL]],"") | H7: 10.5 | I7: =IFERROR(ROUND(Tbl_Comp_ZN[[#This Row],[COSTO TOTAL MENSUAL]]*Tbl_Comp_ZN[[#This Row],[TIEMPO MESES]],0),"") | J7: NIVEL CENTRAL
A8: 5.2 | B8: Enlace Internet Dedicado Simétrico (U.M. Fibra Óptica) 30Mbps | C8: 3 | D8: =VLOOKUP(Tbl_Comp_ZN[[#This Row],[Item]],'Valores Unitarios'!B:K,6,0) | E8: =VLOOKUP(Tbl_Comp_ZN[[#This Row],[Item]],'Valores Unitarios'!B:K,10,0) | F8: =IFERROR(Tbl_Comp_ZN[[#This Row],[SERVICIOS / CANTIDAD]]*Tbl_Comp_ZN[[#This Row],[COSTO INSTALACION]],"") | G8: =IFERROR(Tbl_Comp_ZN[[#This Row],[SERVICIOS / CANTIDAD]]*Tbl_Comp_ZN[[#This Row],[COSTO MENSUAL]],"") | H8: 10.5 | I8: =IFERROR(ROUND(Tbl_Comp_ZN[[#This Row],[COSTO TOTAL MENSUAL]]*Tbl_Comp_ZN[[#This Row],[TIEMPO MESES]],0),"") | J8: NIVEL CENTRAL/LOCAL
A9: 5.6 | B9: Enlace Internet Dedicado Simétrico (U.M. Fibra Óptica) 60Mbps | C9: 7 | D9: =VLOOKUP(Tbl_Comp_ZN[[#This Row],[Item]],'Valores Unitarios'!B:K,6,0) | E9: =VLOOKUP(Tbl_Comp_ZN[[#This Row],[Item]],'Valores Unitarios'!B:K,10,0) | F9: =IFERROR(Tbl_Comp_ZN[[#This Row],[SERVICIOS / CANTIDAD]]*Tbl_Comp_ZN[[#This Row],[COSTO INSTALACION]],"") | G9: =IFERROR(Tbl_Comp_ZN[[#This Row],[SERVICIOS / CANTIDAD]]*Tbl_Comp_ZN[[#This Row],[COSTO MENSUAL]],"") | H9: 10.5 | I9: =IFERROR(ROUND(Tbl_Comp_ZN[[#This Row],[COSTO TOTAL MENSUAL]]*Tbl_Comp_ZN[[#This Row],[TIEMPO MESES]],0),"") | J9: NIVEL CENTRAL/LOCAL
A10: 6.2 | B10: Seguridad Internet Dedicado 30 Mbps | C10: 3 | D10: =VLOOKUP(Tbl_Comp_ZN[[#This Row],[Item]],'Valores Unitarios'!B:K,6,0) | E10: =VLOOKUP(Tbl_Comp_ZN[[#This Row],[Item]],'Valores Unitarios'!B:K,10,0) | F10: =IFERROR(Tbl_Comp_ZN[[#This Row],[SERVICIOS / CANTIDAD]]*Tbl_Comp_ZN[[#This Row],[COSTO INSTALACION]],"") | G10: =IFERROR(Tbl_Comp_ZN[[#This Row],[SERVICIOS / CANTIDAD]]*Tbl_Comp_ZN[[#This Row],[COSTO MENSUAL]],"") | H10: 10.5 | I10: =IFERROR(ROUND(Tbl_Comp_ZN[[#This Row],[COSTO TOTAL MENSUAL]]*Tbl_Comp_ZN[[#This Row],[TIEMPO MESES]],0),"") | J10: NIVEL CENTRAL/LOCAL
A11: 6.4 | B11: Seguridad Internet Dedicado 60 Mbps | C11: 7 | D11: =VLOOKUP(Tbl_Comp_ZN[[#This Row],[Item]],'Valores Unitarios'!B:K,6,0) | E11: =VLOOKUP(Tbl_Comp_ZN[[#This Row],[Item]],'Valores Unitarios'!B:K,10,0) | F11: =IFERROR(Tbl_Comp_ZN[[#This Row],[SERVICIOS / CANTIDAD]]*Tbl_Comp_ZN[[#This Row],[COSTO INSTALACION]],"") | G11: =IFERROR(Tbl_Comp_ZN[[#This Row],[SERVICIOS / CANTIDAD]]*Tbl_Comp_ZN[[#This Row],[COSTO MENSUAL]],"") | H11: 10.5 | I11: =IFERROR(ROUND(Tbl_Comp_ZN[[#This Row],[COSTO TOTAL MENSUAL]]*Tbl_Comp_ZN[[#This Row],[TIEMPO MESES]],0),"") | J11: NIVEL CENTRAL/LOCAL
A12: 2.1 | B12: ENLACE DEDICADO SIMETRICO 1 Mbps | C12: 235 | D12: =VLOOKUP(Tbl_Comp_ZN[[#This Row],[Item]],'Valores Unitarios'!B:K,6,0) | E12: =VLOOKUP(Tbl_Comp_ZN[[#This Row],[Item]],'Valores Unitarios'!B:K,10,0) | F12: =IFERROR(Tbl_Comp_ZN[[#This Row],[SERVICIOS / CANTIDAD]]*Tbl_Comp_ZN[[#This Row],[COSTO INSTALACION]],"") | G12: =IFERROR(Tbl_Comp_ZN[[#This Row],[SERVICIOS / CANTIDAD]]*Tbl_Comp_ZN[[#This Row],[COSTO MENSUAL]],"") | H12: 10 | I12: =IFERROR(ROUND(Tbl_Comp_ZN[[#This Row],[COSTO TOTAL MENSUAL]]*Tbl_Comp_ZN[[#This Row],[TIEMPO MESES]],0),"") | J12: NIVEL CENTRAL
A13: 2.29 | B13: PUNTO DE CONCENTRACION SIMETRICO 200 MPBS | C13: 1 | D13: =VLOOKUP(Tbl_Comp_ZN[[#This Row],[Item]],'Valores Unitarios'!B:K,6,0) | E13: =VLOOKUP(Tbl_Comp_ZN[[#This Row],[Item]],'Valores Unitarios'!B:K,10,0) | F13: =IFERROR(Tbl_Comp_ZN[[#This Row],[SERVICIOS / CANTIDAD]]*Tbl_Comp_ZN[[#This Row],[COSTO INSTALACION]],"") | G13: =IFERROR(Tbl_Comp_ZN[[#This Row],[SERVICIOS / CANTIDAD]]*Tbl_Comp_ZN[[#This Row],[COSTO MENSUAL]],"") | H13: 10.5 | I13: =IFERROR(ROUND(Tbl_Comp_ZN[[#This Row],[COSTO TOTAL MENSUAL]]*Tbl_Comp_ZN[[#This Row],[TIEMPO MESES]],0),"") | J13: NIVEL CENTRAL
