Workbook
Name ASIGNACIÓN: #REF!
Name ASIGNACIÓN: #REF!
Name ASIGNACIÓN: 'TABLAS DE VALORACION'!#REF!
Name CLASE: #REF!
Name CLASE: #REF!
Name CLASE: 'TABLAS DE VALORACION'!#REF!
Name ETAPA: #REF!
Name ETAPA: #REF!
Name ETAPA: 'TABLAS DE VALORACION'!#REF!
Name FUENTE: #REF!
Name FUENTE: #REF!
Name FUENTE: 'TABLAS DE VALORACION'!#REF!
Name IMPACTO: #REF!
Name IMPACTO: #REF!
Name IMPACTO: 'TABLAS DE VALORACION'!#REF!
Name PROBABILIDAD: #REF!
Name PROBABILIDAD: #REF!
Name PROBABILIDAD: 'TABLAS DE VALORACION'!#REF!
Name TIPO: #REF!
Name TIPO: #REF!
Name TIPO: 'TABLAS DE VALORACION'!#REF!

Sheet INSTRUCCIONES
D2: PROCESO ADQUISICIÓN DE BIENES Y SERVICIOS FORMATO ANEXO FCT MATRIZ DE IDENTIFICACIÓN, VALORACIÓN Y ASIGNACIÓN DE RIESGOS | K2: Anexo 3.F1.P3.ABS | L2: 44860
K3: Versión 5 | L3: Pág. 1 de 1
K4: Clasificación de la Información: Pública
B7: Instrucciones para el diligenciamiento del anexo FCT- Matriz de identificación, valoración y asignación de riesgos
B9: Eliminar las hojas "INSTRUCCIONES" y "TABLAS DE VALORACIÓN" antes de remitir el anexo para revisión. No imprimir.
B10: La hoja "ANEXO RIESGOS", se remite en Excel para revisión pero se publica en SECOP en PDF.
B11: No. | C11: Nombre de columna / celda | E11: Columna / celda | F11: Lista desplegable | G11: Formulado | H11: Instrucción para el diligenciamiento
B12: 1 | C12: Denominación del bien o servicio | E12: H6 | F12: No | G12: No | H12: Este campo corresponde al numeral 1 de la FCT.
B13: 2 | C13: Anexo No. | E13: Y6 | F13: No | G13: No | H13: Indicar el numero que le corresponde al anexo de acuerdo con el listado del numeral 12 de la FCT.
B14: 3 | C14: Fecha | E14: Y7 | F14: No | G14: No | H14: Diligenciar la fecha en la que se elabora el anexo.
B15: 4 | C15: No. | E15: C | F15: No | G15: No | H15: Numeración consecutiva del riesgo desde 1.
B16: 5 | C16: Clase | E16: D | F16: Si | G16: No | H16: Seleccione de la lista desplegable: General/Específico, de acuerdo con la tabla de valoración No. 1
B17: 6 | C17: Fuente | E17: E | F17: Si | G17: No | H17: Seleccione de la lista desplegable: Interno/Externo, de acuerdo con la tabla de valoración No. 2
B18: 7 | C18: Etapa | E18: F | F18: Si | G18: No | H18: Seleccione de la lista desplegable: Planeación/Selección/Contratación/Ejecución, de acuerdo con la tabla de valoración No. 3
B19: 8 | C19: Tipo | E19: G | F19: Si | G19: No | H19: Seleccione de la lista desplegable: Económico/ Social o político/ Operacional/ Financiero/ Regulatorio/ De la naturaleza/ Ambiental/ Tecnológico, de acuerdo con la tabla de valoración No. 4
B20: 9 | C20: Descripción (Qué puede pasar y, cómo puede ocurrir) | E20: H | F20: No | G20: No | H20: Describir el Riesgo teniendo en cuenta los siguientes aspectos: (a) los eventos que impidan la adjudicación y firma del contrato como resultado del Proceso de Contratación; (b) los eventos que alteren la ejecución del contrato; (c) el equilibrio económico del contrato; (d) la eficacia del Proceso de Contratación, es decir, que la Entidad Estatal pueda satisfacer la necesidad que motivó el Proceso de Contratación; y (e) la reputación y legitimidad de la Entidad Estatal encargada de prestar el bien o servicio.
B21: 10 | C21: Consecuencia de la ocurrencia del evento | E21: I | F21: No | G21: No | H21: Describir las posibles consecuencias de la ocurrencia del evento.
B22: 11 | C22: Probabilidad | E22: J | F22: Si | G22: No | H22: Asignar una categoría a cada Riesgo de acuerdo con la probabilidad de ocurrencia así: raro, improbable, posible, probable y casi cierto y valorarlos de 1 a 5 siendo raro el de valor más bajo y casi cierto el de valor más alto, como se indica en la tabla de valoración No. 5.
B23: 12 | C23: Impacto | E23: K | F23: Si | G23: No | H23: Determinar el impacto del Riesgo, utilizando la tabla de valoración No. 6.
... B37: 26 | C37: Periodicidad | E37: Y | F37: Si | G37: No | H37: Definir la periodicidad del monitoreo, puede ser: Diaria/Semanal/Quincenal/Mensual/Bimestral/Trimestral/Cuatrimestral/Semestral/Anual/Permanente
B38: Nota: Cuando se trate de contrataciones mediante la TVEC, este anexo corresponde a la matriz de riesgos establecida por CCE para el respectivo IAD o AMP.

Sheet TABLAS DE VALORACION
C2: PROCESO ADQUISICIÓN DE BIENES Y SERVICIOS FORMATO ANEXO FCT MATRIZ DE IDENTIFICACIÓN, VALORACIÓN Y ASIGNACIÓN DE RIESGOS | N2: Anexo 3.F1.P3.ABS | O2: 44860
N3: Versión 5 | O3: Pág. 1 de 1
N4: Clasificación de la Información: Pública
B7: Instrucciones para el diligenciamiento - Tablas para valoración de riesgo según metodología de Colombia Compra Eficiente
B9: Eliminar esta hoja antes de remitir el anexo para revisión. No imprimir.
B11: Seleccione la opción de las listas desplegables en las columnas con títulos de color amarillo de acuerdo con las siguientes tablas.
B13: TABLA DE VALORACIÓN NO. 1 | E13: TABLA DE VALORACIÓN NO. 2 | I13: TABLA DE VALORACIÓN NO. 3
B14: Clase del Riesgo | C14: Descripción | E14: Fuente del Riesgo | F14: Descripción | I14: Etapa del proceso | J14: Desde | K14: Hasta | L14: Descripción
B16: General | C16: Es un Riesgo de todos los Procesos de Contratación adelantados por la Entidad Estatal, por lo cual está presente en toda su actividad contractual. | E16: Interno | F16: Es un Riesgo asociado a la operación, capacidad, o situación particular de la Entidad Estatal (reputacional, tecnológico). | I16: Planeación | J16: Plan anual de adquisición | K16: Acto de Apertura del Proceso de Contratación | L16: Durante esta etapa, la Entidad elabora los estudios previos y el proyecto de pliegos de condiciones o sus equivalentes. Dentro de las preguntas que la Entidad Estatal debe hacerse para identificar los Riesgos de la etapa de planeación se encuentran las siguientes: (i) La modalidad de contratación es adecuada para el bien servicio u obra necesitado. (ii) Los requisitos habilitantes son los apropiados para el Proceso de Contratación y es posible encontrar proponentes que los cumplan incluyendo los Riesgos relacionados con la habilidad para determinar requisitos habilitantes consistentes con el Proceso de Contratación y con el sector económico en el que actúan los posibles oferentes. (iii) El valor del contrato corresponde a los precios del mercado. (iv) La descripción del bien o servicio requerido es claro. (v) El Proceso de Contratación cuenta con las condiciones que garanticen la transparencia, equidad y competencia entre los proponentes. (vi) El estudio de mercado permite identificar los aspectos de oferta y demanda del mercado respectivo. (vii) El diseño del Proceso de Contratación permite satisfacer las necesidades de la Entidad Estatal, cumplir su misión y si es coherente con el cumplimiento de sus objetivos y metas.
B17: Específico | C17: Es un Riesgo propio del Proceso de Contratación objeto de análisis. | E17: Externo | F17: Es un Riesgo del sector del objeto del Proceso de Contratación, o asociado a asuntos no referidos a la Entidad Estatal (desastres económicos, existencia de monopolios, circunstancias electorales). | I17: Selección | J17: Acto de Apertura del Proceso de Contratación | K17: Adjudicación o la declaración de desierto del Proceso de Contratación | L17: En la etapa de selección la Entidad Estatal selecciona al contratista. En esta etapa los Riesgos frecuentes son los siguientes: (i) Falta de capacidad de la Entidad Estatal para promover y adelantar la selección del contratista, incluyendo el riesgo de seleccionar aquellos que no cumplan con la totalidad de los requisitos habilitantes o se encuentren incursos en alguna inhabilidad o incompatibilidad. (ii) Riesgo de colusión. (iii) Riesgo de ofertas artificialmente bajas.
I18: Contratación | J18: Adjudicación del contrato objeto del proceso de contratación | K18: Perfeccionamiento | L18: En esta etapa los Riesgos frecuentes son los siguientes: (i) Riesgo de que no se firme el contrato. (ii) Riesgo de que no se presenten las garantías requeridas en los Documentos del Proceso de Contratación o que su presentación sea tardía. (iii) Riesgos asociados al incumplimiento de la publicación o el registro presupuestal del contrato. (iv) Riesgos asociados a los reclamos de terceros sobre la selección del oferente que retrasen el perfeccionamiento del contrato.
I19: Ejecución | J19: Perfeccionamiento | K19: Vencimiento del plazo o acta de liquidación | L19: Esta etapa puede extenderse cuando hay lugar a garantías de calidad, estabilidad y mantenimiento, o a condiciones de disposición final o recuperación ambiental de las obras o bienes. En esta etapa se cumplen con las obligaciones previstas en el contrato, permitiendo el logro del objeto del Proceso de Contratación; en consecuencia los Riesgos frecuentes son los asociados al cumplimiento del contrato y el logro del objeto propuesto, el rompimiento del equilibrio económico del contrato, los asociados a la liquidación y terminación del contrato y aquellos relacionados con el incumplimiento de la normativa posconsumo.
B21: TABLA DE VALORACIÓN NO. 4 | G21: TABLA DE VALORACIÓN NO. 5 | J21: TABLA DE VALORACIÓN NO. 6
B22: Tipo de riesgo | C22: Descripción | G22: Probabilidad del Riesgo | J22: Impacto del riesgo
G23: Categoría | H23: Valoración | J23: Impacto
B24: Económicos | C24: Son los derivados del comportamiento del mercado, tales como la fluctuación de los precios de los insumos, desabastecimiento y especulación de los mismos, entre otros. | G24: Raro (puede ocurrir excepcionalmente) | H24: 1 | J24: Clasificación Cualitativa | K24: Obstruye la ejecución del contrato de manera intrascendente. | L24: Dificulta la ejecución del contrato de manera baja. Aplicando medidas mínimas se puede lograr el objeto contractual. | M24: Afecta la ejecución del contrato sin alterar el beneficio de las partes. | N24: Obstruye la ejecución del contrato sustancialmente per aun así permite la consecución del objeto contractual. | O24: Perturba la ejecución del contrato de manera grave imposibilitando la consecución del objeto contractual.
B25: Sociales o Políticos | C25: Son los derivados de los cambios de las políticas gubernamentales y de cambios en las condiciones sociales que tengan impacto en la ejecución del contrato. | G25: Improbable (puede ocurrir ocasionalmente) | H25: 2 | J25: Clasificación Monetaria | K25: Los sobrecostos no representan más del uno por ciento (1%) del valor del contrato. | L25: Los sobrecostos no representan más del cinco por ciento (5%) del valor del contrato. | M25: Genera un impacto sobre el valor del contrato entre el cinco (5%) y el quince por ciento (15%). | N25: Incrementa el valor del contrato entre el quince (15%) y el treinta por ciento (30%). | O25: Impacto sobre el valor del contrato de más del treinta por ciento (30%).
B26: Operacionales | C26: Son los asociados a la operatividad del contrato, tales como la suficiencia del presupuesto oficial, del plazo o los derivados de procesos, procedimientos, parámetros, sistemas de información y tecnológicos, equipos humanos o técnicos inadecuados o insuficientes. | G26: Posible (puede ocurrir en cualquier momento futuro) | H26: 3 | J26: Categoría | K26: Insignificante | L26: Menor | M26: Moderado | N26: Mayor | O26: Catastrófico
B27: Financieros | C27: Son (i) el riesgo de consecución de financiación o riesgo de liquidez para obtener recursos para cumplir con el objeto del contrato, y (ii) el riesgo de las condiciones financieras establecidas para la obtención de los recursos, tales como plazos, tasas, garantías, contragarantías, y refinanciaciones, entre otros. | G27: Probable (probablemente va a ocurrir) | H27: 4 | J27: Valoración | K27: 1 | L27: 2 | M27: 3 | N27: 4 | O27: 5
B28: Regulatorios | C28: Derivados de cambios regulatorios o reglamentarios que afecten la ecuación económica del contrato. | G28: Casi cierto (ocurre en la mayoría de circunstancias) | H28: 5
B29: De la Naturaleza | C29: Son los eventos naturales previsibles en los cuales no hay intervención humana que puedan tener impacto en la ejecución del contrato, por ejemplo los temblores, inundaciones, lluvias, sequías, entre otros. | J29: Responsable por implementar el tratamiento | K29: ICBF | M29: ¿Afecta la ejecución del contrato? | N29: Si
B30: Ambientales | C30: Son los derivados de las obligaciones legales o reglamentarias de carácter ambiental, así como de las licencias, planes de manejo o de permisos y autorizaciones ambientales, incluyendo tasas retributivas y compensatorias, obligaciones de mitigación, tareas de monitoreo y control, entre otras. | K30: Contratista | N30: No
B31: Tecnológicos | C31: Son los derivados de fallas en los sistemas de comunicación de voz y de datos, suspensión de servicios públicos, nuevos desarrollos tecnológicos o estándares que deben ser tenidos en cuenta para la ejecución del contrato, obsolescencia tecnológica | K31: ICBF y Contratista
M32: Periodicidad | N32: Diaria
N33: Semanal
N34: Quincenal
N35: Mensual
N36: Bimestral
N37: Trimestral
N38: Cuatrimestral
N39: Semestral
N40: Anual
N41: Permanente
B43: Valoración de riesgo según metodología de Colombia Compra Eficiente
E45: Valoración (combinación de probabilidad y valoración) | M45: Categoría del riesgo
E46: Impacto | M46: Valoración del riesgo | N46: Categoría
E47: Clasificación Cualitativa | G47: Obstruye la ejecución del contrato de manera intrascendente. | H47: Dificulta la ejecución del contrato de manera baja. Aplicando medidas mínimas se puede lograr el objeto contractual. | I47: Afecta la ejecución del contrato sin alterar el beneficio de las partes. | J47: Obstruye la ejecución del contrato sustancialmente per aun así permite la consecución del objeto contractual. | K47: Perturba la ejecución del contrato de manera grave imposibilitando la consecución del objeto contractual. | M47: 8,9,10 | N47: Riesgo Extremo
E48: Clasificación Monetaria | G48: Los sobrecostos no representan más del uno por ciento (1%) del valor del contrato. | H48: Los sobrecostos no representan más del cinco por ciento (5%) del valor del contrato. | I48: Genera un impacto sobre el valor del contrato entre el cinco (5%) y el quince por ciento (15%). | J48: Incrementa el valor del contrato entre el quince (15%) y el treinta por ciento (30%). | K48: Impacto sobre el valor del contrato de más del treinta por ciento (30%). | M48: 6 Y 7 | N48: Riesgo Alto
E49: Categoría | F49: Valoración | G49: Insignificante | H49: Menor | I49: Moderado | J49: Mayor | K49: Catastrófico | M49: 5 | N49: Riesgo Medio
G50: 1 | H50: 2 | I50: 3 | J50: 4 | K50: 5 | M50: 2,3 Y 4 | N50: Riesgo Bajo
...

Sheet ANEXO RIESGOS
B2: Denominación del bien o servicio | G2: Realizar la interventoría integral al contrato derivado del proceso cuyo objeto es “Realizar las adecuaciones y/o reparaciones locativas requeridas en el Centro de Desarrollo Infantil San Jose de Istmina ubicado en el municipio de Istmina en la dirección calle 10 No. 9 - 65 y en el Centro de Desarrollo Infantil Mis Primeros pasos ubicado en el municipio Cantón de San Pablo barrio Divino niño, infraestructuras donde el Instituto Colombiano de Bienestar Familiar (ICBF) presta el servicio de atención a la Primera Infancia ubicadas en el departamento del Chocó.”. | W2: Anexo # | X2: 3
W3: Fecha | X3: 45495
B4: Elaborado de conformidad con la metodología propuesta por la Agencia Nacional para la Contratación Pública – Colombia Compra Eficiente en el "Manual para la Identificación y Cobertura del Riesgo en los Procesos de Contratación".
B5: No. | C5: Clase | D5: Fuente | E5: Etapa | F5: Tipo | G5: Descripción (Qué puede pasar y, cómo puede ocurrir) | H5: Consecuencia de la ocurrencia del evento | I5: Probabilidad | J5: Impacto | K5: Valoración del riesgo | L5: Categoría | M5: ¿A quién se le asigna? | N5: Tratamiento/Controles a ser implementados | O5: Impacto después del tratamiento | S5: ¿Afecta la ejecución del contrato? | T5: Responsable por implementar el tratamiento | U5: A partir de cuando se inicia el tratamiento | V5: Cuando se completa el tratamiento | W5: Monitoreo y revisión
O6: Probabilidad | P6: Impacto | Q6: Valoración del riesgo | R6: Categoría | W6: ¿Cómo se realiza el monitoreo? | X6: Periodicidad
B7: 1 | C7: General | D7: Interno | E7: Planeación | F7: Riesgos Operacionales | G7: Demoras presentadas en la formulación, ajuste y aprobación de los documentos requeridos en la etapa precontractual del proyecto. | H7: Retrasos en el desarrollo del proceso de contratación. Retraso en el desarrollo del proyecto. | I7: 2=Improbable | J7: 3= Moderado | K7: =IFERROR(MID(I7,1,1)+MID(J7,1,1),"") -> 5 | L7: =IF(K7="","",IF(OR(K7=2,K7=3,K7=4),'TABLAS DE VALORACION'!$N$50,IF(K7=5,'TABLAS DE VALORACION'!$N$49,IF(OR(K7=6,K7=7),'TABLAS DE VALORACION'!$N$48,IF(OR(K7=8,K7=9,K7=10),'TABLAS DE VALORACION'!$N$47))))) -> Riesgo Medio | M7: ICBF | N7: Realizar cronograma para la contratación teniendo en cuenta los tiempos definidos en el titulo 3 del Manual de Contratación de la Entidad y en las normatividad vigente para garantizar el inicio oportuno de la ejecución. Articular las áreas involucradas en el proceso para definir tareas y tiempos. | O7: 1=Raro | P7: 2= Menor | Q7: =IFERROR(MID(O7,1,1)+MID(P7,1,1),"") -> 3 | R7: =IF(Q7="","",IF(OR(Q7=2,Q7=3,Q7=4),'TABLAS DE VALORACION'!$N$50,IF(Q7=5,'TABLAS DE VALORACION'!$N$49,IF(OR(Q7=6,Q7=7),'TABLAS DE VALORACION'!$N$48,IF(OR(Q7=8,Q7=9,Q7=10),'TABLAS DE VALORACION'!$N$47))))) -> Riesgo Bajo | S7: Si | T7: ICBF | U7: Desde la inclusión de la contratación en el Plan Anual de Adquisición | V7: Hasta la adjudicación | W7: Seguimiento al cumplimiento del cronograma de procesos de contratación de la Entidad y de los tiempos definidos en el Manual de Contratación. | X7: Semanal
B8: =+B7+1 -> 2 | C8: General | D8: Interno | E8: Planeación | F8: Riesgos Operacionales | G8: Demora para el inicio de la ejecución de las actividades de obra, por declaración de desierto del proceso de obra requerido para la ejecución de los proyectos. | H8: Suspensión del proceso de interventoría Retraso en el desarrollo de la contratación | I8: 2=Improbable | J8: 3= Moderado | K8: =IFERROR(MID(I8,1,1)+MID(J8,1,1),"") -> 5 | L8: =IF(K8="","",IF(OR(K8=2,K8=3,K8=4),'TABLAS DE VALORACION'!$N$50,IF(K8=5,'TABLAS DE VALORACION'!$N$49,IF(OR(K8=6,K8=7),'TABLAS DE VALORACION'!$N$48,IF(OR(K8=8,K8=9,K8=10),'TABLAS DE VALORACION'!$N$47))))) -> Riesgo Medio | M8: ICBF | N8: Realizar estudios previos, de costos y precios del mercado ajustados a la realidad del proyecto, y a la logística requerida para su ejecución, garantizando los principios de pluralidad de oferentes y selección objetiva. | O8: 2=Improbable | P8: 2= Menor | Q8: =IFERROR(MID(O8,1,1)+MID(P8,1,1),"") -> 4 | R8: =IF(Q8="","",IF(OR(Q8=2,Q8=3,Q8=4),'TABLAS DE VALORACION'!$N$50,IF(Q8=5,'TABLAS DE VALORACION'!$N$49,IF(OR(Q8=6,Q8=7),'TABLAS DE VALORACION'!$N$48,IF(OR(Q8=8,Q8=9,Q8=10),'TABLAS DE VALORACION'!$N$47))))) -> Riesgo Bajo | S8: Si | T8: ICBF | U8: Desde la etapa de planeación | V8: Hasta la ejecución del contrato | W8: Verificación y seguimiento durante todo el proceso. | X8: En la etapa de estructuración del proceso y durante su desarrollo.
B9: =+B8+1 -> 3 | C9: Específico | D9: Externo | E9: Selección | F9: Riesgos Operacionales | G9: Que no se presente el oferente al proceso de selección de Interventoría. | H9: Declaratoria de desierto del proceso de Interventoría. | I9: 3=Posible | J9: 3= Moderado | K9: =IFERROR(MID(I9,1,1)+MID(J9,1,1),"") -> 6 | L9: =IF(K9="","",IF(OR(K9=2,K9=3,K9=4),'TABLAS DE VALORACION'!$N$50,IF(K9=5,'TABLAS DE VALORACION'!$N$49,IF(OR(K9=6,K9=7),'TABLAS DE VALORACION'!$N$48,IF(OR(K9=8,K9=9,K9=10),'TABLAS DE VALORACION'!$N$47))))) -> Riesgo Alto | M9: ICBF | N9: Planeación disponibilidad de recursos y estricto estudio de mercado y del sector. Determinación de requisitos habilitantes y ponderables proporcionales al proceso de contratación. | O9: 3=Posible | P9: 2= Menor | Q9: =IFERROR(MID(O9,1,1)+MID(P9,1,1),"") -> 5 | R9: =IF(Q9="","",IF(OR(Q9=2,Q9=3,Q9=4),'TABLAS DE VALORACION'!$N$50,IF(Q9=5,'TABLAS DE VALORACION'!$N$49,IF(OR(Q9=6,Q9=7),'TABLAS DE VALORACION'!$N$48,IF(OR(Q9=8,Q9=9,Q9=10),'TABLAS DE VALORACION'!$N$47))))) -> Riesgo Medio | S9: No | T9: ICBF | U9: Desde la elaboración de Estudios Previos | V9: Hasta la expedición de adendas. | W9: Una vez se aprueben los Estudios Previos | X9: Una vez se publique el proceso
B10: =+B9+1 -> 4 | C10: Específico | D10: Externo | E10: Selección | F10: Riesgos Operacionales | G10: Falsedad en los documentos que conforman la oferta de la interventoría. | H10: Declaratoria de desierto del proceso de interventoría. | I10: 3=Posible | J10: 2= Menor | K10: =IFERROR(MID(I10,1,1)+MID(J10,1,1),"") -> 5 | L10: =IF(K10="","",IF(OR(K10=2,K10=3,K10=4),'TABLAS DE VALORACION'!$N$50,IF(K10=5,'TABLAS DE VALORACION'!$N$49,IF(OR(K10=6,K10=7),'TABLAS DE VALORACION'!$N$48,IF(OR(K10=8,K10=9,K10=10),'TABLAS DE VALORACION'!$N$47))))) -> Riesgo Medio | M10: Contratista | N10: Verificación Estricta de los documentos que conforman la oferta por parte del comité evaluador | O10: 2=Improbable | P10: 2= Menor | Q10: =IFERROR(MID(O10,1,1)+MID(P10,1,1),"") -> 4 | R10: =IF(Q10="","",IF(OR(Q10=2,Q10=3,Q10=4),'TABLAS DE VALORACION'!$N$50,IF(Q10=5,'TABLAS DE VALORACION'!$N$49,IF(OR(Q10=6,Q10=7),'TABLAS DE VALORACION'!$N$48,IF(OR(Q10=8,Q10=9,Q10=10),'TABLAS DE VALORACION'!$N$47))))) -> Riesgo Bajo | S10: No | T10: ICBF | U10: Evaluación de propuestas | V10: Hasta la adjudicación del proceso de interventoría. | W10: Informe Final de evaluación de propuestas y verificación de observaciones. | X10: Durante la evaluación y adjudicación.
B11: =+B10+1 -> 5 | C11: General | D11: Externo | E11: Contratación | F11: Riesgos Operacionales | G11: Demora en los tramites de perfeccionamiento y ejecución del contrato, dilatando de este modo el inicio de la ejecución del proyecto. | H11: Imposibilidad de dar inicio a la ejecución del contrato al no cumplir los requisitos legales exigidos para tal fin. | I11: 3=Posible | J11: 2= Menor | K11: =IFERROR(MID(I11,1,1)+MID(J11,1,1),"") -> 5 | L11: =IF(K11="","",IF(OR(K11=2,K11=3,K11=4),'TABLAS DE VALORACION'!$N$50,IF(K11=5,'TABLAS DE VALORACION'!$N$49,IF(OR(K11=6,K11=7),'TABLAS DE VALORACION'!$N$48,IF(OR(K11=8,K11=9,K11=10),'TABLAS DE VALORACION'!$N$47))))) -> Riesgo Medio | M11: Contratista | N11: Requerir la póliza de seriedad de oferta. | O11: 2=Improbable | P11: 2= Menor | Q11: =IFERROR(MID(O11,1,1)+MID(P11,1,1),"") -> 4 | R11: =IF(Q11="","",IF(OR(Q11=2,Q11=3,Q11=4),'TABLAS DE VALORACION'!$N$50,IF(Q11=5,'TABLAS DE VALORACION'!$N$49,IF(OR(Q11=6,Q11=7),'TABLAS DE VALORACION'!$N$48,IF(OR(Q11=8,Q11=9,Q11=10),'TABLAS DE VALORACION'!$N$47))))) -> Riesgo Bajo | S11: Si | T11: Contratista | U11: Desde la Adjudicación | V11: Hasta el perfeccionamiento del contrato | W11: Seguimiento y requerimiento al contratista que le fue adjudicada la propuesta. | X11: En etapa de ejecución del contrato
B12: =+B11+1 -> 6 | C12: Específico | D12: Externo | E12: Ejecución | F12: Riesgos Operacionales | G12: Hurto y daños en los equipos y suministros de oficina, herramientas, equipos de medición para control de actividades de obra, dotación del personal de interventoría, almacenados en las oficinas y campamentos del interventor. | H12: Atraso en la ejecución de las actividades de seguimiento y control a los frentes de obra en ejecución. Demora en la emisión de informes de avance del proyecto. Pérdida de información relacionada con la ejecución del contrato. Proceso de responsabilidad fiscal y/o penal de los bienes hurtados | I12: 1=Raro | J12: 3= Moderado | K12: =IFERROR(MID(I12,1,1)+MID(J12,1,1),"") -> 4 | L12: =IF(K12="","",IF(OR(K12=2,K12=3,K12=4),'TABLAS DE VALORACION'!$N$50,IF(K12=5,'TABLAS DE VALORACION'!$N$49,IF(OR(K12=6,K12=7),'TABLAS DE VALORACION'!$N$48,IF(OR(K12=8,K12=9,K12=10),'TABLAS DE VALORACION'!$N$47))))) -> Riesgo Bajo | M12: Contratista | N12: Verificación de los elementos de acuerdo al caso y realizar reposición por parte del contratista de interventoría. | O12: 1=Raro | P12: 2= Menor | Q12: =IFERROR(MID(O12,1,1)+MID(P12,1,1),"") -> 3 | R12: =IF(Q12="","",IF(OR(Q12=2,Q12=3,Q12=4),'TABLAS DE VALORACION'!$N$50,IF(Q12=5,'TABLAS DE VALORACION'!$N$49,IF(OR(Q12=6,Q12=7),'TABLAS DE VALORACION'!$N$48,IF(OR(Q12=8,Q12=9,Q12=10),'TABLAS DE VALORACION'!$N$47))))) -> Riesgo Bajo | S12: Si | T12: Contratista | U12: Desde el inicio de la ejecución del contrato | V12: Hasta la finalización de la ejecución del contrato | W12: Verificación de condiciones de seguridad en sitio por parte del Contratista | X12: Permanente
B13: =+B12+1 -> 7 | C13: Específico | D13: Externo | E13: Ejecución | F13: Riesgos Operacionales | G13: No presencia de personal idóneo requerido en el proyecto para la ejecución de actividades requeridas por parte de la interventoría. | H13: El oferente deberá mantener a disponibilidad del proyecto el personal idóneo en el momento requerido para la ejecución del contrato. | I13: 3=Posible | J13: 3= Moderado | K13: =IFERROR(MID(I13,1,1)+MID(J13,1,1),"") -> 6 | L13: =IF(K13="","",IF(OR(K13=2,K13=3,K13=4),'TABLAS DE VALORACION'!$N$50,IF(K13=5,'TABLAS DE VALORACION'!$N$49,IF(OR(K13=6,K13=7),'TABLAS DE VALORACION'!$N$48,IF(OR(K13=8,K13=9,K13=10),'TABLAS DE VALORACION'!$N$47))))) -> Riesgo Alto | M13: Contratista | N13: Reducir las consecuencias a través de planes de contingencia y tener dispuesto un equipo de trabajo que pueda atender las necesidades que se presenten | O13: 2=Improbable | P13: 2= Menor | Q13: =IFERROR(MID(O13,1,1)+MID(P13,1,1),"") -> 4 | R13: =IF(Q13="","",IF(OR(Q13=2,Q13=3,Q13=4),'TABLAS DE VALORACION'!$N$50,IF(Q13=5,'TABLAS DE VALORACION'!$N$49,IF(OR(Q13=6,Q13=7),'TABLAS DE VALORACION'!$N$48,IF(OR(Q13=8,Q13=9,Q13=10),'TABLAS DE VALORACION'!$N$47))))) -> Riesgo Bajo | S13: Si | T13: Contratista | U13: Desde la Planeación de la oferta | V13: Hasta la terminación del contrato | W13: Verificación de los informes de interventoría, visitas al proyecto. | X13: Semanal
B14: =+B13+1 -> 8 | C14: Específico | D14: Externo | E14: Ejecución | F14: Riesgos Operacionales | G14: Fallas por parte de la interventoría en la coordinación de actividades a ejecutar con el contratista de obra. | H14: Atraso en el inicio de ejecución de actividades de obra, revisión de actividades ejecutadas, medición de cantidades de obra para elaboración de cortes de obra y pagos, modificaciones a los contratos (otro sí), y elaboración y entrega de informes. | I14: 3=Posible | J14: 2= Menor | K14: =IFERROR(MID(I14,1,1)+MID(J14,1,1),"") -> 5 | L14: =IF(K14="","",IF(OR(K14=2,K14=3,K14=4),'TABLAS DE VALORACION'!$N$50,IF(K14=5,'TABLAS DE VALORACION'!$N$49,IF(OR(K14=6,K14=7),'TABLAS DE VALORACION'!$N$48,IF(OR(K14=8,K14=9,K14=10),'TABLAS DE VALORACION'!$N$47))))) -> Riesgo Medio | M14: Contratista | N14: Constante comunicación entre el contratista de obra e interventoría. | O14: 2=Improbable | P14: 2= Menor | Q14: =IFERROR(MID(O14,1,1)+MID(P14,1,1),"") -> 4 | R14: =IF(Q14="","",IF(OR(Q14=2,Q14=3,Q14=4),'TABLAS DE VALORACION'!$N$50,IF(Q14=5,'TABLAS DE VALORACION'!$N$49,IF(OR(Q14=6,Q14=7),'TABLAS DE VALORACION'!$N$48,IF(OR(Q14=8,Q14=9,Q14=10),'TABLAS DE VALORACION'!$N$47))))) -> Riesgo Bajo | S14: Si | T14: Contratista | U14: Desde el inicio de la ejecución del contrato | V14: Hasta la terminación del contrato. | W14: canalizar la información en los comités de seguimiento. | X14: Semanal
B15: =+B14+1 -> 9 | C15: General | D15: Externo | E15: Ejecución | F15: Riesgos de la naturaleza | G15: Eventos generados por políticas de carácter público con el fin de mitigar afectaciones por emergencias sanitarias. | H15: - Suspensión o terminación anticipada del contrato. - Retrasos en la ejecución del objeto contractual. - Reserva presupuestal. - Toques de queda y trabajo en casa. - Incentivo de trabajo remoto. - Imposibilidad de acceder a información institucional. - Imposibilidad de acceso. - Desabastecimiento. | I15: 4=Probable | J15: 4= Mayor | K15: =IFERROR(MID(I15,1,1)+MID(J15,1,1),"") -> 8 | L15: Riesgo Extremo | M15: Contratista | N15: 1. Incluir en los documentos técnicos los escenarios en los que el ICBF puede modificar, suspender o dar por terminado el contrato de manera unilateral. 2. Incluir en los documentos técnicos la obligación del contratista de estar al día en los pagos en seguridad social de sus colaboradores. 3. Incluir dentro de las obligaciones del contratista el implementar los protocolos establecidos en la normatividad vigente. | O15: 3=Posible | P15: 2=Menor | Q15: =IFERROR(MID(O15,1,1)+MID(P15,1,1),"") -> 5 | R15: Riesgo Medio | S15: SI | T15: Contratista | U15: Elaboración de los documentos técnicos. | V15: Finalización del contrato | W15: 1. Verificar la inclusión de los escenarios en los documentos técnicos. 2. Solicitar periódicamente el comprobante de pago de prestaciones sociales de los colaboradores. 3. Incluir en los documentos técnicos la normativa que regula los protocolos para mitigar las afectaciones por emergencias sanitarias. | X15: 1 y 3. Una vez, en la aprobación de documentos técnicos. 2. De acuerdo a como lo estipule la FCT.
B16: =+B15+1 -> 10 | C16: Específico | D16: Externo | E16: Ejecución | F16: Riesgos Operacionales | G16: Accidentes laborales de personal adscrito al contratista de interventoría en el frente de trabajo definido. | H16: Retrasos en la ejecución del contrato por reemplazo de personal. Carga económica del accidente a cargo del Interventor. | I16: 3=Posible | J16: 2= Menor | K16: =IFERROR(MID(I16,1,1)+MID(J16,1,1),"") -> 5 | L16: Riesgo Medio | M16: Contratista | N16: Obligación por parte del contratista en garantizar el pago y seguimiento de las afiliaciones del personal a los sistemas obligatorios de salud con el tipo de riesgo adecuado para las actividades a ejecutar. Durante la ejecución del contrato proporcionar los elementos de dotación y protección personal requeridos, capacitar al personal para que cuenten con la idoneidad y competencia en el manejo de equipos, herramientas e insumos; identificar peligros, valoración de riesgos y determinación de controles documentados, en el marco de la Seguridad y Salud en el trabajo. | O16: 2=Improbable | P16: 2= Menor | Q16: =IFERROR(MID(O16,1,1)+MID(P16,1,1),"") -> 4 | R16: Riesgo Bajo | S16: Si | T16: Contratista | U16: Desde el inicio de la ejecución del contrato | V16: Hasta la finalización de la ejecución del contrato | W16: Verificación de los informes, certificados de afiliación y pago de aportes a seguridad social y ARL por parte de la interventoría, visitas al proyecto. | X16: Semanal
B17: =+B16+1 -> 11 | C17: General | D17: Externo | E17: Ejecución | F17: Riesgos de la Naturaleza | G17: Afectación a la ejecución del contrato debido a ubicación geográfica y condiciones climáticas de la zona o región | H17: Retraso en la ejecución de los trabajos en el proyecto de acuerdo al cronograma establecido. | I17: 2=Improbable | J17: 3= Moderado | K17: =IFERROR(MID(I17,1,1)+MID(J17,1,1),"") -> 5 | L17: Riesgo Medio | M17: Contratista | N17: Mantener comunicación con las autoridades locales (Defensa Civil, Cruz Roja), la Oficina de Prevención y Desastres para conocer sobre las condiciones climáticas de la zona priorizada para tomar decisiones y tener alertas tempranas. | O17: 1=Raro | P17: 2= Menor | Q17: =IFERROR(MID(O17,1,1)+MID(P17,1,1),"") -> 3 | R17: Riesgo Bajo | S17: Si | T17: ICBF y Contratista | U17: Al momento de conocer sobre las condiciones climáticas de la zona y comunicaciones de autoridades locales. | V17: Hasta la finalización del contrato | W17: Visitas, comunicaciones de autoridades locales y seguimiento en Comités. | X17: Semanal
