Workbook
Name contratación: 'IDENTIFICACION Y ANALISIS'!$B$39:$B$43
Name ejecución: 'IDENTIFICACION Y ANALISIS'!$B$45:$B$58
Name OPCIONES: 'ASIGNACION Y TRATAMIENTO'!$B$52:$B$54
Name planeación: 'IDENTIFICACION Y ANALISIS'!$B$19:$B$29
Name selección: 'IDENTIFICACION Y ANALISIS'!$B$31:$B$37

Sheet CONTEXTO
C2: MATRIZ DE RIESGOS EN CONTRATACIÓN | F2: Código: GCO-GCI-F164 Versión: 02 Vigencia: 01 de diciembre de 2022 Caso HOLA: 280117
B6: ESTABLECER EL CONTEXTO
B7: El punto inicial es identificar el contexto en el cual interactúa la Entidad Estatal para conocer el ambiente social, económico y político, e identificar (i) sus propios Riesgos; (ii) los Riesgos comunes a sus Procesos de Contratación; y (iii) los Riesgos del Proceso de Contratación en particular. (Aplica igual para contratos interadministrativos) En este paso la Entidad Estatal debe identificar los aspectos que se mencionan a continuación y los posibles efectos adversos que estos pueden generar.
B8: Objeto del Proceso de Contratación: Gestionar e implementar acciones y procesos de prevención de violencia en el contexto familiar, sexual y otras vulneraciones, así como la promoción de los derechos de las niñas, los niños, adolescentes y las familias de la localidad de Los Mártires. DEL PROYECTO 2077 “TERRITORIOS DIVERSOS Y LIBRES DE VIOLENCIA
B9: Partícipes del Proceso de Contratación: Alcaldia Local de Los Martires, ciudadania de la localidad de los martires, empresas como posibles oferentes: XXXXXXXXXXXXXXXXXXXXXXXXXXXXXXXXXXXXXXX
B10: Ciudadanía que se beneficia del Proceso de Contratación: Comunidad de puntos con alto indice de vulnerabilidad y de riesgo de violencia en los sectores en los que se identifiquen problemáticas asociadas con violencia intrafamiliar y/o sexual en la Localidad de Los Mártires.
B11: Capacidad de la Entidad Estatal entendida como la disponibilidad de recursos y conocimientos para el Proceso de Contratación: La disponibilidad de la Entidad de sus recursos y el conocimiento de su equipo humano se refleja en los diferentes funcionarios que participarán en las diversas etapas del proceso de selección: participan las áreas que requieren los procesos de contratación (Etapa de Planeación), Dirección de Contratación, Comité Evaluador (Etapa de selección), Dirección de Contratación (Etapa de contratación) y la supervisión y apoyos a la misma (Estapa de Ejecución).
B12: Suficiencia del presupuesto oficial del Proceso de Contratación: De acuerdo al Plan Anual de Adquisiciones se deben estimar los recursos necesarios para el desarrollo del proceso de la contratación, el cual tendrá el soporte presupuestal suficiente para su desarrollo.
B13: Condiciones geográficas y de acceso del lugar en el cual se debe cumplir el objeto del Proceso de Contratación: El suministro, obra o servicio se prestará principalmente en las Sedes de la Entidad, o en el lugar indicado en los estudios previos del proceso.
B14: Entorno socio ambiental: El presente proceso se desarrollará en toda la localidad de Los Mártires, enfocado en algunos puntos de alto riesgo de violencia intrafamiliar, por lo tanto el oferente debe tener en cuenta que los elementos y/o bienes se entregarán en dichos puntos, por lo tanto se deben contemplar todas las medidas de seguridad para el transporte y entrega de los mismos, los cuales estaran a cargo del futuro contratista.
B15: Condiciones políticas: N/A
B16: Factores ambientales: El contratista debe manejar normas ambientales para el destino final de los residuos que así lo requieran.
B17: Sector del objeto del Proceso de Contratación y su mercado: Contratación por suministro de elementos y servicios asociados a: Suministros de oficina Actividades artísticas, Servicios de Alimentación; de entretenimiento y recreación y otras actividades de servicios y a la actividad de Comercio al por mayor y al por menor con relación a Servicios Editoriales, de Diseño, de Artes Gráficas y Bellas Artes; Servicios Políticos y de Asuntos Cívicos (cultura) y Materiales de Enseñanza de Prevención de la Violencia o de Educación para la Evasión de la Violencia; para el desarrollo de acciones relacionadas con orientación, formación o sensibilización a personas en prevención de violencia intrafamiliar y/o violencia sexual en el marco del proyecto 2077 “territorios diversos y libres de violencia" en la localidad de Los Mártires
... B19: Experiencia propia y de otras Entidades Estatales en Procesos de Contratación del mismo tipo: Se ha realizado la búsqueda mediante la plataforma SECOPII de procesos similares en otras entidades bajo la modalidad de mínima cuantía y por descripción “Violencia”, se encontró que de las 6 entidades relacionadas 3 contrataron bajo tipología de suministro, 2 por prestación de servicios y 1 por consultoría.

Sheet IDENTIFICACION Y ANALISIS
C2: MATRIZ DE RIESGOS DE CONTRATACIÓN | F2: Código: GCO-GCI-F164 Versión: 02 Vigencia: 01 de diciembre de 2022 Caso HOLA: 280117
B6: DEFINICIONES
B7: RIESGO: Evento que puede generar efectos adversos y de distinta magnitud en el logro de los objetivos del Proceso de Contratación o en la ejecución de un contrato RIESGOS PREVISIBLES: Son los posibles hechos o circunstancias que por la naturaleza del contrato y de la actividad a ejecutar es factible su ocurrencia. ETAPA DE PLANEACIÓN: Está comprendida desde el momento en que se identifican las necesidades que debe satisfacer la Secretaría Distrital de Gobierno y los Fondos de Desarrollo Local, a través del abastecimiento de bienes, obras o servicios, la elaboración del Plan Anual de Adquisiciones y la estructuración de los documentos y estudios previos. ETAPA DE SELECCIÓN: Está comprendida entre el acto de Apertura del Proceso de Contratación y la Adjudicación o la declaración de desierto del Proceso de Contratación ETAPA DE CONTRATACIÓN: Una vez adjudicado el contrato objeto del Proceso de Contratación, inicia la etapa para la celebración del contrato y el cumplimiento de los requisitos para de perfeccionamiento y ejecución. ETAPA DE EJECUCIÓN: Inicia una vez cumplidos los requisitos previstos para iniciar la ejecución del contrato respectivo y termina con el vencimiento del plazo del contrato o la fecha de liquidación si hay lugar a ella. RIESGO GENERAL: Es un riesgo de todos los procesos de contratación adelantados por la Entidad Estatal, por lo cual está presente en toda su actividad contractual. RIEGO ESPECIFICO: Es un riesgo propio del proceso de contratación objeto de análisis. RIESGOS ECONÓMICOS: Son los derivados del comportamiento del mercado, tales como la fluctuación de los precios de los insumos, desabastecimiento y especulación de los mismos, entre otros. RIESGOS SOCIALES O POLÍTICOS: son los derivados de los cambios de las políticas gubernamentales y de cambios en las condiciones sociales que tengan impacto en la ejecución del contrato. RIESGOS OPERACIONALES: Son los asociados a la operatividad del contrato, tales como la suficiencia del presupuesto oficial, del plazo o los derivados de procesos, procedimientos, parámetros, sistemas de información y tecnológicos, equipos humanos o técnicos inadecuados o insuficientes. RIESGOS FINANCIEROS: Son (i) el riesgo de consecución de financiación o riesgo de liquidez para obtener recursos para cumplir con el objeto del contrato, y (ii) el riesgo de las condiciones financieras establecidas para la obtención de los recursos, tales como plazos, tasas, garantías, contragarantías, y refinanciaciones, entre otros. RIESGOS REGULATORIOS: Derivados de cambios regulatorios o reglamentarios que afecten la ecuación económica del contrato. RIESGOS DE LA NATURALEZA: Son los eventos naturales previsibles en los cuales no hay intervención humana que puedan tener impacto en la ejecución del contrato, por ejemplo los temblores, inundaciones, lluvias, sequías, entre otros. RIESGOS AMBIENTALES: Son los derivados de las obligaciones legales o reglamentarias de carácter ambiental, así como de las licencias, planes de manejo o de permisos y autorizaciones ambientales, incluyendo tasas retributivas y compensatorias, obligaciones de mitigación, tareas de monitoreo y control, entre otras. RIESGOS TECNOLÓGICOS: Son los derivados de fallas en los sistemas de comunicación de voz y de datos, suspensión de servicios públicos, nuevos desarrollos tecnológicos o estándares que deben ser tenidos en cuenta para la ejecución del contrato, obsolescencia tecnológica.
B15: INSTRUCCIONES PARA LA IDENTIFICACIÓN, ANALISIS, EVALUACIÓN , ASIGNACIÓN Y TRATAMIENTO DE RIESGOS EN LA CONTRATACIÓN
B16: 1) Teniendo en cuenta la modalidad y el monto del presente proceso se estiman los siguientes riesgos, teniendo en cuenta la guia de Colombia Compra Eficiente y la guia de la Veeduria Distrital
C17: ETAPAS | D17: CLASE | E17: FUENTE | F17: TIPO
C18: PLANEACIÓN
B19: Inadecuada escogencia de la modalidad de contratación | D19: General | E19: Interno | F19: Operacionales
B20: Requisitos habilitantes inapropiados para el proceso de selección | D20: General | E20: Interno | F20: Operacionales
B21: Inadecuado análisis económico estimativo del valor del contrato | D21: General | E21: Interno | F21: Economicos
B22: Inadecuada descripción del bien o servicio requerido | D22: General | E22: Interno | F22: Operacionales
B23: Inadecuada elaboración de estudios y diseños | D23: General | E23: Interno | F23: Operacionales
B24: Requisitos habilitantes que impidan la selección objetiva | D24: General | E24: Interno | F24: Operacionales
B25: Falta de profundidad en el estudio de sector no identificandose claramente aspectos de oferta y demanda | D25: General | E25: Interno | F25: Economicos
B26: Ausencia de fundamentación de la justificación y conveniencia de la contratación | D26: General | E26: Interno | F26: Operacionales
B27: Inadecuada identificación de las condiciones contractuales | D27: General | E27: Interno | F27: Operacionales
C30: SELECCIÓN
B31: Inadecuada evaluación de las ofertas y/o verificación de requisitos habilitantes | D31: General | E31: Interno | F31: Operacionales
B32: Inadecuado manejo administrativo del proceso contractual | D32: General | E32: Interno | F32: Operacionales
B33: Falta de claridad en la elaboración de los actos administrativos | D33: General | E33: Interno | F33: Operacionales
B34: Contestación inoportuna a todas las observaciones formuladas a los documentos de la contratación | D34: General | E34: Interno | F34: Operacionales
B35: No publicación de la documentación del proceso de selección en el SECOP | D35: General | E35: Interno | F35: Operacionales
B36: Confabulacion de los proponentes (Colusión) | D36: General | E36: Externo | F36: Operacionales
C38: CONTRATACIÓN
B39: Riesgo de que no se firme el contrato. | D39: General | E39: Interno | F39: Operacionales
B40: Falta de constitución o constitución tardía de la garantía única. Aceptación de garantías que no se ajustan a lo contemplado en el contrato | D40: General | E40: Externo | F40: Operacionales
B41: Falta de solicitud o solicitud tardía del registro presupuestal | D41: General | E41: Interno | F41: Operacionales
B42: No publicación de la documentación del proceso de selección en el SECOP | D42: General | E42: Interno | F42: Operacionales
F43: Operacionales
C44: EJECUCIÓN
B45: Fluctuaciones del valor de la moneda | D45: General | E45: Externo | F45: Economicos
B46: Variación de los precios del mercado | D46: General | E46: Externo | F46: Economicos
B47: Cancelación de pedidos. | D47: General | E47: Externo | F47: Economicos
B48: Variación en la disponibilidad o en el costo de los insumos necesarios para prestar los servicios. | D48: General | E48: Externo | F48: Sociales o Políticos
B49: Daños a los bienes | D49: General | E49: Externo | F49: Economicos
B50: Incumplimiento de la administración en los pagos. | D50: General | E50: Externo | F50: Economicos
B51: Imposición de nuevos tributos | D51: General | E51: Externo | F51: Economicos
B52: Imposición de nuevos trámites o permisos | D52: General | E52: Externo | F52: Economicos
B53: Cambios en el marco regulatorio o normatividad aplicable al proyecto. | D53: General | E53: Externo | F53: Operacionales
B54: Demora en el inicio previsto para la ejecución | D54: General | E54: Externo | F54: Operacionales
...

Sheet EVALUACION
C2: MATRIZ DE RIESGOS DE CONTRATACIÓN | K2: Código: GCO-GCI-F164 Versión: 02 Vigencia: 01 de diciembre de 2022 Caso HOLA: 280117
B6: Objeto Contractual: Gestionar e implementar acciones y procesos de prevención de violencia en el contexto familiar, sexual y otras vulneraciones, así como la promoción de los derechos de las niñas, los niños, adolescentes y las familias de la localidad de Los Mártires.
B7: INSTRUCCIONES PARA LA IDENTIFICACIÓN, ANALISIS, EVALUACIÓN , ASIGNACIÓN Y TRATAMIENTO DE RIESGOS EN LA CONTRATACIÓN
B8: 1) Diligencie el objeto contractual y seleccione la(s) etapas y los riesgos que aplican al objeto contractual, de acuerdo a lo definido en la hoja de "IDENTIFICACIÓN Y ANÁLISIS"
B9: 2) Describa las consecuencias de la ocurrencia del Riesgo/evento.
B10: 3) Asigne la probabilidad de ocurrencia del riesgo, de conformidad con la tabla de probabilidad y la valoración del riesgo (Cualitativa o Monetaria)
B11: 4) Asigne el impacto que generaría la materialización del riesgo, de conformidad con la tabla de impacto y la valoración del riesgo (Cualitativa o Monetaria)
B12: 5) Al realizar las anteriores actividades se obtendrá la calificación total y la valoración del riesgo (prioridad).
B13: 6) Continúe en la hoja de "EVALUACIÓN DE CONTROLES"
B15: CALIFICACIÓN | H15: Cualitativa
B16: ETAPA | C16: Descripción (Que puede pasar y, cómo puede ocurrir) | H16: Consecuencias de la ocurrencia del evento | I16: Probabilidad de Ocurrencia | J16: Impacto | K16: Calificación Total | L16: Prioridad
B17: PLANEACIÓN | C17: Requisitos habilitantes inapropiados para el proceso de selección | H17: Demora o incumplimiento de los plazos legales para la publicación de los actos y/o documentos derivados de los procesos contractuales | I17: 2 | J17: 4 | K17: =I17+J17 -> 6 | L17: =IF(K17<=4,"BAJO",IF(K17=5,"MEDIO",IF(K17=6,"ALTO",IF(K17=7,"ALTO","EXTREMO")))) -> ALTO
B18: PLANEACIÓN | C18: Inadecuado análisis económico estimativo del valor del contrato | H18: Declarar desierto eln proceso por tener costos demasiado bajos en el presente proceso | I18: 2 | J18: 3 | K18: =+I18+J18 -> 5 | L18: =IF(K18<=4,"BAJO",IF(K18=5,"MEDIO",IF(K18=6,"ALTO",IF(K18=7,"ALTO","EXTREMO")))) -> MEDIO
B19: PLANEACIÓN | C19: Inadecuada descripción del bien o servicio requerido | H19: Entrega de los bienes y/o servicios que no cumplen con la expectativa de la entidad ni de los requerimientos de la comunidad | I19: 2 | J19: 2 | K19: =+I19+J19 -> 4 | L19: =IF(K19<=4,"BAJO",IF(K19=5,"MEDIO",IF(K19=6,"ALTO",IF(K19=7,"ALTO","EXTREMO")))) -> BAJO
B20: PLANEACIÓN | C20: Falta de profundidad en el estudio de sector no identificandose claramente aspectos de oferta y demanda | H20: No tener en cuenta algunas particularidades de la oferta, generando declaratoria de desierto del proceso o posibles incumpliminentos futuros | I20: 1 | J20: 2 | K20: =+I20+J20 -> 3 | L20: =IF(K20<=4,"BAJO",IF(K20=5,"MEDIO",IF(K20=6,"ALTO",IF(K20=7,"ALTO","EXTREMO")))) -> BAJO
B21: PLANEACIÓN | C21: Ausencia de fundamentación de la justificación y conveniencia de la contratación | H21: Hallazgos de los entes de control por no tener justificación suficiente para el proceso contractual | I21: 2 | J21: 2 | K21: =+I21+J21 -> 4 | L21: =IF(K21<=4,"BAJO",IF(K21=5,"MEDIO",IF(K21=6,"ALTO",IF(K21=7,"ALTO","EXTREMO")))) -> BAJO
B22: PLANEACIÓN | C22: Inadecuada identificación de las condiciones contractuales | H22: Afecta la selección del futuro contratista, generando posible declaratoria de desierto | I22: 2 | J22: 3 | K22: =+I22+J22 -> 5 | L22: =IF(K22<=4,"BAJO",IF(K22=5,"MEDIO",IF(K22=6,"ALTO",IF(K22=7,"ALTO","EXTREMO")))) -> MEDIO
B23: SELECCIÓN | C23: Falta de claridad en la elaboración de los actos administrativos | H23: Genera una carga adicional a las previstas, que puede afectar a cualquiera o a las dos partes del contrato. No obstante, es poco probable por la duración y naturaleza del contrato | I23: 1 | J23: 2 | K23: =+I23+J23 -> 3 | L23: =IF(K23<=4,"BAJO",IF(K23=5,"MEDIO",IF(K23=6,"ALTO",IF(K23=7,"ALTO","EXTREMO")))) -> BAJO
B24: SELECCIÓN | C24: Contestación inoportuna a todas las observaciones formuladas a los documentos de la contratación | H24: Retraso en la estructuración y proyección del proceso | I24: 1 | J24: 2 | K24: =+I24+J24 -> 3 | L24: =IF(K24<=4,"BAJO",IF(K24=5,"MEDIO",IF(K24=6,"ALTO",IF(K24=7,"ALTO","EXTREMO")))) -> BAJO
B25: SELECCIÓN | C25: No publicación de la documentación del proceso de selección en el SECOP | H25: No se genera la pluralidad para la correcta selección del proponente, lo cual puede acarrear sanciones disciplinarias. | I25: 1 | J25: 2 | K25: =+I25+J25 -> 3 | L25: =IF(K25<=4,"BAJO",IF(K25=5,"MEDIO",IF(K25=6,"ALTO",IF(K25=7,"ALTO","EXTREMO")))) -> BAJO
B26: SELECCIÓN | C26: Confabulacion de los proponentes (Colusión) | H26: Guiar a la entidad a realizar la adjudicación a precios altos generando posibles investigaciones de orden disciplinario, fiscal y penal. | I26: 2 | J26: 4 | K26: =+I26+J26 -> 6 | L26: =IF(K26<=4,"BAJO",IF(K26=5,"MEDIO",IF(K26=6,"ALTO",IF(K26=7,"ALTO","EXTREMO")))) -> ALTO
B27: CONTRATACIÓN | C27: Riesgo de que no se firme el contrato. | H27: No tener los insumos necesarios para cumplir con las sensibilizaciones en temas relacionados con prevencion de violencia intrafamiliar | I27: 1 | J27: 2 | K27: =+I27+J27 -> 3 | L27: =IF(K27<=4,"BAJO",IF(K27=5,"MEDIO",IF(K27=6,"ALTO",IF(K27=7,"ALTO","EXTREMO")))) -> BAJO
B28: CONTRATACIÓN | C28: Falta de constitución o constitución tardía de la garantía única. Aceptación de garantías que no se ajustan a lo contemplado en el contrato | H28: Se retrasa el inicio de ejecución del contrato | I28: 1 | J28: 3 | K28: =+I28+J28 -> 4 | L28: =IF(K28<=4,"BAJO",IF(K28=5,"MEDIO",IF(K28=6,"ALTO",IF(K28=7,"ALTO","EXTREMO")))) -> BAJO
B29: CONTRATACIÓN | C29: Falta de solicitud o solicitud tardía del registro presupuestal | H29: Se retrasa el inicio de ejecución del contrato | I29: 2 | J29: 3 | K29: =+I29+J29 -> 5 | L29: =IF(K29<=4,"BAJO",IF(K29=5,"MEDIO",IF(K29=6,"ALTO",IF(K29=7,"ALTO","EXTREMO")))) -> MEDIO
... B41: EJECUCIÓN | C41: Calidad de elementos y/o servicio | H41: Retrasos en las entregas tras solicitud de cambios en los mismos. | I41: 1 | J41: 2 | K41: =+I41+J41 -> 3 | L41: =IF(K41<=4,"BAJO",IF(K41=5,"MEDIO",IF(K41=6,"ALTO",IF(K41=7,"ALTO","EXTREMO")))) -> BAJO
K42: =+I42+J42 -> 0 | L42: =IF(K42<=4,"BAJO",IF(K42=5,"MEDIO",IF(K42=6,"ALTO",IF(K42=7,"ALTO","EXTREMO")))) -> BAJO
B45: Probabilidad | C45: Catagoria | E45: Valoración | G45: Impacto | H45: Categoria | I45: Valoración
C46: Raro (puede ocurrir excepcionalmente) | E46: 1 | H46: Insignificante | I46: 1
C47: Improbable (puede ocurrir ocasionalmente) | E47: 2 | H47: Menor | I47: 2
C48: Posible (puede ocurrir en cualquier momento futuro) | E48: 3 | H48: Moderado | I48: 3
C49: Probable (probablemente va a ocurrir) | E49: 4 | H49: Mayor | I49: 4
C50: Casi cierto (ocurre en la mayoria de circunstancias) | E50: 5 | H50: Catastrófico | I50: 5
C52: Valoración del Riesgo
C53: Calificación Cualitativa | F53: Obstruye la ejecución del contrato de manera intrascendente. | G53: Dificulta la ejecución del contrato de manera baja, aplicando medidas mínimas se pueden lograr el objeto contractual | H53: Afecta la ejecución del contrato sin alterar el beneficio para las partes | I53: Obstruye la ejecución del contrato sustancialmente pero aun así permite la consecución del objeto contractual | K53: Perturba la ejecución del contrato de manera grave imposibilitando la consecución del objeto contractual.
C54: Calificación Monetaria | F54: Los sobrecostos no representan más del uno por ciento (1%) del valor del contrato. | G54: Los sobrecostos no representan más del cinco por ciento (5%) del valor del contrato. | H54: Genera un impacto sobre el valor del contrato entre el cinco (5%) y el quince por ciento (15%). | I54: Incrementa el valor del contrato entre el quince (15%) y el treinta por ciento (30%). | K54: Impacto sobre el valor del contrato en más del treinta por ciento (30%).
C55: Categoría | E55: Valoración | F55: Insignificante | G55: Menor | H55: Moderado | I55: Mayor | K55: Catastrófico
F56: 1 | G56: 2 | H56: 3 | I56: 4 | K56: 5
C57: Raro (puede ocurrir excepcionalmente) | E57: 1 | F57: 2 | G57: 3 | H57: 4 | I57: 5 | K57: 6
C58: Improbable (puede ocurrir ocasionalmente) | E58: 2 | F58: 3 | G58: 4 | H58: 5 | I58: 6 | K58: 7
C59: Posible (puede ocurrir en cualquier momento futuro) | E59: 3 | F59: 4 | G59: 5 | H59: 6 | I59: 7 | K59: 8
...

Sheet ASIGNACION Y TRATAMIENTO
C2: MATRIZ DE RIESGOS DE CONTRATACIÓN | W2: Código: GCO-GCI-F164 Versión: 02 Vigencia: 01 de diciembre de 2022 Caso HOLA: 280117
B6: =+EVALUACION!B6 -> Objeto Contractual: Gestionar e implementar acciones y procesos de prevención de violencia en el contexto familiar, sexual y otras vulneraciones, así como la promoción de los derechos de las niñas, los niños, adolescentes y las familias de la localidad de Los Mártires.
B7: Esta matriz es un documento anexo del Estudio Previo
B10: No | C10: Descripción (Que puede pasar y, cómo puede ocurrir) | D10: Etapa | E10: Clase | F10: Fuente | G10: Consecuencias de la ocurrencia del evento | H10: Probabilidad | I10: Impacto | J10: Calificación total | K10: Prioridad | L10: ¿A quien se le asigna? | M10: % | N10: Tratamiento/Controles a ser implementados | O10: Probabilidad | P10: Impacto | Q10: Calificación total | R10: Prioridad | S10: ¿Afecta el equilibrio económico del contrato? | T10: Persona responsable por implementar el tratamiento | U10: Fecha estimada en que se inicia el tratamiento | V10: Fecha estimada en que se completa el tratamiento | W10: ¿Cómo se realiza el monitoreo | X10: Periodicidad ¿Cuándo?
B11: 1 | C11: =+'EVALUACION CON CONTROLES'!C16:F16 -> Requisitos habilitantes inapropiados para el proceso de selección | D11: =+'EVALUACION CON CONTROLES'!B16 -> PLANEACIÓN | E11: =VLOOKUP(C11,'IDENTIFICACION Y ANALISIS'!$B$19:$F$58,3,FALSE) -> General | F11: =VLOOKUP(C11,'IDENTIFICACION Y ANALISIS'!$B$19:$F$58,4,FALSE) -> Interno | G11: =+EVALUACION!H17 -> Demora o incumplimiento de los plazos legales para la publicación de los actos y/o documentos derivados de los procesos contractuales | H11: =+EVALUACION!I17 -> 2 | I11: =+EVALUACION!J17 -> 4 | J11: =+EVALUACION!K17 -> 6 | K11: =+EVALUACION!L17 -> ALTO | L11: SDG | M11: 100 | N11: =+'EVALUACION CON CONTROLES'!G16 -> Establecer un equipo para una revisión técnica y jurídica rigurosa de los requisitos habilitantes para asegurar que estén alineados con las normativas vigentes y las necesidades específicas del proyecto | O11: =+'EVALUACION CON CONTROLES'!I16 -> 2 | P11: =+'EVALUACION CON CONTROLES'!J16 -> 4 | Q11: =+'EVALUACION CON CONTROLES'!K16 -> 6 | R11: =+'EVALUACION CON CONTROLES'!L16 -> ALTO | S11: =+'EVALUACION CON CONTROLES'!M16 -> NO | T11: =+'EVALUACION CON CONTROLES'!N16 -> Formuladores del proyecto | U11: =+'EVALUACION CON CONTROLES'!O16 -> 18 de septiembre de 2024 | V11: =+'EVALUACION CON CONTROLES'!P16 -> 30 de septiembre de 2024 | ... X11: =+'EVALUACION CON CONTROLES'!R16 -> Semanalmente hasta el 30 de septiembre.
B12: 2 | C12: =+'EVALUACION CON CONTROLES'!C17:F17 -> Inadecuado análisis económico estimativo del valor del contrato | D12: =+'EVALUACION CON CONTROLES'!B17 -> PLANEACIÓN | E12: =VLOOKUP(C12,'IDENTIFICACION Y ANALISIS'!$B$19:$F$58,3,FALSE) -> General | F12: =VLOOKUP(C12,'IDENTIFICACION Y ANALISIS'!$B$19:$F$58,4,FALSE) -> Interno | G12: =+EVALUACION!H18 -> Declarar desierto eln proceso por tener costos demasiado bajos en el presente proceso | H12: =+EVALUACION!I18 -> 2 | I12: =+EVALUACION!J18 -> 3 | J12: =+EVALUACION!K18 -> 5 | K12: =+EVALUACION!L18 -> MEDIO | L12: SDG | M12: 100 | N12: =+'EVALUACION CON CONTROLES'!G17 -> Elaborar los documentos del proceso de contratación, con un correcto análisis del mercado | O12: =+'EVALUACION CON CONTROLES'!I17 -> 2 | P12: =+'EVALUACION CON CONTROLES'!J17 -> 3 | Q12: =+'EVALUACION CON CONTROLES'!K17 -> 5 | R12: =+'EVALUACION CON CONTROLES'!L17 -> MEDIO | S12: =+'EVALUACION CON CONTROLES'!M17 -> NO | T12: =+'EVALUACION CON CONTROLES'!N17 -> Formuladores del proyecto | U12: =+'EVALUACION CON CONTROLES'!O17 -> 18 de septiembre de 2024 | V12: =+'EVALUACION CON CONTROLES'!P17 -> 30 de septiembre de 2024 | ... X12: =+'EVALUACION CON CONTROLES'!R17 -> Quincenalmente hasta el cierre de la planificación.
B13: 3 | C13: =+'EVALUACION CON CONTROLES'!C18:F18 -> Inadecuada descripción del bien o servicio requerido | D13: =+'EVALUACION CON CONTROLES'!B18 -> PLANEACIÓN | E13: =VLOOKUP(C13,'IDENTIFICACION Y ANALISIS'!$B$19:$F$58,3,FALSE) -> General | F13: =VLOOKUP(C13,'IDENTIFICACION Y ANALISIS'!$B$19:$F$58,4,FALSE) -> Interno | G13: =+EVALUACION!H19 -> Entrega de los bienes y/o servicios que no cumplen con la expectativa de la entidad ni de los requerimientos de la comunidad | H13: =+EVALUACION!I19 -> 2 | I13: =+EVALUACION!J19 -> 2 | J13: =+EVALUACION!K19 -> 4 | K13: =+EVALUACION!L19 -> BAJO | L13: SDG | M13: 100 | N13: =+'EVALUACION CON CONTROLES'!G18 -> Involucrar a expertos técnicos en la redacción de los términos de referencia, garantizando una descripción detallada y precisa de los bienes o servicios requeridos. | O13: =+'EVALUACION CON CONTROLES'!I18 -> 2 | P13: =+'EVALUACION CON CONTROLES'!J18 -> 2 | Q13: =+'EVALUACION CON CONTROLES'!K18 -> 4 | R13: =+'EVALUACION CON CONTROLES'!L18 -> BAJO | S13: =+'EVALUACION CON CONTROLES'!M18 -> NO | T13: =+'EVALUACION CON CONTROLES'!N18 -> Formuladores del proyecto | U13: =+'EVALUACION CON CONTROLES'!O18 -> 18 de septiembre de 2024 | V13: =+'EVALUACION CON CONTROLES'!P18 -> 30 de septiembre de 2024 | ... X13: =+'EVALUACION CON CONTROLES'!R18 -> Semanalmente hasta el cierre de la planificación.
B14: 4 | C14: =+'EVALUACION CON CONTROLES'!C19:F19 -> Falta de profundidad en el estudio de sector no identificandose claramente aspectos de oferta y demanda | D14: =+'EVALUACION CON CONTROLES'!B19 -> PLANEACIÓN | E14: =VLOOKUP(C14,'IDENTIFICACION Y ANALISIS'!$B$19:$F$58,3,FALSE) -> General | F14: =VLOOKUP(C14,'IDENTIFICACION Y ANALISIS'!$B$19:$F$58,4,FALSE) -> Interno | G14: =+EVALUACION!H20 -> No tener en cuenta algunas particularidades de la oferta, generando declaratoria de desierto del proceso o posibles incumpliminentos futuros | H14: =+EVALUACION!I20 -> 1 | I14: =+EVALUACION!J20 -> 2 | J14: =+EVALUACION!K20 -> 3 | K14: =+EVALUACION!L20 -> BAJO | L14: SDG | M14: 100 | N14: =+'EVALUACION CON CONTROLES'!G19 -> Llevar a cabo análisis exhaustivos de oferta y demanda del sector, incluyendo consultas con proveedores y actores clave del mercado. Utilizar datos actualizados para respaldar las decisiones. | O14: =+'EVALUACION CON CONTROLES'!I19 -> 1 | P14: =+'EVALUACION CON CONTROLES'!J19 -> 2 | Q14: =+'EVALUACION CON CONTROLES'!K19 -> 3 | R14: =+'EVALUACION CON CONTROLES'!L19 -> BAJO | S14: =+'EVALUACION CON CONTROLES'!M19 -> NO | T14: =+'EVALUACION CON CONTROLES'!N19 -> Formuladores del proyecto | U14: =+'EVALUACION CON CONTROLES'!O19 -> 18 de septiembre de 2024 | V14: =+'EVALUACION CON CONTROLES'!P19 -> 30 de septiembre de 2024 | ... X14: =+'EVALUACION CON CONTROLES'!R19 -> Semanalmente hasta el cierre de la planificación.
B15: 5 | C15: =+'EVALUACION CON CONTROLES'!C20:F20 -> Ausencia de fundamentación de la justificación y conveniencia de la contratación | D15: =+'EVALUACION CON CONTROLES'!B20 -> PLANEACIÓN | E15: =VLOOKUP(C15,'IDENTIFICACION Y ANALISIS'!$B$19:$F$58,3,FALSE) -> General | F15: =VLOOKUP(C15,'IDENTIFICACION Y ANALISIS'!$B$19:$F$58,4,FALSE) -> Interno | G15: =+EVALUACION!H21 -> Hallazgos de los entes de control por no tener justificación suficiente para el proceso contractual | H15: =+EVALUACION!I21 -> 2 | I15: =+EVALUACION!J21 -> 2 | J15: =+EVALUACION!K21 -> 4 | K15: =+EVALUACION!L21 -> BAJO | L15: SDG | M15: 100 | N15: =+'EVALUACION CON CONTROLES'!G20 -> Realizar el análisis de sector a partir de herramientas como Colombia Compra Eficiente y el estudio de mercado realizado por la entidad, en el cual se incluyen las variables pertinentes reguladas por el Estado asociados al objeto contractual. | O15: =+'EVALUACION CON CONTROLES'!I20 -> 2 | P15: =+'EVALUACION CON CONTROLES'!J20 -> 2 | Q15: =+'EVALUACION CON CONTROLES'!K20 -> 4 | R15: =+'EVALUACION CON CONTROLES'!L20 -> BAJO | S15: =+'EVALUACION CON CONTROLES'!M20 -> NO | T15: =+'EVALUACION CON CONTROLES'!N20 -> Formuladores del proyecto | U15: =+'EVALUACION CON CONTROLES'!O20 -> 18 de septiembre de 2024 | V15: =+'EVALUACION CON CONTROLES'!P20 -> 30 de septiembre de 2024 | W15: =+'EVALUACION CON CONTROLES'!Q20 -> Verificación de la información por parte del area encargada del proceso. | X15: =+'EVALUACION CON CONTROLES'!R21 -> Semanalmente hasta el cierre de la planificación.
B16: 6 | C16: =+'EVALUACION CON CONTROLES'!C21:F21 -> Inadecuada identificación de las condiciones contractuales | D16: =+'EVALUACION CON CONTROLES'!B21 -> PLANEACIÓN | E16: =VLOOKUP(C16,'IDENTIFICACION Y ANALISIS'!$B$19:$F$58,3,FALSE) -> General | F16: =VLOOKUP(C16,'IDENTIFICACION Y ANALISIS'!$B$19:$F$58,4,FALSE) -> Interno | G16: =+EVALUACION!H22 -> Afecta la selección del futuro contratista, generando posible declaratoria de desierto | H16: =+EVALUACION!I22 -> 2 | I16: =+EVALUACION!J22 -> 3 | J16: =+EVALUACION!K22 -> 5 | K16: =+EVALUACION!L22 -> MEDIO | L16: SDG | M16: 100 | N16: =+'EVALUACION CON CONTROLES'!G21 -> Contar con asesoría jurídica especializada para definir las condiciones contractuales. Realizar talleres de capacitación para el equipo responsable sobre aspectos clave de los contratos. | O16: =+'EVALUACION CON CONTROLES'!I21 -> 2 | P16: =+'EVALUACION CON CONTROLES'!J21 -> 3 | Q16: =+'EVALUACION CON CONTROLES'!K21 -> 5 | R16: =+'EVALUACION CON CONTROLES'!L21 -> MEDIO | S16: =+'EVALUACION CON CONTROLES'!M21 -> NO | T16: =+'EVALUACION CON CONTROLES'!N21 -> Formuladores del proyecto | U16: =+'EVALUACION CON CONTROLES'!O21 -> 18 de septiembre de 2024 | V16: =+'EVALUACION CON CONTROLES'!P21 -> 30 de septiembre de 2024 | W16: =+'EVALUACION CON CONTROLES'!Q21 -> Verificación de la información por parte del area encargada del proceso. | X16: =+'EVALUACION CON CONTROLES'!R22 -> Durante etapa de selección
B17: 7 | C17: =+'EVALUACION CON CONTROLES'!C22:F22 -> Falta de claridad en la elaboración de los actos administrativos | D17: =+'EVALUACION CON CONTROLES'!B22 -> SELECCIÓN | E17: =VLOOKUP(C17,'IDENTIFICACION Y ANALISIS'!$B$19:$F$58,3,FALSE) -> General | F17: =VLOOKUP(C17,'IDENTIFICACION Y ANALISIS'!$B$19:$F$58,4,FALSE) -> Interno | G17: =+EVALUACION!H23 -> Genera una carga adicional a las previstas, que puede afectar a cualquiera o a las dos partes del contrato. No obstante, es poco probable por la duración y naturaleza del contrato | H17: =+EVALUACION!I23 -> 1 | I17: =+EVALUACION!J23 -> 2 | J17: =+EVALUACION!K23 -> 3 | K17: =+EVALUACION!L23 -> BAJO | L17: SDG | M17: 100 | N17: =+'EVALUACION CON CONTROLES'!G22 -> Control y vigilancia del cumplimiento de los requisitos de Ley para la celebración, el perfeccionamiento y de ejecucion del contrato. | O17: =+'EVALUACION CON CONTROLES'!I22 -> 1 | P17: =+'EVALUACION CON CONTROLES'!J22 -> 2 | Q17: =+'EVALUACION CON CONTROLES'!K22 -> 3 | R17: =+'EVALUACION CON CONTROLES'!L22 -> BAJO | S17: =+'EVALUACION CON CONTROLES'!M22 -> NO | T17: =+'EVALUACION CON CONTROLES'!N22 -> Profesional de contratación que apoya el proceso | U17: =+'EVALUACION CON CONTROLES'!O22 -> 18 de septiembre de 2024 | V17: =+'EVALUACION CON CONTROLES'!P22 -> 30 de septiembre de 2024 | ... X17: =+'EVALUACION CON CONTROLES'!R22 -> Durante etapa de selección
B18: 8 | C18: =+'EVALUACION CON CONTROLES'!C23:F23 -> Contestación inoportuna a todas las observaciones formuladas a los documentos de la contratación | D18: =+'EVALUACION CON CONTROLES'!B23 -> SELECCIÓN | E18: =VLOOKUP(C18,'IDENTIFICACION Y ANALISIS'!$B$19:$F$58,3,FALSE) -> General | F18: =VLOOKUP(C18,'IDENTIFICACION Y ANALISIS'!$B$19:$F$58,4,FALSE) -> Interno | G18: =+EVALUACION!H24 -> Retraso en la estructuración y proyección del proceso | H18: =+EVALUACION!I24 -> 1 | I18: =+EVALUACION!J24 -> 2 | J18: =+EVALUACION!K24 -> 3 | K18: =+EVALUACION!L24 -> BAJO | L18: SDG | M18: 100 | N18: =+'EVALUACION CON CONTROLES'!G23 -> Implementar un sistema de gestión de tiempos que asegure la contestación de las observaciones dentro de los plazos establecidos. | O18: =+'EVALUACION CON CONTROLES'!I23 -> 1 | P18: =+'EVALUACION CON CONTROLES'!J23 -> 2 | Q18: =+'EVALUACION CON CONTROLES'!K23 -> 3 | R18: =+'EVALUACION CON CONTROLES'!L23 -> BAJO | S18: =+'EVALUACION CON CONTROLES'!M23 -> NO | T18: =+'EVALUACION CON CONTROLES'!N23 -> Comité evaluador /Profesional de contratación que apoya el proceso/Profesional de Planeación a cargo de la formulación del proceso | U18: =+'EVALUACION CON CONTROLES'!O23 -> 18 de septiembre de 2024 | V18: =+'EVALUACION CON CONTROLES'!P23 -> 30 de septiembre de 2024 | ... X18: =+'EVALUACION CON CONTROLES'!R23 -> Durante etapa de selección
B19: 9 | C19: =+'EVALUACION CON CONTROLES'!C24:F24 -> No publicación de la documentación del proceso de selección en el SECOP | D19: =+'EVALUACION CON CONTROLES'!B24 -> SELECCIÓN | E19: =VLOOKUP(C19,'IDENTIFICACION Y ANALISIS'!$B$19:$F$58,3,FALSE) -> General | F19: =VLOOKUP(C19,'IDENTIFICACION Y ANALISIS'!$B$19:$F$58,4,FALSE) -> Interno | G19: =+EVALUACION!H25 -> No se genera la pluralidad para la correcta selección del proponente, lo cual puede acarrear sanciones disciplinarias. | H19: =+EVALUACION!I25 -> 1 | I19: =+EVALUACION!J25 -> 2 | J19: =+EVALUACION!K25 -> 3 | K19: =+EVALUACION!L25 -> BAJO | L19: SDG | M19: 100 | N19: =+'EVALUACION CON CONTROLES'!G24 -> Establecer controles internos para verificar que toda la documentación requerida sea publicada en el SECOP en tiempo y forma, con responsables asignados para cada fase del proceso. | O19: =+'EVALUACION CON CONTROLES'!I24 -> 1 | P19: =+'EVALUACION CON CONTROLES'!J24 -> 2 | Q19: =+'EVALUACION CON CONTROLES'!K24 -> 3 | R19: =+'EVALUACION CON CONTROLES'!L24 -> BAJO | S19: =+'EVALUACION CON CONTROLES'!M24 -> NO | T19: =+'EVALUACION CON CONTROLES'!N24 -> Comité evaluador /Profesional de contratación que apoya el proceso/Profesional de Planeación a cargo de la formulación del proceso | U19: =+'EVALUACION CON CONTROLES'!O24 -> 30 de septiembre de 2024 | V19: =+'EVALUACION CON CONTROLES'!P24 -> 09 de octubre de 2024 | ... X19: =+'EVALUACION CON CONTROLES'!R24 -> Durante etapa de selección
B20: 10 | C20: =+'EVALUACION CON CONTROLES'!C25:F25 -> Confabulacion de los proponentes (Colusión) | D20: =+'EVALUACION CON CONTROLES'!B25 -> SELECCIÓN | E20: =VLOOKUP(C20,'IDENTIFICACION Y ANALISIS'!$B$19:$F$58,3,FALSE) -> General | F20: =VLOOKUP(C20,'IDENTIFICACION Y ANALISIS'!$B$19:$F$58,4,FALSE) -> Externo | G20: =+EVALUACION!H26 -> Guiar a la entidad a realizar la adjudicación a precios altos generando posibles investigaciones de orden disciplinario, fiscal y penal. | H20: =+EVALUACION!I26 -> 2 | I20: =+EVALUACION!J26 -> 4 | J20: =+EVALUACION!K26 -> 6 | K20: =+EVALUACION!L26 -> ALTO | L20: CONTRATISTA | M20: 100 | N20: =+'EVALUACION CON CONTROLES'!G25 -> Evaluar el proceso de contratación, atendiendo cada una de las recomendaciones legales y realizar una correcta aplicación de la normatividad vigente. | O20: =+'EVALUACION CON CONTROLES'!I25 -> 2 | P20: =+'EVALUACION CON CONTROLES'!J25 -> 4 | Q20: =+'EVALUACION CON CONTROLES'!K25 -> 6 | R20: =+'EVALUACION CON CONTROLES'!L25 -> ALTO | S20: =+'EVALUACION CON CONTROLES'!M25 -> NO | T20: =+'EVALUACION CON CONTROLES'!N25 -> Comité evaluador /Profesional de contratación que apoya el proceso/Profesional de Planeación a cargo de la formulación del proceso | U20: =+'EVALUACION CON CONTROLES'!O25 -> 30 de septiembre de 2024 | V20: =+'EVALUACION CON CONTROLES'!P25 -> 05 de octubre de 2024 | ... X20: =+'EVALUACION CON CONTROLES'!R25 -> Monitoreo constante durante el proceso de selección.
B21: 11 | C21: =+'EVALUACION CON CONTROLES'!C26:F26 -> Riesgo de que no se firme el contrato. | D21: =+'EVALUACION CON CONTROLES'!B26 -> CONTRATACIÓN | E21: =VLOOKUP(C21,'IDENTIFICACION Y ANALISIS'!$B$19:$F$58,3,FALSE) -> General | F21: =VLOOKUP(C21,'IDENTIFICACION Y ANALISIS'!$B$19:$F$58,4,FALSE) -> Interno | G21: =+EVALUACION!H27 -> No tener los insumos necesarios para cumplir con las sensibilizaciones en temas relacionados con prevencion de violencia intrafamiliar | H21: =+EVALUACION!I27 -> 1 | I21: =+EVALUACION!J27 -> 2 | J21: =+EVALUACION!K27 -> 3 | K21: =+EVALUACION!L27 -> BAJO | L21: CONTRATISTA Y SDG | M21: 50/50 | N21: =+'EVALUACION CON CONTROLES'!G26 -> Asegurar la verificación previa de toda la documentación requerida para la firma del contrato. Establecer una fecha límite clara para la firma, con mecanismos de seguimiento en caso de incumplimiento. | O21: =+'EVALUACION CON CONTROLES'!I26 -> 1 | P21: =+'EVALUACION CON CONTROLES'!J26 -> 2 | Q21: =+'EVALUACION CON CONTROLES'!K26 -> 3 | R21: =+'EVALUACION CON CONTROLES'!L26 -> BAJO | S21: =+'EVALUACION CON CONTROLES'!M26 -> SI | T21: =+'EVALUACION CON CONTROLES'!N26 -> Contratación | U21: =+'EVALUACION CON CONTROLES'!O26 -> 30 de septiembre de 2024 | V21: =+'EVALUACION CON CONTROLES'!P26 -> 09 de octubre de 2024 | ... X21: =+'EVALUACION CON CONTROLES'!R26 -> Monitoreo constante hata la firma del contrato
B22: 12 | C22: =+'EVALUACION CON CONTROLES'!C27:F27 -> Falta de constitución o constitución tardía de la garantía única. Aceptación de garantías que no se ajustan a lo contemplado en el contrato | D22: =+'EVALUACION CON CONTROLES'!B27 -> CONTRATACIÓN | E22: =VLOOKUP(C22,'IDENTIFICACION Y ANALISIS'!$B$19:$F$58,3,FALSE) -> General | F22: =VLOOKUP(C22,'IDENTIFICACION Y ANALISIS'!$B$19:$F$58,4,FALSE) -> Externo | G22: =+EVALUACION!H28 -> Se retrasa el inicio de ejecución del contrato | H22: =+EVALUACION!I28 -> 1 | I22: =+EVALUACION!J28 -> 3 | J22: =+EVALUACION!K28 -> 4 | K22: =+EVALUACION!L28 -> BAJO | L22: CONTRATISTA Y SDG | M22: 50/50 | N22: =+'EVALUACION CON CONTROLES'!G27 -> Control y vigilancia del cumplimiento de los requisitos de Ley para la celebración, el perfeccionamiento y de ejecucion del contrato. | O22: =+'EVALUACION CON CONTROLES'!I27 -> 1 | P22: =+'EVALUACION CON CONTROLES'!J27 -> 3 | Q22: =+'EVALUACION CON CONTROLES'!K27 -> 4 | R22: =+'EVALUACION CON CONTROLES'!L27 -> BAJO | S22: =+'EVALUACION CON CONTROLES'!M27 -> SI | T22: =+'EVALUACION CON CONTROLES'!N27 -> Contratación | U22: =+'EVALUACION CON CONTROLES'!O27 -> 30 de septiembre de 2024 | V22: =+'EVALUACION CON CONTROLES'!P27 -> 09 de octubre de 2024 | ... X22: =+'EVALUACION CON CONTROLES'!R27 -> Monitoreo constante hata la firma del contrato
B23: 13 | C23: =+'EVALUACION CON CONTROLES'!C28:F28 -> Falta de solicitud o solicitud tardía del registro presupuestal | D23: =+'EVALUACION CON CONTROLES'!B28 -> CONTRATACIÓN | E23: =VLOOKUP(C23,'IDENTIFICACION Y ANALISIS'!$B$19:$F$58,3,FALSE) -> General | F23: =VLOOKUP(C23,'IDENTIFICACION Y ANALISIS'!$B$19:$F$58,4,FALSE) -> Interno | G23: =+EVALUACION!H29 -> Se retrasa el inicio de ejecución del contrato | H23: =+EVALUACION!I29 -> 2 | I23: =+EVALUACION!J29 -> 3 | J23: =+EVALUACION!K29 -> 5 | K23: =+EVALUACION!L29 -> MEDIO | L23: SDG | M23: 100 | N23: =+'EVALUACION CON CONTROLES'!G28 -> Asignar responsables claros para la solicitud del registro presupuestal y establecer un sistema de monitoreo que asegure la solicitud oportuna. | O23: =+'EVALUACION CON CONTROLES'!I28 -> 2 | P23: =+'EVALUACION CON CONTROLES'!J28 -> 3 | Q23: =+'EVALUACION CON CONTROLES'!K28 -> 5 | R23: =+'EVALUACION CON CONTROLES'!L28 -> MEDIO | S23: =+'EVALUACION CON CONTROLES'!M28 -> SI | T23: =+'EVALUACION CON CONTROLES'!N28 -> Profesional de contratación que apoya el proceso | U23: =+'EVALUACION CON CONTROLES'!O28 -> 30 de septiembre de 2024 | V23: =+'EVALUACION CON CONTROLES'!P28 -> 09 de octubre de 2024 | ... X23: =+'EVALUACION CON CONTROLES'!R28 -> Durante etapa de selección
B24: 14 | C24: =+'EVALUACION CON CONTROLES'!C29:F29 -> Fluctuaciones del valor de la moneda | D24: =+'EVALUACION CON CONTROLES'!B29 -> EJECUCIÓN | E24: =VLOOKUP(C24,'IDENTIFICACION Y ANALISIS'!$B$19:$F$58,3,FALSE) -> General | F24: =VLOOKUP(C24,'IDENTIFICACION Y ANALISIS'!$B$19:$F$58,4,FALSE) -> Externo | G24: =+EVALUACION!H30 -> Posible desequilibrio económico en el contrato | H24: =+EVALUACION!I30 -> 1 | I24: =+EVALUACION!J30 -> 2 | J24: =+EVALUACION!K30 -> 3 | K24: =+EVALUACION!L30 -> BAJO | L24: CONTRATISTA | M24: 100 | N24: =+'EVALUACION CON CONTROLES'!G29 -> Cumplimiento del manual de supervisión e interventoría de la Secretaría Distrital de Gobierno para un correcto seguimiento en la ejecucion del contrato. | O24: =+'EVALUACION CON CONTROLES'!I29 -> 1 | P24: =+'EVALUACION CON CONTROLES'!J29 -> 2 | Q24: =+'EVALUACION CON CONTROLES'!K29 -> 3 | R24: =+'EVALUACION CON CONTROLES'!L29 -> BAJO | S24: =+'EVALUACION CON CONTROLES'!M29 -> SI | T24: =+'EVALUACION CON CONTROLES'!N29 -> Ejecutor del contrato | U24: =+'EVALUACION CON CONTROLES'!O29 -> 10 de octubre de 2024 | V24: =+'EVALUACION CON CONTROLES'!P29 -> 31 de diceimbre de 2024 | ... X24: =+'EVALUACION CON CONTROLES'!R29 -> Mensual
B25: 15 | C25: =+'EVALUACION CON CONTROLES'!C30:F30 -> Variación de los precios del mercado | D25: =+'EVALUACION CON CONTROLES'!B30 -> EJECUCIÓN | E25: =VLOOKUP(C25,'IDENTIFICACION Y ANALISIS'!$B$19:$F$58,3,FALSE) -> General | F25: =VLOOKUP(C25,'IDENTIFICACION Y ANALISIS'!$B$19:$F$58,4,FALSE) -> Externo | G25: =+EVALUACION!H31 -> Genera una carga adicional a las previstas, que puede afectar a cualquiera o a las dos partes del contrato. No obstante, es poco probable por la duración y naturaleza del contrato | H25: =+EVALUACION!I31 -> 1 | I25: =+EVALUACION!J31 -> 2 | J25: =+EVALUACION!K31 -> 3 | K25: =+EVALUACION!L31 -> BAJO | L25: CONTRATISTA | M25: 100 | N25: =+'EVALUACION CON CONTROLES'!G30 -> Cumplimiento del manual de supervisión e interventoría de la Secretaría Distrital de Gobierno para un correcto seguimiento en la ejecucion del contrato. | O25: =+'EVALUACION CON CONTROLES'!I30 -> 1 | P25: =+'EVALUACION CON CONTROLES'!J30 -> 2 | Q25: =+'EVALUACION CON CONTROLES'!K30 -> 3 | R25: =+'EVALUACION CON CONTROLES'!L30 -> BAJO | S25: =+'EVALUACION CON CONTROLES'!M30 -> SI | T25: =+'EVALUACION CON CONTROLES'!N30 -> Ejecutor del contrato | U25: =+'EVALUACION CON CONTROLES'!O30 -> 10 de octubre de 2024 | V25: =+'EVALUACION CON CONTROLES'!P30 -> 31 de diceimbre de 2024 | ... X25: =+'EVALUACION CON CONTROLES'!R30 -> Mensual
B26: 16 | C26: =+'EVALUACION CON CONTROLES'!C31:F31 -> Cancelación de pedidos. | D26: =+'EVALUACION CON CONTROLES'!B31 -> EJECUCIÓN | E26: =VLOOKUP(C26,'IDENTIFICACION Y ANALISIS'!$B$19:$F$58,3,FALSE) -> General | F26: =VLOOKUP(C26,'IDENTIFICACION Y ANALISIS'!$B$19:$F$58,4,FALSE) -> Externo | G26: =+EVALUACION!H32 -> Afectación en la ejecución de actividades del contrato | H26: =+EVALUACION!I32 -> 1 | I26: =+EVALUACION!J32 -> 3 | J26: =+EVALUACION!K32 -> 4 | K26: =+EVALUACION!L32 -> BAJO | L26: CONTRATISTA | M26: 100 | N26: =+'EVALUACION CON CONTROLES'!G31 -> Establecer contratos con cláusulas de penalización por cancelación injustificada y asegurarse de que existan acuerdos secundarios con otros proveedores en caso de cancelación. (incumplimiento) | O26: =+'EVALUACION CON CONTROLES'!I31 -> 1 | P26: =+'EVALUACION CON CONTROLES'!J31 -> 3 | Q26: =+'EVALUACION CON CONTROLES'!K31 -> 4 | R26: =+'EVALUACION CON CONTROLES'!L31 -> BAJO | S26: =+'EVALUACION CON CONTROLES'!M31 -> NO | T26: =+'EVALUACION CON CONTROLES'!N31 -> Ejecutor del contrato | U26: =+'EVALUACION CON CONTROLES'!O31 -> 10 de octubre de 2024 | V26: =+'EVALUACION CON CONTROLES'!P31 -> 31 de diceimbre de 2024 | ... X26: =+'EVALUACION CON CONTROLES'!R31 -> mensual hasta el cierre de la ejecución del proyecto
B27: 17 | C27: =+'EVALUACION CON CONTROLES'!C32:F32 -> Variación en la disponibilidad o en el costo de los insumos necesarios para prestar los servicios. | D27: =+'EVALUACION CON CONTROLES'!B32 -> EJECUCIÓN | E27: =VLOOKUP(C27,'IDENTIFICACION Y ANALISIS'!$B$19:$F$58,3,FALSE) -> General | F27: =VLOOKUP(C27,'IDENTIFICACION Y ANALISIS'!$B$19:$F$58,4,FALSE) -> Externo | G27: =+EVALUACION!H33 -> Afectación en la ejecución del contrato | H27: =+EVALUACION!I33 -> 1 | I27: =+EVALUACION!J33 -> 3 | J27: =+EVALUACION!K33 -> 4 | K27: =+EVALUACION!L33 -> BAJO | L27: CONTRATISTA | M27: 100 | N27: =+'EVALUACION CON CONTROLES'!G32 -> Cumplimiento del manual de supervisión e interventoría de la Secretaría Distrital de Gobierno para un correcto seguimiento en la ejecucion del contrato. | O27: =+'EVALUACION CON CONTROLES'!I32 -> 1 | P27: =+'EVALUACION CON CONTROLES'!J32 -> 3 | Q27: =+'EVALUACION CON CONTROLES'!K32 -> 4 | R27: =+'EVALUACION CON CONTROLES'!L32 -> BAJO | S27: =+'EVALUACION CON CONTROLES'!M32 -> SI | T27: =+'EVALUACION CON CONTROLES'!N32 -> Ejecutor del contrato | U27: =+'EVALUACION CON CONTROLES'!O32 -> 10 de octubre de 2024 | V27: =+'EVALUACION CON CONTROLES'!P32 -> 31 de diceimbre de 2024 | ... X27: =+'EVALUACION CON CONTROLES'!R32 -> Durante la ejecución contractual
B28: 18 | C28: =+'EVALUACION CON CONTROLES'!C33:F33 -> Daños a los bienes | D28: =+'EVALUACION CON CONTROLES'!B33 -> EJECUCIÓN | E28: =VLOOKUP(C28,'IDENTIFICACION Y ANALISIS'!$B$19:$F$58,3,FALSE) -> General | F28: =VLOOKUP(C28,'IDENTIFICACION Y ANALISIS'!$B$19:$F$58,4,FALSE) -> Externo | G28: =+EVALUACION!H34 -> Retrasos en la entrega de productos y por ende en la ejecución | H28: =+EVALUACION!I34 -> 1 | I28: =+EVALUACION!J34 -> 2 | J28: =+EVALUACION!K34 -> 3 | K28: =+EVALUACION!L34 -> BAJO | L28: CONTRATISTA | M28: 100 | N28: =+'EVALUACION CON CONTROLES'!G33 -> Cumplimiento del manual de supervisión e interventoría de la Secretaría Distrital de Gobierno para un correcto seguimiento en la ejecucion del contrato. | O28: =+'EVALUACION CON CONTROLES'!I33 -> 1 | P28: =+'EVALUACION CON CONTROLES'!J33 -> 2 | Q28: =+'EVALUACION CON CONTROLES'!K33 -> 3 | R28: =+'EVALUACION CON CONTROLES'!L33 -> BAJO | S28: =+'EVALUACION CON CONTROLES'!M33 -> NO | T28: =+'EVALUACION CON CONTROLES'!N33 -> Ejecutor del contrato | U28: =+'EVALUACION CON CONTROLES'!O33 -> 10 de octubre de 2024 | V28: =+'EVALUACION CON CONTROLES'!P33 -> 31 de diceimbre de 2024 | ... X28: =+'EVALUACION CON CONTROLES'!R33 -> Durante la ejecución contractual
B29: 19 | C29: =+'EVALUACION CON CONTROLES'!C34:F34 -> Incumplimiento de la administración en los pagos. | D29: =+'EVALUACION CON CONTROLES'!B34 -> EJECUCIÓN | E29: =VLOOKUP(C29,'IDENTIFICACION Y ANALISIS'!$B$19:$F$58,3,FALSE) -> General | F29: =VLOOKUP(C29,'IDENTIFICACION Y ANALISIS'!$B$19:$F$58,4,FALSE) -> Externo | G29: =+EVALUACION!H35 -> Desequilibrio económico y retraso en la ejecución. | H29: =+EVALUACION!I35 -> 1 | I29: =+EVALUACION!J35 -> 3 | J29: =+EVALUACION!K35 -> 4 | K29: =+EVALUACION!L35 -> BAJO | L29: SDG | M29: 100 | N29: =+'EVALUACION CON CONTROLES'!G34 -> Establecer plazos de pago claros en los contratos y crear mecanismos de sanción o compensación por retrasos en los pagos. Implementar un sistema de gestión financiera que permita monitorear el estado de los pagos de manera eficiente. | O29: =+'EVALUACION CON CONTROLES'!I34 -> 1 | P29: =+'EVALUACION CON CONTROLES'!J34 -> 3 | Q29: =+'EVALUACION CON CONTROLES'!K34 -> 4 | R29: =+'EVALUACION CON CONTROLES'!L34 -> BAJO | S29: =+'EVALUACION CON CONTROLES'!M34 -> SI | T29: =+'EVALUACION CON CONTROLES'!N34 -> Apoyo a la supervisión | U29: =+'EVALUACION CON CONTROLES'!O34 -> 10 de octubre de 2024 | V29: =+'EVALUACION CON CONTROLES'!P34 -> 31 de diceimbre de 2024 | ... X29: =+'EVALUACION CON CONTROLES'!R34 -> Mensual durante la rejecución del proyecto
B30: 20 | C30: =+'EVALUACION CON CONTROLES'!C35:F35 -> 0 | D30: =+'EVALUACION CON CONTROLES'!B35 -> 0 | E30: =VLOOKUP(C30,'IDENTIFICACION Y ANALISIS'!$B$19:$F$58,3,FALSE) -> #N/A | F30: =VLOOKUP(C30,'IDENTIFICACION Y ANALISIS'!$B$19:$F$58,4,FALSE) -> #N/A | G30: =+EVALUACION!H42 -> 0 | H30: =+EVALUACION!I42 -> 0 | I30: =+EVALUACION!J42 -> 0 | J30: =+EVALUACION!K42 -> 0 | K30: =+EVALUACION!L42 -> BAJO | N30: =+'EVALUACION CON CONTROLES'!G35 -> 0 | O30: =+'EVALUACION CON CONTROLES'!I35 -> 0 | P30: =+'EVALUACION CON CONTROLES'!J35 -> 0 | Q30: =+'EVALUACION CON CONTROLES'!K35 -> 0 | R30: =+'EVALUACION CON CONTROLES'!L35 -> BAJO | S30: =+'EVALUACION CON CONTROLES'!M35 -> 0 | T30: =+'EVALUACION CON CONTROLES'!N35 -> 0 | U30: =+'EVALUACION CON CONTROLES'!O35 -> 0 | V30: =+'EVALUACION CON CONTROLES'!P35 -> 0 | ... X30: =+'EVALUACION CON CONTROLES'!R35 -> 0
F32: Categoria | J32: Impacto del Riesgo
E33: Probabilidad | F33: Catagoria | G33: Valoración | J33: Categoria | L33: Valoración
F34: Raro (puede ocurrir excepcionalmente) | G34: 1 | J34: Insignificante | L34: 1
F35: Improbable (puede ocurrir ocasionalmente) | G35: 2 | J35: Menor | L35: 2
F36: Posible (puede ocurrir en cualquier momento futuro) | G36: 3 | J36: Moderado | L36: 3
F37: Probable (probablemente va a ocurrir) | G37: 4 | J37: Mayor | L37: 4
F38: Casi cierto (ocurre en la mayoria de circunstancias) | G38: 5 | J38: Catastrófico | L38: 5
D40: Valoración del Riesgo
D41: Catagoria | E41: Valoración | F41: Insignificante | H41: Menor | J41: Moderado | K41: Mayor | L41: Catastrófico | P41: Categoria del Riesgo
F42: 1 | H42: 2 | J42: 3 | K42: 4 | L42: 5 | P42: Valoración del Riesgo | S42: Categoría
D43: Raro (puede ocurrir excepcionalmente) | E43: 1 | F43: 2 | H43: 3 | J43: 4 | K43: 5 | L43: 6 | P43: 8, 9 y 10 | S43: Riesgo extremo
D44: Improbable (puede ocurrir ocasionalmente) | E44: 2 | F44: 3 | H44: 4 | J44: 5 | K44: 6 | L44: 7 | P44: 6 y 7 | S44: Riesgo alto
D45: Posible (puede ocurrir en cualquier momento futuro) | E45: 3 | F45: 4 | H45: 5 | J45: 6 | K45: 7 | L45: 8 | P45: 5 | S45: Riesgo medio
D46: Probable (probablemente va a ocurrir) | E46: 4 | F46: 5 | H46: 6 | J46: 7 | K46: 8 | L46: 9 | P46: 2, 3 y 4 | S46: Riesgo bajo
D47: Casi cierto (ocurre en la mayoria de circunstancias) | E47: 5 | F47: 6 | H47: 7 | J47: 8 | K47: 9 | L47: 10
B52: CONTRATISTA
...

Sheet EVALUACION CON CONTROLES
C2: MATRIZ DE RIESGOS DE CONTRATACIÓN | Q2: Código: GCO-GCI-F164 Versión: 02 Vigencia: 01 de diciembre de 2022 Caso HOLA: 280117
B6: =+EVALUACION!B6 -> Objeto Contractual: Gestionar e implementar acciones y procesos de prevención de violencia en el contexto familiar, sexual y otras vulneraciones, así como la promoción de los derechos de las niñas, los niños, adolescentes y las familias de la localidad de Los Mártires.
B7: INSTRUCCIONES PARA LA IDENTIFICACIÓN, ANALISIS, EVALUACIÓN , ASIGNACIÓN Y TRATAMIENTO DE RIESGOS EN LA CONTRATACIÓN
B8: 1) Describa el tratamiento/controles a ser implementados
B9: 2) Diligencie la información de las siguientes columnas, de acuerdo con el análisis realizado a cada riesgo: Afecta el equilibrio económico, persona responsable de implementar el tratamiento, fecha estimada de inicio del tratamiento, fecha estimada en la que se completa el tratamiento, cómo se realiza el monitoreo y la periodicidad.
B10: 3) Continúe en la hoja de "ASIGNACIÓN Y TRATAMIENTO" y diligencie las siguientes casillas: A quien se le asigna y el porcentaje que asume cada una de las partes en caso de que sea compartido.
B15: ETAPA | C15: Descripción (Que puede pasar y, cómo puede ocurrir) | G15: Tratamiento/Controles a ser implementados | I15: Probabilidad de Ocurrencia | J15: Impacto | K15: Calificación Total | L15: Prioridad | M15: ¿Afecta el equilibrio económico del contrato? | N15: Persona responsable por implementar el tratamiento | O15: Fecha estimada en que se inicia el tratamiento | P15: Fecha estimada en que se completa el tratamiento | Q15: ¿Cómo se realiza el monitoreo? | R15: Periodicidad ¿Cuándo?
B16: =+EVALUACION!B17 -> PLANEACIÓN | C16: =+EVALUACION!C17 -> Requisitos habilitantes inapropiados para el proceso de selección | G16: Establecer un equipo para una revisión técnica y jurídica rigurosa de los requisitos habilitantes para asegurar que estén alineados con las normativas vigentes y las necesidades específicas del proyecto | I16: =+EVALUACION!I17 -> 2 | J16: =+EVALUACION!J17 -> 4 | K16: =+I16+J16 -> 6 | L16: =IF(K16<=4,"BAJO",IF(K16=5,"MEDIO",IF(K16=6,"ALTO",IF(K16=7,"ALTO","EXTREMO")))) -> ALTO | M16: NO | N16: Formuladores del proyecto | O16: 18 de septiembre de 2024 | P16: 30 de septiembre de 2024 | Q16: Revisión técnica por el equipo tecnico y estructurador | R16: Semanalmente hasta el 30 de septiembre.
B17: =+EVALUACION!B18 -> PLANEACIÓN | C17: =+EVALUACION!C18 -> Inadecuado análisis económico estimativo del valor del contrato | G17: Elaborar los documentos del proceso de contratación, con un correcto análisis del mercado | I17: =+EVALUACION!I18 -> 2 | J17: =+EVALUACION!J18 -> 3 | K17: =+I17+J17 -> 5 | L17: =IF(K17<=4,"BAJO",IF(K17=5,"MEDIO",IF(K17=6,"ALTO",IF(K17=7,"ALTO","EXTREMO")))) -> MEDIO | M17: NO | N17: Formuladores del proyecto | O17: 18 de septiembre de 2024 | P17: 30 de septiembre de 2024 | Q17: Evaluación de estudios de mercado y verificación de cotizaciones. | R17: Quincenalmente hasta el cierre de la planificación.
B18: =+EVALUACION!B19 -> PLANEACIÓN | C18: =+EVALUACION!C19 -> Inadecuada descripción del bien o servicio requerido | G18: Involucrar a expertos técnicos en la redacción de los términos de referencia, garantizando una descripción detallada y precisa de los bienes o servicios requeridos. | I18: =+EVALUACION!I19 -> 2 | J18: =+EVALUACION!J19 -> 2 | K18: =+I18+J18 -> 4 | L18: =IF(K18<=4,"BAJO",IF(K18=5,"MEDIO",IF(K18=6,"ALTO",IF(K18=7,"ALTO","EXTREMO")))) -> BAJO | M18: NO | N18: Formuladores del proyecto | O18: 18 de septiembre de 2024 | P18: 30 de septiembre de 2024 | Q18: Validación con expertos técnicos y usuarios finales. | R18: Semanalmente hasta el cierre de la planificación.
B19: =+EVALUACION!B20 -> PLANEACIÓN | C19: =+EVALUACION!C20 -> Falta de profundidad en el estudio de sector no identificandose claramente aspectos de oferta y demanda | G19: Llevar a cabo análisis exhaustivos de oferta y demanda del sector, incluyendo consultas con proveedores y actores clave del mercado. Utilizar datos actualizados para respaldar las decisiones. | I19: =+EVALUACION!I20 -> 1 | J19: =+EVALUACION!J20 -> 2 | K19: =+I19+J19 -> 3 | L19: =IF(K19<=4,"BAJO",IF(K19=5,"MEDIO",IF(K19=6,"ALTO",IF(K19=7,"ALTO","EXTREMO")))) -> BAJO | M19: NO | N19: Formuladores del proyecto | O19: 18 de septiembre de 2024 | P19: 30 de septiembre de 2024 | Q19: Verificación de la información por parte del area encargada del proceso. | R19: Semanalmente hasta el cierre de la planificación.
B20: =+EVALUACION!B21 -> PLANEACIÓN | C20: =+EVALUACION!C21 -> Ausencia de fundamentación de la justificación y conveniencia de la contratación | G20: Realizar el análisis de sector a partir de herramientas como Colombia Compra Eficiente y el estudio de mercado realizado por la entidad, en el cual se incluyen las variables pertinentes reguladas por el Estado asociados al objeto contractual. | I20: =+EVALUACION!I21 -> 2 | J20: =+EVALUACION!J21 -> 2 | K20: =+I20+J20 -> 4 | L20: =IF(K20<=4,"BAJO",IF(K20=5,"MEDIO",IF(K20=6,"ALTO",IF(K20=7,"ALTO","EXTREMO")))) -> BAJO | M20: NO | N20: Formuladores del proyecto | O20: 18 de septiembre de 2024 | P20: 30 de septiembre de 2024 | Q20: Verificación de la información por parte del area encargada del proceso. | R20: Semanalmente hasta el cierre de la planificación.
B21: =+EVALUACION!B22 -> PLANEACIÓN | C21: =+EVALUACION!C22 -> Inadecuada identificación de las condiciones contractuales | G21: Contar con asesoría jurídica especializada para definir las condiciones contractuales. Realizar talleres de capacitación para el equipo responsable sobre aspectos clave de los contratos. | I21: =+EVALUACION!I22 -> 2 | J21: =+EVALUACION!J22 -> 3 | K21: =+I21+J21 -> 5 | L21: =IF(K21<=4,"BAJO",IF(K21=5,"MEDIO",IF(K21=6,"ALTO",IF(K21=7,"ALTO","EXTREMO")))) -> MEDIO | M21: NO | N21: Formuladores del proyecto | O21: 18 de septiembre de 2024 | P21: 30 de septiembre de 2024 | Q21: Verificación de la información por parte del area encargada del proceso. | R21: Semanalmente hasta el cierre de la planificación.
B22: =+EVALUACION!B23 -> SELECCIÓN | C22: =+EVALUACION!C23 -> Falta de claridad en la elaboración de los actos administrativos | G22: Control y vigilancia del cumplimiento de los requisitos de Ley para la celebración, el perfeccionamiento y de ejecucion del contrato. | I22: =+EVALUACION!I23 -> 1 | J22: =+EVALUACION!J23 -> 2 | K22: =+I22+J22 -> 3 | L22: =IF(K22<=4,"BAJO",IF(K22=5,"MEDIO",IF(K22=6,"ALTO",IF(K22=7,"ALTO","EXTREMO")))) -> BAJO | M22: NO | N22: Profesional de contratación que apoya el proceso | O22: 18 de septiembre de 2024 | P22: 30 de septiembre de 2024 | Q22: Verificación de la información por parte del Profesional de contratación que apoya el proceso | R22: Durante etapa de selección
B23: =+EVALUACION!B24 -> SELECCIÓN | C23: =+EVALUACION!C24 -> Contestación inoportuna a todas las observaciones formuladas a los documentos de la contratación | G23: Implementar un sistema de gestión de tiempos que asegure la contestación de las observaciones dentro de los plazos establecidos. | I23: =+EVALUACION!I24 -> 1 | J23: =+EVALUACION!J24 -> 2 | K23: =+I23+J23 -> 3 | L23: =IF(K23<=4,"BAJO",IF(K23=5,"MEDIO",IF(K23=6,"ALTO",IF(K23=7,"ALTO","EXTREMO")))) -> BAJO | M23: NO | N23: Comité evaluador /Profesional de contratación que apoya el proceso/Profesional de Planeación a cargo de la formulación del proceso | O23: 18 de septiembre de 2024 | P23: 30 de septiembre de 2024 | Q23: Verificación de la información por parte del comité evaluador/Profesional de contratación que apoya el proceso/Profesional de Planeación a cargo de la formulación del proceso | R23: Durante etapa de selección
B24: =+EVALUACION!B25 -> SELECCIÓN | C24: =+EVALUACION!C25 -> No publicación de la documentación del proceso de selección en el SECOP | G24: Establecer controles internos para verificar que toda la documentación requerida sea publicada en el SECOP en tiempo y forma, con responsables asignados para cada fase del proceso. | I24: =+EVALUACION!I25 -> 1 | J24: =+EVALUACION!J25 -> 2 | K24: =+I24+J24 -> 3 | L24: =IF(K24<=4,"BAJO",IF(K24=5,"MEDIO",IF(K24=6,"ALTO",IF(K24=7,"ALTO","EXTREMO")))) -> BAJO | M24: NO | N24: Comité evaluador /Profesional de contratación que apoya el proceso/Profesional de Planeación a cargo de la formulación del proceso | O24: 30 de septiembre de 2024 | P24: 09 de octubre de 2024 | Q24: Control en plataforma SECOP y reportes de publicación. | R24: Durante etapa de selección
B25: =+EVALUACION!B26 -> SELECCIÓN | C25: =+EVALUACION!C26 -> Confabulacion de los proponentes (Colusión) | G25: Evaluar el proceso de contratación, atendiendo cada una de las recomendaciones legales y realizar una correcta aplicación de la normatividad vigente. | I25: =+EVALUACION!I26 -> 2 | J25: =+EVALUACION!J26 -> 4 | K25: =+I25+J25 -> 6 | L25: =IF(K25<=4,"BAJO",IF(K25=5,"MEDIO",IF(K25=6,"ALTO",IF(K25=7,"ALTO","EXTREMO")))) -> ALTO | M25: NO | N25: Comité evaluador /Profesional de contratación que apoya el proceso/Profesional de Planeación a cargo de la formulación del proceso | O25: 30 de septiembre de 2024 | P25: 05 de octubre de 2024 | Q25: Auditorías internas y análisis de antecedentes de los proponentes. | R25: Monitoreo constante durante el proceso de selección.
B26: =+EVALUACION!B27 -> CONTRATACIÓN | C26: =+EVALUACION!C27 -> Riesgo de que no se firme el contrato. | G26: Asegurar la verificación previa de toda la documentación requerida para la firma del contrato. Establecer una fecha límite clara para la firma, con mecanismos de seguimiento en caso de incumplimiento. | I26: =+EVALUACION!I27 -> 1 | J26: =+EVALUACION!J27 -> 2 | K26: =+I26+J26 -> 3 | L26: =IF(K26<=4,"BAJO",IF(K26=5,"MEDIO",IF(K26=6,"ALTO",IF(K26=7,"ALTO","EXTREMO")))) -> BAJO | M26: SI | N26: Contratación | O26: 30 de septiembre de 2024 | P26: 09 de octubre de 2024 | Q26: Seguimiento diario a la firma de contratos | R26: Monitoreo constante hata la firma del contrato
