Workbook
Name Print_Area: 'Resumen - Evaluación jurídica'!$B$11:$D$36

Sheet Resumen - Evaluación jurídica
C2: SERVICIO NACIONAL DE APRENDIZAJE - SENA | D2: Código: GCCON-F-038
C4: CONSOLIDADO | D4: V.02 | J4: G153 | K4: F13
C5: EVALUACIÓN JURÍDICA - PROCESO NRO. SAMC-DC-CEET-101-2024
I6: ="='P-"&J6&"'!"&$J$4 -> ='P-1'!G153 | J6: 1 | K6: ="='P-"&J6&"'!"&$K$4 -> ='P-1'!F13
B7: OBJETO | C7: CONTRATAR LA COMPRA DE MAQUINARIA, MATERIALES Y OTROS EQUIPOS DE LOS PROYECTOS SENNOVA SGPS-13229-2024 Y SGPS-12162-2024 DEL CENTRO DE ELECTRICIDAD, ELECTRÓNICA Y TELECOMUNICACIONES - CEET SENA. | I7: ="='P-"&J7&"'!"&$J$4 -> ='P-2'!G153 | J7: 2 | K7: ="='P-"&J7&"'!"&$K$4 -> ='P-2'!F13
I8: ="='P-"&J8&"'!"&$J$4 -> ='P-3'!G153 | J8: 3 | K8: ="='P-"&J8&"'!"&$K$4 -> ='P-3'!F13
I9: ="='P-"&J9&"'!"&$J$4 -> ='P-4'!G153 | J9: 4 | K9: ="='P-"&J9&"'!"&$K$4 -> ='P-4'!F13
I10: ="='P-"&J10&"'!"&$J$4 -> ='P-5'!G153 | J10: 5 | K10: ="='P-"&J10&"'!"&$K$4 -> ='P-5'!F13
B11: NRO. | C11: NOMBRE PROPONENTE | D11: CALIFICACIÓN | I11: ="='P-"&J11&"'!"&$J$4 -> ='P-6'!G153 | J11: 6 | K11: ="='P-"&J11&"'!"&$K$4 -> ='P-6'!F13
B12: P-1 | C12: =+'P-1'!F13 -> GNH COLOMBIA SAS | D12: {=+'P-1'!G162:J162} -> CUMPLE | E12: 0 | F12: 0 | G12: 0 | I12: ="='P-"&J12&"'!"&$J$4 -> ='P-7'!G153 | J12: 7 | K12: ="='P-"&J12&"'!"&$K$4 -> ='P-7'!F13
B13: P-2 | C13: =+'P-2'!F13 -> ANDIREC LTDA | D13: {=+'P-2'!G162:J162} -> CUMPLE | E13: 0 | F13: 0 | G13: 0 | I13: ="='P-"&J13&"'!"&$J$4 -> ='P-8'!G153 | J13: 8 | K13: ="='P-"&J13&"'!"&$K$4 -> ='P-8'!F13
B14: P-3 | C14: =+'P-3'!F13 -> ECOSISTEMAS Y SOLUCIONES SAS | D14: {=+'P-3'!G162:J162} -> CUMPLE | E14: 0 | F14: 0 | G14: 0 | I14: ="='P-"&J14&"'!"&$J$4 -> ='P-9'!G153 | J14: 9 | K14: ="='P-"&J14&"'!"&$K$4 -> ='P-9'!F13
B15: P-4 | C15: =+'P-4'!F13 -> EQUINTEC S.A.S | D15: {=+'P-4'!G162:J162} -> CUMPLE | E15: 0 | F15: 0 | G15: 0 | I15: ="='P-"&J15&"'!"&$J$4 -> ='P-10'!G153 | J15: 10 | K15: ="='P-"&J15&"'!"&$K$4 -> ='P-10'!F13
B16: P-5 | C16: =+'P-5'!F13 -> GRUPO CAF TECNOLOGIA SAS | D16: {=+'P-1'!G162:J162} -> CUMPLE | E16: 0 | F16: 0 | G16: 0 | I16: ="='P-"&J16&"'!"&$J$4 -> ='P-11'!G153 | J16: 11 | K16: ="='P-"&J16&"'!"&$K$4 -> ='P-11'!F13
I17: ="='P-"&J17&"'!"&$J$4 -> ='P-27'!G153 | J17: 27 | K17: ="='P-"&J17&"'!"&$K$4 -> ='P-27'!F13
I18: ="='P-"&J18&"'!"&$J$4 -> ='P-28'!G153 | J18: 28 | K18: ="='P-"&J18&"'!"&$K$4 -> ='P-28'!F13
B19: NOTA. Si el resultado de la evaluación es "NO CUMPLE", el oferente deberá subsanar la propuesta durante el término establecido en el cronograma del proceso o la ley, según el caso. | I19: ="='P-"&J19&"'!"&$J$4 -> ='P-29'!G153 | J19: 29 | K19: ="='P-"&J19&"'!"&$K$4 -> ='P-29'!F13
I20: ="='P-"&J20&"'!"&$J$4 -> ='P-30'!G153 | J20: 30 | K20: ="='P-"&J20&"'!"&$K$4 -> ='P-30'!F13
B23: CUMPLE | D23: =COUNTIF(D12:D16,F101) -> 5
B24: NO CUMPLE | D24: =COUNTIF(D12:D16,F102) -> 0
B25: RECHAZADO | D25: =COUNTIF(D12:D16,F103) -> 0
B26: TOTAL | D26: =SUM(D23:D25) -> 5
C31: DIANA MARIA CARVAJAL TELLEZ
C32: Abogada Grupo de Apoyo Administrativo Intercentros Complejo del Sur – SENA
I74: ="='P-"&J74&"'!"&$J$4 -> ='P-75'!G153 | J74: 75 | K74: ="='P-"&J74&"'!"&$K$4 -> ='P-75'!F13
I75: ="='P-"&J75&"'!"&$J$4 -> ='P-76'!G153 | J75: 76 | K75: ="='P-"&J75&"'!"&$K$4 -> ='P-76'!F13
I76: ="='P-"&J76&"'!"&$J$4 -> ='P-77'!G153 | J76: 77 | K76: ="='P-"&J76&"'!"&$K$4 -> ='P-77'!F13
I77: ="='P-"&J77&"'!"&$J$4 -> ='P-78'!G153 | J77: 78 | K77: ="='P-"&J77&"'!"&$K$4 -> ='P-78'!F13
I78: ="='P-"&J78&"'!"&$J$4 -> ='P-79'!G153 | J78: 79 | K78: ="='P-"&J78&"'!"&$K$4 -> ='P-79'!F13
I79: ="='P-"&J79&"'!"&$J$4 -> ='P-80'!G153 | J79: 80 | K79: ="='P-"&J79&"'!"&$K$4 -> ='P-80'!F13
F96: APLICA
F97: NO APLICA
F101: CUMPLE
F102: NO CUMPLE
F103: RECHAZADO
F104: X
L106: ="='P-"&#REF!&"'!"&#REF! -> #REF!

Sheet P-1
E2: SERVICIO NACIONAL DE APRENDIZAJE - SENA | L2: Código: GCCON-F-038
E4: ='Resumen - Evaluación jurídica'!C5 -> EVALUACIÓN JURÍDICA - PROCESO NRO. SAMC-DC-CEET-101-2024 | L4: V.02
C6: OBJETO | E6: ='Resumen - Evaluación jurídica'!C7 -> CONTRATAR LA COMPRA DE MAQUINARIA, MATERIALES Y OTROS EQUIPOS DE LOS PROYECTOS SENNOVA SGPS-13229-2024 Y SGPS-12162-2024 DEL CENTRO DE ELECTRICIDAD, ELECTRÓNICA Y TELECOMUNICACIONES - CEET SENA.
D11: Proponente nro. | I11: Lotes | J11: SÍ | K11: Número(s) | L11: 1, 5, 6 Y 7
D13: Nombre del proponente: | F13: GNH COLOMBIA SAS
D15: Integrante 1: | L15: %Participación
D17: Integrante 2: | L17: %Participación
D19: Integrante 3: | L19: %Participación
D21: Integrante 4: | L21: %Participación
Q23: SÍ
Q24: NO
D25: REQUISITO | M25: CUMPLE | Q25: N.A.
C27: 1 | D27: Documento de proponente plural | L27: N.A.
C28: 1.1 | D28: Forma de unión | M28: N.A. | Q28: N.A.
C29: 1.2 | D29: Objeto | M29: N.A. | Q29: Unión Temporal
C30: 1.3 | D30: Vigencia | M30: N.A. | Q30: Consorcio
C31: 1.4 | D31: Participación | M31: N.A. | Q31: Promesa de sociedad futura
C32: 1.5 | D32: Otros | M32: N.A.
D34: NOTA
C36: 2 | D36: Carta de presentación de la propuesta en el formato de la entidad | M36: SÍ
C37: 2.1 | D37: Aval de la propuesta y consulta de antecedentes del profesional (COPNIA o similares) | M37: N.A.
D39: NOTA
C41: 3 | D41: Documento de identificación del Representante legal o Persona natural (PN) | M41: SÍ
D43: NOTA
C45: 4 | D45: FORMATO ANTICORRUPCIÓN | M45: SÍ
D47: NOTA
C49: 5 | D49: Certificado de existencia y representación legal (CERL) o Registro mercantil (RM) | M49: SÍ
D51: NOTA
C53: 6 | D53: Validación de la información del CERL o del RM
C54: 6.1 | D54: Expedición | M54: SÍ
C55: 6.2 | D55: Objeto social relacionado | M55: SÍ
C56: 6.3 | D56: Facultades | M56: SÍ
C57: 6.4 | D57: Constitución y vigencia | M57: SÍ
C58: 6.5 | D58: Tamaño | M58: SÍ
C59: 6.6 | D59: Domicilio | M59: SÍ
C60: 6.7 | D60: Otros | M60: N.A.
D62: NOTA
C64: 7 | D64: Registro Único de Proponentes – RUP | M64: SÍ
D66: NOTA
C68: 8 | D68: Validación de la información del RUP
C69: 8.1 | D69: Expedición | M69: SÍ
C70: 8.2 | D70: Renovación | M70: SÍ
C71: 8.3 | D71: Firmeza | M71: SÍ
C72: 8.4 | D72: Multas y declaratorias de incumplimiento | M72: SÍ
D74: NOTA | E74: Subsana
C76: 9 | D76: Registro Único Tributario - RUT | M76: SÍ
D78: NOTA
C80: 10 | D80: Certificación de aportes al Sistema de seguridad social y parafiscales | M80: SÍ
D82: NOTA
C84: 11 | D84: Validación de aportes al Sistema de seguridad social y parafiscales (Aplica para Persona jurídica) | M84: SÍ
C85: 11.1. | D85: Revisor fiscal (RF) o contador | M85: SÍ
C86: 11.2 | D86: Documento de identificación del RF o contador | M86: SÍ
C87: 11.3 | D87: Tarjeta profesional del RF o contador | M87: SÍ
C88: 11.4 | D88: Antecedentes Junta Central de Contadores del RF o contador | M88: SÍ
D90: NOTA
C92: 12 | D92: Garantía de seriedad de la oferta | M92: SÍ
C93: 12.1 | D93: Expedición | M93: SÍ
C94: 12.2 | D94: Tomador | M94: SÍ
C95: 12.3 | D95: Asegurado | M95: SÍ
C96: 12.4 | D96: Objeto del proceso | M96: SÍ
C97: 12.5 | D97: Valor amparado | M97: SÍ
C98: 12.6 | D98: Vigencia | M98: SÍ
C99: 12.7 | D99: Incluidos los integrantes de la forma asociativa | M99: N.A.
C100: 12.8 | D100: Validación de autenticidad | M100: SÍ
D102: NOTA | E102: De conformidad a los lotes que se presenta.
C104: 13 | D104: Certificado de antecedentes fiscales - CGR | M104: SÍ
D106: NOTA
C108: 14 | D108: Certificado de antecedentes disciplinarios - PGN | M108: SÍ
D110: NOTA | E110: No se adjuntan sin embargo la entidad, realiza verificación
C112: 15 | D112: Antecedentes Judiciales Policía Nacional | M112: SÍ
D114: NOTA | E114: No se adjuntan sin embargo la entidad, realiza verificación
C116: 16 | D116: Consulta en el RNMC | M116: SÍ
D118: NOTA
C120: 17 | D120: Certificado REDAM | M120: SÍ
D122: NOTA
C124: 18 | D124: AUTORIZACIÓN PARA NOTIFICACIÓN ELECTRONICA DE ACTOS ADMINISTRATIVOS | M124: SÍ
D126: NOTA
C128: 19 | D128: ACREDITACION SOCIOS QUE CONFORMAN LA SOCIEDAD | M128: SÍ
D130: NOTA
C132: 20 | D132: CERTIFICADO DE IMPLEMENTACIÓN DEL SISTEMA DE GESTIÓN DE LA SEGURIDAD Y SALUD EN EL TRABAJO | M132: SÍ
D134: NOTA
C136: 21 | D136: PACTO DE TRANSPARENCIA | M136: SÍ
D138: NOTA
C140: 22 | D140: CERTIFICACIÓN DE APLICACIÓN DE NORMAS DE PREVENCIÓN Y CONTROL DEL LAVADO DE ACTIVOS Y FINANCIACIÓN DEL TERRORISMO | M140: SÍ
D142: NOTA
C144: 23 | D144: CERTIFICACIÓN BANCARIA | M144: SÍ
D146: NOTA
C148: 24 | D148: RIT | M148: SÍ
D149: NOTA
C151: 25 | D151: DECLARACIÓN DE INHABILIDADES E INCOMPATIBILIDADES | M151: SÍ
D152: NOTA | E152: Subsana
C154: 26 | D154: Acreditación MiPymes Territoriales Domiciliadas en Bogotá. | M154: SÍ
D155: NOTA | E155: Subsana
C160: RESULTADO DE LA EVALUACIÓN
G162: =+IF(L27="","",IF(OR(L27="NO",M28="NO",M29="NO",M30="NO",M31="NO",M32="NO",M36="NO",M37="NO",M41="NO",M45="NO",M49="NO",M54="NO",M55="NO",M56="NO",M57="NO",M58="NO",M59="NO",M60,M64="NO",M69="NO",M70="NO",M71="NO",M72="NO",M76="NO",M80="NO",M84="NO",M85="NO",M86="NO",M87="NO",M88="NO",M92="NO",M93="NO",M94="NO",M95="NO",M96="NO",M97="NO",M98="NO",M99="NO",M100="NO",M104="NO",M108="NO",M112="NO",M116="NO",M120="NO",M124="NO",M128="NO",M132="NO",M136="NO",M140="NO",M144="NO",M148="NO",M151="NO",M154="NO"),"NO CUMPLE","CUMPLE")) -> CUMPLE
C164: NOTA. Si el resultado de la evaluación es "NO CUMPLE", el oferente deberá subsanar la propuesta durante el término establecido en el cronograma del proceso o la ley, según el caso.

Sheet P-2
E2: SERVICIO NACIONAL DE APRENDIZAJE - SENA | L2: Código: GCCON-F-038
E4: ='Resumen - Evaluación jurídica'!C5 -> EVALUACIÓN JURÍDICA - PROCESO NRO. SAMC-DC-CEET-101-2024 | L4: V.02
C6: OBJETO | E6: ='Resumen - Evaluación jurídica'!C7 -> CONTRATAR LA COMPRA DE MAQUINARIA, MATERIALES Y OTROS EQUIPOS DE LOS PROYECTOS SENNOVA SGPS-13229-2024 Y SGPS-12162-2024 DEL CENTRO DE ELECTRICIDAD, ELECTRÓNICA Y TELECOMUNICACIONES - CEET SENA.
D11: Proponente nro. | I11: Lotes | J11: N.A. | K11: Número(s) | L11: 1, 2, 5, 6 y 7
D13: Nombre del proponente: | F13: ANDIREC LTDA
D15: Integrante 1: | L15: %Participación
D17: Integrante 2: | L17: %Participación
D19: Integrante 3: | L19: %Participación
D21: Integrante 4: | L21: %Participación
Q23: SÍ
Q24: NO
D25: REQUISITO | M25: CUMPLE | Q25: N.A.
C27: 1 | D27: Documento de proponente plural | L27: N.A.
C28: 1.1 | D28: Forma de unión | M28: N.A. | Q28: N.A.
C29: 1.2 | D29: Objeto | M29: N.A. | Q29: Unión Temporal
C30: 1.3 | D30: Vigencia | M30: N.A. | Q30: Consorcio
C31: 1.4 | D31: Participación | M31: N.A. | Q31: Promesa de sociedad futura
C32: 1.5 | D32: Otros | M32: N.A.
D34: NOTA
C36: 2 | D36: Carta de presentación de la propuesta en el formato de la entidad | M36: SÍ
C37: 2.1 | D37: Aval de la propuesta y consulta de antecedentes del profesional (COPNIA o similares) | M37: N.A.
D39: NOTA
C41: 3 | D41: Documento de identificación del Representante legal o Persona natural (PN) | M41: SÍ
D43: NOTA
C45: 4 | D45: FORMATO ANTICORRUPCIÓN | M45: SÍ
D47: NOTA
C49: 5 | D49: Certificado de existencia y representación legal (CERL) o Registro mercantil (RM) | M49: SÍ
D51: NOTA
C53: 6 | D53: Validación de la información del CERL o del RM
C54: 6.1 | D54: Expedición | M54: SÍ
C55: 6.2 | D55: Objeto social relacionado | M55: SÍ
C56: 6.3 | D56: Facultades | M56: SÍ
C57: 6.4 | D57: Constitución y vigencia | M57: SÍ
C58: 6.5 | D58: Tamaño | M58: SÍ
C59: 6.6 | D59: Domicilio | M59: SÍ
C60: 6.7 | D60: Otros | M60: N.A.
D62: NOTA
C64: 7 | D64: Registro Único de Proponentes – RUP | M64: SÍ
D66: NOTA
C68: 8 | D68: Validación de la información del RUP
C69: 8.1 | D69: Expedición | M69: SÍ
C70: 8.2 | D70: Renovación | M70: SÍ
C71: 8.3 | D71: Firmeza | M71: SÍ
C72: 8.4 | D72: Multas y declaratorias de incumplimiento | M72: SÍ
D74: NOTA | E74: Subsana
C76: 9 | D76: Registro Único Tributario - RUT | M76: SÍ
D78: NOTA
C80: 10 | D80: Certificación de aportes al Sistema de seguridad social y parafiscales | M80: SÍ
D82: NOTA
C84: 11 | D84: Validación de aportes al Sistema de seguridad social y parafiscales (Aplica para Persona jurídica) | M84: SÍ
C85: 11.1. | D85: Revisor fiscal (RF) o contador | M85: SÍ
C86: 11.2 | D86: Documento de identificación del RF o contador | M86: SÍ
C87: 11.3 | D87: Tarjeta profesional del RF o contador | M87: SÍ
C88: 11.4 | D88: Antecedentes Junta Central de Contadores del RF o contador | M88: SÍ
D90: NOTA
C92: 12 | D92: Garantía de seriedad de la oferta | M92: SÍ
C93: 12.1 | D93: Expedición | M93: SÍ
C94: 12.2 | D94: Tomador | M94: SÍ
C95: 12.3 | D95: Asegurado | M95: SÍ
C96: 12.4 | D96: Objeto del proceso | M96: SÍ
C97: 12.5 | D97: Valor amparado | M97: SÍ
C98: 12.6 | D98: Vigencia | M98: SÍ
C99: 12.7 | D99: Incluidos los integrantes de la forma asociativa | M99: N.A.
C100: 12.8 | D100: Validación de autenticidad | M100: SÍ
D102: NOTA | E102: De conformidad a los lotes que se presenta.
C104: 13 | D104: Certificado de antecedentes fiscales - CGR | M104: SÍ
D106: NOTA
C108: 14 | D108: Certificado de antecedentes disciplinarios - PGN | M108: SÍ
D110: NOTA
C112: 15 | D112: Antecedentes Judiciales Policía Nacional | M112: SÍ
D114: NOTA
C116: 16 | D116: Consulta en el RNMC | M116: SÍ
D118: NOTA
C120: 17 | D120: Certificado REDAM | M120: SÍ
D122: NOTA
C124: 18 | D124: AUTORIZACIÓN PARA NOTIFICACIÓN ELECTRONICA DE ACTOS ADMINISTRATIVOS | M124: SÍ
D126: NOTA
C128: 19 | D128: ACREDITACION SOCIOS QUE CONFORMAN LA SOCIEDAD | M128: SÍ
D130: NOTA
C132: 20 | D132: CERTIFICADO DE IMPLEMENTACIÓN DEL SISTEMA DE GESTIÓN DE LA SEGURIDAD Y SALUD EN EL TRABAJO | M132: SÍ
D134: NOTA
C136: 21 | D136: PACTO DE TRANSPARENCIA | M136: SÍ
D138: NOTA
C140: 22 | D140: CERTIFICACIÓN DE APLICACIÓN DE NORMAS DE PREVENCIÓN Y CONTROL DEL LAVADO DE ACTIVOS Y FINANCIACIÓN DEL TERRORISMO | M140: SÍ
D142: NOTA
C144: 23 | D144: CERTIFICACIÓN BANCARIA | M144: SÍ
D146: NOTA
C148: 24 | D148: RIT | M148: SÍ
D149: NOTA
C151: 25 | D151: DECLARACIÓN DE INHABILIDADES E INCOMPATIBILIDADES | M151: SÍ
D152: NOTA | E152: Subsana
C154: 26 | D154: Acreditación MiPymes Territoriales Domiciliadas en Bogotá. | M154: SÍ
D155: NOTA
C160: RESULTADO DE LA EVALUACIÓN
G162: =+IF(L27="","",IF(OR(L27="NO",M28="NO",M29="NO",M30="NO",M31="NO",M32="NO",M36="NO",M37="NO",M41="NO",M45="NO",M49="NO",M54="NO",M55="NO",M56="NO",M57="NO",M58="NO",M59="NO",M60,M64="NO",M69="NO",M70="NO",M71="NO",M72="NO",M76="NO",M80="NO",M84="NO",M85="NO",M86="NO",M87="NO",M88="NO",M92="NO",M93="NO",M94="NO",M95="NO",M96="NO",M97="NO",M98="NO",M99="NO",M100="NO",M104="NO",M108="NO",M112="NO",M116="NO",M120="NO",M124="NO",M128="NO",M132="NO",M136="NO",M140="NO",M144="NO",M148="NO",M151="NO",M154="NO"),"NO CUMPLE","CUMPLE")) -> CUMPLE
C164: NOTA. Si el resultado de la evaluación es "NO CUMPLE", el oferente deberá subsanar la propuesta durante el término establecido en el cronograma del proceso o la ley, según el caso.

Sheet P-3
E2: SERVICIO NACIONAL DE APRENDIZAJE - SENA | L2: Código: GCCON-F-038
E4: ='Resumen - Evaluación jurídica'!C5 -> EVALUACIÓN JURÍDICA - PROCESO NRO. SAMC-DC-CEET-101-2024 | L4: V.02
C6: OBJETO | E6: ='Resumen - Evaluación jurídica'!C7 -> CONTRATAR LA COMPRA DE MAQUINARIA, MATERIALES Y OTROS EQUIPOS DE LOS PROYECTOS SENNOVA SGPS-13229-2024 Y SGPS-12162-2024 DEL CENTRO DE ELECTRICIDAD, ELECTRÓNICA Y TELECOMUNICACIONES - CEET SENA.
D11: Proponente nro. | I11: Lotes | J11: N.A. | K11: Número(s) | L11: 1, 2 y 7
D13: Nombre del proponente: | F13: ECOSISTEMAS Y SOLUCIONES SAS
D15: Integrante 1: | L15: %Participación
D17: Integrante 2: | L17: %Participación
D19: Integrante 3: | L19: %Participación
D21: Integrante 4: | L21: %Participación
Q23: SÍ
Q24: NO
D25: REQUISITO | M25: CUMPLE | Q25: N.A.
C27: 1 | D27: Documento de proponente plural | L27: N.A.
C28: 1.1 | D28: Forma de unión | M28: N.A. | Q28: N.A.
C29: 1.2 | D29: Objeto | M29: N.A. | Q29: Unión Temporal
C30: 1.3 | D30: Vigencia | M30: N.A. | Q30: Consorcio
C31: 1.4 | D31: Participación | M31: N.A. | Q31: Promesa de sociedad futura
C32: 1.5 | D32: Otros | M32: N.A.
D34: NOTA
C36: 2 | D36: Carta de presentación de la propuesta en el formato de la entidad | M36: SÍ
C37: 2.1 | D37: Aval de la propuesta y consulta de antecedentes del profesional (COPNIA o similares) | M37: N.A.
D39: NOTA
C41: 3 | D41: Documento de identificación del Representante legal o Persona natural (PN) | M41: SÍ
D43: NOTA
C45: 4 | D45: FORMATO ANTICORRUPCIÓN | M45: SÍ
D47: NOTA
C49: 5 | D49: Certificado de existencia y representación legal (CERL) o Registro mercantil (RM) | M49: SÍ
D51: NOTA
C53: 6 | D53: Validación de la información del CERL o del RM
C54: 6.1 | D54: Expedición | M54: SÍ
C55: 6.2 | D55: Objeto social relacionado | M55: SÍ
C56: 6.3 | D56: Facultades | M56: SÍ
C57: 6.4 | D57: Constitución y vigencia | M57: SÍ
C58: 6.5 | D58: Tamaño | M58: SÍ
C59: 6.6 | D59: Domicilio | M59: SÍ
C60: 6.7 | D60: Otros | M60: N.A.
D62: NOTA
C64: 7 | D64: Registro Único de Proponentes – RUP | M64: SÍ
D66: NOTA
C68: 8 | D68: Validación de la información del RUP
C69: 8.1 | D69: Expedición | M69: SÍ
C70: 8.2 | D70: Renovación | M70: SÍ
C71: 8.3 | D71: Firmeza | M71: SÍ
C72: 8.4 | D72: Multas y declaratorias de incumplimiento | M72: SÍ
D74: NOTA
C76: 9 | D76: Registro Único Tributario - RUT | M76: SÍ
D78: NOTA
C80: 10 | D80: Certificación de aportes al Sistema de seguridad social y parafiscales | M80: SÍ
D82: NOTA
C84: 11 | D84: Validación de aportes al Sistema de seguridad social y parafiscales (Aplica para Persona jurídica) | M84: SÍ
C85: 11.1. | D85: Revisor fiscal (RF) o contador | M85: SÍ
C86: 11.2 | D86: Documento de identificación del RF o contador | M86: SÍ
C87: 11.3 | D87: Tarjeta profesional del RF o contador | M87: SÍ
C88: 11.4 | D88: Antecedentes Junta Central de Contadores del RF o contador | M88: SÍ
D90: NOTA
C92: 12 | D92: Garantía de seriedad de la oferta | M92: SÍ
C93: 12.1 | D93: Expedición | M93: SÍ
C94: 12.2 | D94: Tomador | M94: SÍ
C95: 12.3 | D95: Asegurado | M95: SÍ
C96: 12.4 | D96: Objeto del proceso | M96: SÍ
C97: 12.5 | D97: Valor amparado | M97: SÍ
C98: 12.6 | D98: Vigencia | M98: SÍ
C99: 12.7 | D99: Incluidos los integrantes de la forma asociativa | M99: N.A.
C100: 12.8 | D100: Validación de autenticidad | M100: SÍ
D102: NOTA | E102: De conformidad a los lotes que se presenta.
C104: 13 | D104: Certificado de antecedentes fiscales - CGR | M104: SÍ
D106: NOTA
C108: 14 | D108: Certificado de antecedentes disciplinarios - PGN | M108: SÍ
D110: NOTA
C112: 15 | D112: Antecedentes Judiciales Policía Nacional | M112: SÍ
D114: NOTA
C116: 16 | D116: Consulta en el RNMC | M116: SÍ
D118: NOTA | E118: Fecha mayor a 30 dias antes del cierre por lo que la entidad realiza la verificacion.
C120: 17 | D120: Certificado REDAM | M120: SÍ
D122: NOTA
C124: 18 | D124: AUTORIZACIÓN PARA NOTIFICACIÓN ELECTRONICA DE ACTOS ADMINISTRATIVOS | M124: SÍ
D126: NOTA
C128: 19 | D128: ACREDITACION SOCIOS QUE CONFORMAN LA SOCIEDAD | M128: SÍ
D130: NOTA
C132: 20 | D132: CERTIFICADO DE IMPLEMENTACIÓN DEL SISTEMA DE GESTIÓN DE LA SEGURIDAD Y SALUD EN EL TRABAJO | M132: SÍ
D134: NOTA
C136: 21 | D136: PACTO DE TRANSPARENCIA | M136: SÍ
D138: NOTA
C140: 22 | D140: CERTIFICACIÓN DE APLICACIÓN DE NORMAS DE PREVENCIÓN Y CONTROL DEL LAVADO DE ACTIVOS Y FINANCIACIÓN DEL TERRORISMO | M140: SÍ
D142: NOTA
C144: 23 | D144: CERTIFICACIÓN BANCARIA | M144: SÍ
D146: NOTA
C148: 24 | D148: RIT | M148: SÍ
D149: NOTA
C151: 25 | D151: DECLARACIÓN DE INHABILIDADES E INCOMPATIBILIDADES | M151: SÍ
D152: NOTA | E152: Subsana
C154: 26 | D154: Acreditación MiPymes Territoriales Domiciliadas en Bogotá. | M154: SÍ
D155: NOTA | E155: Subsana
C160: RESULTADO DE LA EVALUACIÓN
G162: =+IF(L27="","",IF(OR(L27="NO",M28="NO",M29="NO",M30="NO",M31="NO",M32="NO",M36="NO",M37="NO",M41="NO",M45="NO",M49="NO",M54="NO",M55="NO",M56="NO",M57="NO",M58="NO",M59="NO",M60,M64="NO",M69="NO",M70="NO",M71="NO",M72="NO",M76="NO",M80="NO",M84="NO",M85="NO",M86="NO",M87="NO",M88="NO",M92="NO",M93="NO",M94="NO",M95="NO",M96="NO",M97="NO",M98="NO",M99="NO",M100="NO",M104="NO",M108="NO",M112="NO",M116="NO",M120="NO",M124="NO",M128="NO",M132="NO",M136="NO",M140="NO",M144="NO",M148="NO",M151="NO",M154="NO"),"NO CUMPLE","CUMPLE")) -> CUMPLE
C164: NOTA. Si el resultado de la evaluación es "NO CUMPLE", el oferente deberá subsanar la propuesta durante el término establecido en el cronograma del proceso o la ley, según el caso.

Sheet P-4
E2: SERVICIO NACIONAL DE APRENDIZAJE - SENA | L2: Código: GCCON-F-038
E4: ='Resumen - Evaluación jurídica'!C5 -> EVALUACIÓN JURÍDICA - PROCESO NRO. SAMC-DC-CEET-101-2024 | L4: V.02
C6: OBJETO | E6: ='Resumen - Evaluación jurídica'!C7 -> CONTRATAR LA COMPRA DE MAQUINARIA, MATERIALES Y OTROS EQUIPOS DE LOS PROYECTOS SENNOVA SGPS-13229-2024 Y SGPS-12162-2024 DEL CENTRO DE ELECTRICIDAD, ELECTRÓNICA Y TELECOMUNICACIONES - CEET SENA.
D11: Proponente nro. | I11: Lotes | J11: N.A. | K11: Número(s) | L11: 4
D13: Nombre del proponente: | F13: EQUINTEC S.A.S
D15: Integrante 1: | L15: %Participación
D17: Integrante 2: | L17: %Participación
D19: Integrante 3: | L19: %Participación
D21: Integrante 4: | L21: %Participación
Q23: SÍ
Q24: NO
D25: REQUISITO | M25: CUMPLE | Q25: N.A.
C27: 1 | D27: Documento de proponente plural | L27: N.A.
C28: 1.1 | D28: Forma de unión | M28: N.A. | Q28: N.A.
C29: 1.2 | D29: Objeto | M29: N.A. | Q29: Unión Temporal
C30: 1.3 | D30: Vigencia | M30: N.A. | Q30: Consorcio
C31: 1.4 | D31: Participación | M31: N.A. | Q31: Promesa de sociedad futura
C32: 1.5 | D32: Otros | M32: N.A.
D34: NOTA
C36: 2 | D36: Carta de presentación de la propuesta en el formato de la entidad | M36: SÍ
C37: 2.1 | D37: Aval de la propuesta y consulta de antecedentes del profesional (COPNIA o similares) | M37: N.A.
D39: NOTA
C41: 3 | D41: Documento de identificación del Representante legal o Persona natural (PN) | M41: SÍ
D43: NOTA
C45: 4 | D45: FORMATO ANTICORRUPCIÓN | M45: SÍ
D47: NOTA
C49: 5 | D49: Certificado de existencia y representación legal (CERL) o Registro mercantil (RM) | M49: SÍ
D51: NOTA
C53: 6 | D53: Validación de la información del CERL o del RM
C54: 6.1 | D54: Expedición | M54: SÍ
C55: 6.2 | D55: Objeto social relacionado | M55: SÍ
C56: 6.3 | D56: Facultades | M56: SÍ
C57: 6.4 | D57: Constitución y vigencia | M57: SÍ
C58: 6.5 | D58: Tamaño | M58: SÍ
C59: 6.6 | D59: Domicilio | M59: SÍ
C60: 6.7 | D60: Otros | M60: N.A.
D62: NOTA
C64: 7 | D64: Registro Único de Proponentes – RUP | M64: SÍ
D66: NOTA
C68: 8 | D68: Validación de la información del RUP
C69: 8.1 | D69: Expedición | M69: SÍ
C70: 8.2 | D70: Renovación | M70: SÍ
C71: 8.3 | D71: Firmeza | M71: SÍ
C72: 8.4 | D72: Multas y declaratorias de incumplimiento | M72: SÍ
D74: NOTA
C76: 9 | D76: Registro Único Tributario - RUT | M76: SÍ
D78: NOTA
C80: 10 | D80: Certificación de aportes al Sistema de seguridad social y parafiscales | M80: SÍ
D82: NOTA | E82: Subsana
C84: 11 | D84: Validación de aportes al Sistema de seguridad social y parafiscales (Aplica para Persona jurídica) | M84: SÍ
C85: 11.1. | D85: Revisor fiscal (RF) o contador | M85: SÍ
C86: 11.2 | D86: Documento de identificación del RF o contador | M86: SÍ
C87: 11.3 | D87: Tarjeta profesional del RF o contador | M87: SÍ
C88: 11.4 | D88: Antecedentes Junta Central de Contadores del RF o contador | M88: SÍ
D90: NOTA | E90: Subsana
C92: 12 | D92: Garantía de seriedad de la oferta | M92: SÍ
C93: 12.1 | D93: Expedición | M93: SÍ
C94: 12.2 | D94: Tomador | M94: SÍ
C95: 12.3 | D95: Asegurado | M95: SÍ
C96: 12.4 | D96: Objeto del proceso | M96: SÍ
C97: 12.5 | D97: Valor amparado | M97: SÍ
C98: 12.6 | D98: Vigencia | M98: SÍ
C99: 12.7 | D99: Incluidos los integrantes de la forma asociativa | M99: N.A.
C100: 12.8 | D100: Validación de autenticidad | M100: SÍ
D102: NOTA | E102: Subsana
C104: 13 | D104: Certificado de antecedentes fiscales - CGR | M104: SÍ
D106: NOTA | E106: No se adjuntan antecedentes fiscales de la empresa por lo que la entidad realiza verificacion.
C108: 14 | D108: Certificado de antecedentes disciplinarios - PGN | M108: SÍ
D110: NOTA
C112: 15 | D112: Antecedentes Judiciales Policía Nacional | M112: SÍ
D114: NOTA | E114: No se adjuntan antecedentes de policia del representante legal por lo que la entidad realiza verificacion.
C116: 16 | D116: Consulta en el RNMC | M116: SÍ
D118: NOTA | E118: El oferente aporta el RNMC de la empresa, por tal razon la entidad realiza la verificacion del RNMC del representante legal.
C120: 17 | D120: Certificado REDAM | M120: SÍ
D122: NOTA | E122: Subsana
C124: 18 | D124: AUTORIZACIÓN PARA NOTIFICACIÓN ELECTRONICA DE ACTOS ADMINISTRATIVOS | M124: SÍ
D126: NOTA
C128: 19 | D128: ACREDITACION SOCIOS QUE CONFORMAN LA SOCIEDAD | M128: SÍ
D130: NOTA
C132: 20 | D132: CERTIFICADO DE IMPLEMENTACIÓN DEL SISTEMA DE GESTIÓN DE LA SEGURIDAD Y SALUD EN EL TRABAJO | M132: SÍ
D134: NOTA
C136: 21 | D136: PACTO DE TRANSPARENCIA | M136: SÍ
D138: NOTA
C140: 22 | D140: CERTIFICACIÓN DE APLICACIÓN DE NORMAS DE PREVENCIÓN Y CONTROL DEL LAVADO DE ACTIVOS Y FINANCIACIÓN DEL TERRORISMO | M140: SÍ
D142: NOTA | E142: Subsana
C144: 23 | D144: CERTIFICACIÓN BANCARIA | M144: SÍ
D146: NOTA
C148: 24 | D148: RIT | M148: SÍ
D149: NOTA
C151: 25 | D151: DECLARACIÓN DE INHABILIDADES E INCOMPATIBILIDADES | M151: SÍ
D152: NOTA | E152: Subsana
C154: 26 | D154: Acreditación MiPymes Territoriales Domiciliadas en Bogotá. | M154: SÍ
D155: NOTA | E155: Subsana
C160: RESULTADO DE LA EVALUACIÓN
G162: =+IF(L27="","",IF(OR(L27="NO",M28="NO",M29="NO",M30="NO",M31="NO",M32="NO",M36="NO",M37="NO",M41="NO",M45="NO",M49="NO",M54="NO",M55="NO",M56="NO",M57="NO",M58="NO",M59="NO",M60,M64="NO",M69="NO",M70="NO",M71="NO",M72="NO",M76="NO",M80="NO",M84="NO",M85="NO",M86="NO",M87="NO",M88="NO",M92="NO",M93="NO",M94="NO",M95="NO",M96="NO",M97="NO",M98="NO",M99="NO",M100="NO",M104="NO",M108="NO",M112="NO",M116="NO",M120="NO",M124="NO",M128="NO",M132="NO",M136="NO",M140="NO",M144="NO",M148="NO",M151="NO",M154="NO"),"NO CUMPLE","CUMPLE")) -> CUMPLE
C164: NOTA. Si el resultado de la evaluación es "NO CUMPLE", el oferente deberá subsanar la propuesta durante el término establecido en el cronograma del proceso o la ley, según el caso.

Sheet P-5
E2: SERVICIO NACIONAL DE APRENDIZAJE - SENA | L2: Código: GCCON-F-038
E4: ='Resumen - Evaluación jurídica'!C5 -> EVALUACIÓN JURÍDICA - PROCESO NRO. SAMC-DC-CEET-101-2024 | L4: V.02
C6: OBJETO | E6: ='Resumen - Evaluación jurídica'!C7 -> CONTRATAR LA COMPRA DE MAQUINARIA, MATERIALES Y OTROS EQUIPOS DE LOS PROYECTOS SENNOVA SGPS-13229-2024 Y SGPS-12162-2024 DEL CENTRO DE ELECTRICIDAD, ELECTRÓNICA Y TELECOMUNICACIONES - CEET SENA.
D11: Proponente nro. | I11: Lotes | J11: N.A. | K11: Número(s) | L11: 2, 3 y 7
D13: Nombre del proponente: | F13: GRUPO CAF TECNOLOGIA SAS
D15: Integrante 1: | L15: %Participación
D17: Integrante 2: | L17: %Participación
D19: Integrante 3: | L19: %Participación
D21: Integrante 4: | L21: %Participación
Q23: SÍ
Q24: NO
D25: REQUISITO | M25: CUMPLE | Q25: N.A.
C27: 1 | D27: Documento de proponente plural | L27: N.A.
C28: 1.1 | D28: Forma de unión | M28: N.A. | Q28: N.A.
C29: 1.2 | D29: Objeto | M29: N.A. | Q29: Unión Temporal
C30: 1.3 | D30: Vigencia | M30: N.A. | Q30: Consorcio
C31: 1.4 | D31: Participación | M31: N.A. | Q31: Promesa de sociedad futura
C32: 1.5 | D32: Otros | M32: N.A.
D34: NOTA
C36: 2 | D36: Carta de presentación de la propuesta en el formato de la entidad | M36: SÍ
C37: 2.1 | D37: Aval de la propuesta y consulta de antecedentes del profesional (COPNIA o similares) | M37: N.A.
D39: NOTA
C41: 3 | D41: Documento de identificación del Representante legal o Persona natural (PN) | M41: SÍ
D43: NOTA
C45: 4 | D45: FORMATO ANTICORRUPCIÓN | M45: SÍ
D47: NOTA
C49: 5 | D49: Certificado de existencia y representación legal (CERL) o Registro mercantil (RM) | M49: SÍ
D51: NOTA
C53: 6 | D53: Validación de la información del CERL o del RM
C54: 6.1 | D54: Expedición | M54: SÍ
C55: 6.2 | D55: Objeto social relacionado | M55: SÍ
C56: 6.3 | D56: Facultades | M56: SÍ
C57: 6.4 | D57: Constitución y vigencia | M57: SÍ
C58: 6.5 | D58: Tamaño | M58: SÍ
C59: 6.6 | D59: Domicilio | M59: SÍ
C60: 6.7 | D60: Otros | M60: N.A.
D62: NOTA
C64: 7 | D64: Registro Único de Proponentes – RUP | M64: SÍ
D66: NOTA
C68: 8 | D68: Validación de la información del RUP
C69: 8.1 | D69: Expedición | M69: SÍ
C70: 8.2 | D70: Renovación | M70: SÍ
C71: 8.3 | D71: Firmeza | M71: SÍ
C72: 8.4 | D72: Multas y declaratorias de incumplimiento | M72: SÍ
D74: NOTA
C76: 9 | D76: Registro Único Tributario - RUT | M76: SÍ
D78: NOTA
C80: 10 | D80: Certificación de aportes al Sistema de seguridad social y parafiscales | M80: SÍ
D82: NOTA
C84: 11 | D84: Validación de aportes al Sistema de seguridad social y parafiscales (Aplica para Persona jurídica) | M84: SÍ
C85: 11.1. | D85: Revisor fiscal (RF) o contador | M85: SÍ
C86: 11.2 | D86: Documento de identificación del RF o contador | M86: SÍ
C87: 11.3 | D87: Tarjeta profesional del RF o contador | M87: SÍ
C88: 11.4 | D88: Antecedentes Junta Central de Contadores del RF o contador | M88: SÍ
D90: NOTA
C92: 12 | D92: Garantía de seriedad de la oferta | M92: SÍ
C93: 12.1 | D93: Expedición | M93: SÍ
C94: 12.2 | D94: Tomador | M94: SÍ
C95: 12.3 | D95: Asegurado | M95: SÍ
C96: 12.4 | D96: Objeto del proceso | M96: SÍ
C97: 12.5 | D97: Valor amparado | M97: SÍ
C98: 12.6 | D98: Vigencia | M98: SÍ
C99: 12.7 | D99: Incluidos los integrantes de la forma asociativa | M99: N.A.
C100: 12.8 | D100: Validación de autenticidad | M100: SÍ
D102: NOTA | E102: Subsana lote No. 3
C104: 13 | D104: Certificado de antecedentes fiscales - CGR | M104: SÍ
D106: NOTA
C108: 14 | D108: Certificado de antecedentes disciplinarios - PGN | M108: SÍ
D110: NOTA
C112: 15 | D112: Antecedentes Judiciales Policía Nacional | M112: SÍ
D114: NOTA | E114: No se adjuntan antecedentes de policia del representante legal por lo que la entidad realiza verificacion.
C116: 16 | D116: Consulta en el RNMC | M116: SÍ
D118: NOTA
C120: 17 | D120: Certificado REDAM | M120: SÍ
D122: NOTA
C124: 18 | D124: AUTORIZACIÓN PARA NOTIFICACIÓN ELECTRONICA DE ACTOS ADMINISTRATIVOS | M124: SÍ
D126: NOTA
C128: 19 | D128: ACREDITACION SOCIOS QUE CONFORMAN LA SOCIEDAD | M128: SÍ
D130: NOTA
C132: 20 | D132: CERTIFICADO DE IMPLEMENTACIÓN DEL SISTEMA DE GESTIÓN DE LA SEGURIDAD Y SALUD EN EL TRABAJO | M132: SÍ
D134: NOTA
C136: 21 | D136: PACTO DE TRANSPARENCIA | M136: SÍ
D138: NOTA
C140: 22 | D140: CERTIFICACIÓN DE APLICACIÓN DE NORMAS DE PREVENCIÓN Y CONTROL DEL LAVADO DE ACTIVOS Y FINANCIACIÓN DEL TERRORISMO | M140: SÍ
D142: NOTA
C144: 23 | D144: CERTIFICACIÓN BANCARIA | M144: SÍ
D146: NOTA
C148: 24 | D148: RIT | M148: SÍ
D149: NOTA
C151: 25 | D151: DECLARACIÓN DE INHABILIDADES E INCOMPATIBILIDADES | M151: SÍ
D152: NOTA | E152: Subsana
C154: 26 | D154: Acreditación MiPymes Territoriales Domiciliadas en Bogotá. | M154: SÍ
D155: NOTA | E155: Subsana
C160: RESULTADO DE LA EVALUACIÓN
G162: =+IF(L27="","",IF(OR(L27="NO",M28="NO",M29="NO",M30="NO",M31="NO",M32="NO",M36="NO",M37="NO",M41="NO",M45="NO",M49="NO",M54="NO",M55="NO",M56="NO",M57="NO",M58="NO",M59="NO",M60,M64="NO",M69="NO",M70="NO",M71="NO",M72="NO",M76="NO",M80="NO",M84="NO",M85="NO",M86="NO",M87="NO",M88="NO",M92="NO",M93="NO",M94="NO",M95="NO",M96="NO",M97="NO",M98="NO",M99="NO",M100="NO",M104="NO",M108="NO",M112="NO",M116="NO",M120="NO",M124="NO",M128="NO",M132="NO",M136="NO",M140="NO",M144="NO",M148="NO",M151="NO",M154="NO"),"NO CUMPLE","CUMPLE")) -> CUMPLE
C164: NOTA. Si el resultado de la evaluación es "NO CUMPLE", el oferente deberá subsanar la propuesta durante el término establecido en el cronograma del proceso o la ley, según el caso.
