Workbook
Name _Hlk176947235: 'Cot5. Contrato3341-2022'!$B$14
Name _Hlk176947235: 'Cotización1.'!$B$14
Name _Hlk176947235: 'Cotización2.'!$B$14
Name _Hlk176947235: 'Cotizacion3. '!$B$14
Name _Hlk176947235: 'Cotización4. '!$B$14
Name _Hlk176947235: 'DETALLE ESTUDIO DE MERCADO'!$B$8
Name _Hlk176948155: 'Cot5. Contrato3341-2022'!$C$28
Name _Hlk176948155: 'Cotización1.'!$C$28
Name _Hlk176948155: 'Cotización2.'!$C$28
Name _Hlk176948155: 'Cotizacion3. '!$C$28
Name _Hlk176948155: 'Cotización4. '!$C$28
Name _Hlk176948155: 'DETALLE ESTUDIO DE MERCADO'!$C$22

Sheet DETALLE ESTUDIO DE MERCADO
C2: Objeto: | D2: Prestar el servicio de mantenimiento, soporte técnico y actualización, para las soluciones de comunicaciones unificadas y para equipos activos y de gestión de red de área local - LAN del Ministerio de Hacienda y Crédito Público
B5: TABLA 1: Actualización de software, licenciamiento y soporte del fabricante para equipos LAN y UC grupo1: 7*24 | Q5: TABLA 1: Actualización de software, licenciamiento y soporte del fabricante para equipos LAN y UC grupo1: 7*24 | W5: TABLA 1: Actualización de software, licenciamiento y soporte del fabricante para equipos LAN y UC grupo1: 7*24 | AC5: TABLA 1: Actualización de software, licenciamiento y soporte del fabricante para equipos LAN y UC grupo1: 7*24 | AJ5: TABLA 1: Actualización de software, licenciamiento y soporte del fabricante para equipos LAN y UC grupo1: 7*24 | AR5: TABLA 1: Actualización de software, licenciamiento y soporte del fabricante para equipos LAN y UC grupo1: 7*24
K6: Cotización 1. | Q6: Cotización2. | W6: Cotización3. | AC6: Cotización4. | AJ6: CONTRATO ACTUAL | AR6: MEDIDA DE TENDENCIA CENTRAL ELEGIDA: MEDIA GEOMÉTRICA
B7: ÍTEM | C7: Descripción | D7: Unidad de Medida | E7: Cantidad equipos x modelo | F7: Vigencia (meses) 2024 | G7: Vigencia(meses) 2025 | H7: Vigencia (meses) 2026 | I7: TOTAL (meses) REQUERIDOS | J7: Tarifa IVA (%) | K7: VALOR UNITARIO MENSUAL ANTES DE IVA | L7: VALOR UNITARIO MENSUAL INCLUIDO IVA | M7: Valor mensual Iva incluido x número de meses vigencia 2024 | N7: Valor mensual Iva incluido x número de meses vigencia 2025 | O7: Valor mensual Iva incluido x número de meses vigencia 2026 | P7: VALOR TOTAL (VALOR MENSUAL INCLUIDO IVA x NUMEROS TOTAL DE MESES) | Q7: VALOR UNITARIO MENSUAL ANTES DE IVA | R7: VALOR UNITARIO MENSUAL INCLUIDO IVA | S7: Valor mensual Iva incluido x número de meses vigencia 2024 | T7: Valor mensual Iva incluido x número de meses vigencia 2025 | U7: Valor mensual Iva incluido x número de meses vigencia 2026 | V7: VALOR TOTAL (VALOR MENSUAL INCLUIDO IVA x NUMEROS TOTAL DE MESES) | W7: VALOR UNITARIO MENSUAL ANTES DE IVA | X7: VALOR UNITARIO MENSUAL INCLUIDO IVA | Y7: Valor mensual Iva incluido x número de meses vigencia 2024 | Z7: Valor mensual Iva incluido x número de meses vigencia 2025 | AA7: Valor mensual Iva incluido x número de meses vigencia 2026 | AB7: VALOR TOTAL (VALOR MENSUAL INCLUIDO IVA x NUMEROS TOTAL DE MESES) | AC7: VALOR UNITARIO MENSUAL ANTES DE IVA | AD7: VALOR UNITARIO MENSUAL INCLUIDO IVA | AE7: Valor mensual Iva incluido x número de meses vigencia 2024 | AF7: Valor mensual Iva incluido x número de meses vigencia 2025 | AG7: Valor mensual Iva incluido x número de meses vigencia 2026 | AH7: VALOR TOTAL (VALOR MENSUAL INCLUIDO IVA x NUMEROS TOTAL DE MESES) | AJ7: VALOR UNITARIO MENSUAL ANTES DE IVA | AK7: VALOR UNITARIO MENSUAL INCLUIDO IVA | AL7: Valor Total Iva incluido x número de meses vigencia 2024 | AM7: Valor Total Iva incluido x número de meses vigencia 2025 | AN7: Valor Total Iva incluido x número de meses vigencia 2026 | AO7: VALOR TOTAL (VALOR MENSUAL INCLUIDO IVA x NUMEROS TOTAL DE MESES) | AR7: VALOR UNITARIO MENSUAL ANTES DE IVA | AS7: VALOR UNITARIO MENSUAL INCLUIDO IVA | AT7: Valor Total Iva incluido x número de meses vigencia 2024 | AU7: Valor Total Iva incluido x número de meses vigencia 2025 | AV7: Valor Total Iva incluido x número de meses vigencia 2026 | AW7: VALOR TOTAL (VALOR MENSUAL INCLUIDO IVA x NUMEROS TOTAL DE MESES)
B8: 1.1 | C8: N77-C7706 = Switches de Core (EOL NO DEFINIDO) Soporte Cisco Success Tracks | D8: Mes | E8: 4 | F8: 1 | G8: 12 | H8: 7 | I8: 20 | J8: 0.19 | K8: =+IF('Cotización1.'!K14="","no cotiza",'Cotización1.'!K14) -> 37970383 | L8: =+IF(K8="no cotiza","no cotiza",ROUND((K8*(1+J8)),0)) -> 45184755 | M8: =+IF(L8="no cotiza","no cotiza",ROUND((L8*F8),0)) -> 45184755 | N8: =+IF(L8="no cotiza","no cotiza",ROUND((L8*G8),0)) -> 542217060 | O8: =+IF(L8="no cotiza","no cotiza",ROUND((L8*H8),0)) -> 316293285 | P8: =+IF(L8="no cotiza","no cotiza",ROUND((L8*I8),0)) -> 903695100 | Q8: =+IF('Cotización2.'!K14="","no cotiza",'Cotización2.'!K14) -> 37522178 | R8: =+IF(Q8="no cotiza","no cotiza",ROUND((Q8*(1+J8)),0)) -> 44651392 | S8: =+IF(R8="no cotiza","no cotiza",ROUND((R8*F8),0)) -> 44651392 | T8: =+IF(R8="no cotiza","no cotiza",ROUND((R8*G8),0)) -> 535816704 | U8: =+IF(R8="no cotiza","no cotiza",ROUND((R8*H8),0)) -> 312559744 | V8: =+IF(R8="no cotiza","no cotiza",ROUND((R8*I8),0)) -> 893027840 | W8: =+IF('Cotizacion3. '!K14="","no cotiza",'Cotizacion3. '!K14) -> 36916290 | X8: =+IF(W8="no cotiza","no cotiza",ROUND((W8*(1+J8)),0)) -> 43930385 | Y8: =+IF(X8="no cotiza","no cotiza",ROUND((X8*F8),0)) -> 43930385 | Z8: =+IF(X8="no cotiza","no cotiza",ROUND((X8*G8),0)) -> 527164620 | AA8: =+IF(X8="no cotiza","no cotiza",ROUND((X8*H8),0)) -> 307512695 | AB8: =+IF(X8="no cotiza","no cotiza",ROUND((X8*I8),0)) -> 878607700 | AC8: =+IF('Cotización4. '!K14="","no cotiza",'Cotización4. '!K14) -> 37740723 | AD8: =+IF(AC8="no cotiza","no cotiza",ROUND((AC8*(1+J8)),0)) -> 44911460 | AE8: =+IF(AD8="no cotiza","no cotiza",ROUND((AD8*F8),0)) -> 44911460 | AF8: =+IF(AD8="no cotiza","no cotiza",ROUND((AD8*G8),0)) -> 538937520 | AG8: =+IF(AD8="no cotiza","no cotiza",ROUND((AD8*H8),0)) -> 314380220 | AH8: =+IF(AD8="no cotiza","no cotiza",ROUND((AD8*I8),0)) -> 898229200 | AJ8: =+IF('Cot5. Contrato3341-2022'!K14="","no aplica",'Cot5. Contrato3341-2022'!K14) -> 18663381 | AK8: =+IF(AJ8="no aplica","no aplica",ROUND((AJ8*(1+J8)),0)) -> 22209423 | AL8: =+IF(AK8="no aplica","no aplica",ROUND((AK8*F8),0)) -> 22209423 | AM8: =+IF(AK8="no aplica","no aplica",ROUND((AK8*G8),0)) -> 266513076 | AN8: =+IF(AK8="no aplica","no aplica",ROUND((AK8*H8),0)) -> 155465961 | AO8: =+IF(AK8="no aplica","no aplica",ROUND((AK8*I8),0)) -> 444188460 | AR8: =IFERROR(ROUND(GEOMEAN(K8,Q8,W8,AC8,AJ8),0),"") -> 32640013 | AS8: =+IF(AR8="no cotiza","no cotiza",ROUND((AR8*(1+J8)),0)) -> 38841615 | AT8: =+IF(AS8="no cotiza","no cotiza",ROUND((AS8*F8),0)) -> 38841615 | AU8: =+IF(AS8="no cotiza","no cotiza",ROUND((AS8*G8),0)) -> 466099380 | AV8: =+IF(AS8="no cotiza","no cotiza",ROUND((AS8*H8),0)) -> 271891305 | AW8: =+IF(AS8="no cotiza","no cotiza",ROUND((AS8*I8),0)) -> 776832300
B9: 1.2 | C9: WS-C4500X-40X-ES = (EOL October 31, 2025) Soporte Cisco Smartnet 7x24x4 | D9: Mes | E9: 4 | F9: 1 | G9: 10 | H9: 0 | I9: 11 | J9: 0.19 | K9: =+IF('Cotización1.'!K15="","no cotiza",'Cotización1.'!K15) -> 12356537 | L9: =+IF(K9="no cotiza","no cotiza",ROUND((K9*(1+J9)),0)) -> 14704279 | M9: =+IF(L9="no cotiza","no cotiza",ROUND((L9*F9),0)) -> 14704279 | N9: =+IF(L9="no cotiza","no cotiza",ROUND((L9*G9),0)) -> 147042790 | O9: =+IF(L9="no cotiza","no cotiza",ROUND((L9*H9),0)) -> 0 | P9: =+IF(L9="no cotiza","no cotiza",ROUND((L9*I9),0)) -> 161747069 | Q9: =+IF('Cotización2.'!K15="","no cotiza",'Cotización2.'!K15) -> 12210680 | R9: =+IF(Q9="no cotiza","no cotiza",ROUND((Q9*(1+J9)),0)) -> 14530709 | S9: =+IF(R9="no cotiza","no cotiza",ROUND((R9*F9),0)) -> 14530709 | T9: =+IF(R9="no cotiza","no cotiza",ROUND((R9*G9),0)) -> 145307090 | U9: =+IF(R9="no cotiza","no cotiza",ROUND((R9*H9),0)) -> 0 | V9: =+IF(R9="no cotiza","no cotiza",ROUND((R9*I9),0)) -> 159837799 | W9: =+IF('Cotizacion3. '!K15="","no cotiza",'Cotizacion3. '!K15) -> 12013508 | X9: =+IF(W9="no cotiza","no cotiza",ROUND((W9*(1+J9)),0)) -> 14296075 | Y9: =+IF(X9="no cotiza","no cotiza",ROUND((X9*F9),0)) -> 14296075 | Z9: =+IF(X9="no cotiza","no cotiza",ROUND((X9*G9),0)) -> 142960750 | AA9: =+IF(X9="no cotiza","no cotiza",ROUND((X9*H9),0)) -> 0 | AB9: =+IF(X9="no cotiza","no cotiza",ROUND((X9*I9),0)) -> 157256825 | AC9: =+IF('Cotización4. '!K15="","no cotiza",'Cotización4. '!K15) -> 12281800 | AD9: =+IF(AC9="no cotiza","no cotiza",ROUND((AC9*(1+J9)),0)) -> 14615342 | AE9: =+IF(AD9="no cotiza","no cotiza",ROUND((AD9*F9),0)) -> 14615342 | AF9: =+IF(AD9="no cotiza","no cotiza",ROUND((AD9*G9),0)) -> 146153420 | AG9: =+IF(AD9="no cotiza","no cotiza",ROUND((AD9*H9),0)) -> 0 | AH9: =+IF(AD9="no cotiza","no cotiza",ROUND((AD9*I9),0)) -> 160768762 | AJ9: =+IF('Cot5. Contrato3341-2022'!K15="","no aplica",'Cot5. Contrato3341-2022'!K15) -> 6681058 | AK9: =+IF(AJ9="no aplica","no aplica",ROUND((AJ9*(1+J9)),0)) -> 7950459 | AL9: =+IF(AK9="no aplica","no aplica",ROUND((AK9*F9),0)) -> 7950459 | AM9: =+IF(AK9="no aplica","no aplica",ROUND((AK9*G9),0)) -> 79504590 | AN9: =+IF(AK9="no aplica","no aplica",ROUND((AK9*H9),0)) -> 0 | AO9: =+IF(AK9="no aplica","no aplica",ROUND((AK9*I9),0)) -> 87455049 | AR9: =IFERROR(ROUND(GEOMEAN(K9,Q9,W9,AC9,AJ9),0),"") -> 10826367 | AS9: =+IF(AR9="no cotiza","no cotiza",ROUND((AR9*(1+J9)),0)) -> 12883377 | AT9: =+IF(AS9="no cotiza","no cotiza",ROUND((AS9*F9),0)) -> 12883377 | AU9: =+IF(AS9="no cotiza","no cotiza",ROUND((AS9*G9),0)) -> 128833770 | AV9: =+IF(AS9="no cotiza","no cotiza",ROUND((AS9*H9),0)) -> 0 | AW9: =+IF(AS9="no cotiza","no cotiza",ROUND((AS9*I9),0)) -> 141717147
B10: 1.3 | C10: WS-C2960XR-48LPD-I = (EOL 31 de octubre de2027) Soporte Cisco Smartnet 7x24x4 | D10: Mes | E10: 2 | F10: 1 | G10: 12 | H10: 7 | I10: 20 | J10: 0.19 | K10: =+IF('Cotización1.'!K16="","no cotiza",'Cotización1.'!K16) -> 994780.94 | L10: =+IF(K10="no cotiza","no cotiza",ROUND((K10*(1+J10)),0)) -> 1183789 | M10: =+IF(L10="no cotiza","no cotiza",ROUND((L10*F10),0)) -> 1183789 | N10: =+IF(L10="no cotiza","no cotiza",ROUND((L10*G10),0)) -> 14205468 | O10: =+IF(L10="no cotiza","no cotiza",ROUND((L10*H10),0)) -> 8286523 | P10: =+IF(L10="no cotiza","no cotiza",ROUND((L10*I10),0)) -> 23675780 | Q10: =+IF('Cotización2.'!K16="","no cotiza",'Cotización2.'!K16) -> 983038.49 | R10: =+IF(Q10="no cotiza","no cotiza",ROUND((Q10*(1+J10)),0)) -> 1169816 | S10: =+IF(R10="no cotiza","no cotiza",ROUND((R10*F10),0)) -> 1169816 | T10: =+IF(R10="no cotiza","no cotiza",ROUND((R10*G10),0)) -> 14037792 | U10: =+IF(R10="no cotiza","no cotiza",ROUND((R10*H10),0)) -> 8188712 | V10: =+IF(R10="no cotiza","no cotiza",ROUND((R10*I10),0)) -> 23396320 | W10: =+IF('Cotizacion3. '!K16="","no cotiza",'Cotizacion3. '!K16) -> 967164.9 | X10: =+IF(W10="no cotiza","no cotiza",ROUND((W10*(1+J10)),0)) -> 1150926 | Y10: =+IF(X10="no cotiza","no cotiza",ROUND((X10*F10),0)) -> 1150926 | Z10: =+IF(X10="no cotiza","no cotiza",ROUND((X10*G10),0)) -> 13811112 | AA10: =+IF(X10="no cotiza","no cotiza",ROUND((X10*H10),0)) -> 8056482 | AB10: =+IF(X10="no cotiza","no cotiza",ROUND((X10*I10),0)) -> 23018520 | AC10: =+IF('Cotización4. '!K16="","no cotiza",'Cotización4. '!K16) -> 988764.11 | AD10: =+IF(AC10="no cotiza","no cotiza",ROUND((AC10*(1+J10)),0)) -> 1176629 | AE10: =+IF(AD10="no cotiza","no cotiza",ROUND((AD10*F10),0)) -> 1176629 | AF10: =+IF(AD10="no cotiza","no cotiza",ROUND((AD10*G10),0)) -> 14119548 | AG10: =+IF(AD10="no cotiza","no cotiza",ROUND((AD10*H10),0)) -> 8236403 | AH10: =+IF(AD10="no cotiza","no cotiza",ROUND((AD10*I10),0)) -> 23532580 | AJ10: =+IF('Cot5. Contrato3341-2022'!K16="","no aplica",'Cot5. Contrato3341-2022'!K16) -> 593552 | AK10: =+IF(AJ10="no aplica","no aplica",ROUND((AJ10*(1+J10)),0)) -> 706327 | AL10: =+IF(AK10="no aplica","no aplica",ROUND((AK10*F10),0)) -> 706327 | AM10: =+IF(AK10="no aplica","no aplica",ROUND((AK10*G10),0)) -> 8475924 | AN10: =+IF(AK10="no aplica","no aplica",ROUND((AK10*H10),0)) -> 4944289 | AO10: =+IF(AK10="no aplica","no aplica",ROUND((AK10*I10),0)) -> 14126540 | AR10: =IFERROR(ROUND(GEOMEAN(K10,Q10,W10,AC10,AJ10),0),"") -> 888935 | AS10: =+IF(AR10="no cotiza","no cotiza",ROUND((AR10*(1+J10)),0)) -> 1057833 | AT10: =+IF(AS10="no cotiza","no cotiza",ROUND((AS10*F10),0)) -> 1057833 | AU10: =+IF(AS10="no cotiza","no cotiza",ROUND((AS10*G10),0)) -> 12693996 | AV10: =+IF(AS10="no cotiza","no cotiza",ROUND((AS10*H10),0)) -> 7404831 | AW10: =+IF(AS10="no cotiza","no cotiza",ROUND((AS10*I10),0)) -> 21156660
B11: 1.4 | C11: WS-C2960X-48FPD-L = (EOL 31 de octubre de2027) Soporte Cisco Smartnet 7x24x4 | D11: Mes | E11: 6 | F11: 1 | G11: 12 | H11: 7 | I11: 20 | J11: 0.19 | K11: =+IF('Cotización1.'!K17="","no cotiza",'Cotización1.'!K17) -> 2275676.8 | L11: =+IF(K11="no cotiza","no cotiza",ROUND((K11*(1+J11)),0)) -> 2708055 | M11: =+IF(L11="no cotiza","no cotiza",ROUND((L11*F11),0)) -> 2708055 | N11: =+IF(L11="no cotiza","no cotiza",ROUND((L11*G11),0)) -> 32496660 | O11: =+IF(L11="no cotiza","no cotiza",ROUND((L11*H11),0)) -> 18956385 | P11: =+IF(L11="no cotiza","no cotiza",ROUND((L11*I11),0)) -> 54161100 | Q11: =+IF('Cotización2.'!K17="","no cotiza",'Cotización2.'!K17) -> 2248814.6 | R11: =+IF(Q11="no cotiza","no cotiza",ROUND((Q11*(1+J11)),0)) -> 2676089 | S11: =+IF(R11="no cotiza","no cotiza",ROUND((R11*F11),0)) -> 2676089 | T11: =+IF(R11="no cotiza","no cotiza",ROUND((R11*G11),0)) -> 32113068 | U11: =+IF(R11="no cotiza","no cotiza",ROUND((R11*H11),0)) -> 18732623 | V11: =+IF(R11="no cotiza","no cotiza",ROUND((R11*I11),0)) -> 53521780 | W11: =+IF('Cotizacion3. '!K17="","no cotiza",'Cotizacion3. '!K17) -> 2212502 | X11: =+IF(W11="no cotiza","no cotiza",ROUND((W11*(1+J11)),0)) -> 2632877 | Y11: =+IF(X11="no cotiza","no cotiza",ROUND((X11*F11),0)) -> 2632877 | Z11: =+IF(X11="no cotiza","no cotiza",ROUND((X11*G11),0)) -> 31594524 | AA11: =+IF(X11="no cotiza","no cotiza",ROUND((X11*H11),0)) -> 18430139 | AB11: =+IF(X11="no cotiza","no cotiza",ROUND((X11*I11),0)) -> 52657540 | AC11: =+IF('Cotización4. '!K17="","no cotiza",'Cotización4. '!K17) -> 2261912.7 | AD11: =+IF(AC11="no cotiza","no cotiza",ROUND((AC11*(1+J11)),0)) -> 2691676 | AE11: =+IF(AD11="no cotiza","no cotiza",ROUND((AD11*F11),0)) -> 2691676 | AF11: =+IF(AD11="no cotiza","no cotiza",ROUND((AD11*G11),0)) -> 32300112 | AG11: =+IF(AD11="no cotiza","no cotiza",ROUND((AD11*H11),0)) -> 18841732 | AH11: =+IF(AD11="no cotiza","no cotiza",ROUND((AD11*I11),0)) -> 53833520 | AJ11: =+IF('Cot5. Contrato3341-2022'!K17="","no aplica",'Cot5. Contrato3341-2022'!K17) -> 1129085 | AK11: =+IF(AJ11="no aplica","no aplica",ROUND((AJ11*(1+J11)),0)) -> 1343611 | AL11: =+IF(AK11="no aplica","no aplica",ROUND((AK11*F11),0)) -> 1343611 | AM11: =+IF(AK11="no aplica","no aplica",ROUND((AK11*G11),0)) -> 16123332 | AN11: =+IF(AK11="no aplica","no aplica",ROUND((AK11*H11),0)) -> 9405277 | AO11: =+IF(AK11="no aplica","no aplica",ROUND((AK11*I11),0)) -> 26872220 | AR11: =IFERROR(ROUND(GEOMEAN(K11,Q11,W11,AC11,AJ11),0),"") -> 1959883 | AS11: =+IF(AR11="no cotiza","no cotiza",ROUND((AR11*(1+J11)),0)) -> 2332261 | AT11: =+IF(AS11="no cotiza","no cotiza",ROUND((AS11*F11),0)) -> 2332261 | AU11: =+IF(AS11="no cotiza","no cotiza",ROUND((AS11*G11),0)) -> 27987132 | AV11: =+IF(AS11="no cotiza","no cotiza",ROUND((AS11*H11),0)) -> 16325827 | AW11: =+IF(AS11="no cotiza","no cotiza",ROUND((AS11*I11),0)) -> 46645220
B12: 1.5 | C12: WS-C3850-12XS = (EOL October 31, 2025) Soporte Cisco Smartnet 7x24x4 | D12: Mes | E12: 2 | F12: 1 | G12: 10 | H12: 0 | I12: 11 | J12: 0.19 | K12: =+IF('Cotización1.'!K18="","no cotiza",'Cotización1.'!K18) -> 2801400.6 | L12: =+IF(K12="no cotiza","no cotiza",ROUND((K12*(1+J12)),0)) -> 3333667 | M12: =+IF(L12="no cotiza","no cotiza",ROUND((L12*F12),0)) -> 3333667 | N12: =+IF(L12="no cotiza","no cotiza",ROUND((L12*G12),0)) -> 33336670 | O12: =+IF(L12="no cotiza","no cotiza",ROUND((L12*H12),0)) -> 0 | P12: =+IF(L12="no cotiza","no cotiza",ROUND((L12*I12),0)) -> 36670337 | Q12: =+IF('Cotización2.'!K18="","no cotiza",'Cotización2.'!K18) -> 2768332.7 | R12: =+IF(Q12="no cotiza","no cotiza",ROUND((Q12*(1+J12)),0)) -> 3294316 | S12: =+IF(R12="no cotiza","no cotiza",ROUND((R12*F12),0)) -> 3294316 | T12: =+IF(R12="no cotiza","no cotiza",ROUND((R12*G12),0)) -> 32943160 | U12: =+IF(R12="no cotiza","no cotiza",ROUND((R12*H12),0)) -> 0 | V12: =+IF(R12="no cotiza","no cotiza",ROUND((R12*I12),0)) -> 36237476 | W12: =+IF('Cotizacion3. '!K18="","no cotiza",'Cotizacion3. '!K18) -> 2723631.1 | X12: =+IF(W12="no cotiza","no cotiza",ROUND((W12*(1+J12)),0)) -> 3241121 | Y12: =+IF(X12="no cotiza","no cotiza",ROUND((X12*F12),0)) -> 3241121 | Z12: =+IF(X12="no cotiza","no cotiza",ROUND((X12*G12),0)) -> 32411210 | AA12: =+IF(X12="no cotiza","no cotiza",ROUND((X12*H12),0)) -> 0 | AB12: =+IF(X12="no cotiza","no cotiza",ROUND((X12*I12),0)) -> 35652331 | AC12: =+IF('Cotización4. '!K18="","no cotiza",'Cotización4. '!K18) -> 2784456.6 | AD12: =+IF(AC12="no cotiza","no cotiza",ROUND((AC12*(1+J12)),0)) -> 3313503 | AE12: =+IF(AD12="no cotiza","no cotiza",ROUND((AD12*F12),0)) -> 3313503 | AF12: =+IF(AD12="no cotiza","no cotiza",ROUND((AD12*G12),0)) -> 33135030 | AG12: =+IF(AD12="no cotiza","no cotiza",ROUND((AD12*H12),0)) -> 0 | AH12: =+IF(AD12="no cotiza","no cotiza",ROUND((AD12*I12),0)) -> 36448533 | AJ12: =+IF('Cot5. Contrato3341-2022'!K18="","no aplica",'Cot5. Contrato3341-2022'!K18) -> 999737 | AK12: =+IF(AJ12="no aplica","no aplica",ROUND((AJ12*(1+J12)),0)) -> 1189687 | AL12: =+IF(AK12="no aplica","no aplica",ROUND((AK12*F12),0)) -> 1189687 | AM12: =+IF(AK12="no aplica","no aplica",ROUND((AK12*G12),0)) -> 11896870 | AN12: =+IF(AK12="no aplica","no aplica",ROUND((AK12*H12),0)) -> 0 | AO12: =+IF(AK12="no aplica","no aplica",ROUND((AK12*I12),0)) -> 13086557 | AR12: =IFERROR(ROUND(GEOMEAN(K12,Q12,W12,AC12,AJ12),0),"") -> 2258778 | AS12: =+IF(AR12="no cotiza","no cotiza",ROUND((AR12*(1+J12)),0)) -> 2687946 | AT12: =+IF(AS12="no cotiza","no cotiza",ROUND((AS12*F12),0)) -> 2687946 | AU12: =+IF(AS12="no cotiza","no cotiza",ROUND((AS12*G12),0)) -> 26879460 | AV12: =+IF(AS12="no cotiza","no cotiza",ROUND((AS12*H12),0)) -> 0 | AW12: =+IF(AS12="no cotiza","no cotiza",ROUND((AS12*I12),0)) -> 29567406
B13: 1.6 | C13: UCS C240 M6SX (EOL NO DEFINIDO) Soporte Cisco Smartnet 7x24x4 | D13: Mes | E13: 2 | F13: 0 | G13: 0 | H13: 7 | I13: 7 | J13: 0.19 | K13: =+IF('Cotización1.'!K19="","no cotiza",'Cotización1.'!K19) -> 1001150.3 | L13: =+IF(K13="no cotiza","no cotiza",ROUND((K13*(1+J13)),0)) -> 1191369 | M13: =+IF(L13="no cotiza","no cotiza",ROUND((L13*F13),0)) -> 0 | N13: =+IF(L13="no cotiza","no cotiza",ROUND((L13*G13),0)) -> 0 | O13: =+IF(L13="no cotiza","no cotiza",ROUND((L13*H13),0)) -> 8339583 | P13: =+IF(L13="no cotiza","no cotiza",ROUND((L13*I13),0)) -> 8339583 | Q13: =+IF('Cotización2.'!K19="","no cotiza",'Cotización2.'!K19) -> 989332.64 | R13: =+IF(Q13="no cotiza","no cotiza",ROUND((Q13*(1+J13)),0)) -> 1177306 | S13: =+IF(R13="no cotiza","no cotiza",ROUND((R13*F13),0)) -> 0 | T13: =+IF(R13="no cotiza","no cotiza",ROUND((R13*G13),0)) -> 0 | U13: =+IF(R13="no cotiza","no cotiza",ROUND((R13*H13),0)) -> 8241142 | V13: =+IF(R13="no cotiza","no cotiza",ROUND((R13*I13),0)) -> 8241142 | W13: =+IF('Cotizacion3. '!K19="","no cotiza",'Cotizacion3. '!K19) -> 973357.41 | X13: =+IF(W13="no cotiza","no cotiza",ROUND((W13*(1+J13)),0)) -> 1158295 | Y13: =+IF(X13="no cotiza","no cotiza",ROUND((X13*F13),0)) -> 0 | Z13: =+IF(X13="no cotiza","no cotiza",ROUND((X13*G13),0)) -> 0 | AA13: =+IF(X13="no cotiza","no cotiza",ROUND((X13*H13),0)) -> 8108065 | AB13: =+IF(X13="no cotiza","no cotiza",ROUND((X13*I13),0)) -> 8108065 | AC13: =+IF('Cotización4. '!K19="","no cotiza",'Cotización4. '!K19) -> 995094.92 | AD13: =+IF(AC13="no cotiza","no cotiza",ROUND((AC13*(1+J13)),0)) -> 1184163 | AE13: =+IF(AD13="no cotiza","no cotiza",ROUND((AD13*F13),0)) -> 0 | AF13: =+IF(AD13="no cotiza","no cotiza",ROUND((AD13*G13),0)) -> 0 | AG13: =+IF(AD13="no cotiza","no cotiza",ROUND((AD13*H13),0)) -> 8289141 | AH13: =+IF(AD13="no cotiza","no cotiza",ROUND((AD13*I13),0)) -> 8289141 | AJ13: =+IF('Cot5. Contrato3341-2022'!K19="","no aplica",'Cot5. Contrato3341-2022'!K19) -> no aplica | AK13: =+IF(AJ13="no aplica","no aplica",ROUND((AJ13*(1+J13)),0)) -> no aplica | AL13: =+IF(AK13="no aplica","no aplica",ROUND((AK13*F13),0)) -> no aplica | AM13: =+IF(AK13="no aplica","no aplica",ROUND((AK13*G13),0)) -> no aplica | AN13: =+IF(AK13="no aplica","no aplica",ROUND((AK13*H13),0)) -> no aplica | AO13: =+IF(AK13="no aplica","no aplica",ROUND((AK13*I13),0)) -> no aplica | AR13: =IFERROR(ROUND(GEOMEAN(K13,Q13,W13,AC13,AJ13),0),"") -> 989680 | AS13: =+IF(AR13="no cotiza","no cotiza",ROUND((AR13*(1+J13)),0)) -> 1177719 | AT13: =+IF(AS13="no cotiza","no cotiza",ROUND((AS13*F13),0)) -> 0 | AU13: =+IF(AS13="no cotiza","no cotiza",ROUND((AS13*G13),0)) -> 0 | AV13: =+IF(AS13="no cotiza","no cotiza",ROUND((AS13*H13),0)) -> 8244033 | AW13: =+IF(AS13="no cotiza","no cotiza",ROUND((AS13*I13),0)) -> 8244033
B14: 1.7 | C14: N9K-C9364C en funcionalidad SPINE (EOL NO DEFINIDO) Soporte Cisco Success Tracks | D14: Mes | E14: 2 | F14: 1 | G14: 12 | H14: 7 | I14: 20 | J14: 0.19 | K14: =+IF('Cotización1.'!K20="","no cotiza",'Cotización1.'!K20) -> 3497614.7 | L14: =+IF(K14="no cotiza","no cotiza",ROUND((K14*(1+J14)),0)) -> 4162161 | M14: =+IF(L14="no cotiza","no cotiza",ROUND((L14*F14),0)) -> 4162161 | N14: =+IF(L14="no cotiza","no cotiza",ROUND((L14*G14),0)) -> 49945932 | O14: =+IF(L14="no cotiza","no cotiza",ROUND((L14*H14),0)) -> 29135127 | P14: =+IF(L14="no cotiza","no cotiza",ROUND((L14*I14),0)) -> 83243220 | Q14: =+IF('Cotización2.'!K20="","no cotiza",'Cotización2.'!K20) -> 3456328.7 | R14: =+IF(Q14="no cotiza","no cotiza",ROUND((Q14*(1+J14)),0)) -> 4113031 | S14: =+IF(R14="no cotiza","no cotiza",ROUND((R14*F14),0)) -> 4113031 | T14: =+IF(R14="no cotiza","no cotiza",ROUND((R14*G14),0)) -> 49356372 | U14: =+IF(R14="no cotiza","no cotiza",ROUND((R14*H14),0)) -> 28791217 | V14: =+IF(R14="no cotiza","no cotiza",ROUND((R14*I14),0)) -> 82260620 | W14: =+IF('Cotizacion3. '!K20="","no cotiza",'Cotizacion3. '!K20) -> 3400517.7 | X14: =+IF(W14="no cotiza","no cotiza",ROUND((W14*(1+J14)),0)) -> 4046616 | Y14: =+IF(X14="no cotiza","no cotiza",ROUND((X14*F14),0)) -> 4046616 | Z14: =+IF(X14="no cotiza","no cotiza",ROUND((X14*G14),0)) -> 48559392 | AA14: =+IF(X14="no cotiza","no cotiza",ROUND((X14*H14),0)) -> 28326312 | AB14: =+IF(X14="no cotiza","no cotiza",ROUND((X14*I14),0)) -> 80932320 | AC14: =+IF('Cotización4. '!K20="","no cotiza",'Cotización4. '!K20) -> 3476459.7 | AD14: =+IF(AC14="no cotiza","no cotiza",ROUND((AC14*(1+J14)),0)) -> 4136987 | AE14: =+IF(AD14="no cotiza","no cotiza",ROUND((AD14*F14),0)) -> 4136987 | AF14: =+IF(AD14="no cotiza","no cotiza",ROUND((AD14*G14),0)) -> 49643844 | AG14: =+IF(AD14="no cotiza","no cotiza",ROUND((AD14*H14),0)) -> 28958909 | AH14: =+IF(AD14="no cotiza","no cotiza",ROUND((AD14*I14),0)) -> 82739740 | AJ14: =+IF('Cot5. Contrato3341-2022'!K20="","no aplica",'Cot5. Contrato3341-2022'!K20) -> 1968090 | AK14: =+IF(AJ14="no aplica","no aplica",ROUND((AJ14*(1+J14)),0)) -> 2342027 | AL14: =+IF(AK14="no aplica","no aplica",ROUND((AK14*F14),0)) -> 2342027 | AM14: =+IF(AK14="no aplica","no aplica",ROUND((AK14*G14),0)) -> 28104324 | AN14: =+IF(AK14="no aplica","no aplica",ROUND((AK14*H14),0)) -> 16394189 | AO14: =+IF(AK14="no aplica","no aplica",ROUND((AK14*I14),0)) -> 46840540 | AR14: =IFERROR(ROUND(GEOMEAN(K14,Q14,W14,AC14,AJ14),0),"") -> 3089035 | AS14: =+IF(AR14="no cotiza","no cotiza",ROUND((AR14*(1+J14)),0)) -> 3675952 | AT14: =+IF(AS14="no cotiza","no cotiza",ROUND((AS14*F14),0)) -> 3675952 | AU14: =+IF(AS14="no cotiza","no cotiza",ROUND((AS14*G14),0)) -> 44111424 | AV14: =+IF(AS14="no cotiza","no cotiza",ROUND((AS14*H14),0)) -> 25731664 | AW14: =+IF(AS14="no cotiza","no cotiza",ROUND((AS14*I14),0)) -> 73519040
B15: 1.8 | C15: N9K-C9348GC-FXP en funcionalidad LEAF (EOL 28 de febrero de 2026) Soporte Cisco Success Tracks | D15: Mes | E15: 4 | F15: 1 | G15: 12 | H15: 2 | I15: 15 | J15: 0.19 | K15: =+IF('Cotización1.'!K21="","no cotiza",'Cotización1.'!K21) -> 2029457 | L15: =+IF(K15="no cotiza","no cotiza",ROUND((K15*(1+J15)),0)) -> 2415054 | M15: =+IF(L15="no cotiza","no cotiza",ROUND((L15*F15),0)) -> 2415054 | N15: =+IF(L15="no cotiza","no cotiza",ROUND((L15*G15),0)) -> 28980648 | O15: =+IF(L15="no cotiza","no cotiza",ROUND((L15*H15),0)) -> 4830108 | P15: =+IF(L15="no cotiza","no cotiza",ROUND((L15*I15),0)) -> 36225810 | Q15: =+IF('Cotización2.'!K21="","no cotiza",'Cotización2.'!K21) -> 2005501.2 | R15: =+IF(Q15="no cotiza","no cotiza",ROUND((Q15*(1+J15)),0)) -> 2386546 | S15: =+IF(R15="no cotiza","no cotiza",ROUND((R15*F15),0)) -> 2386546 | T15: =+IF(R15="no cotiza","no cotiza",ROUND((R15*G15),0)) -> 28638552 | U15: =+IF(R15="no cotiza","no cotiza",ROUND((R15*H15),0)) -> 4773092 | V15: =+IF(R15="no cotiza","no cotiza",ROUND((R15*I15),0)) -> 35798190 | W15: =+IF('Cotizacion3. '!K21="","no cotiza",'Cotizacion3. '!K21) -> 1973117.4 | X15: =+IF(W15="no cotiza","no cotiza",ROUND((W15*(1+J15)),0)) -> 2348010 | Y15: =+IF(X15="no cotiza","no cotiza",ROUND((X15*F15),0)) -> 2348010 | Z15: =+IF(X15="no cotiza","no cotiza",ROUND((X15*G15),0)) -> 28176120 | AA15: =+IF(X15="no cotiza","no cotiza",ROUND((X15*H15),0)) -> 4696020 | AB15: =+IF(X15="no cotiza","no cotiza",ROUND((X15*I15),0)) -> 35220150 | AC15: =+IF('Cotización4. '!K21="","no cotiza",'Cotización4. '!K21) -> 2017182 | AD15: =+IF(AC15="no cotiza","no cotiza",ROUND((AC15*(1+J15)),0)) -> 2400447 | AE15: =+IF(AD15="no cotiza","no cotiza",ROUND((AD15*F15),0)) -> 2400447 | AF15: =+IF(AD15="no cotiza","no cotiza",ROUND((AD15*G15),0)) -> 28805364 | AG15: =+IF(AD15="no cotiza","no cotiza",ROUND((AD15*H15),0)) -> 4800894 | AH15: =+IF(AD15="no cotiza","no cotiza",ROUND((AD15*I15),0)) -> 36006705 | AJ15: =+IF('Cot5. Contrato3341-2022'!K21="","no aplica",'Cot5. Contrato3341-2022'!K21) -> 1062816 | AK15: =+IF(AJ15="no aplica","no aplica",ROUND((AJ15*(1+J15)),0)) -> 1264751 | AL15: =+IF(AK15="no aplica","no aplica",ROUND((AK15*F15),0)) -> 1264751 | AM15: =+IF(AK15="no aplica","no aplica",ROUND((AK15*G15),0)) -> 15177012 | AN15: =+IF(AK15="no aplica","no aplica",ROUND((AK15*H15),0)) -> 2529502 | AO15: =+IF(AK15="no aplica","no aplica",ROUND((AK15*I15),0)) -> 18971265 | AR15: =IFERROR(ROUND(GEOMEAN(K15,Q15,W15,AC15,AJ15),0),"") -> 1766818 | AS15: =+IF(AR15="no cotiza","no cotiza",ROUND((AR15*(1+J15)),0)) -> 2102513 | AT15: =+IF(AS15="no cotiza","no cotiza",ROUND((AS15*F15),0)) -> 2102513 | AU15: =+IF(AS15="no cotiza","no cotiza",ROUND((AS15*G15),0)) -> 25230156 | AV15: =+IF(AS15="no cotiza","no cotiza",ROUND((AS15*H15),0)) -> 4205026 | AW15: =+IF(AS15="no cotiza","no cotiza",ROUND((AS15*I15),0)) -> 31537695
B16: 1.9 | C16: N9K-C93180YC-EX en funcionalidad LEAF (EOL 28 de febrero de 2026) Soporte Cisco Success Tracks | D16: Mes | E16: 4 | F16: 1 | G16: 12 | H16: 2 | I16: 15 | J16: 0.19 | K16: =+IF('Cotización1.'!K22="","no cotiza",'Cotización1.'!K22) -> 3575699.9 | L16: =+IF(K16="no cotiza","no cotiza",ROUND((K16*(1+J16)),0)) -> 4255083 | M16: =+IF(L16="no cotiza","no cotiza",ROUND((L16*F16),0)) -> 4255083 | N16: =+IF(L16="no cotiza","no cotiza",ROUND((L16*G16),0)) -> 51060996 | O16: =+IF(L16="no cotiza","no cotiza",ROUND((L16*H16),0)) -> 8510166 | P16: =+IF(L16="no cotiza","no cotiza",ROUND((L16*I16),0)) -> 63826245 | Q16: =+IF('Cotización2.'!K22="","no cotiza",'Cotización2.'!K22) -> 3533492.2 | R16: =+IF(Q16="no cotiza","no cotiza",ROUND((Q16*(1+J16)),0)) -> 4204856 | S16: =+IF(R16="no cotiza","no cotiza",ROUND((R16*F16),0)) -> 4204856 | T16: =+IF(R16="no cotiza","no cotiza",ROUND((R16*G16),0)) -> 50458272 | U16: =+IF(R16="no cotiza","no cotiza",ROUND((R16*H16),0)) -> 8409712 | V16: =+IF(R16="no cotiza","no cotiza",ROUND((R16*I16),0)) -> 63072840 | W16: =+IF('Cotizacion3. '!K22="","no cotiza",'Cotizacion3. '!K22) -> 3476435.2 | X16: =+IF(W16="no cotiza","no cotiza",ROUND((W16*(1+J16)),0)) -> 4136958 | Y16: =+IF(X16="no cotiza","no cotiza",ROUND((X16*F16),0)) -> 4136958 | Z16: =+IF(X16="no cotiza","no cotiza",ROUND((X16*G16),0)) -> 49643496 | AA16: =+IF(X16="no cotiza","no cotiza",ROUND((X16*H16),0)) -> 8273916 | AB16: =+IF(X16="no cotiza","no cotiza",ROUND((X16*I16),0)) -> 62054370 | AC16: =+IF('Cotización4. '!K22="","no cotiza",'Cotización4. '!K22) -> 3554072.7 | AD16: =+IF(AC16="no cotiza","no cotiza",ROUND((AC16*(1+J16)),0)) -> 4229346 | AE16: =+IF(AD16="no cotiza","no cotiza",ROUND((AD16*F16),0)) -> 4229346 | AF16: =+IF(AD16="no cotiza","no cotiza",ROUND((AD16*G16),0)) -> 50752152 | AG16: =+IF(AD16="no cotiza","no cotiza",ROUND((AD16*H16),0)) -> 8458692 | AH16: =+IF(AD16="no cotiza","no cotiza",ROUND((AD16*I16),0)) -> 63440190 | AJ16: =+IF('Cot5. Contrato3341-2022'!K22="","no aplica",'Cot5. Contrato3341-2022'!K22) -> 1870557 | AK16: =+IF(AJ16="no aplica","no aplica",ROUND((AJ16*(1+J16)),0)) -> 2225963 | AL16: =+IF(AK16="no aplica","no aplica",ROUND((AK16*F16),0)) -> 2225963 | AM16: =+IF(AK16="no aplica","no aplica",ROUND((AK16*G16),0)) -> 26711556 | AN16: =+IF(AK16="no aplica","no aplica",ROUND((AK16*H16),0)) -> 4451926 | AO16: =+IF(AK16="no aplica","no aplica",ROUND((AK16*I16),0)) -> 33389445 | AR16: =IFERROR(ROUND(GEOMEAN(K16,Q16,W16,AC16,AJ16),0),"") -> 3112285 | AS16: =+IF(AR16="no cotiza","no cotiza",ROUND((AR16*(1+J16)),0)) -> 3703619 | AT16: =+IF(AS16="no cotiza","no cotiza",ROUND((AS16*F16),0)) -> 3703619 | AU16: =+IF(AS16="no cotiza","no cotiza",ROUND((AS16*G16),0)) -> 44443428 | AV16: =+IF(AS16="no cotiza","no cotiza",ROUND((AS16*H16),0)) -> 7407238 | AW16: =+IF(AS16="no cotiza","no cotiza",ROUND((AS16*I16),0)) -> 55554285
B17: 1.10 | C17: Cisco Firepower 2130 NGFW Appliance (EOL NO DEFINIDO) Soporte Cisco Success Tracks | D17: Mes | E17: 2 | F17: 1 | G17: 12 | H17: 7 | I17: 20 | J17: 0.19 | K17: =+IF('Cotización1.'!K23="","no cotiza",'Cotización1.'!K23) -> 4777161.8 | L17: =+IF(K17="no cotiza","no cotiza",ROUND((K17*(1+J17)),0)) -> 5684823 | M17: =+IF(L17="no cotiza","no cotiza",ROUND((L17*F17),0)) -> 5684823 | N17: =+IF(L17="no cotiza","no cotiza",ROUND((L17*G17),0)) -> 68217876 | O17: =+IF(L17="no cotiza","no cotiza",ROUND((L17*H17),0)) -> 39793761 | P17: =+IF(L17="no cotiza","no cotiza",ROUND((L17*I17),0)) -> 113696460 | Q17: =+IF('Cotización2.'!K23="","no cotiza",'Cotización2.'!K23) -> 4720771.9 | R17: =+IF(Q17="no cotiza","no cotiza",ROUND((Q17*(1+J17)),0)) -> 5617719 | S17: =+IF(R17="no cotiza","no cotiza",ROUND((R17*F17),0)) -> 5617719 | T17: =+IF(R17="no cotiza","no cotiza",ROUND((R17*G17),0)) -> 67412628 | U17: =+IF(R17="no cotiza","no cotiza",ROUND((R17*H17),0)) -> 39324033 | V17: =+IF(R17="no cotiza","no cotiza",ROUND((R17*I17),0)) -> 112354380 | W17: =+IF('Cotizacion3. '!K23="","no cotiza",'Cotizacion3. '!K23) -> 4644543.4 | X17: =+IF(W17="no cotiza","no cotiza",ROUND((W17*(1+J17)),0)) -> 5527007 | Y17: =+IF(X17="no cotiza","no cotiza",ROUND((X17*F17),0)) -> 5527007 | Z17: =+IF(X17="no cotiza","no cotiza",ROUND((X17*G17),0)) -> 66324084 | AA17: =+IF(X17="no cotiza","no cotiza",ROUND((X17*H17),0)) -> 38689049 | AB17: =+IF(X17="no cotiza","no cotiza",ROUND((X17*I17),0)) -> 110540140 | AC17: =+IF('Cotización4. '!K23="","no cotiza",'Cotización4. '!K23) -> 4748267.6 | AD17: =+IF(AC17="no cotiza","no cotiza",ROUND((AC17*(1+J17)),0)) -> 5650438 | AE17: =+IF(AD17="no cotiza","no cotiza",ROUND((AD17*F17),0)) -> 5650438 | AF17: =+IF(AD17="no cotiza","no cotiza",ROUND((AD17*G17),0)) -> 67805256 | AG17: =+IF(AD17="no cotiza","no cotiza",ROUND((AD17*H17),0)) -> 39553066 | AH17: =+IF(AD17="no cotiza","no cotiza",ROUND((AD17*I17),0)) -> 113008760 | AJ17: =+IF('Cot5. Contrato3341-2022'!K23="","no aplica",'Cot5. Contrato3341-2022'!K23) -> 2215328 | AK17: =+IF(AJ17="no aplica","no aplica",ROUND((AJ17*(1+J17)),0)) -> 2636240 | AL17: =+IF(AK17="no aplica","no aplica",ROUND((AK17*F17),0)) -> 2636240 | AM17: =+IF(AK17="no aplica","no aplica",ROUND((AK17*G17),0)) -> 31634880 | AN17: =+IF(AK17="no aplica","no aplica",ROUND((AK17*H17),0)) -> 18453680 | AO17: =+IF(AK17="no aplica","no aplica",ROUND((AK17*I17),0)) -> 52724800 | AR17: =IFERROR(ROUND(GEOMEAN(K17,Q17,W17,AC17,AJ17),0),"") -> 4059007 | AS17: =+IF(AR17="no cotiza","no cotiza",ROUND((AR17*(1+J17)),0)) -> 4830218 | AT17: =+IF(AS17="no cotiza","no cotiza",ROUND((AS17*F17),0)) -> 4830218 | AU17: =+IF(AS17="no cotiza","no cotiza",ROUND((AS17*G17),0)) -> 57962616 | AV17: =+IF(AS17="no cotiza","no cotiza",ROUND((AS17*H17),0)) -> 33811526 | AW17: =+IF(AS17="no cotiza","no cotiza",ROUND((AS17*I17),0)) -> 96604360
B18: 1.11 | C18: Cisco C9500-24Y4C ( EOL NO DEFINIDO ) Soporte Cisco Smartnet 7x24x4 | D18: Mes | E18: 4 | F18: 1 | G18: 12 | H18: 7 | I18: 20 | J18: 0.19 | K18: =+IF('Cotización1.'!K24="","no cotiza",'Cotización1.'!K24) -> 4116921.7 | L18: =+IF(K18="no cotiza","no cotiza",ROUND((K18*(1+J18)),0)) -> 4899137 | M18: =+IF(L18="no cotiza","no cotiza",ROUND((L18*F18),0)) -> 4899137 | N18: =+IF(L18="no cotiza","no cotiza",ROUND((L18*G18),0)) -> 58789644 | O18: =+IF(L18="no cotiza","no cotiza",ROUND((L18*H18),0)) -> 34293959 | P18: =+IF(L18="no cotiza","no cotiza",ROUND((L18*I18),0)) -> 97982740 | Q18: =+IF('Cotización2.'!K24="","no cotiza",'Cotización2.'!K24) -> 4068325.4 | R18: =+IF(Q18="no cotiza","no cotiza",ROUND((Q18*(1+J18)),0)) -> 4841307 | S18: =+IF(R18="no cotiza","no cotiza",ROUND((R18*F18),0)) -> 4841307 | T18: =+IF(R18="no cotiza","no cotiza",ROUND((R18*G18),0)) -> 58095684 | U18: =+IF(R18="no cotiza","no cotiza",ROUND((R18*H18),0)) -> 33889149 | V18: =+IF(R18="no cotiza","no cotiza",ROUND((R18*I18),0)) -> 96826140 | W18: =+IF('Cotizacion3. '!K24="","no cotiza",'Cotizacion3. '!K24) -> 4002632.2 | X18: =+IF(W18="no cotiza","no cotiza",ROUND((W18*(1+J18)),0)) -> 4763132 | Y18: =+IF(X18="no cotiza","no cotiza",ROUND((X18*F18),0)) -> 4763132 | Z18: =+IF(X18="no cotiza","no cotiza",ROUND((X18*G18),0)) -> 57157584 | AA18: =+IF(X18="no cotiza","no cotiza",ROUND((X18*H18),0)) -> 33341924 | AB18: =+IF(X18="no cotiza","no cotiza",ROUND((X18*I18),0)) -> 95262640 | AC18: =+IF('Cotización4. '!K24="","no cotiza",'Cotización4. '!K24) -> 4092021 | AD18: =+IF(AC18="no cotiza","no cotiza",ROUND((AC18*(1+J18)),0)) -> 4869505 | AE18: =+IF(AD18="no cotiza","no cotiza",ROUND((AD18*F18),0)) -> 4869505 | AF18: =+IF(AD18="no cotiza","no cotiza",ROUND((AD18*G18),0)) -> 58434060 | AG18: =+IF(AD18="no cotiza","no cotiza",ROUND((AD18*H18),0)) -> 34086535 | AH18: =+IF(AD18="no cotiza","no cotiza",ROUND((AD18*I18),0)) -> 97390100 | AJ18: =+IF('Cot5. Contrato3341-2022'!K24="","no aplica",'Cot5. Contrato3341-2022'!K24) -> 3424744 | AK18: =+IF(AJ18="no aplica","no aplica",ROUND((AJ18*(1+J18)),0)) -> 4075445 | AL18: =+IF(AK18="no aplica","no aplica",ROUND((AK18*F18),0)) -> 4075445 | AM18: =+IF(AK18="no aplica","no aplica",ROUND((AK18*G18),0)) -> 48905340 | AN18: =+IF(AK18="no aplica","no aplica",ROUND((AK18*H18),0)) -> 28528115 | AO18: =+IF(AK18="no aplica","no aplica",ROUND((AK18*I18),0)) -> 81508900 | AR18: =IFERROR(ROUND(GEOMEAN(K18,Q18,W18,AC18,AJ18),0),"") -> 3931697 | AS18: =+IF(AR18="no cotiza","no cotiza",ROUND((AR18*(1+J18)),0)) -> 4678719 | AT18: =+IF(AS18="no cotiza","no cotiza",ROUND((AS18*F18),0)) -> 4678719 | AU18: =+IF(AS18="no cotiza","no cotiza",ROUND((AS18*G18),0)) -> 56144628 | AV18: =+IF(AS18="no cotiza","no cotiza",ROUND((AS18*H18),0)) -> 32751033 | AW18: =+IF(AS18="no cotiza","no cotiza",ROUND((AS18*I18),0)) -> 93574380
B19: 1.12 | C19: Cisco C9200L-48T-4X-E ( Eol NO DEFINIDO ) Soporte Cisco Smartnet 7x24x4 | D19: Mes | E19: 8 | F19: 1 | G19: 12 | H19: 7 | I19: 20 | J19: 0.19 | K19: =+IF('Cotización1.'!K25="","no cotiza",'Cotización1.'!K25) -> 1773357.5 | L19: =+IF(K19="no cotiza","no cotiza",ROUND((K19*(1+J19)),0)) -> 2110295 | M19: =+IF(L19="no cotiza","no cotiza",ROUND((L19*F19),0)) -> 2110295 | N19: =+IF(L19="no cotiza","no cotiza",ROUND((L19*G19),0)) -> 25323540 | O19: =+IF(L19="no cotiza","no cotiza",ROUND((L19*H19),0)) -> 14772065 | P19: =+IF(L19="no cotiza","no cotiza",ROUND((L19*I19),0)) -> 42205900 | Q19: =+IF('Cotización2.'!K25="","no cotiza",'Cotización2.'!K25) -> 1752424.7 | R19: =+IF(Q19="no cotiza","no cotiza",ROUND((Q19*(1+J19)),0)) -> 2085385 | S19: =+IF(R19="no cotiza","no cotiza",ROUND((R19*F19),0)) -> 2085385 | T19: =+IF(R19="no cotiza","no cotiza",ROUND((R19*G19),0)) -> 25024620 | U19: =+IF(R19="no cotiza","no cotiza",ROUND((R19*H19),0)) -> 14597695 | V19: =+IF(R19="no cotiza","no cotiza",ROUND((R19*I19),0)) -> 41707700 | W19: =+IF('Cotizacion3. '!K25="","no cotiza",'Cotizacion3. '!K25) -> 1724127.5 | X19: =+IF(W19="no cotiza","no cotiza",ROUND((W19*(1+J19)),0)) -> 2051712 | Y19: =+IF(X19="no cotiza","no cotiza",ROUND((X19*F19),0)) -> 2051712 | Z19: =+IF(X19="no cotiza","no cotiza",ROUND((X19*G19),0)) -> 24620544 | AA19: =+IF(X19="no cotiza","no cotiza",ROUND((X19*H19),0)) -> 14361984 | AB19: =+IF(X19="no cotiza","no cotiza",ROUND((X19*I19),0)) -> 41034240 | AC19: =+IF('Cotización4. '!K25="","no cotiza",'Cotización4. '!K25) -> 1762631.5 | AD19: =+IF(AC19="no cotiza","no cotiza",ROUND((AC19*(1+J19)),0)) -> 2097532 | AE19: =+IF(AD19="no cotiza","no cotiza",ROUND((AD19*F19),0)) -> 2097532 | AF19: =+IF(AD19="no cotiza","no cotiza",ROUND((AD19*G19),0)) -> 25170384 | AG19: =+IF(AD19="no cotiza","no cotiza",ROUND((AD19*H19),0)) -> 14682724 | AH19: =+IF(AD19="no cotiza","no cotiza",ROUND((AD19*I19),0)) -> 41950640 | AJ19: =+IF('Cot5. Contrato3341-2022'!K25="","no aplica",'Cot5. Contrato3341-2022'!K25) -> 1487001 | AK19: =+IF(AJ19="no aplica","no aplica",ROUND((AJ19*(1+J19)),0)) -> 1769531 | AL19: =+IF(AK19="no aplica","no aplica",ROUND((AK19*F19),0)) -> 1769531 | AM19: =+IF(AK19="no aplica","no aplica",ROUND((AK19*G19),0)) -> 21234372 | AN19: =+IF(AK19="no aplica","no aplica",ROUND((AK19*H19),0)) -> 12386717 | AO19: =+IF(AK19="no aplica","no aplica",ROUND((AK19*I19),0)) -> 35390620 | AR19: =IFERROR(ROUND(GEOMEAN(K19,Q19,W19,AC19,AJ19),0),"") -> 1696272 | AS19: =+IF(AR19="no cotiza","no cotiza",ROUND((AR19*(1+J19)),0)) -> 2018564 | AT19: =+IF(AS19="no cotiza","no cotiza",ROUND((AS19*F19),0)) -> 2018564 | AU19: =+IF(AS19="no cotiza","no cotiza",ROUND((AS19*G19),0)) -> 24222768 | AV19: =+IF(AS19="no cotiza","no cotiza",ROUND((AS19*H19),0)) -> 14129948 | AW19: =+IF(AS19="no cotiza","no cotiza",ROUND((AS19*I19),0)) -> 40371280
... B21: 1.14 | C21: Solución de Tarificador Eagle. Actualización de Software y Licenciamiento y Soporte Fabricante | D21: Mes | E21: 1 | F21: 1 | G21: 12 | H21: 7 | I21: 20 | J21: 0.19 | K21: =+IF('Cotización1.'!K27="","no cotiza",'Cotización1.'!K27) -> 3016424.3 | L21: =+IF(K21="no cotiza","no cotiza",ROUND((K21*(1+J21)),0)) -> 3589545 | M21: =+IF(L21="no cotiza","no cotiza",ROUND((L21*F21),0)) -> 3589545 | N21: =+IF(L21="no cotiza","no cotiza",ROUND((L21*G21),0)) -> 43074540 | O21: =+IF(L21="no cotiza","no cotiza",ROUND((L21*H21),0)) -> 25126815 | P21: =+IF(L21="no cotiza","no cotiza",ROUND((L21*I21),0)) -> 71790900 | Q21: =+IF('Cotización2.'!K27="","no cotiza",'Cotización2.'!K27) -> 2980818.2 | R21: =+IF(Q21="no cotiza","no cotiza",ROUND((Q21*(1+J21)),0)) -> 3547174 | S21: =+IF(R21="no cotiza","no cotiza",ROUND((R21*F21),0)) -> 3547174 | T21: =+IF(R21="no cotiza","no cotiza",ROUND((R21*G21),0)) -> 42566088 | U21: =+IF(R21="no cotiza","no cotiza",ROUND((R21*H21),0)) -> 24830218 | V21: =+IF(R21="no cotiza","no cotiza",ROUND((R21*I21),0)) -> 70943480 | W21: =+IF('Cotizacion3. '!K27="","no cotiza",'Cotizacion3. '!K27) -> 2932685.5 | X21: =+IF(W21="no cotiza","no cotiza",ROUND((W21*(1+J21)),0)) -> 3489896 | Y21: =+IF(X21="no cotiza","no cotiza",ROUND((X21*F21),0)) -> 3489896 | Z21: =+IF(X21="no cotiza","no cotiza",ROUND((X21*G21),0)) -> 41878752 | AA21: =+IF(X21="no cotiza","no cotiza",ROUND((X21*H21),0)) -> 24429272 | AB21: =+IF(X21="no cotiza","no cotiza",ROUND((X21*I21),0)) -> 69797920 | AC21: =+IF('Cotización4. '!K27="","no cotiza",'Cotización4. '!K27) -> 2998179.7 | AD21: =+IF(AC21="no cotiza","no cotiza",ROUND((AC21*(1+J21)),0)) -> 3567834 | AE21: =+IF(AD21="no cotiza","no cotiza",ROUND((AD21*F21),0)) -> 3567834 | AF21: =+IF(AD21="no cotiza","no cotiza",ROUND((AD21*G21),0)) -> 42814008 | AG21: =+IF(AD21="no cotiza","no cotiza",ROUND((AD21*H21),0)) -> 24974838 | AH21: =+IF(AD21="no cotiza","no cotiza",ROUND((AD21*I21),0)) -> 71356680 | AJ21: =+IF('Cot5. Contrato3341-2022'!K27="","no aplica",'Cot5. Contrato3341-2022'!K27) -> no aplica | AK21: =+IF(AJ21="no aplica","no aplica",ROUND((AJ21*(1+J21)),0)) -> no aplica | AL21: =+IF(AK21="no aplica","no aplica",ROUND((AK21*F21),0)) -> no aplica | AM21: =+IF(AK21="no aplica","no aplica",ROUND((AK21*G21),0)) -> no aplica | AN21: =+IF(AK21="no aplica","no aplica",ROUND((AK21*H21),0)) -> no aplica | AO21: =+IF(AK21="no aplica","no aplica",ROUND((AK21*I21),0)) -> no aplica | AR21: =IFERROR(ROUND(GEOMEAN(K21,Q21,W21,AC21,AJ21),0),"") -> 2981864 | AS21: =+IF(AR21="no cotiza","no cotiza",ROUND((AR21*(1+J21)),0)) -> 3548418 | AT21: =+IF(AS21="no cotiza","no cotiza",ROUND((AS21*F21),0)) -> 3548418 | AU21: =+IF(AS21="no cotiza","no cotiza",ROUND((AS21*G21),0)) -> 42581016 | AV21: =+IF(AS21="no cotiza","no cotiza",ROUND((AS21*H21),0)) -> 24838926 | AW21: =+IF(AS21="no cotiza","no cotiza",ROUND((AS21*I21),0)) -> 70968360
B22: 1.15 | C22: Renovación 11100 licencias ISE Essentials (ISE-SEC-SUB) | D22: Servicio | E22: 1 | F22: Valor total del servicio de la renovación por 20 meses: | J22: 0.19 | K22: =+IF('Cotización1.'!K28="","no cotiza",'Cotización1.'!K28) -> 82278658 | P22: =+IF(K22="no cotiza","no cotiza",ROUND((K22*(1+J22)),0)) -> 97911603 | Q22: =+IF('Cotización2.'!K28="","no cotiza",'Cotización2.'!K28) -> 81307436 | V22: =+IF(Q22="no cotiza","no cotiza",ROUND((Q22*(1+J22)),0)) -> 96755849 | W22: =+IF('Cotizacion3. '!K28="","no cotiza",'Cotizacion3. '!K28) -> 79994526 | AB22: =+IF(W22="no cotiza","no cotiza",ROUND((W22*(1+J22)),0)) -> 95193486 | AC22: =+IF('Cotización4. '!K28="","no cotiza",'Cotización4. '!K28) -> 81781004 | AH22: =+IF(AC22="no cotiza","no cotiza",ROUND((AC22*(1+J22)),0)) -> 97319395 | AJ22: =+IF('Cot5. Contrato3341-2022'!K28="","no aplica",'Cot5. Contrato3341-2022'!K28) -> no aplica | AK22: =+IF(AJ22="no aplica","no aplica",ROUND((AJ22*(1+J22)),0)) -> no aplica | AL22: =+IF(AK22="no aplica","no aplica",ROUND((AK22*F22),0)) -> no aplica | AM22: =+IF(AK22="no aplica","no aplica",ROUND((AK22*G22),0)) -> no aplica | AN22: =+IF(AK22="no aplica","no aplica",ROUND((AK22*H22),0)) -> no aplica | AO22: =+IF(AK22="no aplica","no aplica",ROUND((AK22*I22),0)) -> no aplica | AR22: =IFERROR(ROUND(GEOMEAN(K22,Q22,W22,AC22,AJ22),0),"") -> 81335950 | AS22: =AT22/20 -> 4839489 | AT22: =+AW22 -> 96789781 | AW22: =+IF(AR22="no cotiza","no cotiza",ROUND((AR22*(1+J22)),0)) -> 96789781
B23: SUBTOTAL TABLA 1: Actualización de software, licenciamiento y soporte del fabricante para equipos LAN y UC grupo1: 7*24 SUBTOTAL ACTUALIZACIÓN DE SOFTWARE, LICENCIAMIENTO Y SOPORTE DE FABRICANTE | P23: =SUM(P8:P22) -> 2325221767 | V23: =SUM(V8:V22) -> 2297774736 | AB23: =SUM(AB8:AB22) -> 2260671487 | AH23: =SUM(AH8:AH22) -> 2311157906 | AO23: =SUM(AO8:AO22) -> 854554396 | AW23: =SUM(AW8:AW22) -> 2107058827
B24: TABLA 2: Soporte y mantenimiento local del proponente para equipos LAN y UC del GRUPO 1: 7x24 | Q24: TABLA 2: Soporte y mantenimiento local del proponente para equipos LAN y UC del GRUPO 1: 7x24 | W24: TABLA 2: Soporte y mantenimiento local del proponente para equipos LAN y UC del GRUPO 1: 7x24 | AC24: TABLA 2: Soporte y mantenimiento local del proponente para equipos LAN y UC del GRUPO 1: 7x24
K25: Cotización 1. | Q25: Cotización2. | W25: Cotización3. | AC25: Cotización4. | AJ25: CONTRATO ACTUAL | AR25: MEDIA GEOMÉTRICA
B26: ÍTEM | C26: Descripción | D26: Unidad de Medida | E26: Cantidad equipos x modelo | F26: Vigencia (meses) 2024 | G26: Vigencia(meses) 2025 | H26: Vigencia (meses) 2026 | I26: TOTAL (meses) REQUERIDOS | J26: Tarifa IVA (%) | K26: VALOR UNITARIO MENSUAL ANTES DE IVA | L26: VALOR UNITARIO MENSUAL INCLUIDO IVA | M26: Valor mensual Iva incluido x número de meses vigencia 2024 | N26: Valor mensual Iva incluido x número de meses vigencia 2025 | O26: Valor mensual Iva incluido x número de meses vigencia 2026 | P26: VALOR TOTAL (VALOR MENSUAL INCLUIDO IVA x NUMEROS TOTAL DE MESES) | Q26: VALOR UNITARIO MENSUAL ANTES DE IVA | R26: VALOR UNITARIO MENSUAL INCLUIDO IVA | S26: Valor mensual Iva incluido x número de meses vigencia 2024 | T26: Valor mensual Iva incluido x número de meses vigencia 2025 | U26: Valor mensual Iva incluido x número de meses vigencia 2026 | V26: VALOR TOTAL (VALOR MENSUAL INCLUIDO IVA x NUMEROS TOTAL DE MESES) | W26: VALOR UNITARIO MENSUAL ANTES DE IVA | X26: VALOR UNITARIO MENSUAL INCLUIDO IVA | Y26: Valor mensual Iva incluido x número de meses vigencia 2024 | Z26: Valor mensual Iva incluido x número de meses vigencia 2025 | AA26: Valor mensual Iva incluido x número de meses vigencia 2026 | AB26: VALOR TOTAL (VALOR MENSUAL INCLUIDO IVA x NUMEROS TOTAL DE MESES) | AC26: VALOR UNITARIO MENSUAL ANTES DE IVA | AD26: VALOR UNITARIO MENSUAL INCLUIDO IVA | AE26: Valor mensual Iva incluido x número de meses vigencia 2024 | AF26: Valor mensual Iva incluido x número de meses vigencia 2025 | AG26: Valor mensual Iva incluido x número de meses vigencia 2026 | AH26: VALOR TOTAL (VALOR MENSUAL INCLUIDO IVA x NUMEROS TOTAL DE MESES) | AJ26: VALOR UNITARIO MENSUAL ANTES DE IVA | AK26: VALOR UNITARIO MENSUAL INCLUIDO IVA | AL26: Valor mensual Iva incluido x número de meses vigencia 2024 | AM26: Valor mensual Iva incluido x número de meses vigencia 2025 | AN26: Valor mensual Iva incluido x número de meses vigencia 2026 | AO26: VALOR TOTAL (VALOR MENSUAL INCLUIDO IVA x NUMEROS TOTAL DE MESES) | AR26: VALOR UNITARIO MENSUAL ANTES DE IVA | AS26: VALOR UNITARIO MENSUAL INCLUIDO IVA | AT26: Valor mensual Iva incluido x número de meses vigencia 2024 | AU26: Valor mensual Iva incluido x número de meses vigencia 2025 | AV26: Valor mensual Iva incluido x número de meses vigencia 2026 | AW26: VALOR TOTAL (VALOR MENSUAL INCLUIDO IVA x NUMEROS TOTAL DE MESES)
B27: 2.1 | C27: N77-C7706 = Switches de Core (EOL NO DEFINIDO) | D27: Mes | E27: 4 | F27: 1 | G27: 12 | H27: 7 | I27: 20 | J27: 0.19 | K27: =+IF('Cotización1.'!K32="","no cotiza",'Cotización1.'!K32) -> 10141718 | L27: =+IF(K27="no cotiza","no cotiza",ROUND((K27*(1+J27)),0)) -> 12068645 | M27: =+IF(L27="no cotiza","no cotiza",ROUND((L27*F27),0)) -> 12068645 | N27: =+IF(L27="no cotiza","no cotiza",ROUND((L27*G27),0)) -> 144823740 | O27: =+IF(L27="no cotiza","no cotiza",ROUND((L27*H27),0)) -> 84480515 | P27: =+IF(L27="no cotiza","no cotiza",ROUND((L27*I27),0)) -> 241372900 | Q27: =+IF('Cotización2.'!K32="","no cotiza",'Cotización2.'!K32) -> 10022005 | R27: =+IF(Q27="no cotiza","no cotiza",ROUND((Q27*(1+J27)),0)) -> 11926186 | S27: =+IF(R27="no cotiza","no cotiza",ROUND((R27*F27),0)) -> 11926186 | T27: =+IF(R27="no cotiza","no cotiza",ROUND((R27*G27),0)) -> 143114232 | U27: =+IF(R27="no cotiza","no cotiza",ROUND((R27*H27),0)) -> 83483302 | V27: =+IF(R27="no cotiza","no cotiza",ROUND((R27*I27),0)) -> 238523720 | W27: =+IF('Cotizacion3. '!K32="","no cotiza",'Cotizacion3. '!K32) -> 9860174.9 | X27: =+IF(W27="no cotiza","no cotiza",ROUND((W27*(1+J27)),0)) -> 11733608 | Y27: =+IF(X27="no cotiza","no cotiza",ROUND((X27*F27),0)) -> 11733608 | Z27: =+IF(X27="no cotiza","no cotiza",ROUND((X27*G27),0)) -> 140803296 | AA27: =+IF(X27="no cotiza","no cotiza",ROUND((X27*H27),0)) -> 82135256 | AB27: =+IF(X27="no cotiza","no cotiza",ROUND((X27*I27),0)) -> 234672160 | AC27: =+IF('Cotización4. '!K32="","no cotiza",'Cotización4. '!K32) -> 10080377 | AD27: =+IF(AC27="no cotiza","no cotiza",ROUND((AC27*(1+J27)),0)) -> 11995649 | AE27: =+IF(AD27="no cotiza","no cotiza",ROUND((AD27*F27),0)) -> 11995649 | AF27: =+IF(AD27="no cotiza","no cotiza",ROUND((AD27*G27),0)) -> 143947788 | AG27: =+IF(AD27="no cotiza","no cotiza",ROUND((AD27*H27),0)) -> 83969543 | AH27: =+IF(AD27="no cotiza","no cotiza",ROUND((AD27*I27),0)) -> 239912980 | AJ27: =+IF('Cot5. Contrato3341-2022'!K32="","no aplica",'Cot5. Contrato3341-2022'!K32) -> 2838333 | AK27: =+IF(AJ27="no aplica","no aplica",ROUND((AJ27*(1+J27)),0)) -> 3377616 | AL27: =+IF(AK27="no aplica","no aplica",ROUND((AK27*F27),0)) -> 3377616 | AM27: =+IF(AK27="no aplica","no aplica",ROUND((AK27*G27),0)) -> 40531392 | AN27: =+IF(AK27="no aplica","no aplica",ROUND((AK27*H27),0)) -> 23643312 | AO27: =+IF(AK27="no aplica","no aplica",ROUND((AK27*I27),0)) -> 67552320 | AR27: =IFERROR(ROUND(GEOMEAN(K27,Q27,W27,AC27,AJ27),0),"") -> 7789296 | AS27: =+IF(AR27="no cotiza","no cotiza",ROUND((AR27*(1+J27)),0)) -> 9269262 | AT27: =+IF(AS27="no cotiza","no cotiza",ROUND((AS27*F27),0)) -> 9269262 | AU27: =+IF(AS27="no cotiza","no cotiza",ROUND((AS27*G27),0)) -> 111231144 | AV27: =+IF(AS27="no cotiza","no cotiza",ROUND((AS27*H27),0)) -> 64884834 | AW27: =+IF(AS27="no cotiza","no cotiza",ROUND((AS27*I27),0)) -> 185385240
B28: 2.2 | C28: WS-C4500X-40X-ES = (EOL October 31, 2025) | D28: Mes | E28: 4 | F28: 1 | G28: 10 | H28: 0 | I28: 11 | J28: 0.19 | K28: =+IF('Cotización1.'!K33="","no cotiza",'Cotización1.'!K33) -> 3300375.5 | L28: =+IF(K28="no cotiza","no cotiza",ROUND((K28*(1+J28)),0)) -> 3927447 | M28: =+IF(L28="no cotiza","no cotiza",ROUND((L28*F28),0)) -> 3927447 | N28: =+IF(L28="no cotiza","no cotiza",ROUND((L28*G28),0)) -> 39274470 | O28: =+IF(L28="no cotiza","no cotiza",ROUND((L28*H28),0)) -> 0 | P28: =+IF(L28="no cotiza","no cotiza",ROUND((L28*I28),0)) -> 43201917 | Q28: =+IF('Cotización2.'!K33="","no cotiza",'Cotización2.'!K33) -> 3261417.7 | R28: =+IF(Q28="no cotiza","no cotiza",ROUND((Q28*(1+J28)),0)) -> 3881087 | S28: =+IF(R28="no cotiza","no cotiza",ROUND((R28*F28),0)) -> 3881087 | T28: =+IF(R28="no cotiza","no cotiza",ROUND((R28*G28),0)) -> 38810870 | U28: =+IF(R28="no cotiza","no cotiza",ROUND((R28*H28),0)) -> 0 | V28: =+IF(R28="no cotiza","no cotiza",ROUND((R28*I28),0)) -> 42691957 | W28: =+IF('Cotizacion3. '!K33="","no cotiza",'Cotizacion3. '!K33) -> 3208754 | X28: =+IF(W28="no cotiza","no cotiza",ROUND((W28*(1+J28)),0)) -> 3818417 | Y28: =+IF(X28="no cotiza","no cotiza",ROUND((X28*F28),0)) -> 3818417 | Z28: =+IF(X28="no cotiza","no cotiza",ROUND((X28*G28),0)) -> 38184170 | AA28: =+IF(X28="no cotiza","no cotiza",ROUND((X28*H28),0)) -> 0 | AB28: =+IF(X28="no cotiza","no cotiza",ROUND((X28*I28),0)) -> 42002587 | AC28: =+IF('Cotización4. '!K33="","no cotiza",'Cotización4. '!K33) -> 3280413.5 | AD28: =+IF(AC28="no cotiza","no cotiza",ROUND((AC28*(1+J28)),0)) -> 3903692 | AE28: =+IF(AD28="no cotiza","no cotiza",ROUND((AD28*F28),0)) -> 3903692 | AF28: =+IF(AD28="no cotiza","no cotiza",ROUND((AD28*G28),0)) -> 39036920 | AG28: =+IF(AD28="no cotiza","no cotiza",ROUND((AD28*H28),0)) -> 0 | AH28: =+IF(AD28="no cotiza","no cotiza",ROUND((AD28*I28),0)) -> 42940612 | AJ28: =+IF('Cot5. Contrato3341-2022'!K33="","no aplica",'Cot5. Contrato3341-2022'!K33) -> 1006783 | AK28: =+IF(AJ28="no aplica","no aplica",ROUND((AJ28*(1+J28)),0)) -> 1198072 | AL28: =+IF(AK28="no aplica","no aplica",ROUND((AK28*F28),0)) -> 1198072 | AM28: =+IF(AK28="no aplica","no aplica",ROUND((AK28*G28),0)) -> 11980720 | AN28: =+IF(AK28="no aplica","no aplica",ROUND((AK28*H28),0)) -> 0 | AO28: =+IF(AK28="no aplica","no aplica",ROUND((AK28*I28),0)) -> 13178792 | AR28: =IFERROR(ROUND(GEOMEAN(K28,Q28,W28,AC28,AJ28),0),"") -> 2578898 | AS28: =+IF(AR28="no cotiza","no cotiza",ROUND((AR28*(1+J28)),0)) -> 3068889 | AT28: =+IF(AS28="no cotiza","no cotiza",ROUND((AS28*F28),0)) -> 3068889 | AU28: =+IF(AS28="no cotiza","no cotiza",ROUND((AS28*G28),0)) -> 30688890 | AV28: =+IF(AS28="no cotiza","no cotiza",ROUND((AS28*H28),0)) -> 0 | AW28: =+IF(AS28="no cotiza","no cotiza",ROUND((AS28*I28),0)) -> 33757779
B29: 2.3 | C29: WS-C2960XR-48LPD-I = (EOL 31 de octubre de 2027) | D29: Mes | E29: 2 | F29: 1 | G29: 12 | H29: 7 | I29: 20 | J29: 0.19 | K29: =+IF('Cotización1.'!K34="","no cotiza",'Cotización1.'!K34) -> 265701.51 | L29: =+IF(K29="no cotiza","no cotiza",ROUND((K29*(1+J29)),0)) -> 316185 | M29: =+IF(L29="no cotiza","no cotiza",ROUND((L29*F29),0)) -> 316185 | N29: =+IF(L29="no cotiza","no cotiza",ROUND((L29*G29),0)) -> 3794220 | O29: =+IF(L29="no cotiza","no cotiza",ROUND((L29*H29),0)) -> 2213295 | P29: =+IF(L29="no cotiza","no cotiza",ROUND((L29*I29),0)) -> 6323700 | Q29: =+IF('Cotización2.'!K34="","no cotiza",'Cotización2.'!K34) -> 262565.16 | R29: =+IF(Q29="no cotiza","no cotiza",ROUND((Q29*(1+J29)),0)) -> 312453 | S29: =+IF(R29="no cotiza","no cotiza",ROUND((R29*F29),0)) -> 312453 | T29: =+IF(R29="no cotiza","no cotiza",ROUND((R29*G29),0)) -> 3749436 | U29: =+IF(R29="no cotiza","no cotiza",ROUND((R29*H29),0)) -> 2187171 | V29: =+IF(R29="no cotiza","no cotiza",ROUND((R29*I29),0)) -> 6249060 | W29: =+IF('Cotizacion3. '!K34="","no cotiza",'Cotizacion3. '!K34) -> 258325.39 | X29: =+IF(W29="no cotiza","no cotiza",ROUND((W29*(1+J29)),0)) -> 307407 | Y29: =+IF(X29="no cotiza","no cotiza",ROUND((X29*F29),0)) -> 307407 | Z29: =+IF(X29="no cotiza","no cotiza",ROUND((X29*G29),0)) -> 3688884 | AA29: =+IF(X29="no cotiza","no cotiza",ROUND((X29*H29),0)) -> 2151849 | AB29: =+IF(X29="no cotiza","no cotiza",ROUND((X29*I29),0)) -> 6148140 | AC29: =+IF('Cotización4. '!K34="","no cotiza",'Cotización4. '!K34) -> 264094.45 | AD29: =+IF(AC29="no cotiza","no cotiza",ROUND((AC29*(1+J29)),0)) -> 314272 | AE29: =+IF(AD29="no cotiza","no cotiza",ROUND((AD29*F29),0)) -> 314272 | AF29: =+IF(AD29="no cotiza","no cotiza",ROUND((AD29*G29),0)) -> 3771264 | AG29: =+IF(AD29="no cotiza","no cotiza",ROUND((AD29*H29),0)) -> 2199904 | AH29: =+IF(AD29="no cotiza","no cotiza",ROUND((AD29*I29),0)) -> 6285440 | AJ29: =+IF('Cot5. Contrato3341-2022'!K34="","no aplica",'Cot5. Contrato3341-2022'!K34) -> 86578 | AK29: =+IF(AJ29="no aplica","no aplica",ROUND((AJ29*(1+J29)),0)) -> 103028 | AL29: =+IF(AK29="no aplica","no aplica",ROUND((AK29*F29),0)) -> 103028 | AM29: =+IF(AK29="no aplica","no aplica",ROUND((AK29*G29),0)) -> 1236336 | AN29: =+IF(AK29="no aplica","no aplica",ROUND((AK29*H29),0)) -> 721196 | AO29: =+IF(AK29="no aplica","no aplica",ROUND((AK29*I29),0)) -> 2060560 | AR29: =IFERROR(ROUND(GEOMEAN(K29,Q29,W29,AC29,AJ29),0),"") -> 210374 | AS29: =+IF(AR29="no cotiza","no cotiza",ROUND((AR29*(1+J29)),0)) -> 250345 | AT29: =+IF(AS29="no cotiza","no cotiza",ROUND((AS29*F29),0)) -> 250345 | AU29: =+IF(AS29="no cotiza","no cotiza",ROUND((AS29*G29),0)) -> 3004140 | AV29: =+IF(AS29="no cotiza","no cotiza",ROUND((AS29*H29),0)) -> 1752415 | AW29: =+IF(AS29="no cotiza","no cotiza",ROUND((AS29*I29),0)) -> 5006900
B30: 2.4 | C30: WS-C2960X-48FPD-L = (EOL 31 de octubre de 2027) | D30: Mes | E30: 6 | F30: 1 | G30: 12 | H30: 7 | I30: 20 | J30: 0.19 | K30: =+IF('Cotización1.'!K35="","no cotiza",'Cotización1.'!K35) -> 607823.05 | L30: =+IF(K30="no cotiza","no cotiza",ROUND((K30*(1+J30)),0)) -> 723309 | M30: =+IF(L30="no cotiza","no cotiza",ROUND((L30*F30),0)) -> 723309 | N30: =+IF(L30="no cotiza","no cotiza",ROUND((L30*G30),0)) -> 8679708 | O30: =+IF(L30="no cotiza","no cotiza",ROUND((L30*H30),0)) -> 5063163 | P30: =+IF(L30="no cotiza","no cotiza",ROUND((L30*I30),0)) -> 14466180 | Q30: =+IF('Cotización2.'!K35="","no cotiza",'Cotización2.'!K35) -> 600648.27 | R30: =+IF(Q30="no cotiza","no cotiza",ROUND((Q30*(1+J30)),0)) -> 714771 | S30: =+IF(R30="no cotiza","no cotiza",ROUND((R30*F30),0)) -> 714771 | T30: =+IF(R30="no cotiza","no cotiza",ROUND((R30*G30),0)) -> 8577252 | U30: =+IF(R30="no cotiza","no cotiza",ROUND((R30*H30),0)) -> 5003397 | V30: =+IF(R30="no cotiza","no cotiza",ROUND((R30*I30),0)) -> 14295420 | W30: =+IF('Cotizacion3. '!K35="","no cotiza",'Cotizacion3. '!K35) -> 590949.32 | X30: =+IF(W30="no cotiza","no cotiza",ROUND((W30*(1+J30)),0)) -> 703230 | Y30: =+IF(X30="no cotiza","no cotiza",ROUND((X30*F30),0)) -> 703230 | Z30: =+IF(X30="no cotiza","no cotiza",ROUND((X30*G30),0)) -> 8438760 | AA30: =+IF(X30="no cotiza","no cotiza",ROUND((X30*H30),0)) -> 4922610 | AB30: =+IF(X30="no cotiza","no cotiza",ROUND((X30*I30),0)) -> 14064600 | AC30: =+IF('Cotización4. '!K35="","no cotiza",'Cotización4. '!K35) -> 604146.69 | AD30: =+IF(AC30="no cotiza","no cotiza",ROUND((AC30*(1+J30)),0)) -> 718935 | AE30: =+IF(AD30="no cotiza","no cotiza",ROUND((AD30*F30),0)) -> 718935 | AF30: =+IF(AD30="no cotiza","no cotiza",ROUND((AD30*G30),0)) -> 8627220 | AG30: =+IF(AD30="no cotiza","no cotiza",ROUND((AD30*H30),0)) -> 5032545 | AH30: =+IF(AD30="no cotiza","no cotiza",ROUND((AD30*I30),0)) -> 14378700 | AJ30: =+IF('Cot5. Contrato3341-2022'!K35="","no aplica",'Cot5. Contrato3341-2022'!K35) -> 166909 | AK30: =+IF(AJ30="no aplica","no aplica",ROUND((AJ30*(1+J30)),0)) -> 198622 | AL30: =+IF(AK30="no aplica","no aplica",ROUND((AK30*F30),0)) -> 198622 | AM30: =+IF(AK30="no aplica","no aplica",ROUND((AK30*G30),0)) -> 2383464 | AN30: =+IF(AK30="no aplica","no aplica",ROUND((AK30*H30),0)) -> 1390354 | AO30: =+IF(AK30="no aplica","no aplica",ROUND((AK30*I30),0)) -> 3972440 | AR30: =IFERROR(ROUND(GEOMEAN(K30,Q30,W30,AC30,AJ30),0),"") -> 465065 | AS30: =+IF(AR30="no cotiza","no cotiza",ROUND((AR30*(1+J30)),0)) -> 553427 | AT30: =+IF(AS30="no cotiza","no cotiza",ROUND((AS30*F30),0)) -> 553427 | AU30: =+IF(AS30="no cotiza","no cotiza",ROUND((AS30*G30),0)) -> 6641124 | AV30: =+IF(AS30="no cotiza","no cotiza",ROUND((AS30*H30),0)) -> 3873989 | AW30: =+IF(AS30="no cotiza","no cotiza",ROUND((AS30*I30),0)) -> 11068540
B31: 2.5 | C31: WS-C3850-12XS = (EOL October 31, 2025) | D31: Mes | E31: 2 | F31: 1 | G31: 10 | H31: 0 | I31: 11 | J31: 0.19 | K31: =+IF('Cotización1.'!K36="","no cotiza",'Cotización1.'!K36) -> 748241.49 | L31: =+IF(K31="no cotiza","no cotiza",ROUND((K31*(1+J31)),0)) -> 890407 | M31: =+IF(L31="no cotiza","no cotiza",ROUND((L31*F31),0)) -> 890407 | N31: =+IF(L31="no cotiza","no cotiza",ROUND((L31*G31),0)) -> 8904070 | O31: =+IF(L31="no cotiza","no cotiza",ROUND((L31*H31),0)) -> 0 | P31: =+IF(L31="no cotiza","no cotiza",ROUND((L31*I31),0)) -> 9794477 | Q31: =+IF('Cotización2.'!K36="","no cotiza",'Cotización2.'!K36) -> 739409.21 | R31: =+IF(Q31="no cotiza","no cotiza",ROUND((Q31*(1+J31)),0)) -> 879897 | S31: =+IF(R31="no cotiza","no cotiza",ROUND((R31*F31),0)) -> 879897 | T31: =+IF(R31="no cotiza","no cotiza",ROUND((R31*G31),0)) -> 8798970 | U31: =+IF(R31="no cotiza","no cotiza",ROUND((R31*H31),0)) -> 0 | V31: =+IF(R31="no cotiza","no cotiza",ROUND((R31*I31),0)) -> 9678867 | W31: =+IF('Cotizacion3. '!K36="","no cotiza",'Cotizacion3. '!K36) -> 727469.61 | X31: =+IF(W31="no cotiza","no cotiza",ROUND((W31*(1+J31)),0)) -> 865689 | Y31: =+IF(X31="no cotiza","no cotiza",ROUND((X31*F31),0)) -> 865689 | Z31: =+IF(X31="no cotiza","no cotiza",ROUND((X31*G31),0)) -> 8656890 | AA31: =+IF(X31="no cotiza","no cotiza",ROUND((X31*H31),0)) -> 0 | AB31: =+IF(X31="no cotiza","no cotiza",ROUND((X31*I31),0)) -> 9522579 | AC31: =+IF('Cotización4. '!K36="","no cotiza",'Cotización4. '!K36) -> 743715.83 | AD31: =+IF(AC31="no cotiza","no cotiza",ROUND((AC31*(1+J31)),0)) -> 885022 | AE31: =+IF(AD31="no cotiza","no cotiza",ROUND((AD31*F31),0)) -> 885022 | AF31: =+IF(AD31="no cotiza","no cotiza",ROUND((AD31*G31),0)) -> 8850220 | AG31: =+IF(AD31="no cotiza","no cotiza",ROUND((AD31*H31),0)) -> 0 | AH31: =+IF(AD31="no cotiza","no cotiza",ROUND((AD31*I31),0)) -> 9735242 | AJ31: =+IF('Cot5. Contrato3341-2022'!K36="","no aplica",'Cot5. Contrato3341-2022'!K36) -> 147978 | AK31: =+IF(AJ31="no aplica","no aplica",ROUND((AJ31*(1+J31)),0)) -> 176094 | AL31: =+IF(AK31="no aplica","no aplica",ROUND((AK31*F31),0)) -> 176094 | AM31: =+IF(AK31="no aplica","no aplica",ROUND((AK31*G31),0)) -> 1760940 | AN31: =+IF(AK31="no aplica","no aplica",ROUND((AK31*H31),0)) -> 0 | AO31: =+IF(AK31="no aplica","no aplica",ROUND((AK31*I31),0)) -> 1937034 | AR31: =IFERROR(ROUND(GEOMEAN(K31,Q31,W31,AC31,AJ31),0),"") -> 536129 | AS31: =+IF(AR31="no cotiza","no cotiza",ROUND((AR31*(1+J31)),0)) -> 637994 | AT31: =+IF(AS31="no cotiza","no cotiza",ROUND((AS31*F31),0)) -> 637994 | AU31: =+IF(AS31="no cotiza","no cotiza",ROUND((AS31*G31),0)) -> 6379940 | AV31: =+IF(AS31="no cotiza","no cotiza",ROUND((AS31*H31),0)) -> 0 | AW31: =+IF(AS31="no cotiza","no cotiza",ROUND((AS31*I31),0)) -> 7017934
