Workbook

Sheet Formato_9_Exp_Proponente
A1: No. PROPONENTE | B1: NOMBRE DEL PROPONENTE | C1: INTEGRANTES DEL PROPONENTE SI ES UT, CONSORCIO O UNICO PROPONENTE (Nombre y Nit) | D1: % DE PARTICIPACIÓN | E1: PRESUPUESTO OFICIAL | F1: PRESUPUESTO OFICIAL EXPRESADO EN SMMLV 2024 | G1: CERTIFICACIÓN NÚMERO | H1: ENTIDAD CONTRATANTE | I1: EMPRESA QUE APORTA LA EXPERIENCIA (Nombre y Nit) | J1: OBJETO SIMILAR RELACIONADAS CON SUPERVISIÓN INTEGRAL O INTERVENTORÍA INTEGRAL O AUDITORÍA INTEGRAL | K1: % PARTICIPACION DEL CONTRATO ACREDITADO | L1: FECHA INICIO | M1: FECHA FINAL | N1: Certificación de contrato finalizado, terminado y/o liquidado antes de la fecha de cierre del presente proceso de selección | O1: VALOR DEL CONTRATO EN PESOS COLOMBIANOS | P1: VALOR A TENER EN CUENTA PESOS COLOMBIANOS % PARTICIPACIÓN | Q1: SMMLV (A LA FECHA DE TERMINACION DEL CONTRATO) | R1: SMMLV RUP | S1: VALOR ACTUALIZADO CON SMMMLV (2024) | T1: VERIFICACIÓN DEL CODIGO UNSP EN EL RUP | U1: CONSECUTIVO RUP | V1: VALIDACIÓN CERTIFICACIÓN INDIVIDUAL | W1: OBSERVACIONES INDIVIDUALES EXPERIENCIA | X1: INTEGRANTE | Y1: VALOR EXPERIENCIA DE INTEGRANTE FRENTE AL 100% DEL PRESUPUESTO OFICIAL | Z1: VALIDACIÓN EXPERIENCIA INTEGRANTE | AA1: TOTAL EXPERIENCIA APORTADA POR PROPONENTE | AB1: OBSERVACIONES INDIVIDUALES POR INTEGRANTE | AC1: CONSOLIDADO | AD1: OBSERVACIONES GENERALES
A2: 1 | B2: ARES SECURITY LTDA: NIT 900.599.147-1 | C2: =B2 -> ARES SECURITY LTDA: NIT 900.599.147-1 | D2: 1 | E2: =Listados!$M$3 -> 1351954266 | F2: =E2/Listados!$C$32 -> 1039.9648 | G2: 1 | H2: ACCION DEL CAUCA SA | I2: ARES SECURITY LTDA: NIT 900.599.147-1 | J2: NO CUMPLE | K2: 1 | L2: 43101 | M2: 43465 | N2: =IF(M2<>"",IF(M2>Listados!$O$4,"NO CUMPLE","CUMPLE"),"") -> CUMPLE | P2: =IF(O2>0,K2*O2,"") | Q2: =IFERROR((P2/_xlfn.XLOOKUP(YEAR(M2),Listados!$B$3:$B$32,Listados!$C$3:$C$32)),"") | R2: 578.53 | S2: =IF(V2="CUMPLE",IFERROR(R2*Listados!$C$32,"0"),"") | T2: 801015 | U2: 3 | V2: =IF(COUNTBLANK(J2)+COUNTBLANK(N2)+COUNTBLANK(T2)=3,"",IF(COUNTIF(J2,"CUMPLE")+COUNTIF(N2,"CUMPLE")+COUNTIF(T2,"801015")+COUNTIF(T2,"801016")+COUNTIF(T2,"841116")=3,IF(W2="","CUMPLE","NO CUMPLE"),"NO CUMPLE")) -> NO CUMPLE | W2: El proponente en el término de traslado deberá aportar las certificaciones expedidas por las entidades contratantes según lo indicado en el Pliego de Condiciones definitivo, toda vez que no allegó estas certificaciones para la validación en concordancia con el el numeral 4.5.2. CONDICIONES GENERALES PARA LA ACREDITACIÓN DE LA EXPERIENCIA. Adjuntar el RUP con fecha de expedición no mayor a treinta (30) días calendario anteriores a la fecha límite para la presentación de las Ofertas, de acuerdo con el numeral 2.15.1. GENERALIDADES del Pliego de Condiciones Definitivo. | X2: =IF(C2<>"",C2,"") -> ARES SECURITY LTDA: NIT 900.599.147-1 | Y2: =+IF(X2<>"",(SUMIFS($S2:$S9,$I2:$I9,C2,$V2:$V9,"CUMPLE")),"") -> 0 | Z2: =IF(D2>0,(IF(Y2>=($D2*E$2),"CUMPLE","NO CUMPLE")),"") -> NO CUMPLE | AA2: =IF(C2>0,SUMIFS(Y2:Y9,Z2:Z9,"CUMPLE"),"") -> 0 | AC2: =IF(B2="","",IF(COUNTIF(Z2:Z9,"NO CUMPLE")>0,"NO CUMPLE",IF(E2>AA2,"NO CUMPLE",IF(AA2="","","CUMPLE")))) -> NO CUMPLE | AD2: De acuerdo con las observaciones particulares a cada unas de las experiencias, el proponente en el término de traslado deberá aportar las certificaciones expedidas por las entidades contratantes según lo indicado en el formato No. de acuerdo con la solicitado en el numeral 4.5.2 CONDICIONES GENERALES PARA LA ACREDITACIÓN DE LA EXPERIENCIA.del Pliego de Condiciones definitivo, toda vez que no las aporto en la propuesta. Por otro lado, se deberá adjuntar el RUP con fecha de expedición no mayor a treinta (30) días calendario anteriores a la fecha límite para la presentación de las Ofertas, en concordancia con el numeral 2.15.1. GENERALIDADES del Pliego de Condiciones Definitivo.
G3: 2 | H3: AEROREPUBLICA SA | I3: ARES SECURITY LTDA: NIT 900.599.147-1 | J3: NO CUMPLE | K3: 1 | L3: 43101 | M3: 43465 | N3: =IF(M3<>"",IF(M3>Listados!$O$4,"NO CUMPLE","CUMPLE"),"") -> CUMPLE | P3: =IF(O3>0,K3*O3,"") | Q3: =IFERROR((P3/_xlfn.XLOOKUP(YEAR(M3),Listados!$B$3:$B$32,Listados!$C$3:$C$32)),"") | R3: 380.65 | S3: =IF(V3="CUMPLE",IFERROR(R3*Listados!$C$32,"0"),"") | T3: 801015 | U3: 4 | V3: =IF(COUNTBLANK(J3)+COUNTBLANK(N3)+COUNTBLANK(T3)=3,"",IF(COUNTIF(J3,"CUMPLE")+COUNTIF(N3,"CUMPLE")+COUNTIF(T3,"801015")+COUNTIF(T3,"801016")+COUNTIF(T3,"841116")=3,IF(W3="","CUMPLE","NO CUMPLE"),"NO CUMPLE")) -> NO CUMPLE | W3: El proponente en el término de traslado deberá aportar las certificaciones expedidas por las entidades contratantes según lo indicado en el Pliego de Condiciones definitivo, toda vez que no allegó estas certificaciones para la validación en concordancia con el el numeral 4.5.2. CONDICIONES GENERALES PARA LA ACREDITACIÓN DE LA EXPERIENCIA. Adjuntar el RUP con fecha de expedición no mayor a treinta (30) días calendario anteriores a la fecha límite para la presentación de las Ofertas, de acuerdo con el numeral 2.15.1. GENERALIDADES del Pliego de Condiciones Definitivo. | X3: =IF(C3<>"",C3,"") | Y3: =+IF(X3<>"",(SUMIFS($S2:$S9,$I2:$I9,C3,$V2:$V9,"CUMPLE")),"") | Z3: =IF(D3>0,(IF(Y3>=($D3*E$2),"CUMPLE","NO CUMPLE")),"")
G4: 3 | H4: PLUS RISK SAS | I4: ARES SECURITY LTDA: NIT 900.599.147-1 | J4: NO CUMPLE | K4: 1 | L4: 43101 | M4: 45291 | N4: =IF(M4<>"",IF(M4>Listados!$O$4,"NO CUMPLE","CUMPLE"),"") -> CUMPLE | P4: =IF(O4>0,K4*O4,"") | Q4: =IFERROR((P4/_xlfn.XLOOKUP(YEAR(M4),Listados!$B$3:$B$32,Listados!$C$3:$C$32)),"") | R4: 294.36 | S4: =IF(V4="CUMPLE",IFERROR(R4*Listados!$C$32,"0"),"") | T4: 801015 | U4: 13 | V4: =IF(COUNTBLANK(J4)+COUNTBLANK(N4)+COUNTBLANK(T4)=3,"",IF(COUNTIF(J4,"CUMPLE")+COUNTIF(N4,"CUMPLE")+COUNTIF(T4,"801015")+COUNTIF(T4,"801016")+COUNTIF(T4,"841116")=3,IF(W4="","CUMPLE","NO CUMPLE"),"NO CUMPLE")) -> NO CUMPLE | W4: El proponente en el término de traslado deberá aportar las certificaciones expedidas por las entidades contratantes según lo indicado en el Pliego de Condiciones definitivo, toda vez que no allegó estas certificaciones para la validación en concordancia con el el numeral 4.5.2. CONDICIONES GENERALES PARA LA ACREDITACIÓN DE LA EXPERIENCIA. Adjuntar el RUP con fecha de expedición no mayor a treinta (30) días calendario anteriores a la fecha límite para la presentación de las Ofertas, de acuerdo con el numeral 2.15.1. GENERALIDADES del Pliego de Condiciones Definitivo. | X4: =IF(C4<>"",C4,"") | Y4: =+IF(X4<>"",(SUMIFS($S2:$S9,$I2:$I9,C4,$V2:$V9,"CUMPLE")),"") | Z4: =IF(D4>0,(IF(Y4>=($D4*E$2),"CUMPLE","NO CUMPLE")),"")
G5: 4 | H5: ASOCIACION DE BANANEROS DE COLOMBIA | I5: ARES SECURITY LTDA: NIT 900.599.147-1 | J5: NO CUMPLE | K5: 1 | L5: 44927 | M5: 45291 | N5: =IF(M5<>"",IF(M5>Listados!$O$4,"NO CUMPLE","CUMPLE"),"") -> CUMPLE | P5: =IF(O5>0,K5*O5,"") | Q5: =IFERROR((P5/_xlfn.XLOOKUP(YEAR(M5),Listados!$B$3:$B$32,Listados!$C$3:$C$32)),"") | R5: 254.5 | S5: =IF(V5="CUMPLE",IFERROR(R5*Listados!$C$32,"0"),"") | T5: 801015 | U5: 16 | V5: =IF(COUNTBLANK(J5)+COUNTBLANK(N5)+COUNTBLANK(T5)=3,"",IF(COUNTIF(J5,"CUMPLE")+COUNTIF(N5,"CUMPLE")+COUNTIF(T5,"801015")+COUNTIF(T5,"801016")+COUNTIF(T5,"841116")=3,IF(W5="","CUMPLE","NO CUMPLE"),"NO CUMPLE")) -> NO CUMPLE | W5: El proponente en el término de traslado deberá aportar las certificaciones expedidas por las entidades contratantes según lo indicado en el Pliego de Condiciones definitivo, toda vez que no allegó estas certificaciones para la validación en concordancia con el el numeral 4.5.2. CONDICIONES GENERALES PARA LA ACREDITACIÓN DE LA EXPERIENCIA. Adjuntar el RUP con fecha de expedición no mayor a treinta (30) días calendario anteriores a la fecha límite para la presentación de las Ofertas, de acuerdo con el numeral 2.15.1. GENERALIDADES del Pliego de Condiciones Definitivo. | X5: =IF(C5<>"",C5,"") | Y5: =+IF(X5<>"",(SUMIFS($S2:$S9,$I2:$I9,C5,$V2:$V9,"CUMPLE")),"") | Z5: =IF(D5>0,(IF(Y5>=($D5*E$2),"CUMPLE","NO CUMPLE")),"")
G6: 5 | H6: PASH SAS | I6: ARES SECURITY LTDA: NIT 900.599.147-1 | J6: NO CUMPLE | K6: 1 | L6: 44927 | M6: 45291 | N6: =IF(M6<>"",IF(M6>Listados!$O$4,"NO CUMPLE","CUMPLE"),"") -> CUMPLE | P6: =IF(O6>0,K6*O6,"") | Q6: =IFERROR((P6/_xlfn.XLOOKUP(YEAR(M6),Listados!$B$3:$B$32,Listados!$C$3:$C$32)),"") | R6: 86.2 | S6: =IF(V6="CUMPLE",IFERROR(R6*Listados!$C$32,"0"),"") | T6: 801015 | U6: 20 | V6: =IF(COUNTBLANK(J6)+COUNTBLANK(N6)+COUNTBLANK(T6)=3,"",IF(COUNTIF(J6,"CUMPLE")+COUNTIF(N6,"CUMPLE")+COUNTIF(T6,"801015")+COUNTIF(T6,"801016")+COUNTIF(T6,"841116")=3,IF(W6="","CUMPLE","NO CUMPLE"),"NO CUMPLE")) -> NO CUMPLE | W6: El proponente en el término de traslado deberá aportar las certificaciones expedidas por las entidades contratantes según lo indicado en el Pliego de Condiciones definitivo, toda vez que no allegó estas certificaciones para la validación en concordancia con el el numeral 4.5.2. CONDICIONES GENERALES PARA LA ACREDITACIÓN DE LA EXPERIENCIA. Adjuntar el RUP con fecha de expedición no mayor a treinta (30) días calendario anteriores a la fecha límite para la presentación de las Ofertas, de acuerdo con el numeral 2.15.1. GENERALIDADES del Pliego de Condiciones Definitivo. | X6: =IF(C6<>"",C6,"") | Y6: =+IF(X6<>"",(SUMIFS($S2:$S9,$I2:$I9,C6,$V2:$V9,"CUMPLE")),"") | Z6: =IF(D6>0,(IF(Y6>=($D6*E$2),"CUMPLE","NO CUMPLE")),"")
G7: 6 | H7: MANUFACTURAS ELIOT SAS | I7: ARES SECURITY LTDA: NIT 900.599.147-1 | J7: NO CUMPLE | K7: 1 | L7: 44927 | M7: 45291 | N7: =IF(M7<>"",IF(M7>Listados!$O$4,"NO CUMPLE","CUMPLE"),"") -> CUMPLE | P7: =IF(O7>0,K7*O7,"") | Q7: =IFERROR((P7/_xlfn.XLOOKUP(YEAR(M7),Listados!$B$3:$B$32,Listados!$C$3:$C$32)),"") | R7: 44.7 | S7: =IF(V7="CUMPLE",IFERROR(R7*Listados!$C$32,"0"),"") | T7: 801015 | U7: 18 | V7: =IF(COUNTBLANK(J7)+COUNTBLANK(N7)+COUNTBLANK(T7)=3,"",IF(COUNTIF(J7,"CUMPLE")+COUNTIF(N7,"CUMPLE")+COUNTIF(T7,"801015")+COUNTIF(T7,"801016")+COUNTIF(T7,"841116")=3,IF(W7="","CUMPLE","NO CUMPLE"),"NO CUMPLE")) -> NO CUMPLE | W7: El proponente en el término de traslado deberá aportar las certificaciones expedidas por las entidades contratantes según lo indicado en el Pliego de Condiciones definitivo, toda vez que no allegó estas certificaciones para la validación en concordancia con el el numeral 4.5.2. CONDICIONES GENERALES PARA LA ACREDITACIÓN DE LA EXPERIENCIA. Adjuntar el RUP con fecha de expedición no mayor a treinta (30) días calendario anteriores a la fecha límite para la presentación de las Ofertas, de acuerdo con el numeral 2.15.1. GENERALIDADES del Pliego de Condiciones Definitivo. | X7: =IF(C7<>"",C7,"") | Y7: =+IF(X7<>"",(SUMIFS($S2:$S9,$I2:$I9,C7,$V2:$V9,"CUMPLE")),"") | Z7: =IF(D7>0,(IF(Y7>=($D7*E$2),"CUMPLE","NO CUMPLE")),"")
N8: =IF(M8<>"",IF(M8>Listados!$O$4,"NO CUMPLE","CUMPLE"),"") | P8: =IF(O8>0,K8*O8,"") | Q8: =IFERROR((P8/_xlfn.XLOOKUP(YEAR(M8),Listados!$B$3:$B$32,Listados!$C$3:$C$32)),"") | S8: =IF(V8="CUMPLE",IFERROR(R8*Listados!$C$32,"0"),"") | V8: =IF(COUNTBLANK(J8)+COUNTBLANK(N8)+COUNTBLANK(T8)=3,"",IF(COUNTIF(J8,"CUMPLE")+COUNTIF(N8,"CUMPLE")+COUNTIF(T8,"801015")+COUNTIF(T8,"801016")+COUNTIF(T8,"841116")=3,IF(W8="","CUMPLE","NO CUMPLE"),"NO CUMPLE")) | X8: =IF(C8<>"",C8,"") | Y8: =+IF(X8<>"",(SUMIFS($S2:$S9,$I2:$I9,C8,$V2:$V9,"CUMPLE")),"") | Z8: =IF(D8>0,(IF(Y8>=($D8*E$2),"CUMPLE","NO CUMPLE")),"")
N9: =IF(M9<>"",IF(M9>Listados!$O$4,"NO CUMPLE","CUMPLE"),"") | P9: =IF(O9>0,K9*O9,"") | Q9: =IFERROR((P9/_xlfn.XLOOKUP(YEAR(M9),Listados!$B$3:$B$32,Listados!$C$3:$C$32)),"") | S9: =IF(V9="CUMPLE",IFERROR(R9*Listados!$C$32,"0"),"") | V9: =IF(COUNTBLANK(J9)+COUNTBLANK(N9)+COUNTBLANK(T9)=3,"",IF(COUNTIF(J9,"CUMPLE")+COUNTIF(N9,"CUMPLE")+COUNTIF(T9,"801015")+COUNTIF(T9,"801016")+COUNTIF(T9,"841116")=3,IF(W9="","CUMPLE","NO CUMPLE"),"NO CUMPLE")) | X9: =IF(C9<>"",C9,"") | Y9: =+IF(X9<>"",(SUMIFS($S2:$S9,$I2:$I9,C9,$V2:$V9,"CUMPLE")),"") | Z9: =IF(D9>0,(IF(Y9>=($D9*E$2),"CUMPLE","NO CUMPLE")),"")
A10: 2 | B10: GERMAN MONTENEGRO FAJARDO AUDITORES & ASESORES S.A.S. BIC 900.335.334-8 | C10: =B10 -> GERMAN MONTENEGRO FAJARDO AUDITORES & ASESORES S.A.S. BIC 900.335.334-8 | D10: 1 | E10: =Listados!$M$3 -> 1351954266 | F10: =E10/Listados!$C$32 -> 1039.9648 | G10: 1 | H10: DEPARTAMENTO DE NARIÑO: LA SOCIEDAD se obliga para con EL DEPARTAMENTO a realizar, por sus propios medios, con plena autonomía técnica y administrativa, la interventoría técnica, administrativa y financiera de los contratos resultantes, que se orientan hacia la ejecución de recursos direccionados a garantizar la implementación de los proyectos de inversión formulados por el Departamento de Nariño - Secretaría de Equidad de Género e Inclusión Social - SEGIS, los cuales fueron presentados ante el Órgano Colegiado de Administración y Decisión - OCAD Región Pacífico y aprobados por el mismo mediante acuerdo No. 007 del 04 de julio de 2013; en atención al parágrafo primero del artículo 28 de la ley 1530 de 2012, de conformidad con las condiciones establecidas en el Pliego de Condiciones, sus anexos, y la propuesta presentada, bajo la siguiente discriminación: | I10: GERMAN MONTENEGRO FAJARDO AUDITORES & ASESORES S.A.S. BIC 900.335.334-8 | J10: CUMPLE | K10: 1 | L10: 41701 | M10: 42075 | N10: =IF(M10<>"",IF(M10>Listados!$O$4,"NO CUMPLE","CUMPLE"),"") -> CUMPLE | O10: =476771238 -> 476771238 | P10: =IF(O10>0,K10*O10,"") -> 476771238 | Q10: =IFERROR((P10/_xlfn.XLOOKUP(YEAR(M10),Listados!$B$3:$B$32,Listados!$C$3:$C$32)),"") -> 739.92588 | R10: 739.93 | S10: =IF(V10="CUMPLE",IFERROR(R10*Listados!$C$32,"0"),"") -> 9.61909e+08 | T10: 801015 | U10: 50 | V10: =IF(COUNTBLANK(J10)+COUNTBLANK(N10)+COUNTBLANK(T10)=3,"",IF(COUNTIF(J10,"CUMPLE")+COUNTIF(N10,"CUMPLE")+COUNTIF(T10,"801015")+COUNTIF(T10,"801016")+COUNTIF(T10,"841116")=3,IF(W10="","CUMPLE","NO CUMPLE"),"NO CUMPLE")) -> CUMPLE | X10: =IF(C10<>"",C10,"") -> GERMAN MONTENEGRO FAJARDO AUDITORES & ASESORES S.A.S. BIC 900.335.334-8 | Y10: =+IF(X10<>"",(SUMIFS($S10:$S17,$I10:$I17,C10,$V10:$V17,"CUMPLE")),"") -> 3976882000 | Z10: =IF(D10>0,(IF(Y10>=($D10*E$2),"CUMPLE","NO CUMPLE")),"") -> CUMPLE | AA10: =IF(C10>0,SUMIFS(Y10:Y17,Z10:Z17,"CUMPLE"),"") -> 3976882000 | AC10: =IF(B10="","",IF(COUNTIF(Z10:Z17,"NO CUMPLE")>0,"NO CUMPLE",IF(E10>AA10,"NO CUMPLE",IF(AA10="","","CUMPLE")))) -> CUMPLE
G11: 2 | H11: MUNICIPIO DE PASTO - SECRETARIA DE EDUCACIÓN: El Contratista se compromete para con el Municipio de Pasto – Secretaría de Educación, a realizar la Interventoría Integral conforme a los lineamientos Técnico administrativos, estándares y condiciones mínimas de la Resolución No. 16432 de 2015 y Decreto 1075 de 2015 sobre el Contrato de operación del PAE | I11: =C10 -> GERMAN MONTENEGRO FAJARDO AUDITORES & ASESORES S.A.S. BIC 900.335.334-8 | J11: CUMPLE | K11: 1 | L11: 42853 | M11: 43084 | N11: =IF(M11<>"",IF(M11>Listados!$O$4,"NO CUMPLE","CUMPLE"),"") -> CUMPLE | O11: 448000000 | P11: =IF(O11>0,K11*O11,"") -> 448000000 | Q11: =IFERROR((P11/_xlfn.XLOOKUP(YEAR(M11),Listados!$B$3:$B$32,Listados!$C$3:$C$32)),"") -> 607.27894 | R11: 607.27 | S11: =IF(V11="CUMPLE",IFERROR(R11*Listados!$C$32,"0"),"") -> 789451000 | T11: 801015 | U11: 112 | V11: =IF(COUNTBLANK(J11)+COUNTBLANK(N11)+COUNTBLANK(T11)=3,"",IF(COUNTIF(J11,"CUMPLE")+COUNTIF(N11,"CUMPLE")+COUNTIF(T11,"801015")+COUNTIF(T11,"801016")+COUNTIF(T11,"841116")=3,IF(W11="","CUMPLE","NO CUMPLE"),"NO CUMPLE")) -> CUMPLE | X11: =IF(C11<>"",C11,"") | Y11: =+IF(X11<>"",(SUMIFS($S10:$S17,$I10:$I17,C11,$V10:$V17,"CUMPLE")),"") | Z11: =IF(D11>0,(IF(Y11>=($D11*E$2),"CUMPLE","NO CUMPLE")),"")
G12: 3 | H12: MUNICIPIO DE PASTO - SECRETARIA DE EDUCACIÓN: El Contratista se compromete para con el Municipio de Pasto – Secretaría de Educación, a realizar la Interventoría Integral conforme a los lineamientos Técnico administrativos, estándares y condiciones mínimas de la Resolución No. 16432 de 2015 y Decreto 1075 de 2015 sobre el Contrato de operación del PAE | I12: GERMAN MONTENEGRO FAJARDO AUDITORES & ASESORES S.A.S. BIC 900.335.334-8 | J12: CUMPLE | K12: 1 | L12: 43126 | M12: 43434 | N12: =IF(M12<>"",IF(M12>Listados!$O$4,"NO CUMPLE","CUMPLE"),"") -> CUMPLE | O12: 665000000 | P12: =IF(O12>0,K12*O12,"") -> 665000000 | Q12: =IFERROR((P12/_xlfn.XLOOKUP(YEAR(M12),Listados!$B$3:$B$32,Listados!$C$3:$C$32)),"") -> 851.20872 | R12: 851.2 | S12: =IF(V12="CUMPLE",IFERROR(R12*Listados!$C$32,"0"),"") -> 1106560000 | T12: 801015 | U12: 124 | V12: =IF(COUNTBLANK(J12)+COUNTBLANK(N12)+COUNTBLANK(T12)=3,"",IF(COUNTIF(J12,"CUMPLE")+COUNTIF(N12,"CUMPLE")+COUNTIF(T12,"801015")+COUNTIF(T12,"801016")+COUNTIF(T12,"841116")=3,IF(W12="","CUMPLE","NO CUMPLE"),"NO CUMPLE")) -> CUMPLE | X12: =IF(C12<>"",C12,"") | Y12: =+IF(X12<>"",(SUMIFS($S10:$S17,$I10:$I17,C12,$V10:$V17,"CUMPLE")),"") | Z12: =IF(D12>0,(IF(Y12>=($D12*E$2),"CUMPLE","NO CUMPLE")),"")
G13: 4 | H13: MUNICIPIO DE PASTO - SECRETARIA DE EDUCACIÓN: El Contratista se compromete para con el Municipio de Pasto – Secretaría de Educación, a realizar la Interventoría Integral conforme a los lineamientos Técnico administrativos, estándares y condiciones mínimas de la Resolución No. 16432 de 2015 y Decreto 1075 de 2015 sobre el Contrato de operación del PAE | I13: GERMAN MONTENEGRO FAJARDO AUDITORES & ASESORES S.A.S. BIC 900.335.334-8 | J13: CUMPLE | K13: 1 | L13: 43479 | M13: 43801 | N13: =IF(M13<>"",IF(M13>Listados!$O$4,"NO CUMPLE","CUMPLE"),"") -> CUMPLE | O13: 712800000 | P13: =IF(O13>0,K13*O13,"") -> 712800000 | Q13: =IFERROR((P13/_xlfn.XLOOKUP(YEAR(M13),Listados!$B$3:$B$32,Listados!$C$3:$C$32)),"") -> 860.74898 | R13: 860.74 | S13: =IF(V13="CUMPLE",IFERROR(R13*Listados!$C$32,"0"),"") -> 1118962000 | T13: 801015 | U13: 132 | V13: =IF(COUNTBLANK(J13)+COUNTBLANK(N13)+COUNTBLANK(T13)=3,"",IF(COUNTIF(J13,"CUMPLE")+COUNTIF(N13,"CUMPLE")+COUNTIF(T13,"801015")+COUNTIF(T13,"801016")+COUNTIF(T13,"841116")=3,IF(W13="","CUMPLE","NO CUMPLE"),"NO CUMPLE")) -> CUMPLE | X13: =IF(C13<>"",C13,"") | Y13: =+IF(X13<>"",(SUMIFS($S10:$S17,$I10:$I17,C13,$V10:$V17,"CUMPLE")),"") | Z13: =IF(D13>0,(IF(Y13>=($D13*E$2),"CUMPLE","NO CUMPLE")),"")
N14: =IF(M14<>"",IF(M14>Listados!$O$4,"NO CUMPLE","CUMPLE"),"") | P14: =IF(O14>0,K14*O14,"") | Q14: =IFERROR((P14/_xlfn.XLOOKUP(YEAR(M14),Listados!$B$3:$B$32,Listados!$C$3:$C$32)),"") | S14: =IF(V14="CUMPLE",IFERROR(R14*Listados!$C$32,"0"),"") | V14: =IF(COUNTBLANK(J14)+COUNTBLANK(N14)+COUNTBLANK(T14)=3,"",IF(COUNTIF(J14,"CUMPLE")+COUNTIF(N14,"CUMPLE")+COUNTIF(T14,"801015")+COUNTIF(T14,"801016")+COUNTIF(T14,"841116")=3,IF(W14="","CUMPLE","NO CUMPLE"),"NO CUMPLE")) | X14: =IF(C14<>"",C14,"") | Y14: =+IF(X14<>"",(SUMIFS($S10:$S17,$I10:$I17,C14,$V10:$V17,"CUMPLE")),"") | Z14: =IF(D14>0,(IF(Y14>=($D14*E$2),"CUMPLE","NO CUMPLE")),"")
N15: =IF(M15<>"",IF(M15>Listados!$O$4,"NO CUMPLE","CUMPLE"),"") | P15: =IF(O15>0,K15*O15,"") | Q15: =IFERROR((P15/_xlfn.XLOOKUP(YEAR(M15),Listados!$B$3:$B$32,Listados!$C$3:$C$32)),"") | S15: =IF(V15="CUMPLE",IFERROR(R15*Listados!$C$32,"0"),"") | V15: =IF(COUNTBLANK(J15)+COUNTBLANK(N15)+COUNTBLANK(T15)=3,"",IF(COUNTIF(J15,"CUMPLE")+COUNTIF(N15,"CUMPLE")+COUNTIF(T15,"801015")+COUNTIF(T15,"801016")+COUNTIF(T15,"841116")=3,IF(W15="","CUMPLE","NO CUMPLE"),"NO CUMPLE")) | X15: =IF(C15<>"",C15,"") | Y15: =+IF(X15<>"",(SUMIFS($S10:$S17,$I10:$I17,C15,$V10:$V17,"CUMPLE")),"") | Z15: =IF(D15>0,(IF(Y15>=($D15*E$2),"CUMPLE","NO CUMPLE")),"")
N16: =IF(M16<>"",IF(M16>Listados!$O$4,"NO CUMPLE","CUMPLE"),"") | P16: =IF(O16>0,K16*O16,"") | Q16: =IFERROR((P16/_xlfn.XLOOKUP(YEAR(M16),Listados!$B$3:$B$32,Listados!$C$3:$C$32)),"") | S16: =IF(V16="CUMPLE",IFERROR(R16*Listados!$C$32,"0"),"") | V16: =IF(COUNTBLANK(J16)+COUNTBLANK(N16)+COUNTBLANK(T16)=3,"",IF(COUNTIF(J16,"CUMPLE")+COUNTIF(N16,"CUMPLE")+COUNTIF(T16,"801015")+COUNTIF(T16,"801016")+COUNTIF(T16,"841116")=3,IF(W16="","CUMPLE","NO CUMPLE"),"NO CUMPLE")) | X16: =IF(C16<>"",C16,"") | Y16: =+IF(X16<>"",(SUMIFS($S10:$S17,$I10:$I17,C16,$V10:$V17,"CUMPLE")),"") | Z16: =IF(D16>0,(IF(Y16>=($D16*E$2),"CUMPLE","NO CUMPLE")),"")
N17: =IF(M17<>"",IF(M17>Listados!$O$4,"NO CUMPLE","CUMPLE"),"") | P17: =IF(O17>0,K17*O17,"") | Q17: =IFERROR((P17/_xlfn.XLOOKUP(YEAR(M17),Listados!$B$3:$B$32,Listados!$C$3:$C$32)),"") | S17: =IF(V17="CUMPLE",IFERROR(R17*Listados!$C$32,"0"),"") | V17: =IF(COUNTBLANK(J17)+COUNTBLANK(N17)+COUNTBLANK(T17)=3,"",IF(COUNTIF(J17,"CUMPLE")+COUNTIF(N17,"CUMPLE")+COUNTIF(T17,"801015")+COUNTIF(T17,"801016")+COUNTIF(T17,"841116")=3,IF(W17="","CUMPLE","NO CUMPLE"),"NO CUMPLE")) | X17: =IF(C17<>"",C17,"") | Y17: =+IF(X17<>"",(SUMIFS($S10:$S17,$I10:$I17,C17,$V10:$V17,"CUMPLE")),"") | Z17: =IF(D17>0,(IF(Y17>=($D17*E$2),"CUMPLE","NO CUMPLE")),"")
A18: 3 | B18: JFS CONSULTORES S.A.S. -BIC 901.542.814-2 | C18: =B18 -> JFS CONSULTORES S.A.S. -BIC 901.542.814-2 | D18: 1 | E18: =Listados!$M$3 -> 1351954266 | F18: =E18/Listados!$C$32 -> 1039.9648 | G18: 1 | H18: RTVC: Requiere contratar la interventoría integral para la verificación y control y seguimiento correcta ejecución y cumplimiento del contrato derivado. | I18: JFS CONSULTORES S.A.S. -BIC 901.542.814-2 | J18: CUMPLE | K18: 1 | L18: 43816 | M18: 44271 | N18: =IF(M18<>"",IF(M18>Listados!$O$4,"NO CUMPLE","CUMPLE"),"") -> CUMPLE | O18: 4638840000 | P18: =IF(O18>0,K18*O18,"") -> 4638840000 | Q18: =IFERROR((P18/_xlfn.XLOOKUP(YEAR(M18),Listados!$B$3:$B$32,Listados!$C$3:$C$32)),"") -> 5105.8968 | R18: =5105.89*0.22 -> 1123.2958 | S18: =IF(V18="CUMPLE",IFERROR(R18*Listados!$C$32,"0"),"") -> 1.4602845e+09 | T18: 801015 | U18: 84 | V18: =IF(COUNTBLANK(J18)+COUNTBLANK(N18)+COUNTBLANK(T18)=3,"",IF(COUNTIF(J18,"CUMPLE")+COUNTIF(N18,"CUMPLE")+COUNTIF(T18,"801015")+COUNTIF(T18,"801016")+COUNTIF(T18,"841116")=3,IF(W18="","CUMPLE","NO CUMPLE"),"NO CUMPLE")) -> CUMPLE | X18: =IF(C18<>"",C18,"") -> JFS CONSULTORES S.A.S. -BIC 901.542.814-2 | Y18: =+IF(X18<>"",(SUMIFS($S18:$S25,$I18:$I25,C18,$V18:$V25,"CUMPLE")),"") -> 1.4602845e+09 | Z18: =IF(D18>0,(IF(Y18>=($D18*E$2),"CUMPLE","NO CUMPLE")),"") -> CUMPLE | AA18: =IF(C18>0,SUMIFS(Y18:Y25,Z18:Z25,"CUMPLE"),"") -> 1.4602845e+09 | AC18: =IF(B18="","",IF(COUNTIF(Z18:Z25,"NO CUMPLE")>0,"NO CUMPLE",IF(E18>AA18,"NO CUMPLE",IF(AA18="","","CUMPLE")))) -> CUMPLE
N19: =IF(M19<>"",IF(M19>Listados!$O$4,"NO CUMPLE","CUMPLE"),"") | P19: =IF(O19>0,K19*O19,"") | Q19: =IFERROR((P19/_xlfn.XLOOKUP(YEAR(M19),Listados!$B$3:$B$32,Listados!$C$3:$C$32)),"") | S19: =IF(V19="CUMPLE",IFERROR(R19*Listados!$C$32,"0"),"") | V19: =IF(COUNTBLANK(J19)+COUNTBLANK(N19)+COUNTBLANK(T19)=3,"",IF(COUNTIF(J19,"CUMPLE")+COUNTIF(N19,"CUMPLE")+COUNTIF(T19,"801015")+COUNTIF(T19,"801016")+COUNTIF(T19,"841116")=3,IF(W19="","CUMPLE","NO CUMPLE"),"NO CUMPLE")) | X19: =IF(C19<>"",C19,"") | Y19: =+IF(X19<>"",(SUMIFS($S18:$S25,$I18:$I25,C19,$V18:$V25,"CUMPLE")),"") | Z19: =IF(D19>0,(IF(Y19>=($D19*E$2),"CUMPLE","NO CUMPLE")),"")
N20: =IF(M20<>"",IF(M20>Listados!$O$4,"NO CUMPLE","CUMPLE"),"") | P20: =IF(O20>0,K20*O20,"") | Q20: =IFERROR((P20/_xlfn.XLOOKUP(YEAR(M20),Listados!$B$3:$B$32,Listados!$C$3:$C$32)),"") | S20: =IF(V20="CUMPLE",IFERROR(R20*Listados!$C$32,"0"),"") | V20: =IF(COUNTBLANK(J20)+COUNTBLANK(N20)+COUNTBLANK(T20)=3,"",IF(COUNTIF(J20,"CUMPLE")+COUNTIF(N20,"CUMPLE")+COUNTIF(T20,"801015")+COUNTIF(T20,"801016")+COUNTIF(T20,"841116")=3,IF(W20="","CUMPLE","NO CUMPLE"),"NO CUMPLE")) | X20: =IF(C20<>"",C20,"") | Y20: =+IF(X20<>"",(SUMIFS($S18:$S25,$I18:$I25,C20,$V18:$V25,"CUMPLE")),"") | Z20: =IF(D20>0,(IF(Y20>=($D20*E$2),"CUMPLE","NO CUMPLE")),"")
N21: =IF(M21<>"",IF(M21>Listados!$O$4,"NO CUMPLE","CUMPLE"),"") | P21: =IF(O21>0,K21*O21,"") | Q21: =IFERROR((P21/_xlfn.XLOOKUP(YEAR(M21),Listados!$B$3:$B$32,Listados!$C$3:$C$32)),"") | S21: =IF(V21="CUMPLE",IFERROR(R21*Listados!$C$32,"0"),"") | V21: =IF(COUNTBLANK(J21)+COUNTBLANK(N21)+COUNTBLANK(T21)=3,"",IF(COUNTIF(J21,"CUMPLE")+COUNTIF(N21,"CUMPLE")+COUNTIF(T21,"801015")+COUNTIF(T21,"801016")+COUNTIF(T21,"841116")=3,IF(W21="","CUMPLE","NO CUMPLE"),"NO CUMPLE")) | X21: =IF(C21<>"",C21,"") | Y21: =+IF(X21<>"",(SUMIFS($S18:$S25,$I18:$I25,C21,$V18:$V25,"CUMPLE")),"") | Z21: =IF(D21>0,(IF(Y21>=($D21*E$2),"CUMPLE","NO CUMPLE")),"")
N22: =IF(M22<>"",IF(M22>Listados!$O$4,"NO CUMPLE","CUMPLE"),"") | P22: =IF(O22>0,K22*O22,"") | Q22: =IFERROR((P22/_xlfn.XLOOKUP(YEAR(M22),Listados!$B$3:$B$32,Listados!$C$3:$C$32)),"") | S22: =IF(V22="CUMPLE",IFERROR(R22*Listados!$C$32,"0"),"") | V22: =IF(COUNTBLANK(J22)+COUNTBLANK(N22)+COUNTBLANK(T22)=3,"",IF(COUNTIF(J22,"CUMPLE")+COUNTIF(N22,"CUMPLE")+COUNTIF(T22,"801015")+COUNTIF(T22,"801016")+COUNTIF(T22,"841116")=3,IF(W22="","CUMPLE","NO CUMPLE"),"NO CUMPLE")) | X22: =IF(C22<>"",C22,"") | Y22: =+IF(X22<>"",(SUMIFS($S18:$S25,$I18:$I25,C22,$V18:$V25,"CUMPLE")),"") | Z22: =IF(D22>0,(IF(Y22>=($D22*E$2),"CUMPLE","NO CUMPLE")),"")
N23: =IF(M23<>"",IF(M23>Listados!$O$4,"NO CUMPLE","CUMPLE"),"") | P23: =IF(O23>0,K23*O23,"") | Q23: =IFERROR((P23/_xlfn.XLOOKUP(YEAR(M23),Listados!$B$3:$B$32,Listados!$C$3:$C$32)),"") | S23: =IF(V23="CUMPLE",IFERROR(R23*Listados!$C$32,"0"),"") | V23: =IF(COUNTBLANK(J23)+COUNTBLANK(N23)+COUNTBLANK(T23)=3,"",IF(COUNTIF(J23,"CUMPLE")+COUNTIF(N23,"CUMPLE")+COUNTIF(T23,"801015")+COUNTIF(T23,"801016")+COUNTIF(T23,"841116")=3,IF(W23="","CUMPLE","NO CUMPLE"),"NO CUMPLE")) | X23: =IF(C23<>"",C23,"") | Y23: =+IF(X23<>"",(SUMIFS($S18:$S25,$I18:$I25,C23,$V18:$V25,"CUMPLE")),"") | Z23: =IF(D23>0,(IF(Y23>=($D23*E$2),"CUMPLE","NO CUMPLE")),"")
N24: =IF(M24<>"",IF(M24>Listados!$O$4,"NO CUMPLE","CUMPLE"),"") | P24: =IF(O24>0,K24*O24,"") | Q24: =IFERROR((P24/_xlfn.XLOOKUP(YEAR(M24),Listados!$B$3:$B$32,Listados!$C$3:$C$32)),"") | S24: =IF(V24="CUMPLE",IFERROR(R24*Listados!$C$32,"0"),"") | V24: =IF(COUNTBLANK(J24)+COUNTBLANK(N24)+COUNTBLANK(T24)=3,"",IF(COUNTIF(J24,"CUMPLE")+COUNTIF(N24,"CUMPLE")+COUNTIF(T24,"801015")+COUNTIF(T24,"801016")+COUNTIF(T24,"841116")=3,IF(W24="","CUMPLE","NO CUMPLE"),"NO CUMPLE")) | X24: =IF(C24<>"",C24,"") | Y24: =+IF(X24<>"",(SUMIFS($S18:$S25,$I18:$I25,C24,$V18:$V25,"CUMPLE")),"") | Z24: =IF(D24>0,(IF(Y24>=($D24*E$2),"CUMPLE","NO CUMPLE")),"")
N25: =IF(M25<>"",IF(M25>Listados!$O$4,"NO CUMPLE","CUMPLE"),"") | P25: =IF(O25>0,K25*O25,"") | Q25: =IFERROR((P25/_xlfn.XLOOKUP(YEAR(M25),Listados!$B$3:$B$32,Listados!$C$3:$C$32)),"") | S25: =IF(V25="CUMPLE",IFERROR(R25*Listados!$C$32,"0"),"") | V25: =IF(COUNTBLANK(J25)+COUNTBLANK(N25)+COUNTBLANK(T25)=3,"",IF(COUNTIF(J25,"CUMPLE")+COUNTIF(N25,"CUMPLE")+COUNTIF(T25,"801015")+COUNTIF(T25,"801016")+COUNTIF(T25,"841116")=3,IF(W25="","CUMPLE","NO CUMPLE"),"NO CUMPLE")) | X25: =IF(C25<>"",C25,"") | Y25: =+IF(X25<>"",(SUMIFS($S18:$S25,$I18:$I25,C25,$V18:$V25,"CUMPLE")),"") | Z25: =IF(D25>0,(IF(Y25>=($D25*E$2),"CUMPLE","NO CUMPLE")),"")
A26: 4 | B26: SCAIPROYEKTA S.A.S. BIC: NIT 901.476.977-1 | C26: =B26 -> SCAIPROYEKTA S.A.S. BIC: NIT 901.476.977-1 | D26: 1 | E26: =Listados!$M$3 -> 1351954266 | F26: =E26/Listados!$C$32 -> 1039.9648 | G26: 1 | H26: Secretaria de Educación Distrital: Contratar la interventoría integral, técnica, financiera, ambiental, jurídica y administrativa a los contratos de prestación de servicio de transporte especial escolar, con los vehículos que requiera la Secretaría de Educación del Distrito. Contrato CO1.PCCNTR.378276 del 27 marzo de 2018, resultado del proceso No SED-CM-A-DBE-007-2018 | I26: SCAIPROYEKTA S.A.S. BIC: NIT 901.476.977-1 | J26: CUMPLE | K26: 1 | L26: 43191 | M26: 43616 | N26: =IF(M26<>"",IF(M26>Listados!$O$4,"NO CUMPLE","CUMPLE"),"") -> CUMPLE | O26: 7043148265 | P26: =IF(O26>0,K26*O26,"") -> 7043148265 | Q26: =IFERROR((P26/_xlfn.XLOOKUP(YEAR(M26),Listados!$B$3:$B$32,Listados!$C$3:$C$32)),"") -> 8505.0262 | R26: 8505.02 | S26: =IF(V26="CUMPLE",IFERROR(R26*Listados!$C$32,"0"),"") -> 11056526000 | T26: 801015 | U26: 84 | V26: =IF(COUNTBLANK(J26)+COUNTBLANK(N26)+COUNTBLANK(T26)=3,"",IF(COUNTIF(J26,"CUMPLE")+COUNTIF(N26,"CUMPLE")+COUNTIF(T26,"801015")+COUNTIF(T26,"801016")+COUNTIF(T26,"841116")=3,IF(W26="","CUMPLE","NO CUMPLE"),"NO CUMPLE")) -> CUMPLE | X26: =IF(C26<>"",C26,"") -> SCAIPROYEKTA S.A.S. BIC: NIT 901.476.977-1 | Y26: =+IF(X26<>"",(SUMIFS($S26:$S33,$I26:$I33,C26,$V26:$V33,"CUMPLE")),"") -> 24315083000 | Z26: =IF(D26>0,(IF(Y26>=($D26*E$2),"CUMPLE","NO CUMPLE")),"") -> CUMPLE | AA26: =IF(C26>0,SUMIFS(Y26:Y33,Z26:Z33,"CUMPLE"),"") -> 24315083000 | AC26: =IF(B26="","",IF(COUNTIF(Z26:Z33,"NO CUMPLE")>0,"NO CUMPLE",IF(E26>AA26,"NO CUMPLE",IF(AA26="","","CUMPLE")))) -> CUMPLE
G27: 2 | H27: Secretaria de Educación Distrital: Realizar la interventoría integral, técnica, financiera, ambiental, jurídica y administrativa a los contratos de prestación de servicio de transporte especial escolar, con los vehículos que requiera la Secretaría de Educación del Distrito. Contrato Interventoría 1525 del 30 marzo de 2017 | I27: SCAIPROYEKTA S.A.S. BIC: NIT 901.476.977-1 | J27: CUMPLE | K27: 1 | L27: 42826 | M27: 43220 | N27: =IF(M27<>"",IF(M27>Listados!$O$4,"NO CUMPLE","CUMPLE"),"") -> CUMPLE | O27: 4407408950 | P27: =IF(O27>0,K27*O27,"") -> 4407408950 | Q27: =IFERROR((P27/_xlfn.XLOOKUP(YEAR(M27),Listados!$B$3:$B$32,Listados!$C$3:$C$32)),"") -> 5641.5412 | R27: 5641.54 | S27: =IF(V27="CUMPLE",IFERROR(R27*Listados!$C$32,"0"),"") -> 7334002000 | T27: 801015 | U27: 75 | V27: =IF(COUNTBLANK(J27)+COUNTBLANK(N27)+COUNTBLANK(T27)=3,"",IF(COUNTIF(J27,"CUMPLE")+COUNTIF(N27,"CUMPLE")+COUNTIF(T27,"801015")+COUNTIF(T27,"801016")+COUNTIF(T27,"841116")=3,IF(W27="","CUMPLE","NO CUMPLE"),"NO CUMPLE")) -> CUMPLE | X27: =IF(C27<>"",C27,"") | Y27: =+IF(X27<>"",(SUMIFS($S26:$S33,$I26:$I33,C27,$V26:$V33,"CUMPLE")),"") | Z27: =IF(D27>0,(IF(Y27>=($D27*E$2),"CUMPLE","NO CUMPLE")),"")
G28: 3 | H28: Secretaria Distrital de Seguridad, Convivencia y Justicia de Bogotá D.C: interventoría administrativa, financiera, técnica, contable, jurídica y ambiental para los proyectos del sistema de vídeo vigilancia de Bogotá. Contrato 1020 del 6 de septiembre 2019. | I28: SCAIPROYEKTA S.A.S. BIC: NIT 901.476.977-1 | J28: CUMPLE | K28: 0.5 | L28: 43715 | M28: 44042 | N28: =IF(M28<>"",IF(M28>Listados!$O$4,"NO CUMPLE","CUMPLE"),"") -> CUMPLE | O28: 4000458660 | P28: =IF(O28>0,K28*O28,"") -> 2000229330 | Q28: =IFERROR((P28/_xlfn.XLOOKUP(YEAR(M28),Listados!$B$3:$B$32,Listados!$C$3:$C$32)),"") -> 2278.6768 | R28: 4557.35 | S28: =IF(V28="CUMPLE",IFERROR(R28*Listados!$C$32,"0"),"") -> 5924555000 | T28: 801016 | U28: 100 | V28: =IF(COUNTBLANK(J28)+COUNTBLANK(N28)+COUNTBLANK(T28)=3,"",IF(COUNTIF(J28,"CUMPLE")+COUNTIF(N28,"CUMPLE")+COUNTIF(T28,"801015")+COUNTIF(T28,"801016")+COUNTIF(T28,"841116")=3,IF(W28="","CUMPLE","NO CUMPLE"),"NO CUMPLE")) -> CUMPLE | X28: =IF(C28<>"",C28,"") | Y28: =+IF(X28<>"",(SUMIFS($S26:$S33,$I26:$I33,C28,$V26:$V33,"CUMPLE")),"") | Z28: =IF(D28>0,(IF(Y28>=($D28*E$2),"CUMPLE","NO CUMPLE")),"")
N29: =IF(M29<>"",IF(M29>Listados!$O$4,"NO CUMPLE","CUMPLE"),"") | P29: =IF(O29>0,K29*O29,"") | Q29: =IFERROR((P29/_xlfn.XLOOKUP(YEAR(M29),Listados!$B$3:$B$32,Listados!$C$3:$C$32)),"") | S29: =IF(V29="CUMPLE",IFERROR(R29*Listados!$C$32,"0"),"") | V29: =IF(COUNTBLANK(J29)+COUNTBLANK(N29)+COUNTBLANK(T29)=3,"",IF(COUNTIF(J29,"CUMPLE")+COUNTIF(N29,"CUMPLE")+COUNTIF(T29,"801015")+COUNTIF(T29,"801016")+COUNTIF(T29,"841116")=3,IF(W29="","CUMPLE","NO CUMPLE"),"NO CUMPLE")) | X29: =IF(C29<>"",C29,"") | Y29: =+IF(X29<>"",(SUMIFS($S26:$S33,$I26:$I33,C29,$V26:$V33,"CUMPLE")),"") | Z29: =IF(D29>0,(IF(Y29>=($D29*E$2),"CUMPLE","NO CUMPLE")),"")
N30: =IF(M30<>"",IF(M30>Listados!$O$4,"NO CUMPLE","CUMPLE"),"") | P30: =IF(O30>0,K30*O30,"") | Q30: =IFERROR((P30/_xlfn.XLOOKUP(YEAR(M30),Listados!$B$3:$B$32,Listados!$C$3:$C$32)),"") | S30: =IF(V30="CUMPLE",IFERROR(R30*Listados!$C$32,"0"),"") | V30: =IF(COUNTBLANK(J30)+COUNTBLANK(N30)+COUNTBLANK(T30)=3,"",IF(COUNTIF(J30,"CUMPLE")+COUNTIF(N30,"CUMPLE")+COUNTIF(T30,"801015")+COUNTIF(T30,"801016")+COUNTIF(T30,"841116")=3,IF(W30="","CUMPLE","NO CUMPLE"),"NO CUMPLE")) | X30: =IF(C30<>"",C30,"") | Y30: =+IF(X30<>"",(SUMIFS($S26:$S33,$I26:$I33,C30,$V26:$V33,"CUMPLE")),"") | Z30: =IF(D30>0,(IF(Y30>=($D30*E$2),"CUMPLE","NO CUMPLE")),"")
N31: =IF(M31<>"",IF(M31>Listados!$O$4,"NO CUMPLE","CUMPLE"),"") | P31: =IF(O31>0,K31*O31,"") | Q31: =IFERROR((P31/_xlfn.XLOOKUP(YEAR(M31),Listados!$B$3:$B$32,Listados!$C$3:$C$32)),"") | S31: =IF(V31="CUMPLE",IFERROR(R31*Listados!$C$32,"0"),"") | V31: =IF(COUNTBLANK(J31)+COUNTBLANK(N31)+COUNTBLANK(T31)=3,"",IF(COUNTIF(J31,"CUMPLE")+COUNTIF(N31,"CUMPLE")+COUNTIF(T31,"801015")+COUNTIF(T31,"801016")+COUNTIF(T31,"841116")=3,IF(W31="","CUMPLE","NO CUMPLE"),"NO CUMPLE")) | X31: =IF(C31<>"",C31,"") | Y31: =+IF(X31<>"",(SUMIFS($S26:$S33,$I26:$I33,C31,$V26:$V33,"CUMPLE")),"") | Z31: =IF(D31>0,(IF(Y31>=($D31*E$2),"CUMPLE","NO CUMPLE")),"")
N32: =IF(M32<>"",IF(M32>Listados!$O$4,"NO CUMPLE","CUMPLE"),"") | P32: =IF(O32>0,K32*O32,"") | Q32: =IFERROR((P32/_xlfn.XLOOKUP(YEAR(M32),Listados!$B$3:$B$32,Listados!$C$3:$C$32)),"") | S32: =IF(V32="CUMPLE",IFERROR(R32*Listados!$C$32,"0"),"") | V32: =IF(COUNTBLANK(J32)+COUNTBLANK(N32)+COUNTBLANK(T32)=3,"",IF(COUNTIF(J32,"CUMPLE")+COUNTIF(N32,"CUMPLE")+COUNTIF(T32,"801015")+COUNTIF(T32,"801016")+COUNTIF(T32,"841116")=3,IF(W32="","CUMPLE","NO CUMPLE"),"NO CUMPLE")) | X32: =IF(C32<>"",C32,"") | Y32: =+IF(X32<>"",(SUMIFS($S26:$S33,$I26:$I33,C32,$V26:$V33,"CUMPLE")),"") | Z32: =IF(D32>0,(IF(Y32>=($D32*E$2),"CUMPLE","NO CUMPLE")),"")
N33: =IF(M33<>"",IF(M33>Listados!$O$4,"NO CUMPLE","CUMPLE"),"") | P33: =IF(O33>0,K33*O33,"") | Q33: =IFERROR((P33/_xlfn.XLOOKUP(YEAR(M33),Listados!$B$3:$B$32,Listados!$C$3:$C$32)),"") | S33: =IF(V33="CUMPLE",IFERROR(R33*Listados!$C$32,"0"),"") | V33: =IF(COUNTBLANK(J33)+COUNTBLANK(N33)+COUNTBLANK(T33)=3,"",IF(COUNTIF(J33,"CUMPLE")+COUNTIF(N33,"CUMPLE")+COUNTIF(T33,"801015")+COUNTIF(T33,"801016")+COUNTIF(T33,"841116")=3,IF(W33="","CUMPLE","NO CUMPLE"),"NO CUMPLE")) | X33: =IF(C33<>"",C33,"") | Y33: =+IF(X33<>"",(SUMIFS($S26:$S33,$I26:$I33,C33,$V26:$V33,"CUMPLE")),"") | Z33: =IF(D33>0,(IF(Y33>=($D33*E$2),"CUMPLE","NO CUMPLE")),"")
A34: 5 | B34: UT GREM-NOVAC | C34: INTERNOVAC GROUP S.A.S – BIC- NIT 901.719.021-0 | D34: 0.6 | E34: =Listados!$M$3 -> 1351954266 | F34: =E34/Listados!$C$32 -> 1039.9648 | G34: 1 | H34: SECRETARIA DE EDUCACIÓN DISTRITAL: Realizar la interventoría integral para el seguimiento a los convenios suscritos en la vigencia del año 2023 entre la Secretaría de Educación del Distrito – SED y las Instituciones de Educación Superior - IES, que realicen el acompañamiento a Instituciones Educativas del Distrito – IED, dentro del marco del proyecto de inversión 7689 de la Dirección de Educación Media | I34: GRUPO EMPRESARIAL DE CONSULTORES E INTERVENTORES S.A.S BIC, NIT 901.548.063-5 | J34: CUMPLE | K34: 0.5 | L34: 45029 | M34: 45304 | N34: =IF(M34<>"",IF(M34>Listados!$O$4,"NO CUMPLE","CUMPLE"),"") -> CUMPLE | O34: 1083284662 | P34: =IF(O34>0,K34*O34,"") -> 541642331 | Q34: =IFERROR((P34/_xlfn.XLOOKUP(YEAR(M34),Listados!$B$3:$B$32,Listados!$C$3:$C$32)),"") -> 416.64795 | R34: 416.5 | S34: =IF(V34="CUMPLE",IFERROR(R34*Listados!$C$32,"0"),"") | T34: 841116 | U34: 67 | V34: =IF(COUNTBLANK(J34)+COUNTBLANK(N34)+COUNTBLANK(T34)=3,"",IF(COUNTIF(J34,"CUMPLE")+COUNTIF(N34,"CUMPLE")+COUNTIF(T34,"801015")+COUNTIF(T34,"801016")+COUNTIF(T34,"841116")=3,IF(W34="","CUMPLE","NO CUMPLE"),"NO CUMPLE")) -> NO CUMPLE | W34: La SED le solicita al oferente aclarar cual es el porcentaje de participación de la UT teniendo en cuenta que el documento de conformación y el porcentaje definido en el SECOP II es diferente. En ese sentido se solicita aclarar y subsanar lo correspondiente | X34: =IF(C34<>"",C34,"") -> INTERNOVAC GROUP S.A.S – BIC- NIT 901.719.021-0 | Y34: =+IF(X34<>"",(SUMIFS($S34:$S41,$I34:$I41,C34,$V34:$V41,"CUMPLE")),"") -> 0 | Z34: =IF(D34>0,(IF(Y34>=($D34*E$2),"CUMPLE","NO CUMPLE")),"") -> NO CUMPLE | AA34: =IF(C34>0,SUMIFS(Y34:Y41,Z34:Z41,"CUMPLE"),"") -> 0 | AC34: =IF(B34="","",IF(COUNTIF(Z34:Z41,"NO CUMPLE")>0,"NO CUMPLE",IF(E34>AA34,"NO CUMPLE",IF(AA34="","","CUMPLE")))) -> NO CUMPLE | AD34: La SED le solicita al oferente aclarar cual es el porcentaje de participación de la UT teniendo en cuenta que el documento de conformación y el porcentaje definido en el SECOP II es diferente. En ese sentido se solicita aclarar y subsanar lo correspondiente
C35: GRUPO EMPRESARIAL DE CONSULTORES E INTERVENTORES S.A.S BIC, NIT 901.548.063-5 | D35: 0.4 | G35: 2 | H35: MINISTERIO DE LAS TECNOLOGIAS DE LA INFORMACIÓN Y LAS COMUNICACIONES: Desarrollo de la interventoría jurídica, técnica, administrativa, financiera y social al contrato celebrado en el marco de la licitación pública No. 002 de 2008 para la región 1. | I35: INTERNOVAC GROUP S.A.S – BIC- NIT 901.719.021-0 | J35: CUMPLE | K35: 0.5 | L35: 39826 | M35: 40785 | N35: =IF(M35<>"",IF(M35>Listados!$O$4,"NO CUMPLE","CUMPLE"),"") -> CUMPLE | O35: 2485311943 | P35: =IF(O35>0,K35*O35,"") -> 1.242656e+09 | Q35: =IFERROR((P35/_xlfn.XLOOKUP(YEAR(M35),Listados!$B$3:$B$32,Listados!$C$3:$C$32)),"") -> 2320.1194 | R35: 2320.2 | S35: =IF(V35="CUMPLE",IFERROR(R35*Listados!$C$32,"0"),"") | T35: 801015 | U35: 10 | V35: =IF(COUNTBLANK(J35)+COUNTBLANK(N35)+COUNTBLANK(T35)=3,"",IF(COUNTIF(J35,"CUMPLE")+COUNTIF(N35,"CUMPLE")+COUNTIF(T35,"801015")+COUNTIF(T35,"801016")+COUNTIF(T35,"841116")=3,IF(W35="","CUMPLE","NO CUMPLE"),"NO CUMPLE")) -> NO CUMPLE | W35: La SED le solicita al oferente aclarar cual es el porcentaje de participación de la UT teniendo en cuenta que el documento de conformación y el porcentaje definido en el SECOP II es diferente. En ese sentido se solicita aclarar y subsanar lo correspondiente | X35: =IF(C35<>"",C35,"") -> GRUPO EMPRESARIAL DE CONSULTORES E INTERVENTORES S.A.S BIC, NIT 901.548.063-5 | Y35: =+IF(X35<>"",(SUMIFS($S34:$S41,$I34:$I41,C35,$V34:$V41,"CUMPLE")),"") -> 0 | Z35: =IF(D35>0,(IF(Y35>=($D35*E$2),"CUMPLE","NO CUMPLE")),"") -> NO CUMPLE
G36: 3 | H36: MINISTERIO DE LAS TECNOLOGIAS DE LA INFORMACIÓN Y LAS COMUNICACIONES: Desarrollo de la interventoría jurídica, técnica, administrativa, financiera y social en el marco de la licitación pública No. 008 de 2008 para la región 5. | I36: INTERNOVAC GROUP S.A.S – BIC- NIT 901.719.021-0 | J36: CUMPLE | K36: 0.5 | L36: 39826 | M36: 40513 | N36: =IF(M36<>"",IF(M36>Listados!$O$4,"NO CUMPLE","CUMPLE"),"") -> CUMPLE | O36: 2580314357 | P36: =IF(O36>0,K36*O36,"") -> 1.2901572e+09 | Q36: =IFERROR((P36/_xlfn.XLOOKUP(YEAR(M36),Listados!$B$3:$B$32,Listados!$C$3:$C$32)),"") -> 2505.1596 | R36: 2408 | S36: =IF(V36="CUMPLE",IFERROR(R36*Listados!$C$32,"0"),"") | T36: 801015 | U36: 11 | V36: =IF(COUNTBLANK(J36)+COUNTBLANK(N36)+COUNTBLANK(T36)=3,"",IF(COUNTIF(J36,"CUMPLE")+COUNTIF(N36,"CUMPLE")+COUNTIF(T36,"801015")+COUNTIF(T36,"801016")+COUNTIF(T36,"841116")=3,IF(W36="","CUMPLE","NO CUMPLE"),"NO CUMPLE")) -> NO CUMPLE | W36: La SED le solicita al oferente aclarar cual es el porcentaje de participación de la UT teniendo en cuenta que el documento de conformación y el porcentaje definido en el SECOP II es diferente. En ese sentido se solicita aclarar y subsanar lo correspondiente | X36: =IF(C36<>"",C36,"") | Y36: =+IF(X36<>"",(SUMIFS($S34:$S41,$I34:$I41,C36,$V34:$V41,"CUMPLE")),"") | Z36: =IF(D36>0,(IF(Y36>=($D36*E$2),"CUMPLE","NO CUMPLE")),"")
N37: =IF(M37<>"",IF(M37>Listados!$O$4,"NO CUMPLE","CUMPLE"),"") | P37: =IF(O37>0,K37*O37,"") | Q37: =IFERROR((P37/_xlfn.XLOOKUP(YEAR(M37),Listados!$B$3:$B$32,Listados!$C$3:$C$32)),"") | S37: =IF(V37="CUMPLE",IFERROR(R37*Listados!$C$32,"0"),"") | V37: =IF(COUNTBLANK(J37)+COUNTBLANK(N37)+COUNTBLANK(T37)=3,"",IF(COUNTIF(J37,"CUMPLE")+COUNTIF(N37,"CUMPLE")+COUNTIF(T37,"801015")+COUNTIF(T37,"801016")+COUNTIF(T37,"841116")=3,IF(#REF!="","CUMPLE","NO CUMPLE"),"NO CUMPLE")) | X37: =IF(C37<>"",C37,"") | Y37: =+IF(X37<>"",(SUMIFS($S34:$S41,$I34:$I41,C37,$V34:$V41,"CUMPLE")),"") | Z37: =IF(D37>0,(IF(Y37>=($D37*E$2),"CUMPLE","NO CUMPLE")),"")
N38: =IF(M38<>"",IF(M38>Listados!$O$4,"NO CUMPLE","CUMPLE"),"") | P38: =IF(O38>0,K38*O38,"") | Q38: =IFERROR((P38/_xlfn.XLOOKUP(YEAR(M38),Listados!$B$3:$B$32,Listados!$C$3:$C$32)),"") | S38: =IF(V38="CUMPLE",IFERROR(R38*Listados!$C$32,"0"),"") | V38: =IF(COUNTBLANK(J38)+COUNTBLANK(N38)+COUNTBLANK(T38)=3,"",IF(COUNTIF(J38,"CUMPLE")+COUNTIF(N38,"CUMPLE")+COUNTIF(T38,"801015")+COUNTIF(T38,"801016")+COUNTIF(T38,"841116")=3,IF(#REF!="","CUMPLE","NO CUMPLE"),"NO CUMPLE")) | X38: =IF(C38<>"",C38,"") | Y38: =+IF(X38<>"",(SUMIFS($S34:$S41,$I34:$I41,C38,$V34:$V41,"CUMPLE")),"") | Z38: =IF(D38>0,(IF(Y38>=($D38*E$2),"CUMPLE","NO CUMPLE")),"")
N39: =IF(M39<>"",IF(M39>Listados!$O$4,"NO CUMPLE","CUMPLE"),"") | P39: =IF(O39>0,K39*O39,"") | Q39: =IFERROR((P39/_xlfn.XLOOKUP(YEAR(M39),Listados!$B$3:$B$32,Listados!$C$3:$C$32)),"") | S39: =IF(V39="CUMPLE",IFERROR(R39*Listados!$C$32,"0"),"") | V39: =IF(COUNTBLANK(J39)+COUNTBLANK(N39)+COUNTBLANK(T39)=3,"",IF(COUNTIF(J39,"CUMPLE")+COUNTIF(N39,"CUMPLE")+COUNTIF(T39,"801015")+COUNTIF(T39,"801016")+COUNTIF(T39,"841116")=3,IF(W38="","CUMPLE","NO CUMPLE"),"NO CUMPLE")) | X39: =IF(C39<>"",C39,"") | Y39: =+IF(X39<>"",(SUMIFS($S34:$S41,$I34:$I41,C39,$V34:$V41,"CUMPLE")),"") | Z39: =IF(D39>0,(IF(Y39>=($D39*E$2),"CUMPLE","NO CUMPLE")),"")
N40: =IF(M40<>"",IF(M40>Listados!$O$4,"NO CUMPLE","CUMPLE"),"") | P40: =IF(O40>0,K40*O40,"") | Q40: =IFERROR((P40/_xlfn.XLOOKUP(YEAR(M40),Listados!$B$3:$B$32,Listados!$C$3:$C$32)),"") | S40: =IF(V40="CUMPLE",IFERROR(R40*Listados!$C$32,"0"),"") | V40: =IF(COUNTBLANK(J40)+COUNTBLANK(N40)+COUNTBLANK(T40)=3,"",IF(COUNTIF(J40,"CUMPLE")+COUNTIF(N40,"CUMPLE")+COUNTIF(T40,"801015")+COUNTIF(T40,"801016")+COUNTIF(T40,"841116")=3,IF(W39="","CUMPLE","NO CUMPLE"),"NO CUMPLE")) | X40: =IF(C40<>"",C40,"") | Y40: =+IF(X40<>"",(SUMIFS($S34:$S41,$I34:$I41,C40,$V34:$V41,"CUMPLE")),"") | Z40: =IF(D40>0,(IF(Y40>=($D40*E$2),"CUMPLE","NO CUMPLE")),"")
...

Sheet Formato_12
A1: FORMATO 12–ACEPTACIÓN Y CUMPLIMIENTO DE LA FORMACIÓN Y EXPERIENCIA MÍNIMA DEL EQUIPO DE TRABAJO.
A2: No. DE PROPONENTE | B2: NOMBRE DEL PROPONENTE | C2: CUMPLE / NO CUMPLE | D2: OBSERVACIÓN GENERAL
A4: 1 | B4: {=IF(INDIRECT("Formato_9_Exp_Proponente!B"&Listados!S3)="","",INDIRECT("Formato_9_Exp_Proponente!B"&Listados!S3))} -> ARES SECURITY LTDA: NIT 900.599.147-1 | C4: CUMPLE
A5: 2 | B5: {=IF(INDIRECT("Formato_9_Exp_Proponente!B"&Listados!S4)="","",INDIRECT("Formato_9_Exp_Proponente!B"&Listados!S4))} -> GERMAN MONTENEGRO FAJARDO AUDITORES & ASESORES S.A.S. BIC 900.335.334-8 | C5: CUMPLE
A6: 3 | B6: {=IF(INDIRECT("Formato_9_Exp_Proponente!B"&Listados!S5)="","",INDIRECT("Formato_9_Exp_Proponente!B"&Listados!S5))} -> JFS CONSULTORES S.A.S. -BIC 901.542.814-2 | C6: CUMPLE
A7: 4 | B7: {=IF(INDIRECT("Formato_9_Exp_Proponente!B"&Listados!S6)="","",INDIRECT("Formato_9_Exp_Proponente!B"&Listados!S6))} -> SCAIPROYEKTA S.A.S. BIC: NIT 901.476.977-1 | C7: CUMPLE
A8: 5 | B8: {=IF(INDIRECT("Formato_9_Exp_Proponente!B"&Listados!S7)="","",INDIRECT("Formato_9_Exp_Proponente!B"&Listados!S7))} -> UT GREM-NOVAC | C8: CUMPLE
A9: 6 | B9: {=IF(INDIRECT("Formato_9_Exp_Proponente!B"&Listados!S8)="","",INDIRECT("Formato_9_Exp_Proponente!B"&Listados!S8))} -> SGA CONSULTORES S.A.S: NIT 901.549.833-4 | C9: CUMPLE
A10: 7 | B10: {=IF(INDIRECT("Formato_9_Exp_Proponente!B"&Listados!S9)="","",INDIRECT("Formato_9_Exp_Proponente!B"&Listados!S9))} -> SMARTY COLOMBIA SAS BIC: NIT 900249549-6 | C10: CUMPLE
A11: 8 | B11: {=IF(INDIRECT("Formato_9_Exp_Proponente!B"&Listados!S10)="","",INDIRECT("Formato_9_Exp_Proponente!B"&Listados!S10))} -> CONSORCIO TOOL | C11: CUMPLE
A12: 9 | B12: {=IF(INDIRECT("Formato_9_Exp_Proponente!B"&Listados!S11)="","",INDIRECT("Formato_9_Exp_Proponente!B"&Listados!S11))} -> CONSORCIO INTERVENTORÍA DE VIGILANCIA 2024 | C12: CUMPLE
A13: 10 | B13: {=IF(INDIRECT("Formato_9_Exp_Proponente!B"&Listados!S12)="","",INDIRECT("Formato_9_Exp_Proponente!B"&Listados!S12))} -> Consultora Central S.A.S BIC | C13: CUMPLE
A14: 11 | B14: {=IF(INDIRECT("Formato_9_Exp_Proponente!B"&Listados!S13)="","",INDIRECT("Formato_9_Exp_Proponente!B"&Listados!S13))} -> CONSORCIO INTERVENCIÓN Y SEGURIDAD DISTRITAL | C14: CUMPLE
A15: 12 | B15: {=IF(INDIRECT("Formato_9_Exp_Proponente!B"&Listados!S14)="","",INDIRECT("Formato_9_Exp_Proponente!B"&Listados!S14))} -> Strycon Energía: NIT 901.466.510-3 | C15: CUMPLE
A16: 13 | B16: {=IF(INDIRECT("Formato_9_Exp_Proponente!B"&Listados!S15)="","",INDIRECT("Formato_9_Exp_Proponente!B"&Listados!S15))} -> ALIANZA INTEGRAL DE PROYECTOS SAS BIC: NIT 901.506.750-7 | C16: CUMPLE

Sheet Exp_Hab_Director
A1: N°. DE PROPONENTE | B1: NOMBRE DEL PROPONENTE | C1: NOMBRE DIRECTOR DEL PROYECTO PROPUESTO | D1: NUMERO DE DOCUMENTO DE IDENTIDAD | E1: EMPRESA CONTRATANTE | F1: EXPERIENCIA | H1: MESES CERTIFICADOS | I1: CUMPLE / NO CUMPLE CON LA EXPERIENCIA CERTIFICADA | J1: Observaciones a certificaciones individuales | K1: Total Experiencia superior a cinco años (60 meses) | L1: CUMPLE / NO CUMPLE CON EL PERFIL ACADEMICO | M1: DIRECTOR
F2: Fecha Inicio | G2: Fecha Fin | M2: CONDICIONES DE EXPERIENCIA Y FORMACIÓN | N2: OBSERVACIÓN GENERAL
A3: 1 | B3: =IF(Formato_9_Exp_Proponente!B2="","",Formato_9_Exp_Proponente!B2) -> ARES SECURITY LTDA: NIT 900.599.147-1 | C3: GUSTAVO ENRIQUE ROSALES ESCOBAR | D3: 80422094 | E3: Ares Security | H3: =DATEDIF(F3,G3,"m") -> 0 | I3: NO CUMPLE | J3: El proponente en el termino de traslado deberá aportar la hoja de vida con los soportes tanto académicos como de experiencia exigidos para los requisitos habilitantes según el numeral 4.5.4 Exigencias mínimas de experiencia y formación académica del equipo de trabajo del pliego de Condiciones Definitivo, toda vez que el oferente no aportó estos documentos. Dado que la empresa Contratante para esta certificación es el mismo proponente, deberá presentar : "fotocopia legible del contrato laboral y/o de prestación de servicios suscrito entre el proponente y la persona, a través del cual se evidencie el vínculo contractual. En caso de no existir contrato suscrito, deberá allegar una certificación de la junta directiva o junta de socios (la que corresponda) con el visto bueno del revisor fiscal o contador, o adjuntar una certificación expedida por el proponente, acompañada del visto bueno del revisor fiscal o contador." | K3: =SUMIFS(H3:H10,I3:I10,"CUMPLE") -> 0 | L3: NO CUMPLE | M3: =IF(C3="","",IF(K3>=60,IF(L3="CUMPLE","CUMPLE","NO CUMPLE"),"NO CUMPLE")) -> NO CUMPLE | N3: El proponente en el término de traslado deberá adjuntar copia de la hoja de vida con los soportes tanto académicos como de experiencia exigidos en el numeral 4.5.4 Exigencias mínimas de experiencia y formación académica del equipo de trabajo del pliego de Condiciones Definitivo, toda vez que el proponente, no aportó dichos soportes documentales.
E4: BUSINESS ALLIANCE FOR SECURE COMMERCE – BASC | H4: =DATEDIF(F4,G4,"m") -> 0 | I4: NO CUMPLE | J4: El proponente en el termino de traslado deberá aportar la hoja de vida con los soportes tanto académicos como de experiencia exigidos para los requisitos habilitantes según el numeral 4.5.4 Exigencias mínimas de experiencia y formación académica del equipo de trabajo del pliego de Condiciones Definitivo, toda vez que el oferente no aportó estos documentos.
E5: Asesorías de protección a la industria | H5: =DATEDIF(F5,G5,"m") -> 0 | I5: NO CUMPLE | J5: El proponente en el termino de traslado deberá aportar la hoja de vida con los soportes tanto académicos como de experiencia exigidos para los requisitos habilitantes según el numeral 4.5.4 Exigencias mínimas de experiencia y formación académica del equipo de trabajo del pliego de Condiciones Definitivo, toda vez que el oferente no aportó estos documentos.
H6: =DATEDIF(F6,G6,"m") -> 0
H7: =DATEDIF(F7,G7,"m") -> 0
H8: =DATEDIF(F8,G8,"m") -> 0
H9: =DATEDIF(F9,G9,"m") -> 0
H10: =DATEDIF(F10,G10,"m") -> 0
A11: 2 | B11: =IF(Formato_9_Exp_Proponente!B10="","",Formato_9_Exp_Proponente!B10) -> GERMAN MONTENEGRO FAJARDO AUDITORES & ASESORES S.A.S. BIC 900.335.334-8 | C11: JUAN GABRIEL ACOSTA TOVAR | D11: 7.733.030 | E11: LAO’S SEGURIDAD LTDA | F11: 41122 | G11: 45576 | H11: =DATEDIF(F11,G11,"m") -> 146 | I11: CUMPLE | K11: =SUMIFS(H11:H18,I11:I18,"CUMPLE") -> 146 | L11: CUMPLE | M11: =IF(C11="","",IF(K11>=60,IF(L11="CUMPLE","CUMPLE","NO CUMPLE"),"NO CUMPLE")) -> CUMPLE
H12: =DATEDIF(F12,G12,"m") -> 0
H13: =DATEDIF(F13,G13,"m") -> 0
H14: =DATEDIF(F14,G14,"m") -> 0
H15: =DATEDIF(F15,G15,"m") -> 0
H16: =DATEDIF(F16,G16,"m") -> 0
H17: =DATEDIF(F17,G17,"m") -> 0
H18: =DATEDIF(F18,G18,"m") -> 0
A19: 3 | B19: =IF(Formato_9_Exp_Proponente!B18="","",Formato_9_Exp_Proponente!B18) -> JFS CONSULTORES S.A.S. -BIC 901.542.814-2 | C19: JORGE OLIVER VARGAS BELTRAN | D19: 93373569 | E19: CUIDARTE MANTENIMIENTO SAS | F19: 43534 | G19: 45565 | H19: =DATEDIF(F19,G19,"m") -> 66 | I19: CUMPLE | K19: =SUMIFS(H19:H26,I19:I26,"CUMPLE") -> 66 | L19: CUMPLE | M19: =IF(C19="","",IF(K19>=60,IF(L19="CUMPLE","CUMPLE","NO CUMPLE"),"NO CUMPLE")) -> CUMPLE
H20: =DATEDIF(F20,G20,"m") -> 0
H21: =DATEDIF(F21,G21,"m") -> 0
H22: =DATEDIF(F22,G22,"m") -> 0
H23: =DATEDIF(F23,G23,"m") -> 0
H24: =DATEDIF(F24,G24,"m") -> 0
H25: =DATEDIF(F25,G25,"m") -> 0
H26: =DATEDIF(F26,G26,"m") -> 0
A27: 4 | B27: =IF(Formato_9_Exp_Proponente!B26="","",Formato_9_Exp_Proponente!B26) -> SCAIPROYEKTA S.A.S. BIC: NIT 901.476.977-1 | C27: HECTOR GIOVANNI GALEANO GUAVITA | D27: 79702187 | E27: ORGANIZACIÓN GDC GESTION DESARROLLO Y CRECIMIENTO EMPRESARIAL | F27: 42410 | G27: 44377 | H27: =DATEDIF(F27,G27,"m") -> 64 | I27: CUMPLE | K27: =SUMIFS(H27:H34,I27:I34,"CUMPLE") -> 64 | L27: CUMPLE | M27: =IF(C27="","",IF(K27>=60,IF(L27="CUMPLE","CUMPLE","NO CUMPLE"),"NO CUMPLE")) -> CUMPLE
H28: =DATEDIF(F28,G28,"m") -> 0
H29: =DATEDIF(F29,G29,"m") -> 0
H30: =DATEDIF(F30,G30,"m") -> 0
H31: =DATEDIF(F31,G31,"m") -> 0
H32: =DATEDIF(F32,G32,"m") -> 0
H33: =DATEDIF(F33,G33,"m") -> 0
H34: =DATEDIF(F34,G34,"m") -> 0
A35: 5 | B35: =IF(Formato_9_Exp_Proponente!B34="","",Formato_9_Exp_Proponente!B34) -> UT GREM-NOVAC | C35: RONALD GREGORIO GALVIS QUINTERO | D35: 19462080 | E35: EMPRESA ATALAYA 1 SECURITY GROUP LTDA | F35: 40920 | G35: 45569 | H35: =DATEDIF(F35,G35,"m") -> 152 | I35: CUMPLE | K35: =SUMIFS(H35:H42,I35:I42,"CUMPLE") -> 152 | L35: CUMPLE | M35: =IF(C35="","",IF(K35>=60,IF(L35="CUMPLE","CUMPLE","NO CUMPLE"),"NO CUMPLE")) -> CUMPLE
H36: =DATEDIF(F36,G36,"m") -> 0
H37: =DATEDIF(F37,G37,"m") -> 0
H38: =DATEDIF(F38,G38,"m") -> 0
H39: =DATEDIF(F39,G39,"m") -> 0
H40: =DATEDIF(F40,G40,"m") -> 0
...

Sheet Exp_Hab_Coor_Ope
A1: N°. DE PROPONENTE | B1: NOMBRE DEL PROPONENTE | C1: NOMBRE COORDINADOR OPERATIVO DEL PROYECTO PROPUESTO | D1: NUMERO DE DOCUMENTO DE IDENTIDAD | E1: EMPRESA CONTRATANTE | F1: Experiencia | H1: MESES CERTIFICADOS | I1: CUMPLE / NO CUMPLE CON LA EXPERIENCIA CERTIFICADA | J1: Observaciones a certificaciones individuales | K1: Total Experiencia superior a 4 años (48 meses) | L1: CUMPLE / NO CUMPLE CON EL PERFIL ACADEMICO | M1: COORDINADOR OPERATIVO
F2: Fecha Inicio | G2: Fecha Fin | M2: CONDICIONES DE EXPERIENCIA Y FORMACIÓN | N2: OBSERVACIÓN GENERAL
A3: 1 | B3: =IF(Formato_9_Exp_Proponente!B2="","",Formato_9_Exp_Proponente!B2) -> ARES SECURITY LTDA: NIT 900.599.147-1 | C3: JULIO CESAR GONZALES RODRIGUEZ | D3: ND | E3: Universidad Militar Nueva Granada | H3: =DATEDIF(F3,G3,"m") -> 0 | I3: NO CUMPLE | J3: El proponente en el término de traslado deberá aportar la hoja de vida con los soportes tanto académicos como de experiencia exigidos para los requisitos habilitantes según el numeral 4.5.4 Exigencias mínimas de experiencia y formación académica del equipo de trabajo del pliego de Condiciones Definitivo, toda vez que el oferente no aportó estos documentos. | K3: =SUMIFS(H3:H10,I3:I10,"CUMPLE") -> 0 | L3: NO CUMPLE | M3: =IF(C3="","",IF(K3>=48,IF(L3="CUMPLE","CUMPLE","NO CUMPLE"),"NO CUMPLE")) -> NO CUMPLE | N3: El proponente en el término de traslado deberá aportar la hoja de vida con los soportes tanto académicos como de experiencia exigidos para los requisitos habilitantes de acuerdo con el numeral 4.5.4 exigencias mínimas de experiencia y formación académica del equipo de trabajo del pliego de Condiciones Definitivo y anexo técnico, teniendo en cuenta que el proponente, no adjunto el soporte documental.
E4: Zehirut Ltda | H4: =DATEDIF(F4,G4,"m") -> 0 | I4: NO CUMPLE | J4: El proponente en el termino de traslado deberá aportar la hoja de vida con los soportes tanto académicos como de experiencia exigidos para los requisitos habilitantes según el numeral 4.5.4 Exigencias mínimas de experiencia y formación académica del equipo de trabajo del pliego de Condiciones Definitivo, toda vez que el oferente no aportó estos documentos.
E5: Club Campestre Guaymaral | H5: =DATEDIF(F5,G5,"m") -> 0 | I5: NO CUMPLE | J5: El proponente en el termino de traslado deberá aportar la hoja de vida con los soportes tanto académicos como de experiencia exigidos para los requisitos habilitantes según el numeral 4.5.4 Exigencias mínimas de experiencia y formación académica del equipo de trabajo del pliego de Condiciones Definitivo, toda vez que el oferente no aportó estos documentos.
H6: =DATEDIF(F6,G6,"m") -> 0
H7: =DATEDIF(F7,G7,"m") -> 0
H8: =DATEDIF(F8,G8,"m") -> 0
H9: =DATEDIF(F9,G9,"m") -> 0
H10: =DATEDIF(F10,G10,"m") -> 0
A11: 2 | B11: =IF(Formato_9_Exp_Proponente!B10="","",Formato_9_Exp_Proponente!B10) -> GERMAN MONTENEGRO FAJARDO AUDITORES & ASESORES S.A.S. BIC 900.335.334-8 | C11: OSCAR GERMAN BERNAL | D11: 79.275.058 | E11: LAO’S SEGURIDAD LTDA | F11: 42483 | G11: 45576 | H11: =DATEDIF(F11,G11,"m") -> 101 | I11: CUMPLE | K11: =SUMIFS(H11:H18,I11:I18,"CUMPLE") -> 101 | L11: CUMPLE | M11: =IF(C11="","",IF(K11>=48,IF(L11="CUMPLE","CUMPLE","NO CUMPLE"),"NO CUMPLE")) -> CUMPLE
H12: =DATEDIF(F12,G12,"m") -> 0
H13: =DATEDIF(F13,G13,"m") -> 0
H14: =DATEDIF(F14,G14,"m") -> 0
H15: =DATEDIF(F15,G15,"m") -> 0
H16: =DATEDIF(F16,G16,"m") -> 0
H17: =DATEDIF(F17,G17,"m") -> 0
H18: =DATEDIF(F18,G18,"m") -> 0
A19: 3 | B19: =IF(Formato_9_Exp_Proponente!B18="","",Formato_9_Exp_Proponente!B18) -> JFS CONSULTORES S.A.S. -BIC 901.542.814-2 | C19: MANUEL GUILLERMO MARTINEZ VELASQUEZ | D19: 79434669 | E19: DRUMMOND | F19: 37861 | G19: 39995 | H19: =DATEDIF(F19,G19,"m") -> 70 | I19: CUMPLE | K19: =SUMIFS(H19:H26,I19:I26,"CUMPLE") -> 81 | L19: CUMPLE | M19: =IF(C19="","",IF(K19>=48,IF(L19="CUMPLE","CUMPLE","NO CUMPLE"),"NO CUMPLE")) -> CUMPLE
E20: HONOR | F20: 40332 | G20: 40696 | H20: =DATEDIF(F20,G20,"m") -> 11 | I20: CUMPLE
H21: =DATEDIF(F21,G21,"m") -> 0
H22: =DATEDIF(F22,G22,"m") -> 0
H23: =DATEDIF(F23,G23,"m") -> 0
H24: =DATEDIF(F24,G24,"m") -> 0
H25: =DATEDIF(F25,G25,"m") -> 0
H26: =DATEDIF(F26,G26,"m") -> 0
A27: 4 | B27: =IF(Formato_9_Exp_Proponente!B26="","",Formato_9_Exp_Proponente!B26) -> SCAIPROYEKTA S.A.S. BIC: NIT 901.476.977-1 | C27: NESTOR ORLANDO RUBIANO MUÑOZ | D27: 11522785 | E27: SEGURIDAD ONCOR LTDA | F27: 41743 | G27: 44013 | H27: =DATEDIF(F27,G27,"m") -> 74 | I27: CUMPLE | K27: =SUMIFS(H27:H34,I27:I34,"CUMPLE") -> 74 | L27: NO CUMPLE | M27: =IF(C27="","",IF(K27>=48,IF(L27="CUMPLE","CUMPLE","NO CUMPLE"),"NO CUMPLE")) -> NO CUMPLE | N27: El proponente en el término de traslado deberá adjuntar copia del contrato y/o acta de liquidación de acuerdo con el numeral 4.5.4 exigencias mínimas de experiencia y formación académica del equipo de trabajo del pliego de Condiciones Definitivo y anexo técnico. En este sentido, deberá adjuntar el certificado de retiro de las Fuerzas Militares de Colombia o de la Policía Nacional, toda vez que no se constata ser oficial retirado ni la fecha de retiro, para el cumplimiento del perfil académico del numeral 4.5.4 exigencias mínimas de experiencia y formación académica del equipo de trabajo del pliego de Condiciones Definitivo y anexo técnico.
E28: SEGURIDAD ONCOR LTDA | F28: 41743 | G28: 44963 | H28: =DATEDIF(F28,G28,"m") -> 105 | I28: NO CUMPLE | J28: El proponente en el termino de traslado deberá adjuntar copia del contrato y/o acta de liquidación que de cuenta de las actividades desempeñadas como coordinador de la UIC, toda vez que no se entiende su campo de acción. La certificación presenta simultaneidad con la certificación anterior ya que esta inicia el 14/04/2014.
H29: =DATEDIF(F29,G29,"m") -> 0
H30: =DATEDIF(F30,G30,"m") -> 0
H31: =DATEDIF(F31,G31,"m") -> 0
H32: =DATEDIF(F32,G32,"m") -> 0
H33: =DATEDIF(F33,G33,"m") -> 0
H34: =DATEDIF(F34,G34,"m") -> 0
A35: 5 | B35: =IF(Formato_9_Exp_Proponente!B34="","",Formato_9_Exp_Proponente!B34) -> UT GREM-NOVAC | C35: JOSE HOMERO JIMENEZ BARRERA | D35: 5787214 | E35: EMPRESA ATALAYA 1 SECURITY GROUP LTDA | F35: 40192 | G35: 44986 | H35: =DATEDIF(F35,G35,"m") -> 157 | I35: CUMPLE | K35: =SUMIFS(H35:H42,I35:I42,"CUMPLE") -> 157 | L35: CUMPLE | M35: =IF(C35="","",IF(K35>=48,IF(L35="CUMPLE","CUMPLE","NO CUMPLE"),"NO CUMPLE")) -> CUMPLE
H36: =DATEDIF(F36,G36,"m") -> 0
H37: =DATEDIF(F37,G37,"m") -> 0
H38: =DATEDIF(F38,G38,"m") -> 0
H39: =DATEDIF(F39,G39,"m") -> 0
H40: =DATEDIF(F40,G40,"m") -> 0
...

Sheet Consolidado habilitante Técnico
A1: CONSOLIDADO
A2: No. PROPONENTE | B2: NOMBRE DEL PROPONENTE | C2: FORMATO 9 - EXPERIENCIA MÍNIMA HABILITANTE DEL PROPONENTE | D2: FORMATO 12–ACEPTACIÓN Y CUMPLIMIENTO DE LA FORMACIÓN Y EXPERIENCIA MÍNIMA DEL EQUIPO DE TRABAJO. | E2: Exp Hab Director Interv. | F2: Exp Hab Coor Operativo | G2: HABILITADO / NO HABILITADO
A3: 1 | B3: {=IF(INDIRECT("Formato_9_Exp_Proponente!B"&Listados!S3)="","",INDIRECT("Formato_9_Exp_Proponente!B"&Listados!S3))} -> ARES SECURITY LTDA: NIT 900.599.147-1 | C3: {=IF(INDIRECT("Formato_9_Exp_Proponente!AC"&Listados!S3)="","",INDIRECT("Formato_9_Exp_Proponente!AC"&Listados!S3))} -> NO CUMPLE | D3: =IF(Formato_12!C4="","",Formato_12!C4) -> CUMPLE | E3: {=IF(INDIRECT("Exp_Hab_Director!M"&Listados!T3)="","",INDIRECT("Exp_Hab_Director!M"&Listados!T3))} -> NO CUMPLE | F3: {=IF(INDIRECT("Exp_Hab_Coor_Ope!M"&Listados!T3)="","",INDIRECT("Exp_Hab_Coor_Ope!M"&Listados!T3))} -> NO CUMPLE | G3: =IF(OR(B3="",C3="")=TRUE,"",IF(AND(C3="CUMPLE",D3="CUMPLE",E3="CUMPLE",F3="CUMPLE"),"HABILITADO","NO HABILITADO")) -> NO HABILITADO
A4: 2 | B4: {=IF(INDIRECT("Formato_9_Exp_Proponente!B"&Listados!S4)="","",INDIRECT("Formato_9_Exp_Proponente!B"&Listados!S4))} -> GERMAN MONTENEGRO FAJARDO AUDITORES & ASESORES S.A.S. BIC 900.335.334-8 | C4: {=IF(INDIRECT("Formato_9_Exp_Proponente!AC"&Listados!S4)="","",INDIRECT("Formato_9_Exp_Proponente!AC"&Listados!S4))} -> CUMPLE | D4: =IF(Formato_12!C5="","",Formato_12!C5) -> CUMPLE | E4: {=IF(INDIRECT("Exp_Hab_Director!M"&Listados!T4)="","",INDIRECT("Exp_Hab_Director!M"&Listados!T4))} -> CUMPLE | F4: {=IF(INDIRECT("Exp_Hab_Coor_Ope!M"&Listados!T4)="","",INDIRECT("Exp_Hab_Coor_Ope!M"&Listados!T4))} -> CUMPLE | G4: =IF(OR(B4="",C4="")=TRUE,"",IF(AND(C4="CUMPLE",D4="CUMPLE",E4="CUMPLE",F4="CUMPLE"),"HABILITADO","NO HABILITADO")) -> HABILITADO
A5: 3 | B5: {=IF(INDIRECT("Formato_9_Exp_Proponente!B"&Listados!S5)="","",INDIRECT("Formato_9_Exp_Proponente!B"&Listados!S5))} -> JFS CONSULTORES S.A.S. -BIC 901.542.814-2 | C5: {=IF(INDIRECT("Formato_9_Exp_Proponente!AC"&Listados!S5)="","",INDIRECT("Formato_9_Exp_Proponente!AC"&Listados!S5))} -> CUMPLE | D5: =IF(Formato_12!C6="","",Formato_12!C6) -> CUMPLE | E5: {=IF(INDIRECT("Exp_Hab_Director!M"&Listados!T5)="","",INDIRECT("Exp_Hab_Director!M"&Listados!T5))} -> CUMPLE | F5: {=IF(INDIRECT("Exp_Hab_Coor_Ope!M"&Listados!T5)="","",INDIRECT("Exp_Hab_Coor_Ope!M"&Listados!T5))} -> CUMPLE | G5: =IF(OR(B5="",C5="")=TRUE,"",IF(AND(C5="CUMPLE",D5="CUMPLE",E5="CUMPLE",F5="CUMPLE"),"HABILITADO","NO HABILITADO")) -> HABILITADO
A6: 4 | B6: {=IF(INDIRECT("Formato_9_Exp_Proponente!B"&Listados!S6)="","",INDIRECT("Formato_9_Exp_Proponente!B"&Listados!S6))} -> SCAIPROYEKTA S.A.S. BIC: NIT 901.476.977-1 | C6: {=IF(INDIRECT("Formato_9_Exp_Proponente!AC"&Listados!S6)="","",INDIRECT("Formato_9_Exp_Proponente!AC"&Listados!S6))} -> CUMPLE | D6: =IF(Formato_12!C7="","",Formato_12!C7) -> CUMPLE | E6: {=IF(INDIRECT("Exp_Hab_Director!M"&Listados!T6)="","",INDIRECT("Exp_Hab_Director!M"&Listados!T6))} -> CUMPLE | F6: {=IF(INDIRECT("Exp_Hab_Coor_Ope!M"&Listados!T6)="","",INDIRECT("Exp_Hab_Coor_Ope!M"&Listados!T6))} -> NO CUMPLE | G6: =IF(OR(B6="",C6="")=TRUE,"",IF(AND(C6="CUMPLE",D6="CUMPLE",E6="CUMPLE",F6="CUMPLE"),"HABILITADO","NO HABILITADO")) -> NO HABILITADO
