Workbook

Sheet INDICADORES
A1: SDP-CM-005-2024
A2: “REALIZAR UNA EVALUACIÓN DE RESULTADOS DE LA ESTRATEGIA DE JUSTICIA ESCOLAR RESTAURATIVA IMPLEMENTADA POR LA SECRETARÍA DE EDUCACIÓN DISTRITAL”.
AC3: CIFRAS MILES DE PESOS
A4: VERIFICACIÓN DE REQUISITOS FINANCIEROS | I4: MEJORES INDICADORES SEGÚN REGISTRO UNICO DE PROPONENTES | R4: AÑO 2019 | X4: AÑO 2018 | AD4: OBSERVACIONES
A5: No | B5: PROPONENTE | C5: ESTADOS FINANCIEROS | I5: =CONCATENATE("INDICE LIQUIDEZ >= ",'Tener en cuenta'!R2," ACTIVO CTE / PASIVO CTE ") -> INDICE LIQUIDEZ >= 1,6 ACTIVO CTE / PASIVO CTE | J5: =CONCATENATE("INDICE DE ENDEUDAMIENTO <= ",'Tener en cuenta'!S2*100," % PASIVO TOTAL/ ACTIVO TOTAL") -> INDICE DE ENDEUDAMIENTO <= 60 % PASIVO TOTAL/ ACTIVO TOTAL | K5: =CONCATENATE("RAZON COBERTURA DE INTERESES >=",'Tener en cuenta'!T2," UTIL/PÉRDIDA OPERACIONAL / GASTOS DE INTERESES") -> RAZON COBERTURA DE INTERESES >=2 UTIL/PÉRDIDA OPERACIONAL / GASTOS DE INTERESES | L5: =CONCATENATE("CAPITAL DE TRABAJO >= ",D170*100, " % ($",TEXT(C170, "#.##"),") (Activo Cte -Pasivo Cte) ") -> CAPITAL DE TRABAJO >= 58 % ($523.942) (Activo Cte -Pasivo Cte) | M5: =CONCATENATE("RENTABILIDAD DEL PATRIMONIO >= ",'Tener en cuenta'!V2," UTILIDAD OPERACIONAL / PATRIMONIO") -> RENTABILIDAD DEL PATRIMONIO >= 0,05 UTILIDAD OPERACIONAL / PATRIMONIO | N5: =CONCATENATE("RENTABILIDAD DEL ACTIVO >= ",'Tener en cuenta'!W2," UTILIDAD OPERACIONAL / ACTIVO TOTAL") -> RENTABILIDAD DEL ACTIVO >= 0,04 UTILIDAD OPERACIONAL / ACTIVO TOTAL | O5: Items Capacidad Residual | Q5: =CONCATENATE("K Capacidad Residual CRP ≥ CRPC CRP ≥ ",FIXED(C168)) -> K Capacidad Residual CRP ≥ CRPC CRP ≥ 903.347,59 | S5: INDICE DE ENDEUDAMIENTO <= 55% PASIVO TOTAL/ ACTIVO TOTAL | T5: RAZON COBERTURA DE INTERESES >= 1,8 UTIL/PERDIDA OPERACIONAL / GASTOS DE INTERESES | U5: CAPITAL DE TRABAJO >= 55 % ($100.016 ) (Activo Cte -Pasivo Cte) | V5: RENTABILIDAD DEL PATRIMONIO >= 1% UTILIDAD OPERACIONAL / PATRIMONIO | W5: RENTABILIDAD DEL ACTIVO >= 1% UTILIDAD OPERACIONAL / ACTIVO TOTAL | X5: INDICE LIQUIDEZ >= 1,2 ACTIVO CTE / PASIVO CTE | Y5: INDICE DE ENDEUDAMIENTO <= 55% PASIVO TOTAL/ ACTIVO TOTAL | Z5: RAZON COBERTURA DE INTERESES >= 1,8 UTIL/PERDIDA OPERACIONAL / GASTOS DE INTERESES | AA5: CAPITAL DE TRABAJO >= 55 % ($100.016 ) (Activo Cte -Pasivo Cte) | AB5: RENTABILIDAD DEL PATRIMONIO >= 1% UTILIDAD OPERACIONAL / PATRIMONIO | AC5: RENTABILIDAD DEL ACTIVO >= 1% UTILIDAD OPERACIONAL / ACTIVO TOTAL
C6: Detalle | D6: ESTADOS FINANCIEROS | E6: Año 2023 (en miles de pesos) | F6: Año 2022 (en miles de pesos) | G6: Año 2021 (en miles de pesos) | H6: Año 2020 (en miles de pesos)
A7: 1 | B7: ='Tener en cuenta'!F3 -> 0 | C7: TOTAL ACTIVO CORRIENTE | I7: =IFERROR(+D7/D9,"indeterminado") -> indeterminado | J7: =IFERROR(+(D10/D8),"indeterminado") -> indeterminado | K7: =IFERROR(+D12/D13,"indeterminado") -> indeterminado | L7: =+(D7-D9) -> 0 | M7: =IFERROR(+D12/D11,"indeterminado") -> indeterminado | N7: =IFERROR(+D12/D8,"indeterminado") -> indeterminado | O7: CO | P7: =IF('Tener en cuenta'!O3>'Tener en cuenta'!$AH$30,'Tener en cuenta'!O3,'Tener en cuenta'!$AH$30) -> 457297264 | Q7: =P7*((P8+P10+P9)/100)-P11 -> 5.4875672e+08 | R7: =+G7/G9 -> #DIV/0! | S7: =+G10/G8 -> #DIV/0! | T7: INDETERMINADO | U7: =+G7-G9 -> 0 | V7: =+G12/G11 -> #DIV/0! | W7: =+G12/G8 -> #DIV/0! | X7: =+D7/D9 -> #DIV/0! | Y7: =+D10/D8 -> #DIV/0! | Z7: INDETERMINADO | AA7: =+D7-D9 -> 0 | AB7: =+D12/D11 -> #DIV/0! | AC7: =+D12/D8 -> #DIV/0! | AD7: Otro
C8: TOTAL ACTIVO | O8: E | P8: =IF('Tener en cuenta'!N3>=0,IF('Tener en cuenta'!N3<=3,60,IF('Tener en cuenta'!N3<=6,80,IF('Tener en cuenta'!N3<=10,100,120)))) -> 60 | AD8: SE EVALUA CON INFORMACIÓN FINANCIERA CONTENIDA EN EL RUP CON CORTE A DICIEMBRE 31 DE
C9: TOTAL PASIVO CORRIENTE | O9: CF | P9: =IF(I7>=0,IF(I7<=0.5,20,IF(I7<=0.75,25,IF(I7<=1,30,IF(I7<=1.5,35,40))))) -> 40
C10: TOTAL PASIVO | O10: CT | P10: =IF('Tener en cuenta'!L3>=0,IF('Tener en cuenta'!L3<=5,20,IF('Tener en cuenta'!L3<=10,30,40))) -> 20
C11: TOTAL PATRIMONIO | O11: SCE | P11: ='Tener en cuenta'!P3 -> 0
B12: =CONCATENATE("NIT. ",'Tener en cuenta'!E3) -> NIT. | C12: UTILIDAD /PERDIDA OPERACIONAL | O12: =IF(Q7>=($C$168*1000),'Tener en cuenta'!$AC$13,'Tener en cuenta'!$AC$14) -> CRP NO Cumple
C13: GASTOS DE INTERESES | AD13: 20XX
A14: 2 | B14: ='Tener en cuenta'!F4 -> 0 | C14: TOTAL ACTIVO CORRIENTE | I14: =IFERROR(+D14/D16,"indeterminado") -> indeterminado | J14: =IFERROR(+(D17/D15),"indeterminado") -> indeterminado | K14: =IFERROR(+D19/D20,"indeterminado") -> indeterminado | L14: =+(D14-D16) -> 0 | M14: =IFERROR(+D19/D18,"indeterminado") -> indeterminado | N14: =IFERROR(+D19/D15,"indeterminado") -> indeterminado | O14: CO | P14: =IF('Tener en cuenta'!O4>'Tener en cuenta'!$AH$30,'Tener en cuenta'!O4,'Tener en cuenta'!$AH$30) -> 457297264 | Q14: =P14*((P15+P17+P16)/100)-P18 -> 5.4875672e+08 | R14: =+G14/G16 -> #DIV/0! | S14: =+G17/G15 -> #DIV/0! | T14: INDETERMINADO | U14: =+G14-G16 -> 0 | V14: =+G19/G18 -> #DIV/0! | W14: =+G19/G15 -> #DIV/0! | X14: =+D14/D16 -> #DIV/0! | Y14: =+D17/D15 -> #DIV/0! | Z14: INDETERMINADO | AA14: =+D14-D16 -> 0 | AB14: =+D19/D18 -> #DIV/0! | AC14: =+D19/D15 -> #DIV/0! | AD14: Otro
C15: TOTAL ACTIVO | O15: E | P15: =IF('Tener en cuenta'!N4>=0,IF('Tener en cuenta'!N4<=3,60,IF('Tener en cuenta'!N4<=6,80,IF('Tener en cuenta'!N4<=10,100,120)))) -> 60 | AD15: SE EVALUA CON INFORMACIÓN FINANCIERA CONTENIDA EN EL RUP CON CORTE A DICIEMBRE 31 DE
C16: TOTAL PASIVO CORRIENTE | O16: CF | P16: =IF(I14>=0,IF(I14<=0.5,20,IF(I14<=0.75,25,IF(I14<=1,30,IF(I14<=1.5,35,40))))) -> 40
C17: TOTAL PASIVO | O17: CT | P17: =IF('Tener en cuenta'!L4>=0,IF('Tener en cuenta'!L4<=5,20,IF('Tener en cuenta'!L4<=10,30,40))) -> 20
C18: TOTAL PATRIMONIO | O18: SCE | P18: ='Tener en cuenta'!P4 -> 0
B19: =CONCATENATE("NIT. ",'Tener en cuenta'!E4) -> NIT. | C19: UTILIDAD /PERDIDA OPERACIONAL | O19: =IF(Q14>=($C$168*1000),'Tener en cuenta'!$AC$13,'Tener en cuenta'!$AC$14) -> CRP NO Cumple
C20: GASTOS DE INTERESES | AD20: 20XX
A21: 3 | B21: ='Tener en cuenta'!F5 -> 0 | C21: TOTAL ACTIVO CORRIENTE | I21: =IFERROR(+D21/D23,"indeterminado") -> indeterminado | J21: =IFERROR(+(D24/D22),"indeterminado") -> indeterminado | K21: =IFERROR(+D26/D27,"indeterminado") -> indeterminado | L21: =+(D21-D23) -> 0 | M21: =IFERROR(+D26/D25,"indeterminado") -> indeterminado | N21: =IFERROR(+D26/D22,"indeterminado") -> indeterminado | O21: CO | P21: =IF('Tener en cuenta'!O5>'Tener en cuenta'!$AH$30,'Tener en cuenta'!O5,'Tener en cuenta'!$AH$30) -> 457297264 | Q21: =P21*((P22+P24+P23)/100)-P25 -> 5.4875672e+08 | R21: =+G21/G23 -> #DIV/0! | S21: =+G24/G22 -> #DIV/0! | T21: INDETERMINADO | U21: =+G21-G23 -> 0 | V21: =+G26/G25 -> #DIV/0! | W21: =+G26/G22 -> #DIV/0! | X21: =+D21/D23 -> #DIV/0! | Y21: =+D24/D22 -> #DIV/0! | Z21: INDETERMINADO | AA21: =+D21-D23 -> 0 | AB21: =+D26/D25 -> #DIV/0! | AC21: =+D26/D22 -> #DIV/0! | AD21: Otro
C22: TOTAL ACTIVO | O22: E | P22: =IF('Tener en cuenta'!N5>=0,IF('Tener en cuenta'!N5<=3,60,IF('Tener en cuenta'!N5<=6,80,IF('Tener en cuenta'!N5<=10,100,120)))) -> 60 | AD22: SE EVALUA CON INFORMACIÓN FINANCIERA CONTENIDA EN EL RUP CON CORTE A DICIEMBRE 31 DE
C23: TOTAL PASIVO CORRIENTE | O23: CF | P23: =IF(I21>=0,IF(I21<=0.5,20,IF(I21<=0.75,25,IF(I21<=1,30,IF(I21<=1.5,35,40))))) -> 40
C24: TOTAL PASIVO | O24: CT | P24: =IF('Tener en cuenta'!L5>=0,IF('Tener en cuenta'!L5<=5,20,IF('Tener en cuenta'!L5<=10,30,40))) -> 20
C25: TOTAL PATRIMONIO | O25: SCE | P25: ='Tener en cuenta'!P5 -> 0
B26: =CONCATENATE("NIT. ",'Tener en cuenta'!E5) -> NIT. | C26: UTILIDAD /PERDIDA OPERACIONAL | O26: =IF(Q21>=($C$168*1000),'Tener en cuenta'!$AC$13,'Tener en cuenta'!$AC$14) -> CRP NO Cumple
C27: GASTOS DE INTERESES | AD27: 20XX
B28: ='Tener en cuenta'!F27 -> 0 | I28: =IFERROR((I29*'Tener en cuenta'!B6)+(I36*'Tener en cuenta'!B7)+(I43*'Tener en cuenta'!B8),"indeterminado") -> indeterminado | J28: =IFERROR((J29*'Tener en cuenta'!B6)+(J36*'Tener en cuenta'!B7)+(J43*'Tener en cuenta'!B8),"indeterminado") -> indeterminado | K28: =IFERROR((K29*'Tener en cuenta'!B6)+(K36*'Tener en cuenta'!B7)+(K43*'Tener en cuenta'!B8),"indeterminado") -> indeterminado | L28: =(L29*'Tener en cuenta'!B6)+(L36*'Tener en cuenta'!B7)+(L43*'Tener en cuenta'!B8) -> 0 | M28: =IFERROR((M29*'Tener en cuenta'!B6)+(M36*'Tener en cuenta'!B7)+(M43*'Tener en cuenta'!B8),"indeterminado") -> indeterminado | N28: =IFERROR((N29*'Tener en cuenta'!B6)+(N36*'Tener en cuenta'!B7)+(N43*'Tener en cuenta'!B8),"indeterminado") -> indeterminado | AD28: Otro
A29: 4a | B29: ='Tener en cuenta'!F6 -> 0 | C29: TOTAL ACTIVO CORRIENTE | I29: =IFERROR(+D29/D31,"indeterminado") -> indeterminado | J29: =IFERROR(+(D32/D30),"indeterminado") -> indeterminado | K29: =IFERROR(+D34/D35,"indeterminado") -> indeterminado | L29: =+(D29-D31) -> 0 | M29: =IFERROR(+D34/D33,"indeterminado") -> indeterminado | N29: =IFERROR(+D34/D30,"indeterminado") -> indeterminado | O29: CO | P29: =IF('Tener en cuenta'!O6>'Tener en cuenta'!$AH$30,'Tener en cuenta'!O6,'Tener en cuenta'!$AH$30) -> 457297264 | Q29: =P29*((P30+P32+P31)/100)-P33 -> 5.4875672e+08 | R29: =+G29/G31 -> #DIV/0! | S29: =+G32/G30 -> #DIV/0! | T29: INDETERMINADO | U29: =+G29-G31 -> 0 | V29: =+G34/G33 -> #DIV/0! | W29: =+G34/G30 -> #DIV/0! | X29: =+D29/D31 -> #DIV/0! | Y29: =+D32/D30 -> #DIV/0! | Z29: INDETERMINADO | AA29: =+D29-D31 -> 0 | AB29: =+D34/D33 -> #DIV/0! | AC29: =+D34/D30 -> #DIV/0! | AD29: Otro
C30: TOTAL ACTIVO | O30: E | P30: =IF('Tener en cuenta'!N6>=0,IF('Tener en cuenta'!N6<=3,60,IF('Tener en cuenta'!N6<=6,80,IF('Tener en cuenta'!N6<=10,100,120)))) -> 60 | AD30: SE EVALUA CON INFORMACIÓN FINANCIERA CONTENIDA EN EL RUP CON CORTE A DICIEMBRE 31 DE
C31: TOTAL PASIVO CORRIENTE | O31: CF | P31: =IF(I29>=0,IF(I29<=0.5,20,IF(I29<=0.75,25,IF(I29<=1,30,IF(I29<=1.5,35,40))))) -> 40
C32: TOTAL PASIVO | O32: CT | P32: =IF('Tener en cuenta'!L6>=0,IF('Tener en cuenta'!L6<=5,20,IF('Tener en cuenta'!L6<=10,30,40))) -> 20
B33: =CONCATENATE("UT Particip. ",'Tener en cuenta'!B6*100,"% ") -> UT Particip. 0% | C33: TOTAL PATRIMONIO | O33: SCE | P33: ='Tener en cuenta'!P6 -> 0
B34: =CONCATENATE("NIT. ",'Tener en cuenta'!E6) -> NIT. | C34: UTILIDAD /PERDIDA OPERACIONAL | O34: =IF(Q29>=($C$168*1000),'Tener en cuenta'!$AC$13,'Tener en cuenta'!$AC$14) -> CRP NO Cumple
C35: GASTOS DE INTERESES | AD35: 20XX
A36: 4b | B36: ='Tener en cuenta'!F7 -> 0 | C36: TOTAL ACTIVO CORRIENTE | I36: =IFERROR(+D36/D38,"indeterminado") -> indeterminado | J36: =IFERROR(+(D39/D37),"indeterminado") -> indeterminado | K36: =IFERROR(+D41/D42,"indeterminado") -> indeterminado | L36: =+(D36-D38) -> 0 | M36: =IFERROR(+D41/D40,"indeterminado") -> indeterminado | N36: =IFERROR(+D41/D37,"indeterminado") -> indeterminado | O36: CO | P36: =IF('Tener en cuenta'!O7>'Tener en cuenta'!$AH$30,'Tener en cuenta'!O7,'Tener en cuenta'!$AH$30) -> 457297264 | Q36: =P36*((P37+P39+P38)/100)-P40 -> 5.4875672e+08 | AD36: Otro
C37: TOTAL ACTIVO | O37: E | P37: =IF('Tener en cuenta'!N7>=0,IF('Tener en cuenta'!N7<=3,60,IF('Tener en cuenta'!N7<=6,80,IF('Tener en cuenta'!N7<=10,100,120)))) -> 60 | AD37: SE EVALUA CON INFORMACIÓN FINANCIERA CONTENIDA EN EL RUP CON CORTE A DICIEMBRE 31 DE
C38: TOTAL PASIVO CORRIENTE | O38: CF | P38: =IF(I36>=0,IF(I36<=0.5,20,IF(I36<=0.75,25,IF(I36<=1,30,IF(I36<=1.5,35,40))))) -> 40
C39: TOTAL PASIVO | O39: CT | P39: =IF('Tener en cuenta'!L7>=0,IF('Tener en cuenta'!L7<=5,20,IF('Tener en cuenta'!L7<=10,30,40))) -> 20
B40: =CONCATENATE("UT Particip. ",'Tener en cuenta'!B7*100,"% ") -> UT Particip. 0% | C40: TOTAL PATRIMONIO | O40: SCE | P40: ='Tener en cuenta'!P7 -> 0
...

Sheet Tener en cuenta
A1: # | B1: Fecha Cierre proceso | C1: # | D1: Fecha Rup vigente | E1: NIT | F1: Proponente | G1: QUE EL DIA 31 DEL MES DE MARZO DE 20xx EL PROPONENTE RENOVO EL REGISTRO UNICO DE PROPONENTES BAJO EL NUMERO xxxxx RENOVO | H1: LA INFORMACION RELACIONADA CON LA INSCRIPCION AQUI CERTIFICADA, (QUEDO o QUEDARA) EN FIRME DIEZ (10) DIAS HABILES DESPUES DE LA FECHA DE PUBLICACION (ARTICULO 6.3 DE LA LEY 1150 DE 2007). FIRME QUEDÓ= SI QUEDARA= NO | I1: CLASIFICACION POR TAMAÑO DE LA EMPRESA en el RUP TAMAÑO | J1: Año escogido para indicadores 2019-2020-2021 | K1: =INDICADORES!Q5 -> K Capacidad Residual CRP ≥ CRPC CRP ≥ 903.347,59 | L1: CT # Profesionales | M1: E Vlr Total Ctos | N1: Cáluculo E VLR Total Ctos / Ppto Oficial * % Partic | O1: CO Ing operacionales >= 125,000 USD O $457.297.264 | P1: SCE Sdo Cto Ejec | R1: INDICE LIQUIDEZ >= X,X ACTIVO CTE / PASIVO CTE | S1: INDICE DE ENDEUDAMIENTO <= XX % PASIVO TOTAL / ACTIVO TOTAL | T1: RAZON COBERTURA DE INTERESES >= X UTIL/PERDIDA OPERACIONAL / GASTOS DE INTERESES | U1: CAPITAL DE TRABAJO >= XX % ($xxx.xxxx.xxx) (Activo Cte -Pasivo Cte) | V1: RENTABILIDAD DEL PATRIMONIO >= X.XX UTILIDAD OPERACIONAL / PATRIMONIO | W1: RENTABILIDAD DEL ACTIVO >= X.XX UTILIDAD OPERACIONAL / ACTIVO TOTAL | Y1: Docs a enviar Directora Financiera por correo | AA1: 1 | AB1: Pliegos | AF1: INDICADOR DE CAPACIDAD RESIDUAL
B2: 45586 | R2: 1.6 | S2: 0.6 | T2: 2 | U2: 0.58 | V2: 0.05 | W2: 0.04 | AA2: 2 | AB2: Excel de evaluacion | AF2: CF = Puntaje Capacidad Financiera
A3: 1 | C3: 1 | J3: =INDICADORES!AD13 -> 20XX | K3: =INDICADORES!Q7 -> 5.4875672e+08 | N3: =(M3/(INDICADORES!$C$168*100))*'Tener en cuenta'!B3 -> 0 | P3: =SCE!F3 -> 0 | R3: =INDICADORES!I7 -> indeterminado | S3: =INDICADORES!J7 -> indeterminado | T3: =INDICADORES!K7 -> indeterminado | U3: =INDICADORES!L7 -> 0 | V3: =INDICADORES!M7 -> indeterminado | W3: =INDICADORES!N7 -> indeterminado | AA3: 3 | AB3: Memorando de resultados evaluación | AF3: Mayor A | AG3: Menor o igual A | AH3: Puntaje
A4: 2 | C4: 2 | J4: =INDICADORES!AD20 -> 20XX | K4: =INDICADORES!Q14 -> 5.4875672e+08 | N4: =(M4/(INDICADORES!$C$168*100))*'Tener en cuenta'!B4 -> 0 | P4: =SCE!F4 -> 0 | R4: =INDICADORES!I14 -> indeterminado | S4: =INDICADORES!J14 -> indeterminado | T4: =INDICADORES!K14 -> indeterminado | U4: =INDICADORES!L14 -> 0 | V4: =INDICADORES!M14 -> indeterminado | W4: =INDICADORES!N14 -> indeterminado | AA4: 4 | AB4: los RUP de cada proponente | AF4: 0 | AG4: 0.5 | AH4: 20
A5: 3 | C5: 3 | J5: =INDICADORES!AD27 -> 20XX | K5: =INDICADORES!Q21 -> 5.4875672e+08 | N5: =(M5/(INDICADORES!$C$168*100))*'Tener en cuenta'!B5 -> 0 | P5: =SCE!F5 -> 0 | R5: =INDICADORES!I21 -> indeterminado | S5: =INDICADORES!J21 -> indeterminado | T5: =INDICADORES!K21 -> indeterminado | U5: =INDICADORES!L21 -> 0 | V5: =INDICADORES!M21 -> indeterminado | W5: =INDICADORES!N21 -> indeterminado | AA5: 5 | AB5: Si hay uniones temporales se envían los RUP de cada proponente + la carta de conformación del consorcio o union temporal | AF5: 0.51 | AG5: 0.75 | AH5: 25
A6: 4 | C6: 4a | J6: =INDICADORES!AD35 -> 20XX | K6: =INDICADORES!Q29 -> 5.4875672e+08 | N6: =(M6/(INDICADORES!$C$168*100))*'Tener en cuenta'!B6 -> 0 | P6: =SCE!F6 -> 0 | R6: =INDICADORES!I29 -> indeterminado | S6: =INDICADORES!J29 -> indeterminado | T6: =INDICADORES!K29 -> indeterminado | U6: =INDICADORES!L29 -> 0 | V6: =INDICADORES!M29 -> indeterminado | W6: =INDICADORES!N29 -> indeterminado | AF6: 0.76 | AG6: 1 | AH6: 30
A7: 5 | C7: 4b | J7: =INDICADORES!AD42 -> 20XX | K7: =INDICADORES!Q36 -> 5.4875672e+08 | N7: =(M7/(INDICADORES!$C$168*100))*'Tener en cuenta'!B7 -> 0 | P7: =SCE!F7 -> 0 | R7: =INDICADORES!I36 -> indeterminado | S7: =INDICADORES!J36 -> indeterminado | T7: =INDICADORES!K36 -> indeterminado | U7: =INDICADORES!L36 -> 0 | V7: =INDICADORES!M36 -> indeterminado | W7: =INDICADORES!N36 -> indeterminado | AF7: 1.01 | AG7: 1.5 | AH7: 35
A8: 6 | C8: 4c | J8: =INDICADORES!AD49 -> 20XX | K8: =INDICADORES!Q43 -> 5.4875672e+08 | N8: =(M8/(INDICADORES!$C$168*100))*'Tener en cuenta'!B8 -> 0 | P8: =SCE!F8 -> 0 | R8: =INDICADORES!I43 -> indeterminado | S8: =INDICADORES!J43 -> indeterminado | T8: =INDICADORES!K43 -> indeterminado | U8: =INDICADORES!L43 -> 0 | V8: =INDICADORES!M43 -> indeterminado | W8: =INDICADORES!N43 -> indeterminado | AF8: 1.51 | AG8: mayor | AH8: 40
A9: 7 | C9: 5a | J9: =INDICADORES!AD57 -> 20XX | K9: =INDICADORES!Q51 -> 5.4875672e+08 | N9: =(M9/(INDICADORES!$C$168*100))*'Tener en cuenta'!B9 -> 0 | P9: =SCE!F9 -> 0 | R9: =INDICADORES!I51 -> indeterminado | S9: =INDICADORES!J51 -> indeterminado | T9: =INDICADORES!K51 -> indeterminado | U9: =INDICADORES!L51 -> 0 | V9: =INDICADORES!M51 -> indeterminado | W9: =INDICADORES!N51 -> indeterminado
A10: 8 | C10: 5b | J10: =INDICADORES!AD64 -> 20XX | K10: =INDICADORES!Q58 -> 5.4875672e+08 | N10: =(M10/(INDICADORES!$C$168*100))*'Tener en cuenta'!B10 -> 0 | P10: =SCE!F10 -> 0 | R10: =INDICADORES!I58 -> indeterminado | S10: =INDICADORES!J58 -> indeterminado | T10: =INDICADORES!K58 -> indeterminado | U10: =INDICADORES!L58 -> 0 | V10: =INDICADORES!M58 -> indeterminado | W10: =INDICADORES!N58 -> indeterminado | Y10: Envio respuesta a DGC | AA10: 1 | AB10: Memorando | AF10: CT = Puntaje Capacidad Técnica
A11: 9 | C11: 6a | J11: =INDICADORES!AD72 -> 20XX | K11: =INDICADORES!Q66 -> 5.4875672e+08 | N11: =(M11/(INDICADORES!$C$168*100))*'Tener en cuenta'!B11 -> 0 | P11: =SCE!F11 -> 0 | R11: =INDICADORES!I66 -> indeterminado | S11: =INDICADORES!J66 -> indeterminado | T11: =INDICADORES!K66 -> indeterminado | U11: =INDICADORES!L66 -> 0 | V11: =INDICADORES!M66 -> indeterminado | W11: =INDICADORES!N66 -> indeterminado | AA11: 2 | AB11: Excel de la evaluación | AF11: Mayor A | AG11: Menor o igual A | AH11: Puntaje
A12: 10 | C12: 6b | J12: =INDICADORES!AD79 -> 20XX | K12: =INDICADORES!Q73 -> 5.4875672e+08 | N12: =(M12/(INDICADORES!$C$168*100))*'Tener en cuenta'!B12 -> 0 | P12: =SCE!F12 -> 0 | R12: =INDICADORES!I73 -> indeterminado | S12: =INDICADORES!J73 -> indeterminado | T12: =INDICADORES!K73 -> indeterminado | U12: =INDICADORES!L73 -> 0 | V12: =INDICADORES!M73 -> indeterminado | W12: =INDICADORES!N73 -> indeterminado | AF12: 0 | AG12: 5 | AH12: 20
A13: 11 | C13: 7a | J13: =INDICADORES!AD87 -> 20XX | K13: =INDICADORES!Q81 -> 5.4875672e+08 | N13: =(M13/(INDICADORES!$C$168*100))*'Tener en cuenta'!B13 -> 0 | P13: =SCE!F13 -> 0 | R13: =INDICADORES!I81 -> indeterminado | S13: =INDICADORES!J81 -> indeterminado | T13: =INDICADORES!K81 -> indeterminado | U13: =INDICADORES!L81 -> 0 | V13: =INDICADORES!M81 -> indeterminado | W13: =INDICADORES!N81 -> indeterminado | Y13: ESTADO | AA13: 1 | AB13: HABILITADO | AC13: CRP SI Cumple | AF13: 6 | AG13: 10 | AH13: 30
A14: 12 | C14: 7b | J14: =INDICADORES!AD94 -> 20XX | K14: =INDICADORES!Q88 -> 5.4875672e+08 | N14: =(M14/(INDICADORES!$C$168*100))*'Tener en cuenta'!B14 -> 0 | P14: =SCE!F14 -> 0 | R14: =INDICADORES!I88 -> indeterminado | S14: =INDICADORES!J88 -> indeterminado | T14: =INDICADORES!K88 -> indeterminado | U14: =INDICADORES!L88 -> 0 | V14: =INDICADORES!M88 -> indeterminado | W14: =INDICADORES!N88 -> indeterminado | AA14: 2 | AB14: NO HABILITADO | AC14: CRP NO Cumple | AF14: 11 | AG14: mayor | AH14: 40
A15: 13 | C15: 1 | D15: 45568 | E15: 900.196.555-1 | F15: CONSULTORES EN INFORMACION INFOMETRIKA SAS | G15: 45463 | H15: SI | I15: MEDIANA EMPRESA | J15: =INDICADORES!AD101 -> 2023 | K15: =INDICADORES!Q95 -> 5.4875672e+08 | N15: =(M15/(INDICADORES!$C$168*100))*'Tener en cuenta'!B15 -> 0 | P15: =SCE!F15 -> 0 | R15: =INDICADORES!I95 -> 1.6904089 | S15: =INDICADORES!J95 -> 0.46833655 | T15: =INDICADORES!K95 -> 4.797801 | U15: =INDICADORES!L95 -> 3053867089 | V15: =INDICADORES!M95 -> 0.11094071 | W15: =INDICADORES!N95 -> 0.047873715 | AA15: 3 | AB15: Otro | AC15: Otro
A16: 14 | C16: 2 | D16: 45562 | E16: 900.555.513-3 | F16: PROYECTAMOS COLOMBIA SAS | G16: 45546 | H16: SI | I16: MEDIANA EMPRESA | J16: =INDICADORES!AD108 -> 2023 | K16: =INDICADORES!Q102 -> 5.4875672e+08 | N16: =(M16/(INDICADORES!$C$168*100))*'Tener en cuenta'!B16 -> 0 | P16: =SCE!F16 -> 0 | R16: =INDICADORES!I102 -> 3.0363111 | S16: =INDICADORES!J102 -> 0.31465901 | T16: =INDICADORES!K102 -> 3.4641307 | U16: =INDICADORES!L102 -> 12948863997 | V16: =INDICADORES!M102 -> 0.10671771 | W16: =INDICADORES!N102 -> 0.069991431 | AF16: SCE = Saldos de Contratos en Ejecución
A17: 15 | C17: 3 | D17: 45581 | E17: 830.109.191-1 | F17: OPORTUNIDAD ESTRATEGICA SAS | G17: 45384 | H17: SI | I17: PEQUEÑA EMPRESA | J17: =INDICADORES!AD115 -> 2023 | K17: =INDICADORES!Q109 -> 5.4875672e+08 | N17: =(M17/(INDICADORES!$C$168*100))*'Tener en cuenta'!B17 -> 0 | P17: =SCE!F18 -> 0 | R17: =INDICADORES!I109 -> 2.3183678 | S17: =INDICADORES!J109 -> 0.36689645 | T17: =INDICADORES!K109 -> 1655.0218 | U17: =INDICADORES!L109 -> 600757000 | V17: =INDICADORES!M109 -> 0.10962792 | W17: =INDICADORES!N109 -> 0.07454058 | Y17: Director Financiero | AB17: Andrés Vergara Ballén
A18: 16 | C18: 4 | D18: 45581 | E18: 830.044.030-1 | F18: FUNDACION FORO CIVICO ESCUELA DE DEMOCRACIA, DERECHOS HUMANOS Y PARTICIPACION CIUDADANA | G18: 45414 | H18: SI | I18: PEQUEÑA EMPRESA | J18: =INDICADORES!AD122 -> 2023 | K18: =INDICADORES!Q116 -> 5.4875672e+08 | N18: =(M18/(INDICADORES!$C$168*100))*'Tener en cuenta'!B18 -> 0 | P18: =SCE!F19 -> 0 | R18: =INDICADORES!I116 -> 8.6330146 | S18: =INDICADORES!J116 -> 0.071301202 | T18: =INDICADORES!K116 -> 230.43631 | U18: =INDICADORES!L116 -> 872995515 | V18: =INDICADORES!M116 -> 0.82736314 | W18: =INDICADORES!N116 -> 0.76765814 | Y18: Directora Financiera ( E ) | AB18: Claudia Liliana Lucero Campaña
A19: 17 | B19: Subsanó | C19: 5 | D19: 45568 | E19: 900.103.559-2 | F19: ECONOMIA URBANA SAS | G19: 45398 | H19: SI | I19: PEQUEÑA EMPRESA | J19: =INDICADORES!AD129 -> 2023 | K19: =INDICADORES!Q123 -> #VALUE! | N19: =(M19/(INDICADORES!$C$168*100))*'Tener en cuenta'!B19 -> #VALUE! | P19: =SCE!F20 -> 0 | R19: =INDICADORES!I123 -> 1.7324699 | S19: =INDICADORES!J123 -> 0.57132892 | T19: =INDICADORES!K123 -> 7.3475396 | U19: =INDICADORES!L123 -> 1302791518 | V19: =INDICADORES!M123 -> 0.44112199 | W19: =INDICADORES!N123 -> 0.17909624 | AF19: E = Experiencia
A20: 18 | C20: 6 | D20: 45565 | E20: 800.011.951-9 | F20: CENTRO NACIONAL DE CONSULTORIA S A - CNC | G20: 45404 | H20: SI | I20: GRAN EMPRESA | J20: =INDICADORES!AD136 -> 2023 | K20: =INDICADORES!Q130 -> 5.4875672e+08 | N20: =(M20/(INDICADORES!$C$168*100))*'Tener en cuenta'!B20 -> 0 | P20: =SCE!F21 -> 0 | R20: =INDICADORES!I130 -> 1.9305605 | S20: =INDICADORES!J130 -> 0.48183747 | T20: =INDICADORES!K130 -> 4.6717373 | U20: =INDICADORES!L130 -> 6414999672 | V20: =INDICADORES!M130 -> 0.29569695 | W20: =INDICADORES!N130 -> 0.1484007 | Y20: 2436003 | Z20: 3-2024-36937 | AB20: Sipa enviado de respuesta evaluación | AF20: Mayor A | AG20: Menor o igual A | AH20: Puntaje
A21: 19 | C21: 7 | D21: 45584 | E21: 900.914.244-8 | F21: PROINSO SF SAS SIGLA PROINSO SF SAS | G21: 45461 | H21: SI | I21: MICRO EMPRESA | J21: =INDICADORES!AD143 -> 2023 | K21: =INDICADORES!Q137 -> 5.4875672e+08 | N21: =(M21/(INDICADORES!$C$168*100))*'Tener en cuenta'!B21 -> 0 | R21: =INDICADORES!I137 -> 18.628752 | S21: =INDICADORES!J137 -> 0.19061961 | T21: =INDICADORES!K137 -> 144.70828 | U21: =INDICADORES!L137 -> 4057957875 | V21: =INDICADORES!M137 -> 1.1550762 | W21: =INDICADORES!N137 -> 0.9429898 | Y21: 2440453 | AB21: Subsane proponentes | AF21: 0 | AG21: 3 | AH21: 60
A22: 20 | C22: 8 | D22: 45575 | E22: 890.319.494-5 | F22: IPSOS NAPOLEON FRANCO & CIA SAS | G22: 45418 | H22: SI | I22: GRAN EMPRESA | J22: =INDICADORES!AD150 -> 2023 | K22: =INDICADORES!Q144 -> 5.4875672e+08 | N22: =(M22/(INDICADORES!$C$168*100))*'Tener en cuenta'!B22 -> 0 | P22: =SCE!F26 -> 0 | R22: =INDICADORES!I144 -> 2.0344419 | S22: =INDICADORES!J144 -> 0.44721836 | T22: =INDICADORES!K144 -> 1027.159 | U22: =INDICADORES!L144 -> 21508556000 | V22: =INDICADORES!M144 -> 0.22571194 | W22: =INDICADORES!N144 -> 0.11794012 | AF22: 4 | AG22: 6 | AH22: 80
A23: 21 | C23: 16 | J23: =INDICADORES!AD157 -> 20XX | K23: =INDICADORES!Q151 -> 5.4875672e+08 | N23: =(M23/(INDICADORES!$C$168*100))*'Tener en cuenta'!B23 -> 0 | P23: =SCE!F27 -> 0 | R23: =INDICADORES!I151 -> indeterminado | S23: =INDICADORES!J151 -> indeterminado | T23: =INDICADORES!K151 -> indeterminado | U23: =INDICADORES!L151 -> 0 | V23: =INDICADORES!M151 -> indeterminado | W23: =INDICADORES!N151 -> indeterminado | Y23: 357 | AA23: Concepto Financiero | AF23: 7 | AG23: 10 | AH23: 100
A24: 22 | C24: 17 | J24: =INDICADORES!AD164 -> 20XX | K24: =INDICADORES!Q158 -> 5.4875672e+08 | N24: =(M24/(INDICADORES!$C$168*100))*'Tener en cuenta'!B24 -> 0 | P24: =SCE!F28 -> 0 | R24: =INDICADORES!I158 -> indeterminado | S24: =INDICADORES!J158 -> indeterminado | T24: =INDICADORES!K158 -> indeterminado | U24: =INDICADORES!L158 -> 0 | V24: =INDICADORES!M158 -> indeterminado | W24: =INDICADORES!N158 -> indeterminado | Y24: 560 | AA24: Evaluación de la propuesta | AF24: 11 | AG24: mayor | AH24: 120
Y25: 561 | AA25: Evaluación del cumplimiento de requisitos
G26: RESUMEN UT y CONSORCIOS | Y26: 534 | AA26: Estudio de Mercado | AG26: total max CRP | AH26: =AH24+AH17+AH14+AH8 -> 200
C27: 4 | R27: =INDICADORES!I28 -> indeterminado | S27: =INDICADORES!J28 -> indeterminado | T27: =INDICADORES!K28 -> indeterminado | U27: =INDICADORES!L28 -> 0 | V27: =INDICADORES!M28 -> indeterminado | W27: =INDICADORES!N28 -> indeterminado
C28: 5 | R28: =INDICADORES!I50 -> indeterminado | S28: =INDICADORES!J50 -> indeterminado | T28: =INDICADORES!K50 -> indeterminado | U28: =INDICADORES!L50 -> 0 | V28: =INDICADORES!M50 -> indeterminado | W28: =INDICADORES!N50 -> indeterminado | AF28: CO = Capacidad Organizacional
C29: 6 | R29: =INDICADORES!I65 -> indeterminado | S29: =INDICADORES!J65 -> indeterminado | T29: =INDICADORES!K65 -> indeterminado | U29: =INDICADORES!L65 -> 0 | V29: =INDICADORES!M65 -> indeterminado | W29: =INDICADORES!N65 -> indeterminado | AF29: Mayor A | AG29: Menor o igual A | AH29: Puntaje | AI29: OBSERVACIONES
C30: 7 | R30: =INDICADORES!I80 -> indeterminado | S30: =INDICADORES!J80 -> indeterminado | T30: =INDICADORES!K80 -> indeterminado | U30: =INDICADORES!L80 -> 0 | V30: =INDICADORES!M80 -> indeterminado | W30: =INDICADORES!N80 -> indeterminado | AF30: 0 | AG30: 1 | AH30: 457297264 | AI30: USD 125.000 (Liquidados a la tasa de cambio determinada por el Ministerio de Comercio, Industria y Turismo cada 2 años para efectos del umbral del beneficio de las Mipyme.)
Y31: 20XX | AB31: Año RUP | AF31: 1.01 | AG31: 5 | AI31: Mayor ingreso operacional de los años de existencia del proponente.
Y32: 2020 | AB32: Año RUP | AF32: 5.01 | AG32: mayor | AI32: Mayor ingreso operacional de los últimos 5 años
Y33: 2021 | AB33: Año RUP
Y34: 2022 | AB34: Año RUP
Y35: 2023 | AB35: Año RUP
Y36: 2024 | AB36: Año RUP

Sheet SCE
A2: # | C2: # | D2: nit | E2: proponente | F2: Total SCE Sdo Cto Ejec | G2: SCE Sdo Cto Ejec | H2: SDE Saldo Diario Cto Ejecuc | I2: plazo Meses / días | J2: Vlr Cto | K2: Fecha Inicio | L2: % Partic | M2: Fecha Presentación Oferta | N2: Días ejecutados | O2: Días x ejecutar Cto | P2: Está Suspendido
A3: 1 | B3: 1 | F3: =G3 -> 0 | G3: =H3*L3*O3 -> 0 | H3: =IFERROR(J3/(I3*30),0) -> 0 | N3: =M3-K3 -> 0 | O3: =(I3*30)-N3 -> 0
A4: 2 | B4: 2 | F4: =G4 -> 0 | G4: =H4*L4*O4 -> 0 | H4: =IFERROR(J4/(I4*30),0) -> 0 | N4: =M4-K4 -> 0 | O4: =(I4*30)-N4 -> 0
A5: 3 | B5: 3 | F5: =G5 -> 0 | G5: =H5*L5*O5 -> 0 | H5: =IFERROR(J5/(I5*30),0) -> 0 | N5: =M5-K5 -> 0 | O5: =(I5*30)-N5 -> 0
A6: 4 | B6: 4a | F6: =G6 -> 0 | G6: =H6*L6*O6 -> 0 | H6: =IFERROR(J6/(I6*30),0) -> 0 | N6: =M6-K6 -> 0 | O6: =(I6*30)-N6 -> 0
A7: 5 | B7: 4b | F7: =G7 -> 0 | G7: =H7*L7*O7 -> 0 | H7: =IFERROR(J7/(I7*30),0) -> 0 | N7: =M7-K7 -> 0 | O7: =(I7*30)-N7 -> 0
A8: 6 | B8: 4c | F8: =G8 -> 0 | G8: =H8*L8*O8 -> 0 | H8: =IFERROR(J8/(I8*30),0) -> 0 | N8: =M8-K8 -> 0 | O8: =(I8*30)-N8 -> 0
A9: 7 | B9: 5a | F9: =G9 -> 0 | G9: =H9*L9*O9 -> 0 | H9: =IFERROR(J9/(I9*30),0) -> 0 | N9: =M9-K9 -> 0 | O9: =(I9*30)-N9 -> 0
A10: 8 | B10: 5b | F10: =G10 -> 0 | G10: =H10*L10*O10 -> 0 | H10: =IFERROR(J10/(I10*30),0) -> 0 | N10: =M10-K10 -> 0 | O10: =(I10*30)-N10 -> 0
A11: 9 | B11: 6a | F11: =G11 -> 0 | G11: =H11*L11*O11 -> 0 | H11: =IFERROR(J11/(I11*30),0) -> 0 | N11: =M11-K11 -> 0 | O11: =(I11*30)-N11 -> 0
A12: 10 | B12: 6b | F12: =G12 -> 0 | G12: =H12*L12*O12 -> 0 | H12: =IFERROR(J12/(I12*30),0) -> 0 | N12: =M12-K12 -> 0 | O12: =(I12*30)-N12 -> 0
A13: 11 | B13: 7a | F13: =G13 -> 0 | G13: =H13*L13*O13 -> 0 | H13: =IFERROR(J13/(I13*30),0) -> 0 | N13: =M13-K13 -> 0 | O13: =(I13*30)-N13 -> 0
A14: 12 | B14: 7b | F14: =G14 -> 0 | G14: =H14*L14*O14 -> 0 | H14: =IFERROR(J14/(I14*30),0) -> 0 | N14: =M14-K14 -> 0 | O14: =(I14*30)-N14 -> 0
A15: 13 | B15: 8 | C15: 1 | F15: =G15 -> 0 | G15: =H15*L15*O15 -> 0 | H15: =IFERROR(J15/(I15*30),0) -> 0 | N15: =M15-K15 -> 0 | O15: =(I15*30)-N15 -> 0
A16: 14 | B16: 9 | C16: 2 | F16: =SUM(G16:G17) -> 0 | G16: =H16*L16*O16 -> 0 | H16: =IFERROR(J16/(I16*30),0) -> 0 | N16: =M16-K16 -> 0 | O16: =(I16*30)-N16 -> 0
G17: =H17*L17*O17 -> 0 | H17: =IFERROR(J17/(I17*30),0) -> 0 | N17: =M17-K17 -> 0 | O17: =(I17*30)-N17 -> 0
A18: 15 | B18: 10 | C18: 3 | F18: =G18 -> 0 | G18: =H18*L18*O18 -> 0 | H18: =IFERROR(J18/(173),0) -> 0 | N18: =M18-K18 -> 0 | O18: =(I18)-N18 -> 0
A19: 16 | B19: 11 | C19: 4 | F19: =G19 -> 0 | G19: =H19*L19*O19 -> 0 | H19: =IFERROR(J19/(I19*30),0) -> 0 | N19: =M19-K19 -> 0 | O19: =(I19*30)-N19 -> 0
A20: 17 | B20: 12 | C20: 5 | F20: =G20 -> 0 | G20: =H20*L20*O20 -> 0 | H20: =IFERROR(J20/(I20*30),0) -> 0 | N20: =M20-K20 -> 0 | O20: =(I20*30)-N20 -> 0
A21: 18 | B21: 13 | C21: 6 | F21: =G21 -> 0 | G21: =H21*L21*O21 -> 0 | H21: =IFERROR(J21/(I21*30),0) -> 0 | N21: =M21-K21 -> 0 | O21: =(I21*30)-N21 -> 0 | P21: N/A
A22: 19 | B22: 14 | C22: 7 | F22: =SUM(G22:G25) -> 0 | G22: =H22*L22*O22 -> 0 | H22: =IFERROR(J22/(I22*30),0) -> 0 | N22: =M22-K22 -> 0 | O22: =(I22*30)-N22 -> 0
G23: =H23*L23*O23 -> 0 | H23: =IFERROR(J23/(I23*30),0) -> 0 | N23: =M23-K23 -> 0 | O23: =(I23*30)-N23 -> 0
G24: =H24*L24*O24 -> 0 | H24: =IFERROR(J24/(I24*30),0) -> 0 | N24: =M24-K24 -> 0 | O24: =(I24*30)-N24 -> 0
G25: =H25*L25*O25 -> 0 | H25: =IFERROR(J25/(I25*30),0) -> 0 | N25: =M25-K25 -> 0 | O25: =(I25*30)-N25 -> 0
A26: 20 | B26: 15 | F26: =G26 -> 0 | G26: =H26*L26*O26 -> 0 | H26: =IFERROR(J26/(I26*30),0) -> 0 | N26: =M26-K26 -> 0 | O26: =(I26*30)-N26 -> 0
A27: 21 | B27: 16 | F27: =G27 -> 0 | G27: =H27*L27*O27 -> 0 | H27: =IFERROR(J27/(I27*30),0) -> 0 | N27: =M27-K27 -> 0 | O27: =(I27*30)-N27 -> 0
A28: 22 | B28: 17 | F28: =G28 -> 0 | G28: =H28*L28*O28 -> 0 | H28: =IFERROR(J28/(I28*30),0) -> 0 | N28: =M28-K28 -> 0 | O28: =(I28*30)-N28 -> 0
E30: EJEMPLO | G30: SCE Sdo Cto Ejec | H30: SDE Saldo Diario Cto Ejecuc | I30: plazo Meses | J30: Vlr Cto | K30: Fecha Inicio | L30: % Partic | M30: Fecha Presentación Oferta | N30: Días ejecutados | O30: Días x ejecutar Cto | P30: Está Suspendido
G31: =H31*L31*360 -> 600000000 | H31: =J31/(I31*30) -> 2083333.3 | I31: 16 | J31: 1000000000 | K31: 41620 | L31: 0.8 | M31: 41671 | N31: =M31-K31 -> 51 | O31: =(I31*30)-N31 -> 429 | P31: NO

Sheet resumen
A1: HABILITADOS | C1: # | D1: NIT | E1: PROPONENTE | G1: ESTADO
L2: Proponentes | M2: #
L3: Habilitados | M3: =COUNTA(G3:G23) -> 8
L4: No Habilitados | M4: =COUNTA(G27:G33) -> 0
L5: Total | M5: =SUM(M3:M4) -> 8
C15: 1 | D15: 900.196.555-1 | E15: CONSULTORES EN INFORMACION INFOMETRIKA SAS | G15: HABILITADO
C16: 2 | D16: 900.555.513-3 | E16: PROYECTAMOS COLOMBIA SAS | G16: HABILITADO
C17: 3 | D17: 830.109.191-1 | E17: OPORTUNIDAD ESTRATEGICA SAS | G17: HABILITADO
C18: 4 | D18: 830.044.030-1 | E18: FUNDACION FORO CIVICO ESCUELA DE DEMOCRACIA, DERECHOS HUMANOS Y PARTICIPACION CIUDADANA | G18: HABILITADO
C19: 5 | D19: 900.103.559-2 | E19: ECONOMIA URBANA SAS | G19: HABILITADO
C20: 6 | D20: 800.011.951-9 | E20: CENTRO NACIONAL DE CONSULTORIA S A - CNC | G20: HABILITADO
C21: 7 | D21: 900.914.244-8 | E21: PROINSO SF SAS SIGLA PROINSO SF SAS | G21: HABILITADO
C22: 8 | D22: 890.319.494-5 | E22: IPSOS NAPOLEON FRANCO & CIA SAS | G22: HABILITADO
A25: NO HABILITADOS | C25: # | D25: NIT | E25: PROPONENTE | G25: ESTADO
J35: K Residual
I36: # | J36: NIT | K36: PROPONENTE | L36: CRP | M36: ESTADO | N36: OBSERVACION
I37: 1
I38: 2
I39: 3
I40: 4
I41: 5
I42: 6
I43: 7
