Workbook

Sheet PRESUPUESTO
A2: ADECUACIONES GENERALES BATERIAS SANITARIAS CASA DE PASO CENTRO AGROPECUARIO REGIONAL CAUCA
A3: CODIGO UNSPSC | B3: ITEM | C3: DESCRIPCION | D3: UND | E3: CANTIDAD | F3: VR. UNITARIO | G3: VALOR TOTAL | H3: SUBTOTAL CAPITULO
B4: 1 | C4: PRELIMINARES | H4: =SUM(G5:G19) -> 7026847
A5: 72141510 | B5: 1.1 | C5: Demolición de muro bahareque encementado paneles de aproximadamente 2,5 m * 2,14 m con estructura en guadua y de muro en ladrillo sócalo de 2,5 m * 0,6 m. Incluye cargue, trasporte de escombros en volqueta a sitio autorizado y descargue en sitio autorizado como disposición final, actividad que garantizará que lo residuos queden por fuera de las instalaciones del SENA, todo el material retirado será gestionado de acuerdo con las regulaciones ambientales locales, asegurando la disposición adecuada o reciclaje de los residuos. Se recomienda coordinar con personal y equipo especializado para garantizar la seguridad y eficiencia del trabajo. | D5: M2 | E5: 10.6 | F5: =+'1-APU ADEC BATERIA SANITARIA'!G4 -> 20872 | G5: =ROUND(E5*F5,0) -> 221243
A6: 72141510 | B6: 1.2 | C6: Demolición de mesón en concreto fundido de 0,6m *0,1 m, estructura de soporte y lavamanos, (Incluye Retiro de escombros en volqueta, incluye cargue y transporte para botar fuera de las instalaciones del Sena ) todo el material retirado será gestionado de acuerdo con las regulaciones ambientales locales, asegurando la disposición adecuada o reciclaje de los residuos. Se recomienda coordinar con personal y equipo especializado para garantizar la seguridad y eficiencia del trabajo. | D6: ML | E6: 4.04 | F6: =+'1-APU ADEC BATERIA SANITARIA'!G35 -> 25208 | G6: =ROUND(E6*F6,0) -> 101840
A7: 72141510 | B7: 1.3 | C7: Desmonte puntos hidráulicos y sanitarios con la tubería (Incluye Retiro de escombros en volqueta, cargue y transporte para botar fuera de las instalaciones del Sena) todo el material retirado será gestionado de acuerdo con las regulaciones ambientales locales, asegurando la disposición adecuada o reciclaje de los residuos. Se recomienda coordinar con personal y equipo especializado para garantizar la seguridad y eficiencia del trabajo. | D7: UND | E7: 20 | F7: =+'1-APU ADEC BATERIA SANITARIA'!G66 -> 11187 | G7: =ROUND(E7*F7,0) -> 223740
A8: 72141510 | B8: 1.4 | C8: Desmonte y retiro de puertas en aluminio y divisiones con sus respectivos marcos, remoción cuidadosa para ser reutilizadas en otras áreas del centro de formación, todo el material retirado será gestionado de acuerdo con las regulaciones ambientales locales, asegurando la disposición adecuada o reciclaje de los residuos. Se recomienda coordinar con personal y equipo especializado para garantizar la seguridad y eficiencia del trabajo. | D8: UND | E8: 16 | F8: =+'1-APU ADEC BATERIA SANITARIA'!G96 -> 12880 | G8: =ROUND(E8*F8,0) -> 206080
A9: 72141510 | B9: 1.5 | C9: Desmonte de ventanas en madera , incluye marco, remoción cuidadosa para ser reutilizadas en otras áreas del centro de formación, todo el material retirado será gestionado de acuerdo con las regulaciones ambientales locales, asegurando la disposición adecuada o reciclaje de los residuos. Se recomienda coordinar con personal y equipo especializado para garantizar la seguridad y eficiencia del trabajo. | D9: UND | E9: 2 | F9: =+'1-APU ADEC BATERIA SANITARIA'!G125 -> 13708 | G9: =ROUND(E9*F9,0) -> 27416
A10: 72141510 | B10: 1.6 | C10: Demolición de muro en muro tendinoso altura 1,54 y sócalo en ladrillo altura 0,6 . (Incluye Retiro de escombros en volqueta, incluye cargue y transporte para botar fuera de las instalaciones del Sena), todo el material retirado será gestionado de acuerdo con las regulaciones ambientales locales, asegurando la disposición adecuada o reciclaje de los residuos. Se recomienda coordinar con personal y equipo especializado para garantizar la seguridad y eficiencia del trabajo. | D10: M2 | E10: 39.38 | F10: =+'1-APU ADEC BATERIA SANITARIA'!G154 -> 25262 | G10: =ROUND(E10*F10,0) -> 994818
A11: 72141510 | B11: 1.7 | C11: Desmonte de sanitario (Incluye Retiro de escombros en volqueta, cargue y transporte para botar fuera de las instalaciones del Sena) todo el material retirado será gestionado de acuerdo con las regulaciones ambientales locales, asegurando la disposición adecuada o reciclaje de los residuos. Se recomienda coordinar con personal y equipo especializado para garantizar la seguridad y eficiencia del trabajo. | D11: UND | E11: 4 | F11: =+'1-APU ADEC BATERIA SANITARIA'!G184 -> 25587 | G11: =ROUND(E11*F11,0) -> 102348
A12: 72141510 | B12: 1.8 | C12: Demolición baldosín cerámico, mortero de nivelación y primario. Incluye Retiro de escombros en volqueta, cargue y transporte para botar fuera de las instalaciones del Sena; todo el material retirado será gestionado de acuerdo con las regulaciones ambientales locales, asegurando la disposición adecuada o reciclaje de los residuos. Se recomienda coordinar con personal y equipo especializado para garantizar la seguridad y eficiencia del trabajo. | D12: M2 | E12: 51.06 | F12: =+'1-APU ADEC BATERIA SANITARIA'!G213 -> 32271 | G12: =ROUND(E12*F12,0) -> 1647757
A13: 72141510 | B13: 1.9 | C13: Demolición de enchape de pared con repello (Incluye Retiro de escombros en volqueta, cargue y transporte para botar fuera de las instalaciones del Sena), todo el material retirado será gestionado de acuerdo con las regulaciones ambientales locales, asegurando la disposición adecuada o reciclaje de los residuos. Se recomienda coordinar con personal y equipo especializado para garantizar la seguridad y eficiencia del trabajo. | D13: M2 | E13: 60.78 | F13: =+'1-APU ADEC BATERIA SANITARIA'!G242 -> 22203 | G13: =ROUND(E13*F13,0) -> 1349498
A14: 72141510 | B14: 1,9,1 | C14: Demolición de revoque. Incluye Retiro de escombros en volqueta, incluye cargue y transporte para botar fuera de las instalaciones del Sena. Disposición final por fuera de las instalaciones del Sena | D14: M2 | E14: 40.6 | F14: =+'1-APU ADEC BATERIA SANITARIA'!G271 -> 17948 | G14: =ROUND(E14*F14,0) -> 728689
A15: 72141510 | B15: 1,9,2 | C15: Desmonte de mezanine en madera, remoción cuidadosa para reutilizar el material otras áreas del centro de formación, todo el material retirado será gestionado de acuerdo con las regulaciones ambientales locales, asegurando la disposición adecuada o reciclaje de los residuos. Se recomienda coordinar con personal y equipo especializado para garantizar la seguridad y eficiencia del trabajo. | D15: M2 | E15: 12.47 | F15: =+'1-APU ADEC BATERIA SANITARIA'!G301 -> 30704 | G15: =ROUND(E15*F15,0) -> 382879
A16: 72141510 | B16: 1,9,3 | C16: Desmonte de instalaciones eléctricas (Incluye Retiro de escombros en volqueta, cargue y transporte para botar fuera de las instalaciones del Sena) todo el material retirado será gestionado de acuerdo con las regulaciones ambientales locales, asegurando la disposición adecuada o reciclaje de los residuos. Se recomienda coordinar con personal y equipo especializado para garantizar la seguridad y eficiencia del trabajo. | D16: GLB | E16: 1 | F16: =+'1-APU ADEC BATERIA SANITARIA'!G330 -> 365501 | G16: =ROUND(E16*F16,0) -> 365501
A17: 72141511 | B17: 1,9,4 | C17: Excavación manual en material común, incluye manipulación y acopio en sitio autorizado . todo el material retirado será gestionado de acuerdo con las regulaciones ambientales locales, asegurando la disposición adecuada o reciclaje de los residuos. Se recomienda coordinar con personal y equipo especializado para garantizar la seguridad y eficiencia del trabajo. | D17: M3 | E17: 7 | F17: =+'1-APU ADEC BATERIA SANITARIA'!G360 -> 24215 | G17: =ROUND(E17*F17,0) -> 169505
A18: 72152509 | B18: 1,9,5 | C18: Relleno y compactación manual con material seleccionado proveniente de la excavación. El proceso incluye el trasiego del material y su instalación en capas no superiores a 0,10 m de espesor, garantizando que cada capa sea compactada manualmente para asegurar una correcta estabilidad del terreno. La compactación debe alcanzar, como mínimo, el 90% de la densidad máxima según el ensayo de próctor modificado. Se deberá utilizar material adecuado y seleccionado de la misma excavación, cumpliendo con las especificaciones técnicas exigidas para su uso. Todo el proceso debe ejecutarse bajo las normas técnicas vigentes y asegurando que el relleno final garantice las condiciones de soporte necesarias para las actividades subsiguientes. | D18: M3 | E18: 4 | F18: =+'1-APU ADEC BATERIA SANITARIA'!G389 -> 24291 | G18: =ROUND(E18*F18,0) -> 97164
A19: 72152509 | B19: 1,9,6 | C19: Relleno con material de limo amarillo o de relleno estructural. Incluye suministro e instalación de material, riego con capas no superiores a los 0,15 m, compactación mecánica con saltarín y control de nivelación de la superficie. La compactación debe alcanzar, como mínimo, el 90% de la densidad máxima según el ensayo de próctor modificado. Todo el proceso debe ejecutarse bajo las normas técnicas vigentes y asegurando que el relleno final garantice las condiciones de soporte necesarias para las actividades subsiguientes. | D19: M3 | E19: 6.5 | F19: =+'1-APU ADEC BATERIA SANITARIA'!G417 -> 62826 | G19: =ROUND(E19*F19,0) -> 408369
B20: 2 | C20: ADECUACIONES ESTRUCTURA EN CONCRETO Y MORTERO | H20: =SUM(G21:G27) -> 8953918
A21: 72151401 | B21: 2.1 | C21: Reposición de revoque en muros utilizando mortero 1:3; espesor de 0,03 m. Incluye adecuación utilizando malla con vena para corregir fisuras. Se deberá aplomar, escuadrar y nivelar donde sea necesario. Además, se debe garantizar un buen remate en los filos y bordes. Para asegurar la uniformidad de la superficie y bordes, se trabajará con plantilla adecuada. (suministro e instalación de todos los materiales). | D21: M2 | E21: 30 | F21: =+'1-APU ADEC BATERIA SANITARIA'!G449 -> 31981 | G21: =ROUND(E21*F21,0) -> 959430
A22: 72152703 | B22: 2.2 | C22: Reposición de pedestal en concreto reforzado de 3000 psi (210 kg/cm2) dimensiones de 0.20 m x 0.20 m, altura de 0,6 m. Se debe incorporar refuerzo con 4 varillas longitudinales de diámetro 1/2", las cuales deben estar ancladas a la viga de cimentación utilizando adhesivo epóxico para anclajes y para pega de concreto viejo con el nuevo, utilizar estribos para cortante de 3/8" cada 10 cm. (suministro e instalación de todos los materiales). | D22: UND | E22: 1 | F22: =+'1-APU ADEC BATERIA SANITARIA'!G479 -> 63279 | G22: =ROUND(E22*F22,0) -> 63279
A23: 72152703 | B23: 2.3 | C23: Reposición de mesón en concreto reforzado de 2.500 psi, con espesor de 0,1 m, ancho de 0,60 m y altura de 0,8 m. Se debe construir un entrepaño a 0,4 m de altura libre, con apoyos laterales fundidos en concreto. Todos los elementos de concreto deberán estar reforzados con acero de 1/2" a cada 0,1 m en ambas direcciones. Se deberá garantizar la nivelación y espesores uniformes de la placa superior y del entrepaño, así como los plomos en los apoyos laterales. La actividad incluye formaleta, desencofrante, y todos los materiales necesarios y herramientas para su correcta ejecución. (suministro e instalación de todos los materiales). (suministro e instalación de todos los materiales). | D23: ML | E23: 15.42 | F23: =+'1-APU ADEC BATERIA SANITARIA'!G510 -> 135677 | G23: =ROUND(E23*F23,0) -> 2092139
A24: 72152703 | B24: 2.4 | C24: Reposición de contrapiso en concreto de 3.000 psi, con espesor de 0,1 m. Incluye la conformación de la superficie previa a su fundición, garantizando el espesor mínimo especificado. Se deberá prever e instalar todas las tuberías o instalaciones necesarias (hidráulicas, sanitarias o eléctricas) antes de proceder con la fundición. Incluye malla electrosoldada grafil 4 mm @ 0,15 m en ambas direcciones; se debe garantizar ubicación al tercio de la altura desde la superficie superior. (suministro e instalación de todos los materiales). | D24: M2 | E24: 52 | F24: =+'1-APU ADEC BATERIA SANITARIA'!G537 -> 68702 | G24: =ROUND(E24*F24,0) -> 3572504
A25: 72152509 | B25: 2.5 | C25: Suministro e instalación de mortero de nivelación en proporción 1:3 con espesor mínimo de 0.04m. | D25: M2 | E25: 52 | F25: =+'1-APU ADEC BATERIA SANITARIA'!G569 -> 27818 | G25: =ROUND(E25*F25,0) -> 1446536
A26: 72152703 | B26: 2.6 | C26: Reposición de caja de inspección de 0.40 m x 0.40 m con altura variable entre 0.40 m y 0.70 m, construida en concreto de 3000 psi, con medidas interiores libres. Los muros tendrán un espesor de 0.10 m e incluirán refuerzo de acero de 3/8” con separación cada 0.10 m. La caja contará con cañuelas y una tapa de concreto con espesor de 0.10 m. Se incluye formaleta y todos los materiales y elementos necesarios para la correcta construcción y funcionamiento de la caja de inspección. (suministro e instalación de todos los materiales). | D26: UND | E26: 5 | F26: =+'1-APU ADEC BATERIA SANITARIA'!G592 -> 133766 | G26: =ROUND(E26*F26,0) -> 668830
A27: 72152703 | B27: 2.7 | C27: Reposición de caja de inspección de 0.50 m x 0.50 m con altura variable entre 0.50 m y 0.80 m, construida en concreto de 3000 psi, con medidas interiores libres. Los muros tendrán un espesor de 0.10 m e incluirán refuerzo de acero de 3/8” con separación cada 0.10 m. La caja contará con cañuelas y una tapa de concreto con espesor de 0.10 m. Se incluye formaleta y todos los materiales y elementos necesarios para la correcta construcción y funcionamiento de la caja de inspección. (suministro e instalación de todos los materiales). | D27: UND | E27: 1 | F27: =+'1-APU ADEC BATERIA SANITARIA'!G620 -> 151200 | G27: =ROUND(E27*F27,0) -> 151200
B28: 3 | C28: ADECUACIONES HIDRAULICAS Y SANITARIAS | H28: =SUM(G29:G43) -> 15158768
A29: 72151906 | B29: 3.1 | C29: Reubicación de punto hidráulico con tubería de PVC presión 1/2" RDE 21 para el servicio de dos lavamanos. La actividad incluye la instalación de accesorios y tubería adicional de 1/2" para asegurar su correcto funcionamiento. Además, se suministrará y utilizará limpiador, soldadura de PVC y todos los accesorios necesarios para la correcta instalación y puesta en funcionamiento del sistema. (suministro e instalación de todos los materiales). | D29: UND | E29: 10 | F29: =+'1-APU ADEC BATERIA SANITARIA'!G648 -> 32517 | G29: =ROUND(E29*F29,0) -> 325170
A30: 72151906 | B30: 3.2 | C30: Reubicación de punto hidráulico con tubería de PVC presión 1" RDE 21 para el servicio de dos lavamanos. La actividad incluye la instalación de accesorios y tubería adicional de 1" para asegurar su correcto funcionamiento. Además, se suministrará y utilizará limpiador, soldadura de PVC y todos los accesorios necesarios para la correcta instalación y puesta en funcionamiento del sistema. (suministro e instalación de todos los materiales). | D30: UND | E30: 4 | F30: =+'1-APU ADEC BATERIA SANITARIA'!G679 -> 32984 | G30: =ROUND(E30*F30,0) -> 131936
A31: 72151906 | B31: 3.3 | C31: Reposición de tubería PVC presión de 1/2", que incluye todos los accesorios, limpiador y soldadura necesarios para su instalación. La actividad contempla la realización de regatas y los resanes y/o reparaciones pertinentes, garantizando que el acabado final en la zona afectada sea del mismo tipo, con materiales de calidad igual o superior a los existentes, y en colores y modelos similares. (suministro e instalación de todos los materiales). | D31: ML | E31: 27 | F31: =+'1-APU ADEC BATERIA SANITARIA'!G709 -> 4293 | G31: =ROUND(E31*F31,0) -> 115911
A32: 72151906 | B32: 3.4 | C32: Reposición de tubería PVC presión de 1" incluye accesorios, limpiador y soldadura, regatas, resanes y/o reparaciones garantizando el mismo tipo de acabado de la zona afectada, con materiales de la misma calidad o superiores a los existentes y en colores y modelos similares. (suministro e instalación de todos los materiales). | D32: ML | E32: 29.8 | F32: =+'1-APU ADEC BATERIA SANITARIA'!G735 -> 7944 | G32: =ROUND(E32*F32,0) -> 236731
A33: 72151906 | B33: 3.5 | C33: Reposición de tubería PVC presión de 1 1/4" incluye accesorios, limpiador y soldadura, regatas, resanes y/o reparaciones garantizando el mismo tipo de acabado de la zona afectada, con materiales de la misma calidad o superiores a los existentes y en colores y modelos similares. (suministro e instalación de todos los materiales). | D33: ML | E33: 12 | F33: =+'1-APU ADEC BATERIA SANITARIA'!G762 -> 13089 | G33: =ROUND(E33*F33,0) -> 157068
A34: 72151906 | B34: 3.6 | C34: Reposición de Llave de paso 1". Incluye accesorios, limpiador y soldadura, regatas, resanes y/o reparaciones garantizando el mismo tipo de acabado de la zona afectada, con materiales de la misma calidad o superiores a los existentes y en colores y modelos similares. (suministro e instalación de todos los materiales). | D34: UND | E34: 3 | F34: =+'1-APU ADEC BATERIA SANITARIA'!G789 -> 224196 | G34: =ROUND(E34*F34,0) -> 672588
A35: 72151906 | B35: 3.7 | C35: Reubicación de punto Sanitario de 2". La actividad incluye la instalación de accesorios y tubería adicional de 2" (hasta 1 m), para asegurar su correcto funcionamiento. Además, se suministrará y utilizará limpiador, soldadura de PVC y todos los accesorios necesarios para la correcta instalación y puesta en funcionamiento del sistema sanitario. (suministro e instalación de todos los materiales). | D35: UND | E35: 6 | F35: =+'1-APU ADEC BATERIA SANITARIA'!G817 -> 39517 | G35: =ROUND(E35*F35,0) -> 237102
A36: 72151906 | B36: 3.8 | C36: Reposición de tubería sanitaria de 2". Incluye accesorios, limpiador y soldadura, regatas, resanes y/o reparaciones garantizando el mismo tipo de acabado de la zona afectada, con materiales de la misma calidad o superiores a los existentes y en colores y modelos similares. (suministro e instalación de todos los materiales). | D36: ML | E36: 21.9 | F36: =+'1-APU ADEC BATERIA SANITARIA'!G846 -> 19027 | G36: =ROUND(E36*F36,0) -> 416691
A37: 72151906 | B37: 3.9 | C37: Reposición de tubería sanitaria de 3". Incluye accesorios, limpiador y soldadura, regatas, resanes y/o reparaciones garantizando el mismo tipo de acabado de la zona afectada, con materiales de la misma calidad o superiores a los existentes y en colores y modelos similares. (suministro e instalación de todos los materiales). | D37: ML | E37: 2 | F37: =+'1-APU ADEC BATERIA SANITARIA'!G876 -> 20799 | G37: =ROUND(E37*F37,0) -> 41598
A38: 72151906 | B38: 3,9,1 | C38: Reposición de tubería sanitaria de 4". Incluye accesorios, limpiador y soldadura, regatas, resanes y/o reparaciones garantizando el mismo tipo de acabado de la zona afectada, con materiales de la misma calidad o superiores a los existentes y en colores y modelos similares. (suministro e instalación de todos los materiales). | D38: ML | E38: 28.3 | F38: =+'1-APU ADEC BATERIA SANITARIA'!G905 -> 27378 | G38: =ROUND(E38*F38,0) -> 774797
A39: 72151906 | B39: 3,9,2 | C39: Reubicación de punto sanitario de 2”, que incluye la instalación de tubería adicional de 2" (hasta 1 m), suministro e instalación de rejilla con soporto de reducción de 3” a 2”, sifón de 2”, limpiador, soldadura de PVC, y todos los accesorios y elementos necesarios para asegurar la correcta instalación y puesta en funcionamiento del sistema sanitario. (suministro e instalación de todos los materiales). | D39: UND | E39: 4 | F39: =+'1-APU ADEC BATERIA SANITARIA'!G934 -> 47597 | G39: =ROUND(E39*F39,0) -> 190388
A40: 72151906 | B40: 3,9,3 | C40: Reubicación de punto sanitario de 3”, que incluye la instalación de tubería adicional de 3" (hasta 1 m), suministro e instalación de rejilla con soporto de reducción de 4” a 3”, sifón de 3”, limpiador, soldadura de PVC, y todos los accesorios y elementos necesarios para asegurar la correcta instalación y puesta en funcionamiento del sistema sanitario. (suministro e instalación de todos los materiales). | D40: UND | E40: 2 | F40: =+'1-APU ADEC BATERIA SANITARIA'!G963 -> 67497 | G40: =ROUND(E40*F40,0) -> 134994
A41: 72151906 | B41: 3,9,4 | C41: Reposición de ducha regadera en acero inoxidable efecto espejo, acabado brillante. Incluye tubo metálico con acabado en Cromo de brazo 30cm, con racor de enrosque en bronce. Diseño con bordes ultradelgados con chorro tipo lluvia. (suministro e instalación de todos los materiales). | D41: UND | E41: 4 | F41: =+'1-APU ADEC BATERIA SANITARIA'!G992 -> 277314 | G41: =ROUND(E41*F41,0) -> 1109256
...

Sheet 1-APU ADEC BATERIA SANITARIA
A1: APU ADECUACIONES Y MEJORAS DE BATERIAS SANITARIAS CASA DE PASO CENTRO AGROPECUARIO REGIONAL CAUCA
A3: ITEM | B3: DESCRIPCION | F3: UNIDAD | G3: VALOR
A4: 1.1 | B4: =+#REF! -> #REF! | F4: =+#REF! -> #REF! | G4: =G30 -> 20872
A6: I.-MATERIALES
A7: Nombre | D7: Unidad | E7: Valor Unitario | F7: Cantidad | G7: Vr.Parcial
F13: Sub-total Mat. | G13: =G8+G9+G10+G11+G12 -> 0
A15: 2.-EQUIPOS Y HERRAMIENTA
A16: Nombre | D16: Unidad | E16: Valor | F16: Rendimiento | G16: Vr.Parcial
A17: herramienta menor | D17: 5% M.O. | E17: =+G27 -> 13478 | F17: 0.05 | G17: =ROUNDUP(E17*F17,0) -> 674
A18: volqueta capacidad de 6 m3, con disposicion de escombros en lugar certificado | D18: viaje | E18: 210000 | F18: 0.032 | G18: =ROUNDUP(E18*F18,0) -> 6720
F21: Sub-total Equ. | G21: =G17+G18 -> 7394
A23: 3.-MANO DE OBRA
A24: DESCRIPCION | B24: JORNAL | C24: PRESTAC | D24: TARIFA/H CON PRESTACIONES | E24: RENDIMIENTO | F24: VR.UNITARIO
A25: Oficial de ObraY | B25: 107213.33 | C25: 0.875 | D25: 25128.125 | E25: 2.712 | F25: =ROUNDUP(D25/E25,0) -> 9266
A26: Ayudante de Obra | B26: 48733.333 | C26: 0.875 | D26: 11421.875 | E26: 2.712 | F26: =ROUNDUP(D26/E26,0) -> 4212
F27: Sub-total MdeO | G27: =F25+F26 -> 13478
E30: COSTO DIRECTO APU | G30: =G13+G21+G27 -> 20872
A34: ITEM | B34: DESCRIPCION | F34: UNIDAD | G34: VALOR
A35: =+#REF! -> #REF! | B35: =+#REF! -> #REF! | F35: =+#REF! -> #REF! | G35: =G61 -> 25208
A37: I.-MATERIALES
A38: Nombre | D38: Unidad | E38: Valor Unitario | F38: Cantidad | G38: Vr.Parcial
F44: Sub-total Mat. | G44: =G39+G40+G41+G42+G43 -> 0
A46: 2.-EQUIPOS Y HERRAMIENTA
A47: Nombre | D47: Unidad | E47: Valor | F47: Rendimiento | G47: Vr.Parcial
A48: herramienta menor | D48: 5% M.O. | E48: =G58 -> 21007 | F48: 0.05 | G48: =ROUNDUP(E48*F48,0) -> 1051
A49: volqueta capacidad de 6 m3, con disposicion de escombros en lugar certificado | D49: viaje | E49: 210000 | F49: 0.015 | G49: =ROUNDUP(E49*F49,0) -> 3150
F52: Sub-total Equ. | G52: =SUM(G48:G51) -> 4201
A54: 3.-MANO DE OBRA
A55: DESCRIPCION | B55: JORNAL | C55: PRESTAC | D55: TARIFA/H CON PRESTACIONES | E55: RENDIMIENTO | F55: VR.UNITARIO
A56: Oficial de Obra | B56: 107213.33 | C56: 0.875 | D56: 25128.125 | E56: 1.74 | F56: =ROUNDUP(D56/E56,0) -> 14442
A57: Ayudante de Obra | B57: 48733.333 | C57: 0.875 | D57: 11421.875 | E57: 1.74 | F57: =ROUNDUP(D57/E57,0) -> 6565
F58: Sub-total MdeO | G58: =F56+F57 -> 21007
E61: COSTO DIRECTO APU | G61: =G44+G52+G58 -> 25208
A65: ITEM | B65: DESCRIPCION | F65: UNIDAD | G65: VALOR
A66: =+#REF! -> #REF! | B66: =+#REF! -> #REF! | F66: =+#REF! -> #REF! | G66: =G92 -> 11187
A68: I.-MATERIALES
A69: Nombre | D69: Unidad | E69: Valor Unitario | F69: Cantidad | G69: Vr.Parcial
F75: Sub-total Mat. | G75: =G70+G71+G72+G73+G74 -> 0
A77: 2.-EQUIPOS Y HERRAMIENTA
A78: Nombre | D78: Unidad | E78: Valor | F78: Rendimiento | G78: Vr.Parcial
...

Sheet 2-APU ADEC CUBIERTAS
A1: APUS CUBIERTAS
A3: ITEM | B3: DESCRIPCION | F3: UNIDAD | G3: VALOR
A4: 1,1-2,2 | B4: =+#REF! -> #REF! | F4: =+#REF! -> #REF! | G4: =+G31 -> 17030
A7: I.-MATERIALES
A8: Nombre | D8: Unidad | E8: Valor Unitario | F8: Cantidad | G8: Vr.Parcial
F12: Subtotal Mat. | G12: =G9+G10+G11 -> 0
A15: 2.-EQUIPOS Y HERRAMIENTA
A16: Nombre | D16: Unidad | E16: Valor | F16: Rendimiento | G16: Vr.Parcial
A17: herramienta menor | D17: 5% M.O. | E17: =+G27 -> 13365 | F17: 0.05 | G17: =ROUNDUP(E17*F17,0) -> 669
A18: Andamio tubular sección completa | D18: d | E18: 28000 | F18: 0.017 | G18: =+E18*F18 -> 476
A19: volqueta capacidad de 6 m3, con disposición de escombros en lugar certificado | D19: viaje | E19: 210000 | F19: 0.012 | G19: =E19*F19 -> 2520
F20: Subtotal Equ. | G20: =G17+G18+G19 -> 3665
A23: 3.-MANO DE OBRA
A24: DESCRIPCION | B24: JORNAL | C24: PRESTAC | D24: TARIFA/H CON PRESTACIONES | E24: RENDIMIENTO | F24: VR.UNITARIO
A25: Oficial de ObraY | B25: 107213.33 | C25: 0.875 | D25: 25128.125 | E25: 2.735 | F25: =ROUNDUP(D25/E25,0) -> 9188
A26: Ayudante de Obra | B26: 48733.333 | C26: 0.875 | D26: 11421.875 | E26: 2.735 | F26: =ROUNDUP(D26/E26,0) -> 4177
F27: Subtotal MdeO | G27: =F25+F26 -> 13365
E31: COSTO DIRECTO APU | G31: =G12+G20+G27 -> 17030
A35: ITEM | B35: DESCRIPCION | F35: UNIDAD | G35: VALOR
A36: 1,2- | B36: =+#REF! -> #REF! | F36: =+#REF! -> #REF! | G36: =+G63 -> 19876
A39: I.-MATERIALES
A40: Nombre | D40: Unidad | E40: Valor Unitario | F40: Cantidad | G40: Vr.Parcial
F44: Subtotal Mat. | G44: =G41+G42+G43 -> 0
A47: 2.-EQUIPOS Y HERRAMIENTA
A48: Nombre | D48: Unidad | E48: Valor | F48: Rendimiento | G48: Vr.Parcial
A49: herramienta menor | D49: 5% M.O. | E49: =+G59 -> 17136 | F49: 0.05 | G49: =ROUNDUP(E49*F49,0) -> 857
A50: Andamio tubular sección completa | D50: d | E50: 28000 | F50: 0.017 | G50: =ROUNDUP(E50*F50,0) -> 476
A51: volqueta capacidad de 6 m3, con disposición de escombros en lugar certificado | D51: viaje | E51: 210000 | F51: 0.0067 | G51: =ROUNDUP(E51*F51,0) -> 1407
F52: Subtotal Equ. | G52: =G49+G50+G51 -> 2740
A55: 3.-MANO DE OBRA
A56: DESCRIPCION | B56: JORNAL | C56: PRESTAC | D56: TARIFA/H CON PRESTACIONES | E56: RENDIMIENTO | F56: VR.UNITARIO
A57: Oficial de Obra | B57: 107213.33 | C57: 0.875 | D57: 25128.125 | E57: 2.133 | F57: =ROUNDUP(D57/E57,0) -> 11781
A58: Ayudante de Obra | B58: 48733.333 | C58: 0.875 | D58: 11421.875 | E58: 2.133 | F58: =ROUNDUP(D58/E58,0) -> 5355
F59: Subtotal MdeO | G59: =F57+F58 -> 17136
E63: COSTO DIRECTO APU | G63: =G44+G52+G59 -> 19876
A65: ITEM | B65: DESCRIPCION | F65: UNIDAD | G65: VALOR
A66: 1,3- | B66: =+#REF! -> #REF! | F66: =+#REF! -> #REF! | G66: =+G93 -> 19722
A69: I.-MATERIALES
A70: Nombre | D70: Unidad | E70: Valor Unitario | F70: Cantidad | G70: Vr.Parcial
F74: Subtotal Mat. | G74: =G71+G72+G73 -> 0
...

Sheet 3-APU ADE AM+RECRE
A1: ITEM | B1: DESCRIPCION | F1: UNIDAD | G1: VALOR
A2: =+#REF! -> #REF! | B2: =+PRESUPUESTO!C162 -> Demolición baldosín cerámico, mortero de nivelación y primario -(Incluye Retiro de escombros en volqueta, cargue y transporte para botar fuera de las instalaciones del Sena ),todo el material retirado será gestionado de acuerdo con las regulaciones ambientales locales, asegurando la disposición adecuada o reciclaje de los residuos. Se recomienda coordinar con personal y equipo especializado para garantizar la seguridad y eficiencia del trabajo. | F2: =+#REF! -> #REF! | G2: =ROUND(G27,2) -> 32271
A4: I.-MATERIALES
A5: Nombre | D5: Unidad | E5: Valor Unitario | F5: Cantidad | G5: Vr.Parcial
F11: Sub-total Mat. | G11: =G6+G7+G8+G9+G10 -> 0
A13: 2.-EQUIPOS Y HERRAMIENTA
A14: Nombre | D14: Unidad | E14: Valor | F14: Rendimiento | G14: Vr.Parcial
A15: herramienta menor | D15: 5% M.O. | E15: =G24 -> 23134 | F15: 0.05 | G15: =ROUNDUP(E15*F15,0) -> 1157
A16: volqueta capacidad de 6 m3, con disposicion de escombros en lugar certificado | D16: viaje | E16: 210000 | F16: 0.038 | G16: =ROUNDUP(E16*F16,0) -> 7980
F18: Sub-total Equ. | G18: =G15+G16+G17 -> 9137
A20: 3.-MANO DE OBRA
A21: DESCRIPCION | B21: JORNAL | C21: PRESTAC | D21: TARIFA/H | E21: RENDIMIENTO | F21: VR.UNITARIO
A22: Oficial de Obra | B22: 107213.33 | C22: 0.875 | D22: 25128.125 | E22: 1.58 | F22: =ROUNDUP(D22/E22,0) -> 15904
A23: Ayudante de Obra | B23: 48733.333 | C23: 0.875 | D23: 11421.875 | E23: 1.58 | F23: =ROUNDUP(D23/E23,0) -> 7230
F24: Sub-total MdeO | G24: =F22+F23 -> 23134
E27: COSTO DIRECTO APU | G27: =G11+G18+G24 -> 32271
A30: ITEM | B30: DESCRIPCION | F30: UNIDAD | G30: VALOR
A31: =+#REF! -> #REF! | B31: =+#REF! -> #REF! | F31: =+#REF! -> #REF! | G31: =ROUND(G56,2) -> 12880
A33: I.-MATERIALES
A34: Nombre | D34: Unidad | E34: Valor Unitario | F34: Cantidad | G34: Vr.Parcial
F40: Sub-total Mat. | G40: =G35+G36+G37+G38+G39 -> 0
A42: 2.-EQUIPOS Y HERRAMIENTA
A43: Nombre | D43: Unidad | E43: Valor | F43: Rendimiento | G43: Vr.Parcial
A44: herramienta menor | D44: 5% M.O. | E44: =+G53 -> 12266 | F44: 0.05 | G44: =ROUNDUP(E44*F44,0) -> 614
F47: Sub-total Equ. | G47: =G44+G45+G46 -> 614
A49: 3.-MANO DE OBRA
A50: DESCRIPCION | B50: JORNAL | C50: PRESTAC | D50: TARIFA/H | E50: RENDIMIENTO | F50: VR.UNITARIO
A51: Oficial de Obra | B51: 107213.33 | C51: 0.875 | D51: 25128.125 | E51: 2.98 | F51: =ROUNDUP(D51/E51,0) -> 8433
A52: Ayudante de Obra | B52: 48733.333 | C52: 0.875 | D52: 11421.875 | E52: 2.98 | F52: =ROUNDUP(D52/E52,0) -> 3833
F53: Sub-total MdeO | G53: =F51+F52 -> 12266
E56: COSTO DIRECTO APU | G56: =G40+G47+G53 -> 12880
A59: ITEM | B59: DESCRIPCION | F59: UNIDAD | G59: VALOR
A60: =+#REF! -> #REF! | B60: =+#REF! -> #REF! | F60: =+#REF! -> #REF! | G60: =+G85 -> 88674
A62: I.-MATERIALES
A63: Nombre | D63: Unidad | E63: Valor Unitario | F63: Cantidad | G63: Vr.Parcial
F69: Sub-total Mat. | G69: =G64+G65+G66+G67+G68 -> 0
A71: 2.-EQUIPOS Y HERRAMIENTA
A72: Nombre | D72: Unidad | E72: Valor | F72: Rendimiento | G72: Vr.Parcial
A73: herramienta menor | D73: 5% M.O. | E73: =+G82 -> 84451 | F73: 0.05 | G73: =ROUNDUP(E73*F73,0) -> 4223
F76: Sub-total Equ. | G76: =G73+G74+G75 -> 4223
...
