Workbook

Sheet CALCULO INICIAL 2
A1: No | B1: PROVEEDOR | C1: NIT | D1: OBSERVACION | E1: ACTIVO CORRIENTE | F1: PASIVO CORRIENTE | G1: ACTIVO TOTAL | H1: PASIVO TOTAL | I1: PATRIMONIO TOTAL | J1: UTILIDAD OPERACIONAL | K1: GASTOS DE INTERESES | L1: INGRESOS ACTIVIDADES ORDINARIAS | M1: CODIGO UNSPSC | N1: FILTRO. SECTOR | O1: FUENTE DE INFORMACION | P1: CORTE INFORMAC. FINANCIERA | Q1: ACTIVIDAD RESOLUCION 2225-2019 | R1: MIPYMES | S1: RANGO MIPYME INGRESOS 2022 $ EN (UVT ) | T1: CLASIFICACION DECRETO 957 DE 2019 | U1: CLASIFICACION RUP | V1: CERTIFICADO DE EXISTENCIA Y REP LEGAL | X1: ACTIVO TOTAL MENOS PATRIMONIO = PASIVO TOTAL | Y1: CAPITAL DE TRABAJO =ACTIVO CTE - PASIVO CTE PASIVO TOTAL | Z1: PATRIMONIO = ACTIVO TOTAL MENOS PASIVO TOTAL | AA1: PASIVO TOTAL RUES | AB1: RUES R. PATRIMONIO | AD1: LIQUIDEZ | AE1: ENDEUDAMIENTO | AF1: COBERTURA DE INTERESES | AG1: RENTABILIDAD PATRIMONIO | AH1: RENTABILIDAD ACTIVO
A2: 1 | B2: MONTAJES Y CONSTRUCCIONES FERMAR S.A.S | C2: 800143273 | D2: SI RUP | E2: 39414690882 | F2: 2799974091 | G2: 48467746992 | H2: 17400757731 | I2: 31066989261 | J2: 17356088050 | K2: 1377601410 | L2: 144429162672 | M2: 77101600 | N2: PLANEACIÓN AMBIENTAL | O2: RUES | P2: 45291 | Q2: RSS | R2: =IF(S2<=483034,"SI","NO") -> NO | S2: =L2/$C$32 -> 3434537.3 | T2: =IF(S2<=32988,"MICROEMPRESA",IF(S2<=131951,"PEQUEÑA EMPRESA",IF(S2<=483034,"MEDIANA EMPRESA",IF(S2>483034,"GRAN EMPRESA")))) -> GRAN EMPRESA | U2: GRAN EMPRESA | V2: GRAN EMPRESA | Z2: =G2-H2 -> 31066989261 | AD2: =E2/F2 -> 14.076806 | AE2: =H2/G2 -> 0.35901726 | AF2: =J2/K2 -> 12.598773 | AG2: =J2/I2 -> 0.55866656 | AH2: =J2/G2 -> 0.35809562
A3: 2 | B3: SOFORESTA S.A.S. | C3: 800143610 | D3: SI RUP | E3: 12211452043 | F3: 3733560900 | G3: 27742301191 | H3: 11288777843 | I3: 16453523348 | J3: 4380488759 | K3: 775315429 | L3: 37496348473 | M3: 77101600 | N3: PLANEACIÓN AMBIENTAL | O3: RUES | P3: 45291 | Q3: RSS | R3: =IF(S3<=483034,"SI","NO") -> NO | S3: =L3/$C$32 -> 891666.23 | T3: =IF(S3<=32988,"MICROEMPRESA",IF(S3<=131951,"PEQUEÑA EMPRESA",IF(S3<=483034,"MEDIANA EMPRESA",IF(S3>483034,"GRAN EMPRESA")))) -> GRAN EMPRESA | U3: GRAN EMPRESA | V3: GRAN EMPRESA | X3: =+#REF!-#REF! -> #REF! | Y3: =+#REF!-#REF! -> #REF! | Z3: =G3-H3 -> 16453523348 | AD3: =E3/F3 -> 3.2707253 | AE3: =H3/G3 -> 0.4069157 | AF3: =J3/K3 -> 5.649944 | AG3: =J3/I3 -> 0.26623409 | AH3: =J3/G3 -> 0.15789926
A4: 3 | B4: AZUL URBANO LIMITADA | C4: 800146310 | D4: SI RUP | E4: 8017692187 | F4: 444677339 | G4: 8372491859 | H4: 6106962734 | I4: 2265529125 | J4: 98000366 | K4: 28819856 | L4: 3813714813 | M4: 77101600 | N4: PLANEACIÓN AMBIENTAL | O4: RUES | P4: 45291 | Q4: RSS | R4: =IF(S4<=483034,"SI","NO") -> SI | S4: =L4/$C$32 -> 90690.45 | T4: =IF(S4<=32988,"MICROEMPRESA",IF(S4<=131951,"PEQUEÑA EMPRESA",IF(S4<=483034,"MEDIANA EMPRESA",IF(S4>483034,"GRAN EMPRESA")))) -> PEQUEÑA EMPRESA | U4: PEQUEÑA EMPRESA | V4: PEQUEÑA EMPRESA | X4: =#REF!-#REF! -> #REF! | Y4: =+#REF!-#REF! -> #REF! | Z4: =G4-H4 -> 2265529125 | AD4: =E4/F4 -> 18.030359 | AE4: =H4/G4 -> 0.72940802 | AF4: =J4/K4 -> 3.4004461 | AG4: =J4/I4 -> 0.043257164 | AH4: =J4/G4 -> 0.011705042
A5: 4 | B5: C.I. HIDRO GEO S.A.S. | C5: 800174121 | D5: SI RUP | E5: 1576919821 | F5: 59315203 | G5: 1676213679 | H5: 682408278 | I5: 993805401 | J5: 97791579 | K5: 249164 | L5: 1112332186 | M5: 81101500 | N5: INGENIERÍA CIVIL | O5: RUES | P5: 45291 | Q5: RSS | R5: =IF(S5<=483034,"SI","NO") -> SI | S5: =L5/$C$32 -> 26451.35 | T5: MICROEMPRESA | U5: MICROEMPRESA | V5: MICROEMPRESA | X5: =+#REF!-#REF! -> #REF! | Y5: =+#REF!-#REF! -> #REF! | Z5: =G5-H5 -> 993805401 | AD5: =E5/F5 -> 26.585424 | AE5: =H5/G5 -> 0.40711294 | AF5: =J5/K5 -> 392.47876 | AG5: =J5/I5 -> 0.098401135 | AH5: =J5/G5 -> 0.058340759
A6: 5 | B6: DESARROLLAMOS INGENIERIA S.A.S. | C6: 800254539 | D6: SI RUP | E6: 4220409785 | F6: 1844946200 | G6: 5820229847 | H6: 1851177485 | I6: 3969052362 | J6: 907660945 | K6: 53385663 | L6: 13347120206 | M6: 81101500 | N6: INGENIERÍA CIVIL | O6: RUES | P6: 45291 | Q6: RSS | R6: =IF(S6<=483034,"SI","NO") -> SI | S6: =L6/$C$32 -> 317395.61 | T6: MEDIANA EMPRESA | U6: MEDIANA EMPRESA | V6: MEDIANA EMPRESA | X6: =+#REF!-#REF! -> #REF! | Y6: =+#REF!-#REF! -> #REF! | Z6: =G6-H6 -> 3969052362 | AD6: =E6/F6 -> 2.2875517 | AE6: =H6/G6 -> 0.31805917 | AF6: =J6/K6 -> 17.001961 | AG6: =J6/I6 -> 0.22868455 | AH6: =J6/G6 -> 0.15594933
A7: 6 | B7: ETEL LTDA EN REORGANIZACION | C7: 800256848 | D7: SI RUP | E7: 13365875287 | F7: 6004596505 | G7: 14042100287 | H7: 9551737187 | I7: 4490363100 | J7: 982256908 | K7: 85726331 | L7: 9005153018 | M7: 81101500 | N7: INGENIERÍA CIVIL | O7: RUES | P7: 45291 | Q7: RSS | R7: =IF(S7<=483034,"SI","NO") -> SI | S7: =L7/$C$32 -> 214143.28 | T7: MEDIANA EMPRESA | U7: PEQUEÑA EMPRESA | V7: PEQUEÑA EMPRESA | X7: =+#REF!-#REF! -> #REF! | Y7: =+#REF!-#REF! -> #REF! | Z7: =G7-H7 -> 4490363100 | AD7: =E7/F7 -> 2.2259406 | AE7: =H7/G7 -> 0.68022141 | AF7: =J7/K7 -> 11.458054 | AG7: =J7/I7 -> 0.21874777 | AH7: =J7/G7 -> 0.069950854
A8: 7 | B8: NEW GAS AND OIL S.A.S | C8: 804006097 | D8: SI RUP | E8: 2922048000 | F8: 740456000 | G8: 4577499000 | H8: 740456000 | I8: 3837043000 | J8: 236952000 | K8: 2339000 | L8: 500000000 | M8: 81101500 | N8: INGENIERÍA CIVIL | O8: RUES | P8: 45291 | Q8: RSS | R8: =IF(S8<=483034,"SI","NO") -> SI | S8: =L8/$C$32 -> 11890.041 | T8: MICROEMPRESA | U8: MICROEMPRESA | V8: MICROEMPRESA | X8: =+#REF!-#REF! -> #REF! | Y8: =+#REF!-#REF! -> #REF! | Z8: =G8-H8 -> 3837043000 | AD8: =E8/F8 -> 3.9462818 | AE8: =H8/G8 -> 0.16175995 | AF8: =J8/K8 -> 101.30483 | AG8: =J8/I8 -> 0.061753804 | AH8: =J8/G8 -> 0.051764512
A9: 8 | B9: INGENIERÍA Y CONSTRUCCIÓN PALACIO BAENA S.A.S. | C9: 811015828 | D9: SI RUP | E9: 4457604105 | F9: 804679616 | G9: 4464618305 | H9: 1260419362 | I9: 3204198943 | J9: 459220023 | K9: 62607 | L9: 7559485187 | M9: 81101500 | N9: INGENIERÍA CIVIL | O9: RUES | P9: 45291 | Q9: RSS | R9: =IF(S9<=483034,"SI","NO") -> SI | S9: =L9/$C$32 -> 179765.18 | T9: MEDIANA EMPRESA | U9: MEDIANA EMPRESA | V9: MEDIANA EMPRESA | X9: =+#REF!-#REF! -> #REF! | Y9: =+#REF!-#REF! -> #REF! | Z9: =G9-H9 -> 3204198943 | AD9: =E9/F9 -> 5.5396011 | AE9: =H9/G9 -> 0.2823129 | AF9: =J9/K9 -> 7334.9629 | AG9: =J9/I9 -> 0.1433182 | AH9: =J9/G9 -> 0.10285762
A10: 9 | B10: O R INGENIERIA S A S | C10: 830060337 | D10: SI RUP | E10: 5786155252 | F10: 18769065 | G10: 8118397633 | H10: 3383683898 | I10: 4734713735 | J10: 276997384 | K10: 28552952 | L10: 6069203205 | M10: 81101500 | N10: INGENIERÍA CIVIL | O10: RUES | P10: 45291 | Q10: RSS | R10: =IF(S10<=483034,"SI","NO") -> SI | S10: =L10/$C$32 -> 144326.15 | T10: MEDIANA EMPRESA | U10: MEDIANA EMPRESA | V10: MEDIANA EMPRESA | X10: =+#REF!-#REF! -> #REF! | Y10: =+#REF!-#REF! -> #REF! | Z10: =G10-H10 -> 4734713735 | AD10: =E10/F10 -> 308.28149 | AE10: =H10/G10 -> 0.41679209 | AF10: =J10/K10 -> 9.701182 | AG10: =J10/I10 -> 0.058503512 | AH10: =J10/G10 -> 0.034119711
A11: 10 | B11: G63 INFRAESTRUCTURA Y SERVICIOS S.A.S | C11: 900462686 | D11: SI RUP | E11: 7033771586 | F11: 354322660 | G11: 7301771715 | H11: 1622322660 | I11: 5679449055 | J11: 455851068 | K11: 111252724 | L11: 2608958343 | M11: 81101500 | N11: INGENIERÍA CIVIL | O11: RUES | P11: 45291 | Q11: RSS | R11: =IF(S11<=483034,"SI","NO") -> SI | S11: =L11/$C$32 -> 62041.243 | T11: PEQUEÑA EMPRESA | U11: PEQUEÑA EMPRESA | V11: PEQUEÑA EMPRESA | X11: =+#REF!-#REF! -> #REF! | Y11: =+#REF!-#REF! -> #REF! | Z11: =G11-H11 -> 5679449055 | AD11: =E11/F11 -> 19.851317 | AE11: =H11/G11 -> 0.22218206 | AF11: =J11/K11 -> 4.0974374 | AG11: =J11/I11 -> 0.080263255 | AH11: =J11/G11 -> 0.0624302
A12: 11 | B12: INGENIERIA JOULES M. E. C. S.A.S. | C12: 800196467 | D12: SI RUP | E12: 27032499804 | F12: 6395228860 | G12: 49279486809 | H12: 12300267323 | I12: 36979219486 | J12: 9327753224 | K12: 484734147 | L12: 70510706406 | M12: 81101500 | N12: INGENIERÍA CIVIL | O12: RUES | P12: 45291 | Q12: RSS | R12: =IF(S12<=483034,"SI","NO") -> NO | S12: =L12/$C$32 -> 1676750.4 | T12: GRAN EMPRESA | U12: GRAN EMPRESA | V12: GRAN EMPRESA | X12: =+#REF!-#REF! -> #REF! | Y12: =+#REF!-#REF! -> #REF! | Z12: =G12-H12 -> 36979219486 | AD12: =E12/F12 -> 4.2269793 | AE12: =H12/G12 -> 0.24960218 | AF12: =J12/K12 -> 19.243029 | AG12: =J12/I12 -> 0.25224311 | AH12: =J12/G12 -> 0.18928268
A13: 12 | B13: CONSTRUCCIONES AL DIA SAS | C13: 800198324 | D13: SI RUP | E13: 17179765402 | F13: 3039893442 | G13: 27644494607 | H13: 10305363350 | I13: 17339131257 | J13: 9236043657 | K13: 2043841990 | L13: 79461436245 | M13: 81101500 | N13: INGENIERÍA CIVIL | O13: RUES | P13: 45291 | Q13: RSS | R13: =IF(S13<=483034,"SI","NO") -> NO | S13: =L13/$C$32 -> 1889599.5 | T13: GRAN EMPRESA | U13: GRAN EMPRESA | V13: GRAN EMPRESA | Z13: =G13-H13 -> 17339131257 | AD13: =E13/F13 -> 5.6514367 | AE13: =H13/G13 -> 0.37278176 | AF13: =J13/K13 -> 4.5189617 | AG13: =J13/I13 -> 0.5326705 | AH13: =J13/G13 -> 0.33410065
A14: 13 | B14: GRUCON S.A.S. | C14: 800203342 | D14: SI RUP | E14: 14472403504 | F14: 3284885640 | G14: 14993414722 | H14: 5643633622 | I14: 9349781100 | J14: 3225374041 | K14: 111806392 | L14: 33134409801 | M14: 81101500 | N14: INGENIERÍA CIVIL | O14: RUES | P14: 45291 | Q14: RSS | R14: =IF(S14<=483034,"SI","NO") -> NO | S14: =L14/$C$32 -> 787938.98 | T14: GRAN EMPRESA | U14: GRAN EMPRESA | V14: GRAN EMPRESA | X14: =+#REF!-#REF! -> #REF! | Y14: =+#REF!-#REF! -> #REF! | Z14: =G14-H14 -> 9349781100 | AD14: =E14/F14 -> 4.4057557 | AE14: =H14/G14 -> 0.37640749 | AF14: =J14/K14 -> 28.84785 | AG14: =J14/I14 -> 0.34496787 | AH14: =J14/G14 -> 0.21511938
A15: 14 | B15: ANDEAN GEOLOGICAL SERVICES LIMITADA A.G.S. | C15: 800185395 | D15: SI RUP | E15: 2662238091 | F15: 292609846 | G15: 2866552218 | H15: 1012481642 | I15: 1854070576 | J15: -232899687 | K15: 3616329 | L15: 1218964247 | M15: 77101500 | N15: EVALUACIÓN IMPACTO AMBIENTAL | O15: RUES | P15: 45291 | Q15: SI | R15: =IF(S15<=483034,"SI","NO") -> SI | S15: =L15/$C$32 -> 28987.07 | T15: MICROEMPRESA | U15: MICROEMPRESA | V15: MICROEMPRESA | X15: =+#REF!-#REF! -> #REF! | Y15: =+#REF!-#REF! -> #REF! | Z15: =G15-H15 -> 1854070576 | AD15: =E15/F15 -> 9.0982519 | AE15: =H15/G15 -> 0.35320537 | AF15: =J15/K15 -> -64.40224 | AG15: =J15/I15 -> -0.12561533 | AH15: =J15/G15 -> -0.081247321
A16: 15 | B16: JAM INGENIERIA Y MEDIO AMBIENTE SAS | C16: 830084684 | D16: SI RUP | E16: 4808392174 | F16: 963422079 | G16: 6597253440 | H16: 2251510375 | I16: 4345743065 | J16: 741625117 | K16: 34681060 | L16: 4590669735 | M16: 77101500 | N16: EVALUACIÓN IMPACTO AMBIENTAL | O16: RUES | P16: 45291 | Q16: SI | R16: =IF(S16<=483034,"SI","NO") -> SI | S16: =L16/$C$32 -> 109166.5 | T16: PEQUEÑA EMPRESA | U16: PEQUEÑA EMPRESA | V16: MEDIANA EMPRESA | X16: =+#REF!-#REF! -> #REF! | Y16: =+#REF!-#REF! -> #REF! | Z16: =G16-H16 -> 4345743065 | AD16: =E16/F16 -> 4.9909508 | AE16: =H16/G16 -> 0.34127996 | AF16: =J16/K16 -> 21.384154 | AG16: =J16/I16 -> 0.17065554 | AH16: =J16/G16 -> 0.11241422
A17: 16 | B17: CRATOS SOLUCIONES INTEGRALES SAS | C17: 900944362 | D17: SI RUP | E17: 584740206 | F17: 42266017 | G17: 588098608 | H17: 42266017 | I17: 545832591 | J17: 115326733 | K17: 12400 | L17: 223935197 | M17: 77101500 | N17: EVALUACIÓN IMPACTO AMBIENTAL | O17: RUES | P17: 45291 | Q17: SI | R17: =IF(S17<=483034,"SI","NO") -> SI | S17: =L17/$C$32 -> 5325.1973 | T17: MICROEMPRESA | U17: MICROEMPRESA | V17: GRAN EMPRESA | X17: =+#REF!-#REF! -> #REF! | Y17: =+#REF!-#REF! -> #REF! | Z17: =G17-H17 -> 545832591 | AD17: =E17/F17 -> 13.83476 | AE17: =H17/G17 -> 0.071868929 | AF17: =J17/K17 -> 9300.543 | AG17: =J17/I17 -> 0.21128591 | AH17: =J17/G17 -> 0.19610101
A18: 17 | B18: INGENIERIA Y GESTION DE LA INFORMACION LIMITADA INGFOCOL | C18: 900239723 | D18: SI RUP | E18: 364518044 | F18: 111385638 | G18: 415963571 | H18: 111385638 | I18: 304577933 | J18: 43044008 | K18: 1588917 | L18: 1047413096 | M18: 77101500 | N18: EVALUACIÓN IMPACTO AMBIENTAL | O18: RUES | P18: 45291 | Q18: SI | R18: =IF(S18<=483034,"SI","NO") -> SI | S18: =L18/$C$32 -> 24907.569 | T18: MICROEMPRESA | U18: MICROEMPRESA | V18: GRAN EMPRESA | Z18: =G18-H18 -> 304577933 | AD18: =E18/F18 -> 3.2725767 | AE18: =H18/G18 -> 0.26777739 | AF18: =J18/K18 -> 27.090155 | AG18: =J18/I18 -> 0.14132346 | AH18: =J18/G18 -> 0.10348023
A19: 18 | B19: HIDRODUCTOS S.A.S | C19: 830083543 | D19: SI RUP | E19: 683349086 | F19: 73517646 | G19: 752832259 | H19: 142378684 | I19: 610453575 | J19: 97906157 | K19: 117703 | L19: 1800807947 | M19: 77101500 | N19: EVALUACIÓN IMPACTO AMBIENTAL | O19: RUES | P19: 45291 | Q19: RSS | R19: =IF(S19<=483034,"SI","NO") -> SI | S19: =L19/$C$32 -> 42823.36 | T19: =IF(S19<=32988,"MICROEMPRESA",IF(S19<=131951,"PEQUEÑA EMPRESA",IF(S19<=483034,"MEDIANA EMPRESA",IF(S19>483034,"GRAN EMPRESA")))) -> PEQUEÑA EMPRESA | U19: MICROEMPRESA | V19: MICROEMPRESA | Z19: =G19-H19 -> 610453575 | AD19: =E19/F19 -> 9.2950349 | AE19: =H19/G19 -> 0.18912405 | AF19: =J19/K19 -> 831.80681 | AG19: =J19/I19 -> 0.16038264 | AH19: =J19/G19 -> 0.13005043
A20: 19 | B20: RM INGENIEROS S.A.S | C20: 900345967 | D20: SI RUP | E20: 2340952150 | F20: 156229783 | G20: 2869457406 | H20: 606855676 | I20: 2262601730 | J20: 475623805 | K20: 23130784 | L20: 2023965512 | M20: 77101500 | N20: EVALUACIÓN IMPACTO AMBIENTAL | O20: RUES | P20: 45291 | Q20: RSS | R20: =IF(S20<=483034,"SI","NO") -> SI | S20: =L20/$C$32 -> 48130.065 | T20: =IF(S20<=32988,"MICROEMPRESA",IF(S20<=131951,"PEQUEÑA EMPRESA",IF(S20<=483034,"MEDIANA EMPRESA",IF(S20>483034,"GRAN EMPRESA")))) -> PEQUEÑA EMPRESA | U20: PEQUEÑA EMPRESA | V20: PEQUEÑA EMPRESA | Z20: =G20-H20 -> 2262601730 | AD20: =E20/F20 -> 14.984033 | AE20: =H20/G20 -> 0.21148795 | AF20: =J20/K20 -> 20.562373 | AG20: =J20/I20 -> 0.21021101 | AH20: =J20/G20 -> 0.16575392
A21: 20 | B21: HYMAC INGENIERIA SAS | C21: 900314911 | D21: SI RUP | E21: 2385762693 | F21: 438660931 | G21: 3653359380 | H21: 946516931 | I21: 2706842449 | J21: 1300035926 | K21: 0 | L21: 2869197737 | M21: 77101500 | N21: EVALUACIÓN IMPACTO AMBIENTAL | O21: RUES | P21: 45657 | Q21: SI | R21: =IF(S21<=483034,"SI","NO") -> SI | S21: =L21/$C$32 -> 68229.757 | T21: PEQUEÑA EMPRESA | U21: PEQUEÑA EMPRESA | V21: MEDIANA EMPRESA | Z21: =G21-H21 -> 2706842449 | AD21: =E21/F21 -> 5.4387399 | AE21: =H21/G21 -> 0.25908125 | AF21: =J21/K21 -> #DIV/0! | AG21: =J21/I21 -> 0.48027765 | AH21: =J21/G21 -> 0.35584671
A22: 21 | B22: AITEC S.A.S | C22: 830514033 | D22: SI RUP | E22: 5878180071 | F22: 715875851 | G22: 6610735279 | H22: 3852756143 | I22: 2757979136 | J22: 618323863 | K22: 208955213 | L22: 6158641773 | M22: 77101500 | N22: EVALUACIÓN IMPACTO AMBIENTAL | O22: RUES | P22: 45657 | Q22: SI | R22: =IF(S22<=483034,"SI","NO") -> SI | S22: =L22/$C$32 -> 146453.01 | T22: MEDIANA EMPRESA | U22: MEDIANA EMPRESA | V22: GRAN EMPRESA | Z22: =G22-H22 -> 2757979136 | AD22: =E22/F22 -> 8.2111725 | AE22: =H22/G22 -> 0.58280297 | AF22: =J22/K22 -> 2.9591215 | AG22: =J22/I22 -> 0.22419454 | AH22: =J22/G22 -> 0.093533297
A23: 22 | B23: PROYECTAR INGENIERIA S.A.S. | C23: 800119214 | D23: SI RUP | E23: 8919817451 | F23: 3507290855 | G23: 11425064329 | H23: 3558641655 | I23: 7866422674 | J23: 2327465156 | K23: 84130444 | L23: 23520847331 | M23: 81101500 | N23: INGENIERÍA CIVIL | O23: RUES | P23: 45291 | Q23: RSS | R23: =IF(S23<=483034,"SI","NO") -> NO | S23: =L23/$C$32 -> 559327.67 | T23: GRAN EMPRESA | U23: GRAN EMPRESA | V23: GRAN EMPRESA | Z23: =G23-H23 -> 7866422674 | AD23: =E23/F23 -> 2.5432215 | AE23: =H23/G23 -> 0.31147673 | AF23: =J23/K23 -> 27.664957 | AG23: =J23/I23 -> 0.29587339 | AH23: =J23/G23 -> 0.20371572
A24: 23 | B24: INGENIERIA CIVIL Y GEODESIA SAS INCIGE SAS | C24: 830100540 | D24: SI RUP | E24: 5165173605 | F24: 1044917204 | G24: 5175812994 | H24: 2922260307 | I24: 2253552687 | J24: 497579245 | K24: 122259849 | L24: 16380001421 | M24: 77101500 | N24: EVALUACIÓN IMPACTO AMBIENTAL | O24: RUES | P24: 45291 | Q24: RSS | R24: =IF(S24<=483034,"SI","NO") -> SI | S24: =L24/$C$32 -> 389517.77 | T24: =IF(S24<=32988,"MICROEMPRESA",IF(S24<=131951,"PEQUEÑA EMPRESA",IF(S24<=483034,"MEDIANA EMPRESA",IF(S24>483034,"GRAN EMPRESA")))) -> MEDIANA EMPRESA | U24: MEDIANA EMPRESA | V24: MEDIANA EMPRESA | Z24: =G24-H24 -> 2253552687 | AD24: =E24/F24 -> 4.9431415 | AE24: =H24/G24 -> 0.56459928 | AF24: =J24/K24 -> 4.06985 | AG24: =J24/I24 -> 0.2207977 | AH24: =J24/G24 -> 0.096135476
A25: 24 | B25: ECODES INGENIERIA SAS | C25: 900103929 | D25: SI RUP | E25: 8273098712 | F25: 2078640588 | G25: 12038211526 | H25: 6772474602 | I25: 5265736924 | J25: 4269277378 | K25: 717238700 | L25: 14149053830 | M25: 77101500 | N25: EVALUACIÓN IMPACTO AMBIENTAL | O25: RUES | P25: 45291 | Q25: RSS | R25: =IF(S25<=483034,"SI","NO") -> SI | S25: =L25/$C$32 -> 336465.66 | T25: =IF(S25<=32988,"MICROEMPRESA",IF(S25<=131951,"PEQUEÑA EMPRESA",IF(S25<=483034,"MEDIANA EMPRESA",IF(S25>483034,"GRAN EMPRESA")))) -> MEDIANA EMPRESA | U25: MEDIANA EMPRESA | V25: MEDIANA EMPRESA | Z25: =G25-H25 -> 5265736924 | AD25: =E25/F25 -> 3.9800525 | AE25: =H25/G25 -> 0.56258146 | AF25: =J25/K25 -> 5.9523801 | AG25: =J25/I25 -> 0.81076541 | AH25: =J25/G25 -> 0.35464382
A26: 25 | B26: GRUCON S.A.S. | C26: 800203342 | D26: SI RUP | E26: 14472403504 | F26: 3284885640 | G26: 14993414722 | H26: 5643633622 | I26: 9349781100 | J26: 3225374041 | K26: 111806392 | L26: 33134409801 | M26: 77101600 | N26: PLANEACIÓN AMBIENTAL | O26: RUES | P26: 45291 | Q26: RSS | R26: NO | S26: 781250.82 | T26: GRAN EMPRESA | U26: GRAN EMPRESA | V26: GRAN EMPRESA | Z26: =G26-H26 -> 9349781100 | AD26: =E26/F26 -> 4.4057557 | AE26: =H26/G26 -> 0.37640749 | AF26: =J26/K26 -> 28.84785 | AG26: =J26/I26 -> 0.34496787 | AH26: =J26/G26 -> 0.21511938
B32: VALOR UVT2023 | C32: 42052
A34: No | B34: PROVEEDOR | C34: NIT | D34: RUP | E34: MIPYMES | F34: PARTICIPACIÓN | G34: =18/25 -> 0.72
A35: 1 | B35: MONTAJES Y CONSTRUCCIONES FERMAR S.A.S | C35: 800143273 | D35: SI | E35: NO
A36: 2 | B36: SOFORESTA S.A.S. | C36: 800143610 | D36: SI | E36: NO
A37: 3 | B37: AZUL URBANO LIMITADA | C37: 800146310 | D37: SI | E37: SI
A38: 4 | B38: C.I. HIDRO GEO S.A.S. | C38: 800174121 | D38: SI | E38: SI
A39: 5 | B39: DESARROLLAMOS INGENIERIA S.A.S. | C39: 800254539 | D39: SI | E39: SI
A40: 6 | B40: ETEL LTDA EN REORGANIZACION | C40: 800256848 | D40: SI | E40: SI
A41: 7 | B41: NEW GAS AND OIL S.A.S | C41: 804006097 | D41: SI | E41: SI
A42: 8 | B42: INGENIERÍA Y CONSTRUCCIÓN PALACIO BAENA S.A.S. | C42: 811015828 | D42: SI | E42: SI
A43: 9 | B43: O R INGENIERIA S A S | C43: 830060337 | D43: SI | E43: SI
A44: 10 | B44: G63 INFRAESTRUCTURA Y SERVICIOS S.A.S | C44: 900462686 | D44: SI | E44: SI
A45: 11 | B45: INGENIERIA JOULES M. E. C. S.A.S. | C45: 800196467 | D45: SI | E45: NO
A46: 12 | B46: CONSTRUCCIONES AL DIA SAS | C46: 800198324 | D46: SI | E46: NO
...

Sheet Hoja2
A1: No | B1: PROVEEDOR | C1: NIT | D1: OBSERVACION | E1: MIPYMES | G1: No | H1: PROVEEDOR | I1: ACTIVO CORRIENTE | J1: PASIVO CORRIENTE | L1: No | M1: PROVEEDOR | N1: ACTIVO TOTAL | O1: PASIVO TOTAL | Q1: No | R1: PROVEEDOR | S1: UTILIDAD OPERACIONAL | T1: GASTOS DE INTERESES | V1: No | W1: PROVEEDOR | X1: PATRIMONIO TOTAL | Y1: UTILIDAD OPERACIONAL | AA1: No | AB1: PROVEEDOR | AC1: ACTIVO TOTAL | AD1: UTILIDAD OPERACIONAL | AF1: No | AG1: PROVEEDOR | AH1: ACTIVO CORRIENTE | AI1: PASIVO CORRIENTE | AJ1: CAPITAL DE TRABAJO
A2: 1 | B2: MONTAJES Y CONSTRUCCIONES FERMAR S.A.S | C2: 800143273 | D2: SI RUP | E2: NO | G2: 1 | H2: MONTAJES Y CONSTRUCCIONES FERMAR S.A.S | I2: 39414690882 | J2: 2799974091 | L2: 1 | M2: MONTAJES Y CONSTRUCCIONES FERMAR S.A.S | N2: 48467746992 | O2: 17400757731 | Q2: 1 | R2: MONTAJES Y CONSTRUCCIONES FERMAR S.A.S | S2: 17356088050 | T2: 1377601410 | V2: 1 | W2: MONTAJES Y CONSTRUCCIONES FERMAR S.A.S | X2: 31066989261 | Y2: 17356088050 | AA2: 1 | AB2: MONTAJES Y CONSTRUCCIONES FERMAR S.A.S | AC2: 48467746992 | AD2: 17356088050 | AF2: 1 | AG2: MONTAJES Y CONSTRUCCIONES FERMAR S.A.S | AH2: 39414690882 | AI2: 2799974091 | AJ2: =AH2-AI2 -> 36614716791
A3: 2 | B3: SOFORESTA S.A.S. | C3: 800143610 | D3: SI RUP | E3: NO | G3: 2 | H3: SOFORESTA S.A.S. | I3: 12211452043 | J3: 3733560900 | L3: 2 | M3: SOFORESTA S.A.S. | N3: 27742301191 | O3: 11288777843 | Q3: 2 | R3: SOFORESTA S.A.S. | S3: 4380488759 | T3: 775315429 | V3: 2 | W3: SOFORESTA S.A.S. | X3: 16453523348 | Y3: 4380488759 | AA3: 2 | AB3: SOFORESTA S.A.S. | AC3: 27742301191 | AD3: 4380488759 | AF3: 2 | AG3: SOFORESTA S.A.S. | AH3: 12211452043 | AI3: 3733560900 | AJ3: =AH3-AI3 -> 8477891143
A4: 3 | B4: AZUL URBANO LIMITADA | C4: 800146310 | D4: SI RUP | E4: SI | G4: 3 | H4: AZUL URBANO LIMITADA | I4: 8017692187 | J4: 444677339 | L4: 3 | M4: AZUL URBANO LIMITADA | N4: 8372491859 | O4: 6106962734 | Q4: 3 | R4: AZUL URBANO LIMITADA | S4: 98000366 | T4: 28819856 | V4: 3 | W4: AZUL URBANO LIMITADA | X4: 2265529125 | Y4: 98000366 | AA4: 3 | AB4: AZUL URBANO LIMITADA | AC4: 8372491859 | AD4: 98000366 | AF4: 3 | AG4: AZUL URBANO LIMITADA | AH4: 8017692187 | AI4: 444677339 | AJ4: =AH4-AI4 -> 7573014848
A5: 4 | B5: C.I. HIDRO GEO S.A.S. | C5: 800174121 | D5: SI RUP | E5: SI | G5: 4 | H5: C.I. HIDRO GEO S.A.S. | I5: 1576919821 | J5: 59315203 | L5: 4 | M5: C.I. HIDRO GEO S.A.S. | N5: 1676213679 | O5: 682408278 | Q5: 4 | R5: C.I. HIDRO GEO S.A.S. | S5: 97791579 | T5: 249164 | V5: 4 | W5: C.I. HIDRO GEO S.A.S. | X5: 993805401 | Y5: 97791579 | AA5: 4 | AB5: C.I. HIDRO GEO S.A.S. | AC5: 1676213679 | AD5: 97791579 | AF5: 4 | AG5: C.I. HIDRO GEO S.A.S. | AH5: 1576919821 | AI5: 59315203 | AJ5: =AH5-AI5 -> 1517604618
A6: 5 | B6: DESARROLLAMOS INGENIERIA S.A.S. | C6: 800254539 | D6: SI RUP | E6: SI | G6: 5 | H6: DESARROLLAMOS INGENIERIA S.A.S. | I6: 4220409785 | J6: 1844946200 | L6: 5 | M6: DESARROLLAMOS INGENIERIA S.A.S. | N6: 5820229847 | O6: 1851177485 | Q6: 5 | R6: DESARROLLAMOS INGENIERIA S.A.S. | S6: 907660945 | T6: 53385663 | V6: 5 | W6: DESARROLLAMOS INGENIERIA S.A.S. | X6: 3969052362 | Y6: 907660945 | AA6: 5 | AB6: DESARROLLAMOS INGENIERIA S.A.S. | AC6: 5820229847 | AD6: 907660945 | AF6: 5 | AG6: DESARROLLAMOS INGENIERIA S.A.S. | AH6: 4220409785 | AI6: 1844946200 | AJ6: =AH6-AI6 -> 2375463585
A7: 6 | B7: ETEL LTDA EN REORGANIZACION | C7: 800256848 | D7: SI RUP | E7: SI | G7: 6 | H7: ETEL LTDA EN REORGANIZACION | I7: 13365875287 | J7: 6004596505 | L7: 6 | M7: ETEL LTDA EN REORGANIZACION | N7: 14042100287 | O7: 9551737187 | Q7: 6 | R7: ETEL LTDA EN REORGANIZACION | S7: 982256908 | T7: 85726331 | V7: 6 | W7: ETEL LTDA EN REORGANIZACION | X7: 4490363100 | Y7: 982256908 | AA7: 6 | AB7: ETEL LTDA EN REORGANIZACION | AC7: 14042100287 | AD7: 982256908 | AF7: 6 | AG7: ETEL LTDA EN REORGANIZACION | AH7: 13365875287 | AI7: 6004596505 | AJ7: =AH7-AI7 -> 7361278782
A8: 7 | B8: NEW GAS AND OIL S.A.S | C8: 804006097 | D8: SI RUP | E8: SI | G8: 7 | H8: NEW GAS AND OIL S.A.S | I8: 2922048000 | J8: 740456000 | L8: 7 | M8: NEW GAS AND OIL S.A.S | N8: 4577499000 | O8: 740456000 | Q8: 7 | R8: NEW GAS AND OIL S.A.S | S8: 236952000 | T8: 2339000 | V8: 7 | W8: NEW GAS AND OIL S.A.S | X8: 3837043000 | Y8: 236952000 | AA8: 7 | AB8: NEW GAS AND OIL S.A.S | AC8: 4577499000 | AD8: 236952000 | AF8: 7 | AG8: NEW GAS AND OIL S.A.S | AH8: 2922048000 | AI8: 740456000 | AJ8: =AH8-AI8 -> 2181592000
A9: 8 | B9: INGENIERÍA Y CONSTRUCCIÓN PALACIO BAENA S.A.S. | C9: 811015828 | D9: SI RUP | E9: SI | G9: 8 | H9: INGENIERÍA Y CONSTRUCCIÓN PALACIO BAENA S.A.S. | I9: 4464618305 | J9: 804679616 | L9: 8 | M9: INGENIERÍA Y CONSTRUCCIÓN PALACIO BAENA S.A.S. | N9: 4464618305 | O9: 1260419362 | Q9: 8 | R9: INGENIERÍA Y CONSTRUCCIÓN PALACIO BAENA S.A.S. | S9: 459220023 | T9: 62607 | V9: 8 | W9: INGENIERÍA Y CONSTRUCCIÓN PALACIO BAENA S.A.S. | X9: 3204198943 | Y9: 459220023 | AA9: 8 | AB9: INGENIERÍA Y CONSTRUCCIÓN PALACIO BAENA S.A.S. | AC9: 4464618305 | AD9: 459220023 | AF9: 8 | AG9: INGENIERÍA Y CONSTRUCCIÓN PALACIO BAENA S.A.S. | AH9: 4464618305 | AI9: 804679616 | AJ9: =AH9-AI9 -> 3659938689
A10: 9 | B10: O R INGENIERIA S A S | C10: 830060337 | D10: SI RUP | E10: SI | G10: 9 | H10: O R INGENIERIA S A S | I10: 5786155252 | J10: 18769065 | L10: 9 | M10: O R INGENIERIA S A S | N10: 8118397633 | O10: 3383683898 | Q10: 9 | R10: O R INGENIERIA S A S | S10: 276997384 | T10: 28552952 | V10: 9 | W10: O R INGENIERIA S A S | X10: 4734713735 | Y10: 276997384 | AA10: 9 | AB10: O R INGENIERIA S A S | AC10: 8118397633 | AD10: 276997384 | AF10: 9 | AG10: O R INGENIERIA S A S | AH10: 5786155252 | AI10: 18769065 | AJ10: =AH10-AI10 -> 5767386187
A11: 10 | B11: G63 INFRAESTRUCTURA Y SERVICIOS S.A.S | C11: 900462686 | D11: SI RUP | E11: SI | G11: 10 | H11: G63 INFRAESTRUCTURA Y SERVICIOS S.A.S | I11: 7033771586 | J11: 354322660 | L11: 10 | M11: G63 INFRAESTRUCTURA Y SERVICIOS S.A.S | N11: 7301771715 | O11: 1622322660 | Q11: 10 | R11: G63 INFRAESTRUCTURA Y SERVICIOS S.A.S | S11: 455851068 | T11: 111252724 | V11: 10 | W11: G63 INFRAESTRUCTURA Y SERVICIOS S.A.S | X11: 5679449055 | Y11: 455851068 | AA11: 10 | AB11: G63 INFRAESTRUCTURA Y SERVICIOS S.A.S | AC11: 7301771715 | AD11: 455851068 | AF11: 10 | AG11: G63 INFRAESTRUCTURA Y SERVICIOS S.A.S | AH11: 7033771586 | AI11: 354322660 | AJ11: =AH11-AI11 -> 6679448926
A12: 11 | B12: INGENIERIA JOULES M. E. C. S.A.S. | C12: 800196467 | D12: SI RUP | E12: NO | G12: 11 | H12: INGENIERIA JOULES M. E. C. S.A.S. | I12: 27032499804 | J12: 6395228860 | L12: 11 | M12: INGENIERIA JOULES M. E. C. S.A.S. | N12: 49279486809 | O12: 12300267323 | Q12: 11 | R12: INGENIERIA JOULES M. E. C. S.A.S. | S12: 9327753224 | T12: 484734147 | V12: 11 | W12: INGENIERIA JOULES M. E. C. S.A.S. | X12: 36979219486 | Y12: 9327753224 | AA12: 11 | AB12: INGENIERIA JOULES M. E. C. S.A.S. | AC12: 49279486809 | AD12: 9327753224 | AF12: 11 | AG12: INGENIERIA JOULES M. E. C. S.A.S. | AH12: 27032499804 | AI12: 6395228860 | AJ12: =AH12-AI12 -> 20637270944
A13: 12 | B13: CONSTRUCCIONES AL DIA SAS | C13: 800198324 | D13: SI RUP | E13: NO | G13: 12 | H13: CONSTRUCCIONES AL DIA SAS | I13: 17179765402 | J13: 3039893442 | L13: 12 | M13: CONSTRUCCIONES AL DIA SAS | N13: 27644494607 | O13: 10305363350 | Q13: 12 | R13: CONSTRUCCIONES AL DIA SAS | S13: 9236043657 | T13: 2043841990 | V13: 12 | W13: CONSTRUCCIONES AL DIA SAS | X13: 17339131257 | Y13: 9236043657 | AA13: 12 | AB13: CONSTRUCCIONES AL DIA SAS | AC13: 27644494607 | AD13: 9236043657 | AF13: 12 | AG13: CONSTRUCCIONES AL DIA SAS | AH13: 17179765402 | AI13: 3039893442 | AJ13: =AH13-AI13 -> 14139871960
... A25: 24 | B25: ECODES INGENIERIA SAS | C25: 900103929 | D25: SI RUP | E25: SI | G25: 24 | H25: ECODES INGENIERIA SAS | I25: 8273098712 | J25: 2078640588 | L25: 24 | M25: ECODES INGENIERIA SAS | N25: 12038211526 | O25: 6772474602 | Q25: 24 | R25: GRUCON S.A.S. | S25: 3225374041 | T25: 111806392 | V25: 24 | W25: ECODES INGENIERIA SAS | X25: 5265736924 | Y25: 4269277378 | AA25: 24 | AB25: ECODES INGENIERIA SAS | AC25: 12038211526 | AD25: 4269277378 | AF25: 24 | AG25: ECODES INGENIERIA SAS | AH25: 8273098712 | AI25: 2078640588 | AJ25: =AH25-AI25 -> 6194458124
A26: 25 | B26: GRUCON S.A.S. | C26: 800203342 | D26: SI RUP | E26: NO | G26: 25 | H26: GRUCON S.A.S. | I26: 14472403504 | J26: 3284885640 | L26: 25 | M26: GRUCON S.A.S. | N26: 14993414722 | O26: 5643633622 | V26: 25 | W26: GRUCON S.A.S. | X26: 9349781100 | Y26: 3225374041 | AA26: 25 | AB26: GRUCON S.A.S. | AC26: 14993414722 | AD26: 3225374041 | AF26: 25 | AG26: GRUCON S.A.S. | AH26: 14472403504 | AI26: 3284885640 | AJ26: =AH26-AI26 -> 11187517864

Sheet RESUMEN FINAL
A1: No | B1: PROVEEDOR | C1: NIT | D1: ACTIVO CORRIENTE | E1: PASIVO CORRIENTE | F1: ACTIVO TOTAL | G1: PASIVO TOTAL | H1: PATRIMONIO TOTAL | I1: UTILIDAD OPERACIONAL | J1: GASTOS DE INTERESES | K1: CODIGO UNSPSC | L1: FILTRO. SECTOR | M1: FUENTE DE INFORMACION
A2: 1 | B2: MONTAJES Y CONSTRUCCIONES FERMAR S.A.S | C2: 800143273 | D2: 39414690882 | E2: 2799974091 | F2: 48467746992 | G2: 17400757731 | H2: 31066989261 | I2: 17356088050 | J2: 1377601410 | K2: 771016 | L2: PLANEACIÓN AMBIENTAL | M2: RUES
A3: 2 | B3: SOFORESTA S.A.S. | C3: 800143610 | D3: 12211452043 | E3: 3733560900 | F3: 27742301191 | G3: 11288777843 | H3: 16453523348 | I3: 4380488759 | J3: 775315429 | K3: 771016 | L3: PLANEACIÓN AMBIENTAL | M3: RUES
A4: 3 | B4: AZUL URBANO LIMITADA | C4: 800146310 | D4: 8017692187 | E4: 444677339 | F4: 8372491859 | G4: 6106962734 | H4: 2265529125 | I4: 98000366 | J4: 28819856 | K4: 771016 | L4: PLANEACIÓN AMBIENTAL | M4: RUES
A5: 4 | B5: C.I. HIDRO GEO S.A.S. | C5: 800174121 | D5: 1576919821 | E5: 59315203 | F5: 1676213679 | G5: 682408278 | H5: 993805401 | I5: 97791579 | J5: 249164 | K5: 81101500 | L5: INGENIERÍA CIVIL | M5: RUES
A6: 5 | B6: DESARROLLAMOS INGENIERIA S.A.S. | C6: 800254539 | D6: 4220409785 | E6: 1844946200 | F6: 5820229847 | G6: 1851177485 | H6: 3969052362 | I6: 907660945 | J6: 53385663 | K6: 81101500 | L6: INGENIERÍA CIVIL | M6: RUES
A7: 6 | B7: ETEL LTDA EN REORGANIZACION | C7: 800256848 | D7: 13365875287 | E7: 6004596505 | F7: 14042100287 | G7: 9551737187 | H7: 4490363100 | I7: 982256908 | J7: 85726331 | K7: 81101500 | L7: INGENIERÍA CIVIL | M7: RUES
A8: 7 | B8: NEW GAS AND OIL S.A.S | C8: 804006097 | D8: 2922048000 | E8: 740456000 | F8: 4577499000 | G8: 740456000 | H8: 3837043000 | I8: 236952000 | J8: 2339000 | K8: 81101500 | L8: INGENIERÍA CIVIL | M8: RUES
A9: 8 | B9: INGENIERÍA Y CONSTRUCCIÓN PALACIO BAENA S.A.S. | C9: 811015828 | D9: 4457604105 | E9: 804679616 | F9: 4464618305 | G9: 1260419362 | H9: 3204198943 | I9: 459220023 | J9: 62607 | K9: 81101500 | L9: INGENIERÍA CIVIL | M9: RUES
A10: 9 | B10: O R INGENIERIA S A S | C10: 830060337 | D10: 5786155252 | E10: 18769065 | F10: 8118397633 | G10: 3383683898 | H10: 4734713735 | I10: 276997384 | J10: 28552952 | K10: 81101500 | L10: INGENIERÍA CIVIL | M10: RUES
A11: 10 | B11: G63 INFRAESTRUCTURA Y SERVICIOS S.A.S | C11: 900462686 | D11: 7033771586 | E11: 354322660 | F11: 7301771715 | G11: 1622322660 | H11: 5679449055 | I11: 455851068 | J11: 111252724 | K11: 81101500 | L11: INGENIERÍA CIVIL | M11: RUES
A12: 11 | B12: INGENIERIA JOULES M. E. C. S.A.S. | C12: 800196467 | D12: 27032499804 | E12: 6395228860 | F12: 49279486809 | G12: 12300267323 | H12: 36979219486 | I12: 9327753224 | J12: 484734147 | K12: 81101500 | L12: INGENIERÍA CIVIL | M12: RUES
A13: 12 | B13: CONSTRUCCIONES AL DIA SAS | C13: 800198324 | D13: 17179765402 | E13: 3039893442 | F13: 27644494607 | G13: 10305363350 | H13: 17339131257 | I13: 9236043657 | J13: 2043841990 | K13: 81101500 | L13: INGENIERÍA CIVIL | M13: RUES
... A26: 25 | B26: GRUCON S.A.S. | C26: 800203342 | D26: 14472403504 | E26: 3284885640 | F26: 14993414722 | G26: 5643633622 | H26: 9349781100 | I26: 3225374041 | J26: 111806392 | K26: 77101600 | L26: PLANEACIÓN AMBIENTAL | M26: RUES

Sheet LIQUIDEZ
A1: No | B1: PROVEEDOR | C1: ACTIVO CORRIENTE | D1: PASIVO CORRIENTE | E1: LIQUIDEZ | G1: LIQUIDEZ
A2: 1 | B2: =+'RESUMEN FINAL'!B2 -> MONTAJES Y CONSTRUCCIONES FERMAR S.A.S | C2: =+'RESUMEN FINAL'!D2 -> 39414690882 | D2: =+'RESUMEN FINAL'!E2 -> 2799974091 | E2: =+C2/D2 -> 14.076806 | G2: 2.2259406 | I2: N | J2: =+COUNT($G$2:$G$26) -> 25 | L2: N | M2: =+COUNT($G$2:$G$25) -> 24 | O2: N | P2: =+COUNT($G$2:$G$24) -> 23 | R2: N | S2: =+COUNT($G$2:$G$22) -> 21 | U2: N | V2: =+COUNT($G$2:$G$21) -> 20 | X2: N | Y2: =+COUNT($G$2:$G$19) -> 18 | AA2: N | AB2: =+COUNT($G$2:$G$17) -> 16 | AD2: N | AE2: =+COUNT($G$2:$G$16) -> 15
A3: 2 | B3: =+'RESUMEN FINAL'!B3 -> SOFORESTA S.A.S. | C3: =+'RESUMEN FINAL'!D3 -> 12211452043 | D3: =+'RESUMEN FINAL'!E3 -> 3733560900 | E3: =+C3/D3 -> 3.2707253 | G3: 2.2875517 | I3: Valor mínimo | J3: =+QUARTILE($G$2:$G$26,0) -> 2.2259406 | L3: Valor mínimo | M3: =+QUARTILE($G$2:$G$25,0) -> 2.2259406 | O3: Valor mínimo | P3: =+QUARTILE($G$2:$G$24,0) -> 2.2259406 | R3: Valor mínimo | S3: =+QUARTILE($G$2:$G$22,0) -> 2.2259406 | U3: Valor mínimo | V3: =+QUARTILE($G$2:$G$21,0) -> 2.2259406 | X3: Valor mínimo | Y3: =+QUARTILE($G$2:$G$19,0) -> 2.2259406 | AA3: Valor mínimo | AB3: =+QUARTILE($G$2:$G$17,0) -> 2.2259406 | AD3: Valor mínimo | AE3: =+QUARTILE($G$2:$G$16,0) -> 2.2259406
A4: 3 | B4: =+'RESUMEN FINAL'!B4 -> AZUL URBANO LIMITADA | C4: =+'RESUMEN FINAL'!D4 -> 8017692187 | D4: =+'RESUMEN FINAL'!E4 -> 444677339 | E4: =+C4/D4 -> 18.030359 | G4: 2.5432215 | I4: Q1 | J4: =+QUARTILE($G$2:$G$26,1) -> 3.9800525 | L4: Q1 | M4: =+QUARTILE($G$2:$G$25,1) -> 3.9716098 | O4: Q1 | P4: =+QUARTILE($G$2:$G$24,1) -> 3.9631671 | R4: Q1 | S4: =+QUARTILE($G$2:$G$22,1) -> 3.9462818 | U4: Q1 | V4: =+QUARTILE($G$2:$G$21,1) -> 3.7778555 | X4: Q1 | Y4: =+QUARTILE($G$2:$G$19,1) -> 3.441003 | AA4: Q1 | AB4: =+QUARTILE($G$2:$G$17,1) -> 3.2721138 | AD4: Q1 | AE4: =+QUARTILE($G$2:$G$16,1) -> 3.271651
A5: 4 | B5: =+'RESUMEN FINAL'!B5 -> C.I. HIDRO GEO S.A.S. | C5: =+'RESUMEN FINAL'!D5 -> 1576919821 | D5: =+'RESUMEN FINAL'!E5 -> 59315203 | E5: =+C5/D5 -> 26.585424 | G5: 3.2707253 | I5: Q2 | J5: =+QUARTILE($G$2:$G$26,2) -> 5.4387399 | L5: Q2 | M5: =+QUARTILE($G$2:$G$25,2) -> 5.2148453 | O5: Q2 | P5: =+QUARTILE($G$2:$G$24,2) -> 4.9909508 | R5: Q2 | S5: =+QUARTILE($G$2:$G$22,2) -> 4.9431415 | U5: Q2 | V5: =+QUARTILE($G$2:$G$21,2) -> 4.6744486 | X5: Q2 | Y5: =+QUARTILE($G$2:$G$19,2) -> 4.4057557 | AA5: Q2 | AB5: =+QUARTILE($G$2:$G$17,2) -> 4.3163675 | AD5: Q2 | AE5: =+QUARTILE($G$2:$G$16,2) -> 4.2269793
A6: 5 | B6: =+'RESUMEN FINAL'!B6 -> DESARROLLAMOS INGENIERIA S.A.S. | C6: =+'RESUMEN FINAL'!D6 -> 4220409785 | D6: =+'RESUMEN FINAL'!E6 -> 1844946200 | E6: =+C6/D6 -> 2.2875517 | G6: 3.2725767 | I6: Q3 | J6: =+QUARTILE($G$2:$G$26,3) -> 13.83476 | L6: Q3 | M6: =+QUARTILE($G$2:$G$25,3) -> 10.429966 | O6: Q3 | P6: =+QUARTILE($G$2:$G$24,3) -> 9.1966434 | R6: Q3 | S6: =+QUARTILE($G$2:$G$22,3) -> 8.2111725 | U6: Q3 | V6: =+QUARTILE($G$2:$G$21,3) -> 6.2913706 | X6: Q3 | Y6: =+QUARTILE($G$2:$G$19,3) -> 5.5143858 | AA6: Q3 | AB6: =+QUARTILE($G$2:$G$17,3) -> 5.102898 | AD6: Q3 | AE6: =+QUARTILE($G$2:$G$16,3) -> 4.9670461
A7: 6 | B7: =+'RESUMEN FINAL'!B7 -> ETEL LTDA EN REORGANIZACION | C7: =+'RESUMEN FINAL'!D7 -> 13365875287 | D7: =+'RESUMEN FINAL'!E7 -> 6004596505 | E7: =+C7/D7 -> 2.2259406 | G7: 3.9462818 | I7: Valor máximo | J7: =+QUARTILE($G$2:$G$26,4) -> 308.28149 | L7: Valor máximo | M7: =+QUARTILE($G$2:$G$25,4) -> 26.585424 | O7: Valor máximo | P7: =+QUARTILE($G$2:$G$24,4) -> 19.851317 | R7: Valor máximo | S7: =+QUARTILE($G$2:$G$22,4) -> 14.984033 | U7: Valor máximo | V7: =+QUARTILE($G$2:$G$21,4) -> 14.076806 | X7: Valor máximo | Y7: =+QUARTILE($G$2:$G$19,4) -> 9.2950349 | AA7: Valor máximo | AB7: =+QUARTILE($G$2:$G$17,4) -> 8.2111725 | AD7: Valor máximo | AE7: =+QUARTILE($G$2:$G$16,4) -> 5.6514367
A8: 7 | B8: =+'RESUMEN FINAL'!B8 -> NEW GAS AND OIL S.A.S | C8: =+'RESUMEN FINAL'!D8 -> 2922048000 | D8: =+'RESUMEN FINAL'!E8 -> 740456000 | E8: =+C8/D8 -> 3.9462818 | G8: 3.9800525 | I8: RC | J8: =+J6-J4 -> 9.8547076 | L8: RC | M8: =+M6-M4 -> 6.4583564 | O8: RC | P8: =+P6-P4 -> 5.2334763 | R8: RC | S8: =+S6-S4 -> 4.2648907 | U8: RC | V8: =+V6-V4 -> 2.5135152 | X8: RC | Y8: =+Y6-Y4 -> 2.0733828 | AA8: RC | AB8: =+AB6-AB4 -> 1.8307842 | AD8: RC | AE8: =+AE6-AE4 -> 1.6953951
A9: 8 | B9: =+'RESUMEN FINAL'!B9 -> INGENIERÍA Y CONSTRUCCIÓN PALACIO BAENA S.A.S. | C9: =+'RESUMEN FINAL'!D9 -> 4457604105 | D9: =+'RESUMEN FINAL'!E9 -> 804679616 | E9: =+C9/D9 -> 5.5396011 | G9: 4.2269793 | I9: Limite inferior | J9: =+J4-(J8*1.5) -> -10.802009 | L9: Limite inferior | M9: =+M4-(M8*1.5) -> -5.7159247 | O9: Limite inferior | P9: =+P4-(P8*1.5) -> -3.8870473 | R9: Limite inferior | S9: =+S4-(S8*1.5) -> -2.4510543 | U9: Limite inferior | V9: =+V4-(V8*1.5) -> 0.0075827482 | X9: Limite inferior | Y9: =+Y4-(Y8*1.5) -> 0.3309287 | AA9: Limite inferior | AB9: =+AB4-(AB8*1.5) -> 0.52593755 | AD9: Limite inferior | AE9: =+AE4-(AE8*1.5) -> 0.72855827
A10: 9 | B10: =+'RESUMEN FINAL'!B10 -> O R INGENIERIA S A S | C10: =+'RESUMEN FINAL'!D10 -> 5786155252 | D10: =+'RESUMEN FINAL'!E10 -> 18769065 | E10: =+C10/D10 -> 308.28149 | G10: 4.4057557 | I10: Limite Superior | J10: =+J6+(J8*1.5) -> 28.616821 | L10: Limite Superior | M10: =+M6+(M8*1.5) -> 20.117501 | O10: Limite Superior | P10: =+P6+(P8*1.5) -> 17.046858 | R10: Limite Superior | S10: =+S6+(S8*1.5) -> 14.608509 | U10: Limite Superior | V10: =+V6+(V8*1.5) -> 10.061643 | X10: Limite Superior | Y10: =+Y6+(Y8*1.5) -> 8.6244601 | AA10: Limite Superior | AB10: =+AB6+(AB8*1.5) -> 7.8490743 | AD10: Limite Superior | AE10: =+AE6+(AE8*1.5) -> 7.5101389
A11: 10 | B11: =+'RESUMEN FINAL'!B11 -> G63 INFRAESTRUCTURA Y SERVICIOS S.A.S | C11: =+'RESUMEN FINAL'!D11 -> 7033771586 | D11: =+'RESUMEN FINAL'!E11 -> 354322660 | E11: =+C11/D11 -> 19.851317 | G11: 4.4057557 | I11: MEDIANA | J11: =+MEDIAN(G$2:$G$26) -> 5.4387399 | L11: MEDIANA | M11: =+MEDIAN($G$2:J$25) -> 5.4891705 | O11: MEDIANA | P11: =+MEDIAN($G$2:G$24) -> 4.9909508 | R11: MEDIANA | S11: =+MEDIAN($G$2:$G$22) -> 4.9431415 | U11: MEDIANA | V11: =+MEDIAN($G$2:$G$21) -> 4.6744486 | X11: MEDIANA | Y11: =+MEDIAN($G$2:$G$19) -> 4.4057557 | AA11: MEDIANA | AB11: =+MEDIAN($G$2:$G$17) -> 4.3163675 | AD11: MEDIANA | AE11: =+MEDIAN($G$2:$G$16) -> 4.2269793
A12: 11 | B12: =+'RESUMEN FINAL'!B12 -> INGENIERIA JOULES M. E. C. S.A.S. | C12: =+'RESUMEN FINAL'!D12 -> 27032499804 | D12: =+'RESUMEN FINAL'!E12 -> 6395228860 | E12: =+C12/D12 -> 4.2269793 | G12: 4.9431415 | I12: PROMEDIO | J12: =+AVERAGE($G$2:$G$26) -> 20.135094 | L12: PROMEDIO | M12: =+AVERAGE($G$2:$G$25) -> 8.1289945 | O12: PROMEDIO | P12: =+AVERAGE($G$2:$G$24) -> 7.3265411 | R12: PROMEDIO | S12: =+AVERAGE($G$2:$G$22) -> 6.2204175 | U12: PROMEDIO | V12: =+AVERAGE($G$2:$G$21) -> 5.7822368 | X12: PROMEDIO | Y12: =+AVERAGE($G$2:$G$19) -> 4.874065 | AA12: PROMEDIO | AB12: =+AVERAGE($G$2:$G$17) -> 4.3337427 | AD12: PROMEDIO | AE12: =+AVERAGE($G$2:$G$16) -> 4.0752474
A13: 12 | B13: =+'RESUMEN FINAL'!B13 -> CONSTRUCCIONES AL DIA SAS | C13: =+'RESUMEN FINAL'!D13 -> 17179765402 | D13: =+'RESUMEN FINAL'!E13 -> 3039893442 | E13: =+C13/D13 -> 5.6514367 | G13: 4.9909508 | I13: DESVIACION ESTANDAR | J13: =+STDEVA($G$2:$G$26,0) -> 59.274311 | L13: DESVIACION ESTANDAR | M13: =+STDEVA($G$2:$G$25,0) -> 6.5251143 | O13: DESVIACION ESTANDAR | P13: =+STDEVA($G$2:$G$24,0) -> 5.3340778 | R13: DESVIACION ESTANDAR | S13: =+STDEVA($G$2:$G$22,0) -> 4.0400531 | U13: DESVIACION ESTANDAR | V13: =+STDEVA($G$2:$G$21,0) -> 3.5848917 | X13: DESVIACION ESTANDAR | Y13: =+STDEVA($G$2:$G$19,0) -> 2.3476231 | AA13: DESVIACION ESTANDAR | AB13: =+STDEVA($G$2:$G$17,0) -> 1.8082189 | AD13: DESVIACION ESTANDAR | AE13: =+STDEVA($G$2:$G$16,0) -> 1.5093233
A14: 13 | B14: =+'RESUMEN FINAL'!B14 -> GRUCON S.A.S. | C14: =+'RESUMEN FINAL'!D14 -> 14472403504 | D14: =+'RESUMEN FINAL'!E14 -> 3284885640 | E14: =+C14/D14 -> 4.4057557 | G14: 5.4387399
A15: 14 | B15: =+'RESUMEN FINAL'!B15 -> ANDEAN GEOLOGICAL SERVICES LIMITADA A.G.S. | C15: =+'RESUMEN FINAL'!D15 -> 2662238091 | D15: =+'RESUMEN FINAL'!E15 -> 292609846 | E15: =+C15/D15 -> 9.0982519 | G15: 5.5396011
A16: 15 | B16: =+'RESUMEN FINAL'!B16 -> JAM INGENIERIA Y MEDIO AMBIENTE SAS | C16: =+'RESUMEN FINAL'!D16 -> 4808392174 | D16: =+'RESUMEN FINAL'!E16 -> 963422079 | E16: =+C16/D16 -> 4.9909508 | G16: 5.6514367
A17: 16 | B17: =+'RESUMEN FINAL'!B17 -> CRATOS SOLUCIONES INTEGRALES SAS | C17: =+'RESUMEN FINAL'!D17 -> 584740206 | D17: =+'RESUMEN FINAL'!E17 -> 42266017 | E17: =+C17/D17 -> 13.83476 | G17: 8.2111725
A18: 17 | B18: =+'RESUMEN FINAL'!B18 -> INGENIERIA Y GESTION DE LA INFORMACION LIMITADA INGFOCOL | C18: =+'RESUMEN FINAL'!D18 -> 364518044 | D18: =+'RESUMEN FINAL'!E18 -> 111385638 | E18: =+C18/D18 -> 3.2725767 | G18: 9.0982519
A19: 18 | B19: =+'RESUMEN FINAL'!B19 -> HIDRODUCTOS S.A.S | C19: =+'RESUMEN FINAL'!D19 -> 683349086 | D19: =+'RESUMEN FINAL'!E19 -> 73517646 | E19: =+C19/D19 -> 9.2950349 | G19: 9.2950349
A20: 19 | B20: =+'RESUMEN FINAL'!B20 -> RM INGENIEROS S.A.S | C20: =+'RESUMEN FINAL'!D20 -> 2340952150 | D20: =+'RESUMEN FINAL'!E20 -> 156229783 | E20: =+C20/D20 -> 14.984033 | G20: 13.83476
A21: 20 | B21: =+'RESUMEN FINAL'!B21 -> HYMAC INGENIERIA SAS | C21: =+'RESUMEN FINAL'!D21 -> 2385762693 | D21: =+'RESUMEN FINAL'!E21 -> 438660931 | E21: =+C21/D21 -> 5.4387399 | G21: 14.076806
A22: 21 | B22: =+'RESUMEN FINAL'!B22 -> AITEC S.A.S | C22: =+'RESUMEN FINAL'!D22 -> 5878180071 | D22: =+'RESUMEN FINAL'!E22 -> 715875851 | E22: =+C22/D22 -> 8.2111725 | G22: 14.984033
A23: 22 | B23: =+'RESUMEN FINAL'!B23 -> PROYECTAR INGENIERIA S.A.S. | C23: =+'RESUMEN FINAL'!D23 -> 8919817451 | D23: =+'RESUMEN FINAL'!E23 -> 3507290855 | E23: =+C23/D23 -> 2.5432215 | G23: 18.030359
A24: 23 | B24: =+'RESUMEN FINAL'!B24 -> INGENIERIA CIVIL Y GEODESIA SAS INCIGE SAS | C24: =+'RESUMEN FINAL'!D24 -> 5165173605 | D24: =+'RESUMEN FINAL'!E24 -> 1044917204 | E24: =+C24/D24 -> 4.9431415 | G24: 19.851317
A25: 24 | B25: =+'RESUMEN FINAL'!B25 -> ECODES INGENIERIA SAS | C25: =+'RESUMEN FINAL'!D25 -> 8273098712 | D25: =+'RESUMEN FINAL'!E25 -> 2078640588 | E25: =+C25/D25 -> 3.9800525 | G25: 26.585424
A26: 25 | B26: =+'RESUMEN FINAL'!B26 -> GRUCON S.A.S. | C26: =+'RESUMEN FINAL'!D26 -> 14472403504 | D26: =+'RESUMEN FINAL'!E26 -> 3284885640 | E26: =+C26/D26 -> 4.4057557 | G26: 308.28149
A31: No | B31: PROVEEDOR | C31: ACTIVO CORRIENTE | D31: PASIVO CORRIENTE | E31: LIQUIDEZ
A32: 1 | B32: MONTAJES Y CONSTRUCCIONES FERMAR S.A.S | C32: 39414690882 | D32: 2799974091 | E32: 14.076806
A33: 2 | B33: SOFORESTA S.A.S. | C33: 12211452043 | D33: 3733560900 | E33: 3.2707253
A34: 3 | B34: AZUL URBANO LIMITADA | C34: 8017692187 | D34: 444677339 | E34: 18.030359
A35: 4 | B35: C.I. HIDRO GEO S.A.S. | C35: 1576919821 | D35: 59315203 | E35: 26.585424
A36: 5 | B36: DESARROLLAMOS INGENIERIA S.A.S. | C36: 4220409785 | D36: 1844946200 | E36: 2.2875517
A37: 6 | B37: ETEL LTDA EN REORGANIZACION | C37: 13365875287 | D37: 6004596505 | E37: 2.2259406
A38: 7 | B38: NEW GAS AND OIL S.A.S | C38: 2922048000 | D38: 740456000 | E38: 3.9462818
A39: 8 | B39: INGENIERÍA Y CONSTRUCCIÓN PALACIO BAENA S.A.S. | C39: 4457604105 | D39: 804679616 | E39: 5.5396011
A40: 9 | B40: O R INGENIERIA S A S | C40: 5786155252 | D40: 18769065 | E40: 308.28149
A41: 10 | B41: G63 INFRAESTRUCTURA Y SERVICIOS S.A.S | C41: 7033771586 | D41: 354322660 | E41: 19.851317
A42: 11 | B42: INGENIERIA JOULES M. E. C. S.A.S. | C42: 27032499804 | D42: 6395228860 | E42: 4.2269793
A43: 12 | B43: CONSTRUCCIONES AL DIA SAS | C43: 17179765402 | D43: 3039893442 | E43: 5.6514367
... A56: 25 | B56: GRUCON S.A.S. | C56: 14472403504 | D56: 3284885640 | E56: 4.4057557

Sheet NIVEL ENDEUDAMIENTO
A1: No | B1: PROVEEDOR | C1: ACTIVO TOTAL | D1: PASIVO TOTAL | E1: INDICE DE ENDEUDAMIENTO | G1: INDICE DE ENDEUDAMIENTO
A2: 1 | B2: =+'RESUMEN FINAL'!B2 -> MONTAJES Y CONSTRUCCIONES FERMAR S.A.S | C2: =+'RESUMEN FINAL'!F2 -> 48467746992 | D2: =+'RESUMEN FINAL'!G2 -> 17400757731 | E2: =+D2/C2 -> 0.35901726 | G2: 0.071868929 | I2: N | J2: =+COUNT($G$2:$G$26) -> 25 | L2: N | M2: =+COUNT($G$2:$G$24) -> 23
A3: 2 | B3: =+'RESUMEN FINAL'!B3 -> SOFORESTA S.A.S. | C3: =+'RESUMEN FINAL'!F3 -> 27742301191 | D3: =+'RESUMEN FINAL'!G3 -> 11288777843 | E3: =+D3/C3 -> 0.4069157 | G3: 0.16175995 | I3: Valor mínimo | J3: =+QUARTILE($G$2:$G$26,0) -> 0.071868929 | L3: Valor mínimo | M3: =+QUARTILE($G$2:$G$24,0) -> 0.071868929
A4: 3 | B4: =+'RESUMEN FINAL'!B4 -> AZUL URBANO LIMITADA | C4: =+'RESUMEN FINAL'!F4 -> 8372491859 | D4: =+'RESUMEN FINAL'!G4 -> 6106962734 | E4: =+D4/C4 -> 0.72940802 | G4: 0.18912405 | I4: Q1 | J4: =+QUARTILE($G$2:$G$26,1) -> 0.25908125 | L4: Q1 | M4: =+QUARTILE($G$2:$G$24,1) -> 0.25434172
A5: 4 | B5: =+'RESUMEN FINAL'!B5 -> C.I. HIDRO GEO S.A.S. | C5: =+'RESUMEN FINAL'!F5 -> 1676213679 | D5: =+'RESUMEN FINAL'!G5 -> 682408278 | E5: =+D5/C5 -> 0.40711294 | G5: 0.21148795 | I5: Q2 | J5: =+QUARTILE($G$2:$G$26,2) -> 0.35320537 | L5: Q2 | M5: =+QUARTILE($G$2:$G$24,2) -> 0.34127996
A6: 5 | B6: =+'RESUMEN FINAL'!B6 -> DESARROLLAMOS INGENIERIA S.A.S. | C6: =+'RESUMEN FINAL'!F6 -> 5820229847 | D6: =+'RESUMEN FINAL'!G6 -> 1851177485 | E6: =+D6/C6 -> 0.31805917 | G6: 0.22218206 | I6: Q3 | J6: =+QUARTILE($G$2:$G$26,3) -> 0.40711294 | L6: Q3 | M6: =+QUARTILE($G$2:$G$24,3) -> 0.39166159
A7: 6 | B7: =+'RESUMEN FINAL'!B7 -> ETEL LTDA EN REORGANIZACION | C7: =+'RESUMEN FINAL'!F7 -> 14042100287 | D7: =+'RESUMEN FINAL'!G7 -> 9551737187 | E7: =+D7/C7 -> 0.68022141 | G7: 0.24960218 | I7: Valor máximo | J7: =+QUARTILE($G$2:$G$26,4) -> 0.72940802 | L7: Valor máximo | M7: =+QUARTILE($G$2:$G$24,4) -> 0.58280297
A8: 7 | B8: =+'RESUMEN FINAL'!B8 -> NEW GAS AND OIL S.A.S | C8: =+'RESUMEN FINAL'!F8 -> 4577499000 | D8: =+'RESUMEN FINAL'!G8 -> 740456000 | E8: =+D8/C8 -> 0.16175995 | G8: 0.25908125 | I8: RC | J8: =+J6-J4 -> 0.14803169 | L8: RC | M8: =+M6-M4 -> 0.13731988
A9: 8 | B9: =+'RESUMEN FINAL'!B9 -> INGENIERÍA Y CONSTRUCCIÓN PALACIO BAENA S.A.S. | C9: =+'RESUMEN FINAL'!F9 -> 4464618305 | D9: =+'RESUMEN FINAL'!G9 -> 1260419362 | E9: =+D9/C9 -> 0.2823129 | G9: 0.26777739 | I9: Limite inferior | J9: =+J4-(J8*1.5) -> 0.037033727 | L9: Limite inferior | M9: =+M4-(M8*1.5) -> 0.048361901
A10: 9 | B10: =+'RESUMEN FINAL'!B10 -> O R INGENIERIA S A S | C10: =+'RESUMEN FINAL'!F10 -> 8118397633 | D10: =+'RESUMEN FINAL'!G10 -> 3383683898 | E10: =+D10/C10 -> 0.41679209 | G10: 0.2823129 | I10: Limite Superior | J10: =+J6+(J8*1.5) -> 0.62916047 | L10: Limite Superior | M10: =+M6+(M8*1.5) -> 0.59764141
A11: 10 | B11: =+'RESUMEN FINAL'!B11 -> G63 INFRAESTRUCTURA Y SERVICIOS S.A.S | C11: =+'RESUMEN FINAL'!F11 -> 7301771715 | D11: =+'RESUMEN FINAL'!G11 -> 1622322660 | E11: =+D11/C11 -> 0.22218206 | G11: 0.31147673 | I11: MEDIANA | J11: =+MEDIAN($G$2:$G$26) -> 0.35320537 | L11: MEDIANA | M11: =+MEDIAN($G$2:$G$24) -> 0.34127996
A12: 11 | B12: =+'RESUMEN FINAL'!B12 -> INGENIERIA JOULES M. E. C. S.A.S. | C12: =+'RESUMEN FINAL'!F12 -> 49279486809 | D12: =+'RESUMEN FINAL'!G12 -> 12300267323 | E12: =+D12/C12 -> 0.24960218 | G12: 0.31805917 | I12: PROMEDIO | J12: =+AVERAGE($G$2:$G$26) -> 0.36297063 | L12: PROMEDIO | M12: =+AVERAGE($G$2:$G$24) -> 0.33324506
A13: 12 | B13: =+'RESUMEN FINAL'!B13 -> CONSTRUCCIONES AL DIA SAS | C13: =+'RESUMEN FINAL'!F13 -> 27644494607 | D13: =+'RESUMEN FINAL'!G13 -> 10305363350 | E13: =+D13/C13 -> 0.37278176 | G13: 0.34127996 | I13: DESVIACION ESTANDAR | J13: =+STDEVA($G$2:$G$26,0) -> 0.17208643 | L13: DESVIACION ESTANDAR | M13: =+STDEVA($G$2:$G$24,0) -> 0.14216352
A14: 13 | B14: =+'RESUMEN FINAL'!B14 -> GRUCON S.A.S. | C14: =+'RESUMEN FINAL'!F14 -> 14993414722 | D14: =+'RESUMEN FINAL'!G14 -> 5643633622 | E14: =+D14/C14 -> 0.37640749 | G14: 0.35320537 | L14: INDICADOR | M14: =M11+M13 -> 0.48344347
A15: 14 | B15: =+'RESUMEN FINAL'!B15 -> ANDEAN GEOLOGICAL SERVICES LIMITADA A.G.S. | C15: =+'RESUMEN FINAL'!F15 -> 2866552218 | D15: =+'RESUMEN FINAL'!G15 -> 1012481642 | E15: =+D15/C15 -> 0.35320537 | G15: 0.35901726
A16: 15 | B16: =+'RESUMEN FINAL'!B16 -> JAM INGENIERIA Y MEDIO AMBIENTE SAS | C16: =+'RESUMEN FINAL'!F16 -> 6597253440 | D16: =+'RESUMEN FINAL'!G16 -> 2251510375 | E16: =+D16/C16 -> 0.34127996 | G16: 0.37278176
A17: 16 | B17: =+'RESUMEN FINAL'!B17 -> CRATOS SOLUCIONES INTEGRALES SAS | C17: =+'RESUMEN FINAL'!F17 -> 588098608 | D17: =+'RESUMEN FINAL'!G17 -> 42266017 | E17: =+D17/C17 -> 0.071868929 | G17: 0.37640749
A18: 17 | B18: =+'RESUMEN FINAL'!B18 -> INGENIERIA Y GESTION DE LA INFORMACION LIMITADA INGFOCOL | C18: =+'RESUMEN FINAL'!F18 -> 415963571 | D18: =+'RESUMEN FINAL'!G18 -> 111385638 | E18: =+D18/C18 -> 0.26777739 | G18: 0.37640749
A19: 18 | B19: =+'RESUMEN FINAL'!B19 -> HIDRODUCTOS S.A.S | C19: =+'RESUMEN FINAL'!F19 -> 752832259 | D19: =+'RESUMEN FINAL'!G19 -> 142378684 | E19: =+D19/C19 -> 0.18912405 | G19: 0.4069157
A20: 19 | B20: =+'RESUMEN FINAL'!B20 -> RM INGENIEROS S.A.S | C20: =+'RESUMEN FINAL'!F20 -> 2869457406 | D20: =+'RESUMEN FINAL'!G20 -> 606855676 | E20: =+D20/C20 -> 0.21148795 | G20: 0.40711294
A21: 20 | B21: =+'RESUMEN FINAL'!B21 -> HYMAC INGENIERIA SAS | C21: =+'RESUMEN FINAL'!F21 -> 3653359380 | D21: =+'RESUMEN FINAL'!G21 -> 946516931 | E21: =+D21/C21 -> 0.25908125 | G21: 0.41679209
A22: 21 | B22: =+'RESUMEN FINAL'!B22 -> AITEC S.A.S | C22: =+'RESUMEN FINAL'!F22 -> 6610735279 | D22: =+'RESUMEN FINAL'!G22 -> 3852756143 | E22: =+D22/C22 -> 0.58280297 | G22: 0.56258146
A23: 22 | B23: =+'RESUMEN FINAL'!B23 -> PROYECTAR INGENIERIA S.A.S. | C23: =+'RESUMEN FINAL'!F23 -> 11425064329 | D23: =+'RESUMEN FINAL'!G23 -> 3558641655 | E23: =+D23/C23 -> 0.31147673 | G23: 0.56459928
A24: 23 | B24: =+'RESUMEN FINAL'!B24 -> INGENIERIA CIVIL Y GEODESIA SAS INCIGE SAS | C24: =+'RESUMEN FINAL'!F24 -> 5175812994 | D24: =+'RESUMEN FINAL'!G24 -> 2922260307 | E24: =+D24/C24 -> 0.56459928 | G24: 0.58280297
A25: 24 | B25: =+'RESUMEN FINAL'!B25 -> ECODES INGENIERIA SAS | C25: =+'RESUMEN FINAL'!F25 -> 12038211526 | D25: =+'RESUMEN FINAL'!G25 -> 6772474602 | E25: =+D25/C25 -> 0.56258146 | G25: 0.68022141
A26: 25 | B26: =+'RESUMEN FINAL'!B26 -> GRUCON S.A.S. | C26: =+'RESUMEN FINAL'!F26 -> 14993414722 | D26: =+'RESUMEN FINAL'!G26 -> 5643633622 | E26: =+D26/C26 -> 0.37640749 | G26: 0.72940802
A30: No | B30: PROVEEDOR | C30: ACTIVO TOTAL | D30: PASIVO TOTAL | E30: INDICE DE ENDEUDAMIENTO
A31: 1 | B31: MONTAJES Y CONSTRUCCIONES FERMAR S.A.S | C31: 48467746992 | D31: 17400757731 | E31: 0.35901726
A32: 2 | B32: SOFORESTA S.A.S. | C32: 27742301191 | D32: 11288777843 | E32: 0.4069157
A33: 3 | B33: AZUL URBANO LIMITADA | C33: 8372491859 | D33: 6106962734 | E33: 0.72940802
A34: 4 | B34: C.I. HIDRO GEO S.A.S. | C34: 1676213679 | D34: 682408278 | E34: 0.40711294
A35: 5 | B35: DESARROLLAMOS INGENIERIA S.A.S. | C35: 5820229847 | D35: 1851177485 | E35: 0.31805917
A36: 6 | B36: ETEL LTDA EN REORGANIZACION | C36: 14042100287 | D36: 9551737187 | E36: 0.68022141
A37: 7 | B37: NEW GAS AND OIL S.A.S | C37: 4577499000 | D37: 740456000 | E37: 0.16175995
A38: 8 | B38: INGENIERÍA Y CONSTRUCCIÓN PALACIO BAENA S.A.S. | C38: 4464618305 | D38: 1260419362 | E38: 0.2823129
A39: 9 | B39: O R INGENIERIA S A S | C39: 8118397633 | D39: 3383683898 | E39: 0.41679209
A40: 10 | B40: G63 INFRAESTRUCTURA Y SERVICIOS S.A.S | C40: 7301771715 | D40: 1622322660 | E40: 0.22218206
A41: 11 | B41: INGENIERIA JOULES M. E. C. S.A.S. | C41: 49279486809 | D41: 12300267323 | E41: 0.24960218
A42: 12 | B42: CONSTRUCCIONES AL DIA SAS | C42: 27644494607 | D42: 10305363350 | E42: 0.37278176
... A55: 25 | B55: GRUCON S.A.S. | C55: 14993414722 | D55: 5643633622 | E55: 0.37640749

Sheet RAZON COBERTURA INTERESES
A1: No | B1: PROVEEDOR | C1: UTILIDAD OPERACIONAL | D1: GASTOS DE INTERESES | E1: COBERTURA DE INTERES | G1: COBERTURA DE INTERES
A2: 1 | B2: =+'RESUMEN FINAL'!B2 -> MONTAJES Y CONSTRUCCIONES FERMAR S.A.S | C2: =+'RESUMEN FINAL'!I2 -> 17356088050 | D2: =+'RESUMEN FINAL'!J2 -> 1377601410 | E2: =C2/D2 -> 12.598773 | G2: -64.40224 | I2: N | J2: =+COUNT($G$2:$G$25) -> 24 | L2: N | M2: =+COUNT($G$3:$G$20) -> 18
A3: 2 | B3: =+'RESUMEN FINAL'!B3 -> SOFORESTA S.A.S. | C3: =+'RESUMEN FINAL'!I3 -> 4380488759 | D3: =+'RESUMEN FINAL'!J3 -> 775315429 | E3: =C3/D3 -> 5.649944 | G3: 2.9591215 | I3: Valor mínimo | J3: =+QUARTILE($G$2:$G$25,0) -> -64.40224 | L3: Valor mínimo | M3: =+QUARTILE($G$3:$G$20,0) -> 2.9591215
A4: 3 | B4: =+'RESUMEN FINAL'!B4 -> AZUL URBANO LIMITADA | C4: =+'RESUMEN FINAL'!I4 -> 98000366 | D4: =+'RESUMEN FINAL'!J4 -> 28819856 | E4: =C4/D4 -> 3.4004461 | G4: 3.4004461 | I4: Q1 | J4: =+QUARTILE($G$2:$G$25,1) -> 5.3671984 | L4: Q1 | M4: =+QUARTILE($G$3:$G$20,1) -> 4.8017073
A5: 4 | B5: =+'RESUMEN FINAL'!B5 -> C.I. HIDRO GEO S.A.S. | C5: =+'RESUMEN FINAL'!I5 -> 97791579 | D5: =+'RESUMEN FINAL'!J5 -> 249164 | E5: =C5/D5 -> 392.47876 | G5: 4.06985 | I5: Q2 | J5: =+QUARTILE($G$2:$G$25,2) -> 18.122495 | L5: Q2 | M5: =+QUARTILE($G$3:$G$20,2) -> 12.028414
A6: 5 | B6: =+'RESUMEN FINAL'!B6 -> DESARROLLAMOS INGENIERIA S.A.S. | C6: =+'RESUMEN FINAL'!I6 -> 907660945 | D6: =+'RESUMEN FINAL'!J6 -> 53385663 | E6: =C6/D6 -> 17.001961 | G6: 4.0974374 | I6: Q3 | J6: =+QUARTILE($G$2:$G$25,3) -> 28.84785 | L6: Q3 | M6: =+QUARTILE($G$3:$G$20,3) -> 21.178708
A7: 6 | B7: =+'RESUMEN FINAL'!B7 -> ETEL LTDA EN REORGANIZACION | C7: =+'RESUMEN FINAL'!I7 -> 982256908 | D7: =+'RESUMEN FINAL'!J7 -> 85726331 | E7: =C7/D7 -> 11.458054 | G7: 4.5189617 | I7: Valor máximo | J7: =+QUARTILE($G$2:$G$25,4) -> 9300.543 | L7: Valor máximo | M7: =+QUARTILE($G$3:$G$20,4) -> 28.84785
A8: 7 | B8: =+'RESUMEN FINAL'!B8 -> NEW GAS AND OIL S.A.S | C8: =+'RESUMEN FINAL'!I8 -> 236952000 | D8: =+'RESUMEN FINAL'!J8 -> 2339000 | E8: =C8/D8 -> 101.30483 | G8: 5.649944 | I8: RC | J8: =+J6-J4 -> 23.480652 | L8: RC | M8: =+M6-M4 -> 16.377001
A9: 8 | B9: =+'RESUMEN FINAL'!B9 -> INGENIERÍA Y CONSTRUCCIÓN PALACIO BAENA S.A.S. | C9: =+'RESUMEN FINAL'!I9 -> 459220023 | D9: =+'RESUMEN FINAL'!J9 -> 62607 | E9: =C9/D9 -> 7334.9629 | G9: 5.9523801 | I9: Limite inferior | J9: =+J4-(J8*1.5) -> -29.853779 | L9: Limite inferior | M9: =+M4-(M8*1.5) -> -19.763795
A10: 9 | B10: =+'RESUMEN FINAL'!B10 -> O R INGENIERIA S A S | C10: =+'RESUMEN FINAL'!I10 -> 276997384 | D10: =+'RESUMEN FINAL'!J10 -> 28552952 | E10: =C10/D10 -> 9.701182 | G10: 9.701182 | I10: Limite Superior | J10: =+J6+(J8*1.5) -> 64.068828 | L10: Limite Superior | M10: =+M6+(M8*1.5) -> 45.74421
A11: 10 | B11: =+'RESUMEN FINAL'!B11 -> G63 INFRAESTRUCTURA Y SERVICIOS S.A.S | C11: =+'RESUMEN FINAL'!I11 -> 455851068 | D11: =+'RESUMEN FINAL'!J11 -> 111252724 | E11: =C11/D11 -> 4.0974374 | G11: 11.458054 | I11: MEDIANA | J11: =+MEDIAN($G$2:$G$25) -> 18.122495 | L11: MEDIANA | M11: =+MEDIAN($G$3:G$20) -> 12.028414
A12: 11 | B12: =+'RESUMEN FINAL'!B12 -> INGENIERIA JOULES M. E. C. S.A.S. | C12: =+'RESUMEN FINAL'!I12 -> 9327753224 | D12: =+'RESUMEN FINAL'!J12 -> 484734147 | E12: =C12/D12 -> 19.243029 | G12: 12.598773 | I12: PROMEDIO | J12: =+AVERAGE($G$2:$G$25) -> 756.32261 | L12: PROMEDIO | M12: =+AVERAGE($G$3:$G$20) -> 14.16936
A13: 12 | B13: =+'RESUMEN FINAL'!B13 -> CONSTRUCCIONES AL DIA SAS | C13: =+'RESUMEN FINAL'!I13 -> 9236043657 | D13: =+'RESUMEN FINAL'!J13 -> 2043841990 | E13: =C13/D13 -> 4.5189617 | G13: 17.001961 | I13: DESVIACION ESTANDAR | J13: =+STDEVA($G$2:$G$25,0) -> 2309.2922 | L13: DESVIACION ESTANDAR | M13: =+STDEVA($G$3:$G$20,0) -> 10.01383
A14: 13 | B14: =+'RESUMEN FINAL'!B14 -> GRUCON S.A.S. | C14: =+'RESUMEN FINAL'!I14 -> 3225374041 | D14: =+'RESUMEN FINAL'!J14 -> 111806392 | E14: =C14/D14 -> 28.84785 | G14: 19.243029
A15: 14 | B15: =+'RESUMEN FINAL'!B15 -> ANDEAN GEOLOGICAL SERVICES LIMITADA A.G.S. | C15: =+'RESUMEN FINAL'!I15 -> -232899687 | D15: =+'RESUMEN FINAL'!J15 -> 3616329 | E15: =C15/D15 -> -64.40224 | G15: 20.562373
A16: 15 | B16: =+'RESUMEN FINAL'!B16 -> JAM INGENIERIA Y MEDIO AMBIENTE SAS | C16: =+'RESUMEN FINAL'!I16 -> 741625117 | D16: =+'RESUMEN FINAL'!J16 -> 34681060 | E16: =C16/D16 -> 21.384154 | G16: 21.384154
A17: 16 | B17: =+'RESUMEN FINAL'!B17 -> CRATOS SOLUCIONES INTEGRALES SAS | C17: =+'RESUMEN FINAL'!I17 -> 115326733 | D17: =+'RESUMEN FINAL'!J17 -> 12400 | E17: =C17/D17 -> 9300.543 | G17: 27.090155
A18: 17 | B18: =+'RESUMEN FINAL'!B18 -> INGENIERIA Y GESTION DE LA INFORMACION LIMITADA INGFOCOL | C18: =+'RESUMEN FINAL'!I18 -> 43044008 | D18: =+'RESUMEN FINAL'!J18 -> 1588917 | E18: =C18/D18 -> 27.090155 | G18: 27.664957
A19: 18 | B19: =+'RESUMEN FINAL'!B19 -> HIDRODUCTOS S.A.S | C19: =+'RESUMEN FINAL'!I19 -> 97906157 | D19: =+'RESUMEN FINAL'!J19 -> 117703 | E19: =C19/D19 -> 831.80681 | G19: 28.84785
A20: 19 | B20: =+'RESUMEN FINAL'!B20 -> RM INGENIEROS S.A.S | C20: =+'RESUMEN FINAL'!I20 -> 475623805 | D20: =+'RESUMEN FINAL'!J20 -> 23130784 | E20: =C20/D20 -> 20.562373 | G20: 28.84785
A21: 20 | B21: =+'RESUMEN FINAL'!B21 -> HYMAC INGENIERIA SAS | C21: =+'RESUMEN FINAL'!I21 -> 1300035926 | D21: =+'RESUMEN FINAL'!J21 -> 0 | E21: =C21/D21 -> #DIV/0! | G21: 101.30483
A22: 21 | B22: =+'RESUMEN FINAL'!B22 -> AITEC S.A.S | C22: =+'RESUMEN FINAL'!I22 -> 618323863 | D22: =+'RESUMEN FINAL'!J22 -> 208955213 | E22: =C22/D22 -> 2.9591215 | G22: 392.47876
A23: 22 | B23: =+'RESUMEN FINAL'!B23 -> PROYECTAR INGENIERIA S.A.S. | C23: =+'RESUMEN FINAL'!I23 -> 2327465156 | D23: =+'RESUMEN FINAL'!J23 -> 84130444 | E23: =C23/D23 -> 27.664957 | G23: 831.80681
A24: 23 | B24: =+'RESUMEN FINAL'!B24 -> INGENIERIA CIVIL Y GEODESIA SAS INCIGE SAS | C24: =+'RESUMEN FINAL'!I24 -> 497579245 | D24: =+'RESUMEN FINAL'!J24 -> 122259849 | E24: =C24/D24 -> 4.06985 | G24: 7334.9629
A25: 24 | B25: =+'RESUMEN FINAL'!B25 -> ECODES INGENIERIA SAS | C25: =+'RESUMEN FINAL'!I25 -> 4269277378 | D25: =+'RESUMEN FINAL'!J25 -> 717238700 | E25: =C25/D25 -> 5.9523801 | G25: 9300.543
A26: 25 | B26: =+'RESUMEN FINAL'!B26 -> GRUCON S.A.S. | C26: =+'RESUMEN FINAL'!I26 -> 3225374041 | D26: =+'RESUMEN FINAL'!J26 -> 111806392 | E26: =C26/D26 -> 28.84785 | G26: INDETERMINADO
A30: No | B30: PROVEEDOR | C30: UTILIDAD OPERACIONAL | D30: GASTOS DE INTERESES | E30: COBERTURA DE INTERES
A31: 1 | B31: MONTAJES Y CONSTRUCCIONES FERMAR S.A.S | C31: 17356088050 | D31: 1377601410 | E31: 12.598773
A32: 2 | B32: SOFORESTA S.A.S. | C32: 4380488759 | D32: 775315429 | E32: 5.649944
A33: 3 | B33: AZUL URBANO LIMITADA | C33: 98000366 | D33: 28819856 | E33: 3.4004461
A34: 4 | B34: C.I. HIDRO GEO S.A.S. | C34: 97791579 | D34: 249164 | E34: 392.47876
A35: 5 | B35: DESARROLLAMOS INGENIERIA S.A.S. | C35: 907660945 | D35: 53385663 | E35: 17.001961
A36: 6 | B36: ETEL LTDA EN REORGANIZACION | C36: 982256908 | D36: 85726331 | E36: 11.458054
A37: 7 | B37: NEW GAS AND OIL S.A.S | C37: 236952000 | D37: 2339000 | E37: 101.30483
A38: 8 | B38: INGENIERÍA Y CONSTRUCCIÓN PALACIO BAENA S.A.S. | C38: 459220023 | D38: 62607 | E38: 7334.9629
A39: 9 | B39: O R INGENIERIA S A S | C39: 276997384 | D39: 28552952 | E39: 9.701182
A40: 10 | B40: G63 INFRAESTRUCTURA Y SERVICIOS S.A.S | C40: 455851068 | D40: 111252724 | E40: 4.0974374
A41: 11 | B41: INGENIERIA JOULES M. E. C. S.A.S. | C41: 9327753224 | D41: 484734147 | E41: 19.243029
A42: 12 | B42: CONSTRUCCIONES AL DIA SAS | C42: 9236043657 | D42: 2043841990 | E42: 4.5189617
... A54: 24 | B54: GRUCON S.A.S. | C54: 3225374041 | D54: 111806392 | E54: 28.84785

Sheet CAPITAL DE TRABAJO
A1: No | B1: PROVEEDOR | C1: ACTIVO CORRIENTE | D1: PASIVO CORRIENTE | E1: CAPITAL DE TRABAJO
A2: 1 | B2: =+'RESUMEN FINAL'!B2 -> MONTAJES Y CONSTRUCCIONES FERMAR S.A.S | C2: =+'RESUMEN FINAL'!D2 -> 39414690882 | D2: =+'RESUMEN FINAL'!E2 -> 2799974091 | E2: =+C2-D2 -> 36614716791
A3: 2 | B3: =+'RESUMEN FINAL'!B3 -> SOFORESTA S.A.S. | C3: =+'RESUMEN FINAL'!D3 -> 12211452043 | D3: =+'RESUMEN FINAL'!E3 -> 3733560900 | E3: =+C3-D3 -> 8477891143
A4: 3 | B4: =+'RESUMEN FINAL'!B4 -> AZUL URBANO LIMITADA | C4: =+'RESUMEN FINAL'!D4 -> 8017692187 | D4: =+'RESUMEN FINAL'!E4 -> 444677339 | E4: =+C4-D4 -> 7573014848
A5: 4 | B5: =+'RESUMEN FINAL'!B5 -> C.I. HIDRO GEO S.A.S. | C5: =+'RESUMEN FINAL'!D5 -> 1576919821 | D5: =+'RESUMEN FINAL'!E5 -> 59315203 | E5: =+C5-D5 -> 1517604618
A6: 5 | B6: =+'RESUMEN FINAL'!B6 -> DESARROLLAMOS INGENIERIA S.A.S. | C6: =+'RESUMEN FINAL'!D6 -> 4220409785 | D6: =+'RESUMEN FINAL'!E6 -> 1844946200 | E6: =+C6-D6 -> 2375463585
A7: 6 | B7: =+'RESUMEN FINAL'!B7 -> ETEL LTDA EN REORGANIZACION | C7: =+'RESUMEN FINAL'!D7 -> 13365875287 | D7: =+'RESUMEN FINAL'!E7 -> 6004596505 | E7: =+C7-D7 -> 7361278782
A8: 7 | B8: =+'RESUMEN FINAL'!B8 -> NEW GAS AND OIL S.A.S | C8: =+'RESUMEN FINAL'!D8 -> 2922048000 | D8: =+'RESUMEN FINAL'!E8 -> 740456000 | E8: =+C8-D8 -> 2181592000
A9: 8 | B9: =+'RESUMEN FINAL'!B9 -> INGENIERÍA Y CONSTRUCCIÓN PALACIO BAENA S.A.S. | C9: =+'RESUMEN FINAL'!D9 -> 4457604105 | D9: =+'RESUMEN FINAL'!E9 -> 804679616 | E9: =+C9-D9 -> 3652924489
A10: 9 | B10: =+'RESUMEN FINAL'!B10 -> O R INGENIERIA S A S | C10: =+'RESUMEN FINAL'!D10 -> 5786155252 | D10: =+'RESUMEN FINAL'!E10 -> 18769065 | E10: =+C10-D10 -> 5767386187
A11: 10 | B11: =+'RESUMEN FINAL'!B11 -> G63 INFRAESTRUCTURA Y SERVICIOS S.A.S | C11: =+'RESUMEN FINAL'!D11 -> 7033771586 | D11: =+'RESUMEN FINAL'!E11 -> 354322660 | E11: =+C11-D11 -> 6679448926
A12: 11 | B12: =+'RESUMEN FINAL'!B12 -> INGENIERIA JOULES M. E. C. S.A.S. | C12: =+'RESUMEN FINAL'!D12 -> 27032499804 | D12: =+'RESUMEN FINAL'!E12 -> 6395228860 | E12: =+C12-D12 -> 20637270944
