Workbook
Name \a: #REF!
Name \a: #REF!
Name \b: #REF!
Name \b: #REF!
Name \c: #REF!
Name \c: #REF!
Name \l: #REF!
Name \l: #REF!
Name A_impresión_IM: #REF!
Name A_impresión_IM: #REF!
Name aiu_mat: [1]PRESUPUESTO!$AD$891
Name BASURA: [2]ANEXO2!$B$90:$M$133
Name campamentos: [1]PRESUPUESTO!$AD$883
Name carreteras: #REF!
Name carreteras: #REF!
Name CONTRATACIÓN: #REF!
Name CONTRATACIÓN: #REF!
Name CUAESTRUCT: #REF!
Name CUAESTRUCT: #REF!
Name CUAPRUEBAS: #REF!
Name CUAPRUEBAS: #REF!
Name equipos: [1]PRESUPUESTO!$AD$876
Name FM: #REF!
Name FM: #REF!
Name FMA: #REF!
Name FMA: #REF!
Name FMB: #REF!
Name FMB: #REF!
Name FMC: #REF!
Name FMC: #REF!
Name FMD: #REF!
Name FMD: #REF!
Name FME: #REF!
Name FME: #REF!
Name FSADKJFLKASD: #REF!
Name FSADKJFLKASD: #REF!
Name gastos_contrato: [1]PRESUPUESTO!$AD$885
Name GUILLERMO: [3]SMMV!$A$2:$B$7
Name HABILITADO: #REF!
Name HABILITADO: #REF!
Name herramientas: [1]PRESUPUESTO!$AD$878
Name INDI1: #REF!
Name INDI1: #REF!
Name INF_BASICA: #REF!
Name INF_BASICA: #REF!
Name inst_provis: [1]PRESUPUESTO!$AD$882
Name KK: #REF!
Name KK: #REF!
Name mano_obra_apoyo: [1]PRESUPUESTO!$AD$881
Name mano_obra_direccion: [1]PRESUPUESTO!$AD$880
Name mano_obra_directa: [1]PRESUPUESTO!$AD$872
Name materiales: [1]PRESUPUESTO!$AD$873
Name MOD: #REF!
Name MOD: #REF!
Name obser: [4]BD_SITP_08!$AP:$AV
Name porce: #REF!
Name porce: #REF!
Name porce2: #REF!
Name porce2: #REF!
Name PORT.NUEVA: [5]SMMV!$A$2:$B$7

Sheet Datos
A1: DATOS GENERALES
A2: Objeto | B2: CONTRATAR MEDIANTE EL SISTEMA DE PRECIOS UNITARIOS A MONTO AGOTABLE, LAS OBRAS DE REHABILITACIÓN Y/O CONSERVACIÓN Y/O MEJORAMIENTO Y/O MANTENIMIENTO DE PARQUES DE PROXIMIDAD DE LA LOCALIDAD DE USME
A3: No de Proceso | B3: FDLU-LP-010-2024 (117411)
A4: Presupuesto Oficial | B4: 3108643000
A5: Presupuesto Solicitado
A6: Fecha de Cierre del Proceso | B6: 45590
A7: Comité Evaluador - Técnico | B7: Edwin López
B8: Fabián Benavides
B9: Juan José Londoño
B10: Hader Rodríguez
B11: Paula Lara
B12: Jhon Santofimio
A13: Comité Evaluador - Económico
A15: Comité Evaluador - Financiero
A17: Comité Evaluador - Consolidado

Sheet Listas
A2: PROPONENTE | B2: SMMLV 2023 | C2: Método | D2: Rango (inclusive) | E2: Rango (inclusive) | F2: Método
A3: Persona Natural | B3: 1160000 | C3: Mediana con Valor Absoluto | D3: De 0.00 a 0.33 | E3: 0 | F3: Mediana con Valor Absoluto
A4: Persona Juridica | C4: Media Geométrica con presupuesto oficial | D4: De 0.34 a 0.67 | E4: 0.01 | F4: Mediana con Valor Absoluto
A5: Consorcio | C5: Media Aritmética | D5: De 0.68 a 0.99 | E5: 0.02 | F5: Mediana con Valor Absoluto
A6: Union Temporal | E6: 0.03 | F6: Mediana con Valor Absoluto
E7: 0.04 | F7: Mediana con Valor Absoluto
E8: 0.05 | F8: Mediana con Valor Absoluto
E9: 0.06 | F9: Mediana con Valor Absoluto
E10: 0.07 | F10: Mediana con Valor Absoluto
E11: 0.08 | F11: Mediana con Valor Absoluto
E12: 0.09 | F12: Mediana con Valor Absoluto
E13: 0.1 | F13: Mediana con Valor Absoluto
E14: 0.11 | F14: Mediana con Valor Absoluto
E15: 0.12 | F15: Mediana con Valor Absoluto
E16: 0.13 | F16: Mediana con Valor Absoluto
E17: 0.14 | F17: Mediana con Valor Absoluto
E18: 0.15 | F18: Mediana con Valor Absoluto
... E102: 0.99 | F102: Media Aritmética

Sheet 12
B2: FONDO DE DESARROLLO LOCAL DE USME
B3: FORMATO: EVALUACIÓN EXPERIENCIA MINIMA HABILITANTE PROPONENTES
B4: LICITACIÓN PÚBLICA
B5: =Datos!B3 -> FDLU-LP-010-2024 (117411)
B7: OBJETO: | E7: CONTRATAR MEDIANTE EL SISTEMA DE PRECIOS UNITARIOS A MONTO AGOTABLE, LAS OBRAS DE REHABILITACIÓN Y/O CONSERVACIÓN Y/O MEJORAMIENTO Y/O MANTENIMIENTO DE PARQUES DE PROXIMIDAD DE LA LOCALIDAD DE USME
B9: 1. | C9: CONSORCIO MABRIL 90 2023
G11: CUMPLE
B14: PROPONENTE (Persona Natural, Jurídica, Consorcio o Unión Temporal): | E14: CONSORCIO MABRIL 90 2023 | I14: INTEGRANTE 1: | K14: GRUPO MABRIL SAS | O14: PORCENTAJE DE PARTICIPACIÓN: | R14: 0.9
I15: INTEGRANTE 2: | K15: EDILBERTO MATEUS ALVAREZ | O15: PORCENTAJE DE PARTICIPACIÓN: | R15: 0.1
I16: INTEGRANTE 3: | O16: PORCENTAJE DE PARTICIPACIÓN:
B18: PRESUPUESTO OFICIAL ESTIMADO: | E18: =Datos!B4 -> 3108643000 | G18: PRESUPUESTO OFICIAL EN SMLMV 2024 SOLICITADO: | J18: 0.75 | K18: =((E18/1300000)*J18) -> 1793.4479
B19: REQUISITO: | E19: (-) Experiencia General: CONSTRUCCIÓN Y/O RECONSTRUCCIÓN Y/O AMPLIACIÓN Y/O TERMINACIÓN Y/O REHABILITACIÓN Y/O MEJORAMIENTO Y/O MANTENIMIENTO Y/O ADECUACIÓN DE PARQUES CONSTRUCCIÓN Y/O RECONSTRUCCIÓN Y/O AMPLIACIÓN Y/O TERMINACIÓN Y/O REHABILITACIÓN Y/O MEJORAMIENTO Y/O MANTENIMIENTO Y/O ADECUACIÓN DE ESPACIO PÚBLICO " Nota 1: Para el caso de experiencia de ESPACIO PÚBLICO se excluyen de estos las vías destinadas al tránsito vehicular, así como la conservación y/o preservación de playas marítimas. Nota 2: En el caso en el cual el proceso de selección contemple actividades de dotación de mobiliario, la experiencia válida aportada deberá acreditar en por lo menos uno (1) de los contratos actividades de suministro e instalación de mobiliario. (-) Experiencia Especifica: Con la sumatoria de hasta máximo dos (2) de los contratos válidos aportados como experiencia general debe corresponder mínimo al (F70%) del presupuesto oficial del presente proceso de selección. % DE DIMENSIONAMIENTO (Según la magnitud requerida en el proceso de contratación) Valor de F%: 70% (-) Experiencia Secundaria: ESPECÍFICA URBANISMO Y/O PAISAJISMO Por lo menos uno (1) de los contratos válidos aportados como experiencia general deben contemplar actividades de: CONSTRUCCIÓN Y/O MEJORAMIENTO Y/O REHABILITACIÓN Y/O MANTENIMIENTO Y/O ADECUACIÓN Y/O REFORZAMIENTO Y/O INTERVENCIÓN PARA URBANISMO Y/O PAISAJISMO Y/O PARQUES Y/O ESPACIO PÚBLICO.
B20: CÓDIGOS RUP SOLICITADOS | D20: 3 | E20: 72101500 | F20: 72141300 | G20: 72153100 | S20: Conteo de Codigos | T20: Cumple / NO Cumple
B21: CÓDIGOS RUP: | D21: Contrato 1 | F21: X | G21: X | S21: =COUNTA(E21:R21) -> 2 | T21: =IF(S21>=1,"CUMPLE","NO CUMPLE") -> CUMPLE
B22: CÓDIGOS RUP: | D22: Contrato 2 | E22: X | F22: X | G22: X | S22: =COUNTA(E22:R22) -> 3 | T22: =IF(S22>=1,"CUMPLE","NO CUMPLE") -> CUMPLE
E23: =COUNTA(E21:E22) -> 1 | F23: =COUNTA(F21:F22) -> 2 | G23: =COUNTA(G21:G22) -> 2 | H23: =COUNTA(H21:H22) -> 0 | I23: =COUNTA(I21:I22) -> 0 | J23: =COUNTA(J21:J22) -> 0 | K23: =COUNTA(K21:K22) -> 0 | L23: =COUNTA(L21:L22) -> 0 | ... R23: =COUNTA(R21:R22) -> 0
B24: CONSOLIDADO | E24: =IF(E23>0,1,0) -> 1 | F24: =IF(F23>0,1,0) -> 1 | G24: =IF(G23>0,1,0) -> 1 | H24: =IF(H23>0,1,0) -> 0 | I24: =IF(I23>0,1,0) -> 0 | J24: =IF(J23>0,1,0) -> 0 | K24: =IF(K23>0,1,0) -> 0 | L24: =IF(L23>0,1,0) -> 0 | ... R24: =IF(R23>0,1,0) -> 0 | S24: =SUM(E24:R24) -> 3 | T24: =IF(S24>=1,"CUMPLE","NO CUMPLE") -> CUMPLE
B26: EXPERIENCIA GENERAL
B27: No. | C27: NÚMERO DEL CONSECUTIVO DEL REPORTE DEL CONTRATO EJECUTADO (Escriba el No. de consecutivo asignado por la Camara de Comercio al contrato en el RUP) | D27: # PAGINA DEL RUP (PDF) DONDE SE ENCUENTRA EL CONSECUTIVO | E27: ENTIDAD CONTRATANTE (Escriba el Nombre de la entidad con la cual suscribió la experiencia ante la Camara de Comercio.) | F27: OBJETO DEL CONTRATO (Indique tal como aparece en la certificación y/o acta de liquidación, y/o acta de terminación) | I27: Experiencia General CUMPLE / NO CUMPLE | J27: Experiencia General (Intervención de redes de servicios públicos.) CUMPLE / NO CUMPLE | K27: Experiencia Especifica CUMPLE / NO CUMPLE | L27: NOMBRE DEL ARCHIVO SOPORTE APORTADO PARA VALIDAR LOS REQUERIMIENTOS SOLICITADOS. (Certificaciones, Contratos, Acta de Liquidacion y/o Facturas y/o cualquier otro documento que considere necesario) | N27: CODIGOS CLASIFICACIÓN UNSPSC CUMPLE / NO CUMPLE | O27: NOMBRE PARTICIPANTE QUE APORTA LA EXPERIENCIA | P27: % PARTICIPACION EN EL CONSORCIO O UNIÓN TEMPORAL | Q27: VALOR DEL CONTRATO EN SMMLV RELACIONADOS EN EL RUP | R27: VALOR DEL CONTRATO EN SMMLV X PORCENTAJE PARTICIPACIÓN | S27: OBSERVACIONES
B29: 1 | C29: 34 | D29: 39 | E29: IDRD | F29: REALIZAR POR SISTEMA DE PRECIO GLOBAL FIJO LOS DISEÑOS Y ESTUDIOS Y POR EL SISTEMA DE PRECIOS UNITARIOS FIJOS LA CONSTRUCCION DE DIFERENTES PARQUES DE LA LOCALIDAD DE SUBA DE BOGOTA DC | I29: CUMPLE | J29: CUMPLE | K29: CUMPLE | L29: EXPERIENCIA PARQUES USME-ACTA DE RECIBO FINAL PAGINA 10 | N29: CUMPLE | O29: =K15 -> EDILBERTO MATEUS ALVAREZ | P29: =R15 -> 0.1 | Q29: 2279.98 | R29: =Q29*P29 -> 227.998
B30: 2 | C30: 19 | D30: 121 | E30: FONDO DE DESARROLLO LOCAL DE RAFEL URIBE URIBE | F30: “CONTRATAR A PRECIOS UNITARIOS FIJOS, A MONTO AGOTABLE, LA CONSTRUCCIÓN, MEJORAMIENTO, MANTENIMIENTO Y/O DOTACIÓN DE LOS PARQUES CATALOGADOS COMO VECINALES Y DE BOLSILLO, DE LA LOCALIDAD DE RAFAEL URIBE URIBE EN BOGOTÁ D.C”. | I30: CUMPLE | J30: CUMPLE | K30: CUMPLE | L30: EXPERIENCIA PARQUES USME-ACTA DE RECIBO FINAL PAGINA 21 | N30: CUMPLE | O30: =K14 -> GRUPO MABRIL SAS | P30: =R14 -> 0.9 | Q30: 4477.77 | R30: =Q30*P30 -> 4029.993
B32: VALOR SUMATORIA CONTRATOS ACREDITADOS PARA EXPERIENCIA HABILITANTE DEL PROPONENTE: | R32: =SUM(R29:R30) -> 4257.991 | S32: =IF(R32>K18,"CUMPLE","NO CUMPLE") -> CUMPLE
Q34: 0.7 | R34: =(E18*Q34)/R35 -> 1673.8847
R35: 1300000
B38: NOTAS: 1. Para acreditar la experiencia el oferente deberá adjuntar las Actas de Liquidación o Acta de entrega o terminación o final o de recibo definitivo o Certificación de experienci o Acta de inicio o la orden de inicio, y adicional cualquier otro documento por medio del cual se soporte el cumplimiento de las condiciones de experiencia solicitadas en el Proceso. 2. En caso de encontrar discrepancias entre los valores reportados en el Formato y los registrados en el RUP, la Entidad tendrá en cuenta el orden de prevalencia realacionadoa anteriormente.

Sheet 13
B2: FONDO DE DESARROLLO LOCAL DE USME
B3: FORMATO: EVALUACIÓN EXPERIENCIA MINIMA HABILITANTE PROPONENTES
B4: LICITACIÓN PÚBLICA
B5: =Datos!B3 -> FDLU-LP-010-2024 (117411)
B7: OBJETO: | E7: CONTRATAR MEDIANTE EL SISTEMA DE PRECIOS UNITARIOS A MONTO AGOTABLE, LAS OBRAS DE REHABILITACIÓN Y/O CONSERVACIÓN Y/O MEJORAMIENTO Y/O MANTENIMIENTO DE PARQUES DE PROXIMIDAD DE LA LOCALIDAD DE USME
B9: 1. | C9: CONSORCIO VG PARQUES
G11: CUMPLE
B14: PROPONENTE (Persona Natural, Jurídica, Consorcio o Unión Temporal): | E14: CONSORCIO VG PARQUES | I14: INTEGRANTE 1: | K14: VIGAVI ZOMAC SAS | O14: PORCENTAJE DE PARTICIPACIÓN: | R14: 0.9
I15: INTEGRANTE 2: | K15: GRUPO GRAVA S.A.S. | O15: PORCENTAJE DE PARTICIPACIÓN: | R15: 0.1
I16: INTEGRANTE 3: | O16: PORCENTAJE DE PARTICIPACIÓN:
B18: PRESUPUESTO OFICIAL ESTIMADO: | E18: =Datos!B4 -> 3108643000 | G18: PRESUPUESTO OFICIAL EN SMLMV 2024 SOLICITADO: | J18: 1.2 | K18: =((E18/1300000)*J18) -> 2869.5166
B19: REQUISITO: | E19: (-) Experiencia General: CONSTRUCCIÓN Y/O RECONSTRUCCIÓN Y/O AMPLIACIÓN Y/O TERMINACIÓN Y/O REHABILITACIÓN Y/O MEJORAMIENTO Y/O MANTENIMIENTO Y/O ADECUACIÓN DE PARQUES CONSTRUCCIÓN Y/O RECONSTRUCCIÓN Y/O AMPLIACIÓN Y/O TERMINACIÓN Y/O REHABILITACIÓN Y/O MEJORAMIENTO Y/O MANTENIMIENTO Y/O ADECUACIÓN DE ESPACIO PÚBLICO " Nota 1: Para el caso de experiencia de ESPACIO PÚBLICO se excluyen de estos las vías destinadas al tránsito vehicular, así como la conservación y/o preservación de playas marítimas. Nota 2: En el caso en el cual el proceso de selección contemple actividades de dotación de mobiliario, la experiencia válida aportada deberá acreditar en por lo menos uno (1) de los contratos actividades de suministro e instalación de mobiliario. (-) Experiencia Especifica: Con la sumatoria de hasta máximo dos (2) de los contratos válidos aportados como experiencia general debe corresponder mínimo al (F70%) del presupuesto oficial del presente proceso de selección. % DE DIMENSIONAMIENTO (Según la magnitud requerida en el proceso de contratación) Valor de F%: 70% (-) Experiencia Secundaria: ESPECÍFICA URBANISMO Y/O PAISAJISMO Por lo menos uno (1) de los contratos válidos aportados como experiencia general deben contemplar actividades de: CONSTRUCCIÓN Y/O MEJORAMIENTO Y/O REHABILITACIÓN Y/O MANTENIMIENTO Y/O ADECUACIÓN Y/O REFORZAMIENTO Y/O INTERVENCIÓN PARA URBANISMO Y/O PAISAJISMO Y/O PARQUES Y/O ESPACIO PÚBLICO.
B20: CÓDIGOS RUP SOLICITADOS | D20: 3 | E20: 72101500 | F20: 72141300 | G20: 72153100 | S20: Conteo de Codigos | T20: Cumple / NO Cumple
B21: CÓDIGOS RUP: | D21: Contrato 1 | G21: X | S21: =COUNTA(E21:R21) -> 1 | T21: =IF(S21>=1,"CUMPLE","NO CUMPLE") -> CUMPLE
B22: CÓDIGOS RUP: | D22: Contrato 2 | G22: X | S22: =COUNTA(E22:R22) -> 1 | T22: =IF(S22>=1,"CUMPLE","NO CUMPLE") -> CUMPLE
B23: CÓDIGOS RUP: | D23: Contrato 3 | G23: X | S23: =COUNTA(E23:R23) -> 1 | T23: =IF(S23>=1,"CUMPLE","NO CUMPLE") -> CUMPLE
B24: CÓDIGOS RUP: | D24: Contrato 4 | G24: X | S24: =COUNTA(E24:R24) -> 1 | T24: =IF(S24>=1,"CUMPLE","NO CUMPLE") -> CUMPLE
E25: =COUNTA(E21:E24) -> 0 | F25: =COUNTA(F21:F24) -> 0 | G25: =COUNTA(G21:G24) -> 4 | H25: =COUNTA(H21:H24) -> 0 | I25: =COUNTA(I21:I24) -> 0 | J25: =COUNTA(J21:J24) -> 0 | K25: =COUNTA(K21:K24) -> 0 | L25: =COUNTA(L21:L24) -> 0 | ... R25: =COUNTA(R21:R24) -> 0
B26: CONSOLIDADO | E26: =IF(E25>0,1,0) -> 0 | F26: =IF(F25>0,1,0) -> 0 | G26: =IF(G25>0,1,0) -> 1 | H26: =IF(H25>0,1,0) -> 0 | I26: =IF(I25>0,1,0) -> 0 | J26: =IF(J25>0,1,0) -> 0 | K26: =IF(K25>0,1,0) -> 0 | L26: =IF(L25>0,1,0) -> 0 | ... R26: =IF(R25>0,1,0) -> 0 | S26: =SUM(E26:R26) -> 1 | T26: =IF(S26>=1,"CUMPLE","NO CUMPLE") -> CUMPLE
B28: EXPERIENCIA GENERAL
B29: No. | C29: NÚMERO DEL CONSECUTIVO DEL REPORTE DEL CONTRATO EJECUTADO (Escriba el No. de consecutivo asignado por la Camara de Comercio al contrato en el RUP) | D29: # PAGINA DEL RUP (PDF) DONDE SE ENCUENTRA EL CONSECUTIVO | E29: ENTIDAD CONTRATANTE (Escriba el Nombre de la entidad con la cual suscribió la experiencia ante la Camara de Comercio.) | F29: OBJETO DEL CONTRATO (Indique tal como aparece en la certificación y/o acta de liquidación, y/o acta de terminación) | I29: Experiencia General CUMPLE / NO CUMPLE | J29: Experiencia General (Intervención de redes de servicios públicos.) CUMPLE / NO CUMPLE | K29: Experiencia Especifica CUMPLE / NO CUMPLE | L29: NOMBRE DEL ARCHIVO SOPORTE APORTADO PARA VALIDAR LOS REQUERIMIENTOS SOLICITADOS. (Certificaciones, Contratos, Acta de Liquidacion y/o Facturas y/o cualquier otro documento que considere necesario) | N29: CODIGOS CLASIFICACIÓN UNSPSC CUMPLE / NO CUMPLE | O29: NOMBRE PARTICIPANTE QUE APORTA LA EXPERIENCIA | P29: % PARTICIPACION EN EL CONSORCIO O UNIÓN TEMPORAL | Q29: VALOR DEL CONTRATO EN SMMLV RELACIONADOS EN EL RUP | R29: VALOR DEL CONTRATO EN SMMLV X PORCENTAJE PARTICIPACIÓN | S29: OBSERVACIONES
B31: 1 | C31: 63 | D31: 187 | E31: Municipio de Uribia | F31: ADECUACION DEL PARQUE LOS FUNDADORES DEL MUNICIPIO DE URIBIA, DEPARTAMENTO DE LA GUAJIRA | I31: CUMPLE | J31: CUMPLE | K31: CUMPLE | L31: Experiencia-1. 1826431 | N31: CUMPLE | O31: =K15 -> GRUPO GRAVA S.A.S. | P31: 1 | Q31: 4277.21 | R31: =Q31*P31 -> 4277.21 | S31: EL CODIGO RUP REPORTADO EN EL FORMATO DE EXPRIENCIA NO CORRESPONDE AL LOS SOLICITADOS, SIN EMBARGO SE VERIFICARON LOS RUP DE CADA UNO DE LOS CONTRATOS Y SI CLASIFICAN
B32: 2 | C32: 27 | D32: 78 | E32: Municipio de Hatonuevo | F32: OBRAS DE REHABILITACION Y MEJORAMIENTO DE EQUIPAMENTO URBANO | I32: CUMPLE | J32: CUMPLE | K32: CUMPLE | L32: Experiencia-Certificado de Experiencia | N32: CUMPLE | O32: =K14 -> VIGAVI ZOMAC SAS | P32: 0.92 | Q32: 7855.44 | R32: =Q32*P32 -> 7227.0048 | S32: EL CODIGO RUP REPORTADO EN EL FORMATO DE EXPRIENCIA NO CORRESPONDE AL LOS SOLICITADOS, SIN EMBARGO SE VERIFICARON LOS RUP DE CADA UNO DE LOS CONTRATOS Y SI CLASIFICAN
B33: 3 | C33: 65 | D33: 195 | E33: Universidad de la Guajira | F33: CONSTRUCCION DE DOS CANCHA MULTIFUNCIONAL CUBIERTA EN LA UNIVERSIDAD DE LA GUAJIRA, SEDE RIOHACHA | I33: CUMPLE | J33: CUMPLE | K33: CUMPLE | L33: Experiencia-1. 3. 1826435 | N33: CUMPLE | O33: =K14 -> VIGAVI ZOMAC SAS | P33: 1 | Q33: 2089.54 | R33: =Q33*P33 -> 2089.54 | S33: EL CODIGO RUP REPORTADO EN EL FORMATO DE EXPRIENCIA NO CORRESPONDE AL LOS SOLICITADOS, SIN EMBARGO SE VERIFICARON LOS RUP DE CADA UNO DE LOS CONTRATOS Y SI CLASIFICAN
B34: 4 | C34: 43 | D34: 127 | E34: Universidad de la Guajira | F34: CONSTRUCCION DE DOS (2) CANCHAS MULTIFUNCIONALES CUBIERTAS EN LA UNIVERSIDAD DE LA GUAJIRA, EXTENSION FONSECA Y VILLANUVA | I34: CUMPLE | J34: CUMPLE | K34: CUMPLE | L34: Experiencia-1. 4. 1826393 | N34: CUMPLE | O34: =K14 -> VIGAVI ZOMAC SAS | P34: 1 | Q34: 2171.86 | R34: =Q34*P34 -> 2171.86 | S34: EL CODIGO RUP REPORTADO EN EL FORMATO DE EXPRIENCIA NO CORRESPONDE AL LOS SOLICITADOS, SIN EMBARGO SE VERIFICARON LOS RUP DE CADA UNO DE LOS CONTRATOS Y SI CLASIFICAN
B36: VALOR SUMATORIA CONTRATOS ACREDITADOS PARA EXPERIENCIA HABILITANTE DEL PROPONENTE: | R36: =SUM(R31:R34) -> 15765.615 | S36: =IF(R36>K18,"CUMPLE","NO CUMPLE") -> CUMPLE
Q38: 0.7 | R38: =(E18*Q38)/R39 -> 1673.8847
R39: 1300000
B41: NOTAS: 1. Para acreditar la experiencia el oferente deberá adjuntar las Actas de Liquidación o Acta de entrega o terminación o final o de recibo definitivo o Certificación de experienci o Acta de inicio o la orden de inicio, y adicional cualquier otro documento por medio del cual se soporte el cumplimiento de las condiciones de experiencia solicitadas en el Proceso. 2. En caso de encontrar discrepancias entre los valores reportados en el Formato y los registrados en el RUP, la Entidad tendrá en cuenta el orden de prevalencia realacionadoa anteriormente.

Sheet 14
B2: FONDO DE DESARROLLO LOCAL DE USME
B3: FORMATO: EVALUACIÓN EXPERIENCIA MINIMA HABILITANTE PROPONENTES
B4: LICITACIÓN PÚBLICA
B5: =Datos!B3 -> FDLU-LP-010-2024 (117411)
B7: OBJETO: | E7: CONTRATAR MEDIANTE EL SISTEMA DE PRECIOS UNITARIOS A MONTO AGOTABLE, LAS OBRAS DE REHABILITACIÓN Y/O CONSERVACIÓN Y/O MEJORAMIENTO Y/O MANTENIMIENTO DE PARQUES DE PROXIMIDAD DE LA LOCALIDAD DE USME
B9: 1. | C9: OBRAS CYC SAS
G11: CUMPLE
B14: PROPONENTE (Persona Natural, Jurídica, Consorcio o Unión Temporal): | E14: OBRAS CYC SAS | I14: INTEGRANTE 1: | K14: OBRAS CYC SAS | O14: PORCENTAJE DE PARTICIPACIÓN: | R14: 1
I15: INTEGRANTE 2: | O15: PORCENTAJE DE PARTICIPACIÓN:
I16: INTEGRANTE 3: | O16: PORCENTAJE DE PARTICIPACIÓN:
B18: PRESUPUESTO OFICIAL ESTIMADO: | E18: =Datos!B4 -> 3108643000 | G18: PRESUPUESTO OFICIAL EN SMLMV 2024 SOLICITADO: | J18: 0.75 | K18: =((E18/1300000)*J18) -> 1793.4479
B19: REQUISITO: | E19: (-) Experiencia General: CONSTRUCCIÓN Y/O RECONSTRUCCIÓN Y/O AMPLIACIÓN Y/O TERMINACIÓN Y/O REHABILITACIÓN Y/O MEJORAMIENTO Y/O MANTENIMIENTO Y/O ADECUACIÓN DE PARQUES CONSTRUCCIÓN Y/O RECONSTRUCCIÓN Y/O AMPLIACIÓN Y/O TERMINACIÓN Y/O REHABILITACIÓN Y/O MEJORAMIENTO Y/O MANTENIMIENTO Y/O ADECUACIÓN DE ESPACIO PÚBLICO " Nota 1: Para el caso de experiencia de ESPACIO PÚBLICO se excluyen de estos las vías destinadas al tránsito vehicular, así como la conservación y/o preservación de playas marítimas. Nota 2: En el caso en el cual el proceso de selección contemple actividades de dotación de mobiliario, la experiencia válida aportada deberá acreditar en por lo menos uno (1) de los contratos actividades de suministro e instalación de mobiliario. (-) Experiencia Especifica: Con la sumatoria de hasta máximo dos (2) de los contratos válidos aportados como experiencia general debe corresponder mínimo al (F70%) del presupuesto oficial del presente proceso de selección. % DE DIMENSIONAMIENTO (Según la magnitud requerida en el proceso de contratación) Valor de F%: 70% (-) Experiencia Secundaria: ESPECÍFICA URBANISMO Y/O PAISAJISMO Por lo menos uno (1) de los contratos válidos aportados como experiencia general deben contemplar actividades de: CONSTRUCCIÓN Y/O MEJORAMIENTO Y/O REHABILITACIÓN Y/O MANTENIMIENTO Y/O ADECUACIÓN Y/O REFORZAMIENTO Y/O INTERVENCIÓN PARA URBANISMO Y/O PAISAJISMO Y/O PARQUES Y/O ESPACIO PÚBLICO.
B20: CÓDIGOS RUP SOLICITADOS | D20: 3 | E20: 72101500 | F20: 72141300 | G20: 72153100 | S20: Conteo de Codigos | T20: Cumple / NO Cumple
B21: CÓDIGOS RUP: | D21: Contrato 1 | E21: X | F21: X | G21: X | S21: =COUNTA(E21:R21) -> 3 | T21: =IF(S21>=1,"CUMPLE","NO CUMPLE") -> CUMPLE
B22: CÓDIGOS RUP: | D22: Contrato 2 | E22: X | F22: X | G22: X | S22: =COUNTA(E22:R22) -> 3 | T22: =IF(S22>=1,"CUMPLE","NO CUMPLE") -> CUMPLE
E23: =COUNTA(E21:E22) -> 2 | F23: =COUNTA(F21:F22) -> 2 | G23: =COUNTA(G21:G22) -> 2 | H23: =COUNTA(H21:H22) -> 0 | I23: =COUNTA(I21:I22) -> 0 | J23: =COUNTA(J21:J22) -> 0 | K23: =COUNTA(K21:K22) -> 0 | L23: =COUNTA(L21:L22) -> 0 | ... R23: =COUNTA(R21:R22) -> 0
B24: CONSOLIDADO | E24: =IF(E23>0,1,0) -> 1 | F24: =IF(F23>0,1,0) -> 1 | G24: =IF(G23>0,1,0) -> 1 | H24: =IF(H23>0,1,0) -> 0 | I24: =IF(I23>0,1,0) -> 0 | J24: =IF(J23>0,1,0) -> 0 | K24: =IF(K23>0,1,0) -> 0 | L24: =IF(L23>0,1,0) -> 0 | ... R24: =IF(R23>0,1,0) -> 0 | S24: =SUM(E24:R24) -> 3 | T24: =IF(S24>=1,"CUMPLE","NO CUMPLE") -> CUMPLE
B26: EXPERIENCIA GENERAL
B27: No. | C27: NÚMERO DEL CONSECUTIVO DEL REPORTE DEL CONTRATO EJECUTADO (Escriba el No. de consecutivo asignado por la Camara de Comercio al contrato en el RUP) | D27: # PAGINA DEL RUP (PDF) DONDE SE ENCUENTRA EL CONSECUTIVO | E27: ENTIDAD CONTRATANTE (Escriba el Nombre de la entidad con la cual suscribió la experiencia ante la Camara de Comercio.) | F27: OBJETO DEL CONTRATO (Indique tal como aparece en la certificación y/o acta de liquidación, y/o acta de terminación) | I27: Experiencia General CUMPLE / NO CUMPLE | J27: Experiencia General (Intervención de redes de servicios públicos.) CUMPLE / NO CUMPLE | K27: Experiencia Especifica CUMPLE / NO CUMPLE | L27: NOMBRE DEL ARCHIVO SOPORTE APORTADO PARA VALIDAR LOS REQUERIMIENTOS SOLICITADOS. (Certificaciones, Contratos, Acta de Liquidacion y/o Facturas y/o cualquier otro documento que considere necesario) | N27: CODIGOS CLASIFICACIÓN UNSPSC CUMPLE / NO CUMPLE | O27: NOMBRE PARTICIPANTE QUE APORTA LA EXPERIENCIA | P27: % PARTICIPACION EN EL CONSORCIO O UNIÓN TEMPORAL | Q27: VALOR DEL CONTRATO EN SMMLV RELACIONADOS EN EL RUP | R27: VALOR DEL CONTRATO EN SMMLV X PORCENTAJE PARTICIPACIÓN | S27: OBSERVACIONES
B29: 1 | C29: 7 | D29: 28 | E29: MUNICIPIO DE CAJICA | F29: DISEÑO Y CONSTRUCCIÓN DE ANDENES, ALAMEDAS Y CICLO RUTAS PARA LA CRA. 6A. COSTADO ORIENTAL, LA AVENIDA CAVELIER COSTADO NORTE Y CICLO RUTA CENTRAL, ALAMEDA PABLO HERRERA Y ESCUELA POMPILIO MARTÍNEZ COSTADO NORTE POR LA DIAGONAL SEGUNDA, EN EL MUNICIPIO DE CAJICÁ/CUNDINAMARCA | I29: CUMPLE | J29: CUMPLE | K29: CUMPLE | L29: 1-EXP_1 | N29: CUMPLE | O29: =K14 -> OBRAS CYC SAS | P29: 1 | Q29: 14344.91 | R29: =Q29*P29 -> 14344.91
B30: 2 | C30: 71 | D30: 145 | E30: FONDO DE DESARROLLO LOCAL DE SUBA | F30: CONTRATAR MEDIANTE EL SISTEMA DE PRECIOS UNITARIOS Y A MONTO AGOTABLE, EL MANTENIMIENTO DE LA INFRAESTRUCTURA FISICA, ASI COMO PROVEER E INSTALAR MOBILIARIO URBANO DE LOS PARQUES VECINALES Y DE BOLSILLO DE LA LOCALIDAD DE SUBA QUE CONFORMAN EL SISTEMA DISTRITAL DE PARQUES | I30: CUMPLE | J30: CUMPLE | K30: CUMPLE | L30: 1-EXP_1 | N30: CUMPLE | O30: =K14 -> OBRAS CYC SAS | P30: 1 | Q30: 7481.16 | R30: =Q30*P30 -> 7481.16
B32: VALOR SUMATORIA CONTRATOS ACREDITADOS PARA EXPERIENCIA HABILITANTE DEL PROPONENTE: | R32: =SUM(R29:R30) -> 21826.07 | S32: =IF(R32>K18,"CUMPLE","NO CUMPLE") -> CUMPLE
Q34: 0.7 | R34: =(E18*Q34)/R35 -> 1673.8847
R35: 1300000
B37: NOTAS: 1. Para acreditar la experiencia el oferente deberá adjuntar las Actas de Liquidación o Acta de entrega o terminación o final o de recibo definitivo o Certificación de experienci o Acta de inicio o la orden de inicio, y adicional cualquier otro documento por medio del cual se soporte el cumplimiento de las condiciones de experiencia solicitadas en el Proceso. 2. En caso de encontrar discrepancias entre los valores reportados en el Formato y los registrados en el RUP, la Entidad tendrá en cuenta el orden de prevalencia realacionadoa anteriormente.

Sheet 29
B2: FONDO DE DESARROLLO LOCAL DE USME
B3: FORMATO: EVALUACIÓN EXPERIENCIA MINIMA HABILITANTE PROPONENTES
B4: LICITACIÓN PÚBLICA
B5: =Datos!B3 -> FDLU-LP-010-2024 (117411)
B7: OBJETO: | E7: CONTRATAR MEDIANTE EL SISTEMA DE PRECIOS UNITARIOS A MONTO AGOTABLE, LAS OBRAS DE REHABILITACIÓN Y/O CONSERVACIÓN Y/O MEJORAMIENTO Y/O MANTENIMIENTO DE PARQUES DE PROXIMIDAD DE LA LOCALIDAD DE USME
B9: 1. | C9: Marva construcciones sas
G11: CUMPLE
B14: PROPONENTE (Persona Natural, Jurídica, Consorcio o Unión Temporal): | E14: Marva construcciones sas | I14: INTEGRANTE 1: | K14: Marva construcciones sas | O14: PORCENTAJE DE PARTICIPACIÓN: | R14: 1
I15: INTEGRANTE 2: | O15: PORCENTAJE DE PARTICIPACIÓN:
I16: INTEGRANTE 3: | O16: PORCENTAJE DE PARTICIPACIÓN:
B18: PRESUPUESTO OFICIAL ESTIMADO: | E18: =Datos!B4 -> 3108643000 | G18: PRESUPUESTO OFICIAL EN SMLMV 2024 SOLICITADO: | J18: 0.75 | K18: =((E18/1300000)*J18) -> 1793.4479
B19: REQUISITO: | E19: (-) Experiencia General: CONSTRUCCIÓN Y/O RECONSTRUCCIÓN Y/O AMPLIACIÓN Y/O TERMINACIÓN Y/O REHABILITACIÓN Y/O MEJORAMIENTO Y/O MANTENIMIENTO Y/O ADECUACIÓN DE PARQUES CONSTRUCCIÓN Y/O RECONSTRUCCIÓN Y/O AMPLIACIÓN Y/O TERMINACIÓN Y/O REHABILITACIÓN Y/O MEJORAMIENTO Y/O MANTENIMIENTO Y/O ADECUACIÓN DE ESPACIO PÚBLICO " Nota 1: Para el caso de experiencia de ESPACIO PÚBLICO se excluyen de estos las vías destinadas al tránsito vehicular, así como la conservación y/o preservación de playas marítimas. Nota 2: En el caso en el cual el proceso de selección contemple actividades de dotación de mobiliario, la experiencia válida aportada deberá acreditar en por lo menos uno (1) de los contratos actividades de suministro e instalación de mobiliario. (-) Experiencia Especifica: Con la sumatoria de hasta máximo dos (2) de los contratos válidos aportados como experiencia general debe corresponder mínimo al (F70%) del presupuesto oficial del presente proceso de selección. % DE DIMENSIONAMIENTO (Según la magnitud requerida en el proceso de contratación) Valor de F%: 70% (-) Experiencia Secundaria: ESPECÍFICA URBANISMO Y/O PAISAJISMO Por lo menos uno (1) de los contratos válidos aportados como experiencia general deben contemplar actividades de: CONSTRUCCIÓN Y/O MEJORAMIENTO Y/O REHABILITACIÓN Y/O MANTENIMIENTO Y/O ADECUACIÓN Y/O REFORZAMIENTO Y/O INTERVENCIÓN PARA URBANISMO Y/O PAISAJISMO Y/O PARQUES Y/O ESPACIO PÚBLICO.
B20: CÓDIGOS RUP SOLICITADOS | D20: 3 | E20: 72101500 | F20: 72141300 | G20: 72153100 | S20: Conteo de Codigos | T20: Cumple / NO Cumple
B21: CÓDIGOS RUP: | D21: Contrato 1 | E21: X | F21: X | G21: X | S21: =COUNTA(E21:R21) -> 3 | T21: =IF(S21>=1,"CUMPLE","NO CUMPLE") -> CUMPLE
B22: CÓDIGOS RUP: | D22: Contrato 2 | E22: X | F22: X | G22: X | S22: =COUNTA(E22:R22) -> 3 | T22: =IF(S22>=1,"CUMPLE","NO CUMPLE") -> CUMPLE
B23: CÓDIGOS RUP: | D23: Contrato 3 | E23: X | F23: X | G23: X | S23: =COUNTA(E23:R23) -> 3 | T23: =IF(S23>=1,"CUMPLE","NO CUMPLE") -> CUMPLE
E24: =COUNTA(E21:E23) -> 3 | F24: =COUNTA(F21:F23) -> 3 | G24: =COUNTA(G21:G23) -> 3 | H24: =COUNTA(H21:H23) -> 0 | I24: =COUNTA(I21:I23) -> 0 | J24: =COUNTA(J21:J23) -> 0 | K24: =COUNTA(K21:K23) -> 0 | L24: =COUNTA(L21:L23) -> 0 | ... R24: =COUNTA(R21:R23) -> 0
B25: CONSOLIDADO | E25: =IF(E24>0,1,0) -> 1 | F25: =IF(F24>0,1,0) -> 1 | G25: =IF(G24>0,1,0) -> 1 | H25: =IF(H24>0,1,0) -> 0 | I25: =IF(I24>0,1,0) -> 0 | J25: =IF(J24>0,1,0) -> 0 | K25: =IF(K24>0,1,0) -> 0 | L25: =IF(L24>0,1,0) -> 0 | ... R25: =IF(R24>0,1,0) -> 0 | S25: =SUM(E25:R25) -> 3 | T25: =IF(S25>=1,"CUMPLE","NO CUMPLE") -> CUMPLE
B27: EXPERIENCIA GENERAL
B28: No. | C28: NÚMERO DEL CONSECUTIVO DEL REPORTE DEL CONTRATO EJECUTADO (Escriba el No. de consecutivo asignado por la Camara de Comercio al contrato en el RUP) | D28: # PAGINA DEL RUP (PDF) DONDE SE ENCUENTRA EL CONSECUTIVO | E28: ENTIDAD CONTRATANTE (Escriba el Nombre de la entidad con la cual suscribió la experiencia ante la Camara de Comercio.) | F28: OBJETO DEL CONTRATO (Indique tal como aparece en la certificación y/o acta de liquidación, y/o acta de terminación) | I28: Experiencia General CUMPLE / NO CUMPLE | J28: Experiencia General (Intervención de redes de servicios públicos.) CUMPLE / NO CUMPLE | K28: Experiencia Especifica CUMPLE / NO CUMPLE | L28: NOMBRE DEL ARCHIVO SOPORTE APORTADO PARA VALIDAR LOS REQUERIMIENTOS SOLICITADOS. (Certificaciones, Contratos, Acta de Liquidacion y/o Facturas y/o cualquier otro documento que considere necesario) | N28: CODIGOS CLASIFICACIÓN UNSPSC CUMPLE / NO CUMPLE | O28: NOMBRE PARTICIPANTE QUE APORTA LA EXPERIENCIA | P28: % PARTICIPACION EN EL CONSORCIO O UNIÓN TEMPORAL | Q28: VALOR DEL CONTRATO EN SMMLV RELACIONADOS EN EL RUP | R28: VALOR DEL CONTRATO EN SMMLV X PORCENTAJE PARTICIPACIÓN | S28: OBSERVACIONES
B30: 1 | C30: 149 | D30: 497 | E30: MUNICIPIO DE YAGUARA | F30: CONSTRUCCION DE OBRAS DE URBANISMO PARA EL PROYECTO DE LA URBANIZACION AGUA DULCE DEL MUNICIPIO DE YAGUARA | I30: CUMPLE | J30: CUMPLE | K30: CUMPLE | L30: 149. YAGUARA CTO 004 DE 2011 | N30: CUMPLE | O30: =K14 -> Marva construcciones sas | P30: 1 | Q30: 787.44 | R30: =Q30*P30 -> 787.44
B31: 2 | C31: 220 | D31: 774 | E31: EMPRESA DE VIVIENDA DE ANTIOQUIA - VIVA | F31: CONSTRUCCIÓN DE LOS PARQUES EDUCATIVOS DE LOS MUNICIPIOS DE CAICEDO Y YOLOMBÓ EN EL DEPARTAMENTO DE ANTIOQUIA. | I31: CUMPLE | J31: CUMPLE | K31: CUMPLE | L31: 220. CONSORCIO PARQUES CY 2015 | N31: CUMPLE | O31: =K14 -> Marva construcciones sas | P31: 0.5 | Q31: 7332.39 | R31: =Q31*P31 -> 3666.195
B32: 3 | C32: 227 | D32: 817 | E32: MUNICIPIO DE PITALITO | F32: "ESTUDIOS, DISEÑOS Y CONSTRUCCION DE OBRAS DEL PROYECTO SACUDETE AL PARQUE TIPO 1 EN EL MUNICIPIO DE PITALITO (BRISAS DEL GUARAPAS - COMUNA 1) HUILA" | I32: CUMPLE | J32: CUMPLE | K32: CUMPLE | L32: 227. CONSORCIO SACUDETE PITALITO | N32: CUMPLE | O32: =K14 -> Marva construcciones sas | P32: 0.85 | Q32: 1240.77 | R32: =Q32*P32 -> 1054.6545
B34: VALOR SUMATORIA CONTRATOS ACREDITADOS PARA EXPERIENCIA HABILITANTE DEL PROPONENTE: | R34: =SUM(R30:R32) -> 5508.2895 | S34: =IF(R34>K18,"CUMPLE","NO CUMPLE") -> CUMPLE
Q36: 0.7 | R36: =(E18*Q36)/R37 -> 1673.8847
R37: 1300000
B40: NOTAS: 1. Para acreditar la experiencia el oferente deberá adjuntar las Actas de Liquidación o Acta de entrega o terminación o final o de recibo definitivo o Certificación de experienci o Acta de inicio o la orden de inicio, y adicional cualquier otro documento por medio del cual se soporte el cumplimiento de las condiciones de experiencia solicitadas en el Proceso. 2. En caso de encontrar discrepancias entre los valores reportados en el Formato y los registrados en el RUP, la Entidad tendrá en cuenta el orden de prevalencia realacionadoa anteriormente.

Sheet 30
B2: FONDO DE DESARROLLO LOCAL DE USME
B3: FORMATO: EVALUACIÓN EXPERIENCIA MINIMA HABILITANTE PROPONENTES
B4: LICITACIÓN PÚBLICA
B5: =Datos!B3 -> FDLU-LP-010-2024 (117411)
B7: OBJETO: | E7: CONTRATAR MEDIANTE EL SISTEMA DE PRECIOS UNITARIOS A MONTO AGOTABLE, LAS OBRAS DE REHABILITACIÓN Y/O CONSERVACIÓN Y/O MEJORAMIENTO Y/O MANTENIMIENTO DE PARQUES DE PROXIMIDAD DE LA LOCALIDAD DE USME
B9: 1. | C9: CONSORCIO CIVIPARQUES
G11: CUMPLE
B14: PROPONENTE (Persona Natural, Jurídica, Consorcio o Unión Temporal): | E14: CONSORCIO CIVIPARQUES | I14: INTEGRANTE 1: | K14: CONCENTRICO S.A.S | O14: PORCENTAJE DE PARTICIPACIÓN: | R14: 0.5
I15: INTEGRANTE 2: | K15: INGENIERIA Y GERENCIA DE OBRAS CIVILES SAS | O15: PORCENTAJE DE PARTICIPACIÓN: | R15: 0.5
I16: INTEGRANTE 3: | O16: PORCENTAJE DE PARTICIPACIÓN:
B18: PRESUPUESTO OFICIAL ESTIMADO: | E18: =Datos!B4 -> 3108643000 | G18: PRESUPUESTO OFICIAL EN SMLMV 2024 SOLICITADO: | J18: 1.2 | K18: =((E18/1300000)*J18) -> 2869.5166
B19: REQUISITO: | E19: (-) Experiencia General: CONSTRUCCIÓN Y/O RECONSTRUCCIÓN Y/O AMPLIACIÓN Y/O TERMINACIÓN Y/O REHABILITACIÓN Y/O MEJORAMIENTO Y/O MANTENIMIENTO Y/O ADECUACIÓN DE PARQUES CONSTRUCCIÓN Y/O RECONSTRUCCIÓN Y/O AMPLIACIÓN Y/O TERMINACIÓN Y/O REHABILITACIÓN Y/O MEJORAMIENTO Y/O MANTENIMIENTO Y/O ADECUACIÓN DE ESPACIO PÚBLICO " Nota 1: Para el caso de experiencia de ESPACIO PÚBLICO se excluyen de estos las vías destinadas al tránsito vehicular, así como la conservación y/o preservación de playas marítimas. Nota 2: En el caso en el cual el proceso de selección contemple actividades de dotación de mobiliario, la experiencia válida aportada deberá acreditar en por lo menos uno (1) de los contratos actividades de suministro e instalación de mobiliario. (-) Experiencia Especifica: Con la sumatoria de hasta máximo dos (2) de los contratos válidos aportados como experiencia general debe corresponder mínimo al (F70%) del presupuesto oficial del presente proceso de selección. % DE DIMENSIONAMIENTO (Según la magnitud requerida en el proceso de contratación) Valor de F%: 70% (-) Experiencia Secundaria: ESPECÍFICA URBANISMO Y/O PAISAJISMO Por lo menos uno (1) de los contratos válidos aportados como experiencia general deben contemplar actividades de: CONSTRUCCIÓN Y/O MEJORAMIENTO Y/O REHABILITACIÓN Y/O MANTENIMIENTO Y/O ADECUACIÓN Y/O REFORZAMIENTO Y/O INTERVENCIÓN PARA URBANISMO Y/O PAISAJISMO Y/O PARQUES Y/O ESPACIO PÚBLICO.
B20: CÓDIGOS RUP SOLICITADOS | D20: 3 | E20: 72101500 | F20: 72141300 | G20: 72153100 | S20: Conteo de Codigos | T20: Cumple / NO Cumple
B21: CÓDIGOS RUP: | D21: Contrato 1 | E21: X | F21: X | G21: X | S21: =COUNTA(E21:R21) -> 3 | T21: =IF(S21>=1,"CUMPLE","NO CUMPLE") -> CUMPLE
B22: CÓDIGOS RUP: | D22: Contrato 2 | E22: X | F22: X | G22: X | S22: =COUNTA(E22:R22) -> 3 | T22: =IF(S22>=1,"CUMPLE","NO CUMPLE") -> CUMPLE
B23: CÓDIGOS RUP: | D23: Contrato 3 | E23: X | F23: X | G23: X | S23: =COUNTA(E23:R23) -> 3 | T23: =IF(S23>=1,"CUMPLE","NO CUMPLE") -> CUMPLE
B24: CÓDIGOS RUP: | D24: Contrato 4 | E24: X | F24: X | G24: X | S24: =COUNTA(E24:R24) -> 3 | T24: =IF(S24>=1,"CUMPLE","NO CUMPLE") -> CUMPLE
E25: =COUNTA(E21:E24) -> 4 | F25: =COUNTA(F21:F24) -> 4 | G25: =COUNTA(G21:G24) -> 4 | H25: =COUNTA(H21:H24) -> 0 | I25: =COUNTA(I21:I24) -> 0 | J25: =COUNTA(J21:J24) -> 0 | K25: =COUNTA(K21:K24) -> 0 | L25: =COUNTA(L21:L24) -> 0 | ... R25: =COUNTA(R21:R24) -> 0
B26: CONSOLIDADO | E26: =IF(E25>0,1,0) -> 1 | F26: =IF(F25>0,1,0) -> 1 | G26: =IF(G25>0,1,0) -> 1 | H26: =IF(H25>0,1,0) -> 0 | I26: =IF(I25>0,1,0) -> 0 | J26: =IF(J25>0,1,0) -> 0 | K26: =IF(K25>0,1,0) -> 0 | L26: =IF(L25>0,1,0) -> 0 | ... R26: =IF(R25>0,1,0) -> 0 | S26: =SUM(E26:R26) -> 3 | T26: =IF(S26>=1,"CUMPLE","NO CUMPLE") -> CUMPLE
B28: EXPERIENCIA GENERAL
B29: No. | C29: NÚMERO DEL CONSECUTIVO DEL REPORTE DEL CONTRATO EJECUTADO (Escriba el No. de consecutivo asignado por la Camara de Comercio al contrato en el RUP) | D29: # PAGINA DEL RUP (PDF) DONDE SE ENCUENTRA EL CONSECUTIVO | E29: ENTIDAD CONTRATANTE (Escriba el Nombre de la entidad con la cual suscribió la experiencia ante la Camara de Comercio.) | F29: OBJETO DEL CONTRATO (Indique tal como aparece en la certificación y/o acta de liquidación, y/o acta de terminación) | I29: Experiencia General CUMPLE / NO CUMPLE | J29: Experiencia General (Intervención de redes de servicios públicos.) CUMPLE / NO CUMPLE | K29: Experiencia Especifica CUMPLE / NO CUMPLE | L29: NOMBRE DEL ARCHIVO SOPORTE APORTADO PARA VALIDAR LOS REQUERIMIENTOS SOLICITADOS. (Certificaciones, Contratos, Acta de Liquidacion y/o Facturas y/o cualquier otro documento que considere necesario) | N29: CODIGOS CLASIFICACIÓN UNSPSC CUMPLE / NO CUMPLE | O29: NOMBRE PARTICIPANTE QUE APORTA LA EXPERIENCIA | P29: % PARTICIPACION EN EL CONSORCIO O UNIÓN TEMPORAL | Q29: VALOR DEL CONTRATO EN SMMLV RELACIONADOS EN EL RUP | R29: VALOR DEL CONTRATO EN SMMLV X PORCENTAJE PARTICIPACIÓN | S29: OBSERVACIONES
B31: 1 | C31: 15 | D31: 23 | E31: EAAB-ESP | F31: RECONSTRUCCIÓN DE ANDENES Y CALZADAS EN LOS SITIOS INTERVENIDOS POR LA FUNCIÓN OPERATIVA DE REPARACIÓN DE DAÑOS DE ACUEDUCTO Y ALCANTARILLADO Y POR LA FUNCIÓN | I31: CUMPLE | J31: CUMPLE | K31: CUMPLE | L31: 8.1 CERTIFICADO CONTRATO 1184-2021 | N31: CUMPLE | O31: =K14 -> CONCENTRICO S.A.S | P31: 0.5 | Q31: 4078.8 | R31: =Q31*P31 -> 2039.4
B32: 2 | C32: 14 | D32: 21 | E32: EAAB-ESP | F32: RENOVACION DE LAS EDES LOCALES DE ACUEDUCTO, ALCANTARILLADO SANITARIO Y PLUVIAL PARA EL BARRIO ALTAMIRA Y OBRAS ANEXAS DELA LOCALIDAD DE SAN CRISTOBAL DE LA ZONA 4 DEL ACUEDUCTO DE BOGOTA | I32: CUMPLE | J32: CUMPLE | K32: CUMPLE | L32: 8.2 SAN CRISTOBAL | N32: CUMPLE | O32: =K14 -> CONCENTRICO S.A.S | P32: 0.25 | Q32: 15809.67 | R32: =Q32*P32 -> 3952.4175
B33: 3 | C33: 21 | D33: 87 | E33: ALCALDIA MUNICIPAL DE PACHO | F33: CONSTRUCCIÓN Y MANTENIMIENTO DE ANDENES PEATONALES URBANOS EN EL MUNICIPIO DE PACHOCUNDINAMARCA – SEGÚN ANEXO TÉCNICO 1 | I33: CUMPLE | J33: CUMPLE | K33: CUMPLE | L33: 8.3 CERTIFICADO CTO 261-2023 | N33: CUMPLE | O33: =K15 -> INGENIERIA Y GERENCIA DE OBRAS CIVILES SAS | P33: 1 | Q33: 203.97 | R33: =Q33*P33 -> 203.97
B34: 4 | C34: 4 | D34: 53 | E34: METRO CALI SA | F34: CONSTRUCCION DE LA TERMINARL INTERMEDIA LOCALIZADA SOBRE EL SEPARADOR CENTRAL DE LA AUTOPISTA SIMON BOLIVAR ENTRE CRA 61 Y CRA 69 CONEXIÓN VIAL ASOCIDA Y DEMAS OBRAS COMPLEMENTARIAS DEL SISTEMA INTEGRADO DE TRANSPORTE MASIVO DE PASAJEROS DE SANTIAGO DE CALI SITM-MIO | I34: CUMPLE | J34: CUMPLE | K34: CUMPLE | L34: 8.4 LIQUIDACION METROCALI | N34: CUMPLE | O34: =K15 -> INGENIERIA Y GERENCIA DE OBRAS CIVILES SAS | P34: 0.3 | Q34: 84537.36 | R34: =Q34*P34 -> 25361.208
B36: VALOR SUMATORIA CONTRATOS ACREDITADOS PARA EXPERIENCIA HABILITANTE DEL PROPONENTE: | R36: =SUM(R31:R34) -> 31556.995 | S36: =IF(R36>K18,"CUMPLE","NO CUMPLE") -> CUMPLE
Q38: 0.7 | R38: =(E18*Q38)/R39 -> 1673.8847
R39: 1300000
B42: NOTAS: 1. Para acreditar la experiencia el oferente deberá adjuntar las Actas de Liquidación o Acta de entrega o terminación o final o de recibo definitivo o Certificación de experienci o Acta de inicio o la orden de inicio, y adicional cualquier otro documento por medio del cual se soporte el cumplimiento de las condiciones de experiencia solicitadas en el Proceso. 2. En caso de encontrar discrepancias entre los valores reportados en el Formato y los registrados en el RUP, la Entidad tendrá en cuenta el orden de prevalencia realacionadoa anteriormente.

Sheet 31
B2: FONDO DE DESARROLLO LOCAL DE USME
B3: FORMATO: EVALUACIÓN EXPERIENCIA MINIMA HABILITANTE PROPONENTES
B4: LICITACIÓN PÚBLICA
B5: =Datos!B3 -> FDLU-LP-010-2024 (117411)
B7: OBJETO: | E7: CONTRATAR MEDIANTE EL SISTEMA DE PRECIOS UNITARIOS A MONTO AGOTABLE, LAS OBRAS DE REHABILITACIÓN Y/O CONSERVACIÓN Y/O MEJORAMIENTO Y/O MANTENIMIENTO DE PARQUES DE PROXIMIDAD DE LA LOCALIDAD DE USME
B9: 1. | C9: CONSORCIO PARQUES HORIZONTE 2024
G11: CUMPLE
B14: PROPONENTE (Persona Natural, Jurídica, Consorcio o Unión Temporal): | E14: CONSORCIO PARQUES HORIZONTE 2024 | I14: INTEGRANTE 1: | K14: LATORRE ORTIZ INGENIERIA SAS | O14: PORCENTAJE DE PARTICIPACIÓN: | R14: 0.1
I15: INTEGRANTE 2: | K15: PJ INGENIERIA Y SERVICIOS SAS | O15: PORCENTAJE DE PARTICIPACIÓN: | R15: 0.9
I16: INTEGRANTE 3: | O16: PORCENTAJE DE PARTICIPACIÓN:
B18: PRESUPUESTO OFICIAL ESTIMADO: | E18: =Datos!B4 -> 3108643000 | G18: PRESUPUESTO OFICIAL EN SMLMV 2024 SOLICITADO: | J18: 0.75 | K18: =((E18/1300000)*J18) -> 1793.4479
B19: REQUISITO: | E19: (-) Experiencia General: CONSTRUCCIÓN Y/O RECONSTRUCCIÓN Y/O AMPLIACIÓN Y/O TERMINACIÓN Y/O REHABILITACIÓN Y/O MEJORAMIENTO Y/O MANTENIMIENTO Y/O ADECUACIÓN DE PARQUES CONSTRUCCIÓN Y/O RECONSTRUCCIÓN Y/O AMPLIACIÓN Y/O TERMINACIÓN Y/O REHABILITACIÓN Y/O MEJORAMIENTO Y/O MANTENIMIENTO Y/O ADECUACIÓN DE ESPACIO PÚBLICO " Nota 1: Para el caso de experiencia de ESPACIO PÚBLICO se excluyen de estos las vías destinadas al tránsito vehicular, así como la conservación y/o preservación de playas marítimas. Nota 2: En el caso en el cual el proceso de selección contemple actividades de dotación de mobiliario, la experiencia válida aportada deberá acreditar en por lo menos uno (1) de los contratos actividades de suministro e instalación de mobiliario. (-) Experiencia Especifica: Con la sumatoria de hasta máximo dos (2) de los contratos válidos aportados como experiencia general debe corresponder mínimo al (F70%) del presupuesto oficial del presente proceso de selección. % DE DIMENSIONAMIENTO (Según la magnitud requerida en el proceso de contratación) Valor de F%: 70% (-) Experiencia Secundaria: ESPECÍFICA URBANISMO Y/O PAISAJISMO Por lo menos uno (1) de los contratos válidos aportados como experiencia general deben contemplar actividades de: CONSTRUCCIÓN Y/O MEJORAMIENTO Y/O REHABILITACIÓN Y/O MANTENIMIENTO Y/O ADECUACIÓN Y/O REFORZAMIENTO Y/O INTERVENCIÓN PARA URBANISMO Y/O PAISAJISMO Y/O PARQUES Y/O ESPACIO PÚBLICO.
B20: CÓDIGOS RUP SOLICITADOS | D20: 3 | E20: 72101500 | F20: 72141300 | G20: 72153100 | S20: Conteo de Codigos | T20: Cumple / NO Cumple
B21: CÓDIGOS RUP: | D21: Contrato 1 | F21: X | G21: X | S21: =COUNTA(E21:R21) -> 2 | T21: =IF(S21>=1,"CUMPLE","NO CUMPLE") -> CUMPLE
B22: CÓDIGOS RUP: | D22: Contrato 2 | F22: X | S22: =COUNTA(E22:R22) -> 1 | T22: =IF(S22>=1,"CUMPLE","NO CUMPLE") -> CUMPLE
E23: =COUNTA(E21:E22) -> 0 | F23: =COUNTA(F21:F22) -> 2 | G23: =COUNTA(G21:G22) -> 1 | H23: =COUNTA(H21:H22) -> 0 | I23: =COUNTA(I21:I22) -> 0 | J23: =COUNTA(J21:J22) -> 0 | K23: =COUNTA(K21:K22) -> 0 | L23: =COUNTA(L21:L22) -> 0 | ... R23: =COUNTA(R21:R22) -> 0
B24: CONSOLIDADO | E24: =IF(E23>0,1,0) -> 0 | F24: =IF(F23>0,1,0) -> 1 | G24: =IF(G23>0,1,0) -> 1 | H24: =IF(H23>0,1,0) -> 0 | I24: =IF(I23>0,1,0) -> 0 | J24: =IF(J23>0,1,0) -> 0 | K24: =IF(K23>0,1,0) -> 0 | L24: =IF(L23>0,1,0) -> 0 | ... R24: =IF(R23>0,1,0) -> 0 | S24: =SUM(E24:R24) -> 2 | T24: =IF(S24>=1,"CUMPLE","NO CUMPLE") -> CUMPLE
B26: EXPERIENCIA GENERAL
B27: No. | C27: NÚMERO DEL CONSECUTIVO DEL REPORTE DEL CONTRATO EJECUTADO (Escriba el No. de consecutivo asignado por la Camara de Comercio al contrato en el RUP) | D27: # PAGINA DEL RUP (PDF) DONDE SE ENCUENTRA EL CONSECUTIVO | E27: ENTIDAD CONTRATANTE (Escriba el Nombre de la entidad con la cual suscribió la experiencia ante la Camara de Comercio.) | F27: OBJETO DEL CONTRATO (Indique tal como aparece en la certificación y/o acta de liquidación, y/o acta de terminación) | I27: Experiencia General CUMPLE / NO CUMPLE | J27: Experiencia General (Intervención de redes de servicios públicos.) CUMPLE / NO CUMPLE | K27: Experiencia Especifica CUMPLE / NO CUMPLE | L27: NOMBRE DEL ARCHIVO SOPORTE APORTADO PARA VALIDAR LOS REQUERIMIENTOS SOLICITADOS. (Certificaciones, Contratos, Acta de Liquidacion y/o Facturas y/o cualquier otro documento que considere necesario) | N27: CODIGOS CLASIFICACIÓN UNSPSC CUMPLE / NO CUMPLE | O27: NOMBRE PARTICIPANTE QUE APORTA LA EXPERIENCIA | P27: % PARTICIPACION EN EL CONSORCIO O UNIÓN TEMPORAL | Q27: VALOR DEL CONTRATO EN SMMLV RELACIONADOS EN EL RUP | R27: VALOR DEL CONTRATO EN SMMLV X PORCENTAJE PARTICIPACIÓN | S27: OBSERVACIONES
B29: 1 | C29: 113 | D29: 1194 | E29: MUNICIPIO DE BUGA | F29: REMODELACION PARQUE FUENMAYOR Y TULIO ENRIQUE TASCON DEL MUNICIPIO DE BUGA | I29: CUMPLE | J29: CUMPLE | K29: CUMPLE | L29: ACTA DE TERMINACION Y RECIBO DE OBRA - CONTRATO 086 DE 2010 | N29: CUMPLE | O29: =K15 -> PJ INGENIERIA Y SERVICIOS SAS | P29: 0.5 | Q29: 2249 | R29: =Q29*P29 -> 1124.5
B30: 2 | C30: 127 | D30: 1318 | E30: MUNICIPIO DE PALESTINA | F30: CONTRATAR LAS OBRAS CORRESPONDIENTES A LA REMODELACION DEL PARQUE DE BOLIVAR DEL MUNICIPIO DE PALESTINA CALDAS, OCCIDENTE | I30: CUMPLE | J30: CUMPLE | K30: CUMPLE | L30: ACTA DE RECIBIDO FINAL_ | N30: CUMPLE | O30: =K15 -> PJ INGENIERIA Y SERVICIOS SAS | P30: 0.7 | Q30: 1348.39 | R30: =Q30*P30 -> 943.873
B32: VALOR SUMATORIA CONTRATOS ACREDITADOS PARA EXPERIENCIA HABILITANTE DEL PROPONENTE: | R32: =SUM(R29:R30) -> 2068.373 | S32: =IF(R32>K18,"CUMPLE","NO CUMPLE") -> CUMPLE
Q34: 0.7 | R34: =(E18*Q34)/R35 -> 1673.8847
R35: 1300000
B38: NOTAS: 1. Para acreditar la experiencia el oferente deberá adjuntar las Actas de Liquidación o Acta de entrega o terminación o final o de recibo definitivo o Certificación de experienci o Acta de inicio o la orden de inicio, y adicional cualquier otro documento por medio del cual se soporte el cumplimiento de las condiciones de experiencia solicitadas en el Proceso. 2. En caso de encontrar discrepancias entre los valores reportados en el Formato y los registrados en el RUP, la Entidad tendrá en cuenta el orden de prevalencia realacionadoa anteriormente.

Sheet 32
B2: FONDO DE DESARROLLO LOCAL DE USME
B3: FORMATO: EVALUACIÓN EXPERIENCIA MINIMA HABILITANTE PROPONENTES
B4: LICITACIÓN PÚBLICA
B5: =Datos!B3 -> FDLU-LP-010-2024 (117411)
B7: OBJETO: | E7: CONTRATAR MEDIANTE EL SISTEMA DE PRECIOS UNITARIOS A MONTO AGOTABLE, LAS OBRAS DE REHABILITACIÓN Y/O CONSERVACIÓN Y/O MEJORAMIENTO Y/O MANTENIMIENTO DE PARQUES DE PROXIMIDAD DE LA LOCALIDAD DE USME
B9: 1. | C9: U.T USME PYT
G11: CUMPLE
B14: PROPONENTE (Persona Natural, Jurídica, Consorcio o Unión Temporal): | E14: U.T USME PYT | I14: INTEGRANTE 1: | K14: PANAM INGENIEROS | O14: PORCENTAJE DE PARTICIPACIÓN: | R14: 0.9
I15: INTEGRANTE 2: | K15: TERRA INGENIERIA & CONSULTORIA | O15: PORCENTAJE DE PARTICIPACIÓN: | R15: 0.1
I16: INTEGRANTE 3: | O16: PORCENTAJE DE PARTICIPACIÓN:
B18: PRESUPUESTO OFICIAL ESTIMADO: | E18: =Datos!B4 -> 3108643000 | G18: PRESUPUESTO OFICIAL EN SMLMV 2024 SOLICITADO: | J18: 0.75 | K18: =((E18/1300000)*J18) -> 1793.4479
B19: REQUISITO: | E19: (-) Experiencia General: CONSTRUCCIÓN Y/O RECONSTRUCCIÓN Y/O AMPLIACIÓN Y/O TERMINACIÓN Y/O REHABILITACIÓN Y/O MEJORAMIENTO Y/O MANTENIMIENTO Y/O ADECUACIÓN DE PARQUES CONSTRUCCIÓN Y/O RECONSTRUCCIÓN Y/O AMPLIACIÓN Y/O TERMINACIÓN Y/O REHABILITACIÓN Y/O MEJORAMIENTO Y/O MANTENIMIENTO Y/O ADECUACIÓN DE ESPACIO PÚBLICO " Nota 1: Para el caso de experiencia de ESPACIO PÚBLICO se excluyen de estos las vías destinadas al tránsito vehicular, así como la conservación y/o preservación de playas marítimas. Nota 2: En el caso en el cual el proceso de selección contemple actividades de dotación de mobiliario, la experiencia válida aportada deberá acreditar en por lo menos uno (1) de los contratos actividades de suministro e instalación de mobiliario. (-) Experiencia Especifica: Con la sumatoria de hasta máximo dos (2) de los contratos válidos aportados como experiencia general debe corresponder mínimo al (F70%) del presupuesto oficial del presente proceso de selección. % DE DIMENSIONAMIENTO (Según la magnitud requerida en el proceso de contratación) Valor de F%: 70% (-) Experiencia Secundaria: ESPECÍFICA URBANISMO Y/O PAISAJISMO Por lo menos uno (1) de los contratos válidos aportados como experiencia general deben contemplar actividades de: CONSTRUCCIÓN Y/O MEJORAMIENTO Y/O REHABILITACIÓN Y/O MANTENIMIENTO Y/O ADECUACIÓN Y/O REFORZAMIENTO Y/O INTERVENCIÓN PARA URBANISMO Y/O PAISAJISMO Y/O PARQUES Y/O ESPACIO PÚBLICO.
B20: CÓDIGOS RUP SOLICITADOS | D20: 3 | E20: 72101500 | F20: 72141300 | G20: 72153100 | S20: Conteo de Codigos | T20: Cumple / NO Cumple
B21: CÓDIGOS RUP: | D21: Contrato 1 | E21: x | F21: x | G21: x | S21: =COUNTA(E21:R21) -> 3 | T21: =IF(S21>=1,"CUMPLE","NO CUMPLE") -> CUMPLE
B22: CÓDIGOS RUP: | D22: Contrato 2 | S22: =COUNTA(E22:R22) -> 0 | T22: =IF(S22>=1,"CUMPLE","NO CUMPLE") -> NO CUMPLE
E23: =COUNTA(E21:E22) -> 1 | F23: =COUNTA(F21:F22) -> 1 | G23: =COUNTA(G21:G22) -> 1 | H23: =COUNTA(H21:H22) -> 0 | I23: =COUNTA(I21:I22) -> 0 | J23: =COUNTA(J21:J22) -> 0 | K23: =COUNTA(K21:K22) -> 0 | L23: =COUNTA(L21:L22) -> 0 | ... R23: =COUNTA(R21:R22) -> 0
B24: CONSOLIDADO | E24: =IF(E23>0,1,0) -> 1 | F24: =IF(F23>0,1,0) -> 1 | G24: =IF(G23>0,1,0) -> 1 | H24: =IF(H23>0,1,0) -> 0 | I24: =IF(I23>0,1,0) -> 0 | J24: =IF(J23>0,1,0) -> 0 | K24: =IF(K23>0,1,0) -> 0 | L24: =IF(L23>0,1,0) -> 0 | ... R24: =IF(R23>0,1,0) -> 0 | S24: =SUM(E24:R24) -> 3 | T24: =IF(S24>=1,"CUMPLE","NO CUMPLE") -> CUMPLE
B26: EXPERIENCIA GENERAL
B27: No. | C27: NÚMERO DEL CONSECUTIVO DEL REPORTE DEL CONTRATO EJECUTADO (Escriba el No. de consecutivo asignado por la Camara de Comercio al contrato en el RUP) | D27: # PAGINA DEL RUP (PDF) DONDE SE ENCUENTRA EL CONSECUTIVO | E27: ENTIDAD CONTRATANTE (Escriba el Nombre de la entidad con la cual suscribió la experiencia ante la Camara de Comercio.) | F27: OBJETO DEL CONTRATO (Indique tal como aparece en la certificación y/o acta de liquidación, y/o acta de terminación) | I27: Experiencia General CUMPLE / NO CUMPLE | J27: Experiencia General (Intervención de redes de servicios públicos.) CUMPLE / NO CUMPLE | K27: Experiencia Especifica CUMPLE / NO CUMPLE | L27: NOMBRE DEL ARCHIVO SOPORTE APORTADO PARA VALIDAR LOS REQUERIMIENTOS SOLICITADOS. (Certificaciones, Contratos, Acta de Liquidacion y/o Facturas y/o cualquier otro documento que considere necesario) | N27: CODIGOS CLASIFICACIÓN UNSPSC CUMPLE / NO CUMPLE | O27: NOMBRE PARTICIPANTE QUE APORTA LA EXPERIENCIA | P27: % PARTICIPACION EN EL CONSORCIO O UNIÓN TEMPORAL | Q27: VALOR DEL CONTRATO EN SMMLV RELACIONADOS EN EL RUP | R27: VALOR DEL CONTRATO EN SMMLV X PORCENTAJE PARTICIPACIÓN | S27: OBSERVACIONES
B29: 1 | C29: 120 | D29: 123 | E29: ALCALDIA MUNICIPIO DE FUNZA | F29: CONSTRUCCIÓN Y MEJORAMIENTO DEL PARQUE SAN MARCOS EN EL MUNICIPIO DE FUNZA CUNDINAMARCA, EN CUMPLIMIENTO AL PLAN DE DESARROLLO FUNZA CIUDAD LÍDER 2020-2023 | I29: CUMPLE | J29: CUMPLE | K29: CUMPLE | L29: Formato 3 - Experiencia | N29: CUMPLE | O29: =K14 -> PANAM INGENIEROS | P29: 0.95 | Q29: 1677.04 | R29: =Q29*P29 -> 1593.188
B30: 2 | C30: 122 | D30: 125 | E30: ALCALDIA MUNICIPIO DE PARATEBUENO | F30: ADECUACIÓN Y MEJORAMIENTO DEL PARQUE PRINCIPAL DEL MUNICIPIO DE PARATEBUENO, CUNDINAMARCA | I30: CUMPLE | J30: CUMPLE | K30: CUMPLE | L30: Formato 3 - Experiencia | N30: CUMPLE | O30: =K15 -> TERRA INGENIERIA & CONSULTORIA | P30: 0.95 | Q30: 1740.54 | R30: =Q30*P30 -> 1653.513
B32: VALOR SUMATORIA CONTRATOS ACREDITADOS PARA EXPERIENCIA HABILITANTE DEL PROPONENTE: | R32: =SUM(R29:R30) -> 3246.701 | S32: =IF(R32>K18,"CUMPLE","NO CUMPLE") -> CUMPLE
Q34: 0.7 | R34: =(E18*Q34)/R35 -> 1673.8847
R35: 1300000
B38: NOTAS: 1. Para acreditar la experiencia el oferente deberá adjuntar las Actas de Liquidación o Acta de entrega o terminación o final o de recibo definitivo o Certificación de experienci o Acta de inicio o la orden de inicio, y adicional cualquier otro documento por medio del cual se soporte el cumplimiento de las condiciones de experiencia solicitadas en el Proceso. 2. En caso de encontrar discrepancias entre los valores reportados en el Formato y los registrados en el RUP, la Entidad tendrá en cuenta el orden de prevalencia realacionadoa anteriormente.

Sheet 33
B2: FONDO DE DESARROLLO LOCAL DE USME
B3: FORMATO: EVALUACIÓN EXPERIENCIA MINIMA HABILITANTE PROPONENTES
B4: LICITACIÓN PÚBLICA
B5: =Datos!B3 -> FDLU-LP-010-2024 (117411)
B7: OBJETO: | E7: CONTRATAR MEDIANTE EL SISTEMA DE PRECIOS UNITARIOS A MONTO AGOTABLE, LAS OBRAS DE REHABILITACIÓN Y/O CONSERVACIÓN Y/O MEJORAMIENTO Y/O MANTENIMIENTO DE PARQUES DE PROXIMIDAD DE LA LOCALIDAD DE USME
B9: 1. | C9: INGENIERÍA, CONSULTORÍA, SUMINISTROS Y SERVICIOS INTEGRALES S.A.S
G11: CUMPLE
B14: PROPONENTE (Persona Natural, Jurídica, Consorcio o Unión Temporal): | E14: INGENIERÍA, CONSULTORÍA, SUMINISTROS Y SERVICIOS INTEGRALES S.A.S | I14: INTEGRANTE 1: | K14: INGENIERÍA, CONSULTORÍA, SUMINISTROS Y SERVICIOS INTEGRALES S.A.S | O14: PORCENTAJE DE PARTICIPACIÓN: | R14: 1
I15: INTEGRANTE 2: | O15: PORCENTAJE DE PARTICIPACIÓN:
I16: INTEGRANTE 3: | O16: PORCENTAJE DE PARTICIPACIÓN:
B18: PRESUPUESTO OFICIAL ESTIMADO: | E18: =Datos!B4 -> 3108643000 | G18: PRESUPUESTO OFICIAL EN SMLMV 2024 SOLICITADO: | J18: 0.75 | K18: =((E18/1300000)*J18) -> 1793.4479
B19: REQUISITO: | E19: (-) Experiencia General: CONSTRUCCIÓN Y/O RECONSTRUCCIÓN Y/O AMPLIACIÓN Y/O TERMINACIÓN Y/O REHABILITACIÓN Y/O MEJORAMIENTO Y/O MANTENIMIENTO Y/O ADECUACIÓN DE PARQUES CONSTRUCCIÓN Y/O RECONSTRUCCIÓN Y/O AMPLIACIÓN Y/O TERMINACIÓN Y/O REHABILITACIÓN Y/O MEJORAMIENTO Y/O MANTENIMIENTO Y/O ADECUACIÓN DE ESPACIO PÚBLICO " Nota 1: Para el caso de experiencia de ESPACIO PÚBLICO se excluyen de estos las vías destinadas al tránsito vehicular, así como la conservación y/o preservación de playas marítimas. Nota 2: En el caso en el cual el proceso de selección contemple actividades de dotación de mobiliario, la experiencia válida aportada deberá acreditar en por lo menos uno (1) de los contratos actividades de suministro e instalación de mobiliario. (-) Experiencia Especifica: Con la sumatoria de hasta máximo dos (2) de los contratos válidos aportados como experiencia general debe corresponder mínimo al (F70%) del presupuesto oficial del presente proceso de selección. % DE DIMENSIONAMIENTO (Según la magnitud requerida en el proceso de contratación) Valor de F%: 70% (-) Experiencia Secundaria: ESPECÍFICA URBANISMO Y/O PAISAJISMO Por lo menos uno (1) de los contratos válidos aportados como experiencia general deben contemplar actividades de: CONSTRUCCIÓN Y/O MEJORAMIENTO Y/O REHABILITACIÓN Y/O MANTENIMIENTO Y/O ADECUACIÓN Y/O REFORZAMIENTO Y/O INTERVENCIÓN PARA URBANISMO Y/O PAISAJISMO Y/O PARQUES Y/O ESPACIO PÚBLICO.
B20: CÓDIGOS RUP SOLICITADOS | D20: 3 | E20: 72101500 | F20: 72141300 | G20: 72153100 | S20: Conteo de Codigos | T20: Cumple / NO Cumple
B21: CÓDIGOS RUP: | D21: Contrato 1 | E21: x | F21: x | G21: x | S21: =COUNTA(E21:R21) -> 3 | T21: =IF(S21>=1,"CUMPLE","NO CUMPLE") -> CUMPLE
E22: =COUNTA(E21:E21) -> 1 | F22: =COUNTA(F21:F21) -> 1 | G22: =COUNTA(G21:G21) -> 1 | H22: =COUNTA(H21:H21) -> 0 | I22: =COUNTA(I21:I21) -> 0 | J22: =COUNTA(J21:J21) -> 0 | K22: =COUNTA(K21:K21) -> 0 | L22: =COUNTA(L21:L21) -> 0 | ... R22: =COUNTA(R21:R21) -> 0
B23: CONSOLIDADO | E23: =IF(E22>0,1,0) -> 1 | F23: =IF(F22>0,1,0) -> 1 | G23: =IF(G22>0,1,0) -> 1 | H23: =IF(H22>0,1,0) -> 0 | I23: =IF(I22>0,1,0) -> 0 | J23: =IF(J22>0,1,0) -> 0 | K23: =IF(K22>0,1,0) -> 0 | L23: =IF(L22>0,1,0) -> 0 | ... R23: =IF(R22>0,1,0) -> 0 | S23: =SUM(E23:R23) -> 3 | T23: =IF(S23>=1,"CUMPLE","NO CUMPLE") -> CUMPLE
B25: EXPERIENCIA GENERAL
B26: No. | C26: NÚMERO DEL CONSECUTIVO DEL REPORTE DEL CONTRATO EJECUTADO (Escriba el No. de consecutivo asignado por la Camara de Comercio al contrato en el RUP) | D26: # PAGINA DEL RUP (PDF) DONDE SE ENCUENTRA EL CONSECUTIVO | E26: ENTIDAD CONTRATANTE (Escriba el Nombre de la entidad con la cual suscribió la experiencia ante la Camara de Comercio.) | F26: OBJETO DEL CONTRATO (Indique tal como aparece en la certificación y/o acta de liquidación, y/o acta de terminación) | I26: Experiencia General CUMPLE / NO CUMPLE | J26: Experiencia General (Intervención de redes de servicios públicos.) CUMPLE / NO CUMPLE | K26: Experiencia Especifica CUMPLE / NO CUMPLE | L26: NOMBRE DEL ARCHIVO SOPORTE APORTADO PARA VALIDAR LOS REQUERIMIENTOS SOLICITADOS. (Certificaciones, Contratos, Acta de Liquidacion y/o Facturas y/o cualquier otro documento que considere necesario) | N26: CODIGOS CLASIFICACIÓN UNSPSC CUMPLE / NO CUMPLE | O26: NOMBRE PARTICIPANTE QUE APORTA LA EXPERIENCIA | P26: % PARTICIPACION EN EL CONSORCIO O UNIÓN TEMPORAL | Q26: VALOR DEL CONTRATO EN SMMLV RELACIONADOS EN EL RUP | R26: VALOR DEL CONTRATO EN SMMLV X PORCENTAJE PARTICIPACIÓN | S26: OBSERVACIONES
B28: 1 | C28: 8 | E28: INDERHUILA | F28: CONSTRUCCIÓN DE GIMNASIOS BIOSALUDABLES EN DIFERENTES MUNICIPIOS DEL HUILA | I28: CUMPLE | J28: CUMPLE | K28: CUMPLE | L28: Formato 3 - Experiencia | N28: CUMPLE | O28: =K14 -> INGENIERÍA, CONSULTORÍA, SUMINISTROS Y SERVICIOS INTEGRALES S.A.S | P28: 0.9 | Q28: 5372.75 | R28: =Q28*P28 -> 4835.475 | S28: El Proponente podrá acreditar la experiencia solicitada con mínimo uno (1) y máximo cinco (5) contratos, los cuales serán evaluados teniendo en cuenta la tabla del numeral 3.5.7 del Pliego de Condiciones, así como el contenido establecido en la matriz de experiencia aplicable al proyecto de infraestructura social.
B30: VALOR SUMATORIA CONTRATOS ACREDITADOS PARA EXPERIENCIA HABILITANTE DEL PROPONENTE: | R30: =SUM(R28:R28) -> 4835.475 | S30: =IF(R30>K18,"CUMPLE","NO CUMPLE") -> CUMPLE
Q32: 0.7 | R32: =(E18*Q32)/R33 -> 1673.8847
R33: 1300000
B35: NOTAS: 1. Para acreditar la experiencia el oferente deberá adjuntar las Actas de Liquidación o Acta de entrega o terminación o final o de recibo definitivo o Certificación de experienci o Acta de inicio o la orden de inicio, y adicional cualquier otro documento por medio del cual se soporte el cumplimiento de las condiciones de experiencia solicitadas en el Proceso. 2. En caso de encontrar discrepancias entre los valores reportados en el Formato y los registrados en el RUP, la Entidad tendrá en cuenta el orden de prevalencia realacionadoa anteriormente.

Sheet 2. K-Residual
A1: FONDO DE DESARROLLO LOCAL DE USME
A2: LICITACIÓN PÚBLICA
A3: K-RESIDUAL
A4: =Datos!B3 -> FDLU-LP-010-2024 (117411)
A6: OBJETO | D6: =Datos!B2 -> CONTRATAR MEDIANTE EL SISTEMA DE PRECIOS UNITARIOS A MONTO AGOTABLE, LAS OBRAS DE REHABILITACIÓN Y/O CONSERVACIÓN Y/O MEJORAMIENTO Y/O MANTENIMIENTO DE PARQUES DE PROXIMIDAD DE LA LOCALIDAD DE USME
A8: POE (Presupuesto Oficial Estimado) | E8: =Datos!B4 -> 3108643000
A9: CAPACIDAD RESIDUAL DEL PROCESO DE CONTRATACIÓN (CRPC) | E9: =Datos!B4-E8*E11 -> 3108643000
A10: PLAZO (meses) | E10: 9
A11: ANTICIPO | E11: 0
A13: No. | B13: PROPONENTE | C13: Comp. % | D13: USO DE LA APLICACIÓN PARA ESTABLECER LA CAPACIDAD RESIDUAL, DE COLOMBIA COMPRA EFICIENTE | H13: CAPACIDAD RESIDUAL DEL PROPONENTE | I13: CUMPLE / NO CUMPLE | J13: OBSERVACIONES
A15: 12. | B15: CONSORCIO MABRIL 90 2023 | C15: Comp. % | D15: USO DE LA APLICACIÓN PARA ESTABLECER LA CAPACIDAD RESIDUAL, DE COLOMBIA COMPRA EFICIENTE | H15: CAPACIDAD RESIDUAL DEL PROPONENTE | I15: CUMPLE / NO CUMPLE | J15: OBSERVACIONES
A16: 1. | B16: GRUPO MABRIL SAS | C16: =+'12'!R14 -> 0.9 | D16: Ver Documento Anexo. 12. K-Residual CONSORCIO MABRIL 90 2023.pdf | H16: 7332221290 | I16: CUMPLE | J16: Sin Observaciones
A17: 2. | B17: EDILBERTO MATEUS ALVAREZ | C17: 0.1
A18: 13. | B18: CONSORCIO VG PARQUES | C18: Comp. % | D18: USO DE LA APLICACIÓN PARA ESTABLECER LA CAPACIDAD RESIDUAL, DE COLOMBIA COMPRA EFICIENTE | H18: CAPACIDAD RESIDUAL DEL PROPONENTE | I18: CUMPLE / NO CUMPLE | J18: OBSERVACIONES
A19: 1. | B19: VIGAVI ZOMAC SAS | C19: 0.9 | D19: Ver Documento Anexo. 13. K-Residual CONSORCIO VG PARQUES.pdf | H19: 68712964854 | I19: CUMPLE | J19: Sin Observaciones
A20: 2. | B20: GRUPO GRAVA S.A.S. | C20: 0.1
A21: 14. | B21: OBRAS CYC SAS | C21: Comp. % | D21: USO DE LA APLICACIÓN PARA ESTABLECER LA CAPACIDAD RESIDUAL, DE COLOMBIA COMPRA EFICIENTE | H21: CAPACIDAD RESIDUAL DEL PROPONENTE | I21: CUMPLE / NO CUMPLE | J21: OBSERVACIONES
A22: 1. | B22: OBRAS CYC SAS | C22: 1 | D22: Ver Documento Anexo. 14. K-Residual OBRAS CYC SAS.pdf | H22: 13261820400 | I22: CUMPLE | J22: Sin Observaciones
A23: 29. | B23: Marva construcciones sas | C23: Comp. % | D23: USO DE LA APLICACIÓN PARA ESTABLECER LA CAPACIDAD RESIDUAL, DE COLOMBIA COMPRA EFICIENTE | H23: CAPACIDAD RESIDUAL DEL PROPONENTE | I23: CUMPLE / NO CUMPLE | J23: OBSERVACIONES
A24: 1. | B24: Marva construcciones sas | C24: 1 | D24: Ver Documento Anexo. 29. K-Residual Marva construcciones sas.pdf | H24: 21185586898 | I24: CUMPLE | J24: Sin Observaciones
A25: 30. | B25: CONSORCIO CIVIPARQUES | C25: Comp. % | D25: USO DE LA APLICACIÓN PARA ESTABLECER LA CAPACIDAD RESIDUAL, DE COLOMBIA COMPRA EFICIENTE | H25: CAPACIDAD RESIDUAL DEL PROPONENTE | I25: CUMPLE / NO CUMPLE | J25: OBSERVACIONES
A26: 1. | B26: CONCENTRICO S.A.S | C26: 0.5 | D26: Ver Documento Anexo. 30. K-Residual CONSORCIO CIVIPARQUES.pdf | H26: 17729185602 | I26: CUMPLE | J26: Sin Observaciones
A27: 2. | B27: INGENIERIA Y GERENCIA DE OBRAS CIVILES SAS | C27: 0.5
A28: 31. | B28: CONSORCIO PARQUES HORIZONTE 2024 | C28: Comp. % | D28: USO DE LA APLICACIÓN PARA ESTABLECER LA CAPACIDAD RESIDUAL, DE COLOMBIA COMPRA EFICIENTE | H28: CAPACIDAD RESIDUAL DEL PROPONENTE | I28: CUMPLE / NO CUMPLE | J28: OBSERVACIONES
A29: 1. | B29: LATORRE ORTIZ INGENIERIA SAS | C29: 0.1 | D29: Ver Documento Anexo. 31. K-Residual CONSORCIO PARQUES HORIZONTE 2024.pdf | H29: 13427241549 | I29: CUMPLE | J29: Sin Observaciones
A30: 2. | B30: PJ INGENIERIA Y SERVICIOS SAS | C30: 0.9
A31: 32. | B31: U.T USME PYT | C31: Comp. % | D31: USO DE LA APLICACIÓN PARA ESTABLECER LA CAPACIDAD RESIDUAL, DE COLOMBIA COMPRA EFICIENTE | H31: CAPACIDAD RESIDUAL DEL PROPONENTE | I31: CUMPLE / NO CUMPLE | J31: OBSERVACIONES
