Workbook
Name \a: #REF!
Name \a: #REF!
Name \a: #REF!
Name \a: #REF!
Name \a: #REF!
Name \a: #REF!
Name \a: #REF!
Name \a: #REF!
Name \a: #REF!
Name \b: #REF!
Name \b: #REF!
Name \b: #REF!
Name \b: #REF!
Name \b: #REF!
Name \b: #REF!
Name \b: #REF!
Name \b: #REF!
Name \b: #REF!
Name \c: #REF!
Name \c: #REF!
Name \c: #REF!
Name \c: #REF!
Name \c: #REF!
Name \c: #REF!
Name \c: #REF!
Name \c: #REF!
Name \c: #REF!
Name \l: #REF!
Name \l: #REF!
Name \l: #REF!
Name \l: #REF!
Name \l: #REF!
Name \l: #REF!
Name \l: #REF!
Name \l: #REF!
Name \l: #REF!
Name A_impresión_IM: #REF!
Name A_impresión_IM: #REF!
Name A_impresión_IM: #REF!
Name A_impresión_IM: #REF!
Name A_impresión_IM: #REF!
Name A_impresión_IM: #REF!
Name A_impresión_IM: #REF!
Name A_impresión_IM: #REF!
Name A_impresión_IM: #REF!
Name aiu_mat: [1]PRESUPUESTO!$AD$891
Name BASURA: [2]ANEXO2!$B$90:$M$133
Name campamentos: [1]PRESUPUESTO!$AD$883
Name carreteras: #REF!
Name carreteras: #REF!
Name CONTRATACIÓN: #REF!
Name CONTRATACIÓN: #REF!
Name CONTRATACIÓN: #REF!
Name CONTRATACIÓN: #REF!
Name CONTRATACIÓN: #REF!
Name CONTRATACIÓN: #REF!
Name CONTRATACIÓN: #REF!
Name CONTRATACIÓN: #REF!
Name CONTRATACIÓN: #REF!
Name CUAESTRUCT: #REF!

Sheet Datos
A1: DATOS GENERALES
A2: Objeto | B2: CONTRATAR MEDIANTE EL SISTEMA DE PRECIOS UNITARIOS A MONTO AGOTABLE, LAS OBRAS DE REHABILITACIÓN Y/O CONSERVACIÓN Y/O MEJORAMIENTO Y/O MANTENIMIENTO DE PARQUES DE PROXIMIDAD DE LA LOCALIDAD DE USME
A3: No de Proceso | B3: FDLU-LP-010-2024 (117411)
A4: Presupuesto Oficial | B4: 3108643000
A5: Presupuesto Solicitado
A6: Fecha de Cierre del Proceso | B6: 45590
A7: Comité Evaluador - Técnico | B7: Edwin López
B8: Fabián Benavides
B9: Juan José Londoño
B10: Hader Rodríguez
B11: Paula Lara
B12: Jhon Santofimio
A13: Comité Evaluador - Económico
A15: Comité Evaluador - Financiero
A17: Comité Evaluador - Consolidado

Sheet Listas
A2: PROPONENTE | B2: SMMLV 2023 | C2: Método | D2: Rango (inclusive) | E2: Rango (inclusive) | F2: Método
A3: Persona Natural | B3: 1160000 | C3: Mediana con Valor Absoluto | D3: De 0.00 a 0.33 | E3: 0 | F3: Mediana con Valor Absoluto
A4: Persona Juridica | C4: Media Geométrica con presupuesto oficial | D4: De 0.34 a 0.67 | E4: 0.01 | F4: Mediana con Valor Absoluto
A5: Consorcio | C5: Media Aritmética | D5: De 0.68 a 0.99 | E5: 0.02 | F5: Mediana con Valor Absoluto
A6: Union Temporal | E6: 0.03 | F6: Mediana con Valor Absoluto
E7: 0.04 | F7: Mediana con Valor Absoluto
E8: 0.05 | F8: Mediana con Valor Absoluto
E9: 0.06 | F9: Mediana con Valor Absoluto
E10: 0.07 | F10: Mediana con Valor Absoluto
E11: 0.08 | F11: Mediana con Valor Absoluto
E12: 0.09 | F12: Mediana con Valor Absoluto
E13: 0.1 | F13: Mediana con Valor Absoluto
E14: 0.11 | F14: Mediana con Valor Absoluto
E15: 0.12 | F15: Mediana con Valor Absoluto
E16: 0.13 | F16: Mediana con Valor Absoluto
E17: 0.14 | F17: Mediana con Valor Absoluto
E18: 0.15 | F18: Mediana con Valor Absoluto
... E102: 0.99 | F102: Media Aritmética

Sheet 1. Exp.Habilitante #1
B2: FONDO DE DESARROLLO LOCAL DE USME
B3: FORMATO: EVALUACIÓN EXPERIENCIA MINIMA HABILITANTE PROPONENTES
B4: LICITACIÓN PÚBLICA
B5: =Datos!B3 -> FDLU-LP-010-2024 (117411)
B7: OBJETO: | E7: CONTRATAR MEDIANTE EL SISTEMA DE PRECIOS UNITARIOS A MONTO AGOTABLE, LAS OBRAS DE REHABILITACIÓN Y/O CONSERVACIÓN Y/O MEJORAMIENTO Y/O MANTENIMIENTO DE PARQUES DE PROXIMIDAD DE LA LOCALIDAD DE USME
B9: 1. | C9: CONSORCIO PODER
G11: CUMPLE
B14: PROPONENTE (Persona Natural, Jurídica, Consorcio o Unión Temporal): | E14: CONSORCIO PODER | I14: INTEGRANTE 1: | K14: M&M INGENIEROS ASOCIADOS | O14: PORCENTAJE DE PARTICIPACIÓN: | R14: 0.5
I15: INTEGRANTE 2: | K15: Nestor Alfonso Ortiz Bello | O15: PORCENTAJE DE PARTICIPACIÓN: | R15: 0.5
I16: INTEGRANTE 3: | K16: N/A | O16: PORCENTAJE DE PARTICIPACIÓN: | R16: N/A
B18: PRESUPUESTO OFICIAL ESTIMADO: | E18: =Datos!B4 -> 3108643000 | G18: PRESUPUESTO OFICIAL EN SMLMV 2024 SOLICITADO: | J18: 1.5 | K18: =((E18/1300000)*J18) -> 3586.8958
B19: REQUISITO: | E19: (-) Experiencia General: CONSTRUCCIÓN Y/O RECONSTRUCCIÓN Y/O AMPLIACIÓN Y/O TERMINACIÓN Y/O REHABILITACIÓN Y/O MEJORAMIENTO Y/O MANTENIMIENTO Y/O ADECUACIÓN DE PARQUES CONSTRUCCIÓN Y/O RECONSTRUCCIÓN Y/O AMPLIACIÓN Y/O TERMINACIÓN Y/O REHABILITACIÓN Y/O MEJORAMIENTO Y/O MANTENIMIENTO Y/O ADECUACIÓN DE ESPACIO PÚBLICO " Nota 1: Para el caso de experiencia de ESPACIO PÚBLICO se excluyen de estos las vías destinadas al tránsito vehicular, así como la conservación y/o preservación de playas marítimas. Nota 2: En el caso en el cual el proceso de selección contemple actividades de dotación de mobiliario, la experiencia válida aportada deberá acreditar en por lo menos uno (1) de los contratos actividades de suministro e instalación de mobiliario. (-) Experiencia Especifica: Con la sumatoria de hasta máximo dos (2) de los contratos válidos aportados como experiencia general debe corresponder mínimo al (F70%) del presupuesto oficial del presente proceso de selección. % DE DIMENSIONAMIENTO (Según la magnitud requerida en el proceso de contratación) Valor de F%: 70% (-) Experiencia Secundaria: ESPECÍFICA URBANISMO Y/O PAISAJISMO Por lo menos uno (1) de los contratos válidos aportados como experiencia general deben contemplar actividades de: CONSTRUCCIÓN Y/O MEJORAMIENTO Y/O REHABILITACIÓN Y/O MANTENIMIENTO Y/O ADECUACIÓN Y/O REFORZAMIENTO Y/O INTERVENCIÓN PARA URBANISMO Y/O PAISAJISMO Y/O PARQUES Y/O ESPACIO PÚBLICO.
B20: CÓDIGOS RUP SOLICITADOS | D20: 3 | E20: 72101500 | F20: 72141300 | G20: 72153100 | S20: Conteo de Codigos | T20: Cumple / NO Cumple
B21: CÓDIGOS RUP: | D21: Contrato 1 | E21: X | S21: =COUNTA(E21:R21) -> 1 | T21: =IF(S21>=1,"CUMPLE","NO CUMPLE") -> CUMPLE
B22: CÓDIGOS RUP: | D22: Contrato 2 | E22: X | S22: =COUNTA(E22:R22) -> 1 | T22: =IF(S22>=1,"CUMPLE","NO CUMPLE") -> CUMPLE
B23: CÓDIGOS RUP: | D23: Contrato 3 | E23: X | S23: =COUNTA(E23:R23) -> 1 | T23: =IF(S23>=1,"CUMPLE","NO CUMPLE") -> CUMPLE
B24: CÓDIGOS RUP: | D24: Contrato 4 | E24: X | S24: =COUNTA(E24:R24) -> 1 | T24: =IF(S24>=1,"CUMPLE","NO CUMPLE") -> CUMPLE
B25: CÓDIGOS RUP: | D25: Contrato 5 | E25: X | S25: =COUNTA(E25:R25) -> 1 | T25: =IF(S25>=1,"CUMPLE","NO CUMPLE") -> CUMPLE
E26: =COUNTA(E21:E25) -> 5 | F26: =COUNTA(F21:F25) -> 0 | G26: =COUNTA(G21:G25) -> 0 | H26: =COUNTA(H21:H25) -> 0 | I26: =COUNTA(I21:I25) -> 0 | J26: =COUNTA(J21:J25) -> 0 | K26: =COUNTA(K21:K25) -> 0 | L26: =COUNTA(L21:L25) -> 0 | ... R26: =COUNTA(R21:R25) -> 0
B27: CONSOLIDADO | E27: =IF(E26>0,1,0) -> 1 | F27: =IF(F26>0,1,0) -> 0 | G27: =IF(G26>0,1,0) -> 0 | H27: =IF(H26>0,1,0) -> 0 | I27: =IF(I26>0,1,0) -> 0 | J27: =IF(J26>0,1,0) -> 0 | K27: =IF(K26>0,1,0) -> 0 | L27: =IF(L26>0,1,0) -> 0 | ... R27: =IF(R26>0,1,0) -> 0 | S27: =SUM(E27:R27) -> 1 | T27: =IF(S27>=1,"CUMPLE","NO CUMPLE") -> CUMPLE
B29: EXPERIENCIA GENERAL
B30: No. | C30: NÚMERO DEL CONSECUTIVO DEL REPORTE DEL CONTRATO EJECUTADO (Escriba el No. de consecutivo asignado por la Camara de Comercio al contrato en el RUP) | D30: # PAGINA DEL RUP (PDF) DONDE SE ENCUENTRA EL CONSECUTIVO | E30: ENTIDAD CONTRATANTE (Escriba el Nombre de la entidad con la cual suscribió la experiencia ante la Camara de Comercio.) | F30: OBJETO DEL CONTRATO (Indique tal como aparece en la certificación y/o acta de liquidación, y/o acta de terminación) | I30: Experiencia General CUMPLE / NO CUMPLE | J30: Experiencia General (Intervención parques o espacio público) CUMPLE / NO CUMPLE | K30: Experiencia Especifica CUMPLE / NO CUMPLE | L30: NOMBRE DEL ARCHIVO SOPORTE APORTADO PARA VALIDAR LOS REQUERIMIENTOS SOLICITADOS. (Certificaciones, Contratos, Acta de Liquidacion y/o Facturas y/o cualquier otro documento que considere necesario) | N30: CODIGOS CLASIFICACIÓN UNSPSC CUMPLE / NO CUMPLE | O30: NOMBRE PARTICIPANTE QUE APORTA LA EXPERIENCIA | P30: % PARTICIPACION EN EL CONSORCIO O UNIÓN TEMPORAL | Q30: VALOR DEL CONTRATO EN SMMLV RELACIONADOS EN EL RUP | R30: VALOR DEL CONTRATO EN SMMLV X PORCENTAJE PARTICIPACIÓN | S30: OBSERVACIONES
B32: 1 | C32: 19 | D32: 51 | E32: IDRD | F32: CONTRATAR,. POR EL SISTEMA DE PRECIOS UNITARIOS FIJOS, SlN FORMULA DE AJUSTE, LA RECUPERACION Y MANTEN.IMIENTO DE LAS SUPERFICIES, PISOS DUROS DE LOS PARQUES ZONALES, MEROPOLITANOS Y REGIONALES ADMINISTRADOS POR EL IDRD Y QUE COMPONEN EL SISTEMA DISTRITAL DE PARQUES IDRD PARA EL GRUPO 1. LOCALIZADAS EN BOGOTÁ, D.C | I32: CUMPLE | J32: CUMPLE | K32: CUMPLE | L32: CERTIFICACION IDRD / ACTA N6. CANTIDADES FINALES DE OBRA | N32: CUMPLE | O32: M&M INGENIEROS ASOCIADOS SAS ( ERNESTO MONTAÑEZ MORA ) | P32: 0.98 | Q32: 2133.23 | R32: =Q32*P32 -> 2090.5654
B33: 2 | C33: 43 | D33: 73 | E33: IDRD | F33: contratar por el sistema de precios unitarios fijos sin formula de ajsute la construcción de las obras de la tercera etapa del Parque Zonal Villa Mayor En Bogotá D.C | I33: CUMPLE | J33: CUMPLE | K33: CUMPLE | L33: CERTIFICACION IDRD | N33: CUMPLE | O33: M&M INGENIEROS ASOCIADOS SAS ( ERNESTO MONTAÑEZ MORA ) | P33: 0.5 | Q33: 1486.04 | R33: =Q33*P33 -> 743.02
B34: 3 | C34: 15 | D34: 23-24 | E34: FONADE | F34: CONSTRUCCION DE DOS CANCHAS POLIDEPORTIVAS EN LAS PISCINAS N3 Y N6 EN LA VIA PERIMETRAL DE LA CIENAGA DE LA VIRGEN, CARTAGENA DE INDIAS D.T. | I34: CUMPLE | J34: CUMPLE | K34: CUMPLE | L34: CONSTANCIA FONADE | N34: CUMPLE | O34: NESTOR ORTIZ | P34: 0.5 | Q34: 568.14 | R34: =Q34*P34 -> 284.07
B35: 4 | C35: 34 | D35: 37 | E35: FONDO ROTATORIO DE LA POLICIA | F35: CONSTRUCCION DE PISCINA Y VESTIERES FLORENCIA COMANDO DE POLICIA CAQUETA | I35: NO CUMPLE | J35: NO CUMPLE | K35: CUMPLE | L35: CONSTANCIA FONDO ROTATORIO DE LA POLICIA | N35: CUMPLE | O35: NESTROR ORTIZ | P35: 0.5 | Q35: 494.77 | R35: =Q35*P35 -> 247.385
B36: 5 | C36: 40 | D36: 70 | E36: IDRD | F36: CONSTRUCCION Y ADECUACION DEL PARQUE SANTA LUCIA | I36: CUMPLE | J36: CUMPLE | K36: CUMPLE | L36: CERTIFICACION IDRD | N36: CUMPLE | O36: M&M INGENIEROS ASOCIADOS SAS ( ERNESTO MONTAÑEZ MORA ) | P36: 0.5 | Q36: 335.2 | R36: =Q36*P36 -> 167.6
B38: VALOR SUMATORIA CONTRATOS ACREDITADOS PARA EXPERIENCIA HABILITANTE DEL PROPONENTE: | R38: =SUM(R32:R36) -> 3532.6404 | S38: CUMPLE
Q40: 0.7 | R40: 1673.88
R41: 1300000
B53: NOTAS: 1. Para acreditar la experiencia el oferente deberá adjuntar las Actas de Liquidación o Acta de entrega o terminación o final o de recibo definitivo o Certificación de experienci o Acta de inicio o la orden de inicio, y adicional cualquier otro documento por medio del cual se soporte el cumplimiento de las condiciones de experiencia solicitadas en el Proceso. 2. En caso de encontrar discrepancias entre los valores reportados en el Formato y los registrados en el RUP, la Entidad tendrá en cuenta el orden de prevalencia realacionadoa anteriormente.

Sheet 2. K-Residual #1
A1: FONDO DE DESARROLLO LOCAL DE USME
A2: LICITACIÓN PÚBLICA
A3: K-RESIDUAL
A4: =Datos!B3 -> FDLU-LP-010-2024 (117411)
A6: OBJETO | D6: =Datos!B2 -> CONTRATAR MEDIANTE EL SISTEMA DE PRECIOS UNITARIOS A MONTO AGOTABLE, LAS OBRAS DE REHABILITACIÓN Y/O CONSERVACIÓN Y/O MEJORAMIENTO Y/O MANTENIMIENTO DE PARQUES DE PROXIMIDAD DE LA LOCALIDAD DE USME
A8: POE (Presupuesto Oficial Estimado) | E8: =Datos!B4 -> 3108643000
A9: CAPACIDAD RESIDUAL DEL PROCESO DE CONTRATACIÓN (CRPC) | E9: =Datos!B4-E8*E11 -> 3108643000
A10: PLAZO (meses) | E10: 9
A11: ANTICIPO | E11: 0
A13: No. | B13: =+'1. Exp.Habilitante #1'!C9 -> CONSORCIO PODER | C13: Comp. % | D13: USO DE LA APLICACIÓN PARA ESTABLECER LA CAPACIDAD RESIDUAL, DE COLOMBIA COMPRA EFICIENTE | H13: CAPACIDAD RESIDUAL DEL PROPONENTE | I13: CUMPLE / NO CUMPLE | J13: OBSERVACIONES
A15: =+'1. Exp.Habilitante #25'!B9 -> 1. | B15: M&M INGENIEROS ASOCIADOS | C15: 0.5 | D15: Ver Documento Anexo. 1. K-Residual CONSORCIO PODER.pdf | H15: 4.2741914e+10 | I15: CUMPLE | J15: Sin Observaciones
A16: =+'1. Exp.Habilitante #25'!B9 -> 1. | B16: Nestor Alfonso Ortiz Bello | C16: 0.5
A18: COMITÉ EVALUADOR
A24: =Datos!B3 -> FDLU-LP-010-2024 (117411)

Sheet 1. Exp.Habilitante #2
B2: FONDO DE DESARROLLO LOCAL DE USME
B3: FORMATO: EVALUACIÓN EXPERIENCIA MINIMA HABILITANTE PROPONENTES
B4: LICITACIÓN PÚBLICA
B5: =Datos!B3 -> FDLU-LP-010-2024 (117411)
B7: OBJETO: | E7: CONTRATAR MEDIANTE EL SISTEMA DE PRECIOS UNITARIOS A MONTO AGOTABLE, LAS OBRAS DE REHABILITACIÓN Y/O CONSERVACIÓN Y/O MEJORAMIENTO Y/O MANTENIMIENTO DE PARQUES DE PROXIMIDAD DE LA LOCALIDAD DE USME
B9: 1. | C9: CONSORCIO PARQUES USME
G11: CUMPLE
B14: PROPONENTE (Persona Natural, Jurídica, Consorcio o Unión Temporal): | E14: CONSORCIO PARQUES USME | I14: INTEGRANTE 1: | K14: CSS CONSTRUCCION SOSTENIBLE Y SUSTENTABLE SAS | O14: PORCENTAJE DE PARTICIPACIÓN: | R14: 0.8
I15: INTEGRANTE 2: | K15: ADONIS VLADIMIR BERNAN CARDOZO | O15: PORCENTAJE DE PARTICIPACIÓN: | R15: 0.2
I16: INTEGRANTE 3: | K16: N/A | O16: PORCENTAJE DE PARTICIPACIÓN: | R16: N/A
B18: PRESUPUESTO OFICIAL ESTIMADO: | E18: =Datos!B4 -> 3108643000 | G18: PRESUPUESTO OFICIAL EN SMLMV 2024 SOLICITADO: | J18: 0.75 | K18: =((E18/1300000)*J18) -> 1793.4479
B19: REQUISITO: | E19: (-) Experiencia General: CONSTRUCCIÓN Y/O RECONSTRUCCIÓN Y/O AMPLIACIÓN Y/O TERMINACIÓN Y/O REHABILITACIÓN Y/O MEJORAMIENTO Y/O MANTENIMIENTO Y/O ADECUACIÓN DE PARQUES CONSTRUCCIÓN Y/O RECONSTRUCCIÓN Y/O AMPLIACIÓN Y/O TERMINACIÓN Y/O REHABILITACIÓN Y/O MEJORAMIENTO Y/O MANTENIMIENTO Y/O ADECUACIÓN DE ESPACIO PÚBLICO " Nota 1: Para el caso de experiencia de ESPACIO PÚBLICO se excluyen de estos las vías destinadas al tránsito vehicular, así como la conservación y/o preservación de playas marítimas. Nota 2: En el caso en el cual el proceso de selección contemple actividades de dotación de mobiliario, la experiencia válida aportada deberá acreditar en por lo menos uno (1) de los contratos actividades de suministro e instalación de mobiliario. (-) Experiencia Especifica: Con la sumatoria de hasta máximo dos (2) de los contratos válidos aportados como experiencia general debe corresponder mínimo al (F70%) del presupuesto oficial del presente proceso de selección. % DE DIMENSIONAMIENTO (Según la magnitud requerida en el proceso de contratación) Valor de F%: 70% (-) Experiencia Secundaria: ESPECÍFICA URBANISMO Y/O PAISAJISMO Por lo menos uno (1) de los contratos válidos aportados como experiencia general deben contemplar actividades de: CONSTRUCCIÓN Y/O MEJORAMIENTO Y/O REHABILITACIÓN Y/O MANTENIMIENTO Y/O ADECUACIÓN Y/O REFORZAMIENTO Y/O INTERVENCIÓN PARA URBANISMO Y/O PAISAJISMO Y/O PARQUES Y/O ESPACIO PÚBLICO.
B20: CÓDIGOS RUP SOLICITADOS | D20: 3 | E20: 72101500 | F20: 72141300 | G20: 72153100 | S20: Conteo de Codigos | T20: Cumple / NO Cumple
B21: CÓDIGOS RUP: | D21: Contrato 1 | E21: X | G21: X | S21: =COUNTA(E21:R21) -> 2 | T21: =IF(S21>=1,"CUMPLE","NO CUMPLE") -> CUMPLE
B22: CÓDIGOS RUP: | D22: Contrato 2 | E22: X | F22: X | G22: x | S22: =COUNTA(E22:R22) -> 3 | T22: =IF(S22>=1,"CUMPLE","NO CUMPLE") -> CUMPLE
E23: =COUNTA(E21:E22) -> 2 | F23: =COUNTA(F21:F22) -> 1 | G23: =COUNTA(G21:G22) -> 2 | H23: =COUNTA(H21:H22) -> 0 | I23: =COUNTA(I21:I22) -> 0 | J23: =COUNTA(J21:J22) -> 0 | K23: =COUNTA(K21:K22) -> 0 | L23: =COUNTA(L21:L22) -> 0 | ... R23: =COUNTA(R21:R22) -> 0
B24: CONSOLIDADO | E24: =IF(E23>0,1,0) -> 1 | F24: =IF(F23>0,1,0) -> 1 | G24: =IF(G23>0,1,0) -> 1 | H24: =IF(H23>0,1,0) -> 0 | I24: =IF(I23>0,1,0) -> 0 | J24: =IF(J23>0,1,0) -> 0 | K24: =IF(K23>0,1,0) -> 0 | L24: =IF(L23>0,1,0) -> 0 | ... R24: =IF(R23>0,1,0) -> 0 | S24: =SUM(E24:R24) -> 3 | T24: =IF(S24>=1,"CUMPLE","NO CUMPLE") -> CUMPLE
B26: EXPERIENCIA GENERAL
B27: No. | C27: NÚMERO DEL CONSECUTIVO DEL REPORTE DEL CONTRATO EJECUTADO (Escriba el No. de consecutivo asignado por la Camara de Comercio al contrato en el RUP) | D27: # PAGINA DEL RUP (PDF) DONDE SE ENCUENTRA EL CONSECUTIVO | E27: ENTIDAD CONTRATANTE (Escriba el Nombre de la entidad con la cual suscribió la experiencia ante la Camara de Comercio.) | F27: OBJETO DEL CONTRATO (Indique tal como aparece en la certificación y/o acta de liquidación, y/o acta de terminación) | I27: Experiencia General CUMPLE / NO CUMPLE | J27: Experiencia General (Intervención parques o espacio público) CUMPLE / NO CUMPLE | K27: Experiencia Especifica CUMPLE / NO CUMPLE | L27: NOMBRE DEL ARCHIVO SOPORTE APORTADO PARA VALIDAR LOS REQUERIMIENTOS SOLICITADOS. (Certificaciones, Contratos, Acta de Liquidacion y/o Facturas y/o cualquier otro documento que considere necesario) | N27: CODIGOS CLASIFICACIÓN UNSPSC CUMPLE / NO CUMPLE | O27: NOMBRE PARTICIPANTE QUE APORTA LA EXPERIENCIA | P27: % PARTICIPACION EN EL CONSORCIO O UNIÓN TEMPORAL | Q27: VALOR DEL CONTRATO EN SMMLV RELACIONADOS EN EL RUP | R27: VALOR DEL CONTRATO EN SMMLV X PORCENTAJE PARTICIPACIÓN | S27: OBSERVACIONES
B29: 1 | C29: 19 | D29: 88 | E29: ALCALDIA DE VILLAVICENCIO | F29: CONSTRUCCION DE PARQUE RECREATIVOS Y DEPORTIVO BARRIO LA ESPERANZA DEL MUNICIPIO DE VILLAVICENCIO META | I29: CUMPLE | J29: CUMPLE | K29: CUMPLE | L29: ACTA DE RECIBO FINAL | N29: CUMPLE | O29: ADONIS VLADIMIR BERNAL | P29: 0.55 | Q29: 18278.7 | R29: =Q29*P29 -> 10053.285
B30: 2 | C30: 171 | D30: 658 | E30: PATRIMONIO AUTONOMO FIDEICOMISO ASISTENCIA TECNICA - FINDETER | F30: CONSTRUCCION DE PARQUES RECREO DEPORTIVOS EN URBANIZACION DONDE SE DESARROLLA EL PROGRAMA DE 100,000 VIVIENDAS ZONA NORTE GRUPO 4 | I30: CUMPLE | J30: CUMPLE | K30: CUMPLE | L30: CERTIFICACION FIDUCIA | N30: CUMPLE | O30: CSS CONSTRUCCION SOSTENIBLE Y SUSTENTABLE SAS | P30: 0.5 | Q30: 3884.91 | R30: =Q30*P30 -> 1942.455
B32: VALOR SUMATORIA CONTRATOS ACREDITADOS PARA EXPERIENCIA HABILITANTE DEL PROPONENTE: | R32: =SUM(R29:R30) -> 11995.74 | S32: =IF(R32>K18,"CUMPLE","NO CUMPLE") -> CUMPLE
Q34: 0.7 | R34: 1673.88
R35: 1300000
B47: NOTAS: 1. Para acreditar la experiencia el oferente deberá adjuntar las Actas de Liquidación o Acta de entrega o terminación o final o de recibo definitivo o Certificación de experienci o Acta de inicio o la orden de inicio, y adicional cualquier otro documento por medio del cual se soporte el cumplimiento de las condiciones de experiencia solicitadas en el Proceso. 2. En caso de encontrar discrepancias entre los valores reportados en el Formato y los registrados en el RUP, la Entidad tendrá en cuenta el orden de prevalencia realacionadoa anteriormente.

Sheet 2. K-Residual #2
A1: FONDO DE DESARROLLO LOCAL DE USME
A2: LICITACIÓN PÚBLICA
A3: K-RESIDUAL
A4: =Datos!B3 -> FDLU-LP-010-2024 (117411)
A6: OBJETO | D6: =Datos!B2 -> CONTRATAR MEDIANTE EL SISTEMA DE PRECIOS UNITARIOS A MONTO AGOTABLE, LAS OBRAS DE REHABILITACIÓN Y/O CONSERVACIÓN Y/O MEJORAMIENTO Y/O MANTENIMIENTO DE PARQUES DE PROXIMIDAD DE LA LOCALIDAD DE USME
A8: POE (Presupuesto Oficial Estimado) | E8: =Datos!B4 -> 3108643000
A9: CAPACIDAD RESIDUAL DEL PROCESO DE CONTRATACIÓN (CRPC) | E9: =Datos!B4-E8*E11 -> 3108643000
A10: PLAZO (meses) | E10: 9
A11: ANTICIPO | E11: 0
A13: No. | B13: CONSORCIO PARQUES USME | C13: Comp. % | D13: USO DE LA APLICACIÓN PARA ESTABLECER LA CAPACIDAD RESIDUAL, DE COLOMBIA COMPRA EFICIENTE | H13: CAPACIDAD RESIDUAL DEL PROPONENTE | I13: CUMPLE / NO CUMPLE | J13: OBSERVACIONES
A15: =+'1. Exp.Habilitante #25'!B9 -> 1. | B15: CSS CONSTRUCCION SOSTENIBLE Y SUSTENTABLE SAS | C15: 0.8 | D15: Ver Documento Anexo. 2. K-Residual CONSORCIO PARQUES USME.PDF | H15: 104678940930 | I15: CUMPLE
A16: =+'1. Exp.Habilitante #25'!B9 -> 1. | B16: ADONIS VLADIMIR BERNAN CARDOZO | C16: 0.2
A18: COMITÉ EVALUADOR

Sheet 1. Exp.Habilitante #3
B2: FONDO DE DESARROLLO LOCAL DE USME
B3: FORMATO: EVALUACIÓN EXPERIENCIA MINIMA HABILITANTE PROPONENTES
B4: LICITACIÓN PÚBLICA
B5: =Datos!B3 -> FDLU-LP-010-2024 (117411)
B7: OBJETO: | E7: CONTRATAR MEDIANTE EL SISTEMA DE PRECIOS UNITARIOS A MONTO AGOTABLE, LAS OBRAS DE REHABILITACIÓN Y/O CONSERVACIÓN Y/O MEJORAMIENTO Y/O MANTENIMIENTO DE PARQUES DE PROXIMIDAD DE LA LOCALIDAD DE USME
B9: 1. | C9: CONSORCIO USME PARK BQ
G11: CUMPLE
G12: Subsanó lo requerido.
B14: PROPONENTE (Persona Natural, Jurídica, Consorcio o Unión Temporal): | E14: CONSORCIO USME PARK BQ | I14: INTEGRANTE 1: | K14: BRAYCON INGENIERÍA S.A.S.. | O14: PORCENTAJE DE PARTICIPACIÓN: | R14: 0.45
I15: INTEGRANTE 2: | K15: CARLOS ARTURO ARANGO SALAZAR | O15: PORCENTAJE DE PARTICIPACIÓN: | R15: 0.05
I16: INTEGRANTE 3: | K16: DQ INVERSIONES S.A.S. | O16: PORCENTAJE DE PARTICIPACIÓN: | R16: 0.5
B18: PRESUPUESTO OFICIAL ESTIMADO: | E18: =Datos!B4 -> 3108643000 | G18: PRESUPUESTO OFICIAL EN SMLMV 2024 SOLICITADO: | J18: 1.2 | K18: =((E18/1300000)*J18) -> 2869.5166
B19: REQUISITO: | E19: (-) Experiencia General: CONSTRUCCIÓN Y/O RECONSTRUCCIÓN Y/O AMPLIACIÓN Y/O TERMINACIÓN Y/O REHABILITACIÓN Y/O MEJORAMIENTO Y/O MANTENIMIENTO Y/O ADECUACIÓN DE PARQUES CONSTRUCCIÓN Y/O RECONSTRUCCIÓN Y/O AMPLIACIÓN Y/O TERMINACIÓN Y/O REHABILITACIÓN Y/O MEJORAMIENTO Y/O MANTENIMIENTO Y/O ADECUACIÓN DE ESPACIO PÚBLICO " Nota 1: Para el caso de experiencia de ESPACIO PÚBLICO se excluyen de estos las vías destinadas al tránsito vehicular, así como la conservación y/o preservación de playas marítimas. Nota 2: En el caso en el cual el proceso de selección contemple actividades de dotación de mobiliario, la experiencia válida aportada deberá acreditar en por lo menos uno (1) de los contratos actividades de suministro e instalación de mobiliario. (-) Experiencia Especifica: Con la sumatoria de hasta máximo dos (2) de los contratos válidos aportados como experiencia general debe corresponder mínimo al (F70%) del presupuesto oficial del presente proceso de selección. % DE DIMENSIONAMIENTO (Según la magnitud requerida en el proceso de contratación) Valor de F%: 70% (-) Experiencia Secundaria: ESPECÍFICA URBANISMO Y/O PAISAJISMO Por lo menos uno (1) de los contratos válidos aportados como experiencia general deben contemplar actividades de: CONSTRUCCIÓN Y/O MEJORAMIENTO Y/O REHABILITACIÓN Y/O MANTENIMIENTO Y/O ADECUACIÓN Y/O REFORZAMIENTO Y/O INTERVENCIÓN PARA URBANISMO Y/O PAISAJISMO Y/O PARQUES Y/O ESPACIO PÚBLICO.
B20: CÓDIGOS RUP SOLICITADOS | D20: 3 | E20: 72101500 | F20: 72141300 | G20: 72153100 | S20: Conteo de Codigos | T20: Cumple / NO Cumple
B21: CÓDIGOS RUP: | D21: Contrato 1 | E21: X | F21: X | S21: =COUNTA(E21:R21) -> 2 | T21: =IF(S21>=1,"CUMPLE","NO CUMPLE") -> CUMPLE
B22: CÓDIGOS RUP: | D22: Contrato 2 | E22: X | S22: =COUNTA(E22:R22) -> 1 | T22: =IF(S22>=1,"CUMPLE","NO CUMPLE") -> CUMPLE
B23: CÓDIGOS RUP: | D23: Contrato 3 | E23: X | F23: X | S23: =COUNTA(E23:R23) -> 2 | T23: =IF(S23>=1,"CUMPLE","NO CUMPLE") -> CUMPLE
B24: CÓDIGOS RUP: | D24: Contrato 4 | E24: X | F24: X | S24: =COUNTA(E24:R24) -> 2 | T24: =IF(S24>=1,"CUMPLE","NO CUMPLE") -> CUMPLE
E25: =COUNTA(#REF!) -> 1 | F25: =COUNTA(#REF!) -> 1 | G25: =COUNTA(#REF!) -> 1 | H25: =COUNTA(#REF!) -> 1 | I25: =COUNTA(#REF!) -> 1 | J25: =COUNTA(#REF!) -> 1 | K25: =COUNTA(#REF!) -> 1 | L25: =COUNTA(#REF!) -> 1 | ... R25: =COUNTA(#REF!) -> 1
B26: CONSOLIDADO | E26: =IF(E25>0,1,0) -> 1 | F26: =IF(F25>0,1,0) -> 1 | S26: =SUM(E26:R26) -> 2 | T26: =IF(S26>=1,"CUMPLE","NO CUMPLE") -> CUMPLE
B28: EXPERIENCIA GENERAL
B29: No. | C29: NÚMERO DEL CONSECUTIVO DEL REPORTE DEL CONTRATO EJECUTADO (Escriba el No. de consecutivo asignado por la Camara de Comercio al contrato en el RUP) | D29: # PAGINA DEL RUP (PDF) DONDE SE ENCUENTRA EL CONSECUTIVO | E29: ENTIDAD CONTRATANTE (Escriba el Nombre de la entidad con la cual suscribió la experiencia ante la Camara de Comercio.) | F29: OBJETO DEL CONTRATO (Indique tal como aparece en la certificación y/o acta de liquidación, y/o acta de terminación) | I29: Experiencia General CUMPLE / NO CUMPLE | J29: Experiencia General (Intervención parques o espacio público) CUMPLE / NO CUMPLE | K29: Experiencia Especifica CUMPLE / NO CUMPLE | L29: NOMBRE DEL ARCHIVO SOPORTE APORTADO PARA VALIDAR LOS REQUERIMIENTOS SOLICITADOS. (Certificaciones, Contratos, Acta de Liquidacion y/o Facturas y/o cualquier otro documento que considere necesario) | N29: CODIGOS CLASIFICACIÓN UNSPSC CUMPLE / NO CUMPLE | O29: NOMBRE PARTICIPANTE QUE APORTA LA EXPERIENCIA | P29: % PARTICIPACION EN EL CONSORCIO O UNIÓN TEMPORAL | Q29: VALOR DEL CONTRATO EN SMMLV RELACIONADOS EN EL RUP | R29: VALOR DEL CONTRATO EN SMMLV X PORCENTAJE PARTICIPACIÓN | S29: OBSERVACIONES
B31: 1 | C31: 182 | D31: 1404 | E31: MUNICIPIO DE EL ESPINAL TOLIMA | F31: RENOVACIÓN ARQUITECTONICA Y PAISAJÍSTICA DEL PARQUE BOLÍVAR Y PARQUE CASTAÑEDA DEL MUNICIPIO DEL ESPINAL - DEPARTAMENTO DEL TOLIMA | I31: CUMPLE | J31: CUMPLE | K31: CUMPLE | L31: CONSTANCIA ALCALDIA MUNICIPAL DEL ESPINAL | N31: CUMPLE | O31: CARLOS ARTURO ARANGO SALAZAR | P31: 0.5 | Q31: 9001.31 | R31: =Q31*P31 -> 4500.655
B32: 2 | C32: 25 | D32: 45 | E32: MUNICIPIO DE EL ESPINAL TOLIMA | F32: RENOVACIÓN ARQUITECTONICA Y PAISAJÍSTICA DEL PARQUE PRINCIPAL DE CHICORAL TOLIMA, MUNICIPIO DE EL ESPINAL, TOLIMA | I32: CUMPLE | J32: CUMPLE | K32: CUMPLE | L32: ACTA DE RECIBO FINAL | N32: CUMPLE | O32: BRAYCON INGENIERIA SAS | P32: 0.95 | Q32: 1521.77 | R32: =Q32*P32 -> 1445.6815
B33: 3 | C33: 3 | D33: 58 | E33: FONDO DE DESARROLLO LOCAL SAN CRISTOBAL | F33: REALIZAR LAS OBRAS DE CONSERVACÓN DE LA MALLA VIAL Y ESPACIO PÚBLICO ASOCIADO EN LA LOCALIDAD DE SAN CRISTOBAL , BOGOTA DC A TRAVÉS DEL SISTEMA DE PRECIOS UNITARIOS FIJOS, SIN FORMULA DE REAJUSTE Y A MONTO AGOTABLE | I33: NO CUMPLE | J33: NO CUMPLE | K33: CUMPLE | L33: ACTA DE LIQUIDACION DE OBRA | N33: CUMPLE | O33: DQ INVERSIONES | P33: 0.5 | Q33: 15046.01 | R33: =Q33*P33 -> 7523.005
B34: 4 | C34: 2 | D34: 50 | E34: FONDO DE DESARROLLO LOCAL SAN CRISTOBAL | F34: EJECUTAR A PRECIOS UNITARIOS SIN FORMULA DE REAJUSTE Y A MONTO AGOTABLE LAS ACTIVIDADES NECESARIAS PARA LA CONSTRUCCION DE LA MALLA VIAL DE LA LOCALIDAD DE SAN CRISTOBAL BOGOTA DC | I34: NO CUMPLE | J34: NO CUMPLE | K34: CUMPLE | L34: CERTIFICACION ALCALDIA LOCAL DE SAN CRISTOBAL | N34: CUMPLE | O34: DQ INVERSIONES | P34: 0.9 | Q34: 3263.68 | R34: =Q34*P34 -> 2937.312
B36: VALOR SUMATORIA CONTRATOS ACREDITADOS PARA EXPERIENCIA HABILITANTE DEL PROPONENTE: | R36: =SUM(R31:R34) -> 16406.654 | S36: =IF(R36>K18,"CUMPLE","NO CUMPLE") -> CUMPLE
Q38: 0.7 | R38: 1673.88
R39: 1300000
B51: NOTAS: 1. Para acreditar la experiencia el oferente deberá adjuntar las Actas de Liquidación o Acta de entrega o terminación o final o de recibo definitivo o Certificación de experienci o Acta de inicio o la orden de inicio, y adicional cualquier otro documento por medio del cual se soporte el cumplimiento de las condiciones de experiencia solicitadas en el Proceso. 2. En caso de encontrar discrepancias entre los valores reportados en el Formato y los registrados en el RUP, la Entidad tendrá en cuenta el orden de prevalencia realacionadoa anteriormente.

Sheet 2. K-Residual #3
A1: FONDO DE DESARROLLO LOCAL DE USME
A2: LICITACIÓN PÚBLICA
A3: K-RESIDUAL
A4: =Datos!B3 -> FDLU-LP-010-2024 (117411)
A6: OBJETO | D6: =Datos!B2 -> CONTRATAR MEDIANTE EL SISTEMA DE PRECIOS UNITARIOS A MONTO AGOTABLE, LAS OBRAS DE REHABILITACIÓN Y/O CONSERVACIÓN Y/O MEJORAMIENTO Y/O MANTENIMIENTO DE PARQUES DE PROXIMIDAD DE LA LOCALIDAD DE USME
A8: POE (Presupuesto Oficial Estimado) | E8: =Datos!B4 -> 3108643000
A9: CAPACIDAD RESIDUAL DEL PROCESO DE CONTRATACIÓN (CRPC) | E9: =Datos!B4-E8*E11 -> 3108643000
A10: PLAZO (meses) | E10: 9
A11: ANTICIPO | E11: 0
A13: No. | B13: CONSORCIO USME PARK BQ | C13: Comp. % | D13: USO DE LA APLICACIÓN PARA ESTABLECER LA CAPACIDAD RESIDUAL, DE COLOMBIA COMPRA EFICIENTE | H13: CAPACIDAD RESIDUAL DEL PROPONENTE | I13: CUMPLE / NO CUMPLE | J13: OBSERVACIONES
A15: =+'1. Exp.Habilitante #25'!B9 -> 1. | B15: DQ INVERSIONES S.A.S. | C15: 0.5 | D15: Ver Documento Anexo. 27. K-Residual CONSORCIO USME PARK BQ .pdf | H15: 43709309577 | I15: CUMPLE | J15: SUBSANADO
A16: 1 | B16: BRAYCON INGENIERIA SAS | C16: 0.45
A17: 1 | B17: CARLOS ARTURO ARANGO SALAZAR | C17: 0.05
A19: COMITÉ EVALUADOR

Sheet 1. Exp.Habilitante #4
B2: FONDO DE DESARROLLO LOCAL DE USME
B3: FORMATO: EVALUACIÓN EXPERIENCIA MINIMA HABILITANTE PROPONENTES
B4: LICITACIÓN PÚBLICA
B5: =Datos!B3 -> FDLU-LP-010-2024 (117411)
B7: OBJETO: | E7: CONTRATAR MEDIANTE EL SISTEMA DE PRECIOS UNITARIOS A MONTO AGOTABLE, LAS OBRAS DE REHABILITACIÓN Y/O CONSERVACIÓN Y/O MEJORAMIENTO Y/O MANTENIMIENTO DE PARQUES DE PROXIMIDAD DE LA LOCALIDAD DE USME
B9: 1. | C9: REDEX SAS
G11: CUMPLE
B14: PROPONENTE (Persona Natural, Jurídica, Consorcio o Unión Temporal): | E14: REDEX SAS | I14: INTEGRANTE 1: | K14: REDEX SAS | O14: PORCENTAJE DE PARTICIPACIÓN: | R14: 1
I15: INTEGRANTE 2: | O15: PORCENTAJE DE PARTICIPACIÓN:
I16: INTEGRANTE 3: | O16: PORCENTAJE DE PARTICIPACIÓN:
B18: PRESUPUESTO OFICIAL ESTIMADO: | E18: =Datos!B4 -> 3108643000 | G18: PRESUPUESTO OFICIAL EN SMLMV 2024 SOLICITADO: | J18: 0.75 | K18: =((E18/1300000)*J18) -> 1793.4479
B19: REQUISITO: | E19: (-) Experiencia General: CONSTRUCCIÓN Y/O RECONSTRUCCIÓN Y/O AMPLIACIÓN Y/O TERMINACIÓN Y/O REHABILITACIÓN Y/O MEJORAMIENTO Y/O MANTENIMIENTO Y/O ADECUACIÓN DE PARQUES CONSTRUCCIÓN Y/O RECONSTRUCCIÓN Y/O AMPLIACIÓN Y/O TERMINACIÓN Y/O REHABILITACIÓN Y/O MEJORAMIENTO Y/O MANTENIMIENTO Y/O ADECUACIÓN DE ESPACIO PÚBLICO " Nota 1: Para el caso de experiencia de ESPACIO PÚBLICO se excluyen de estos las vías destinadas al tránsito vehicular, así como la conservación y/o preservación de playas marítimas. Nota 2: En el caso en el cual el proceso de selección contemple actividades de dotación de mobiliario, la experiencia válida aportada deberá acreditar en por lo menos uno (1) de los contratos actividades de suministro e instalación de mobiliario. (-) Experiencia Especifica: Con la sumatoria de hasta máximo dos (2) de los contratos válidos aportados como experiencia general debe corresponder mínimo al (F70%) del presupuesto oficial del presente proceso de selección. % DE DIMENSIONAMIENTO (Según la magnitud requerida en el proceso de contratación) Valor de F%: 70% (-) Experiencia Secundaria: ESPECÍFICA URBANISMO Y/O PAISAJISMO Por lo menos uno (1) de los contratos válidos aportados como experiencia general deben contemplar actividades de: CONSTRUCCIÓN Y/O MEJORAMIENTO Y/O REHABILITACIÓN Y/O MANTENIMIENTO Y/O ADECUACIÓN Y/O REFORZAMIENTO Y/O INTERVENCIÓN PARA URBANISMO Y/O PAISAJISMO Y/O PARQUES Y/O ESPACIO PÚBLICO.
B20: CÓDIGOS RUP SOLICITADOS | D20: 3 | E20: 72101500 | F20: 72141300 | G20: 72153100 | S20: Conteo de Codigos | T20: Cumple / NO Cumple
B21: CÓDIGOS RUP: | D21: Contrato 1 | E21: X | F21: X | G21: X | S21: =COUNTA(E21:R21) -> 3 | T21: =IF(S21>=1,"CUMPLE","NO CUMPLE") -> CUMPLE
B22: CÓDIGOS RUP: | D22: Contrato 2 | E22: X | F22: X | G22: X | S22: =COUNTA(E22:R22) -> 3 | T22: =IF(S22>=1,"CUMPLE","NO CUMPLE") -> CUMPLE
E23: =COUNTA(#REF!) -> 1 | F23: =COUNTA(#REF!) -> 1 | G23: =COUNTA(#REF!) -> 1 | H23: =COUNTA(#REF!) -> 1 | I23: =COUNTA(#REF!) -> 1 | J23: =COUNTA(#REF!) -> 1 | K23: =COUNTA(#REF!) -> 1 | L23: =COUNTA(#REF!) -> 1 | ... R23: =COUNTA(#REF!) -> 1
B24: CONSOLIDADO | E24: =IF(E23>0,1,0) -> 1 | F24: =IF(F23>0,1,0) -> 1 | G24: 1 | S24: =SUM(E24:R24) -> 3 | T24: =IF(S24>=1,"CUMPLE","NO CUMPLE") -> CUMPLE
B26: EXPERIENCIA GENERAL
B27: No. | C27: NÚMERO DEL CONSECUTIVO DEL REPORTE DEL CONTRATO EJECUTADO (Escriba el No. de consecutivo asignado por la Camara de Comercio al contrato en el RUP) | D27: # PAGINA DEL RUP (PDF) DONDE SE ENCUENTRA EL CONSECUTIVO | E27: ENTIDAD CONTRATANTE (Escriba el Nombre de la entidad con la cual suscribió la experiencia ante la Camara de Comercio.) | F27: OBJETO DEL CONTRATO (Indique tal como aparece en la certificación y/o acta de liquidación, y/o acta de terminación) | I27: Experiencia General CUMPLE / NO CUMPLE | J27: Experiencia General (Intervención parques o espacio público) CUMPLE / NO CUMPLE | K27: Experiencia Especifica CUMPLE / NO CUMPLE | L27: NOMBRE DEL ARCHIVO SOPORTE APORTADO PARA VALIDAR LOS REQUERIMIENTOS SOLICITADOS. (Certificaciones, Contratos, Acta de Liquidacion y/o Facturas y/o cualquier otro documento que considere necesario) | N27: CODIGOS CLASIFICACIÓN UNSPSC CUMPLE / NO CUMPLE | O27: NOMBRE PARTICIPANTE QUE APORTA LA EXPERIENCIA | P27: % PARTICIPACION EN EL CONSORCIO O UNIÓN TEMPORAL | Q27: VALOR DEL CONTRATO EN SMMLV RELACIONADOS EN EL RUP | R27: VALOR DEL CONTRATO EN SMMLV X PORCENTAJE PARTICIPACIÓN | S27: OBSERVACIONES
B29: 1 | C29: 45 | D29: 1082 | E29: FINDETER | F29: EJECUCION DE ESTUDIOS Y DISEÑOS CONSTRUCCION Y PUESTA EN FUNCIONAMIENTO DE UN SACUDETE RECREODEPORTIVO UBICADO EN LA URBANIZCION TIERRALINDA EN EL MUNICIPIO DE AGUACHICA URBANIZACION VILLA AIDETH EN EL MUNICIPIO DE ASTREA URBANIZACION SARA LUCIA EN EL MUNICIPIO DE CURUMANI Y LA URBANIZACION ALTOS DEL PROGRESO EN EL MUNICIPIO DE SAN ALBERTO DEPARTAMENTO DEL CESAR | I29: CUMPLE | J29: CUMPLE | K29: CUMPLE | L29: ACTA DE TERMINACION DE CONTRATO | N29: CUMPLE | O29: REDEX SAS | P29: 0.5 | Q29: 3159.86 | R29: =Q29*P29 -> 1579.93
B30: 2 | C30: 47 | D30: 1127 | E30: MUNICIPIO DE MANIZALES | F30: READECUACION DEL PARQUE ARENILLO UBICADO EN LA CIUDAD DE MANIZALES CALDAS | I30: CUMPLE | J30: CUMPLE | K30: CUMPLE | L30: ACTA DE RECIBO FINAL ALCALDIA DE MANIZALES | N30: CUMPLE | O30: REDEX SAS | P30: 0.45 | Q30: 5322.84 | R30: =Q30*P30 -> 2395.278
B32: VALOR SUMATORIA CONTRATOS ACREDITADOS PARA EXPERIENCIA HABILITANTE DEL PROPONENTE: | R32: =SUM(R29:R30) -> 3975.208 | S32: =IF(R32>K18,"CUMPLE","NO CUMPLE") -> CUMPLE
Q34: 0.7 | R34: 1673.88
R35: 1300000
B47: NOTAS: 1. Para acreditar la experiencia el oferente deberá adjuntar las Actas de Liquidación o Acta de entrega o terminación o final o de recibo definitivo o Certificación de experienci o Acta de inicio o la orden de inicio, y adicional cualquier otro documento por medio del cual se soporte el cumplimiento de las condiciones de experiencia solicitadas en el Proceso. 2. En caso de encontrar discrepancias entre los valores reportados en el Formato y los registrados en el RUP, la Entidad tendrá en cuenta el orden de prevalencia realacionadoa anteriormente.

Sheet 2. K-Residual #4
A1: FONDO DE DESARROLLO LOCAL DE USME
A2: LICITACIÓN PÚBLICA
A3: K-RESIDUAL
A4: =Datos!B3 -> FDLU-LP-010-2024 (117411)
A6: OBJETO | D6: =Datos!B2 -> CONTRATAR MEDIANTE EL SISTEMA DE PRECIOS UNITARIOS A MONTO AGOTABLE, LAS OBRAS DE REHABILITACIÓN Y/O CONSERVACIÓN Y/O MEJORAMIENTO Y/O MANTENIMIENTO DE PARQUES DE PROXIMIDAD DE LA LOCALIDAD DE USME
A8: POE (Presupuesto Oficial Estimado) | E8: =Datos!B4 -> 3108643000
A9: CAPACIDAD RESIDUAL DEL PROCESO DE CONTRATACIÓN (CRPC) | E9: =Datos!B4-E8*E11 -> 3108643000
A10: PLAZO (meses) | E10: 9
A11: ANTICIPO | E11: 0
A13: No. | B13: REDEX SAS | C13: Comp. % | D13: USO DE LA APLICACIÓN PARA ESTABLECER LA CAPACIDAD RESIDUAL, DE COLOMBIA COMPRA EFICIENTE | H13: CAPACIDAD RESIDUAL DEL PROPONENTE | I13: CUMPLE / NO CUMPLE | J13: OBSERVACIONES
A15: =+'1. Exp.Habilitante #25'!B9 -> 1. | B15: REDEX | C15: 1 | D15: Ver Documento Anexo. 4. K-Residual REDEX .pdf | H15: 1.5152124e+10 | I15: CUMPLE
A17: COMITÉ EVALUADOR
A23: =Datos!B3 -> FDLU-LP-010-2024 (117411)

Sheet 1. Exp.Habilitante #25
B2: FONDO DE DESARROLLO LOCAL DE USME
B3: FORMATO: EVALUACIÓN EXPERIENCIA MINIMA HABILITANTE PROPONENTES
B4: LICITACIÓN PÚBLICA
B5: =Datos!B3 -> FDLU-LP-010-2024 (117411)
B7: OBJETO: | E7: CONTRATAR MEDIANTE EL SISTEMA DE PRECIOS UNITARIOS A MONTO AGOTABLE, LAS OBRAS DE REHABILITACIÓN Y/O CONSERVACIÓN Y/O MEJORAMIENTO Y/O MANTENIMIENTO DE PARQUES DE PROXIMIDAD DE LA LOCALIDAD DE USME
B9: 1. | C9: CONSTRUCTORES CONSULTORES SAS
G11: CUMPLE
B14: PROPONENTE (Persona Natural, Jurídica, Consorcio o Unión Temporal): | E14: CONSTRUCTORES CONSULTORES SAS | I14: INTEGRANTE 1: | K14: CONSTRUCTORES CONSULTORES SAS | O14: PORCENTAJE DE PARTICIPACIÓN: | R14: 1
I15: INTEGRANTE 2: | K15: N/A | O15: PORCENTAJE DE PARTICIPACIÓN: | R15: N/A
I16: INTEGRANTE 3: | K16: N/A | O16: PORCENTAJE DE PARTICIPACIÓN: | R16: N/A
B18: PRESUPUESTO OFICIAL ESTIMADO: | E18: =Datos!B4 -> 3108643000 | G18: PRESUPUESTO OFICIAL EN SMLMV 2024 SOLICITADO: | J18: 0.75 | K18: =((E18/1300000)*J18) -> 1793.4479
B19: REQUISITO: | E19: (-) Experiencia General: CONSTRUCCIÓN Y/O RECONSTRUCCIÓN Y/O AMPLIACIÓN Y/O TERMINACIÓN Y/O REHABILITACIÓN Y/O MEJORAMIENTO Y/O MANTENIMIENTO Y/O ADECUACIÓN DE PARQUES CONSTRUCCIÓN Y/O RECONSTRUCCIÓN Y/O AMPLIACIÓN Y/O TERMINACIÓN Y/O REHABILITACIÓN Y/O MEJORAMIENTO Y/O MANTENIMIENTO Y/O ADECUACIÓN DE ESPACIO PÚBLICO " Nota 1: Para el caso de experiencia de ESPACIO PÚBLICO se excluyen de estos las vías destinadas al tránsito vehicular, así como la conservación y/o preservación de playas marítimas. Nota 2: En el caso en el cual el proceso de selección contemple actividades de dotación de mobiliario, la experiencia válida aportada deberá acreditar en por lo menos uno (1) de los contratos actividades de suministro e instalación de mobiliario. (-) Experiencia Especifica: Con la sumatoria de hasta máximo dos (2) de los contratos válidos aportados como experiencia general debe corresponder mínimo al (F70%) del presupuesto oficial del presente proceso de selección. % DE DIMENSIONAMIENTO (Según la magnitud requerida en el proceso de contratación) Valor de F%: 70% (-) Experiencia Secundaria: ESPECÍFICA URBANISMO Y/O PAISAJISMO Por lo menos uno (1) de los contratos válidos aportados como experiencia general deben contemplar actividades de: CONSTRUCCIÓN Y/O MEJORAMIENTO Y/O REHABILITACIÓN Y/O MANTENIMIENTO Y/O ADECUACIÓN Y/O REFORZAMIENTO Y/O INTERVENCIÓN PARA URBANISMO Y/O PAISAJISMO Y/O PARQUES Y/O ESPACIO PÚBLICO.
B20: CÓDIGOS RUP SOLICITADOS | D20: 3 | E20: 72101500 | F20: 72141300 | G20: 72153100 | S20: Conteo de Codigos | T20: Cumple / NO Cumple
B21: CÓDIGOS RUP: | D21: Contrato 1 | E21: X | F21: X | G21: X | S21: =COUNTA(E21:R21) -> 3 | T21: =IF(S21>=1,"CUMPLE","NO CUMPLE") -> CUMPLE
B22: CÓDIGOS RUP: | D22: Contrato 2 | E22: X | S22: =COUNTA(E22:R22) -> 1 | T22: =IF(S22>=1,"CUMPLE","NO CUMPLE") -> CUMPLE
E23: =COUNTA(E21:E22) -> 2 | F23: =COUNTA(F21:F22) -> 1 | G23: =COUNTA(G21:G22) -> 1 | H23: =COUNTA(H21:H22) -> 0 | I23: =COUNTA(I21:I22) -> 0 | J23: =COUNTA(J21:J22) -> 0 | K23: =COUNTA(K21:K22) -> 0 | L23: =COUNTA(L21:L22) -> 0 | ... R23: =COUNTA(R21:R22) -> 0
B24: CONSOLIDADO | E24: =IF(E23>0,1,0) -> 1 | F24: =IF(F23>0,1,0) -> 1 | G24: =IF(G23>0,1,0) -> 1 | H24: =IF(H23>0,1,0) -> 0 | I24: =IF(I23>0,1,0) -> 0 | J24: =IF(J23>0,1,0) -> 0 | K24: =IF(K23>0,1,0) -> 0 | L24: =IF(L23>0,1,0) -> 0 | ... R24: =IF(R23>0,1,0) -> 0 | S24: =SUM(E24:R24) -> 3 | T24: =IF(S24>=1,"CUMPLE","NO CUMPLE") -> CUMPLE
B26: EXPERIENCIA GENERAL
B27: No. | C27: NÚMERO DEL CONSECUTIVO DEL REPORTE DEL CONTRATO EJECUTADO (Escriba el No. de consecutivo asignado por la Camara de Comercio al contrato en el RUP) | D27: # PAGINA DEL RUP (PDF) DONDE SE ENCUENTRA EL CONSECUTIVO | E27: ENTIDAD CONTRATANTE (Escriba el Nombre de la entidad con la cual suscribió la experiencia ante la Camara de Comercio.) | F27: OBJETO DEL CONTRATO (Indique tal como aparece en la certificación y/o acta de liquidación, y/o acta de terminación) | I27: Experiencia General CUMPLE / NO CUMPLE | J27: Experiencia General (Intervención parques o espacio público) CUMPLE / NO CUMPLE | K27: Experiencia Especifica CUMPLE / NO CUMPLE | L27: NOMBRE DEL ARCHIVO SOPORTE APORTADO PARA VALIDAR LOS REQUERIMIENTOS SOLICITADOS. (Certificaciones, Contratos, Acta de Liquidacion y/o Facturas y/o cualquier otro documento que considere necesario) | N27: CODIGOS CLASIFICACIÓN UNSPSC CUMPLE / NO CUMPLE | O27: NOMBRE PARTICIPANTE QUE APORTA LA EXPERIENCIA | P27: % PARTICIPACION EN EL CONSORCIO O UNIÓN TEMPORAL | Q27: VALOR DEL CONTRATO EN SMMLV RELACIONADOS EN EL RUP | R27: VALOR DEL CONTRATO EN SMMLV X PORCENTAJE PARTICIPACIÓN | S27: OBSERVACIONES
B29: 1 | C29: 4 | D29: 61 | E29: EMPRESA DE ACUEDUCTO Y ALCANTARILLADO DE BOGOTA | F29: REHABILITACION ZONA DE MANEJO Y PRESERVACION AMBIENTAL QUEBRADA LA OLLA | I29: CUMPLE | J29: CUMPLE | K29: CUMPLE | L29: CERTIFICACION EAAB | N29: CUMPLE | O29: CONSTRUCTORES CONSULTORES SAS | P29: 0.4 | Q29: 6682.76 | R29: =Q29*P29 -> 2673.104
B30: 2 | C30: 40 | D30: 126 | E30: EMPRESA DE ACUEDUCTO Y ALCANTARILLADO DE BOGOTA | F30: RECONSTRUCCION DE ANDENES Y CALZADAS DE ESPACIO PUBLICO INTERVENIDAS POR LA EAB EN SU FUNCION OPERATIVA DE REPARACION DE DAÑOS Y EN SU FUNCION COMERCIAL DE ACOMETIDAS DE ACUEDUCTO Y DOMICILIARIAS DE ALCANTARILLADO EL AREA DE INFLUENCIA EAB | I30: NO CUMPLE | J30: CUMPLE | K30: CUMPLE | L30: CERTIFICACION EAAB | N30: CUMPLE | O30: CONSTRUCTORES CONSULTORES SAS | P30: 0.65 | Q30: 1889.11 | R30: =Q30*P30 -> 1227.9215
B32: VALOR SUMATORIA CONTRATOS ACREDITADOS PARA EXPERIENCIA HABILITANTE DEL PROPONENTE: | R32: =SUM(R29:R30) -> 3901.0255 | S32: =IF(R32>K18,"CUMPLE","NO CUMPLE") -> CUMPLE
Q34: 0.7 | R34: 1673.88
R35: 1300000
B47: NOTAS: 1. Para acreditar la experiencia el oferente deberá adjuntar las Actas de Liquidación o Acta de entrega o terminación o final o de recibo definitivo o Certificación de experienci o Acta de inicio o la orden de inicio, y adicional cualquier otro documento por medio del cual se soporte el cumplimiento de las condiciones de experiencia solicitadas en el Proceso. 2. En caso de encontrar discrepancias entre los valores reportados en el Formato y los registrados en el RUP, la Entidad tendrá en cuenta el orden de prevalencia realacionadoa anteriormente.

Sheet 3. Financiera y Org.
C1: FONDO DE DESARROLLO LOCAL DE USME
C2: LICITACIÓN PÚBLICA
C3: PROCESO FDLU-LP-004-2024
C4: FORMATO EVALUACIÓN PRELIMINAR CAPACIDAD FINANCIERA Y ORGANIZACIONAL DEL PROPONENTE
C6: OBJETO: | G6: CONTRATAR MEDIANTE EL SISTEMA DE PRECIOS UNITARIOS A MONTO AGOTABLE, LAS OBRAS DE REHABILITACIÓN Y/O CONSERVACIÓN Y/O MEJORAMIENTO Y/O MANTENIMIENTO DE PARQUES DE PROXIMIDAD DE LA LOCALIDAD DE USME,
C8: INDICADORES DEL PROCESO | G8: INDICE DE LIQUIDEZ | H8: INDICE DE ENDEUDAMIENTO | I8: RAZON DE COBERTURA DE INTERES | J8: RENTABILIDAD DEL PATRIMONIO | K8: RENTABILIDAD DEL ACTIVO | L8: CAPITAL DE TRABAJO
G9: > O = a 1,21 | H9: < O = a 70% | I9: > O = a 1 | J9: > O = a 0,04 | K9: > O = a 0,02 | L9: 3000000000
G10: 1.21 | H10: 0.7 | I10: 0.01 | J10: 0.04 | K10: 0.02 | L10: 3000000000
C11: INDICADORES DEL PROCESO CUMPLIMIENTO AL DECRETO 1860 DE 2021 | G11: INDICE DE LIQUIDEZ | H11: INDICE DE ENDEUDAMIENTO | I11: RAZON DE COBERTURA DE INTERES | J11: RENTABILIDAD DEL PATRIMONIO | K11: RENTABILIDAD DEL ACTIVO | L11: CAPITAL DE TRABAJO
G12: > O = a 1,11 | H12: < O = a 75% | I12: > O = a 0 | J12: > O = a 0,00 | K12: > O = a 0,00 | L12: 3000000000
G13: 1.11 | H13: 0.75 | I13: 0 | J13: 0 | K13: 0 | L13: 3000000000
G15: INDICADORES FINANCIEROS | M15: RESULTADOS
C16: OFERTA | D16: AÑO | E16: NIT | F16: NOMBRE DEL PROPONENTE | G16: INDICE DE LIQUIDEZ | H16: INDICE DE ENDEUDAMIENTO | I16: RAZON DE COBERTURA DE INTERES | J16: RENTABILIDAD DEL PATRIMONIO | K16: RENTABILIDAD DEL ACTIVO | L16: CAPITAL DE TRABAJO | M16: CUMPLE/ NO CUMPLE | N16: OBSERVACIONES
C17: 1 | E17: 2023CONSORCIO SAN GABRIEL | M17: CUMPLE
C18: 2 | E18: 0CONSORCIO VIAS PRO BOGOTA | M18: #N/A | N18: La propuesta NO presenta formato 2 de Documento de conformación de consorcio. Subsanar en el termino del traslado de la Evaluación
C19: 3 | E19: 2023CONSORCIO MALLA VIAL BAE | M19: CUMPLE
C20: 4 | E20: 2023CONSORCIO SAN PROTO | M20: CUMPLE
C21: 5 | E21: 2023CONSORCIO VIAS VMH. | M21: CUMPLE
C22: 6 | E22: 2023UNIÓN TEMPORAL RED VIAL | M22: CUMPLE
C23: 7 | E23: 2023 Consorcio Malla Vial Usme. | M23: CUMPLE
C24: 8 | E24: 2023Consorcio Espacio Público. | M24: CUMPLE
C25: 9 | E25: 2023CONSTRUCTORA CAMACON S A S | M25: CUMPLE
C26: 10 | E26: 2023CONSORCIO MVOBRAS4 | M26: CUMPLE
C27: 11 | E27: 2023CONSORCIO VIAL ABC 2024 | M27: CUMPLE
C28: 12 | E28: 2023CONSORCIO USME 004. | M28: CUMPLE
C29: 13 | E29: 2023CONSORCIO KAP-RED | M29: CUMPLE
C30: 14 | E30: 2023CONSORCIO CONSTRUVIAL USME 2024. | M30: CUMPLE
C31: 15 | E31: 2023CONSORCIO VIAL USME S&C. | M31: NO CUMPLE | N31: El pliego de condiciones indica: capital de trabajo requerido es el 20% del PO. Subsanar en el termino del traslado de la Evaluación
C32: 16 | E32: 2023CONSORCIO USME C4. | M32: CUMPLE
C33: 17 | E33: 2023CONSORCIO USMEIN BQ 2024. | M33: CUMPLE
C34: 18 | E34: 2023CONSORCIO MALLA VIAL USME | M34: CUMPLE
C35: 19 | E35: 2023CONSORCIO OBRAS VIALES BOGOTÁ. | M35: CUMPLE
C36: 20 | E36: 2023CONSORCIO VIAS USME P&E 2024. | M36: CUMPLE
C37: 21 | E37: 2023CONSORCIO VIAL USME | M37: CUMPLE
C38: 22 | E38: 2023 CONSORCIO RIK VIAL | M38: CUMPLE
C39: 23 | E39: 2023CONSORCIO OBRAS JH | M39: CUMPLE
C40: 24 | E40: 2023PROYECTOS DE INGENIERIA CIVIL LA FE S.A.S. | M40: CUMPLE
C41: 25 | E41: 2023CONSORCIO BYR-SG | M41: CUMPLE
C42: 26 | E42: 2023CONSORCIO CONSTRUCCIONES USME | M42: CUMPLE
C43: 27 | E43: 2023CONSORCIO CONSTRUCCIONES VIALES | M43: CUMPLE
...

Sheet 2. K-Residual #25
A1: FONDO DE DESARROLLO LOCAL DE USME
A2: LICITACIÓN PÚBLICA
A3: K-RESIDUAL
A4: =Datos!B3 -> FDLU-LP-010-2024 (117411)
A6: OBJETO | D6: =Datos!B2 -> CONTRATAR MEDIANTE EL SISTEMA DE PRECIOS UNITARIOS A MONTO AGOTABLE, LAS OBRAS DE REHABILITACIÓN Y/O CONSERVACIÓN Y/O MEJORAMIENTO Y/O MANTENIMIENTO DE PARQUES DE PROXIMIDAD DE LA LOCALIDAD DE USME
A8: POE (Presupuesto Oficial Estimado) | E8: =Datos!B4 -> 3108643000
A9: CAPACIDAD RESIDUAL DEL PROCESO DE CONTRATACIÓN (CRPC) | E9: =Datos!B4-E8*E11 -> 3108643000
A10: PLAZO (meses) | E10: 9
A11: ANTICIPO | E11: 0
A13: No. | B13: CONSTRUCTORES CONSULTORES SAS | C13: Comp. % | D13: USO DE LA APLICACIÓN PARA ESTABLECER LA CAPACIDAD RESIDUAL, DE COLOMBIA COMPRA EFICIENTE | H13: CAPACIDAD RESIDUAL DEL PROPONENTE | I13: CUMPLE / NO CUMPLE | J13: OBSERVACIONES
A15: =+'1. Exp.Habilitante #25'!B9 -> 1. | B15: CONSTRUCTORES CONSULTORES SAS | C15: 1 | D15: Ver Documento Anexo. 25. K-Residual CONSTRUCTORES CONSULTORES SAS.pdf | H15: 5.5122574e+10 | I15: CUMPLE
A18: COMITÉ EVALUADOR

Sheet 1. Exp.Habilitante #26
B2: FONDO DE DESARROLLO LOCAL DE USME
B3: FORMATO: EVALUACIÓN EXPERIENCIA MINIMA HABILITANTE PROPONENTES
B4: LICITACIÓN PÚBLICA
B5: =Datos!B3 -> FDLU-LP-010-2024 (117411)
B7: OBJETO: | E7: CONTRATAR MEDIANTE EL SISTEMA DE PRECIOS UNITARIOS A MONTO AGOTABLE, LAS OBRAS DE REHABILITACIÓN Y/O CONSERVACIÓN Y/O MEJORAMIENTO Y/O MANTENIMIENTO DE PARQUES DE PROXIMIDAD DE LA LOCALIDAD DE USME
B9: 1. | C9: CONSORCIO DEPORTIVO KASAF
G11: CUMPLE
B14: PROPONENTE (Persona Natural, Jurídica, Consorcio o Unión Temporal): | E14: CONSORCIO DEPORTIVO KASAF | I14: INTEGRANTE 1: | K14: SAFRID INGENIERIA SAS | O14: PORCENTAJE DE PARTICIPACIÓN: | R14: 0.9
I15: INTEGRANTE 2: | K15: CONSTRCTORA KASAF SAS | O15: PORCENTAJE DE PARTICIPACIÓN: | R15: 0.1
I16: INTEGRANTE 3: | K16: N/A | O16: PORCENTAJE DE PARTICIPACIÓN: | R16: N/A
B18: PRESUPUESTO OFICIAL ESTIMADO: | E18: =Datos!B4 -> 3108643000 | G18: PRESUPUESTO OFICIAL EN SMLMV 2024 SOLICITADO: | J18: 0.75 | K18: =((E18/1300000)*J18) -> 1793.4479
B19: REQUISITO: | E19: (-) Experiencia General: CONSTRUCCIÓN Y/O RECONSTRUCCIÓN Y/O AMPLIACIÓN Y/O TERMINACIÓN Y/O REHABILITACIÓN Y/O MEJORAMIENTO Y/O MANTENIMIENTO Y/O ADECUACIÓN DE PARQUES CONSTRUCCIÓN Y/O RECONSTRUCCIÓN Y/O AMPLIACIÓN Y/O TERMINACIÓN Y/O REHABILITACIÓN Y/O MEJORAMIENTO Y/O MANTENIMIENTO Y/O ADECUACIÓN DE ESPACIO PÚBLICO " Nota 1: Para el caso de experiencia de ESPACIO PÚBLICO se excluyen de estos las vías destinadas al tránsito vehicular, así como la conservación y/o preservación de playas marítimas. Nota 2: En el caso en el cual el proceso de selección contemple actividades de dotación de mobiliario, la experiencia válida aportada deberá acreditar en por lo menos uno (1) de los contratos actividades de suministro e instalación de mobiliario. (-) Experiencia Especifica: Con la sumatoria de hasta máximo dos (2) de los contratos válidos aportados como experiencia general debe corresponder mínimo al (F70%) del presupuesto oficial del presente proceso de selección. % DE DIMENSIONAMIENTO (Según la magnitud requerida en el proceso de contratación) Valor de F%: 70% (-) Experiencia Secundaria: ESPECÍFICA URBANISMO Y/O PAISAJISMO Por lo menos uno (1) de los contratos válidos aportados como experiencia general deben contemplar actividades de: CONSTRUCCIÓN Y/O MEJORAMIENTO Y/O REHABILITACIÓN Y/O MANTENIMIENTO Y/O ADECUACIÓN Y/O REFORZAMIENTO Y/O INTERVENCIÓN PARA URBANISMO Y/O PAISAJISMO Y/O PARQUES Y/O ESPACIO PÚBLICO.
B20: CÓDIGOS RUP SOLICITADOS | D20: 3 | E20: 72101500 | F20: 72141300 | G20: 72153100 | S20: Conteo de Codigos | T20: Cumple / NO Cumple
B21: CÓDIGOS RUP: | D21: Contrato 1 | E21: X | F21: X | G21: X | S21: =COUNTA(E21:R21) -> 3 | T21: =IF(S21>=1,"CUMPLE","NO CUMPLE") -> CUMPLE
B22: CÓDIGOS RUP: | D22: Contrato 2 | E22: X | F22: X | G22: X | S22: =COUNTA(E22:R22) -> 3 | T22: =IF(S22>=1,"CUMPLE","NO CUMPLE") -> CUMPLE
E23: =COUNTA(E21:E22) -> 2 | F23: =COUNTA(F21:F22) -> 2 | G23: =COUNTA(G21:G22) -> 2 | H23: =COUNTA(H21:H22) -> 0 | I23: =COUNTA(I21:I22) -> 0 | J23: =COUNTA(J21:J22) -> 0 | K23: =COUNTA(K21:K22) -> 0 | L23: =COUNTA(L21:L22) -> 0 | ... R23: =COUNTA(R21:R22) -> 0
B24: CONSOLIDADO | E24: =IF(E23>0,1,0) -> 1 | F24: =IF(F23>0,1,0) -> 1 | G24: =IF(G23>0,1,0) -> 1 | H24: =IF(H23>0,1,0) -> 0 | I24: =IF(I23>0,1,0) -> 0 | J24: =IF(J23>0,1,0) -> 0 | K24: =IF(K23>0,1,0) -> 0 | L24: =IF(L23>0,1,0) -> 0 | ... R24: =IF(R23>0,1,0) -> 0 | S24: =SUM(E24:R24) -> 3 | T24: =IF(S24>=1,"CUMPLE","NO CUMPLE") -> CUMPLE
B26: EXPERIENCIA GENERAL
B27: No. | C27: NÚMERO DEL CONSECUTIVO DEL REPORTE DEL CONTRATO EJECUTADO (Escriba el No. de consecutivo asignado por la Camara de Comercio al contrato en el RUP) | D27: # PAGINA DEL RUP (PDF) DONDE SE ENCUENTRA EL CONSECUTIVO | E27: ENTIDAD CONTRATANTE (Escriba el Nombre de la entidad con la cual suscribió la experiencia ante la Camara de Comercio.) | F27: OBJETO DEL CONTRATO (Indique tal como aparece en la certificación y/o acta de liquidación, y/o acta de terminación) | I27: Experiencia General CUMPLE / NO CUMPLE | J27: Experiencia General (Intervención parques o espacio público) CUMPLE / NO CUMPLE | K27: Experiencia Especifica CUMPLE / NO CUMPLE | L27: NOMBRE DEL ARCHIVO SOPORTE APORTADO PARA VALIDAR LOS REQUERIMIENTOS SOLICITADOS. (Certificaciones, Contratos, Acta de Liquidacion y/o Facturas y/o cualquier otro documento que considere necesario) | N27: CODIGOS CLASIFICACIÓN UNSPSC CUMPLE / NO CUMPLE | O27: NOMBRE PARTICIPANTE QUE APORTA LA EXPERIENCIA | P27: % PARTICIPACION EN EL CONSORCIO O UNIÓN TEMPORAL | Q27: VALOR DEL CONTRATO EN SMMLV RELACIONADOS EN EL RUP | R27: VALOR DEL CONTRATO EN SMMLV X PORCENTAJE PARTICIPACIÓN | S27: OBSERVACIONES
B29: 1 | C29: 90 | D29: 522 | E29: SECRETARIA DE EDUCACION DEL DISTRITO | F29: EJECUCION DE LAS OBRAS DE CONSTRUCCION DE LA NUEVA PLANTA FISICA DEL COLEGIO NIÑO JESUS UBICADO EN LA LOCALIDAD 07 BOSA DEL DISTRITO CAPITAL DE ACUERDO CON PLANOS Y ESPECIFICACIONES ENTREGADOS POR LA SECRETARIA DE EDUCACION DEL DISTRITO | I29: CUMPLE | J29: CUMPLE | K29: CUMPLE | L29: ACTA DE LIQUIDACIÓN CONTRATO DE OBRA No. 1240323 de 2019 | N29: CUMPLE | O29: SAFRID INGENIERIA SAS | P29: 0.5 | Q29: 28763.34 | R29: =Q29*P29 -> 14381.67
B30: 2 | C30: 120 | D30: 788 | E30: MUNICIPIO DE PALMIRA | F30: REALIZAR EL MEJORAMIENTO ARQUITECTONICO Y URBANO PARA REVITALIZACION DE LA GALERIA CENTRAL DEL MUNICIPIO DE PALMIRA EN EL MARCO DEL CONVENIO 492 FIP-2021 | I30: CUMPLE | J30: CUMPLE | K30: CUMPLE | L30: ACTA DE ENTREGA Y RECIBO FINAL | N30: CUMPLE | O30: SAFRID INGENIERIA SAS | P30: 1 | Q30: 3899.92 | R30: =Q30*P30 -> 3899.92
B32: VALOR SUMATORIA CONTRATOS ACREDITADOS PARA EXPERIENCIA HABILITANTE DEL PROPONENTE: | R32: =SUM(R29:R30) -> 18281.59 | S32: =IF(R32>K18,"CUMPLE","NO CUMPLE") -> CUMPLE
Q34: 0.7 | R34: 1673.88
R35: 1300000
B47: NOTAS: 1. Para acreditar la experiencia el oferente deberá adjuntar las Actas de Liquidación o Acta de entrega o terminación o final o de recibo definitivo o Certificación de experienci o Acta de inicio o la orden de inicio, y adicional cualquier otro documento por medio del cual se soporte el cumplimiento de las condiciones de experiencia solicitadas en el Proceso. 2. En caso de encontrar discrepancias entre los valores reportados en el Formato y los registrados en el RUP, la Entidad tendrá en cuenta el orden de prevalencia realacionadoa anteriormente.

Sheet 2. K-Residual #26
A1: FONDO DE DESARROLLO LOCAL DE USME
A2: LICITACIÓN PÚBLICA
A3: K-RESIDUAL
A4: =Datos!B3 -> FDLU-LP-010-2024 (117411)
A6: OBJETO | D6: =Datos!B2 -> CONTRATAR MEDIANTE EL SISTEMA DE PRECIOS UNITARIOS A MONTO AGOTABLE, LAS OBRAS DE REHABILITACIÓN Y/O CONSERVACIÓN Y/O MEJORAMIENTO Y/O MANTENIMIENTO DE PARQUES DE PROXIMIDAD DE LA LOCALIDAD DE USME
A8: POE (Presupuesto Oficial Estimado) | E8: =Datos!B4 -> 3108643000
A9: CAPACIDAD RESIDUAL DEL PROCESO DE CONTRATACIÓN (CRPC) | E9: =Datos!B4-E8*E11 -> 3108643000
A10: PLAZO (meses) | E10: 9
A11: ANTICIPO | E11: 0
A13: No. | B13: CONSORCIO DEPORTIVO KASAF | C13: Comp. % | D13: USO DE LA APLICACIÓN PARA ESTABLECER LA CAPACIDAD RESIDUAL, DE COLOMBIA COMPRA EFICIENTE | H13: CAPACIDAD RESIDUAL DEL PROPONENTE | I13: CUMPLE / NO CUMPLE | J13: OBSERVACIONES
A15: =+'1. Exp.Habilitante #25'!B9 -> 1. | B15: SAFRID INGENIERIA SAS | C15: 0.9 | D15: Ver Documento Anexo. 27. K-Residual CONSORCIO DEPORTIVO KASAF.pdf | H15: 142,028,532,104 | I15: CUMPLE | J15: SUBSANÓ
A16: 1 | B16: CONSTRCTORA KASAF SAS | C16: 0.1
A18: COMITÉ EVALUADOR
A23: Profesional(es) de Planeación
A24: =Datos!B3 -> FDLU-LP-010-2024 (117411)

Sheet 1. Exp.Habilitante #27
B2: FONDO DE DESARROLLO LOCAL DE USME
B3: FORMATO: EVALUACIÓN EXPERIENCIA MINIMA HABILITANTE PROPONENTES
B4: LICITACIÓN PÚBLICA
B5: =Datos!B3 -> FDLU-LP-010-2024 (117411)
B7: OBJETO: | E7: CONTRATAR MEDIANTE EL SISTEMA DE PRECIOS UNITARIOS A MONTO AGOTABLE, LAS OBRAS DE REHABILITACIÓN Y/O CONSERVACIÓN Y/O MEJORAMIENTO Y/O MANTENIMIENTO DE PARQUES DE PROXIMIDAD DE LA LOCALIDAD DE USME
B9: 1. | C9: CONSORCIO BYR-SG
G11: CUMPLE
B14: PROPONENTE (Persona Natural, Jurídica, Consorcio o Unión Temporal): | E14: CONSORCIO BYR-SG | I14: INTEGRANTE 1: | K14: CONSTRUCTORA SAGESA SAS | O14: PORCENTAJE DE PARTICIPACIÓN: | R14: 0.1
I15: INTEGRANTE 2: | K15: BYR CONSTRUCCIONES SAS | O15: PORCENTAJE DE PARTICIPACIÓN: | R15: 0.9
I16: INTEGRANTE 3: | K16: N/A | O16: PORCENTAJE DE PARTICIPACIÓN: | R16: N/A
B18: PRESUPUESTO OFICIAL ESTIMADO: | E18: =Datos!B4 -> 3108643000 | G18: PRESUPUESTO OFICIAL EN SMLMV 2024 SOLICITADO: | J18: 1.2 | K18: =((E18/1300000)*J18) -> 2869.5166
B19: REQUISITO: | E19: (-) Experiencia General: CONSTRUCCIÓN Y/O RECONSTRUCCIÓN Y/O AMPLIACIÓN Y/O TERMINACIÓN Y/O REHABILITACIÓN Y/O MEJORAMIENTO Y/O MANTENIMIENTO Y/O ADECUACIÓN DE PARQUES CONSTRUCCIÓN Y/O RECONSTRUCCIÓN Y/O AMPLIACIÓN Y/O TERMINACIÓN Y/O REHABILITACIÓN Y/O MEJORAMIENTO Y/O MANTENIMIENTO Y/O ADECUACIÓN DE ESPACIO PÚBLICO " Nota 1: Para el caso de experiencia de ESPACIO PÚBLICO se excluyen de estos las vías destinadas al tránsito vehicular, así como la conservación y/o preservación de playas marítimas. Nota 2: En el caso en el cual el proceso de selección contemple actividades de dotación de mobiliario, la experiencia válida aportada deberá acreditar en por lo menos uno (1) de los contratos actividades de suministro e instalación de mobiliario. (-) Experiencia Especifica: Con la sumatoria de hasta máximo dos (2) de los contratos válidos aportados como experiencia general debe corresponder mínimo al (F70%) del presupuesto oficial del presente proceso de selección. % DE DIMENSIONAMIENTO (Según la magnitud requerida en el proceso de contratación) Valor de F%: 70% (-) Experiencia Secundaria: ESPECÍFICA URBANISMO Y/O PAISAJISMO Por lo menos uno (1) de los contratos válidos aportados como experiencia general deben contemplar actividades de: CONSTRUCCIÓN Y/O MEJORAMIENTO Y/O REHABILITACIÓN Y/O MANTENIMIENTO Y/O ADECUACIÓN Y/O REFORZAMIENTO Y/O INTERVENCIÓN PARA URBANISMO Y/O PAISAJISMO Y/O PARQUES Y/O ESPACIO PÚBLICO.
B20: CÓDIGOS RUP SOLICITADOS | D20: 3 | E20: 72101500 | F20: 72141300 | G20: 72153100 | S20: Conteo de Codigos | T20: Cumple / NO Cumple
B21: CÓDIGOS RUP: | D21: Contrato 1 | E21: X | S21: =COUNTA(E21:R21) -> 1 | T21: =IF(S21>=1,"CUMPLE","NO CUMPLE") -> CUMPLE
B22: CÓDIGOS RUP: | D22: Contrato 2 | E22: X | S22: =COUNTA(E22:R22) -> 1 | T22: =IF(S22>=1,"CUMPLE","NO CUMPLE") -> CUMPLE
B23: CÓDIGOS RUP: | D23: Contrato3 | E23: X | S23: =COUNTA(E23:R23) -> 1 | T23: =IF(S23>=1,"CUMPLE","NO CUMPLE") -> CUMPLE
B24: CÓDIGOS RUP: | D24: Contrato4 | E24: X | S24: =COUNTA(E24:R24) -> 1 | T24: =IF(S24>=1,"CUMPLE","NO CUMPLE") -> CUMPLE
E25: =COUNTA(E23:E24) -> 2 | F25: =COUNTA(F23:F24) -> 0 | G25: =COUNTA(G23:G24) -> 0 | H25: =COUNTA(H23:H24) -> 0 | I25: =COUNTA(I23:I24) -> 0 | J25: =COUNTA(J23:J24) -> 0 | K25: =COUNTA(K23:K24) -> 0 | L25: =COUNTA(L23:L24) -> 0 | ... R25: =COUNTA(R23:R24) -> 0
B26: CONSOLIDADO | E26: =IF(E25>0,1,0) -> 1 | F26: =IF(F25>0,1,0) -> 0 | G26: =IF(G25>0,1,0) -> 0 | H26: =IF(H25>0,1,0) -> 0 | I26: =IF(I25>0,1,0) -> 0 | J26: =IF(J25>0,1,0) -> 0 | K26: =IF(K25>0,1,0) -> 0 | L26: =IF(L25>0,1,0) -> 0 | ... R26: =IF(R25>0,1,0) -> 0 | S26: =SUM(E26:R26) -> 1 | T26: =IF(S26>=1,"CUMPLE","NO CUMPLE") -> CUMPLE
B28: EXPERIENCIA GENERAL
B29: No. | C29: NÚMERO DEL CONSECUTIVO DEL REPORTE DEL CONTRATO EJECUTADO (Escriba el No. de consecutivo asignado por la Camara de Comercio al contrato en el RUP) | D29: # PAGINA DEL RUP (PDF) DONDE SE ENCUENTRA EL CONSECUTIVO | E29: ENTIDAD CONTRATANTE (Escriba el Nombre de la entidad con la cual suscribió la experiencia ante la Camara de Comercio.) | F29: OBJETO DEL CONTRATO (Indique tal como aparece en la certificación y/o acta de liquidación, y/o acta de terminación) | I29: Experiencia General CUMPLE / NO CUMPLE | J29: Experiencia General (Intervención parques o espacio público) CUMPLE / NO CUMPLE | K29: Experiencia Especifica CUMPLE / NO CUMPLE | L29: NOMBRE DEL ARCHIVO SOPORTE APORTADO PARA VALIDAR LOS REQUERIMIENTOS SOLICITADOS. (Certificaciones, Contratos, Acta de Liquidacion y/o Facturas y/o cualquier otro documento que considere necesario) | N29: CODIGOS CLASIFICACIÓN UNSPSC CUMPLE / NO CUMPLE | O29: NOMBRE PARTICIPANTE QUE APORTA LA EXPERIENCIA | P29: % PARTICIPACION EN EL CONSORCIO O UNIÓN TEMPORAL | Q29: VALOR DEL CONTRATO EN SMMLV RELACIONADOS EN EL RUP | R29: VALOR DEL CONTRATO EN SMMLV X PORCENTAJE PARTICIPACIÓN | S29: OBSERVACIONES
B31: 1 | C31: 50 | D31: 57 | E31: MUNICIPIO DE PEREIRA | F31: CONSTRUCCION PLAN DE OBRAS 2013 - 2015, GRUPO 1: 1)INTERSECCION UTP - CANAAN; 2) INTEGRACION PEATONAL CENTRO TRADICIONAL COMUNA ORIENTE Y GENERACION DE ESPACIO PUBLICO, 3 INTERSECCION BAVARIA 4, CALLE 8 NORTE CALLE 8 SUR, 5) CALLE 9 NORTE, 6) SEGUNDO CARRIL MIXTO AVENIDA 30 DE AGOSTO 7, CONEXION DORADO-POBLADO | I31: CUMPLE | J31: CUMPLE | K31: CUMPLE | L31: CERTIFICADO SECRETARIA DE INFRAESTRUCTURA DE PERERIRA | N31: CUMPLE | O31: BYR CONSTRUCCIONES SAS | P31: 0.25 | Q31: 35827.39 | R31: =Q31*P31 -> 8956.8475
B32: 2 | C32: 41 | D32: 50 | E32: EAB-ESP | F32: RECONSTRUCCION DE ANDENES Y CALZADAS DE ESPACIO PUBLICO INTERVENIDAS POR LA EAB EN SU FUNCION OPERATIVA DE REPARACION DE DAÑOS Y EN SU FUNCION COMERCIAL DE ACOMETIDAS DE ACUEDUCTO Y DOMICILIARIAS DE ALCANTARILLADO EL AREA DE INFLUENCIA EAB | I32: CUMPLE | J32: CUMPLE | K32: CUMPLE | L32: CERTIFICACION CONTRATO DE OBRA ACUEDUCTO | N32: CUMPLE | O32: BYR CONSTRUCCIONES SAS | P32: 0.5 | Q32: 2040.78 | R32: =Q32*P32 -> 1020.39
B33: 3 | C33: 30 | D33: 41 | E33: ALCALDIA LOCAL DE KENNEDY | F33: REHABILITACION Y RECONSTRUCCION DE LA MALLA VIAL PRIORIZADA EN LA JORNADA 72K EN LA LOCALIDAD DE KENNEDY Y MANTENIMIENTO DE ANDENES GRUPO 1 | I33: NO CUMPLE | J33: NO CUMPLE | K33: CUMPLE | L33: ACTA 09 RECIBO FINAL DE OBRA | N33: CUMPLE | O33: BYR CONSTRUCCIONES SAS | P33: 0.3 | Q33: 10713.2 | R33: =Q33*P33 -> 3213.96
B34: 4 | C34: 76 | D34: 83 | E34: EAB-ESP | F34: CONSTRUCCION DE ANDENES Y CALZADAS EN LOS SITIOS INTERVENIDOS CON OCASIÓN DE LAS FUNCIONES PROPIAS OPERATIVAS DE ACUEDUCTO ALCANTARILLADO Y COMERCIAL DE LA ZONA 1 Y DONDE SEA REQUERIDO EN EL MARCO DE SUS OBLIGACIONES | I34: NO CUMPLE | J34: CUMPLE | K34: CUMPLE | L34: CERTIFICACION CONTRATO DE OBRA ACUEDUCTO | N34: CUMPLE | O34: BYR CONSTRUCCIONES SAS | P34: 1 | Q34: 3379.54 | R34: =Q34*P34 -> 3379.54
B36: VALOR SUMATORIA CONTRATOS ACREDITADOS PARA EXPERIENCIA HABILITANTE DEL PROPONENTE: | R36: =SUM(R31:R34) -> 16570.737 | S36: =IF(R36>K18,"CUMPLE","NO CUMPLE") -> CUMPLE
Q38: 0.7 | R38: 1673.88
