Workbook
Name \0: #REF!
Name \0: #REF!
Name \00: #REF!
Name \00: #REF!
Name \a: #REF!
Name \AA: [1]LIQUIDACION!#REF!
Name \b: [2]STRSUMM0!#REF!
Name \bb: [2]STRSUMM0!#REF!
Name \E: #REF!
Name \EE: #REF!
Name \G: #REF!
Name \k: '[3]7422CW00'!#REF!
Name \l: [4]STRSUMM0!#REF!
Name \M: #REF!
Name \ñ: '[5]7422CW00'!#REF!
Name \P: #REF!
Name \R: #REF!
Name \s: #REF!
Name \V: #REF!
Name \X: [6]!ERR
Name \X: 'A.U % '!ERR
Name \X: [6]!ERR
Name \X: [6]!ERR
Name \Z: [6]!ERR
Name \Z: 'A.U % '!ERR
Name \Z: [6]!ERR
Name \Z: [6]!ERR
Name ____________________________________________________i1: #REF!
Name ____________________________________________________i1: #REF!
Name ___________________________________________________i1: #REF!
Name ___________________________________________________i1: #REF!
Name __________________________________________________i1: #REF!
Name __________________________________________________i1: #REF!
Name _________________________________________________i1: #REF!
Name _________________________________________________i1: #REF!
Name ________________________________________________i1: #REF!
Name ________________________________________________i1: #REF!
Name _______________________________________________i1: #REF!
Name _______________________________________________i1: #REF!
Name ______________________________________________i1: #REF!
Name ______________________________________________i1: #REF!
Name _____________________________________________i1: #REF!
Name _____________________________________________i1: #REF!
Name ____________________________________________i1: #REF!
Name ____________________________________________i1: #REF!
Name ___________________________________________i1: #REF!
Name ___________________________________________i1: #REF!
Name __________________________________________i1: #REF!
Name __________________________________________i1: #REF!
Name _________________________________________i1: #REF!
Name _________________________________________i1: #REF!
Name ________________________________________i1: #REF!
Name ________________________________________i1: #REF!
Name _______________________________________i1: #REF!
Name _______________________________________i1: #REF!
Name ______________________________________i1: #REF!
Name ______________________________________i1: #REF!
Name _____________________________________i1: #REF!
Name _____________________________________i1: #REF!
Name ____________________________________i1: #REF!

Sheet INTERVENTORÍA No 1
A1: ANALISIS DE INTERVENTORIA
A3: ALCALDIA MUNICIPAL
A4: Municipio de Santa Fe de Antioquia - Antioquia
A8: OBJETO: INTERVENTORÍA PROYECTO DE MANTENIMIENTO Y MEJORAMIENTO DE LAS VÍAS URBANAS DEL MUNICIPIO DE SANTA FE DE ANTIOQUIA, MEDIANTE LA REPOSICIÓN DE PAVIMENTO
A11: Plazo estimado de ejecución (meses)= | D11: 2.5 | G11: =D11*30 -> 75 | H11: días
A13: CARGO / OFICIO | B13: Cantidad | C13: Participacion (meses) | D13: Dedicacion (% mes) | E13: Vr. Salario Mensual ($) | F13: VALOR PARCIAL
A14: COSTOS DIRECTOS DE PERSONAL
A15: PERSONAL PROFESIONAL
A16: Director de Interventoría | B16: 1 | C16: 3 | D16: 0.6 | E16: 5000000 | F16: =+PRODUCT(B16:E16) -> 9000000 | G16: =+B16*C16*D16*E16 -> 9000000
A17: Residente de interventoría | B17: 1 | C17: =+$D$11 -> 2.5 | D17: 1 | E17: 3500000 | F17: =+PRODUCT(B17:E17) -> 8750000
A18: Tecnologo en obras civiles y construcción y/o Tecnologo SISO | B18: 1 | C18: =+$D$11 -> 2.5 | D18: 1 | E18: 2500000 | F18: =+PRODUCT(B18:E18) -> 6250000
A20: PERSONAL AUXILIAR | G20: =+B20*C20*D20*E20 -> 0
A21: Auxiliar Administrativo | B21: 1 | C21: =+$D$11 -> 2.5 | D21: 0.5 | E21: 1800000 | F21: =+PRODUCT(B21:E21) -> 2250000 | G21: =+B21*C21*D21*E21 -> 2250000
F22: =+PRODUCT(B22:E22) -> 0
A23: SUBTOTAL COSTOS DE PERSONAL (1) | F23: =SUM(F15:F22) -> 26250000 | G23: =SUM(G16:G22) -> 11250000
A24: FACTOR MULTIPLICADOR (2) | F24: =ROUND('FM INTERVENTORÍA No 1.2'!E39,3) -> 1.693
A25: (A) TOTAL COSTOS DE PERSONAL = (1)*(2) | F25: =ROUND(F23*F24,0) -> 44441250 | G25: =+G23*F24 -> 19046250
A27: COSTOS DIRECTOS | B27: UNIDAD | C27: CANTIDAD | D27: Valor Parcial ($) | E27: Tiempo Utilización (%) | F27: VALOR TOTAL ($)
A28: Viajes y Viaticos | B28: mes | C28: 2.5 | D28: 704974.79 | E28: 1 | F28: =+E28*C28*D28 -> 1762437
A29: Equipos de topografía | B29: mes | C29: 2.5 | D29: 500000 | E29: 1 | F29: =+E29*C29*D29 -> 1250000
A30: Ensayos de Laboratorio e informes | B30: mes | C30: 2.5 | D30: 4500000 | E30: 1 | F30: =+E30*C30*D30 -> 11250000
A31: Alquiler de oficina y servicios públicos | B31: mes | C31: 2.5 | D31: 1200000 | E31: 1 | F31: =+E31*C31*D31 -> 3000000
A32: Gastos de Oficina (Papelería, fotocopias, etc) | B32: mes | C32: 2.5 | D32: 400000 | E32: 1 | F32: =+E32*C32*D32 -> 1000000
A33: (B) TOTAL COSTOS DIRECTOS | F33: =ROUND(SUM(F27:F32),0) -> 18262437
A35: IMPUESTOS Y RETENCIONES | B35: UNIDAD | C35: CANTIDAD | D35: Valor Parcial ($) | F35: VALOR TOTAL ($)
A36: Estampilla pro-anciano | B36: % | C36: 0.04 | D36: =+$F$45 -> 70820000 | F36: =+C36*D36 -> 2832800
A37: Estampilla pro-cultura | B37: % | C37: 0.02 | D37: =+$F$45 -> 70820000 | F37: =+C37*D37 -> 1416400
A38: Estampilla Justicia familiar | B38: % | C38: 0.02 | D38: =+$F$45 -> 70820000 | F38: =+C38*D38 -> 1416400
A39: Estampilla pro-Hospital | B39: % | C39: 0.01 | D39: =+$F$45 -> 70820000 | F39: =+C39*D39 -> 708200
A40: Estampilla pro-Deporte | B40: % | C40: 0.025 | D40: =+$F$45 -> 70820000 | F40: =+C40*D40 -> 1770500
A43: (C) TOTAL COSTOS IMPUESTOS Y RETENCIONES | F43: =ROUND(SUM(F36:F42),0) -> 8144300
A45: VALOR ESTIMADO | F45: 70820000
A46: COSTO = (A)+(B)+(C) | F46: =+F25+F43+F33 -> 70847987
A47: IVA | E47: 0.19 | F47: =ROUND(+F46*E47,0) -> 13461118
A48: COSTO TOTAL | F48: =+F46+F47 -> 84309105
A54: ING. CARLOS PALACIOS
A55: MATRICULA 05202-71687 ANT
A56: PRESUPUESTADOR

Sheet FM INTERVENTORÍA No 1.2
A1: ANALISIS DE INTERVENTORIA
A3: ALCALDIA MUNICIPAL
A5: FACTOR MULTIPLICADOR
A6: OBRA:
A7: =+'INTERVENTORÍA No 1'!A8:F8 -> OBJETO: INTERVENTORÍA PROYECTO DE MANTENIMIENTO Y MEJORAMIENTO DE LAS VÍAS URBANAS DEL MUNICIPIO DE SANTA FE DE ANTIOQUIA, MEDIANTE LA REPOSICIÓN DE PAVIMENTO
A8: Plazo estimado de ejecución (meses)= | D8: =+'INTERVENTORÍA No 1'!D11:F11 -> 2.5 | F8: =D8*30 -> 75 | G8: días
A9: FACTOR MULTIPLICADOR PARA PERSONAL PROFESIONAL, ADMINISTRATIVO Y TÉCNICO | E9: %
A10: A. | C10: SALARIO BÁSICO (Nómina total mensual) | E10: 100
A12: B. | C12: PRESTACIONES SOCIALES | E12: =SUM(E14:E29) -> 64.073333
B13: SEGURIDAD SOCIAL Y APORTES PARAFISCALES
B14: a. | C14: Caja de Compensación | D14: % A | E14: 4 | H14: 4
B15: b. | C15: SENA | D15: % A | E15: 0 | H15: 2
B16: c. | C16: ICBF | D16: % A | E16: 0 | H16: 3
B17: d. | C17: Sistema de seguridad social : Salud | D17: % A | E17: 8.5 | H17: 8.5
B18: e. | C18: Sistema de seguridad social : Pensiòn | D18: % A | E18: 12 | H18: 12
B19: f. | C19: ARP personal en obra | D19: % A | E19: 6.96 | H19: 6.96
B20: PRESTACIONES SOCIALES
B21: g | C21: Vacaciones | D21: (15/360*100) | E21: =15*100/360 -> 4.1666667 | H21: 4.17
B22: h. | C22: Prima de Servicios | D22: (30/360*100) | E22: =30/360*100 -> 8.3333333
B23: i. | C23: Cesantias | D23: (30/360*100) | E23: =30/360*100 -> 8.3333333
B24: j. | C24: Intereses a las cesantias | D24: (0,12*30/360) | E24: 1
B25: OTROS
B26: k. | C26: Ausencias justificadas | D26: (3/360*100) | E26: 2.78 | H26: 0.83
B27: l. | C27: Dotación | D27: %A | E27: 5
B28: m. | C28: Indemnizaciones | D28: % A | E28: 1 | H28: 0.1
B29: n. | C29: Incapacidad no cubierta seguridad social | D29: % A | E29: 2
A30: C. | C30: SUMA (A + B) | E30: =E10+E12 -> 164.07333
A32: D. | C32: COSTOS INDIRECTOS | E32: =SUM(E33:E35) -> 5.21
B33: a. | C33: Gastos bancarios y costos financieros | D33: % A | E33: 0
B34: b. | C34: Perfeccionamiento (póliza única, publicación) | D34: % A | E34: 5.21
B35: c. | C35: Otros | D35: % A | E35: 0
A37: F. | C37: SUBTOTAL (C + D + E) | E37: =E30+E32 -> 169.28333
C39: FACTOR MULTIPLICADOR FINAL | E39: =ROUND(E37/100,4) -> 1.6928
A43: ING. CARLOS PALACIOS
A44: MATRICULA 05202-71687 ANT
A45: PRESUPUESTADOR

Sheet PRESUPUESTO
A1: PRESUPUESTO OFICIAL
A2: MANTENIMIENTO Y MEJORAMIENTO DE LAS VÍAS URBANAS DEL MUNICIPIO DE SANTA FE DE ANTIOQUIA, MEDIANTE LA REPOSICIÓN DE PAVIMENTO
A3: ITEM | B3: DESCRIPCION | C3: UNIDAD | D3: CANTIDAD | E3: VALOR UNITARIO | F3: VALOR TOTAL
A4: 1 | B4: PRELIMINARES
A5: 1.1 | B5: Localización, trazado y replanteo del proyecto. Se utilizará equipo de precisión, personal experto. Se hará con la frecuencia que lo indique la interventoria. incluye demarcación con pintura, línea de trazado, corte de piso, libretas, planos. | C5: día | D5: =+'Memorias '!H3 -> 5 | E5: =+'1,1 Localización'!H29 -> 657500 | F5: =+D5*E5 -> 3287500 | G5: =+F5*$E$29 -> 1052000 | H5: =+G5+F5 -> 4339500
A6: 2 | B6: MOVIMIENTOS DE TIERRA | G6: =+F6*$E$29 -> 0 | H6: =+G6+F6 -> 0
A7: 2.1 | B7: Excavación mecanica en material heterogéneo, bajo cualquier grado de humedad, medido in situ, no incluye botada. | C7: m³ | D7: =+'Memorias '!H12 -> 525 | E7: =+'2,1 Excavacion'!H37 -> 22133 | F7: =+D7*E7 -> 11619825 | G7: =+F7*$E$29 -> 3718344 | H7: =+G7+F7 -> 15338169
A8: 2.2 | B8: DEMOLICIÓN DE PAVIMENTO Y/O CONCRETO de cualquier resistencia con espesor hasta de 10 cm, manual o mecánicamente. Incluye retiro de refuerzo e instalaciones embebidas, compresor neumático con martillo, además recuperación de los materiales aprovechables. | C8: m2 | D8: =+'Memorias '!H21 -> 120 | E8: =+'2,2 Demolicion'!H38 -> 17300 | F8: =+D8*E8 -> 2076000 | G8: =+F8*$E$29 -> 664320 | H8: =+G8+F8 -> 2740320
A9: 2.3 | B9: DEMOLICIÓN DE PAVIMENTO de cualquier resistencia con espesor hasta de 20 cm, manual o mecánicamente. Incluye retiro de refuerzo e instalaciones embebidas, compresor neumático con martillo, además recuperación de los materiales aprovechables. | C9: m2 | D9: =+'Memorias '!H30 -> 439 | E9: =+'2,3 Demolicion'!H38 -> 34950 | F9: =+D9*E9 -> 15343050 | G9: =+F9*$E$29 -> 4909776 | H9: =+G9+F9 -> 20252826
A10: 2.4 | B10: Cargue, transporte y botada de material proveniente de las excavaciones y demoliciones. Hasta el sitio que indique la interventoria. | C10: m³ | D10: =+'Memorias '!H39 -> 1382 | E10: =+'2,4 Cargue y botada '!H41 -> 56159 | F10: =+D10*E10 -> 77611738 | G10: =+F10*$E$29 -> 24835756 | H10: =+G10+F10 -> 1.0244749e+08
A11: 2.5 | B11: Conformación y compactación de la calzada existente | C11: m2 | D11: =+'Memorias '!H50 -> 2626 | E11: =+'2,5 Conformación'!H43 -> 1914 | F11: =+D11*E11 -> 5026164 | G11: =+F11*$E$29 -> 1608372.5 | H11: =+G11+F11 -> 6634536.5
A12: 2.6 | B12: Suministro, transporte y colocación de base granular de máximo Ø 1½", reacomodado con medios mecánicos y compactado al 100% mínimo del ensayo del proctor modificado, según normas para la construcción de pavimentos, y todo lo necesario para su correcta construcción y funcionamiento Su medida sera tomada en sitio ya compactado, debe cumplir con los requisitos de invias 301 | C12: m³ | D12: =+'Memorias '!H59 -> 919 | E12: =+'2,6 Base granular'!H35 -> 255890 | F12: =+D12*E12 -> 235162910 | G12: =+F12*$E$29 -> 75252131 | H12: =+G12+F12 -> 3.1041504e+08
A13: 3 | B13: ESTRUCTURA DE PAVIMENTO | G13: =+F13*$E$29 -> 0 | H13: =+G13+F13 -> 0
A14: 3.2 | B14: Suministro, transporte y colocación de mezcla asfáltica en caliente MDC - 19. Compactada con medios mecánicos. Según normas para la construcción de pavimentos. Según Normas INVIAS. | C14: m3 | D14: =+'Memorias '!H77 -> 230 | E14: =+'3,2 mezcla asfaltica'!H35 -> 1462090 | F14: =+D14*E14 -> 336280700 | G14: =+F14*$E$29 -> 107609824 | H14: =+G14+F14 -> 443890524
A15: 3.3 | B15: Suministro, transporte y colocación de emulsión asfáltica catiónica de rompimiento lento C.R.L. para imprimación de superficie a pavimentar. Incluye todo lo necesario para su correcta construcción y funcionamiento. | C15: m2 | D15: =+'Memorias '!H86 -> 2299 | E15: =+'3,3 imprimacion emul'!H31 -> 7127 | F15: =+D15*E15 -> 16384973 | G15: =+F15*$E$29 -> 5243191.4 | H15: =+G15+F15 -> 21628164
A16: 3.4 | B16: Suministro, transporte y colocación de cordón prefabricado de 0.15 x 0.45 x 0.80 m de concreto de 21 Mpa, tres caras, juntas ranuradas, referencia Bordillo Barrera Recto Tipo U10 (según M.E.P). Incluye excavación, conformación del terreno, ajustes de concreto o pavimento donde sea necesario, mortero 1:4 de asiento y pega en las longitudes más adecuadas para el desarrollo de la obra, y todo lo necesario para su correcta construcción y funcionamiento. Según diseño. | C16: m | D16: =+'Memorias '!H98 -> 200 | E16: =+'3,4 Bordillo'!H31 -> 120759 | F16: =+D16*E16 -> 24151800 | G16: =+F16*$E$29 -> 7728576 | H16: =+G16+F16 -> 31880376
A17: 4.0 | B17: CONCRETOS | G17: =+F17*$E$29 -> 0 | H17: =+G17+F17 -> 0
A18: 4,1 | B18: Concreto clase D (210 kg/cm2 ó 3000 PSI) - para anden | C18: m3 | D18: =+I18 -> 16.160167 | E18: =+'4,1-2 Concreto Anden+Cuneta'!H46 -> 866351 | F18: =+D18*E18 -> 14000377 | G18: =+F18*$E$29 -> 4480120.5 | H18: =+G18+F18 -> 18480497 | I18: =161.601668*1*0.1 -> 16.160167 | J18: =+I18*E18 -> 14000377 | K18: =+J18-F18 -> 0
A19: 4,2 | B19: Concreto clase D (210 kg/cm2 ó 3000 PSI) - para cuneta y obras de drenaje | C19: m3 | D19: =+'Memorias '!H113 -> 68 | E19: =+'4,1-2 Concreto Anden+Cuneta'!H46 -> 866351 | F19: =+D19*E19 -> 58911868 | G19: =+F19*$E$29 -> 18851798 | H19: =+G19+F19 -> 77763666 | J19: -1593941 | K19: =+K18+J19 -> -1593941
A20: 5.0 | B20: ACEROS | G20: =+F20*$E$29 -> 0 | H20: =+G20+F20 -> 0
A21: 5,1 | B21: Acero de refuerzo de FY = 4.200 Kg/cm 2 (60.000 PSI). | C21: kg | D21: =+'Memorias '!H122 -> 2538 | E21: =+'5,1 Acero'!H31 -> 8818 | F21: =+D21*E21 -> 22380084 | G21: =+F21*$E$29 -> 7161626.9 | H21: =+G21+F21 -> 29541711
A22: 5,2 | B22: Colocación de MALLA ELECTROSOLDADA TIPO D 84. Incluye el suministro y el transporte del material y todos los elementos necesarios para su correcta colocación. | C22: m2 | D22: =+'Memorias '!H131 -> 120 | E22: =+'5,2 Malla electrosoldada'!H39 -> 15494 | F22: =+D22*E22 -> 1859280 | G22: =+F22*$E$29 -> 594969.6 | H22: =+G22+F22 -> 2454249.6
A23: 6,0 | B23: OBRAS DE DRENAJE | G23: =+F23*$E$29 -> 0 | H23: =+G23+F23 -> 0
A24: 6,1 | B24: Construcción de SUMIDERO de aguas lluvias TIPO B (1.10m x 0.80m medidas externas y prof=0.90m e=0.20m), en concreto de 21 Mpa. Incluye suministro, transporte y colocación del concreto, reja metálica, formaleta, vibrado y todo lo necesario para su correcta construcción y funcionamiento. | C24: und | D24: =+'Memorias '!H140 -> 2 | E24: =+'6,1 Sumidero'!H39 -> 1046291 | F24: =+D24*E24 -> 2092582 | G24: =+F24*$E$29 -> 669626.24 | H24: =+G24+F24 -> 2762208.2
A25: 6,2 | B25: Suministro, transporte e instalación de TUBERÍA PVC-NOVAFORT, con un DIÁMETRO DE 250 mm. Incluye suministro y transporte de los materiales, bocas, conexiones, accesorios, acondicionador de superficie y adhesivo Novafort y todos los elementos necesarios para su correcta instalación y funcionamiento. | C25: m | D25: =+'Memorias '!H154 -> 12 | E25: =+'6,2 Tuberia de 250mm'!H40 -> 129440 | F25: =+D25*E25 -> 1553280 | G25: =+F25*$E$29 -> 497049.6 | H25: =+G25+F25 -> 2050329.6
A26: COSTO DIRECTO | F26: =ROUND(SUM(F5:F25),0) -> 827742131 | G26: 827742131 | H26: =SUM(H5:H25) -> 1.0926196e+09 | I26: =+G26-F26 -> 0 | K26: =+G26-F26 -> 0
A27: ADMINISTRACION | E27: =+'A.U % '!F32 -> 0.27 | F27: =+ROUND(F26*E27,0) -> 223490375 | G27: 223490375 | I27: =+F27-G27 -> 0 | J27: =+F26*E27 -> 2.2349038e+08 | K27: =+G27-F27 -> 0
A28: UTILIDAD | E28: =+'A.U % '!F34 -> 0.05 | F28: =ROUND(F26*E28,0) -> 41387107 | G28: 41387107 | I28: =+F28-G28 -> 0 | J28: =+F26*E28 -> 41387107 | K28: =+G28-F28 -> 0
A29: TOTAL AU | E29: =+E27+E28 -> 0.32 | F29: =SUM(F27:F28) -> 264877482 | G29: 264877482 | I29: =+F29-G29 -> 0 | J29: =+J27+J28 -> 2.6487748e+08 | K29: =+K26+K27+K28 -> 0
A30: PMT | F30: =+PMT!F18 -> 5278426 | G30: 5278426 | H30: =+F30 -> 5278426 | I30: =+F30-G30 -> 0
A31: PMA | F31: =+PMA!F28 -> 6454034 | G31: 6454034 | H31: =+F31 -> 6454034 | I31: =+F31-G31 -> 0
A32: VALOR TOTAL OBRA | F32: =+F26+F29+F30+F31 -> 1104352073 | G32: 1104352073 | H32: =+H26+F30+F31 -> 1.1043521e+09 | I32: =+F32-G32 -> 0
A33: INTERVENTORIA | F33: =+'INTERVENTORÍA No 1'!F48 -> 84309105 | G33: 84309105 | H33: =+F33 -> 84309105 | I33: =+F33-G33 -> 0 | K33: =+G34-F34 -> 0
A34: VALOR TOTAL OBRA + INTERVENTORIA | F34: =F32+F33 -> 1188661178 | G34: 1188661178 | H34: =+H32+H33 -> 1.1886612e+09 | I34: =+F34-G34 -> 0 | K34: =+G35-F35 -> 0
A35: TOTAL PROYECTO | F35: =SUM(F34:F34) -> 1188661178 | G35: 1188661178 | H35: =+G33/G32 -> 0.076342597 | I35: =+F35-G35 -> 0
B38: ING. CARLOS PALACIOS
B39: MATRICULA 05202-71687 ANT
B40: PRESUPUESTADOR

Sheet CRONOGRAMA
A1: CRONOGRAMA Y FLUJO DE CAJA
A2: ESTUDIOS Y DISEÑOS PARA LA PAVIMENTACIÓN DE VÍAS URBANAS EN EL MUNICIPIO DE SANTA FE DE ANTIOQUIA SANTA FE DE ANTIOQUIA
G3: MES 1 | K3: MES 2 | O3: MES 3 | S3: MES 4 | W3: MES 5 | AA3: MES 6
M4: =+M5/V5 -> #REF! | N4: =+N5/V5 -> #REF! | O4: =+O5/V5 -> #REF! | P4: =+P5/V5 -> #REF! | Q4: =+Q5/V5 -> #REF! | R4: =+R5/V5 -> #REF! | S4: =+S5/V5 -> #REF! | T4: =+T5/V5 -> #REF! | U4: =+U5/V5 -> #REF! | V4: =+V5/V5 -> #REF!
A5: ITEM | B5: DESCRIPCION | C5: UNIDAD | D5: CANTIDAD | E5: VALOR UNITARIO | F5: VALOR TOTAL | M5: =+L5+M6 -> 41286148 | N5: =+M5+N6 -> 78232795 | O5: =+N5+O6 -> 1.17502e+08 | P5: =+O5+P6 -> 1.5898271e+08 | Q5: =+P5+Q6 -> 2.6916944e+08 | R5: =+Q5+R6 -> #REF! | S5: =+R5+S6 -> #REF! | T5: =+S5+T6 -> #REF! | ... V5: =+U5+V6 -> #REF!
M6: =SUM(M9:M50) -> 41286148 | N6: =SUM(N9:N50) -> 36946648 | O6: =SUM(O9:O50) -> 39269201 | P6: =SUM(P9:P50) -> 41480714 | Q6: =SUM(Q9:Q50) -> 1.1018673e+08 | R6: =SUM(R9:R50) -> #REF! | S6: =SUM(S9:S50) -> 91718714 | T6: =SUM(T9:T50) -> 1.1763994e+08 | ... V6: =SUM(V9:V50) -> 3.0777923e+08
B7: Proceso Precontractual | C7: Informe / planos | D7: 1 | E7: 23000000
A9: 1 | B9: =+PRESUPUESTO!B5 -> Localización, trazado y replanteo del proyecto. Se utilizará equipo de precisión, personal experto. Se hará con la frecuencia que lo indique la interventoria. incluye demarcación con pintura, línea de trazado, corte de piso, libretas, planos. | C9: Informe / planos | D9: 1 | E9: 23000000 | F9: =+PRESUPUESTO!H5 -> 4339500 | M9: =+F9 -> 4339500
A11: 2 | B11: =+PRESUPUESTO!B7 -> Excavación mecanica en material heterogéneo, bajo cualquier grado de humedad, medido in situ, no incluye botada. | C11: informe | D11: 1 | E11: 22000000 | F11: =+PRESUPUESTO!H7 -> 15338169 | M11: =+F11/4 -> 3834542.2 | N11: =+M11 -> 3834542.2 | O11: =+N11 -> 3834542.2 | P11: =+O11 -> 3834542.2
A13: 3 | B13: =+PRESUPUESTO!B8 -> DEMOLICIÓN DE PAVIMENTO Y/O CONCRETO de cualquier resistencia con espesor hasta de 10 cm, manual o mecánicamente. Incluye retiro de refuerzo e instalaciones embebidas, compresor neumático con martillo, además recuperación de los materiales aprovechables. | C13: informe | D13: 1 | E13: 23000000 | F13: =+PRESUPUESTO!H8 -> 2740320 | M13: =+F13/2 -> 1370160 | N13: =+M13 -> 1370160
A15: 4 | B15: =+PRESUPUESTO!B9 -> DEMOLICIÓN DE PAVIMENTO de cualquier resistencia con espesor hasta de 20 cm, manual o mecánicamente. Incluye retiro de refuerzo e instalaciones embebidas, compresor neumático con martillo, además recuperación de los materiales aprovechables. | C15: informe | D15: 1 | E15: 8000000 | F15: =+PRESUPUESTO!H9 -> 20252826 | M15: =+F15/4 -> 5063206.5 | N15: =+M15 -> 5063206.5 | O15: =+N15 -> 5063206.5 | P15: =+O15 -> 5063206.5
A17: 5 | B17: =+PRESUPUESTO!B10 -> Cargue, transporte y botada de material proveniente de las excavaciones y demoliciones. Hasta el sitio que indique la interventoria. | C17: informe | D17: 1 | E17: 7600000 | F17: =+PRESUPUESTO!H10 -> 1.0244749e+08 | M17: =+F17/6 -> 17074582 | N17: =+M17 -> 17074582 | O17: =+N17 -> 17074582 | P17: =+O17 -> 17074582 | Q17: =+P17 -> 17074582 | R17: =+Q17 -> 17074582
A19: 6 | B19: =+PRESUPUESTO!B11 -> Conformación y compactación de la calzada existente | C19: Informe / planos | D19: 1 | E19: 14000000 | F19: =+PRESUPUESTO!H11 -> 6634536.5 | P19: =+F19/3 -> 2211512.2 | Q19: =+P19 -> 2211512.2 | R19: =+Q19 -> 2211512.2
A21: 7 | B21: =+PRESUPUESTO!B12 -> Suministro, transporte y colocación de base granular de máximo Ø 1½", reacomodado con medios mecánicos y compactado al 100% mínimo del ensayo del proctor modificado, según normas para la construcción de pavimentos, y todo lo necesario para su correcta construcción y funcionamiento Su medida sera tomada en sitio ya compactado, debe cumplir con los requisitos de invias 301 | C21: Informe / planos | D21: 1 | E21: 11000000 | F21: =+PRESUPUESTO!H12 -> 3.1041504e+08 | Q21: =+F21/4 -> 77603760 | R21: =+Q21 -> 77603760 | S21: =+R21 -> 77603760 | T21: =+S21 -> 77603760
A23: 8 | B23: =+PRESUPUESTO!#REF! -> #REF! | C23: Informe / planos | D23: 1 | E23: 14500000 | F23: =+PRESUPUESTO!#REF! -> #REF! | R23: =+F23 -> #REF!
A25: 9 | B25: =+PRESUPUESTO!B14 -> Suministro, transporte y colocación de mezcla asfáltica en caliente MDC - 19. Compactada con medios mecánicos. Según normas para la construcción de pavimentos. Según Normas INVIAS. | C25: Planos | D25: 1 | E25: 9000000 | F25: =+PRESUPUESTO!H14 -> 443890524 | U25: =+F25/2 -> 221945262 | V25: =+U25 -> 221945262
A27: 10 | B27: =+PRESUPUESTO!B15 -> Suministro, transporte y colocación de emulsión asfáltica catiónica de rompimiento lento C.R.L. para imprimación de superficie a pavimentar. Incluye todo lo necesario para su correcta construcción y funcionamiento. | C27: Informe / planos | D27: 1 | E27: 8000000 | F27: =+PRESUPUESTO!H15 -> 21628164 | U27: =+F27/2 -> 10814082 | V27: =+U27 -> 10814082
A29: 11 | B29: =+PRESUPUESTO!B16 -> Suministro, transporte y colocación de cordón prefabricado de 0.15 x 0.45 x 0.80 m de concreto de 21 Mpa, tres caras, juntas ranuradas, referencia Bordillo Barrera Recto Tipo U10 (según M.E.P). Incluye excavación, conformación del terreno, ajustes de concreto o pavimento donde sea necesario, mortero 1:4 de asiento y pega en las longitudes más adecuadas para el desarrollo de la obra, y todo lo necesario para su correcta construcción y funcionamiento. Según diseño. | C29: memorias de calculo | D29: 1 | E29: 7000000 | F29: =+PRESUPUESTO!H16 -> 31880376 | U29: =+F29/2 -> 15940188 | V29: =+U29 -> 15940188
A31: 12 | B31: =+PRESUPUESTO!B18 -> Concreto clase D (210 kg/cm2 ó 3000 PSI) - para anden | C31: informe | D31: 1 | E31: 6000000 | F31: =+PRESUPUESTO!H18 -> 18480497 | V31: =+F31 -> 18480497
A33: 14 | B33: =+PRESUPUESTO!B19 -> Concreto clase D (210 kg/cm2 ó 3000 PSI) - para cuneta y obras de drenaje | C33: informe | D33: 1 | E33: 5000000 | F33: =+PRESUPUESTO!H19 -> 77763666 | T33: =+F33/3 -> 25921222 | U33: =+T33 -> 25921222 | V33: =+U33 -> 25921222
A35: 15 | B35: =+PRESUPUESTO!B21 -> Acero de refuerzo de FY = 4.200 Kg/cm 2 (60.000 PSI). | C35: informe | D35: 1 | E35: 5000000 | F35: =+PRESUPUESTO!H21 -> 29541711 | O35: =+F35/8 -> 3692713.9 | P35: =+O35 -> 3692713.9 | Q35: =+P35 -> 3692713.9 | R35: =+Q35 -> 3692713.9 | S35: =+R35 -> 3692713.9 | T35: =+S35 -> 3692713.9 | U35: =+T35 -> 3692713.9 | V35: =+U35 -> 3692713.9
A37: 16 | B37: =+PRESUPUESTO!B22 -> Colocación de MALLA ELECTROSOLDADA TIPO D 84. Incluye el suministro y el transporte del material y todos los elementos necesarios para su correcta colocación. | C37: informe | D37: 1 | E37: 5000000 | F37: =+PRESUPUESTO!H22 -> 2454249.6 | S37: =+F37/3 -> 818083.2 | T37: =+S37 -> 818083.2 | U37: =+T37 -> 818083.2
A39: 17 | B39: =+PRESUPUESTO!B24 -> Construcción de SUMIDERO de aguas lluvias TIPO B (1.10m x 0.80m medidas externas y prof=0.90m e=0.20m), en concreto de 21 Mpa. Incluye suministro, transporte y colocación del concreto, reja metálica, formaleta, vibrado y todo lo necesario para su correcta construcción y funcionamiento. | C39: informe | D39: 1 | E39: 5000000 | F39: =+PRESUPUESTO!H24 -> 2762208.2 | U39: =+F39/2 -> 1381104.1 | V39: =+U39 -> 1381104.1
A41: 18 | B41: =+PRESUPUESTO!B25 -> Suministro, transporte e instalación de TUBERÍA PVC-NOVAFORT, con un DIÁMETRO DE 250 mm. Incluye suministro y transporte de los materiales, bocas, conexiones, accesorios, acondicionador de superficie y adhesivo Novafort y todos los elementos necesarios para su correcta instalación y funcionamiento. | C41: informe | D41: 1 | E41: 5000000 | F41: =+PRESUPUESTO!H25 -> 2050329.6 | U41: =+F41 -> 2050329.6
A43: 19 | B43: =+PRESUPUESTO!A30 -> PMT | C43: informe | D43: 1 | E43: 5000000 | F43: =+PRESUPUESTO!H30 -> 5278426 | M43: =+F43/10 -> 527842.6 | N43: =+M43 -> 527842.6 | O43: =+N43 -> 527842.6 | P43: =+M43 -> 527842.6 | Q43: =+M43 -> 527842.6 | R43: =+M43 -> 527842.6 | S43: =+M43 -> 527842.6 | T43: =+M43 -> 527842.6 | U43: =+M43 -> 527842.6 | V43: =+M43 -> 527842.6
A45: 20 | B45: PMA | C45: informe | D45: 1 | E45: 5000000 | F45: =+PRESUPUESTO!H31 -> 6454034 | M45: =+F45/10 -> 645403.4 | N45: 645403.4 | O45: 645403.4 | P45: 645403.4 | Q45: 645403.4 | R45: 645403.4 | S45: 645403.4 | T45: 645403.4 | U45: 645403.4 | V45: 645403.4
A47: 21 | B47: =+PRESUPUESTO!A33 -> INTERVENTORIA | C47: informe | D47: 1 | E47: 5000000 | F47: =+PRESUPUESTO!H33 -> 84309105 | M47: =+F47/10 -> 8430910.5 | N47: =+M47 -> 8430910.5 | O47: =+N47 -> 8430910.5 | P47: =+O47 -> 8430910.5 | Q47: =+P47 -> 8430910.5 | R47: =+Q47 -> 8430910.5 | S47: =+R47 -> 8430910.5 | T47: =+S47 -> 8430910.5 | U47: =+T47 -> 8430910.5 | V47: =+U47 -> 8430910.5
A49: 22 | B49: Liquidacion | C49: informe | D49: 1 | E49: 1563865.6
B52: TOTAL | F52: =SUM(F9:F48) -> #REF!
A57: _________________________________________________________________________
A58: ING. CARLOS PALACIOS
A59: MATRICULA 05202-71687 ANT
A60: PRESUPUESTADOR

Sheet MATERIALES
A2: UNIDAD | B2: MATERIALES | C2: VALOR UNITARIO
A3: Lt | B3: Agua | C3: 53 | D3: 53
A4: m3 | B4: Base granular | C4: 85000 | D4: 64697.078
A5: ton | B5: Mezcla asfáltica MDC 19 | C5: 450000 | D5: 312500
A6: und | B6: Emulsión asfaltica galon | C6: 9500 | D6: 1530
A12: ING. CARLOS PALACIOS
A13: MATRICULA 05202-71687 ANT
A14: PRESUPUESTADOR

Sheet Salarios
A2: CÁLCULO DE PORCENTAJE DE PRESTACIONES SOCIALES
B3: Concepto | C3: Porcentaje | E3: VALOR SALARIO MÍNIMO 2024 | F3: 1300000
B4: Prima de servicios | C4: 0.0833 | E4: AUXILIO DE TRANSPORTE | F4: 162000
B5: Cesantías | C5: 0.0833
B6: Intereses a las Cesantías | C6: 0.01 | E6: SMMLV 2024 (INCLUYE PRESTACIONES y AUX DE TRANSPORTE) | F6: =+F3*(1+C18)+F4 -> 2342880
B7: Vacaciones | C7: 0.05
B8: Aporte de Salud | C8: 0.085 | E8: Mano de Obra | F8: Unidad | G8: V/Unitario
B9: Aporte a Pensión | C9: 0.12 | E9: OFICIAL | F9: Jornal | G9: =+F6*0.0666666666666667 -> 156192 | H9: =H4*2/30 -> 0
B10: Aporte a Riesgos profesionales | C10: 0.0696 | E10: AYUDANTE ENTENDIDO | F10: Jornal | G10: =+F6*1.5/30 -> 117144
B11: Sena | C11: 0.02 | E11: AYUDANTE RASO | F11: Jornal | G11: =+F6*1/30 -> 78096
B12: I.C.B.F. | C12: 0.03
B13: Caja de Compensación Familiar | C13: 0.04
B14: Dotación obligatoria | C14: 0.05
B15: Examen Ingreso | C15: 0.0038
B16: Examen Egreso | C16: 0.0038
B17: Curso de Altura | C17: 0.0288
B18: Total de porcentaje de prestaciones sociales | C18: =ROUND(SUM(C4:C17),4) -> 0.6776 | D18: =+C18-C14 -> 0.6276
B22: ING. CARLOS PALACIOS
B23: MATRICULA 05202-71687 ANT
B24: PRESUPUESTADOR

Sheet EQUIPOS
B2: HORA/DIA | C2: EQUIPOS VARIOS | D2: VALOR UNITARIO
B3: HORA | C3: Retroexcavadora sobre llantas | D3: 120873.1
B4: HORA | C4: Carrotanque de agua(1000 Galones) | D4: 68651.582
B5: HORA | C5: Motoniveladora, potencia 140 HP, ancho de cuchilla 3,66 m, peso 11 ton. | D5: 129351.17
B6: HORA | C6: Vibrocompatador, potencia 153 HP, peso 8 Ton. | D6: 128918.1
B7: HORA | C7: Motoniveladora potencia 215 HP, ancho de cuchilla 4,27 m, peso 18 ton. | D7: 217772.9
B8: HORA | C8: Barredora mecánica de cepillo de 3658 mm ; 6 m3 | D8: 77252.96
B9: HORA | C9: Cargador : Potencia en el volante 110 hp, Clasificación de RPM del motor 2300. | D9: 185284.49
B10: HORA | C10: Fresadora de pavimento, potencia 255 HP, peso 19 Ton, PROFUNDIDAD DE CORTE 305 mm | D10: 539513.5
B11: HORA | C11: Compactador manual vibratorio (CANGURO) (Apisonadores) | D11: 7502.674
B12: HORA | C12: Carro irrigador | D12: 120000
B13: HORA | C13: Camioneta D-300 | D13: 51773.606
B14: HORA | C14: Vehículo delineador | D14: 147607.76
... B18: HORA | C18: Cizalla manual | D18: 716
B23: ING. CARLOS PALACIOS
B24: MATRICULA 05202-71687 ANT
B25: PRESUPUESTADOR

Sheet Vias A Intervenir
A1: CUADRO RESUMEN DE VIAS A INTERVENIR
A2: No | B2: DESCRIPCION | C2: ML | D2: ANCHO | E2: AREA
A3: 1 | B3: Vias Urbanas | C3: 470 | D3: 6 | E3: =+C3*D3 -> 2820

Sheet A.U % 
A1: CALCULO DETALLADO DEL VALOR PORCENTUAL DEL A.U.
A4: Duración estimada del Proyecto en meses | F4: 2.5
A5: Costo directo total del Proyecto | F5: =+PRESUPUESTO!F26 -> 827742131
A6: A.U. Asumido para el cálculo | B6: 0.32 | F6: =ROUND((F5)*B6,0) -> 264877482
E7: PMT | F7: =+PRESUPUESTO!F30 -> 5278426
E8: Revisión y ajuste diseño | F8: =+PRESUPUESTO!F31 -> 6454034
A9: Valor total estimado del Proyecto | F9: =SUM(F5:F8) -> 1104352073 | H9: =+F9*0.185 -> 2.0430513e+08
A10: DESCRIPCION | B10: UNIDAD | C10: CANTIDAD | D10: VR UNITARIO | E10: DEDICACIÒN Y/O PORCENTAJE DE UTILIZACIÓN | F10: VR. TOTAL
A11: GASTOS ARRENDAMIENTO Y OFICINA
A12: Transportes | B12: Mes | C12: =+F4 -> 2.5 | D12: 250000 | E12: 1 | F12: =+ROUND(D12*C12*E12,0) -> 625000
A13: Arrendamiento Almacén | B13: Mes | C13: =+F4 -> 2.5 | D13: 600000 | E13: 1 | F13: =+ROUND(D13*C13*E13,0) -> 1500000
A14: GASTOS DE LEGALIZACIÓN E IMPUESTOS
A15: Póliza de Cumplimiento | B15: % | C15: 0.002 | D15: =+$F$9 -> 1104352073 | E15: 1 | F15: =+ROUND(D15*C15*E15,0) -> 2208704
A16: Póliza calidad del servicio | B16: % | C16: 0.002 | D16: =+$F$9 -> 1104352073 | E16: 1 | F16: =+ROUND(D16*C16*E16,0) -> 2208704
A17: Póliza de Salarios y Prestaciones Sociales | B17: % | C17: 0.0005 | D17: =+$F$9 -> 1104352073 | E17: 1 | F17: =+ROUND(D17*C17*E17,0) -> 552176
A18: Póliza de Estabilidad | B18: % | C18: 0.002 | D18: =+$F$9 -> 1104352073 | E18: 1 | F18: =+ROUND(D18*C18*E18,0) -> 2208704
A19: Póliza de Responsabilidad Civil | B19: % | C19: 0.0012 | D19: =+$F$9 -> 1104352073 | E19: 1 | F19: =+ROUND(D19*C19*E19,0) -> 1325222
A20: Estampilla pro-anciano | B20: % | C20: 0.04 | D20: =+$F$9 -> 1104352073 | E20: 1 | F20: =+ROUND(D20*C20*E20,0) -> 44174083
A21: Estampilla pro-cultura | B21: % | C21: 0.02 | D21: =+$F$9 -> 1104352073 | E21: 1 | F21: =+ROUND(D21*C21*E21,0) -> 22087041
A22: Estampilla Justicia familiar | B22: % | C22: 0.02 | D22: =+$F$9 -> 1104352073 | E22: 1 | F22: =+ROUND(D22*C22*E22,0) -> 22087041
A23: Estampilla pro-Hospital | B23: % | C23: 0.01 | D23: =+$F$9 -> 1104352073 | E23: 1 | F23: =+ROUND(D23*C23*E23,0) -> 11043521
A24: Estampilla pro-Deporte | B24: % | C24: 0.025 | D24: =+$F$9 -> 1104352073 | E24: 1 | F24: =+ROUND(D24*C24*E24,0) -> 27608802
A25: Fondo de seguridad | B25: % | C25: 0.05 | D25: =+$F$9 -> 1104352073 | E25: 1 | F25: =+ROUND(D25*C25*E25,0) -> 55217604
A27: PERSONAL TÉCNICO
A28: Ingeniero Director (Con Prestac. Sociales) | B28: Mes | C28: =+F4 -> 2.5 | D28: ='INTERVENTORÍA No 1'!E16*1.66 -> 8300000 | E28: 0.5 | F28: =+ROUND(D28*C28*E28,0) -> 10375000 | H28: =1274883.26/D28 -> 0.15360039
A29: Ingeniero Residente (Con Prestac. Sociales) | B29: Mes | C29: =+F4 -> 2.5 | D29: ='INTERVENTORÍA No 1'!E17*'INTERVENTORÍA No 1'!F24 -> 5925500 | E29: 1 | F29: =+ROUND(D29*C29*E29,0) -> 14813750 | H29: =3640636.52/D29 -> 0.61440157 | I29: =2500000/H29 -> 4069000
A30: Residente SG-SST | B30: Mes | C30: =+F4 -> 2.5 | D30: ='INTERVENTORÍA No 1'!E18*1.66 -> 4150000 | E30: 0.5 | F30: =+ROUND(D30*C30*E30,0) -> 5187500 | H30: =+H29*D29 -> 3640636.5
A31: Valor total de los Costos de Legalización y Administración | F31: =SUM(F12:F30) -> 223222852 | I31: 2.4810343e+08
A32: Valor porcentual de la Legalización y Administración | F32: =ROUNDUP((F31/F5),2) -> 0.27
A33: Valor porcentual de los Imprevistos | F33: 0
A34: Valor porcentual de la Utilidad estimada | F34: 0.05
A36: Valor Total porcentual del A.U. | F36: =SUM(F32:F35) -> 0.32
A41: SMMLV AÑO 2022 | B41: 1000000
A43: CARGO | B43: CANTIDAD SMMLV | C43: VALOR SALARIO | D43: % PRESTACIONES | E43: VALOR TOTAL
A44: INGENIERO DIRECTOR | B44: =C44/$B$41 -> 3.5 | C44: 3500000 | D44: 1.6 | E44: =+D44*C44 -> 5600000
A45: INGENIERO RESIDENTE | B45: =C45/$B$41 -> 2.1 | C45: 2100000 | D45: 1.6 | E45: =+D45*C45 -> 3360000
A51: ING. CARLOS PALACIOS
A52: MATRICULA 05202-71687 ANT
A53: PRESUPUESTADOR

Sheet PMT
A2: =+PRESUPUESTO!A2 -> MANTENIMIENTO Y MEJORAMIENTO DE LAS VÍAS URBANAS DEL MUNICIPIO DE SANTA FE DE ANTIOQUIA, MEDIANTE LA REPOSICIÓN DE PAVIMENTO
A4: PLAN DE MANEJO DEL TRANSITO
A5: PRESUPUESTO
A6: ITEM | B6: DESCRIPCION | C6: UNIDAD | D6: CANTIDAD | E6: VALOR | F6: VALOR PARCIAL
A7: 1. Señalizacion
A8: 1.1 | B8: Señales verticales según manual de señalizacion vial, 75*75 | C8: un | D8: 5 | E8: 384036.44 | F8: =+ROUND(E8*D8,0) -> 1920182
A9: 2. Dispositivos para canalizar el transito
A10: 2.2 | B10: Barricadas con franjas reflectivas de 1,5x2,0m | C10: un | D10: 2 | E10: =582981-4510 -> 578471 | F10: =+E10*D10 -> 1156942
A11: 2.3 | B11: Maletin o barrera de contencion vial de 2m x 1m | C11: un | D11: 2 | E11: 506821 | F11: =+E11*D11 -> 1013642
A12: 2.4 | B12: Conos de 0,9 y dos franjas refrectivas tipo IV diamante. | C12: un | D12: 3 | E12: 68510 | F12: =+E12*D12 -> 205530
A13: 2.6 | B13: Caneca reflectiva plastica | C13: un | D13: 2 | E13: 104600 | F13: =+E13*D13 -> 209200
A14: 2.7 | B14: Resalto Vial reductor de velocidad en caucho | C14: un | D14: 1 | E14: 157383.33 | F14: =+E14*D14 -> 157383.33
A15: 2.8 | B15: Delineador tubular (colombina) | C15: un | D15: 13 | E15: 42113 | F15: =+E15*D15 -> 547469
A16: 2.9 | B16: Cinta señalizacion peligro no pase x 500 mt | C16: un | D16: 2 | E16: 34039 | F16: =+E16*D16 -> 68078
D18: COSTO TOTAL | F18: =ROUND(SUM(F8:F17),0) -> 5278426
B22: ING. CARLOS PALACIOS
B23: MATRICULA 05202-71687 ANT
B24: PRESUPUESTADOR

Sheet Esquema de diseño

Sheet PMA
A2: =+PRESUPUESTO!A2 -> MANTENIMIENTO Y MEJORAMIENTO DE LAS VÍAS URBANAS DEL MUNICIPIO DE SANTA FE DE ANTIOQUIA, MEDIANTE LA REPOSICIÓN DE PAVIMENTO
A4: PLAN DE MANEJO AMBIENTAL
A5: NOMBRE O DESCRIPCION | B5: DETALLE | C5: UNIDAD | D5: CANTIDAD | E5: VR UNITARIO | F5: VR TOTAL
A7: KIT ELEMENTOS DE PROTECCION | B7: KIT: ELEMENTOS PROTECCION (CASCO SEGURIDAD, GUANTES) | C7: UND | D7: 15 | E7: 85000 | F7: =+E7*D7 -> 1275000
A8: KIT DE EMERGENCIAS | B8: KIT: EXTINTOR 10 LB, SEÑALIZACION EN ACRILICO DE 22CM * 15 CM, CAMILLA RIGIDA, CONOS REFLECTIVOS, BOTIQUÍN | C8: UND | D8: 2 | E8: 600000 | F8: =+E8*D8 -> 1200000
A9: KIT SEÑALIZACION SISO | B9: KIT: SEÑAL 15 * 15 CM, USO DE EPP - SUSTANCIAS PELIGROSAS - RUTA DE EVACUACION - PUNTO DE ENCUENTRO - BAÑOS | C9: UND | D9: 2 | E9: 50000 | F9: =+E9*D9 -> 100000
A10: KIT DERRAMES PEQUEÑOS | B10: KIT: PALA CON MANGO, BALDE PLASTICO DE 25 LT, BOLSA ROJA, GUANTES, ESTOPA, ASERRIN | C10: UND | D10: 1 | E10: 105000 | F10: =+E10*D10 -> 105000
A11: EXAMEN MEDICO OCUPACIONAL | B11: EXAMENES DE INGRESO Y EGRESO QUE INCLUYE: AGUDEZA VISUAL, TALLA, PESO, TENSION ARTERIAL, SEROLOGIA | C11: UND | D11: 15 | E11: 130000 | F11: =+E11*D11 -> 1950000
A12: INFORME DE GESTION SISO | B12: GENERACION DE INFORMES, IMPRESIÓN, ADQUISICION DE INFORMACION, CAPACITACIONES, IMPLEMENTACION | C12: MES | D12: 2 | E12: 150000 | F12: =+E12*D12 -> 300000
A13: SUBTOTAL COMPONENTE SISO | F13: =SUM(F7:F12) -> 4930000
A15: PRESUPUESTO IMPLEMENTACION COMPONENTE AMBIENTAL
A16: NOMBRE DEL INSUMO O ITEM | B16: DETALLE | C16: UNIDAD | D16: CANTIDAD | E16: VR UNITARIO | F16: VR TOTAL
A18: KIT SEÑALIZACION AMBIENTAL | B18: KIT: SEÑAL 15 * 15 CM - RECICLABLE, ORGANICO 15 * 15 CM - SUSTANCIAS PELIGROSAS 15 * 15 CM | C18: UND | D18: 2 | E18: 30000 | F18: =+E18*D18 -> 60000
A19: KIT DESPERDICIOS SOLIDOS | B19: TRES CANECAS DE 55 GL | C19: UND | D19: 1 | E19: 10000 | F19: =+D19*E19 -> 10000
A20: LAVADO DE HERRAMIENTAS | B20: CANECA PARA LAVADO 55 GL | C20: UND | D20: 1 | E20: 105000 | F20: =+D20*E20 -> 105000
A21: KIT DERRAMES PEQUEÑOS | B21: KIT: PALA CON MANGO, BALDE PLASTICO DE 25 LT, BOLSA ROJA, GUANTES, ESTOPA, ASERRIN | C21: UND | D21: 1 | E21: 105000 | F21: =+D21*E21 -> 105000
A22: CUBRIMIENTO MATERIALES GRANULARES | B22: CUBRIMIENTO AFIRMADOS, ARENA, MATERIAL DE RELLENO, TRITURADO | C22: UND | D22: 2 | E22: 80000 | F22: =+D22*E22 -> 160000
A23: CUBRIMIENTO ESCOMBROS Y/O MATERIAL DE EXCAVACION | B23: CUBRIMIENTO CON TELA VERDE - CERRAMIENTO | C23: UND | D23: 2 | E23: 80000 | F23: =+D23*E23 -> 160000
A24: BAÑO | B24: ALQUILER BAÑOS EXISTENTES EN LA ZONA POR CADA FRENTE DE TRABAJO | C24: MES | D24: 1 | E24: 509947 | F24: =+D24*E24 -> 509947
A25: KIT DE ASEO | B25: PALA, CARRETILLA, BALDE PLASTICO, CEPILLO, ESCOBA, ETC. | C25: UND | D25: 2 | E25: 57043.5 | F25: =+D25*E25 -> 114087
A26: INFORME DE GESTION AMBIENTAL | B26: GENERACION DE INFORMES, IMPRESIÓN, ADQUISICION DE INFORMACION, CAPACITACIONES, IMPLEMENTACION | C26: MES | D26: 2 | E26: 150000 | F26: =+E26*D26 -> 300000
A27: SUBTOTALCOMPONENTE AMBIENTAL | F27: =SUM(F18:F26) -> 1524034
A28: VALOR TOTAL IMPLEMENTACION COMPONENTE SOCIO AMBIENTAL | F28: =+F27+F13 -> 6454034
B33: ING. CARLOS PALACIOS
B34: MATRICULA 05202-71687 ANT
B35: PRESUPUESTADOR

Sheet Memorias 
A2: ITEM | B2: DESCRIPCIÓN | G2: UNIDAD | H2: CANTIDAD
A3: 1.1 | B3: Localización, trazado y replanteo del proyecto. Se utilizará equipo de precisión, personal experto. Se hará con la frecuencia que lo indique la interventoria. incluye demarcación con pintura, línea de trazado, corte de piso, libretas, planos. | G3: dia | H3: =IFERROR(ROUND(IF(SUM(H6:H7)=0,"",SUM(H6:H7)),0),"") -> 5
A5: DETALLE | C5: FACTOR | D5: CANTIDAD | E5: A (ML) | F5: B (M2) | G5: C (M3) | H5: TOTAL
A6: Localización, trazado y replanteo del proyecto. | C6: 1 | D6: 5 | E6: 1 | F6: 1 | G6: 1 | H6: =+IF(A6=0,"",IF(AND(E6=0,F6=0,G6=0),C6*D6,IF(AND(F6=0,G6=0),C6*D6*E6,IF(G6=0,C6*D6*E6*F6,C6*D6*E6*F6*G6)))) -> 5
H7: =+IF(A7=0,"",IF(AND(E7=0,F7=0,G7=0),C7*D7,IF(AND(F7=0,G7=0),C7*D7*E7,IF(G7=0,C7*D7*E7*F7,C7*D7*E7*F7*G7))))
A8: =+"TOTAL CANTIDAD ITEM "&A3 -> TOTAL CANTIDAD ITEM 1,1 | H8: =IFERROR(ROUND(IF(SUM(H6:H7)=0,"",SUM(H6:H7)),0),"") -> 5
A11: ITEM | B11: DESCRIPCIÓN | G11: UNIDAD | H11: CANTIDAD
A12: 2.1 | B12: Excavación mecanica en material heterogéneo, bajo cualquier grado de humedad, medido in situ, no incluye botada. | G12: m3 | H12: =IFERROR(ROUND(IF(SUM(H15:H16)=0,"",SUM(H15:H16)),0),"") -> 525
A14: DETALLE | C14: FACTOR | D14: CANTIDAD | E14: A (ML) | F14: B (M2) | G14: C (M3) | H14: TOTAL
A15: Excavación mecanica en material heterogéneo, bajo cualquier grado de humedad, medido in situ, no incluye botada. | C15: 1 | D15: 1 | E15: =330+50 -> 380 | F15: 6.91 | G15: =+D15*E15*F15*0.2 -> 525.16 | H15: =+G15 -> 525.16
A16: NOTA: se trabaja con el ancho promedio de los tramos
A17: =+"TOTAL CANTIDAD ITEM "&A12 -> TOTAL CANTIDAD ITEM 2,1 | H17: =IFERROR(ROUND(IF(SUM(H15:H16)=0,"",SUM(H15:H16)),0),"") -> 525
A20: ITEM | B20: DESCRIPCIÓN | G20: UNIDAD | H20: CANTIDAD
A21: 2.2 | B21: DEMOLICIÓN DE ANDENES de cualquier resistencia con espesor hasta de 10 cm, manual o mecánicamente. Incluye retiro de refuerzo e instalaciones embebidas, compresor neumático con martillo, además recuperación de los materiales aprovechables. | G21: m2 | H21: =IFERROR(ROUND(IF(SUM(H24:H25)=0,"",SUM(H24:H25)),0),"") -> 120
A23: DETALLE | C23: FACTOR | D23: CANTIDAD | E23: A (ML) | F23: B (M2) | G23: C (M3) | H23: TOTAL
A24: DEMOLICIÓN DE ANDENES de cualquier resistencia con espesor hasta de 10 cm, manual o mecánicamente. Incluye retiro de refuerzo e instalaciones embebidas, compresor neumático con martillo, además recuperación de los materiales aprovechables. | C24: 1 | D24: 1 | E24: 100 | F24: 1.2 | G24: 1 | H24: =+IF(A24=0,"",IF(AND(E24=0,F24=0,G24=0),C24*D24,IF(AND(F24=0,G24=0),C24*D24*E24,IF(G24=0,C24*D24*E24*F24,C24*D24*E24*F24*G24)))) -> 120
H25: =+IF(A25=0,"",IF(AND(E25=0,F25=0,G25=0),C25*D25,IF(AND(F25=0,G25=0),C25*D25*E25,IF(G25=0,C25*D25*E25*F25,C25*D25*E25*F25*G25))))
A26: =+"TOTAL CANTIDAD ITEM "&A21 -> TOTAL CANTIDAD ITEM 2,2 | H26: =IFERROR(ROUND(IF(SUM(H24:H25)=0,"",SUM(H24:H25)),0),"") -> 120
A29: ITEM | B29: DESCRIPCIÓN | G29: UNIDAD | H29: CANTIDAD
A30: 2.3 | B30: =+PRESUPUESTO!B9 -> DEMOLICIÓN DE PAVIMENTO de cualquier resistencia con espesor hasta de 20 cm, manual o mecánicamente. Incluye retiro de refuerzo e instalaciones embebidas, compresor neumático con martillo, además recuperación de los materiales aprovechables. | G30: m2 | H30: =IFERROR(ROUND(IF(SUM(H33:H34)=0,"",SUM(H33:H34)),0),"") -> 439
A32: DETALLE | C32: FACTOR | D32: CANTIDAD | E32: A (ML) | F32: B (M2) | G32: C (M3) | H32: TOTAL
A33: Pavimento en concreto rígido | C33: 1 | D33: 1 | E33: =+E15-57.3 -> 322.7 | F33: 6.8 | G33: 0.2 | H33: =+IF(A33=0,"",IF(AND(E33=0,F33=0,G33=0),C33*D33,IF(AND(F33=0,G33=0),C33*D33*E33,IF(G33=0,C33*D33*E33*F33,C33*D33*E33*F33*G33)))) -> 438.872
H34: =+IF(A34=0,"",IF(AND(E34=0,F34=0,G34=0),C34*D34,IF(AND(F34=0,G34=0),C34*D34*E34,IF(G34=0,C34*D34*E34*F34,C34*D34*E34*F34*G34))))
A35: =+"TOTAL CANTIDAD ITEM "&A30 -> TOTAL CANTIDAD ITEM 2,3 | H35: =IFERROR(ROUND(IF(SUM(H33:H34)=0,"",SUM(H33:H34)),0),"") -> 439
A38: ITEM | B38: DESCRIPCIÓN | G38: UNIDAD | H38: CANTIDAD
A39: 2.4 | B39: Cargue, transporte y botada de material proveniente de las excavaciones y demoliciones. Se debe tener en cuenta los botaderos oficiales, incluye acarreos internos. | G39: m3 | H39: =IFERROR(ROUND(IF(SUM(H42:H45)=0,"",SUM(H42:H45)),0),"") -> 1382
A41: DETALLE | C41: FACTOR | D41: CANTIDAD | E41: A (ML) | F41: B (M2) | G41: C (M3) | H41: TOTAL
A42: Excavaciones | C42: 1 | D42: 1 | E42: 0.35 | F42: =+E15*F15 -> 2625.8 | G42: =+E42*F42 -> 919.03 | H42: =G42 -> 919.03
A43: Demoliciones | C43: 1 | D43: 1 | E43: =+E33 -> 322.7 | F43: 6.8 | G43: 0.2 | H43: =+IF(A43=0,"",IF(AND(E43=0,F43=0,G43=0),C43*D43,IF(AND(F43=0,G43=0),C43*D43*E43,IF(G43=0,C43*D43*E43*F43,C43*D43*E43*F43*G43)))) -> 438.872
A44: andén | C44: 1 | D44: 1 | E44: =+E24 -> 100 | F44: 1.2 | G44: 0.2 | H44: =+E44*F44*G44 -> 24
H45: =+G45 -> 0
A46: =+"TOTAL CANTIDAD ITEM "&A39 -> TOTAL CANTIDAD ITEM 2,4 | H46: =IFERROR(ROUND(IF(SUM(H42:H45)=0,"",SUM(H42:H45)),0),"") -> 1382
A49: ITEM | B49: DESCRIPCIÓN | G49: UNIDAD | H49: CANTIDAD
A50: 2.5 | B50: Conformación y compactación de la calzada existente | G50: m2 | H50: =IFERROR(ROUND(IF(SUM(H53:H54)=0,"",SUM(H53:H54)),0),"") -> 2626
A52: DETALLE | C52: FACTOR | D52: CANTIDAD | E52: A (ML) | F52: B (M2) | G52: C (M3) | H52: TOTAL
A53: Conformación y compactación de la calzada existente | C53: 1 | D53: 1 | E53: =+E15 -> 380 | F53: =+F15 -> 6.91 | G53: 1 | H53: =+IF(A53=0,"",IF(AND(E53=0,F53=0,G53=0),C53*D53,IF(AND(F53=0,G53=0),C53*D53*E53,IF(G53=0,C53*D53*E53*F53,C53*D53*E53*F53*G53)))) -> 2625.8
H54: =+IF(A54=0,"",IF(AND(E54=0,F54=0,G54=0),C54*D54,IF(AND(F54=0,G54=0),C54*D54*E54,IF(G54=0,C54*D54*E54*F54,C54*D54*E54*F54*G54))))
A55: =+"TOTAL CANTIDAD ITEM "&A50 -> TOTAL CANTIDAD ITEM 2,5 | H55: =IFERROR(ROUND(IF(SUM(H53:H54)=0,"",SUM(H53:H54)),0),"") -> 2626
A58: ITEM | B58: DESCRIPCIÓN | G58: UNIDAD | H58: CANTIDAD
A59: 2.6 | B59: Suministro, transporte y colocación de base granular de máximo Ø 1½", reacomodado con medios mecánicos y compactado al 100% mínimo del ensayo del proctor modificado, según normas para la construcción de pavimentos, y todo lo necesario para su correcta construcción y funcionamiento Su medida sera tomada en sitio ya compactado, debe cumplir con los requisitos de invias 301 | G59: m3 | H59: =IFERROR(ROUND(IF(SUM(H62:H63)=0,"",SUM(H62:H63)),0),"") -> 919
...

Sheet 1,1 Localización
A1: REPUBLICA DE COLOMBIA
A2: SECRETARIA DE OBRAS PUBLICAS | E2: ANÁLISIS DE PRECIOS UNITARIOS
A3: MUNICIPIO DE SANTAFE DE ANTIOQUIA
A5: OBJETO: | B5: =+PRESUPUESTO!A2 -> MANTENIMIENTO Y MEJORAMIENTO DE LAS VÍAS URBANAS DEL MUNICIPIO DE SANTA FE DE ANTIOQUIA, MEDIANTE LA REPOSICIÓN DE PAVIMENTO | G5: ESPECIFICACIÓN: 1
A6: ACTIVIDAD: | B6: Localización, trazado y replanteo del proyecto. Se utilizará equipo de precisión, personal experto. Se hará con la frecuencia que lo indique la interventoria. incluye demarcación con pintura, línea de trazado, corte de piso, libretas, planos. | G6: ITEM: | H6: 1,1
G7: UNIDAD: | H7: día
A8: I. EQUIPO
A9: Descripción | D9: Tipo | E9: Tarifa/dia | F9: Rendimiento | G9: Valor-Unit.
A10: Herramienta menor | E10: 550000 | F10: 0.05 | G10: =+E10*F10 -> 27500
A11: Herramienta menor
G13: Sub-Total | H13: =SUM(G10:G12) -> 27500
A14: II. MATERIALES EN OBRA
A15: Descripción | D15: Unidad | E15: Precio-Unit. | F15: Cantidad | G15: Valor-Unit.
G17: Sub-Total | H17: =SUM(G16:G16) -> 0
A18: III. TRANSPORTES
A19: Material | C19: Vol. Peso ó Cant. | D19: Distancia | E19: M3-Km | F19: Tarifa | G19: Valor-Unit.
A20: Transporte comisión de topografia | C20: 1 | F20: 80000 | G20: =+C20*F20 -> 80000
G22: Sub-Total | H22: =SUM(G20:G21) -> 80000
A23: IV. MANO DE OBRA
A24: Trabajador | C24: Jornal | D24: Prestaciones | E24: Jornal Total | F24: Rendimiento | G24: Valor-Unit.
A25: Comisión topografía | C25: día | E25: 550000 | F25: 1 | G25: =+E25*F25 -> 550000
G27: Sub-Total | H27: =SUM(G25:G26) -> 550000
E29: Total Costo Directo | H29: =+ROUND(H13+H17+H22+H27,0) -> 657500
A30: V. COSTOS INDIRECTOS
A31: Descripción | F31: Porcentaje | G31: Valor Total
A32: ADMINISTRACION | G32: =+F32*H29 -> 0
A33: IMPREVISTOS | G33: =+F33*H29 -> 0
A34: UTILIDAD | G34: =+F34*H29 -> 0
G35: Sub-Total | H35: =ROUND(SUM(G32:G34),0) -> 0
D37: Precio unitario total aproximado al peso | H37: =ROUND((H29+H35),0) -> 657500
B40: ING. CARLOS PALACIOS
B41: MATRICULA 05202-71687 ANT
B42: PRESUPUESTADOR

Sheet 2,1 Excavacion
A1: REPUBLICA DE COLOMBIA
A2: =+'2,4 Cargue y botada '!A4 -> SECRETARIA DE OBRAS PUBLICAS | E2: ANÁLISIS DE PRECIOS UNITARIOS
A3: MUNICIPIO DE SANTAFE DE ANTIOQUIA
A4: OBJETO: | B4: =+PRESUPUESTO!A2 -> MANTENIMIENTO Y MEJORAMIENTO DE LAS VÍAS URBANAS DEL MUNICIPIO DE SANTA FE DE ANTIOQUIA, MEDIANTE LA REPOSICIÓN DE PAVIMENTO | G4: ESPECIFICACIÓN:
A5: ACTIVIDAD: | B5: Excavación mecánica en material heterogéneo, bajo cualquier grado de humedad, no incluye botada. | G5: ITEM: | H5: 2,1
G6: UNIDAD: | H6: m3
A7: I. EQUIPO
A8: Descripción | D8: Tipo | E8: Tarifa/Hora | F8: Rendimiento | G8: Valor-Unit.
A9: Herramienta menor | F9: 0.05 | G9: =F9*H27 -> 260.32
A10: Retroexcavadora sobre llantas
G12: Sub-Total | H12: =(SUM(G9:G11)) -> 260.32
A13: II. MATERIALES EN OBRA
A14: Descripción | D14: Unidad | E14: Precio-Unit. | F14: Cantidad | G14: Valor-Unit.
A15: Retroexcavadora de orugas capacidad 0,9 M3 | D15: Día | E15: 250000 | F15: =1/15 -> 0.066666667 | G15: =+E15*F15 -> 16666.667
A16: GASOLINA | D16: Gal | E16: 15757 | F16: 0 | G16: =+E16*F16 -> 0
G17: Sub-Total | H17: =(SUM(G15:G16)) -> 16666.667
A18: III. TRANSPORTES
A19: Material | C19: Vol. Peso ó Cant. | D19: Distancia | E19: M3-Km | F19: Tarifa | G19: Valor-Unit.
G22: Sub-Total | H22: =SUM(G20:G21) -> 0
A23: IV. MANO DE OBRA
A24: Trabajador | C24: Jornal | D24: Prestaciones | E24: Jornal Total | F24: Rendimiento | G24: Valor-Unit.
A25: Ayudante | E25: =+Salarios!G11 -> 78096 | F25: =+F15 -> 0.066666667 | G25: =+E25*F25 -> 5206.4
G27: Sub-Total | H27: =(SUM(G25:G26)) -> 5206.4
E29: Total Costo Directo | H29: =ROUND((H12+H17+H22+H27),0) -> 22133
A30: V. COSTOS INDIRECTOS
A31: Descripción | F31: Porcentaje | G31: Valor Total
A32: ADMINISTRACION | G32: =+F32*H29 -> 0
A33: IMPREVISTOS | G33: =+F33*H29 -> 0
A34: UTILIDAD | G34: =+F34*H29 -> 0
G35: Sub-Total | H35: =ROUND(SUM(G32:G34),0) -> 0
D37: Precio unitario total aproximado al peso | H37: =ROUND((H29+H35),0) -> 22133
B39: ING. CARLOS PALACIOS
B40: MATRICULA 05202-71687 ANT
B41: PRESUPUESTADOR

Sheet 2,2 Demolicion
A1: REPUBLICA DE COLOMBIA
A2: =+'2,4 Cargue y botada '!A4 -> SECRETARIA DE OBRAS PUBLICAS | E2: ANÁLISIS DE PRECIOS UNITARIOS
A3: MUNICIPIO DE SANTAFE DE ANTIOQUIA
A5: OBJETO: | B5: =+PRESUPUESTO!A2 -> MANTENIMIENTO Y MEJORAMIENTO DE LAS VÍAS URBANAS DEL MUNICIPIO DE SANTA FE DE ANTIOQUIA, MEDIANTE LA REPOSICIÓN DE PAVIMENTO | G5: ESPECIFICACIÓN:
A6: ACTIVIDAD: | B6: DEMOLICIÓN DE PAVIMENTO de cualquier resistencia con espesor hasta de 10 cm, manual o mecánicamente. Incluye retiro de refuerzo e instalaciones embebidas, compresor neumático con martillo, además recuperación de los materiales aprovechables. | G6: ITEM: | H6: 2.2
G7: UNIDAD: | H7: m2
A8: I. EQUIPO
A9: Descripción | D9: Tipo | E9: Tarifa/Hora | F9: Rendimiento | G9: Valor-Unit.
A10: Herramienta menor | F10: 0.05 | G10: =F10*H28 -> 585.72
A11: Compresor Neumático con martillo demoledor o perforador en superficie, punta y combustible. | E11: 50000 | F11: 0.1 | G11: =+E11*F11 -> 5000 | I11: =1/F11 -> 10
G13: Sub-Total | H13: =(SUM(G10:G12)) -> 5585.72
A14: II. MATERIALES EN OBRA
A15: Descripción | D15: Unidad | E15: Precio-Unit. | F15: Cantidad | G15: Valor-Unit.
G18: Sub-Total | H18: =(SUM(G16:G17)) -> 0
A19: III. TRANSPORTES
A20: Material | C20: Vol. Peso ó Cant. | D20: Distancia | E20: M3-Km | F20: Tarifa | G20: Valor-Unit.
G23: Sub-Total | H23: =SUM(G21:G22) -> 0
A24: IV. MANO DE OBRA
A25: Trabajador | C25: Jornal | D25: Prestaciones | E25: Jornal Total | F25: Rendimiento | G25: Valor-Unit.
A26: Ayudante | E26: =+Salarios!G11 -> 78096 | F26: 0.15 | G26: =+E26*F26 -> 11714.4
G28: Sub-Total | H28: =(SUM(G26:G27)) -> 11714.4
E30: Total Costo Directo | H30: =ROUND((H13+H18+H23+H28),0) -> 17300
A31: V. COSTOS INDIRECTOS
A32: Descripción | F32: Porcentaje | G32: Valor Total
A33: ADMINISTRACION | G33: =+F33*H30 -> 0
A34: IMPREVISTOS | G34: =+F34*H30 -> 0
A35: UTILIDAD | G35: =+F35*H30 -> 0
G36: Sub-Total | H36: =ROUND(SUM(G33:G35),0) -> 0
D38: Precio unitario total aproximado al peso | H38: =ROUND((H30+H36),0) -> 17300
B41: ING. CARLOS PALACIOS
B42: MATRICULA 05202-71687 ANT
B43: PRESUPUESTADOR

Sheet 2,3 Demolicion
A1: REPUBLICA DE COLOMBIA
A2: =+'2,4 Cargue y botada '!A4 -> SECRETARIA DE OBRAS PUBLICAS | E2: ANÁLISIS DE PRECIOS UNITARIOS
A3: MUNICIPIO DE SANTAFE DE ANTIOQUIA
A5: OBJETO: | B5: =+PRESUPUESTO!A2 -> MANTENIMIENTO Y MEJORAMIENTO DE LAS VÍAS URBANAS DEL MUNICIPIO DE SANTA FE DE ANTIOQUIA, MEDIANTE LA REPOSICIÓN DE PAVIMENTO | G5: ESPECIFICACIÓN:
A6: ACTIVIDAD: | B6: =+PRESUPUESTO!B9 -> DEMOLICIÓN DE PAVIMENTO de cualquier resistencia con espesor hasta de 20 cm, manual o mecánicamente. Incluye retiro de refuerzo e instalaciones embebidas, compresor neumático con martillo, además recuperación de los materiales aprovechables. | G6: ITEM: | H6: 2.2
G7: UNIDAD: | H7: m2
A8: I. EQUIPO
A9: Descripción | D9: Tipo | E9: Tarifa/Hora | F9: Rendimiento | G9: Valor-Unit.
A10: Herramienta menor | F10: 0.05 | G10: =F10*H28 -> 1366.68
A11: Compresor Neumático con martillo demoledor o perforador en superficie, punta y combustible. | E11: 50000 | F11: =+I11 -> 0.125 | G11: =+E11*F11 -> 6250 | I11: =1/8 -> 0.125
G13: Sub-Total | H13: =(SUM(G10:G12)) -> 7616.68
A14: II. MATERIALES EN OBRA
A15: Descripción | D15: Unidad | E15: Precio-Unit. | F15: Cantidad | G15: Valor-Unit.
G18: Sub-Total | H18: =(SUM(G16:G17)) -> 0
A19: III. TRANSPORTES
A20: Material | C20: Vol. Peso ó Cant. | D20: Distancia | E20: M3-Km | F20: Tarifa | G20: Valor-Unit.
G23: Sub-Total | H23: =SUM(G21:G22) -> 0
A24: IV. MANO DE OBRA
A25: Trabajador | C25: Jornal | D25: Prestaciones | E25: Jornal Total | F25: Rendimiento | G25: Valor-Unit.
A26: Ayudante | E26: =+Salarios!G11 -> 78096 | F26: 0.35 | G26: =+E26*F26 -> 27333.6 | I26: =1/3.5 -> 0.28571429
G28: Sub-Total | H28: =(SUM(G26:G27)) -> 27333.6
E30: Total Costo Directo | H30: =ROUND((H13+H18+H23+H28),0) -> 34950
A31: V. COSTOS INDIRECTOS
A32: Descripción | F32: Porcentaje | G32: Valor Total
A33: ADMINISTRACION | G33: =+F33*H30 -> 0
A34: IMPREVISTOS | G34: =+F34*H30 -> 0
A35: UTILIDAD | G35: =+F35*H30 -> 0
G36: Sub-Total | H36: =ROUND(SUM(G33:G35),0) -> 0
D38: Precio unitario total aproximado al peso | H38: =ROUND((H30+H36),0) -> 34950

Sheet 2,4 Cargue y botada 
A3: REPUBLICA DE COLOMBIA
A4: SECRETARIA DE OBRAS PUBLICAS | E4: ANÁLISIS DE PRECIOS UNITARIOS
A5: MUNICIPIO DE SANTAFE DE ANTIOQUIA
A7: OBJETO: | B7: =+PRESUPUESTO!A2 -> MANTENIMIENTO Y MEJORAMIENTO DE LAS VÍAS URBANAS DEL MUNICIPIO DE SANTA FE DE ANTIOQUIA, MEDIANTE LA REPOSICIÓN DE PAVIMENTO | G7: ESPECIFICACIÓN: 900-07
A8: ACTIVIDAD: | B8: Cargue, transporte y botada de material proveniente de las excavaciones y demoliciones. Se debe tener en cuenta los botaderos oficiales, incluye acarreos internos. | G8: ITEM: | H8: 2.3
G9: UNIDAD: | H9: m3
A10: I. EQUIPO
A11: Descripción | D11: Tipo | E11: Tarifa/Hora | F11: Rendimiento | G11: Valor-Unit.
A12: Herramienta menor | F12: 0.05 | G12: =F12*H31 -> 488.1
A13: Retroexcavadora sobre llantas | E13: =+EQUIPOS!D3 -> 120873.1 | F13: 0.125 | G13: =+E13*F13 -> 15109.138
G15: Sub-Total | H15: =SUM(G12:G14) -> 15597.238
A16: II. MATERIALES EN OBRA
A17: Descripción | D17: Unidad | E17: Precio-Unit. | F17: Cantidad | G17: Valor-Unit.
G20: Sub-Total | H20: =SUM(G18:G19) -> 0
A21: III. TRANSPORTES
A22: Material | C22: Vol. Peso ó Cant. | D22: Distancia | E22: M3-Km | F22: Tarifa | G22: Valor-Unit.
A23: Volqueta | C23: 1.3 | D23: 2 | E23: 7 | F23: 2200 | G23: =+D23*E23*F23 -> 30800
G25: Sub-Total | H25: =SUM(G23:G24) -> 30800
A26: IV. MANO DE OBRA
A27: Trabajador | C27: Jornal | D27: Prestaciones | E27: Jornal Total | F27: Rendimiento | G27: Valor-Unit.
A28: Ayudante raso | E28: =+Salarios!G11 -> 78096 | F28: 0.125 | G28: =+E28*F28 -> 9762
G31: Sub-Total | H31: =SUM(G28:G30) -> 9762
E33: Total Costo Directo | H33: =+ROUND(H15+H20+H25+H31,0) -> 56159
A34: V. COSTOS INDIRECTOS
A35: Descripción | F35: Porcentaje | G35: Valor Total
A36: ADMINISTRACION | G36: =+F36*H33 -> 0
A37: IMPREVISTOS | G37: =+F37*H33 -> 0
A38: UTILIDAD | G38: =+F38*H33 -> 0
G39: Sub-Total | H39: =ROUND(SUM(G36:G38),0) -> 0
D41: Precio unitario total aproximado al peso | H41: =ROUND((H33+H39),0) -> 56159

Sheet 2,5 Conformación
A3: REPUBLICA DE COLOMBIA
A4: SECRETARIA DE OBRAS PUBLICAS | E4: ANÁLISIS DE PRECIOS UNITARIOS
A5: MUNICIPIO DE SANTAFE DE ANTIOQUIA
A7: OBJETO: | B7: =+PRESUPUESTO!A2 -> MANTENIMIENTO Y MEJORAMIENTO DE LAS VÍAS URBANAS DEL MUNICIPIO DE SANTA FE DE ANTIOQUIA, MEDIANTE LA REPOSICIÓN DE PAVIMENTO | G7: ESPECIFICACIÓN: 900-07
A8: ACTIVIDAD: | B8: Conformación y compactación de la calzada existente | G8: ITEM: | H8: 2.4
G9: UNIDAD: | H9: m2
A10: I. EQUIPO
A11: Descripción | D11: Tipo | E11: Tarifa/Hora | F11: Rendimiento | G11: Valor-Unit.
A12: Motoniveladora, potencia 140 HP, ancho de cuchilla 3,66 m, peso 11 ton. | E12: 129351.17 | F12: 0.0022222222 | G12: =+E12*F12 -> 287.44704
A13: Vibrocompatador, potencia 153 HP, peso 8 Ton. | E13: =+EQUIPOS!D6 -> 128918.1 | F13: 0.0022222222 | G13: =+E13*F13 -> 286.48466
A14: Herramienta menor | F14: 0.05 | G14: =F14*H33 -> 62.4768
G16: Sub-Total | H16: =SUM(G12:G15) -> 636.4085
A17: II. MATERIALES EN OBRA
A18: Descripción | D18: Unidad | E18: Precio-Unit. | F18: Cantidad | G18: Valor-Unit.
A19: Agua | D19: lt | E19: 84 | F19: 0.33333333 | G19: =E19*F19 -> 28
G22: Sub-Total | H22: =SUM(G19:G21) -> 28
A23: III. TRANSPORTES
A24: Material | C24: Vol. Peso ó Cant. | D24: Distancia | E24: M3-Km | F24: Tarifa | G24: Valor-Unit.
G27: Sub-Total | H27: =SUM(G25:G26) -> 0
A28: IV. MANO DE OBRA
A29: Trabajador | C29: Jornal | D29: Prestaciones | E29: Jornal Total | F29: Rendimiento | G29: Valor-Unit.
A30: Ayudante raso (2) | C30: 2 | E30: =+Salarios!G11*C30 -> 156192 | F30: 0.004 | G30: =+E30*F30 -> 624.768
A31: Oficial | E31: =+Salarios!G9 -> 156192 | F31: 0.004 | G31: =+E31*F31 -> 624.768
G33: Sub-Total | H33: =SUM(G30:G32) -> 1249.536
E35: Total Costo Directo | H35: =+ROUND(H16+H22+H27+H33,0) -> 1914
A36: V. COSTOS INDIRECTOS
A37: Descripción | F37: Porcentaje | G37: Valor Total
A38: ADMINISTRACION | G38: =+F38*H35 -> 0
A39: IMPREVISTOS | G39: =+F39*H35 -> 0
A40: UTILIDAD | G40: =+F40*H35 -> 0
G41: Sub-Total | H41: =ROUND(SUM(G38:G40),0) -> 0
D43: Precio unitario total aproximado al peso | H43: =ROUND((H35+H41),0) -> 1914

Sheet 2,6 Base granular
A1: REPUBLICA DE COLOMBIA
A2: =+'2,4 Cargue y botada '!A4 -> SECRETARIA DE OBRAS PUBLICAS | E2: ANÁLISIS DE PRECIOS UNITARIOS
A3: MUNICIPIO DE SANTAFE DE ANTIOQUIA
A5: OBJETO: | B5: =+PRESUPUESTO!A2 -> MANTENIMIENTO Y MEJORAMIENTO DE LAS VÍAS URBANAS DEL MUNICIPIO DE SANTA FE DE ANTIOQUIA, MEDIANTE LA REPOSICIÓN DE PAVIMENTO | G5: ESPECIFICACIÓN:
A6: ACTIVIDAD: | B6: Suministro, transporte y colocación de base granular de máximo Ø 1½", reacomodado con medios mecánicos y compactado al 100% mínimo del ensayo del proctor modificado, según normas para la construcción de pavimentos, y todo lo necesario para su correcta construcción y funcionamiento Su medida sera tomada en sitio ya compactado. | G6: ITEM: | H6: 2.5
G7: UNIDAD: | H7: m3
A8: I. EQUIPO
A9: Descripción | D9: Tipo | E9: Tarifa/Hora | F9: Rendimiento | G9: Valor-Unit.
A10: Herramienta menor | F10: 0.05 | G10: =F10*H33 -> 43.4
A11: Carrotanque de agua(1000 Galones) | E11: =+EQUIPOS!D4 -> 68651.582 | F11: 0.022222222 | G11: =+E11*F11 -> 1525.5907
A12: Vibrocompatador, potencia 153 HP, peso 8 Ton. | E12: =+EQUIPOS!D6 -> 128918.1 | F12: 0.022222222 | G12: =+E12*F12 -> 2864.8466
A13: Motoniveladora potencia 215 HP, ancho de cuchilla 4,27 m, peso 18 ton. | E13: =+EQUIPOS!D7 -> 217772.9 | F13: 0.022222222 | G13: =+E13*F13 -> 4839.3978
A14: Compactador manual vibratorio (CANGURO) (Apisonadores) | E14: =+EQUIPOS!D11 -> 7502.674 | F14: 0.033333333 | G14: =+E14*F14 -> 250.08913
G16: Sub-Total | H16: =ROUND(SUM(G11:G15),0) -> 9480
A17: II. MATERIALES EN OBRA
A18: Descripción | D18: Unidad | E18: Precio-Unit. | F18: Cantidad | G18: Valor-Unit.
A19: Base granular | D19: M3 | E19: =+MATERIALES!C4 -> 85000 | F19: 1.3 | G19: =+F19*E19 -> 110500
A20: agua | D20: LT | E20: 53 | F20: 24 | G20: =+F20*E20 -> 1272
G22: Sub-Total | H22: =ROUND(SUM(G19:G21),0) -> 111772
A23: III. TRANSPORTES
A24: Material | C24: Vol. Peso ó Cant. | D24: Distancia | E24: M3-Km | F24: Tarifa | G24: Valor-Unit.
A25: Transporte agregados ($/m³.km) | C25: 1.3 | D25: 49 | E25: 2100 | F25: =+D25*E25 -> 102900 | G25: =+C25*F25 -> 133770
G27: Sub-Total | H27: =SUM(G25:G26) -> 133770
A28: IV. MANO DE OBRA
A29: Trabajador | C29: Jornal | D29: Prestaciones | E29: Jornal Total | F29: Rendimiento | G29: Valor-Unit.
A30: Ayudante (2) | C30: 2 | E30: =+Salarios!G11*C30 -> 156192 | F30: 0.0027777778 | G30: =+E30*F30 -> 433.86667
A31: oficial | E31: =+Salarios!G9 -> 156192 | F31: 0.0027777778 | G31: =+E31*F31 -> 433.86667
G33: Sub-Total | H33: =ROUND(SUM(G30:G32),0) -> 868
E35: Total Costo Directo | H35: =ROUND((H16+H22+H27+H33),0) -> 255890
A36: V. COSTOS INDIRECTOS
A37: Descripción | F37: Porcentaje | G37: Valor Total
A38: ADMINISTRACION | G38: =+F38*H35 -> 0
A39: IMPREVISTOS | G39: =+F39*H35 -> 0
A40: UTILIDAD | G40: =+F40*H35 -> 0
G41: Sub-Total | H41: =ROUND(SUM(G38:G40),0) -> 0
D43: Precio unitario total aproximado al peso | H43: =ROUND((H35+H41),0) -> 255890 | K43: =+H43*1.3 -> 332657 | M43: =225000/1.3 -> 173076.92 | N43: =+M43*1.3 -> 225000
B45: ING. CARLOS PALACIOS
B46: MATRICULA 05202-71687 ANT
B47: PRESUPUESTADOR

Sheet 3,1 Fresado
A1: REPUBLICA DE COLOMBIA
A2: =+'2,4 Cargue y botada '!A4 -> SECRETARIA DE OBRAS PUBLICAS | E2: ANÁLISIS DE PRECIOS UNITARIOS
A3: =+'2,4 Cargue y botada '!A5 -> MUNICIPIO DE SANTAFE DE ANTIOQUIA
A5: OBJETO: | B5: =+PRESUPUESTO!A2 -> MANTENIMIENTO Y MEJORAMIENTO DE LAS VÍAS URBANAS DEL MUNICIPIO DE SANTA FE DE ANTIOQUIA, MEDIANTE LA REPOSICIÓN DE PAVIMENTO | G5: ESPECIFICACIÓN:
A6: ACTIVIDAD: | B6: Fresado de Pavimento Asfaltico en espesor de 10 cm. Incluye fresadora de pavimento y cargue, no incluye transporte. | G6: ITEM: | H6: 3,1
G7: UNIDAD: | H7: m2
A8: I. EQUIPO
A9: Descripción | D9: Tipo | E9: Tarifa/Hora | F9: Rendimiento | G9: Valor-Unit.
A10: Barredora mecánica de cepillo de 3658 mm ; 6 m3 | E10: =+EQUIPOS!D8 -> 77252.96 | F10: 80 | G10: =E10/F10 -> 965.662 | I10: =+F10*8 -> 640
A11: Cargador : Potencia en el volante 110 hp, Clasificación de RPM del motor 2300. | E11: =+EQUIPOS!D9 -> 185284.49 | F11: 80 | G11: =E11/F11 -> 2316.0561
A12: Fresadora de pavimento, potencia 255 HP, peso 19 Ton, PROFUNDIDAD DE CORTE 305 mm | E12: =+EQUIPOS!D10 -> 539513.5 | F12: 80 | G12: =E12/F12 -> 6743.9187
