Workbook

Sheet DATOS DEL PROCESO
C2: EVALUACIÓN DE REQUISITOS FINANCIEROS
B3: NÚMERO DE PROCESO
B4: CME 010 2020
B7: OBJETO | C7: INTERVENTORIA TÉCNICA, ADMINISTRATIVA, DE CONTROL FINANCIERO, PRESUPUESTAL, SOCIAL Y AMBIENTAL PARA EL CHEQUEO, VALIDACIÓN DE PROTOTIPOS, DIAGNÓSTICO, CONCERTACIÓN, INTERVENCIÓN Y GESTIÓN SOCIAL PARA LA EJECUCIÓN DEL PROGRAMA DE CONEXIONES INTRADOMICILIARIAS, EN LOS MUNICIPIOS DE MARÍA LA BAJA (BOLÍVAR) SABANAS DE SAN ANGEL (MAGDALENA), ASTREA (CESAR), TADÓ (CHOCÓ) y ATRATO
B8: POE | C8: SEGÚN GRUPOS A LOS QUE APLIQUE EL CONTRATISTA
B10: REQUISITOS DE CAPACIDAD FINANCIERA Y ORGANIZACIONAL
B11: CAPITAL DE TRABAJO REQUERIDO DE VALOR TOTAL CONTRATO | D11: 40%* POE | E11: SEGÚN GRUPOS A LOS QUE APLIQUE EL CONTRATISTA
B12: INDICE DE LIQUIDEZ REQUERIDO | D12: ≥ 1.3 | E12: 1.3
B13: NIVEL DE ENDEUDAMIENTO REQUERIDO | D13: ≤ 70% | E13: 0.7
B14: RENTABILIDAD DEL PATRIMONIO | D14: ≥ 3% | E14: 0.03
B15: RENTABILIDAD DEL ACTIVO | D15: ≥ 2% | E15: 0.02
B16: COBERTURA DE INTERESES | D16: ≥ 1.3 | E16: 1.3
B18: RESUMEN DE HABILITACION
B19: OFERENTE | D19: CONDICIÓN
B20: CONSORCIO INTER-CONNECTIONS | D20: CUMPLE
B21: HIPSITEC SA | D21: CUMPLE
B22: CONSORCIO GRUPO 3 RB | D22: CUMPLE
B23: 2C INGENIEROS SA | D23: CUMPLE
B24: CONSORCIO V&M 010 | D24: CUMPLE
B25: UT INTERVENTORÍA CONEXIONES INTRADOMICILIARIAS | D25: CUMPLE
B26: CONSORCIO INTRA I 2020 | D26: CUMPLE
B27: GNG INGENIERIA S.A.S. | D27: CUMPLE
B28: CONSORCIO INTERCONEXIONES | D28: CUMPLE
B29: INGENIERIA MASTER SAS | D29: CUMPLE
B30: ING INGENIERIA SAS | D30: CUMPLE
B31: CONSORCIO INTERDESARROLLO 010 | D31: CUMPLE

Sheet resumen
B3: POE POR GRUPO | C3: 40% POE POR GRUPO
A4: GRUPO1 | B4: 3.2116794e+08 | C4: =B4*0.4 -> 1.2846717e+08
A5: GRUPO2 | B5: 3.1738889e+08 | C5: =B5*0.4 -> 1.2695556e+08
A6: GRUPO3 | B6: 2.3163024e+08 | C6: =B6*0.4 -> 92652094
A7: GRUPO4 | B7: 4.2465252e+08 | C7: =B7*0.4 -> 1.6986101e+08
A8: GRUPO5 | B8: 4.244526e+08 | C8: =B8*0.4 -> 1.6978104e+08
A10: TOTAL POE | B10: =SUM(B4:B8) -> 1.7192922e+09 | C10: =B10*0.4 -> 6.8771687e+08
E12: Requisito indicadores | F12: 1.3 | G12: 0.7 | H12: 0.03 | I12: 0.02 | J12: 1.3
B13: SE PRESENTA A GRUPOS: | C13: REQUISITO MINIMO.
E14: CAPITAL TRABAJO | F14: LQ | G14: END | H14: RP | I14: RA | J14: CI | K14: REQUISITO CAPITAL TRAB | L14: otros indicadores | M14: CALIFICACIÓN
B15: TODOS | C15: =B7*0.4 -> 1.6986101e+08 | D15: CONSORCIO INTER-CONNECTIONS | E15: 2024754938 | F15: 30.737516 | G15: 0.04161795 | H15: 0.046330321 | I15: 0.044402148 | J15: 32.870438 | K15: =IF(E15>=C15,"cumple","no cumple") -> cumple | L15: CUMPLE | M15: CUMPLE
B16: 1 Y 2 | C16: =B4*0.4 -> 1.2846717e+08 | D16: HIPSITEC SA | E16: 996355803 | F16: 1.5115843 | G16: 0.6760674 | H16: 0.1385451 | I16: 0.044879272 | J16: 3.7205964 | K16: =IF(E16>=C16,"cumple","no cumple") -> cumple | L16: CUMPLE | M16: CUMPLE
B17: 3 | C17: =C6 -> 92652094 | D17: CONSORCIO GRUPO 3 RB | E17: 1177039825 | F17: 2.639402 | G17: 0.39795608 | H17: 0.73952982 | I17: 0.44522943 | J17: 651.66825 | K17: =IF(E17>=C17,"cumple","no cumple") -> cumple | L17: CUMPLE | M17: CUMPLE
B18: 1 Y 2 | C18: =B4*0.4 -> 1.2846717e+08 | D18: 2C INGENIEROS SA | E18: 2215573737 | F18: 5.5562133 | G18: 0.21779918 | H18: 0.15925325 | I18: 0.12456802 | J18: 7.0991357 | K18: =IF(E18>=C18,"cumple","no cumple") -> cumple | L18: CUMPLE | M18: CUMPLE
B19: TODOS | C19: =B7*0.4 -> 1.6986101e+08 | D19: CONSORCIO V&M 010 | E19: 6460546517 | F19: 2.7 | G19: 0.37 | H19: 0.18 | I19: 0.11 | J19: 7.57 | K19: cumple | L19: CUMPLE | M19: CUMPLE
B20: 4 Y 5 | C20: =B7*0.4 -> 1.6986101e+08 | D20: UT INTERVENTORÍA CONEXIONES | E20: 517120414 | F20: 6.5989657 | G20: 0.14622365 | H20: 0.10481826 | I20: 0.08949135 | J20: 14.881497 | K20: =IF(E20>=C20,"cumple","no cumple") -> cumple | L20: CUMPLE | M20: CUMPLE
B21: TODOS | C21: =B7*0.4 -> 1.6986101e+08 | D21: CONSORCIO INTRA I 2020 | E21: 460289450 | F21: 30.44818 | G21: 0.024265633 | H21: 0.05701774 | I21: 0.055634168 | J21: IND. | K21: =IF(E21>=C21,"cumple","no cumple") -> cumple | L21: CUMPLE | M21: CUMPLE
B22: TODOS | C22: =B7*0.4 -> 1.6986101e+08 | D22: GNG INGENIERIA S.A.S. | E22: 5557623000 | F22: 5.1373218 | G22: 0.33242554 | H22: 0.40618417 | I22: 0.27115818 | J22: 9.2726527 | K22: =IF(E22>=C22,"cumple","no cumple") -> cumple | L22: CUMPLE | M22: CUMPLE
B23: TODOS | C23: =B7*0.4 -> 1.6986101e+08 | D23: CONSORCIO INTERCONEXIONES | E23: 1065412151 | F23: 1.4949441 | G23: 0.39603149 | H23: 0.23841895 | I23: 0.12427201 | J23: IND. | K23: =IF(E23>=C23,"cumple","no cumple") -> cumple | L23: CUMPLE | M23: CUMPLE
B24: 1 Y3 | C24: =B4*0.4 -> 1.2846717e+08 | D24: INGENIERIA MASTER SAS | E24: 3527599185 | F24: 36.738524 | G24: 0.051514503 | H24: 0.30696565 | I24: 0.29115246 | J24: 32.886289 | K24: =IF(E24>=C24,"cumple","no cumple") -> cumple | L24: CUMPLE | M24: CUMPLE
B25: 1, 2 Y 3 | C25: =B4*0.4 -> 1.2846717e+08 | D25: ING INGENIERIA SAS | E25: 3457785237 | F25: 4.4743143 | G25: 0.58936097 | H25: 0.44147236 | I25: 0.18128579 | J25: 3.6853357 | K25: =IF(E25>=C25,"cumple","no cumple") -> cumple | L25: CUMPLE | M25: CUMPLE
B26: TODOS | C26: =B7*0.4 -> 1.6986101e+08 | D26: CONSORCIO INTERDESARROLLO 010 | E26: 4810079175 | F26: 3.0462404 | G26: 0.52363725 | H26: 0.31726662 | I26: 0.151134 | J26: 6.5756759 | K26: =IF(E26>=C26,"cumple","no cumple") -> cumple | L26: CUMPLE | M26: CUMPLE

Sheet CONSORCIO INTERCO
C2: EVALUACIÓN DE REQUISITOS FINANCIEROS
B3: NÚMERO DE PROCESO
B4: ='DATOS DEL PROCESO'!B4:E5 -> CME 010 2020
B7: OBJETO | C7: ='DATOS DEL PROCESO'!C7:E7 -> INTERVENTORIA TÉCNICA, ADMINISTRATIVA, DE CONTROL FINANCIERO, PRESUPUESTAL, SOCIAL Y AMBIENTAL PARA EL CHEQUEO, VALIDACIÓN DE PROTOTIPOS, DIAGNÓSTICO, CONCERTACIÓN, INTERVENCIÓN Y GESTIÓN SOCIAL PARA LA EJECUCIÓN DEL PROGRAMA DE CONEXIONES INTRADOMICILIARIAS, EN LOS MUNICIPIOS DE MARÍA LA BAJA (BOLÍVAR) SABANAS DE SAN ANGEL (MAGDALENA), ASTREA (CESAR), TADÓ (CHOCÓ) y ATRATO
B8: POE | C8: 4.2465252e+08
B9: REQUISITOS DE CAPACIDAD FINANCIERA Y ORGANIZACIONAL | D9: OBSERVACIONES
B10: INDICADOR | C10: REQUERIMIENTO
B11: CAPITAL DE TRABAJO REQUERIDO DE VALOR TOTAL CONTRATO | C11: =0.4*C8 -> 1.6986101e+08 | D11: CONSORCIO SE PRESENTA A TODOS LOS GRUPO, POR LO TANTO SE EVALUA SOBRE POE GRUPO 4. NOTA: C&E ENGINEERING S.A.S FUE CONSTITUIDA EN EL 2019.
B12: INDICE DE LIQUIDEZ REQUERIDO | C12: ='DATOS DEL PROCESO'!E12 -> 1.3
B13: NIVEL DE ENDEUDAMIENTO REQUERIDO | C13: ='DATOS DEL PROCESO'!E13 -> 0.7
B14: RENTABILIDAD DEL PATRIMONIO | C14: ='DATOS DEL PROCESO'!E14 -> 0.03
B15: RENTABILIDAD DEL ACTIVO | C15: ='DATOS DEL PROCESO'!E15 -> 0.02
B16: COBERTURA DE INTERESES | C16: ='DATOS DEL PROCESO'!E16 -> 1.3
B18: EVALUACIÓN
B19: OFERENTE
B20: OFERENTE | D20: CONSORCIO INTER-CONNECTIONS
B21: INTEGRANTES | D21: CARLOS JULIO ARIAS LOPEZ | E21: C&E ENGINEERING S.A.S | F21: PROJECTING DESIGNING AND BUILDING LTDA
B22: OFERENTE PRURAL | D22: SI
B23: PORCENTAJE DE PARTICIPACION | D23: 0.51 | E23: 0.39 | F23: 0.1
B24: DOCUMENTO REGISTRO UNICO DE PROPONENTES - RUP | D24: SI | E24: SI | F24: SI
B25: VERIFICACION DEL DOCUMENTO RUP
B26: NIT. | D26: 79329835 | E26: 901.260.795-1 | F26: 830102887
B27: Clase de persona/sociedad | D27: JURIDICA | E27: JURIDICA | F27: JURIDICA
B28: Fecha de expedición certificado | D28: 43916 | E28: 40325 | F28: 43974
B29: Fecha de Inscripción o renovación | D29: 43578 | E29: 43923 | F29: 43585
B30: Corte información financiera | D30: 43465 | E30: 43830 | F30: 43465
B31: RUP VIGENTE Y EN FIRME | D31: VIGENTE Y EN FIRME | E31: VIGENTE Y EN FIRME | F31: VIGENTE Y EN FIRME
B32: DATOS FINANCIEROS TOMADOS DE CERTIFICADO RUP
B33: Activo corriente | D33: 324661279 | E33: 527829340 | F33: 1299173886
B34: Activo total | D34: 1112888021 | E34: 532229340 | F34: 2508082765
B35: Pasivo corriente | D35: 1300000 | E35: 10643682 | F35: 114965885
B36: Pasivo total | D36: 43045000 | E36: 10643682 | F36: 165939756
B37: Patrimonio | D37: 1069843021 | E37: 521585658 | F37: 2342143009
B38: Utilidad Operacional | D38: 20727081 | E38: 24585658 | F38: 253951926
B39: Gasto Intereses | D39: 1233006 | E39: 228147 | F39: 6680674
B40: CALCULO DEL INDICADOR POR INTEGRANTE
B41: Capital de trabajo | D41: =D33-D35 -> 323361279 | E41: =E33-E35 -> 517185658 | F41: =F33-F35 -> 1184208001
B42: Liquidez | D42: =IF(D35=0,"INDETERMINADO",D33/D35) -> 249.73945 | E42: =IF(E35=0,"INDETERMINADO",E33/E35) -> 49.59086 | F42: =IF(F35=0,"INDETERMINADO",F33/F35) -> 11.300517
B43: Nivel de Endeudamiento | D43: =D36/D34 -> 0.038678644 | E43: =E36/E34 -> 0.0199983 | F43: =F36/F34 -> 0.066161994
B44: Rentabilidad del Patrimonio | D44: =D38/D37 -> 0.019373946 | E44: =E38/E37 -> 0.047136377 | F44: =F38/F37 -> 0.10842716
...

Sheet HIPSITEC SA
C2: EVALUACIÓN DE REQUISITOS FINANCIEROS
B3: NÚMERO DE PROCESO
B4: CME 010-2020
B7: OBJETO | C7: ='DATOS DEL PROCESO'!C7:E7 -> INTERVENTORIA TÉCNICA, ADMINISTRATIVA, DE CONTROL FINANCIERO, PRESUPUESTAL, SOCIAL Y AMBIENTAL PARA EL CHEQUEO, VALIDACIÓN DE PROTOTIPOS, DIAGNÓSTICO, CONCERTACIÓN, INTERVENCIÓN Y GESTIÓN SOCIAL PARA LA EJECUCIÓN DEL PROGRAMA DE CONEXIONES INTRADOMICILIARIAS, EN LOS MUNICIPIOS DE MARÍA LA BAJA (BOLÍVAR) SABANAS DE SAN ANGEL (MAGDALENA), ASTREA (CESAR), TADÓ (CHOCÓ) y ATRATO
B8: POE | C8: 1.2846717e+08
B9: REQUISITOS DE CAPACIDAD FINANCIERA Y ORGANIZACIONAL | D9: OBSERVACIONES
B10: INDICADOR | C10: REQUERIMIENTO
B11: CAPITAL DE TRABAJO REQUERIDO DE VALOR TOTAL CONTRATO | C11: =C8*0.4 -> 51386870 | D11: EMPRESA SE PRESENTA A GRUPOS 1 Y 2, POR LO TANTO SE EVALUA SOBRE POE DEL GRUPO 1.
B12: INDICE DE LIQUIDEZ REQUERIDO | C12: ='DATOS DEL PROCESO'!E12 -> 1.3
B13: NIVEL DE ENDEUDAMIENTO REQUERIDO | C13: ='DATOS DEL PROCESO'!E13 -> 0.7
B14: RENTABILIDAD DEL PATRIMONIO | C14: ='DATOS DEL PROCESO'!E14 -> 0.03
B15: RENTABILIDAD DEL ACTIVO | C15: ='DATOS DEL PROCESO'!E15 -> 0.02
B16: COBERTURA DE INTERESES | C16: ='DATOS DEL PROCESO'!E16 -> 1.3
B18: EVALUACIÓN
B19: OFERENTE
B20: HIPSITEC SA
B22: OFERENTE PRURAL | D22: NO
B23: DOCUMENTO REGISTRO UNICO DE PROPONENTES - RUP | D23: SI
B24: VERIFICACION DEL DOCUMENTO RUP
B25: NIT. | D25: 900.590.82
B26: Clase de persona/sociedad | D26: JURIDICA
B27: Fecha de expedición certificado | D27: 43977
B28: Fecha de Inscripción o renovación | D28: 43580
B29: Corte información financiera | D29: 12/31/2018
B30: RUP VIGENTE Y EN FIRME | D30: VIGENTE Y EN FIRME
B31: DATOS FINANCIEROS TOMADOS DE CERTIFICADO RUP
B32: Activo corriente | D32: 2943944658
B33: Activo total | D33: 6649292862
B34: Pasivo corriente | D34: 1947588855
B35: Pasivo total | D35: 4495370168
B36: Patrimonio | D36: 2153922695
B37: Utilidad Operacional | D37: 298415425
B38: Gasto Intereses | D38: 80206341
B39: CALCULO DEL INDICADOR
B40: Capital de trabajo | D40: =D32-D34 -> 996355803
B41: Liquidez | D41: =IF(D34=0,"INDETERMINADO",D32/D34) -> 1.5115843
B42: Nivel de Endeudamiento | D42: =D35/D33 -> 0.6760674
B43: Rentabilidad del Patrimonio | D43: =D37/D36 -> 0.1385451
B44: Rentabilidad del Activo | D44: =D37/D33 -> 0.044879272
B45: Cobertura de Intereses | D45: =IF(D38=0,"INDETERMINADO",D37/D38) -> 3.7205964
...

Sheet CONSORCIO GRUPO 3 RB
C2: EVALUACIÓN DE REQUISITOS FINANCIEROS
B3: NÚMERO DE PROCESO
B4: CME 010 2020
B7: OBJETO | C7: ='DATOS DEL PROCESO'!C7:E7 -> INTERVENTORIA TÉCNICA, ADMINISTRATIVA, DE CONTROL FINANCIERO, PRESUPUESTAL, SOCIAL Y AMBIENTAL PARA EL CHEQUEO, VALIDACIÓN DE PROTOTIPOS, DIAGNÓSTICO, CONCERTACIÓN, INTERVENCIÓN Y GESTIÓN SOCIAL PARA LA EJECUCIÓN DEL PROGRAMA DE CONEXIONES INTRADOMICILIARIAS, EN LOS MUNICIPIOS DE MARÍA LA BAJA (BOLÍVAR) SABANAS DE SAN ANGEL (MAGDALENA), ASTREA (CESAR), TADÓ (CHOCÓ) y ATRATO
B8: POE | C8: 2.3163024e+08
B9: REQUISITOS DE CAPACIDAD FINANCIERA Y ORGANIZACIONAL | D9: OBSERVACIONES
B10: INDICADOR | C10: REQUERIMIENTO
B11: CAPITAL DE TRABAJO REQUERIDO DE VALOR TOTAL CONTRATO | C11: =C8*0.4 -> 92652094 | D11: CONSORCIO SE PRESENTA SOLO A GRUPO 3. SE EVALUA SOBRE UN POE DE 231,630,235,24 PESOS.
B12: INDICE DE LIQUIDEZ REQUERIDO | C12: ='DATOS DEL PROCESO'!E12 -> 1.3
B13: NIVEL DE ENDEUDAMIENTO REQUERIDO | C13: ='DATOS DEL PROCESO'!E13 -> 0.7
B14: RENTABILIDAD DEL PATRIMONIO | C14: ='DATOS DEL PROCESO'!E14 -> 0.03
B15: RENTABILIDAD DEL ACTIVO | C15: ='DATOS DEL PROCESO'!E15 -> 0.02
B16: COBERTURA DE INTERESES | C16: ='DATOS DEL PROCESO'!E16 -> 1.3
B18: EVALUACIÓN
B19: OFERENTE
B20: OFERENTE | D20: CONSORCIO GRUPO 3 RB
B21: INTEGRANTES | D21: RIGOBERTO LOPEZ P. INGENIERIA S.A.S | E21: SINTH S.A.S
B22: OFERENTE PRURAL | D22: SI
B23: PORCENTAJE DE PARTICIPACION | D23: 0.7 | E23: 0.3
B24: DOCUMENTO REGISTRO UNICO DE PROPONENTES - RUP | D24: SI | E24: SI
B25: VERIFICACION DEL DOCUMENTO RUP
B26: NIT. | D26: 90110411 | E26: 900.611.91
B27: Clase de persona/sociedad | D27: JURIDICA | E27: JURIDICA
B28: Fecha de expedición certificado | D28: 43963 | E28: 43972
B29: Fecha de Inscripción o renovación | D29: 43602 | E29: 43507
B30: Corte información financiera | D30: 43465 | E30: 43131
B31: RUP VIGENTE Y EN FIRME | D31: VIGENTE Y EN FIRME | E31: VIGENTE Y EN FIRME
B32: DATOS FINANCIEROS TOMADOS DE CERTIFICADO RUP
B33: Activo corriente | D33: 168593069 | E33: 1739508197
B34: Activo total | D34: 184443575 | E34: 2002134867
B35: Pasivo corriente | D35: 57776443 | E35: 673284998
B36: Pasivo total | D36: 57776443 | E36: 833217731
B37: Patrimonio | D37: 126667132 | E37: 1168917136
B38: Utilidad Operacional | D38: 24054418 | E38: 1026895050
B39: Gasto Intereses | D39: 688681 | E39: 55000
B40: CALCULO DEL INDICADOR POR INTEGRANTE
B41: Capital de trabajo | D41: =D33-D35 -> 110816626 | E41: =E33-E35 -> 1066223199
B42: Liquidez | D42: =IF(D35=0,"INDETERMINADO",D33/D35) -> 2.9180244 | E42: =IF(E35=0,"INDETERMINADO",E33/E35) -> 2.5836135
B43: Nivel de Endeudamiento | D43: =D36/D34 -> 0.31324725 | E43: =E36/E34 -> 0.41616464
B44: Rentabilidad del Patrimonio | D44: =D38/D37 -> 0.1899026 | E44: =E38/E37 -> 0.87850115
...

Sheet 2C INGENIEROS SA
C2: EVALUACIÓN DE REQUISITOS FINANCIEROS
B3: NÚMERO DE PROCESO
B4: CME 010 2020
B7: OBJETO | C7: ='DATOS DEL PROCESO'!C7:E7 -> INTERVENTORIA TÉCNICA, ADMINISTRATIVA, DE CONTROL FINANCIERO, PRESUPUESTAL, SOCIAL Y AMBIENTAL PARA EL CHEQUEO, VALIDACIÓN DE PROTOTIPOS, DIAGNÓSTICO, CONCERTACIÓN, INTERVENCIÓN Y GESTIÓN SOCIAL PARA LA EJECUCIÓN DEL PROGRAMA DE CONEXIONES INTRADOMICILIARIAS, EN LOS MUNICIPIOS DE MARÍA LA BAJA (BOLÍVAR) SABANAS DE SAN ANGEL (MAGDALENA), ASTREA (CESAR), TADÓ (CHOCÓ) y ATRATO
B8: POE | C8: 1.2846717e+08
B9: REQUISITOS DE CAPACIDAD FINANCIERA Y ORGANIZACIONAL | D9: OBSERVACIONES
B10: INDICADOR | C10: REQUERIMIENTO
B11: CAPITAL DE TRABAJO REQUERIDO DE VALOR TOTAL CONTRATO | C11: =C8*0.4 -> 51386870 | D11: EMPRESA SE PRESENTA A GRUPOS 1 Y 2, POR LO TANTO SE EVALUA SOBRE POE GRUPO 1.
B12: INDICE DE LIQUIDEZ REQUERIDO | C12: ='DATOS DEL PROCESO'!E12 -> 1.3
B13: NIVEL DE ENDEUDAMIENTO REQUERIDO | C13: ='DATOS DEL PROCESO'!E13 -> 0.7
B14: RENTABILIDAD DEL PATRIMONIO | C14: ='DATOS DEL PROCESO'!E14 -> 0.03
B15: RENTABILIDAD DEL ACTIVO | C15: ='DATOS DEL PROCESO'!E15 -> 0.02
B16: COBERTURA DE INTERESES | C16: ='DATOS DEL PROCESO'!E16 -> 1.3
B18: EVALUACIÓN
B19: OFERENTE
B20: 2C INGENIEROS SA
B22: OFERENTE PRURAL | D22: NO
B23: DOCUMENTO REGISTRO UNICO DE PROPONENTES - RUP | D23: SI
B24: VERIFICACION DEL DOCUMENTO RUP
B25: NIT. | D25: 830023761
B26: Clase de persona/sociedad | D26: JURIDICA
B27: Fecha de expedición certificado | D27: 43916
B28: Fecha de Inscripción o renovación | D28: 43563
B29: Corte información financiera | D29: 12/31/2018
B30: RUP VIGENTE Y EN FIRME | D30: VIGENTE Y EN FIRME
B31: DATOS FINANCIEROS TOMADOS DE CERTIFICADO RUP
B32: Activo corriente | D32: 2701848980
B33: Activo total | D33: 3309443647
B34: Pasivo corriente | D34: 486275243
B35: Pasivo total | D35: 720794098
B36: Patrimonio | D36: 2588649549
B37: Utilidad Operacional | D37: 412250858
B38: Gasto Intereses | D38: 58070570
B39: CALCULO DEL INDICADOR
B40: Capital de trabajo | D40: =D32-D34 -> 2215573737
B41: Liquidez | D41: =IF(D34=0,"INDETERMINADO",D32/D34) -> 5.5562133
B42: Nivel de Endeudamiento | D42: =D35/D33 -> 0.21779918
B43: Rentabilidad del Patrimonio | D43: =D37/D36 -> 0.15925325
B44: Rentabilidad del Activo | D44: =D37/D33 -> 0.12456802
B45: Cobertura de Intereses | D45: =IF(D38=0,"INDETERMINADO",D37/D38) -> 7.0991357
...

Sheet CONSORCIO V&M 010
C2: EVALUACIÓN DE REQUISITOS FINANCIEROS
B3: NÚMERO DE PROCESO
B4: CME 010 2020
B7: OBJETO | C7: ='DATOS DEL PROCESO'!C7:E7 -> INTERVENTORIA TÉCNICA, ADMINISTRATIVA, DE CONTROL FINANCIERO, PRESUPUESTAL, SOCIAL Y AMBIENTAL PARA EL CHEQUEO, VALIDACIÓN DE PROTOTIPOS, DIAGNÓSTICO, CONCERTACIÓN, INTERVENCIÓN Y GESTIÓN SOCIAL PARA LA EJECUCIÓN DEL PROGRAMA DE CONEXIONES INTRADOMICILIARIAS, EN LOS MUNICIPIOS DE MARÍA LA BAJA (BOLÍVAR) SABANAS DE SAN ANGEL (MAGDALENA), ASTREA (CESAR), TADÓ (CHOCÓ) y ATRATO
B8: POE | C8: 4.2465252e+08
B9: REQUISITOS DE CAPACIDAD FINANCIERA Y ORGANIZACIONAL | D9: OBSERVACIONES
B10: INDICADOR | C10: REQUERIMIENTO
B11: CAPITAL DE TRABAJO REQUERIDO DE VALOR TOTAL CONTRATO | C11: =C8*0.4 -> 1.6986101e+08 | D11: CONSORCIO SE PRESENTA A TODOS LOS GRUPOS. POR LO TANTO SE EVALUA RESPECTO A POE DEL GRUPO 4.NOTA: EMPRESA MEDINA &RIVERA NO PRESENTA RUP A CORTE DE 2018, POR LO TANTO NO SE PUEDE VERIFICAR INFORMACIÓN FINANCIERA DEL CONSORCIO.
B12: INDICE DE LIQUIDEZ REQUERIDO | C12: ='DATOS DEL PROCESO'!E12 -> 1.3
B13: NIVEL DE ENDEUDAMIENTO REQUERIDO | C13: ='DATOS DEL PROCESO'!E13 -> 0.7
B14: RENTABILIDAD DEL PATRIMONIO | C14: ='DATOS DEL PROCESO'!E14 -> 0.03
B15: RENTABILIDAD DEL ACTIVO | C15: ='DATOS DEL PROCESO'!E15 -> 0.02
B16: COBERTURA DE INTERESES | C16: ='DATOS DEL PROCESO'!E16 -> 1.3
B18: EVALUACIÓN
B19: OFERENTE
B20: OFERENTE | D20: CONSORCIO V&M 010
B21: INTEGRANTES | D21: VIASTOP S.A.S | E21: MEDINA & RIVERA INGENIEROS ASOCIADOS S.A.S
B22: OFERENTE PRURAL | D22: SI
B23: PORCENTAJE DE PARTICIPACION | D23: 0.5 | E23: 0.5
B24: DOCUMENTO REGISTRO UNICO DE PROPONENTES - RUP | D24: SI | E24: SI
B25: VERIFICACION DEL DOCUMENTO RUP
B26: NIT. | D26: 901218647 | E26: 830013230
B27: Clase de persona/sociedad | D27: JURIDICA | E27: JURIDICA
B28: Fecha de expedición certificado | D28: 43951 | E28: 43847
B29: Fecha de Inscripción o renovación | D29: 43508 | E29: 43564
B30: Corte información financiera | D30: 43465 | E30: 43131
B31: RUP VIGENTE Y EN FIRME | D31: VIGENTE Y EN FIRME | E31: VIGENTE Y EN FIRME
B32: DATOS FINANCIEROS TOMADOS DE CERTIFICADO RUP
B33: Activo corriente | D33: 971712508 | E33: 9263527884
B34: Activo total | D34: 971712508 | E34: 10030102752
B35: Pasivo corriente | D35: 46450933 | E35: 3728242942
B36: Pasivo total | D36: 46450933 | E36: 4057149021
B37: Patrimonio | D37: 925261575 | E37: 5972953731
B38: Utilidad Operacional | D38: 37469351 | E38: 1265144733
B39: Gasto Intereses | D39: 0 | E39: 171940966
B40: CALCULO DEL INDICADOR POR INTEGRANTE
B41: Capital de trabajo | D41: =D33-D35 -> 925261575 | E41: =E33-E35 -> 5535284942
B42: Liquidez | D42: =IF(D35=0,"INDETERMINADO",D33/D35) -> 20.919117 | E42: =IF(E35=0,"INDETERMINADO",E33/E35) -> 2.48469
B43: Nivel de Endeudamiento | D43: =D36/D34 -> 0.047803165 | E43: =E36/E34 -> 0.40449725
B44: Rentabilidad del Patrimonio | D44: =D38/D37 -> 0.040495955 | E44: =E38/E37 -> 0.21181224
...

Sheet ut intervent
C2: EVALUACIÓN DE REQUISITOS FINANCIEROS
B3: NÚMERO DE PROCESO
B4: CME 010 2020
B7: OBJETO | C7: ='DATOS DEL PROCESO'!C7:E7 -> INTERVENTORIA TÉCNICA, ADMINISTRATIVA, DE CONTROL FINANCIERO, PRESUPUESTAL, SOCIAL Y AMBIENTAL PARA EL CHEQUEO, VALIDACIÓN DE PROTOTIPOS, DIAGNÓSTICO, CONCERTACIÓN, INTERVENCIÓN Y GESTIÓN SOCIAL PARA LA EJECUCIÓN DEL PROGRAMA DE CONEXIONES INTRADOMICILIARIAS, EN LOS MUNICIPIOS DE MARÍA LA BAJA (BOLÍVAR) SABANAS DE SAN ANGEL (MAGDALENA), ASTREA (CESAR), TADÓ (CHOCÓ) y ATRATO
B8: POE | C8: 4.2465252e+08
B9: REQUISITOS DE CAPACIDAD FINANCIERA Y ORGANIZACIONAL | D9: OBSERVACIONES
B10: INDICADOR | C10: REQUERIMIENTO
B11: CAPITAL DE TRABAJO REQUERIDO DE VALOR TOTAL CONTRATO | C11: =C8*0.4 -> 1.6986101e+08 | D11: CONSORCIO SE PRESENTA A GRUPOS 4 Y 5. SE EVALUA SOBRE POE DEL GRUPO 4. NOTA: EMPRESA SUDANDINA FUE CONSTITUIDA EN EL AÑO 2020.
B12: INDICE DE LIQUIDEZ REQUERIDO | C12: ='DATOS DEL PROCESO'!E12 -> 1.3
B13: NIVEL DE ENDEUDAMIENTO REQUERIDO | C13: ='DATOS DEL PROCESO'!E13 -> 0.7
B14: RENTABILIDAD DEL PATRIMONIO | C14: ='DATOS DEL PROCESO'!E14 -> 0.03
B15: RENTABILIDAD DEL ACTIVO | C15: ='DATOS DEL PROCESO'!E15 -> 0.02
B16: COBERTURA DE INTERESES | C16: ='DATOS DEL PROCESO'!E16 -> 1.3
B18: EVALUACIÓN
B19: OFERENTE
B20: OFERENTE | D20: UT INTERVENTORÍA CONEXIONES INTRADOMICILIARIAS
B21: INTEGRANTES | D21: SUDANDINA DE INGENIERÍA S. A. S | E21: IAN CONSULTORES S. A. S
B22: OFERENTE PRURAL | D22: SI
B23: PORCENTAJE DE PARTICIPACION | D23: 0.51 | E23: 0.49
B24: DOCUMENTO REGISTRO UNICO DE PROPONENTES - RUP | D24: SI | E24: SI
B25: VERIFICACION DEL DOCUMENTO RUP
B26: NIT. | D26: 901.367.762-8 | E26: 901050848
B27: Clase de persona/sociedad | D27: JURIDICA | E27: JURIDICA
B28: Fecha de expedición certificado | D28: 43977 | E28: 43951
B29: Fecha de Inscripción o renovación | D29: 43906 | E29: 43572
B30: Corte información financiera | D30: 43869 | E30: 43131
B31: RUP VIGENTE Y EN FIRME | D31: VIGENTE Y EN FIRME | E31: VIGENTE Y EN FIRME
B32: DATOS FINANCIEROS TOMADOS DE CERTIFICADO RUP
B33: Activo corriente | D33: 500000000 | E33: 113125392
B34: Activo total | D34: 500000000 | E34: 136154446
B35: Pasivo corriente | D35: 0 | E35: 96004978
B36: Pasivo total | D36: 0 | E36: 96004978
B37: Patrimonio | D37: 500000000 | E37: 40149468
B38: Utilidad Operacional | D38: 0 | E38: 58756674
B39: Gasto Intereses | D39: 0 | E39: 3948304
B40: CALCULO DEL INDICADOR POR INTEGRANTE
B41: Capital de trabajo | D41: =D33-D35 -> 500000000 | E41: =E33-E35 -> 17120414
B42: Liquidez | D42: =IF(D35=0,"INDETERMINADO",D33/D35) -> INDETERMINADO | E42: =IF(E35=0,"INDETERMINADO",E33/E35) -> 1.1783284
B43: Nivel de Endeudamiento | D43: =D36/D34 -> 0 | E43: =E36/E34 -> 0.7051182
B44: Rentabilidad del Patrimonio | D44: =D38/D37 -> 0 | E44: =E38/E37 -> 1.4634484
...

Sheet CONSORCIO INTRA I 2020
C2: EVALUACIÓN DE REQUISITOS FINANCIEROS
B3: NÚMERO DE PROCESO
B4: CME 010-2020
B7: OBJETO | C7: ='DATOS DEL PROCESO'!C7:E7 -> INTERVENTORIA TÉCNICA, ADMINISTRATIVA, DE CONTROL FINANCIERO, PRESUPUESTAL, SOCIAL Y AMBIENTAL PARA EL CHEQUEO, VALIDACIÓN DE PROTOTIPOS, DIAGNÓSTICO, CONCERTACIÓN, INTERVENCIÓN Y GESTIÓN SOCIAL PARA LA EJECUCIÓN DEL PROGRAMA DE CONEXIONES INTRADOMICILIARIAS, EN LOS MUNICIPIOS DE MARÍA LA BAJA (BOLÍVAR) SABANAS DE SAN ANGEL (MAGDALENA), ASTREA (CESAR), TADÓ (CHOCÓ) y ATRATO
B8: POE | C8: 4.2465252e+08
B9: REQUISITOS DE CAPACIDAD FINANCIERA Y ORGANIZACIONAL | D9: OBSERVACIONES
B10: INDICADOR | C10: REQUERIMIENTO
B11: CAPITAL DE TRABAJO REQUERIDO DE VALOR TOTAL CONTRATO | C11: =C8*0.4 -> 1.6986101e+08 | D11: CONSORCIO SE PRESENTA A TODOS LOS GRUPOS. SE EVALUA SOBRE POE DEL GRUPO 4.
B12: INDICE DE LIQUIDEZ REQUERIDO | C12: ='DATOS DEL PROCESO'!E12 -> 1.3
B13: NIVEL DE ENDEUDAMIENTO REQUERIDO | C13: ='DATOS DEL PROCESO'!E13 -> 0.7
B14: RENTABILIDAD DEL PATRIMONIO | C14: ='DATOS DEL PROCESO'!E14 -> 0.03
B15: RENTABILIDAD DEL ACTIVO | C15: ='DATOS DEL PROCESO'!E15 -> 0.02
B16: COBERTURA DE INTERESES | C16: ='DATOS DEL PROCESO'!E16 -> 1.3
B18: EVALUACIÓN
B19: OFERENTE
B20: OFERENTE | D20: CONSORCIO INTRA I 2020
B21: INTEGRANTES | D21: CONSICIVIL S.A.S | E21: Ricardo Arturo Marín
B22: OFERENTE PRURAL | D22: SI
B23: PORCENTAJE DE PARTICIPACION | D23: 0.51 | E23: 0.49
B24: DOCUMENTO REGISTRO UNICO DE PROPONENTES - RUP | D24: SI | E24: SI
B25: VERIFICACION DEL DOCUMENTO RUP
B26: NIT. | D26: 901231444 | E26: 10029784
B27: Clase de persona/sociedad | D27: JURIDICA | E27: JURIDICA
B28: Fecha de expedición certificado | D28: 43951 | E28: 43954
B29: Fecha de Inscripción o renovación | D29: 43565 | E29: 43564
B30: Corte información financiera | D30: 43465 | E30: 43131
B31: RUP VIGENTE Y EN FIRME | D31: VIGENTE Y EN FIRME | E31: VIGENTE Y EN FIRME
B32: DATOS FINANCIEROS TOMADOS DE CERTIFICADO RUP
B33: Activo corriente | D33: 313009450 | E33: 163200000
B34: Activo total | D34: 313335350 | E34: 335700000
B35: Pasivo corriente | D35: 3420000 | E35: 12500000
B36: Pasivo total | D36: 3420000 | E36: 12500000
B37: Patrimonio | D37: 309915350 | E37: 323200000
B38: Utilidad Operacional | D38: 9915350 | E38: 26500000
B39: Gasto Intereses | D39: 0 | E39: 0
B40: CALCULO DEL INDICADOR POR INTEGRANTE
B41: Capital de trabajo | D41: =D33-D35 -> 309589450 | E41: =E33-E35 -> 150700000
B42: Liquidez | D42: =IF(D35=0,"INDETERMINADO",D33/D35) -> 91.523231 | E42: =IF(E35=0,"INDETERMINADO",E33/E35) -> 13.056
B43: Nivel de Endeudamiento | D43: =D36/D34 -> 0.010914823 | E43: =E36/E34 -> 0.037235627
B44: Rentabilidad del Patrimonio | D44: =D38/D37 -> 0.031993736 | E44: =E38/E37 -> 0.081992574
...

Sheet GNG INGENIERIA S.A.S
C2: EVALUACIÓN DE REQUISITOS FINANCIEROS
B3: NÚMERO DE PROCESO
B4: CAB 004-2020
B7: OBJETO | C7: ='DATOS DEL PROCESO'!C7:E7 -> INTERVENTORIA TÉCNICA, ADMINISTRATIVA, DE CONTROL FINANCIERO, PRESUPUESTAL, SOCIAL Y AMBIENTAL PARA EL CHEQUEO, VALIDACIÓN DE PROTOTIPOS, DIAGNÓSTICO, CONCERTACIÓN, INTERVENCIÓN Y GESTIÓN SOCIAL PARA LA EJECUCIÓN DEL PROGRAMA DE CONEXIONES INTRADOMICILIARIAS, EN LOS MUNICIPIOS DE MARÍA LA BAJA (BOLÍVAR) SABANAS DE SAN ANGEL (MAGDALENA), ASTREA (CESAR), TADÓ (CHOCÓ) y ATRATO
B8: POE | C8: 4.2465252e+08
B9: REQUISITOS DE CAPACIDAD FINANCIERA Y ORGANIZACIONAL | D9: OBSERVACIONES
B10: INDICADOR | C10: REQUERIMIENTO
B11: CAPITAL DE TRABAJO REQUERIDO DE VALOR TOTAL CONTRATO | C11: =C8*0.4 -> 1.6986101e+08 | D11: EMRPESA SE PRESENTA A TODOS LOS GRUPO. SE EVALUA SOBRE POE DEL GRUPO 4.
B12: INDICE DE LIQUIDEZ REQUERIDO | C12: ='DATOS DEL PROCESO'!E12 -> 1.3
B13: NIVEL DE ENDEUDAMIENTO REQUERIDO | C13: ='DATOS DEL PROCESO'!E13 -> 0.7
B14: RENTABILIDAD DEL PATRIMONIO | C14: ='DATOS DEL PROCESO'!E14 -> 0.03
B15: RENTABILIDAD DEL ACTIVO | C15: ='DATOS DEL PROCESO'!E15 -> 0.02
B16: COBERTURA DE INTERESES | C16: ='DATOS DEL PROCESO'!E16 -> 1.3
B18: EVALUACIÓN
B19: OFERENTE
B20: GNG INGENIERIA S.A.S
B22: OFERENTE PRURAL | D22: NO
B23: DOCUMENTO REGISTRO UNICO DE PROPONENTES - RUP | D23: SI
B24: VERIFICACION DEL DOCUMENTO RUP
B25: NIT. | D25: 830515117
B26: Clase de persona/sociedad | D26: JURIDICA
B27: Fecha de expedición certificado | D27: 43978
B28: Fecha de Inscripción o renovación | D28: 43535
B29: Corte información financiera | D29: 12/31/2018
B30: RUP VIGENTE Y EN FIRME | D30: VIGENTE Y EN FIRME
B31: DATOS FINANCIEROS TOMADOS DE CERTIFICADO RUP
B32: Activo corriente | D32: 6900913000
B33: Activo total | D33: 13764866000
B34: Pasivo corriente | D34: 1343290000
B35: Pasivo total | D35: 4575793000
B36: Patrimonio | D36: 9189073000
B37: Utilidad Operacional | D37: 3732456000
B38: Gasto Intereses | D38: 402523000
B39: CALCULO DEL INDICADOR
B40: Capital de trabajo | D40: =D32-D34 -> 5557623000
B41: Liquidez | D41: =IF(D34=0,"INDETERMINADO",D32/D34) -> 5.1373218
B42: Nivel de Endeudamiento | D42: =D35/D33 -> 0.33242554
B43: Rentabilidad del Patrimonio | D43: =D37/D36 -> 0.40618417
B44: Rentabilidad del Activo | D44: =D37/D33 -> 0.27115818
B45: Cobertura de Intereses | D45: =IF(D38=0,"INDETERMINADO",D37/D38) -> 9.2726527
...

Sheet CONSORCIO INTERCONEXIONES
C2: EVALUACIÓN DE REQUISITOS FINANCIEROS
B3: NÚMERO DE PROCESO
B4: ='DATOS DEL PROCESO'!B4:E5 -> CME 010 2020
B7: OBJETO | C7: ='DATOS DEL PROCESO'!C7:E7 -> INTERVENTORIA TÉCNICA, ADMINISTRATIVA, DE CONTROL FINANCIERO, PRESUPUESTAL, SOCIAL Y AMBIENTAL PARA EL CHEQUEO, VALIDACIÓN DE PROTOTIPOS, DIAGNÓSTICO, CONCERTACIÓN, INTERVENCIÓN Y GESTIÓN SOCIAL PARA LA EJECUCIÓN DEL PROGRAMA DE CONEXIONES INTRADOMICILIARIAS, EN LOS MUNICIPIOS DE MARÍA LA BAJA (BOLÍVAR) SABANAS DE SAN ANGEL (MAGDALENA), ASTREA (CESAR), TADÓ (CHOCÓ) y ATRATO
B8: POE | C8: 4.2465252e+08
B9: REQUISITOS DE CAPACIDAD FINANCIERA Y ORGANIZACIONAL | D9: OBSERVACIONES
B10: INDICADOR | C10: REQUERIMIENTO
B11: CAPITAL DE TRABAJO REQUERIDO DE VALOR TOTAL CONTRATO | C11: =C8*0.4 -> 1.6986101e+08 | D11: CONSORCIO SE PRESENTA A TODOS LOS GRUPOS, SE CALCULA SOBRE POE DEL GRUPO 4.
B12: INDICE DE LIQUIDEZ REQUERIDO | C12: ='DATOS DEL PROCESO'!E12 -> 1.3
B13: NIVEL DE ENDEUDAMIENTO REQUERIDO | C13: ='DATOS DEL PROCESO'!E13 -> 0.7
B14: RENTABILIDAD DEL PATRIMONIO | C14: ='DATOS DEL PROCESO'!E14 -> 0.03
B15: RENTABILIDAD DEL ACTIVO | C15: ='DATOS DEL PROCESO'!E15 -> 0.02
B16: COBERTURA DE INTERESES | C16: ='DATOS DEL PROCESO'!E16 -> 1.3
B18: EVALUACIÓN
B19: OFERENTE
B20: OFERENTE | D20: CONSORCIO INTERCONEXIONES
B21: INTEGRANTES | D21: CLEMENTE ALFREDO BUITRAGO AMARILLO | E21: BALER INGENIERIA SAS | F21: GEAGOR SAS | G21: EDISON SEGUNDO DUQUE GUZMAN
B22: OFERENTE PRURAL | D22: SI
B23: PORCENTAJE DE PARTICIPACION | D23: 0.34 | E23: 0.2 | F23: 0.23 | G23: 0.23
B24: DOCUMENTO REGISTRO UNICO DE PROPONENTES - RUP | D24: SI | E24: SI | F24: SI
B25: VERIFICACION DEL DOCUMENTO RUP
B26: NIT. | D26: 19483980 | E26: 900264015 | F26: 900544313 | G26: 79505720
B27: Clase de persona/sociedad | D27: JURIDICA | E27: JURIDICA | F27: JURIDICA | G27: NATURAL
B28: Fecha de expedición certificado | D28: 43979 | E28: 43956 | F28: 43956 | G28: 43979
B29: Fecha de Inscripción o renovación | D29: 43559 | E29: 43544 | F29: 43543 | G29: 43578
B30: Corte información financiera | D30: 43465 | E30: 43465 | F30: 43465 | G30: 43465
B31: RUP VIGENTE Y EN FIRME | D31: VIGENTE Y EN FIRME | E31: VIGENTE Y EN FIRME | F31: VIGENTE Y EN FIRME | G31: VIGENTE Y EN FIRME
B32: DATOS FINANCIEROS TOMADOS DE CERTIFICADO RUP
B33: Activo corriente | D33: 1679294368 | E33: 321177249 | F33: 208076116 | G33: 233426720
B34: Activo total | D34: 2934241368 | E34: 415750795 | F34: 214673216 | G34: 454926720
B35: Pasivo corriente | D35: 1288992343 | E35: 49657874 | F35: 34412085 | G35: 3500000
B36: Pasivo total | D36: 1288992343 | E36: 49657874 | F36: 59412085 | G36: 118113134
B37: Patrimonio | D37: 1645249025 | E37: 366092921 | F37: 155261131 | G37: 336813585
B38: Utilidad Operacional | D38: 302082237 | E38: 112564195 | F38: 66205820 | G38: 162435018
B39: Gasto Intereses | D39: 66906555 | E39: 252216 | F39: 856550 | G39: 0
B40: CALCULO DEL INDICADOR POR INTEGRANTE
B41: Capital de trabajo | D41: =D33-D35 -> 390302025 | E41: =E33-E35 -> 271519375 | F41: =F33-F35 -> 173664031 | G41: =G33-G35 -> 229926720
B42: Liquidez | D42: =IF(D35=0,"INDETERMINADO",D33/D35) -> 1.3027962 | E42: =IF(E35=0,"INDETERMINADO",E33/E35) -> 6.467801 | F42: =IF(F35=0,"INDETERMINADO",F33/F35) -> 6.0466001 | G42: =IF(G35=0,"INDETERMINADO",G33/G35) -> 66.693349
B43: Nivel de Endeudamiento | D43: =D36/D34 -> 0.43929322 | E43: =E36/E34 -> 0.11944144 | F43: =F36/F34 -> 0.27675593 | G43: =G36/G34 -> 0.25963112
B44: Rentabilidad del Patrimonio | D44: =D38/D37 -> 0.18360882 | E44: =E38/E37 -> 0.30747438 | F44: =F38/F37 -> 0.42641593 | G44: =G38/G37 -> 0.48226979
...

Sheet INGENIERIA MASTER SAS
C2: EVALUACIÓN DE REQUISITOS FINANCIEROS
B3: NÚMERO DE PROCESO
B4: CME 010 2020
B7: OBJETO | C7: ='DATOS DEL PROCESO'!C7:E7 -> INTERVENTORIA TÉCNICA, ADMINISTRATIVA, DE CONTROL FINANCIERO, PRESUPUESTAL, SOCIAL Y AMBIENTAL PARA EL CHEQUEO, VALIDACIÓN DE PROTOTIPOS, DIAGNÓSTICO, CONCERTACIÓN, INTERVENCIÓN Y GESTIÓN SOCIAL PARA LA EJECUCIÓN DEL PROGRAMA DE CONEXIONES INTRADOMICILIARIAS, EN LOS MUNICIPIOS DE MARÍA LA BAJA (BOLÍVAR) SABANAS DE SAN ANGEL (MAGDALENA), ASTREA (CESAR), TADÓ (CHOCÓ) y ATRATO
B8: POE | C8: 1.2846717e+08
B9: REQUISITOS DE CAPACIDAD FINANCIERA Y ORGANIZACIONAL | D9: OBSERVACIONES
B10: INDICADOR | C10: REQUERIMIENTO
B11: CAPITAL DE TRABAJO REQUERIDO DE VALOR TOTAL CONTRATO | C11: =C8*0.4 -> 51386870 | D11: EMPRESA SE PRESENTA A GRUPOS 1 Y 3. SE CALCULA INDICADOR SOBRE POE DEL GRUPO 1.
B12: INDICE DE LIQUIDEZ REQUERIDO | C12: ='DATOS DEL PROCESO'!E12 -> 1.3
B13: NIVEL DE ENDEUDAMIENTO REQUERIDO | C13: ='DATOS DEL PROCESO'!E13 -> 0.7
B14: RENTABILIDAD DEL PATRIMONIO | C14: ='DATOS DEL PROCESO'!E14 -> 0.03
B15: RENTABILIDAD DEL ACTIVO | C15: ='DATOS DEL PROCESO'!E15 -> 0.02
B16: COBERTURA DE INTERESES | C16: ='DATOS DEL PROCESO'!E16 -> 1.3
B18: EVALUACIÓN
B19: OFERENTE
B20: INGENIERIA MASTER SAS
B22: OFERENTE PRURAL | D22: NO
B23: DOCUMENTO REGISTRO UNICO DE PROPONENTES - RUP | D23: SI
B24: VERIFICACION DEL DOCUMENTO RUP
B25: NIT. | D25: 900.915.689-6
B26: Clase de persona/sociedad | D26: JURIDICA
B27: Fecha de expedición certificado | D27: 43963
B28: Fecha de Inscripción o renovación | D28: 43507
B29: Corte información financiera | D29: 12/31/2018
B30: RUP VIGENTE Y EN FIRME | D30: VIGENTE Y EN FIRME
B31: DATOS FINANCIEROS TOMADOS DE CERTIFICADO RUP
B32: Activo corriente | D32: 3626304972
B33: Activo total | D33: 4618976915
B34: Pasivo corriente | D34: 98705787
B35: Pasivo total | D35: 237944298
B36: Patrimonio | D36: 4381032617
B37: Utilidad Operacional | D37: 1344826510
B38: Gasto Intereses | D38: 40893228
B39: CALCULO DEL INDICADOR
B40: Capital de trabajo | D40: =D32-D34 -> 3527599185
B41: Liquidez | D41: =IF(D34=0,"INDETERMINADO",D32/D34) -> 36.738524
B42: Nivel de Endeudamiento | D42: =D35/D33 -> 0.051514503
B43: Rentabilidad del Patrimonio | D43: =D37/D36 -> 0.30696565
B44: Rentabilidad del Activo | D44: =D37/D33 -> 0.29115246
B45: Cobertura de Intereses | D45: =IF(D38=0,"INDETERMINADO",D37/D38) -> 32.886289
...

Sheet ING INGENIERIA SAS
C2: EVALUACIÓN DE REQUISITOS FINANCIEROS
B3: NÚMERO DE PROCESO
B4: CME 010 2020
B7: OBJETO | C7: ='DATOS DEL PROCESO'!C7:E7 -> INTERVENTORIA TÉCNICA, ADMINISTRATIVA, DE CONTROL FINANCIERO, PRESUPUESTAL, SOCIAL Y AMBIENTAL PARA EL CHEQUEO, VALIDACIÓN DE PROTOTIPOS, DIAGNÓSTICO, CONCERTACIÓN, INTERVENCIÓN Y GESTIÓN SOCIAL PARA LA EJECUCIÓN DEL PROGRAMA DE CONEXIONES INTRADOMICILIARIAS, EN LOS MUNICIPIOS DE MARÍA LA BAJA (BOLÍVAR) SABANAS DE SAN ANGEL (MAGDALENA), ASTREA (CESAR), TADÓ (CHOCÓ) y ATRATO
B8: POE | C8: 1.2846717e+08
B9: REQUISITOS DE CAPACIDAD FINANCIERA Y ORGANIZACIONAL | D9: OBSERVACIONES
B10: INDICADOR | C10: REQUERIMIENTO
B11: CAPITAL DE TRABAJO REQUERIDO DE VALOR TOTAL CONTRATO | C11: =C8*0.4 -> 51386870 | D11: EMPRESA SE PRESENTA A GRUPOS 1 ,2, Y 3. SE CALCULA SOBRE POE DEL GRUPO 1.
B12: INDICE DE LIQUIDEZ REQUERIDO | C12: ='DATOS DEL PROCESO'!E12 -> 1.3
B13: NIVEL DE ENDEUDAMIENTO REQUERIDO | C13: ='DATOS DEL PROCESO'!E13 -> 0.7
B14: RENTABILIDAD DEL PATRIMONIO | C14: ='DATOS DEL PROCESO'!E14 -> 0.03
B15: RENTABILIDAD DEL ACTIVO | C15: ='DATOS DEL PROCESO'!E15 -> 0.02
B16: COBERTURA DE INTERESES | C16: ='DATOS DEL PROCESO'!E16 -> 1.3
B18: EVALUACIÓN
B19: OFERENTE
B20: ING INGENIERIA SAS
B22: OFERENTE PRURAL | D22: NO
B23: DOCUMENTO REGISTRO UNICO DE PROPONENTES - RUP | D23: SI
B24: VERIFICACION DEL DOCUMENTO RUP
B25: NIT.
B26: Clase de persona/sociedad | D26: JURIDICA
B27: Fecha de expedición certificado | D27: 43978
B28: Fecha de Inscripción o renovación | D28: 41768
B29: Corte información financiera | D29: 12/31/2018
B30: RUP VIGENTE Y EN FIRME | D30: VIGENTE Y EN FIRME
B31: DATOS FINANCIEROS TOMADOS DE CERTIFICADO RUP
B32: Activo corriente | D32: 4453027746
B33: Activo total | D33: 5392257683
B34: Pasivo corriente | D34: 995242509
B35: Pasivo total | D35: 3177986192
B36: Patrimonio | D36: 2214271491
B37: Utilidad Operacional | D37: 977539668
B38: Gasto Intereses | D38: 265251189
B39: CALCULO DEL INDICADOR
B40: Capital de trabajo | D40: =D32-D34 -> 3457785237
B41: Liquidez | D41: =IF(D34=0,"INDETERMINADO",D32/D34) -> 4.4743143
B42: Nivel de Endeudamiento | D42: =D35/D33 -> 0.58936097
B43: Rentabilidad del Patrimonio | D43: =D37/D36 -> 0.44147236
B44: Rentabilidad del Activo | D44: =D37/D33 -> 0.18128579
B45: Cobertura de Intereses | D45: =IF(D38=0,"INDETERMINADO",D37/D38) -> 3.6853357
...

Sheet CONSORCIO INTERDESARROLLO 010.
C2: EVALUACIÓN DE REQUISITOS FINANCIEROS
B3: NÚMERO DE PROCESO
B4: CME 010-2020
B7: OBJETO | C7: ='DATOS DEL PROCESO'!C7:E7 -> INTERVENTORIA TÉCNICA, ADMINISTRATIVA, DE CONTROL FINANCIERO, PRESUPUESTAL, SOCIAL Y AMBIENTAL PARA EL CHEQUEO, VALIDACIÓN DE PROTOTIPOS, DIAGNÓSTICO, CONCERTACIÓN, INTERVENCIÓN Y GESTIÓN SOCIAL PARA LA EJECUCIÓN DEL PROGRAMA DE CONEXIONES INTRADOMICILIARIAS, EN LOS MUNICIPIOS DE MARÍA LA BAJA (BOLÍVAR) SABANAS DE SAN ANGEL (MAGDALENA), ASTREA (CESAR), TADÓ (CHOCÓ) y ATRATO
B8: POE | C8: 4.2465252e+08
B9: REQUISITOS DE CAPACIDAD FINANCIERA Y ORGANIZACIONAL | D9: OBSERVACIONES
B10: INDICADOR | C10: REQUERIMIENTO
B11: CAPITAL DE TRABAJO REQUERIDO DE VALOR TOTAL CONTRATO | C11: =C8*0.4 -> 1.6986101e+08 | D11: CONSORCIO SE PRESENTA A TODOS LOS GRUPOS. SE CALCULA SOBRE POE DEL GRUPO 4.
B12: INDICE DE LIQUIDEZ REQUERIDO | C12: ='DATOS DEL PROCESO'!E12 -> 1.3
B13: NIVEL DE ENDEUDAMIENTO REQUERIDO | C13: ='DATOS DEL PROCESO'!E13 -> 0.7
B14: RENTABILIDAD DEL PATRIMONIO | C14: ='DATOS DEL PROCESO'!E14 -> 0.03
B15: RENTABILIDAD DEL ACTIVO | C15: ='DATOS DEL PROCESO'!E15 -> 0.02
B16: COBERTURA DE INTERESES | C16: ='DATOS DEL PROCESO'!E16 -> 1.3
B18: EVALUACIÓN
B19: OFERENTE
B20: OFERENTE | D20: CONSORCIO INTERDESARROLLO 010.
B21: INTEGRANTES | D21: JORGE ALVARO SANCHEZ BLANCO | E21: ARM CONSULTING LTDA
B22: OFERENTE PRURAL | D22: SI
B23: PORCENTAJE DE PARTICIPACION | D23: 0.5 | E23: 0.5
B24: DOCUMENTO REGISTRO UNICO DE PROPONENTES - RUP | D24: SI | E24: SI
B25: VERIFICACION DEL DOCUMENTO RUP
B26: NIT. | D26: 7978587 | E26: 822007239
B27: Clase de persona/sociedad | D27: JURIDICA | E27: JURIDICA
B28: Fecha de expedición certificado | D28: 43950 | E28: 43956
B29: Fecha de Inscripción o renovación | D29: 43584 | E29: 43593
B30: Corte información financiera | D30: 43465 | E30: 43131
B31: RUP VIGENTE Y EN FIRME | D31: VIGENTE Y EN FIRME | E31: VIGENTE Y EN FIRME
B32: DATOS FINANCIEROS TOMADOS DE CERTIFICADO RUP
B33: Activo corriente | D33: 3250099307 | E33: 3910671000
B34: Activo total | D34: 4487778518 | E34: 4703801000
B35: Pasivo corriente | D35: 1575128132 | E35: 775563000
B36: Pasivo total | D36: 1890543379 | E36: 2922510000
B37: Patrimonio | D37: 2597235139 | E37: 1781291000
B38: Utilidad Operacional | D38: 540467184 | E38: 848693000
B39: Gasto Intereses | D39: 25437397 | E39: 185820000
B40: CALCULO DEL INDICADOR POR INTEGRANTE
B41: Capital de trabajo | D41: =D33-D35 -> 1674971175 | E41: =E33-E35 -> 3135108000
B42: Liquidez | D42: =IF(D35=0,"INDETERMINADO",D33/D35) -> 2.0633873 | E42: =IF(E35=0,"INDETERMINADO",E33/E35) -> 5.0423641
B43: Nivel de Endeudamiento | D43: =D36/D34 -> 0.42126486 | E43: =E36/E34 -> 0.62130817
B44: Rentabilidad del Patrimonio | D44: =D38/D37 -> 0.20809328 | E44: =E38/E37 -> 0.47644826
...
