Workbook
Name _: #REF!
Name _: #REF!
Name _: #REF!
Name ___AFC1: [1]INV!$A$25:$D$28
Name ___AFC3: [1]INV!$F$25:$I$28
Name ___AFC5: [1]INV!$K$25:$N$28
Name ___BGC1: [1]INV!$A$5:$D$8
Name ___BGC3: [1]INV!$F$5:$I$8
Name ___BGC5: [1]INV!$K$5:$N$8
Name ___CAC1: [1]INV!$A$19:$D$22
Name ___CAC3: [1]INV!$F$19:$I$22
Name ___CAC5: [1]INV!$K$19:$N$22
Name ___EST1: #REF!
Name ___EST1: #REF!
Name ___EST1: #REF!
Name ___EST10: #REF!
Name ___EST10: #REF!
Name ___EST10: #REF!
Name ___EST11: #REF!
Name ___EST11: #REF!
Name ___EST11: #REF!
Name ___EST12: #REF!
Name ___EST12: #REF!
Name ___EST13: #REF!
Name ___EST13: #REF!
Name ___EST14: #REF!
Name ___EST14: #REF!
Name ___EST15: #REF!
Name ___EST15: #REF!
Name ___EST16: #REF!
Name ___EST16: #REF!
Name ___EST17: #REF!
Name ___EST17: #REF!
Name ___EST18: #REF!
Name ___EST18: #REF!
Name ___EST19: #REF!
Name ___EST19: #REF!
Name ___EST2: #REF!
Name ___EST2: #REF!
Name ___EST3: #REF!
Name ___EST3: #REF!
Name ___EST4: #REF!
Name ___EST4: #REF!
Name ___EST5: #REF!
Name ___EST5: #REF!
Name ___EST6: #REF!
Name ___EST6: #REF!
Name ___EST7: #REF!
Name ___EST7: #REF!
Name ___EST8: #REF!
Name ___EST8: #REF!
Name ___EST9: #REF!
Name ___EST9: #REF!
Name ___EXC1: #REF!
Name ___EXC1: #REF!
Name ___EXC10: #REF!
Name ___EXC10: #REF!
Name ___EXC11: #REF!
Name ___EXC11: #REF!
Name ___EXC12: #REF!

Sheet CONSOLIDACIÓN
A1: FONDO FINANCIERO DE PROYECTOS DE DESARROLLO – FONADE
A2: CONSORCIO ALIANZA TURÍSTICA – FONDO DE PROMOCIÓN TURÍSTICA - FONTUR
A4: CONVENIO INTERADMINISTRATIVO DE GERENCIA DE PROYECTOS Nº 212085
A6: OFERTA CERRADA OCC 023-2015
A9: INTERVENTORÍA TÉCNICA, ADMINISTRATIVA Y DE CONTROL PRESUPUESTAL A LA INTERVENCIÓN DE LA PRIMERA ETAPA DE LA RESTAURACIÓN INTEGRAL DEL TEATRO DE SANTA MARTA D.T.C.H DEPARTAMENTO DE MAGDALENA
A12: AUDIENCIA DE CIERRE - ORDEN
A16: No | B16: OFERENTE | C16: BALOTA XXXX CONSOLIDACIÓN OFERENTES

Sheet LISTA DE OFERENTES
B1: ='VERIFICACION OFERTA ECONOMICA'!A1 -> EMPRESA NACIONAL PROMOTORA DEL DESARROLLO TERRITORIAL – ENTerritorio
B2: ='VERIFICACION OFERTA ECONOMICA'!A2 -> CLIENTE MINISTERIO DE VIVIENDA, CIUDAD Y TERRITORIO CONTRATO INTERADMINISTRATIVO DE GERENCIA DE PROYECTOS No. 859-2019 (Numeración ENTerritorio 219141)
B4: ='VERIFICACION OFERTA ECONOMICA'!#REF! -> #REF!
B6: ='VERIFICACION OFERTA ECONOMICA'!A4 -> CONVOCATORIA MERITORIA CME 010-2020
B8: ='VERIFICACION OFERTA ECONOMICA'!A6 -> OBJETO INTERVENTORIA TÉCNICA, ADMINISTRATIVA, DE CONTROL FINANCIERO, PRESUPUESTAL, SOCIAL Y AMBIENTAL PARA EL CHEQUEO, VALIDACIÓN DE PROTOTIPOS, DIAGNÓSTICO, CONCERTACIÓN, INTERVENCIÓN Y GESTIÓN SOCIAL PARA LA EJECUCIÓN DEL PROGRAMA DE CONEXIONES INTRADOMICILIARIAS, EN LOS MUNICIPIOS DE MARÍA LA BAJA (BOLÍVAR) SABANAS DE SAN ANGEL (MAGDALENA), ASTREA (CESAR), TADÓ (CHOCÓ) y ATRATO (CHOCÓ) GRUPO 5. ATRATO – CHOCÓ
D11: Presupuesto Total
C12: POE: | D12: 844368720
C13: POE - ETAPA B
B15: Factor Multipl. ATAPA B | D15: 2.02
B17: Nº | C17: OFERENTE | D17: BALOTA XXXXXX ORDEN DE OFERENTES EN CASO DE EMPATE | E17: VALOR DE LA INTERVENTORIA ETAPA B | F17: VALOR OFERTA ECONÓMICA | G17: FACTOR MULTIPLICADOR ETAPA B
B18: 1 | C18: =CONSOLIDACIÓN!B17 -> 0 | G18: 2.15
B19: 2 | C19: =CONSOLIDACIÓN!B18 -> 0 | G19: 2.9
B20: 3 | C20: =CONSOLIDACIÓN!B19 -> 0 | G20: 2.3
B21: 4 | C21: =CONSOLIDACIÓN!B20 -> 0 | G21: 2.5
B22: 5 | C22: =CONSOLIDACIÓN!B21 -> 0

Sheet VERIFICACION OFERTA ECONOMICA
A1: EMPRESA NACIONAL PROMOTORA DEL DESARROLLO TERRITORIAL – ENTerritorio
A2: CLIENTE MINISTERIO DE VIVIENDA, CIUDAD Y TERRITORIO CONTRATO INTERADMINISTRATIVO DE GERENCIA DE PROYECTOS No. 859-2019 (Numeración ENTerritorio 219141)
A4: CONVOCATORIA MERITORIA CME 010-2020
A6: OBJETO INTERVENTORIA TÉCNICA, ADMINISTRATIVA, DE CONTROL FINANCIERO, PRESUPUESTAL, SOCIAL Y AMBIENTAL PARA EL CHEQUEO, VALIDACIÓN DE PROTOTIPOS, DIAGNÓSTICO, CONCERTACIÓN, INTERVENCIÓN Y GESTIÓN SOCIAL PARA LA EJECUCIÓN DEL PROGRAMA DE CONEXIONES INTRADOMICILIARIAS, EN LOS MUNICIPIOS DE MARÍA LA BAJA (BOLÍVAR) SABANAS DE SAN ANGEL (MAGDALENA), ASTREA (CESAR), TADÓ (CHOCÓ) y ATRATO (CHOCÓ) GRUPO 5. ATRATO – CHOCÓ
A8: OFERTA ECONÓMICA
A10: PRESUPUESTO OFICIAL - GRUPO 5 | B10: 4.244526e+08
A12: INTERVENTORÍA DURANTE LA ETAPA 1: PRE-CONSTRUCCIÓN | B12: =43329889+8232679 -> 51562568
A13: INTERVENTORÍA DURANTE LA ETAPA 2: EJECUCIÓN Y ENTREGA DE OBRAS | B13: =296555104+56345470 -> 352900574
A15: OFERENTE | C15: GNG INGENIERIA S.A.S.
A17: DESCRIPCIÓN | C17: VALOR TOTAL
A18: VALOR INTERVENTORÍA GRUPO 5 SIN IVA | C18: 356682840
A19: IVA (19%) GRUPO 5 | C19: =+ROUND(C18*0.19,2) -> 67769740
A20: VALOR TOTAL OFERTA ECONÓMICA | C20: =+C18+C19 -> 4.2445258e+08 | D20: =+C20<=B10 -> TRUE
A23: OFERENTE | B23: 2 | C23: =+#REF! -> #REF!
A25: SUBTOTAL CONSULTORIA | B25: 0 | C25: =+ROUND((B25),0) -> 0
A26: IVA 19% | B26: =ROUND((0.16*B25),0) -> 0
A27: VALOR TOTAL INTERVENTORIA | C27: =+B26+C25 -> 0
A29: OFERENTE | B29: =1+B23 -> 3 | C29: =+'LISTA DE OFERENTES'!C21 -> 0
A31: SUBTOTAL CONSULTORIA | B31: 0 | C31: =+ROUND((B31),0) -> 0
A32: IVA 16% | B32: =ROUND((0.16*B31),0) -> 0
A33: VALOR TOTAL CONSULTORIA | C33: =+B32+C31 -> 0
A35: OFERENTE | B35: =1+B29 -> 4 | C35: =+'LISTA DE OFERENTES'!C22 -> 0
A37: SUBTOTAL CONSULTORIA | B37: 0 | C37: =+ROUND((B37),0) -> 0
A38: IVA 16% | B38: =ROUND((0.16*B37),0) -> 0
A39: VALOR TOTAL CONSULTORIA | C39: =+B38+C37 -> 0

Sheet Formato 7A
A1: =+'VERIFICACION OFERTA ECONOMICA'!A6 -> OBJETO INTERVENTORIA TÉCNICA, ADMINISTRATIVA, DE CONTROL FINANCIERO, PRESUPUESTAL, SOCIAL Y AMBIENTAL PARA EL CHEQUEO, VALIDACIÓN DE PROTOTIPOS, DIAGNÓSTICO, CONCERTACIÓN, INTERVENCIÓN Y GESTIÓN SOCIAL PARA LA EJECUCIÓN DEL PROGRAMA DE CONEXIONES INTRADOMICILIARIAS, EN LOS MUNICIPIOS DE MARÍA LA BAJA (BOLÍVAR) SABANAS DE SAN ANGEL (MAGDALENA), ASTREA (CESAR), TADÓ (CHOCÓ) y ATRATO (CHOCÓ) GRUPO 5. ATRATO – CHOCÓ
A4: OFERENTE | B4: 1 | C4: =+'VERIFICACION OFERTA ECONOMICA'!C15 -> GNG INGENIERIA S.A.S. | J4: F.M. | K4: 2.01 | L4: REGLAS DE PARTICIPACION | M4: =+IF(OR(E12>(K4*1.05),E12<(K4*0.95)),"NO CUMPLE","CUMPLE") -> CUMPLE
J5: PLAZO | K5: 6 | L5: MESES
J7: FORMATO 11 | L7: =+'Formato 11'!D68 -> 2 | M7: =+E12=L7 -> TRUE
A8: FORMATO 07A - GRUPO 5 DISCRIMINADO OFERTA ECONÓMICA | K8: 0.95 | L8: =+K4*K8 -> 1.9095
A9: PERSONAL PROFESIONAL | K9: 1.05 | L9: =+K4*K9 -> 2.1105
A10: CONCEPTO | B10: A | C10: B | D10: C | E10: D | F10: E | G10: F
A11: Personal Profesional | B11: Cantidad | C11: Sueldo Mes Básico | D11: % Dedicación | E11: F.M. (%) | F11: Valor Mes (AxBxCxD) | G11: No. Meses | H11: Total Parcial (ExF)
A12: Director de Interventoría | B12: 1 | C12: 5552162 | D12: 0.5 | E12: 2 | F12: =ROUND(B12*C12*D12*E12,2) -> 5552162 | G12: 6 | H12: =ROUND(F12*G12,0) -> 33312972 | L12: 5844380 | M12: =+IF(OR(C12>(L12*1.05),C12<(L12*0.95)),"NO CUMPLE","CUMPLE") -> CUMPLE
A13: Residente de Interventoria | B13: 1 | C13: 4466668 | D13: 1 | E13: =+$E$12 -> 2 | F13: =ROUND(B13*C13*D13*E13,2) -> 8933336 | G13: =+G12 -> 6 | H13: =ROUND(F13*G13,0) -> 53600016 | L13: 4701755 | M13: =+IF(OR(C13>(L13*1.05),C13<(L13*0.95)),"NO CUMPLE","CUMPLE") -> CUMPLE
A14: Especialista Estructural | B14: 1 | C14: 4466668 | D14: 0.1 | E14: =+$E$12 -> 2 | F14: =ROUND(B14*C14*D14*E14,2) -> 893333.6 | G14: =+G13 -> 6 | H14: =ROUND(F14*G14,0) -> 5360002 | L14: 4701755 | M14: =+IF(OR(C14>(L14*1.05),C14<(L14*0.95)),"NO CUMPLE","CUMPLE") -> CUMPLE
A15: Profesional Social | B15: 1 | C15: 4466668 | D15: 1 | E15: =+$E$12 -> 2 | F15: =ROUND(B15*C15*D15*E15,2) -> 8933336 | G15: =+G14 -> 6 | H15: =ROUND(F15*G15,0) -> 53600016 | L15: 4701755 | M15: =+IF(OR(C15>(L15*1.05),C15<(L15*0.95)),"NO CUMPLE","CUMPLE") -> CUMPLE
A16: Profesional Social de Apoyo | B16: 1 | C16: 3378346 | D16: 1 | E16: =+$E$12 -> 2 | F16: =ROUND(B16*C16*D16*E16,2) -> 6756692 | G16: =+G15 -> 6 | H16: =ROUND(F16*G16,0) -> 40540152 | L16: 3556153 | M16: =+IF(OR(C16>(L16*1.05),C16<(L16*0.95)),"NO CUMPLE","CUMPLE") -> CUMPLE
A17: Profesional de Calidad | B17: 1 | C17: 3378346 | D17: 0.5 | E17: =+$E$12 -> 2 | F17: =ROUND(B17*C17*D17*E17,2) -> 3378346 | G17: =+G15 -> 6 | H17: =ROUND(F17*G17,0) -> 20270076 | L17: 3556153 | M17: =+IF(OR(C17>(L17*1.05),C17<(L17*0.95)),"NO CUMPLE","CUMPLE") -> CUMPLE
A18: Profesional Auxiliar de Interventoría | B18: 1 | C18: 3378346 | D18: 1 | E18: =+$E$12 -> 2 | F18: =ROUND(B18*C18*D18*E18,2) -> 6756692 | G18: =+G16 -> 6 | H18: =ROUND(F18*G18,0) -> 40540152 | L18: 3556153 | M18: =+IF(OR(C18>(L18*1.05),C18<(L18*0.95)),"NO CUMPLE","CUMPLE") -> CUMPLE
A20: SUBTOTAL COSTO PERSONAL PROFESIONAL (1) | H20: =SUM(H12:H19) -> 247223386
A21: PERSONAL TÉCNICO
A22: Personal Técnico | B22: Cantidad | C22: Sueldo Mes Básico | D22: % Dedicación | E22: F.M. % | F22: Valor Mes (AxBxCxD) | G22: No. Meses | H22: Total Parcial (ExF)
A23: Inspector de Interventoría | B23: 2 | C23: 1836550 | D23: 1 | E23: =+$E$12 -> 2 | F23: =ROUND(B23*C23*D23*E23,2) -> 7346200 | G23: =+G12 -> 6 | H23: =ROUND(F23*G23,2) -> 44077200 | L23: 1933210 | M23: =+IF(OR(C23>(L23*1.05),C23<(L23*0.95)),"NO CUMPLE","CUMPLE") -> CUMPLE
A24: Técnico PGIO | B24: 1 | C24: 1836550 | D24: 1 | E24: =+$E$12 -> 2 | F24: =ROUND(B24*C24*D24*E24,2) -> 3673100 | G24: =+G13 -> 6 | H24: =ROUND(F24*G24,2) -> 22038600 | L24: 1933210 | M24: =+IF(OR(C24>(L24*1.05),C24<(L24*0.95)),"NO CUMPLE","CUMPLE") -> CUMPLE
E25: =+$E$12 -> 2 | F25: =ROUND(B25*C25*D25*E25,2) -> 0 | G25: =+G14 -> 6 | H25: =ROUND(F25*G25,2) -> 0 | L25: 1197010.4 | M25: =+IF(OR(C25>(L25*1.05),C25<(L25*0.95)),"NO CUMPLE","CUMPLE") -> NO CUMPLE
E26: =+$E$12 -> 2 | F26: =ROUND(B26*C26*D26*E26,2) -> 0 | G26: =+G15 -> 6 | H26: =ROUND(F26*G26,2) -> 0 | L26: 877803 | M26: =+IF(OR(C26>(L26*1.05),C26<(L26*0.95)),"NO CUMPLE","CUMPLE") -> NO CUMPLE
E27: =+$E$12 -> 2 | F27: =ROUND(B27*C27*D27*E27,2) -> 0 | G27: =+G16 -> 6 | H27: =ROUND(F27*G27,2) -> 0 | L27: 1091010.4 | M27: =+IF(OR(C27>(L27*1.05),C27<(L27*0.95)),"NO CUMPLE","CUMPLE") -> NO CUMPLE
E28: =+$E$12 -> 2 | F28: =ROUND(B28*C28*D28*E28,2) -> 0 | G28: =+G18 -> 6 | H28: =ROUND(F28*G28,2) -> 0 | L28: 1281810.4 | M28: =+IF(OR(C28>(L28*1.05),C28<(L28*0.95)),"NO CUMPLE","CUMPLE") -> NO CUMPLE
A30: SUBTOTAL COSTO PERSONAL TECNICO (2) | H30: =SUM(H23:H29) -> 66115800
A31: COSTOS INDIRECTOS
A32: Costos indirectos | D32: UND | F32: Cantidad | G32: Vr. Unitario | H32: Total
H33: 43343654
H34: =ROUND(G34*F34,0) -> 0
H35: =ROUND(G35*F35,0) -> 0
H36: =ROUND(G36*F36,0) -> 0
H37: =ROUND(G37*F37,0) -> 0
H38: =ROUND(G38*F38,0) -> 0
H39: =ROUND(G39*F39,0) -> 0
H40: =ROUND(G40*F40,0) -> 0
H41: =ROUND(G41*F41,0) -> 0
H42: =ROUND(G42*F42,0) -> 0
H43: =ROUND(G43*F43,0) -> 0
A45: SUBTOTAL COSTOS INDIRECTOS (3) | H45: =SUM(H33:H44) -> 43343654
A46: RESUMEN GENERAL
...

Sheet Formato 11
A1: =+'Formato 7A'!A1 -> OBJETO INTERVENTORIA TÉCNICA, ADMINISTRATIVA, DE CONTROL FINANCIERO, PRESUPUESTAL, SOCIAL Y AMBIENTAL PARA EL CHEQUEO, VALIDACIÓN DE PROTOTIPOS, DIAGNÓSTICO, CONCERTACIÓN, INTERVENCIÓN Y GESTIÓN SOCIAL PARA LA EJECUCIÓN DEL PROGRAMA DE CONEXIONES INTRADOMICILIARIAS, EN LOS MUNICIPIOS DE MARÍA LA BAJA (BOLÍVAR) SABANAS DE SAN ANGEL (MAGDALENA), ASTREA (CESAR), TADÓ (CHOCÓ) y ATRATO (CHOCÓ) GRUPO 5. ATRATO – CHOCÓ
A4: OFERENTE | B4: 1 | C4: =+'Formato 7A'!C4 -> GNG INGENIERIA S.A.S.
A9: ITEM | B9: DESCRIPCION | D9: %
A10: A | B10: Salario Básico (Nómina Total Mensual) | D10: 1
A11: B | B11: Prestaciones Sociales | D11: =SUM(C12:C36) -> 0.5134
C12: 0.0833
C13: 0.0833
C14: 0.001
C15: 0.0112
C16: 0.05
C17: 0.0696
C18: 0.12
C19: 0.04
C20: 0.005
C21: 0.005
C22: 0.015
C23: 0.02
... C25: 0.005
A38: C | B38: Costos Indirectos | D38: =SUM(C39:C61) -> 0.2466
C39: 0.015
C40: 0.03
C41: 0.019
C42: 0.013
C43: 0.0116
C44: 0.01
C45: 0.015
C46: 0.01
C47: 0.004
C48: 0.01
C49: 0.001
C50: 0.004
... C61: 0.01
A66: D | B66: Honorarios | D66: 0.24
A68: FACTOR MULTIPLICADOR (A+B+C+D) | D68: =+D66+D38+D11+D10 -> 2
