Workbook

Sheet Oferente 3
C2: EXPERIENCIA DEL PROPONENTE
C5: NOMBRE DEL OFERENTE | H5: SECOB LTDA
C7: PRESUPUESTO DEL LOTE MÁXIMO AL QUE PARTICIPAN (en SMMLV) | H7: 1072.8034
C8: VALOR 30% | H8: =H7*0.3 -> 321.84103
C9: VALOR REQUERIDO EN SMMLV
C11: contar con 5 años de experiencia en interventoría o en la construcción y montaje de proyectos del sector eléctrico, de los cuales como mínimo debe incluir un (1) año de experiencia específica en proyectos de generación o distribución de energía eléctrica, cuya sumatoria se igual o superior al 30% del valor del mayor lote ofertado | J11: =IF(BB28>=5,"HABILITA: CUENTA CON MÁS DE 5 AÑOS","NO HABILITA POR TIEMPO") -> HABILITA: CUENTA CON MÁS DE 5 AÑOS | AU11: =IF(BB28>=5,"HABILITA: CUENTA CON MÁS DE 5 AÑOS","NO HABILITA POR TIEMPO") -> HABILITA: CUENTA CON MÁS DE 5 AÑOS
C13: CONTRATOS DE EXPERIENCIA MÍNIMA PARA HABILITARSE (ANEXO 7) | Q13: CONTRATOS QUE ACREDITAN EXPERIENCIA EN FOTOVOLTAICO (ANEXO 8) | AB13: CONTRATOS QUE ACREDITAN EXPERIENCIA ADICIONAL EN ELECTRICOS NO FOTOVOLTAICO (ANEXO 8) | AN13: CONTRATOS DE EXPERIENCIA MÍNIMA PARA HABILITARSE (ANEXO 7)
C14: OBJETO DEL CONTRATO | D14: ENTIDAD CONTRATANTE O EMPLEADORA | E14: CONSECUTIVO EN EL RUP | F14: CODIGO UNSPSC | G14: VALOR CONTRATO | H14: VALOR DEL CONTRATO TOTAL EN SMMLV | I14: % PARTICIPACIÓN CONSORCIO | J14: ACUMULADO SMMLV | K14: HABILITADO | L14: OBSERVACIONES | M14: CÓDIGO UNSPSC | N14: NOMBRE | Q14: OBJETO DEL CONTRATO | R14: ENTIDAD CONTRATANTE O EMPLEADORA | S14: CONSECUTIVO EN EL RUP | T14: CODIGO UNSPSC | U14: VALOR CONTRATO | V14: VALOR DEL CONTRATO TOTAL EN SMMLV | W14: % PARTICIPACIÓN CONSORCIO | X14: ACUMULADO SMMLV | Y14: OBSERVACIONES | AB14: OBJETO DEL CONTRATO | AC14: ENTIDAD CONTRATANTE O EMPLEADORA | AD14: CONSECUTIVO EN EL RUP | AE14: CODIGO UNSPSC | AF14: VALOR CONTRATO | AG14: VALOR DEL CONTRATO TOTAL EN SMMLV | AH14: % PARTICIPACIÓN CONSORCIO | AI14: ACUMULADO SMMLV | AJ14: OBSERVACIONES | AN14: OBJETO DEL CONTRATO | AO14: ENTIDAD CONTRATANTE O EMPLEADORA | AP14: CONSECUTIVO EN EL RUP | AQ14: CODIGO UNSPSC | AR14: VALOR CONTRATO | AS14: VALOR DEL CONTRATO TOTAL EN SMMLV | AT14: % PARTICIPACIÓN CONSORCIO | AU14: ACUMULADO SMMLV | AV14: HABILITADO | AW14: OBSERVACIONES | AX14: FECHA DE INICIO ORIGINAL | AY14: FECHA FIN ORIGINAL | AZ14: FECHA DE INICIO AJUSTE TRASLAPOS | BA14: FECHA FIN AJUSTE TRASLAPOS | BB14: AÑOS DE EXPERIENCIA
B15: 1 | C15: INTERVENTORÍA TÉCNICA, AMBIENTAL, JURÍDICA, ADMINISTRATIVA Y FINANCIERA AL PROYECTO OPERACIÓN, MANTENIMIENTO, REPOSICIÓN Y EXPANSIÓN DEL SISTEMA DE ALUMBRADO PÚBLICO EN LA REDES DE INFRAESTRUCTURA ELÉCTRICA EXCLUSIVAS Y COMPARTIDAS DEL MUNICIPIO DE YOPAL - DEPARTAMENTO DE CASANARE | D15: MUNICIPIO DE YOPAL | E15: 62 | F15: 80101500 - 80101600 - 81101700 - 83101800 - 81101500 | G15: 103024643 | H15: 124.41 | I15: 1 | J15: =H15*I15 -> 124.41 | K15: =IF(H15*I15>0,"HABILITADO", "NO HABILITADO") -> HABILITADO | L15: De conformidad con la nota 7 del numeral 3.2.3. a.1 no podrá ser acumulable la experiencia obtenida en varios proyectos en un mismo periodo de tiempo. Se toma como fecha de inicio 30/11/2018 ya que la experiencia No. 1 se traslapa con la No. 2 en el periodo comprendido entre el 1/08/2018 al 29/11/2018 | M15: 80101500 | N15: Servicios de consultoría y administración corporativa | P15: 1 | X15: =V15*W15 -> 0 | AA15: 1 | AI15: =AG15*AH15 -> 0 | AM15: 1 | AN15: INTERVENTORÍA TÉCNICA, AMBIENTAL, JURÍDICA, ADMINISTRATIVA Y FINANCIERA AL PROYECTO OPERACIÓN, MANTENIMIENTO, REPOSICIÓN Y EXPANSIÓN DEL SISTEMA DE ALUMBRADO PÚBLICO EN LA REDES DE INFRAESTRUCTURA ELÉCTRICA EXCLUSIVAS Y COMPARTIDAS DEL MUNICIPIO DE YOPAL - DEPARTAMENTO DE CASANARE | AO15: MUNICIPIO DE YOPAL | AP15: 62 | AQ15: 80101500 - 80101600 - 81101700 - 83101800 - 81101500 | AR15: 103024643 | AS15: 124.41 | AT15: 1 | AU15: =AS15*AT15 -> 124.41 | AV15: =IF(AS15*AT15>0,"HABILITADO", "NO HABILITADO") -> HABILITADO | AW15: Se toma como fecha de inicio 30/11/2018 ya que la experiencia No. 1 se traslapa con la No. 2 en el periodo comprendido entre el 1/08/2018 al 29/11/2018 | AX15: 43313 | AY15: 43568 | AZ15: 43434 | BA15: 43568 | BB15: =+(BA15-AZ15+1)/365 -> 0.36986301
B16: 2 | C16: REALIZAR INTERVENTORÍA TÉCNICA, ADMINISTRATIVA, FINANCIERA Y AMBIENTAL AL CONTRATO QUE TIENE POR OBJETO: AMPLIACIÓN DE LAS REDES DE MEDIA Y BAJA TENSIÓN DE LAS VEREDAS CUNEQUE, EL PALMAR Y SAN CAYETADO DEL MUNICIPIO DE TAMARA CASANARE, ORINOQUIA | D16: Empresa de Energía de Casanare - ENERCA S.A. ESP. | E16: 57 | F16: 80101500 - 80101600 - 81101700 - 83101800 - 81101500 | G16: 65549438 | H16: 83.9 | I16: 1 | J16: =J15+H16*I16 -> 208.31 | K16: =IF(H16*I16>0,"HABILITADO", "NO HABILITADO") -> HABILITADO | M16: 80101600 | N16: Servicios de consultoría y administración corporativa | P16: 2 | X16: =X15+V16*W16 -> 0 | AA16: 2 | AI16: =AI15+AG16*AH16 -> 0 | AM16: 2 | AN16: REALIZAR INTERVENTORÍA TÉCNICA, ADMINISTRATIVA, FINANCIERA Y AMBIENTAL AL CONTRATO QUE TIENE POR OBJETO: AMPLIACIÓN DE LAS REDES DE MEDIA Y BAJA TENSIÓN DE LAS VEREDAS CUNEQUE, EL PALMAR Y SAN CAYETADO DEL MUNICIPIO DE TAMARA CASANARE, ORINOQUIA | AO16: Empresa de Energía de Casanare - ENERCA S.A. ESP. | AP16: 57 | AQ16: 80101500 - 80101600 - 81101700 - 83101800 - 81101500 | AR16: 65549438 | AS16: 83.9 | AT16: 1 | AU16: =AU15+AS16*AT16 -> 208.31 | AV16: =IF(AS16*AT16>0,"HABILITADO", "NO HABILITADO") -> HABILITADO | AX16: 42993 | AY16: 43433 | AZ16: 42993 | BA16: 43433 | BB16: =+(BA16-AZ16+1)/365 -> 1.2082192
B17: 3 | C17: INTERVENTORÍA TECNICA, ADMINISTRATIVA, FINANCIERA, CONTABLE, JURIDICA Y AMBIENTAL AL CONTRATO QUE TIENE POR OBJETO "AMPLIACIÓN REDES ELÉCTRICAS DE MEDIA Y BAJA TENSIÓN, MONTAJE DE TRANSFORMADORES PARA LA ELECTRIFICACIÓN DE LAS VEREDAS: LA CURAMA, EL BANCO, EL VERDE, SAN ISIDRO, MATALARGA, LA MAPORA, EL GARZÓN Y LA PLATA, MUNICIPIO DE PORE, DEPARTAMENTO DE CASANARE" | D17: Empresa de Energía de Casanare - ENERCA S.A. ESP. | E17: 49 | F17: 80101500 - 80101600 - 81101700 - 83101800 - 81101500 | G17: 98581978 | H17: 142.98 | I17: 1 | J17: =J16+H17*I17 -> 351.29 | K17: =IF(H17*I17>0,"HABILITADO", "NO HABILITADO") -> HABILITADO | L17: De conformidad con la nota 7 del numeral 3.2.3. a.1 no podrá ser acumulable la experiencia obtenida en varios proyectos en un mismo periodo de tiempo. Se toma como fecha de inicio 12/11/2016 ya que la experiencia No. 3 se traslapa con la No. 4 en el periodo comprendido entre el 15/01/2016 al 14/10/2016 y la No. 6 del 15/10/2016 al 11/11/2016 | M17: 81101500 | N17: Ingenieria Civil y arquitectura | P17: 3 | X17: =X16+V17*W17 -> 0 | AA17: 3 | AI17: =AI16+AG17*AH17 -> 0 | AM17: 3 | AN17: INTERVENTORÍA TECNICA, ADMINISTRATIVA, FINANCIERA, CONTABLE, JURIDICA Y AMBIENTAL AL CONTRATO QUE TIENE POR OBJETO "AMPLIACIÓN REDES ELÉCTRICAS DE MEDIA Y BAJA TENSIÓN, MONTAJE DE TRANSFORMADORES PARA LA ELECTRIFICACIÓN DE LAS VEREDAS: LA CURAMA, EL BANCO, EL VERDE, SAN ISIDRO, MATALARGA, LA MAPORA, EL GARZÓN Y LA PLATA, MUNICIPIO DE PORE, DEPARTAMENTO DE CASANARE" | AO17: Empresa de Energía de Casanare - ENERCA S.A. ESP. | AP17: 49 | AQ17: 80101500 - 80101600 - 81101700 - 83101800 - 81101500 | AR17: 98581978 | AS17: 142.98 | AT17: 1 | AU17: =AU16+AS17*AT17 -> 351.29 | AV17: =IF(AS17*AT17>0,"HABILITADO", "NO HABILITADO") -> HABILITADO | AW17: Se toma como fecha de inicio 12/11/2016 ya que la experiencia No. 3 se traslapa con la No. 4 en el periodo comprendido entre el 15/01/2016 al 14/10/2016 y la No. 6 del 15/10/2016 al 11/11/2016 | AX17: 42384 | AY17: 42718 | AZ17: 42686 | BA17: 42718 | BB17: =+(BA17-AZ17+1)/365 -> 0.090410959
B18: 4 | C18: INTERVENTORIA TÉCNICA, ADMINISTRATIVA, FINANCIERA Y AMBIENTAL AL CONTRATO QUE TIENE POR OBJETO: CONSTRUCCIÓN, RECONFIGURACIÓN Y REPOTENCIACIÓN SUBESTACIÓN YOPAL 115-34,5-13,8 KV YOPAL, CASANARE, ORINOQUIA | D18: Empresa de Energía de Casanare - ENERCA S.A. ESP. | E18: 44 | F18: 80101500 - 80101600 - 81101700 - 81101500 | G18: 774859580 | H18: 1123.87 | I18: 0.05 | J18: =J17+H18*I18 -> 407.4835 | K18: =IF(H18*I18>0,"HABILITADO", "NO HABILITADO") -> HABILITADO | M18: 81101700 | N18: Ingeniería Eléctrica y Electrónica | P18: 4 | X18: =X17+V18*W18 -> 0 | AA18: 4 | AI18: =AI17+AG18*AH18 -> 0 | AM18: 4 | AN18: INTERVENTORIA TÉCNICA, ADMINISTRATIVA, FINANCIERA Y AMBIENTAL AL CONTRATO QUE TIENE POR OBJETO: CONSTRUCCIÓN, RECONFIGURACIÓN Y REPOTENCIACIÓN SUBESTACIÓN YOPAL 115-34,5-13,8 KV YOPAL, CASANARE, ORINOQUIA | AO18: Empresa de Energía de Casanare - ENERCA S.A. ESP. | AP18: 44 | AQ18: 80101500 - 80101600 - 81101700 - 81101500 | AR18: 774859580 | AS18: 1123.87 | AT18: 0.05 | AU18: =AU17+AS18*AT18 -> 407.4835 | AV18: =IF(AS18*AT18>0,"HABILITADO", "NO HABILITADO") -> HABILITADO | AX18: 41859 | AY18: 42657 | AZ18: 41859 | BA18: 42657 | BB18: =+(BA18-AZ18+1)/365 -> 2.1890411
B19: 5 | C19: INTERVENTORIA TECNICA, ADMINISTRATIVA, FINANCIERA, AMBIENTAL CONTABLE Y LEGAL A LA AMPLIACIÓN DE REDES ELÉCTRICAS DE MEDIA Y BAJA TENSIÓN EN LAS VEREDAS SURIMENA, PRADERA Y GUARIMENA DEL MUNICIPIO DE OROCUE DEPARTAMENTO DE CASANARE. | D19: Empresa de Energía de Casanare - ENERCA S.A. ESP. | E19: 38 | F19: 80101500 - 80101600 - 81101700 - 81101500 | G19: 203933893 | H19: 316.5 | I19: 1 | J19: =J18+H19*I19 -> 723.9835 | K19: =IF(H19*I19>0,"HABILITADO", "NO HABILITADO") -> HABILITADO | L19: De conformidad con la nota 7 del numeral 3.2.3. a.1 no podrá ser acumulable la experiencia obtenida en varios proyectos en un mismo periodo de tiempo. Se toma como fecha de finalización 7/08/2014 , ya que el periodo comprendido entre el 8/08/2014 al 4/02/2016 se traslapa con las experiencias No. 6 y 8 | M19: 83101800 | N19: Servicios Eléctricos | P19: 5 | X19: =X18+V19*W19 -> 0 | AA19: 5 | AI19: =AI18+AG19*AH19 -> 0 | AM19: 5 | AN19: INTERVENTORIA TECNICA, ADMINISTRATIVA, FINANCIERA, AMBIENTAL CONTABLE Y LEGAL A LA AMPLIACIÓN DE REDES ELÉCTRICAS DE MEDIA Y BAJA TENSIÓN EN LAS VEREDAS SURIMENA, PRADERA Y GUARIMENA DEL MUNICIPIO DE OROCUE DEPARTAMENTO DE CASANARE. | AO19: Empresa de Energía de Casanare - ENERCA S.A. ESP. | AP19: 38 | AQ19: 80101500 - 80101600 - 81101700 - 81101500 | AR19: 203933893 | AS19: 316.5 | AT19: 1 | AU19: =AU18+AS19*AT19 -> 723.9835 | AV19: =IF(AS19*AT19>0,"HABILITADO", "NO HABILITADO") -> HABILITADO | AW19: Se toma como fecha de finalización 7/08/2014 , ya que el periodo comprendido entre el 8/08/2014 al 4/02/2016 se traslapa con las experiencias No. 6 y 8 | AX19: 41848 | AY19: 42404 | AZ19: 41848 | BA19: 41856 | BB19: =+(BA19-AZ19+1)/365 -> 0.024657534
B20: 6 | C20: INTERVENTORÍA TÉCNICA, ADMINISTRATIVA, FINANCIERA, CONTABLE, JURIDICA Y AMBIENTAL AL CONTRATO QUE CONTIEN COMO OBJETO "INSTALACIÓN DE REDES ELECTRICAS DE MEDIA Y BAJA TENSIÓN EN LAS VEREDAS LOS ALPES, PIAGUTA, COMOGO, VIJAGUAL, SAN RAFAEL, CERRO RICO, Y SAN FRANCISCO MUNICIPIO DE RECETOR DEPARTAMENTO DE CASANARE" | D20: Empresa de Energía de Casanare - ENERCA S.A. ESP. | E20: 45 | F20: 80101500 - 80101600 - 81101700 - 81101500 | G20: 166177094 | H20: 241.03 | I20: 1 | J20: =J19+H20*I20 -> 965.0135 | K20: =IF(H20*I20>0,"HABILITADO", "NO HABILITADO") -> HABILITADO | L20: De conformidad con la nota 7 del numeral 3.2.3. a.1 no podrá ser acumulable la experiencia obtenida en varios proyectos en un mismo periodo de tiempo. 5-06-2015 al 14/10/2016 se traslapa con la experiencia No. 4 | P20: 6 | X20: =X19+V20*W20 -> 0 | AA20: 6 | AI20: =AI19+AG20*AH20 -> 0 | AM20: 6 | AN20: INTERVENTORÍA TÉCNICA, ADMINISTRATIVA, FINANCIERA, CONTABLE, JURIDICA Y AMBIENTAL AL CONTRATO QUE CONTIEN COMO OBJETO "INSTALACIÓN DE REDES ELECTRICAS DE MEDIA Y BAJA TENSIÓN EN LAS VEREDAS LOS ALPES, PIAGUTA, COMOGO, VIJAGUAL, SAN RAFAEL, CERRO RICO, Y SAN FRANCISCO MUNICIPIO DE RECETOR DEPARTAMENTO DE CASANARE" | AO20: Empresa de Energía de Casanare - ENERCA S.A. ESP. | AP20: 45 | AQ20: 80101500 - 80101600 - 81101700 - 81101500 | AR20: 166177094 | AS20: 241.03 | AT20: 1 | AU20: =AU19+AS20*AT20 -> 965.0135 | AV20: =IF(AS20*AT20>0,"HABILITADO", "NO HABILITADO") -> HABILITADO | AW20: 5-06-2015 al 14/10/2016 se traslapa con la experiencia No. 4 | AX20: 42160 | AY20: 42685 | AZ20: 42658 | BA20: 42685 | BB20: =+(BA20-AZ20+1)/365 -> 0.076712329
B21: 7 | C21: REALIZAR LA INTERVENTORÍA TÉCNICA, ADMINISTRATIVA, FINANCIERA Y AMBIENTAL AL CONTRATO QUE TIENE POR OBJETO CONSTRUCCIÓN DE REDES ELÉCTRICAS DE MEDIA Y BAJA TENSIÓN Y MONTAJE DE SUBESTACIONES DE DISTRIBUCIÓN PARA LAS VEREDAS: BARQUEREÑA, GUANAPALO, ESPERANZA, LAS CALLES, SOCORRO, MACUCO, PALMARITO, SANTA HERCILIA, MEREY, LA SELVA, PALESTINA, GARRANCHO, MORICHAL, LAS CAÑAS, BENDICIÓN, CANYARO, LOS PATOS Y CRISTO REY DEL MUNICIPIO DE SAN LUIS DE PALENQUE DE CASANARE | D21: MUNICIPIO DE SAN LUIS DE PALENQUE | E21: 40 | F21: 80101500 - 80101600 - 81101700 - 81101500 | G21: 149542326 | H21: 216.9 | I21: 0 | J21: =J20+H21*I21 -> 965.0135 | K21: =IF(H21*I21>0,"HABILITADO", "NO HABILITADO") -> NO HABILITADO | L21: De conformidad con la nota 7 del numeral 3.2.3. a.1 no podrá ser acumulable la experiencia obtenida en varios proyectos en un mismo periodo de tiempo. Se traslapa completamente con la experiencia No. 4 | P21: 7 | X21: =X20+V21*W21 -> 0 | AA21: 7 | AI21: =AI20+AG21*AH21 -> 0 | AM21: 7 | AN21: REALIZAR LA INTERVENTORÍA TÉCNICA, ADMINISTRATIVA, FINANCIERA Y AMBIENTAL AL CONTRATO QUE TIENE POR OBJETO CONSTRUCCIÓN DE REDES ELÉCTRICAS DE MEDIA Y BAJA TENSIÓN Y MONTAJE DE SUBESTACIONES DE DISTRIBUCIÓN PARA LAS VEREDAS: BARQUEREÑA, GUANAPALO, ESPERANZA, LAS CALLES, SOCORRO, MACUCO, PALMARITO, SANTA HERCILIA, MEREY, LA SELVA, PALESTINA, GARRANCHO, MORICHAL, LAS CAÑAS, BENDICIÓN, CANYARO, LOS PATOS Y CRISTO REY DEL MUNICIPIO DE SAN LUIS DE PALENQUE DE CASANARE | AO21: MUNICIPIO DE SAN LUIS DE PALENQUE | AP21: 40 | AQ21: 80101500 - 80101600 - 81101700 - 81101500 | AR21: 149542326 | AS21: 216.9 | AT21: 0 | AU21: =AU20+AS21*AT21 -> 965.0135 | AV21: =IF(AS21*AT21>0,"HABILITADO", "NO HABILITADO") -> NO HABILITADO | AW21: Se traslapa completamente con la experiencia No. 4 | AX21: 41886 | AY21: 42410 | AZ21: 41886 | BA21: 42410 | BB21: 0
B22: 8 | C22: INTERVENTORÍA TÉCNICA, ADMINISTRATIVA, FINANCIERA Y AMBIENTAL AL CONTRATO QUE TIENE POR OBJETO CONSTRUCCIÓN, REPOTENCIACIÓN RED EN DOBLE CIRCUITO 34,5/13,8 KV YOPAL - MORICHAL | D22: Empresa de Energía de Casanare - ENERCA S.A. ESP. | E22: 37 | F22: 80101500 - 80101600 - 81101700 - 81101500 | G22: 140641682 | H22: 218.27 | I22: 1 | J22: =J21+H22*I22 -> 1183.2835 | K22: =IF(H22*I22>0,"HABILITADO", "NO HABILITADO") -> HABILITADO | L22: De conformidad con la nota 7 del numeral 3.2.3. a.1 no podrá ser acumulable la experiencia obtenida en varios proyectos en un mismo periodo de tiempo. Se toma como fecha de finalización 7/8/2014, ya que se traslapa con la experiencia No. 4 del 8/08/2014 al 30/12/2015 | P22: 8 | X22: =X21+V22*W22 -> 0 | AA22: 8 | AI22: =AI21+AG22*AH22 -> 0 | AM22: 8 | AN22: INTERVENTORÍA TÉCNICA, ADMINISTRATIVA, FINANCIERA Y AMBIENTAL AL CONTRATO QUE TIENE POR OBJETO CONSTRUCCIÓN, REPOTENCIACIÓN RED EN DOBLE CIRCUITO 34,5/13,8 KV YOPAL - MORICHAL | AO22: Empresa de Energía de Casanare - ENERCA S.A. ESP. | AP22: 37 | AQ22: 80101500 - 80101600 - 81101700 - 81101500 | AR22: 140641682 | AS22: 218.27 | AT22: 1 | AU22: =AU21+AS22*AT22 -> 1183.2835 | AV22: =IF(AS22*AT22>0,"HABILITADO", "NO HABILITADO") -> HABILITADO | AW22: Se toma como fecha de finalización 7/8/2014, ya que se traslapa con la experiencia No. 4 del 8/08/2014 al 30/12/2015 | AX22: 41857 | AY22: 42368 | AZ22: 41857 | BA22: 41858 | BB22: =+(BA22-AZ22+1)/365 -> 0.0054794521
B23: 9 | C23: REALIZAR SUPERVISION A LA INTERVENTORIA DERIVADA DE LOS CONTRATOS QUE TIENEN POR OBJETO: 1. CONSTRUCCIÓN DE SUBESTACIÓN ELECTRICA DE 20 MVA A 115/34,5/13,2 KV Y AMPLIACIÓN PARA RECONFIGURACIÓN DE LA RED DE 34,5 - 13,2 KV EN EL MUNICIPIO DE AGUAZUL, DEPARTAMENTO DE CASANARE. 2. CONSTRUCCIÓN LINEA DE 34,5 PARA ALIMENTAR LA SUBESTACIÓNN DE LA VEREDA LA ESPERANZA Y LAS REDES DE LAS VEREDAS SAN JOAQUIN, CHAPARRITO, GUASIMAL, EL CALVARIO, BELGICA, LA ESPERANZA, LA MORITA, EL CONVENTO, EL TORO, EL PALMAR, LA REFORMA, LA UNION DE COJOMU, CARDONCITO Y SANTA IRENE DEL MUNICIPIO DE TRINIDAD DEL DEPARTAMENTO DE CASANARE. 2. CONSTRUCCIÓN DE REDES DE MEDIA Y BAJA TENSIÓN EN LAS VEREDAS SAN LUIS DEL ARIPORO, EL SARARE, SANTA MARTA Y LA COLOMBINA DE MUNICIPIO DE PAZ DE ARIPORO DEPARTAMENTO DE CASANARE. | D23: Gobernación de Casanare | E23: 1 | F23: 80101500 - 80101600 - 81101700 - 81101500 | G23: 237637364 | H23: 382.49 | I23: 0 | J23: =J22+H23*I23 -> 1183.2835 | K23: =IF(H23*I23>0,"HABILITADO", "NO HABILITADO") -> NO HABILITADO | P23: 9 | X23: =X22+V23*W23 -> 0 | AA23: 9 | AI23: =AI22+AG23*AH23 -> 0 | AM23: 9 | AN23: REALIZAR SUPERVISION A LA INTERVENTORIA DERIVADA DE LOS CONTRATOS QUE TIENEN POR OBJETO: 1. CONSTRUCCIÓN DE SUBESTACIÓN ELECTRICA DE 20 MVA A 115/34,5/13,2 KV Y AMPLIACIÓN PARA RECONFIGURACIÓN DE LA RED DE 34,5 - 13,2 KV EN EL MUNICIPIO DE AGUAZUL, DEPARTAMENTO DE CASANARE. 2. CONSTRUCCIÓN LINEA DE 34,5 PARA ALIMENTAR LA SUBESTACIÓNN DE LA VEREDA LA ESPERANZA Y LAS REDES DE LAS VEREDAS SAN JOAQUIN, CHAPARRITO, GUASIMAL, EL CALVARIO, BELGICA, LA ESPERANZA, LA MORITA, EL CONVENTO, EL TORO, EL PALMAR, LA REFORMA, LA UNION DE COJOMU, CARDONCITO Y SANTA IRENE DEL MUNICIPIO DE TRINIDAD DEL DEPARTAMENTO DE CASANARE. 2. CONSTRUCCIÓN DE REDES DE MEDIA Y BAJA TENSIÓN EN LAS VEREDAS SAN LUIS DEL ARIPORO, EL SARARE, SANTA MARTA Y LA COLOMBINA DE MUNICIPIO DE PAZ DE ARIPORO DEPARTAMENTO DE CASANARE. | AO23: Gobernación de Casanare | AP23: 1 | AQ23: 80101500 - 80101600 - 81101700 - 81101500 | AR23: 237637364 | AS23: 382.49 | AT23: 0 | AU23: =AU22+AS23*AT23 -> 1183.2835 | AV23: =IF(AS23*AT23>0,"HABILITADO", "NO HABILITADO") -> NO HABILITADO | AX23: 40542 | AY23: 41086 | AZ23: 40542 | BA23: 41086
B24: 10 | C24: INTERVENTORIA TÉCNICA A LA CONSTRUCCIÓN DE LA ZONA DE EXPANSIÓN URBANA UNO I ETAPA Y LA AMPLIACIÓN DE REDES ELÉCTRICAS EN LAS VEREDAS ESMERALDA II ETAPA Y PIÑALITO SECTOR ALTO Y JUVE DEL MUNICIPIO DE TAURAMENA. | D24: Municipio de Tauramena | E24: 2 | F24: 80101500 - 80101600 - 81101700 - 81101500 | G24: 85069699 | H24: 142.4 | I24: 1 | J24: =J23+H24*I24 -> 1325.6835 | K24: =IF(H24*I24>0,"HABILITADO", "NO HABILITADO") -> HABILITADO | L24: De conformidad con la nota 7 del numeral 3.2.3. a.1 no podrá ser acumulable la experiencia obtenida en varios proyectos en un mismo periodo de tiempo. Se toma como fecha de finalización el 5/09/2010, ya que se traslapa con la expereiencia No. 11 entre el 06/09/2010 al 26/11/2010 | P24: 10 | X24: =X23+V24*W24 -> 0 | AA24: 10 | AI24: =AI23+AG24*AH24 -> 0 | AM24: 10 | AN24: INTERVENTORIA TÉCNICA A LA CONSTRUCCIÓN DE LA ZONA DE EXPANSIÓN URBANA UNO I ETAPA Y LA AMPLIACIÓN DE REDES ELÉCTRICAS EN LAS VEREDAS ESMERALDA II ETAPA Y PIÑALITO SECTOR ALTO Y JUVE DEL MUNICIPIO DE TAURAMENA. | AO24: Municipio de Tauramena | AP24: 2 | AQ24: 80101500 - 80101600 - 81101700 - 81101500 | AR24: 85069699 | AS24: 142.4 | AT24: 1 | AU24: =AU23+AS24*AT24 -> 1325.6835 | AV24: =IF(AS24*AT24>0,"HABILITADO", "NO HABILITADO") -> HABILITADO | AW24: Se toma como fecha de finalización el 5/09/2010, ya que se traslapa con la expereiencia No. 11 entre el 06/09/2010 al 26/11/2010 | AX24: 40177 | AY24: 40508 | AZ24: 40177 | BA24: 40426 | BB24: =+(BA24-AZ24+1)/365 -> 0.68493151
B25: 11 | C25: REALIZAR INTERVENTORIA TÉCNICA, ADMINISTRATIVA, FINANCIERA Y AMBIENTAL A LOS CONTRATOS QUE TIENEN POR OBJETO; 1. AMPLIACIÓN DE REDES EN MEDIA Y BAJA TENSIÓN EN LA URBANIZACIÓN SAN JERONIMO MUNICIPIO DE HATO COROZAL DEPARTAMENTO DE CASANARE; 2. AMPLIACIÓN DE REDES ELÉCTRICAS DE MEDIA Y BAJA TENSIÓN EN LA VEREDA SANTA TERESA, LA FLORIDA DEL MUNICIPIO DE HATO COROZAL DEPARTAMENTO DE CASANARE. | D25: Gobernación de Casanare | E25: 26 | F25: 80101500 - 80101600 - 81101700 - 81101500 | G25: 43768345 | H25: 73.26 | I25: 1 | J25: =J24+H25*I25 -> 1398.9435 | K25: =IF(H25*I25>0,"HABILITADO", "NO HABILITADO") -> HABILITADO | L25: De conformidad con la nota 7 del numeral 3.2.3. a.1 no podrá ser acumulable la experiencia obtenida en varios proyectos en un mismo periodo de tiempo. Se toma como fecha de finalización 29/12/2010, ya que se traslapa con la experiencia No. 9 del 30/12/2010 al 05/01/2011 | P25: 11 | X25: =X24+V25*W25 -> 0 | AA25: 11 | AI25: =AI24+AG25*AH25 -> 0 | AM25: 11 | AN25: REALIZAR INTERVENTORIA TÉCNICA, ADMINISTRATIVA, FINANCIERA Y AMBIENTAL A LOS CONTRATOS QUE TIENEN POR OBJETO; 1. AMPLIACIÓN DE REDES EN MEDIA Y BAJA TENSIÓN EN LA URBANIZACIÓN SAN JERONIMO MUNICIPIO DE HATO COROZAL DEPARTAMENTO DE CASANARE; 2. AMPLIACIÓN DE REDES ELÉCTRICAS DE MEDIA Y BAJA TENSIÓN EN LA VEREDA SANTA TERESA, LA FLORIDA DEL MUNICIPIO DE HATO COROZAL DEPARTAMENTO DE CASANARE. | AO25: Gobernación de Casanare | AP25: 26 | AQ25: 80101500 - 80101600 - 81101700 - 81101500 | AR25: 43768345 | AS25: 73.26 | AT25: 1 | AU25: =AU24+AS25*AT25 -> 1398.9435 | AV25: =IF(AS25*AT25>0,"HABILITADO", "NO HABILITADO") -> HABILITADO | AW25: Se toma como fecha de finalización 29/12/2010, ya que se traslapa con la experiencia No. 9 del 30/12/2010 al 05/01/2011 | AX25: 40427 | AY25: 40548 | AZ25: 40427 | BA25: 40541 | BB25: =+(BA25-AZ25+1)/365 -> 0.31506849
B26: 12 | C26: REALIZIAR INTERVENTORÍA TÉCNICA, ADMINISTRATIVA, FINANCIERA Y AMBIENTAL A LOS CONTRATOS: CONSTRUCCIÓN Y AMPLIACIÓN DE REDES ELÉCTRICAS EN LA URBANIZACIÓN ALTOS DE LA GUACABA, AMPLIACIÓN DE REDES ELÉCTRICAS DE MEDIA Y BAJA TENSIÓN EN LA VEREDA GUACHARACAL. AMPLIACIÓN RED ELÉCTRICA DE MEDIA Y BAJA TENSIÓN EN LA URBANIZACIÓN LAS HELICONIAS, VILLA BERTHA, AMPLIACIÓN RED ELECTRICA DE MEDIA Y BAJA TENSIÓN EN LA VEREDA LA RESERVA SECTOR MORICHE 2, EL TRIUNFO Y FUNDO BONITO, AMPLIACIÓN DE REDES ELECTRICAS DE MEDIA Y BAJA TENSIÓN EN LA VEREDA YOPITOS, SECTOR LAS TRES ROSAS Y LA PALMITA. OPTIMIZACIÓN Y MEJORAMIENTO DE INFRAESTRUCTURA ENERGETICA DE LA ZONA CENTRO DEL MUNICIPIO DE YOPAL. DISEÑO Y ELECTRIFICACIÓN VEGA DEL UPIA, MUNICIPIO DE VILLANUEVA Y AMPLIACIÓN DE REDES ELECTRICAS DE MEDIA Y BAJA TENSIÓN EN LA VEREDA LA ZUQUIA, MUNICIPIO DE TAMARA, DEPARTAMENTO DE CASANARE | D26: Gobernación de Casanare | E26: 27 | F26: 80101500 - 80101600 - 81101700 - 81101500 | G26: 42214946 | H26: 70.66 | I26: 1 | J26: =J25+H26*I26 -> 1469.6035 | K26: =IF(H26*I26>0,"HABILITADO", "NO HABILITADO") -> HABILITADO | L26: De conformidad con la nota 7 del numeral 3.2.3. a.1 no podrá ser acumulable la experiencia obtenida en varios proyectos en un mismo periodo de tiempo. Se toma como fecha de finalización 29/12/2009 ya que se traslapa con la experiencia No. 10 entre el 30/12/2009 al 25/03/2010 | P26: 12 | X26: =X25+V26*W26 -> 0 | AA26: 12 | AI26: =AI25+AG26*AH26 -> 0 | AM26: 12 | AN26: REALIZIAR INTERVENTORÍA TÉCNICA, ADMINISTRATIVA, FINANCIERA Y AMBIENTAL A LOS CONTRATOS: CONSTRUCCIÓN Y AMPLIACIÓN DE REDES ELÉCTRICAS EN LA URBANIZACIÓN ALTOS DE LA GUACABA, AMPLIACIÓN DE REDES ELÉCTRICAS DE MEDIA Y BAJA TENSIÓN EN LA VEREDA GUACHARACAL. AMPLIACIÓN RED ELÉCTRICA DE MEDIA Y BAJA TENSIÓN EN LA URBANIZACIÓN LAS HELICONIAS, VILLA BERTHA, AMPLIACIÓN RED ELECTRICA DE MEDIA Y BAJA TENSIÓN EN LA VEREDA LA RESERVA SECTOR MORICHE 2, EL TRIUNFO Y FUNDO BONITO, AMPLIACIÓN DE REDES ELECTRICAS DE MEDIA Y BAJA TENSIÓN EN LA VEREDA YOPITOS, SECTOR LAS TRES ROSAS Y LA PALMITA. OPTIMIZACIÓN Y MEJORAMIENTO DE INFRAESTRUCTURA ENERGETICA DE LA ZONA CENTRO DEL MUNICIPIO DE YOPAL. DISEÑO Y ELECTRIFICACIÓN VEGA DEL UPIA, MUNICIPIO DE VILLANUEVA Y AMPLIACIÓN DE REDES ELECTRICAS DE MEDIA Y BAJA TENSIÓN EN LA VEREDA LA ZUQUIA, MUNICIPIO DE TAMARA, DEPARTAMENTO DE CASANARE | AO26: Gobernación de Casanare | AP26: 27 | AQ26: 80101500 - 80101600 - 81101700 - 81101500 | AR26: 42214946 | AS26: 70.66 | AT26: 1 | AU26: =AU25+AS26*AT26 -> 1469.6035 | AV26: =IF(AS26*AT26>0,"HABILITADO", "NO HABILITADO") -> HABILITADO | AW26: Se toma como fecha de finalización 29/12/2009 ya que se traslapa con la experiencia No. 10 entre el 30/12/2009 al 25/03/2010 | AX26: 40143 | AY26: 40262 | AZ26: 40143 | BA26: 40176 | BB26: =+(BA26-AZ26+1)/365 -> 0.093150685
B27: 13 | C27: INTERVENTORIA TÉCNICA, ADMINISTRATIVA, FINANCIERA Y AMBIENTAL A LA CONSTRUCCIÓN DE REDES ELÉCTRICAS EN MEDIA Y BAJA TENSIÓN EN LAS URBANIZACIONES VILLA FLOR Y VILLA VARGAS DEL MUNICIPIO DE YOPAL, DEPARTAMENTO DE CASANARE | D27: Gobernación de Casanare | E27: 29 | F27: 80101500 - 80101600 - 81101700 - 81101500 | G27: 46149574 | H27: 80.06 | I27: 1 | J27: =J26+H27*I27 -> 1549.6635 | K27: =IF(H27*I27>0,"HABILITADO", "NO HABILITADO") -> HABILITADO | P27: 13 | X27: =X26+V27*W27 -> 0 | AA27: 13 | AI27: =AI26+AG27*AH27 -> 0 | AM27: 13 | AN27: INTERVENTORIA TÉCNICA, ADMINISTRATIVA, FINANCIERA Y AMBIENTAL A LA CONSTRUCCIÓN DE REDES ELÉCTRICAS EN MEDIA Y BAJA TENSIÓN EN LAS URBANIZACIONES VILLA FLOR Y VILLA VARGAS DEL MUNICIPIO DE YOPAL, DEPARTAMENTO DE CASANARE | AO27: Gobernación de Casanare | AP27: 29 | AQ27: 80101500 - 80101600 - 81101700 - 81101500 | AR27: 46149574 | AS27: 80.06 | AT27: 1 | AU27: =AU26+AS27*AT27 -> 1549.6635 | AV27: =IF(AS27*AT27>0,"HABILITADO", "NO HABILITADO") -> HABILITADO | AX27: 39785 | AY27: 30/6/2009 | AZ27: 39785 | BA27: 39994 | BB27: =+(BA27-AZ27+1)/365 -> 0.57534247
B28: 14 | P28: 14 | X28: =X27+V28*W28 -> 0 | AA28: 14 | AI28: =AI27+AG28*AH28 -> 0 | BA28: TOTAL AÑOS DE EXPERIENCIA | BB28: =SUM(BB15:BB27) -> 5.6328767
B29: 15 | P29: 15 | X29: =X28+V29*W29 -> 0 | AA29: 15 | AI29: =AI28+AG29*AH29 -> 0
B30: 16 | P30: 16 | X30: =X29+V30*W30 -> 0 | AA30: 16 | AI30: =AI29+AG30*AH30 -> 0
B31: 17 | P31: 17 | X31: =X30+V31*W31 -> 0 | AA31: 17 | AI31: =AI30+AG31*AH31 -> 0
B32: 18 | P32: 18 | X32: =X31+V32*W32 -> 0 | AA32: 18 | AI32: =AI31+AG32*AH32 -> 0
B33: 19 | P33: 19 | X33: =X32+V33*W33 -> 0 | AA33: 19 | AI33: =AI32+AG33*AH33 -> 0
B34: 20 | P34: 20 | X34: =X33+V34*W34 -> 0 | AA34: 20 | AI34: =AI33+AG34*AH34 -> 0
B35: 21 | P35: 21 | X35: =X34+V35*W35 -> 0 | AA35: 21 | AI35: =AI34+AG35*AH35 -> 0
B36: 22 | P36: 22 | X36: =X35+V36*W36 -> 0 | AA36: 22 | AI36: =AI35+AG36*AH36 -> 0
B37: 23 | P37: 23 | X37: =X36+V37*W37 -> 0 | AA37: 23 | AI37: =AI36+AG37*AH37 -> 0
B38: 24 | P38: 24 | X38: =X37+V38*W38 -> 0 | AA38: 24 | AI38: =AI37+AG38*AH38 -> 0
B39: 25 | P39: 25 | X39: =X38+V39*W39 -> 0 | AA39: 25 | AI39: =AI38+AG39*AH39 -> 0
B40: 26 | P40: 26 | X40: =X39+V40*W40 -> 0 | AA40: 26 | AI40: =AI39+AG40*AH40 -> 0
... B68: 54 | P68: 54 | X68: =X67+V68*W68 -> 0 | AA68: 54 | AI68: =AI67+AG68*AH68 -> 0
B69: TOTAL | P69: TOTAL | V69: =SUM(V15:V68) -> 0 | X69: =IF(MAX(X15:X68)>=H7*0.5,MAX(X15:X68),0) -> 0 | AA69: TOTAL | AG69: =SUM(AG15:AG68) -> 0 | AI69: =IF(MAX(AI15:AI68)>=H7*0.5,MAX(AI15:AI68),0) -> 0
D76: EXPERIENCIA DEL EQUIPO DE TRABAJO
C79: NOMBRE DEL PROPONENTE: | E79: =H5 -> SECOB LTDA
C80: NOMBRE DEL PROFESIONAL | E80: JORGE ERNESTO SOCADAGÜI PÉREZ
C81: CARGO EN EL EQUIPO DE TRABAJO | E81: DIRECTOR DE INTERVENTORIA
...

Sheet Oferente 7
C2: EXPERIENCIA DEL PROPONENTE
C5: NOMBRE DEL OFERENTE | H5: SEGEN INGENIERIA S.A.S.
C7: PRESUPUESTO DEL LOTE MÁXIMO AL QUE PARTICIPAN (en SMMLV) | H7: 1453.2903
C8: VALOR 30% | H8: =H7*0.3 -> 435.9871
C9: VALOR REQUERIDO EN SMMLV
C11: contar con 5 años de experiencia en interventoría o en la construcción y montaje de proyectos del sector eléctrico, de los cuales como mínimo debe incluir un (1) año de experiencia específica en proyectos de generación o distribución de energía eléctrica, cuya sumatoria se igual o superior al 30% del valor del mayor lote ofertado
C13: CONTRATOS DE EXPERIENCIA MÍNIMA PARA HABILITARSE (ANEXO 7) | Q13: CONTRATOS QUE ACREDITAN EXPERIENCIA EN FOTOVOLTAICO (ANEXO 8) | AB13: CONTRATOS QUE ACREDITAN EXPERIENCIA ADICIONAL EN ELECTRICOS NO FOTOVOLTAICO (ANEXO 8) | AM13: CONTRATOS DE EXPERIENCIA MÍNIMA PARA HABILITARSE (ANEXO 7)
C14: OBJETO DEL CONTRATO | D14: ENTIDAD CONTRATANTE O EMPLEADORA | E14: CONSECUTIVO EN EL RUP | F14: CODIGO UNSPSC | G14: VALOR CONTRATO | H14: VALOR DEL CONTRATO TOTAL EN SMMLV | I14: % PARTICIPACIÓN CONSORCIO | J14: ACUMULADO SMMLV | K14: HABILITADO | L14: OBSERVACIONES | M14: CÓDIGO UNSPSC | N14: NOMBRE | Q14: OBJETO DEL CONTRATO | R14: ENTIDAD CONTRATANTE O EMPLEADORA | S14: CONSECUTIVO EN EL RUP | T14: CODIGO UNSPSC | U14: VALOR CONTRATO | V14: VALOR DEL CONTRATO TOTAL EN SMMLV | W14: % PARTICIPACIÓN CONSORCIO | X14: ACUMULADO SMMLV | Y14: OBSERVACIONES | AB14: OBJETO DEL CONTRATO | AC14: ENTIDAD CONTRATANTE O EMPLEADORA | AD14: CONSECUTIVO EN EL RUP | AE14: CODIGO UNSPSC | AF14: VALOR CONTRATO | AG14: VALOR DEL CONTRATO TOTAL EN SMMLV | AH14: % PARTICIPACIÓN CONSORCIO | AI14: ACUMULADO SMMLV | AJ14: OBSERVACIONES | AM14: OBJETO DEL CONTRATO | AN14: ENTIDAD CONTRATANTE O EMPLEADORA | AO14: CONSECUTIVO EN EL RUP | AP14: CODIGO UNSPSC | AQ14: VALOR CONTRATO | AR14: VALOR DEL CONTRATO TOTAL EN SMMLV | AS14: % PARTICIPACIÓN CONSORCIO | AT14: ACUMULADO SMMLV | AU14: HABILITADO | AV14: OBSERVACIONES | AW14: FECHA DE INICIO ORIGINAL | AX14: FECHA FIN ORIGINAL | AY14: FECHA DE INICIO AJUSTE TRASLAPOS | AZ14: FECHA FIN AJUSTE TRASLAPOS | BA14: AÑOS DE EXPERIENCIA
B15: 1 | C15: ADQUISICIÓN E INSTALACIÓN DE TRES (03) PLANTAS ELÉCTRICAS DE EMERGENCIA Y CONSTRUCCIÓN DE OBRAS PARA EL EFECTO, PARA LAS SEDES JUDICIALES DE LOS MUNICIPIOS DE COROZAL, SAN MARCOS Y SINCELEJO | D15: CONSEJO SUPERIOR DE LA JUDICATURA SECCIONAL SINCELEJO | E15: 42 | F15: 80101500 80101600 81101700 83101800 81101500 | G15: 704623330 | H15: 67.142887 | I15: 1 | J15: =H15*I15 -> 67.142887 | K15: =IF(H15*I15>0,"HABILITADO", "NO HABILITADO") -> HABILITADO | M15: 80101500 | N15: Servicios de consultoría y administración corporativa | P15: 1 | Q15: REALIZAR LA INTERVENTORIA TECNICA ADMINSITRATIVA, FINANCIERA Y AMBIENTAL PARA LA IMPLEMENTACION DE UN SISTEMA DE ALUMBRADO PUBLICO SOLAR EN LOS CENTROS POBLADOS DE CHARRAS,CAÑO MAKU Y SABANAS DE LA FUGA DEL MUNICIPIO DE SAN JOSE DEL GUAVIARE , GUAVIARE | R15: GOBERNACION DEL GUAVIARE | S15: 39 | T15: 811017-801016-831018 | U15: 49743470 | V15: 56.668148 | W15: 0.3 | X15: =V15*W15 -> 17.000444 | AA15: 1 | AB15: “Control y supervisión administrativa, técnica, jurídica, financiera y contable a las actividades de construcción de obras civiles y eléctricas para la Electrificacion rural Vereda Santa Helena parte alta del municipio de Ortega en el departamento del Tolima, y la ejecución de cada una de las obligaciones derivadas de(l) (los) contrato(s) suscrito(s) por ENERTOLIMA para tal fin” | AC15: ENERTOLIMA S.A.-ESP | AD15: 28 | AE15: 80101500-811017 | AF15: 19525139 | AG15: 23.58 | AH15: 0.5 | AI15: =AG15*AH15 -> 11.79 | AL15: 1 | AM15: ADQUISICIÓN E INSTALACIÓN DE TRES (03) PLANTAS ELÉCTRICAS DE EMERGENCIA Y CONSTRUCCIÓN DE OBRAS PARA EL EFECTO, PARA LAS SEDES JUDICIALES DE LOS MUNICIPIOS DE COROZAL, SAN MARCOS Y SINCELEJO | AN15: CONSEJO SUPERIOR DE LA JUDICATURA SECCIONAL SINCELEJO | AO15: 42 | AP15: 80101500 80101600 81101700 83101800 81101500 | AQ15: 704623330 | AR15: 67.142887 | AS15: 1 | AT15: =AR15*AS15 -> 67.142887 | AU15: =IF(AR15*AS15>0,"HABILITADO", "NO HABILITADO") -> HABILITADO | AW15: 43817 | AX15: 43905 | AY15: 43817 | AZ15: 43905 | BA15: =+(AZ15-AY15+1)/365 -> 0.24383562
B16: 2 | C16: Control y supervisión administrativa, técnica, jurídica, financiera y contable a las actividades de construcción de obras civiles y eléctricas para la electrificación rural de la vereda Escobales del municipio de Ortega en el departamento del Tolima y la ejecición de cada una de las oblifaciones derivadas de(l) (los) contrato(s) suscrito(s) para tal fin. Hace parte integral del contrato la notiviación de cesión del contrato de fecha 06 de junio de 2019 | D16: ENERTOLIMA S.A.-ESP | E16: 36 | F16: 80101600 81101700 83101800 81101500 | G16: 31940487 | H16: 38.570064 | I16: 0.5 | J16: =J15+H16*I16 -> 86.427919 | K16: =IF(H16*I16>0,"HABILITADO", "NO HABILITADO") -> HABILITADO | M16: 80101600 | N16: Servicios de consultoría y administración corporativa | P16: 2 | Q16: INTERVENTORIA TÉCNICA, ADMINISTRATIVA, FINANCIERA, JURÍDICA, AMBIENTAL, SOCIAL, Y CONTABLE PARA LAS OBRAS DE CONSTRUCCIÓN INSTALACIÓN E IMPLEMENTACIÓN DE SOLUCIONES DE ENERGÍA INDIVIDUALES SOSTENIBLES CONSISTENTES EN SISTEMAS SOLARES FOTOVOLTAICOS PARA VIVIENDAS RURALES EN LAS ZONAS NO INTERCONECTADAS EN LA VEREDA CONSUELO DEL MUNICIPIO DE CONDOTO – CHOCÓ | R16: DISPAC S.A.-ESP | S16: 41 | T16: 801016-811017-831018 | U16: 199579196 | V16: 0 | W16: 0 | X16: =X15+V16*W16 -> 17.000444 | Y16: De conformidad con la Nota 2 del numeral 4.1. la certificación aportada no cumple ya que no anexan la hoja de firma y fecha de terminación del contrato | AA16: 2 | AB16: “Control y supervisión administrativa, técnica, jurídica, financiera y contable a las actividades de construcción de obras civiles y eléctricas para la Electrificación rural vereda La Alemania del municipio de Chaparral en el departamento del Tolima, y la ejecución de cada una de las obligaciones derivadas de(l) (los) contrato(s) suscrito(s) por ENERTOLIMA para tal fin” | AC16: ENERTOLIMA S.A.-ESP | AD16: 29 | AF16: 26224512 | AG16: 31.67 | AH16: 0.5 | AI16: =AI15+AG16*AH16 -> 27.625 | AL16: 2 | AM16: Control y supervisión administrativa, técnica, jurídica, financiera y contable a las actividades de construcción de obras civiles y eléctricas para la electrificación rural de la vereda Escobales del municipio de Ortega en el departamento del Tolima y la ejecición de cada una de las oblifaciones derivadas de(l) (los) contrato(s) suscrito(s) para tal fin. Hace parte integral del contrato la notiviación de cesión del contrato de fecha 06 de junio de 2019 | AN16: ENERTOLIMA S.A.-ESP | AO16: 36 | AP16: 80101600 81101700 83101800 81101500 | AQ16: 31940487 | AR16: 38.570064 | AS16: 0.5 | AT16: =AT15+AR16*AS16 -> 86.427919 | AU16: =IF(AR16*AS16>0,"HABILITADO", "NO HABILITADO") -> HABILITADO | AW16: 43389 | AX16: 43647 | AY16: 43389 | AZ16: 43647 | BA16: =+(AZ16-AY16+1)/365 -> 0.70958904
B17: 3 | C17: Control y supervisión técnica, operativa, económica y administrativa a las actividades de construcción de obras civiles y eléctrica para la electrificación de diferentes zonas rurales en el departamento del Tolima, y la ejecución de cada una de las obligaciones derivadas de(l) (los) contrato(s) suscrito(s) por Enertolima para tal fin. | D17: ENERTOLIMA S.A.-ESP | E17: 26 | F17: 80101500 80101600 81101700 83101800 81101500 | G17: 197171632 | H17: 300.33 | I17: 0.7 | J17: =J16+H17*I17 -> 296.65892 | K17: =IF(H17*I17>0,"HABILITADO", "NO HABILITADO") -> HABILITADO | M17: 81101500 | N17: Ingenieria Civil y arquitectura | P17: 3 | Q17: INTERVENTORIA TÉCNICA, ADMINISTRATIVA, FINANCIERA, JURÍDICA, AMBIENTAL, SOCIAL, Y CONTABLE PARA LAS OBRAS DE CONSTRUCCIÓN INSTALACIÓN E IMPLEMENTACIÓN DE SOLUCIONES DE ENERGÍA INDIVIDUALES SOSTENIBLES CONSISTENTES EN SISTEMAS SOLARES FOTOVOLTAICOS PARA VIVIENDAS RURALES EN LAS ZONAS NO INTERCONECTADAS EN LA VEREDA LA PLANTA DEL MUNICIPIO DE CONDOTO – CHOCÓ | R17: DISPAC S.A.-ESP | S17: 40 | T17: 801016-811017-831018 | U17: 396294020 | V17: 478.54892 | W17: 0.5 | X17: =X16+V17*W17 -> 256.27491 | AA17: 3 | AB17: “Control y supervisión administrativa, técnica, jurídica, financiera y contable a las actividades de construcción de obras civiles y eléctricas para la Electrificacion rural vereda Santa Helena parte baja del municipio de Ortega en el departamento del Tolima, y la ejecución de cada una de las obligaciones derivadas de(l) (los) contrato(s) suscrito(s) por ENERTOLIMA para tal fin” | AC17: ENERTOLIMA S.A.-ESP | AD17: 30 | AF17: 7621010 | AG17: 9.2 | AH17: 0.5 | AI17: =AI16+AG17*AH17 -> 32.225 | AL17: 3 | AM17: Control y supervisión técnica, operativa, económica y administrativa a las actividades de construcción de obras civiles y eléctrica para la electrificación de diferentes zonas rurales en el departamento del Tolima, y la ejecución de cada una de las obligaciones derivadas de(l) (los) contrato(s) suscrito(s) por Enertolima para tal fin. | AN17: ENERTOLIMA S.A.-ESP | AO17: 26 | AP17: 80101500 80101600 81101700 83101800 81101500 | AQ17: 197171632 | AR17: 300.33 | AS17: 0.7 | AT17: =AT16+AR17*AS17 -> 296.65892 | AU17: =IF(AR17*AS17>0,"HABILITADO", "NO HABILITADO") -> HABILITADO | AW17: 42923 | AX17: 43369 | AY17: 42923 | AZ17: 43369 | BA17: =+(AZ17-AY17+1)/365 -> 1.2246575
B18: 4 | C18: INTERVENTORÍA TÉCNICA, ADMINISTRATIVA, FINANCIERA Y JURÍDICA PARA LA OBRA DE CONSTRUCCIÓN DE REDES DE ELECTRIFICACIÓN RURAL EN EL DEPARTAMENTO DE SUCRE EN LOS SIGUIENTES PROYECTOS: A) SAMPUES: VEREDAS EL PAKI-BELLAVISTA, EL GUAMARO, EL PAKI-CRUCERO, EL RETIRO, LA NEGRA. LA ISLA Y LA LOMA DE PIEDRA. B) SAN ANTONIO DE PALMITO: VEREDA MINUTO DE DIOS | D18: DISPAC S.A.-ESP | E18: 25 | F18: 80101600 81101700 83101800 81101500 | G18: 76381650 | H18: 103.53787 | I18: 1 | J18: =J17+H18*I18 -> 400.19679 | K18: =IF(H18*I18>0,"HABILITADO", "NO HABILITADO") -> HABILITADO | L18: De conformidad con la nota 7 del numeral 3.2.3. a.1 no podrá ser acumulable la experiencia obtenida en varios proyectos en un mismo periodo de tiempo. Se cambian las fechas de finalización por el 6 de julio de 2017 | M18: 81101700 | N18: Ingeniería Eléctrica y Electrónica | P18: 4 | Q18: INTERVENTORIA ADMINISTRATIVA, TECNICA, JURIDICA, AMBIENTAL, SOCIAL, FINANCIERA Y CONTABLE DEL PROYECTO DE “SUMINISTRO E INSTALACION DE MODULOS FOTOVOLTAICOS, INVERSORES Y ELEMENTOS DE CONEXIONADO, DE UN(OS) SITEMA(S) SOLARE(S) FOTOVOLTAICO(S) AISLADOS CON RESPALDO DE BATERIAS, A SER INSTALADOS EN EL PROYECTO DE ENERGIZACIÓN DE VIVIENDAS RURALES EN LAS VEREDAS PRIMAVERA, SAN TEODORO, SANTA BARBARA, MATIYURE, NUEVO ANTIOQUIA, SANTA CECILIA Y MARANDUA EN EL MUNICIPIO DE LA PRIMAVERA, DEPARTAMENTO DE VICHADA | R18: ELECTROVICHADA S.A.-ESP | S18: 38 | T18: 801016-811017-831018 | U18: 422470000 | V18: 510.158 | W18: 0.37 | X18: =X17+V18*W18 -> 445.03336 | AA18: 4 | AB18: “Control y supervisión administrativa, técnica, jurídica, financiera y contable a las actividades de construcción de obras civiles y eléctricas para la Electrificación rural veredas La Primavera, Argentina, Mesa De Palmichal, Belarcazar y Santana del municipio de Rioblanco en el departamento del Tolima, y la ejecución de cada una de las obligaciones derivadas de(l) (los) contrato(s) suscrito(s) por ENERTOLIMA para tal fin” | AC18: ENERTOLIMA S.A.-ESP | AD18: 31 | AF18: 90053613 | AG18: 108.75 | AH18: 0.5 | AI18: =AI17+AG18*AH18 -> 86.6 | AL18: 4 | AM18: INTERVENTORÍA TÉCNICA, ADMINISTRATIVA, FINANCIERA Y JURÍDICA PARA LA OBRA DE CONSTRUCCIÓN DE REDES DE ELECTRIFICACIÓN RURAL EN EL DEPARTAMENTO DE SUCRE EN LOS SIGUIENTES PROYECTOS: A) SAMPUES: VEREDAS EL PAKI-BELLAVISTA, EL GUAMARO, EL PAKI-CRUCERO, EL RETIRO, LA NEGRA. LA ISLA Y LA LOMA DE PIEDRA. B) SAN ANTONIO DE PALMITO: VEREDA MINUTO DE DIOS | AN18: DISPAC S.A.-ESP | AO18: 25 | AP18: 80101600 81101700 83101800 81101500 | AQ18: 76381650 | AR18: 103.53787 | AS18: 1 | AT18: =AT17+AR18*AS18 -> 400.19679 | AU18: =IF(AR18*AS18>0,"HABILITADO", "NO HABILITADO") -> HABILITADO | AV18: De conformidad con la nota 7 del numeral 3.2.3. a.1 no podrá ser acumulable la experiencia obtenida en varios proyectos en un mismo periodo de tiempo. Se cambian las fechas de finalización por el 6 de julio de 2017 | AW18: 42759 | AX18: 43023 | AY18: 42759 | AZ18: 42922 | BA18: =+(AZ18-AY18+1)/365 -> 0.44931507
B19: 5 | C19: NORMALIZACIÓN DE REDES DE DISTRIBUCIÓN ELÉCTRICA EN EL MUNICIPIO DE TUMACO EN EL DEPARTAMENTO DE NARIÑO; EN LOS BARRIOS CIUDADELA Y NUEVO HORIZONTE ETAPA III: CON SUMINISTRO POR PARTE DEL CONTRATISTA DE TODOS LOS MATERIALES, MANO DE OBRA, PRUEBAS Y PUESTA EN SERVICIO DE LA OBRA DE ACUERDO A LOS PLANOS Y ESPECIFICACIONES SUMINISTRATOS POR CEDENAR S.A. E.S.P. CORRESPONDIENTE ALCONTRATO GGC-351-2015 | D19: CEDENAR S.A.-ESP | E19: 22 | F19: 80101600 81101700 83101800 81101500 | G19: 5.7843112e+08 | H19: 784.08268 | I19: 1 | J19: =J18+H19*I19 -> 1184.2795 | K19: =IF(H19*I19>0,"HABILITADO", "NO HABILITADO") -> HABILITADO | L19: De conformidad con la nota 7 del numeral 3.2.3. a.1 no podrá ser acumulable la experiencia obtenida en varios proyectos en un mismo periodo de tiempo. Se cambian las fechas de finalización por el 23 de enero de 2017 | M19: 83101800 | N19: Servicios Eléctricos | P19: 5 | Q19: INTERVENTORIA TÉCNICA, ADMINISTRATIVA, FINANCIERA, JURÍDICA Y CONTABLE PARA LAS OBRAS DE SUMINISTRO, TRANSPORTE E INSTALACION E IMPLEMENTACIÓN DE: A. CONSTRUCCIÓN INSTALACIÓN E IMPLEMENTACIÓN DE SOLUCIONES DE ENERGÍA INDIVIDUALES SOSTENIBLES CONSISTENTES EN SISTEMAS SOLARES FOTOVOLTAICOS PARA VIVIENDAS RURALES EN LAS ZONAS NO INTERCONECTADAS DE LAS VEREDAS EL PENEYA, LOMA LARGA, JORDAN, EL PARAISO, ANIMAS ALTAS, EL PORVENIR 1, SANTA FE, ALTA SARDINATA, REMANZOS, MONTERREY, LA GRANJA, AGUAS CLARAS, ANDAQUIES, BARCELONA, VILLANUEVA, RISARALDA, FUNDACIÓN, SANTO DOMINGO, LA SABALETA BAJA, EL CAÑO SANTO DOMINGO, CARACOL, LEJANIAS, ARRALLANTES, ALTO CRISTALES, DOS QUEBRADAS, PAUJILES, LA CEIBA, ARGENTINA, LOS CAUCHOS, LA URIBE, LOBITOS, PORES, SARDINATA Y LIBANO DEL MUNICIPIO DE CARTAGENA DEL CHAIRÁ - CAQUETÁ (947 SOLUCIONES) | R19: DISPAC S.A.-ESP | S19: 27 | T19: 801016-811017-831018 | U19: 908673726 | V19: 1097.28 | W19: 0.5 | X19: =X18+V19*W19 -> 993.67336 | AA19: 5 | AB19: “Control y supervisión administrativa, técnica, jurídica, financiera y contable a las actividades de construcción de obras civiles y eléctricas para la Electrificación rural Vereda Versalles del municipio de Ataco en el departamento del Tolima, y la ejecución de cada una de las obligaciones derivadas de(l) (los) contrato(s) suscrito(s) por ENERTOLIMA para tal fin” | AC19: ENERTOLIMA S.A.-ESP | AD19: 32 | AF19: 20552709 | AG19: 24.82 | AH19: 0.5 | AI19: =AI18+AG19*AH19 -> 99.01 | AL19: 5 | AM19: NORMALIZACIÓN DE REDES DE DISTRIBUCIÓN ELÉCTRICA EN EL MUNICIPIO DE TUMACO EN EL DEPARTAMENTO DE NARIÑO; EN LOS BARRIOS CIUDADELA Y NUEVO HORIZONTE ETAPA III: CON SUMINISTRO POR PARTE DEL CONTRATISTA DE TODOS LOS MATERIALES, MANO DE OBRA, PRUEBAS Y PUESTA EN SERVICIO DE LA OBRA DE ACUERDO A LOS PLANOS Y ESPECIFICACIONES SUMINISTRATOS POR CEDENAR S.A. E.S.P. CORRESPONDIENTE ALCONTRATO GGC-351-2015 | AN19: CEDENAR S.A.-ESP | AO19: 22 | AP19: 80101600 81101700 83101800 81101500 | AQ19: 5.7843112e+08 | AR19: 784.08268 | AS19: 1 | AT19: =AT18+AR19*AS19 -> 1184.2795 | AU19: =IF(AR19*AS19>0,"HABILITADO", "NO HABILITADO") -> HABILITADO | AV19: De conformidad con la nota 7 del numeral 3.2.3. a.1 no podrá ser acumulable la experiencia obtenida en varios proyectos en un mismo periodo de tiempo. Se cambian las fechas de finalización por el 23 de enero de 2017 | AW19: 42401 | AX19: 42825 | AY19: 42401 | AZ19: 42758 | BA19: =+(AZ19-AY19+1)/365 -> 0.98082192
B20: 6 | C20: INTERVENTORÍA TÉCNICA, ADMINISTRATIVA, FINANCIERA DEL CONTRATO DE CONSULTORÍA PARA REALIZAR ESTUDIOS Y DISEÑOS PARA INTERCONEXIÓN NACIONAL DE CINCO (5) CONSEJOS COMUNITARIOS (UNIÓN DEL RIO CHAGUI, EL RECUERDO DE NUESTROS ANCESTROS DEL RIO MEJICANO TABLÓN DULCE, TABLÓN SALADO E IMBILPÍ DEL CARMEN), EN EL MUNICIPIO DE TUMACO DEPARTAMENTO DE NARIÑO | D20: Alcaldía Municipal de Tumaco | E20: 13 | F20: 81101700 83101800 | G20: 43554888 | H20: 67.595077 | I20: 1 | J20: =J19+H20*I20 -> 1251.8746 | K20: =IF(H20*I20>0,"HABILITADO", "NO HABILITADO") -> HABILITADO | L20: Se toma como fecha de terminación el plazo de ejecución desde la fecha de inicio mas no la fecha final de recibo y liquidación | P20: 6 | X20: =X19+V20*W20 -> 993.67336 | AA20: 6 | AB20: “Control y supervisión administrativa, técnica, jurídica, financiera y contable a las actividades de construcción de obras civiles y eléctricas para la Electrificación rural Parcelacion La Linda vereda Montebello del municipio de Cajamarca en el departamento del Tolima, y la ejecución de cada una de las obligaciones derivadas de(l) (los) contrato(s) suscrito(s) por ENERTOLIMA para tal fin” | AC20: ENERTOLIMA S.A.-ESP | AD20: 33 | AF20: 17025184 | AG20: 20.56 | AH20: 0.5 | AI20: =AI19+AG20*AH20 -> 109.29 | AL20: 6 | AM20: INTERVENTORÍA TÉCNICA, ADMINISTRATIVA, FINANCIERA DEL CONTRATO DE CONSULTORÍA PARA REALIZAR ESTUDIOS Y DISEÑOS PARA INTERCONEXIÓN NACIONAL DE CINCO (5) CONSEJOS COMUNITARIOS (UNIÓN DEL RIO CHAGUI, EL RECUERDO DE NUESTROS ANCESTROS DEL RIO MEJICANO TABLÓN DULCE, TABLÓN SALADO E IMBILPÍ DEL CARMEN), EN EL MUNICIPIO DE TUMACO DEPARTAMENTO DE NARIÑO | AN20: Alcaldía Municipal de Tumaco | AO20: 13 | AP20: 81101700 83101800 | AQ20: 43554888 | AR20: 67.595077 | AS20: 1 | AT20: =AT19+AR20*AS20 -> 1251.8746 | AU20: =IF(AR20*AS20>0,"HABILITADO", "NO HABILITADO") -> HABILITADO | AV20: Se toma como fecha de terminación el plazo de ejecución desde la fecha de inicio mas no la fecha final de recibo y liquidación | AW20: 42149 | AX20: 42359 | AY20: 42149 | AZ20: 42359 | BA20: =+(AZ20-AY20+1)/365 -> 0.57808219
B21: 7 | C21: INTERVENTORÍA ADMINISTRATIVA, TÉCNICA Y FINANCIERA PARA EL CONTRATO DE CONSTRUCCIÓN Y SUMINISTRO DE ELEMENTOS PARA LA REMODELACIÓN DEL SISTEMA DE DISTRIBUCIÓN LOCAL MT-BT DE BARRANCOMINAS EN EL DEPARTAMENTO DEL GUANÍA | D21: Empresa de Energía del Guanía S.A.-EMELCE S.A.-ESP | E21: 11 | F21: 80101600 81101700 83101800 81101500 | G21: 165207200 | H21: 256.39357 | I21: 1 | J21: =J20+H21*I21 -> 1508.2681 | K21: =IF(H21*I21>0,"HABILITADO", "NO HABILITADO") -> HABILITADO | L21: De conformidad con la nota 7 del numeral 3.2.3. a.1 no podrá ser acumulable la experiencia obtenida en varios proyectos en un mismo periodo de tiempo. Se cambian las fechas de finalización por el 24 de mayo de 2015 | P21: 7 | X21: =X20+V21*W21 -> 993.67336 | AA21: 7 | AB21: “Control y supervisión administrativa, técnica, jurídica, financiera y contable a las actividades de construcción de obras civiles y eléctricas para la Electrificacion rural veredas Las Brisas, El Pescado, Campo Hermoso, Convenio y La Holanda del municipio de Ataco en el departamento del Tolima, y la ejecución de cada una de las obligaciones derivadas de(l) (los) contrato(s) suscrito(s) por ENERTOLIMA para tal fin” | AC21: ENERTOLIMA S.A.-ESP | AD21: 34 | AF21: 68463544 | AG21: 82.67 | AH21: 0.5 | AI21: =AI20+AG21*AH21 -> 150.625 | AL21: 7 | AM21: INTERVENTORÍA ADMINISTRATIVA, TÉCNICA Y FINANCIERA PARA EL CONTRATO DE CONSTRUCCIÓN Y SUMINISTRO DE ELEMENTOS PARA LA REMODELACIÓN DEL SISTEMA DE DISTRIBUCIÓN LOCAL MT-BT DE BARRANCOMINAS EN EL DEPARTAMENTO DEL GUANÍA | AN21: Empresa de Energía del Guanía S.A.-EMELCE S.A.-ESP | AO21: 11 | AP21: 80101600 81101700 83101800 81101500 | AQ21: 165207200 | AR21: 256.39357 | AS21: 1 | AT21: =AT20+AR21*AS21 -> 1508.2681 | AU21: =IF(AR21*AS21>0,"HABILITADO", "NO HABILITADO") -> HABILITADO | AV21: De conformidad con la nota 7 del numeral 3.2.3. a.1 no podrá ser acumulable la experiencia obtenida en varios proyectos en un mismo periodo de tiempo. Se cambian las fechas de finalización por el 24 de mayo de 2015 | AW21: 42009 | AX21: 42247 | AY21: 42009 | AZ21: 42148 | BA21: =+(AZ21-AY21+1)/365 -> 0.38356164
B22: 8 | C22: INTERVENTORÍA TÉCNICA, ADMINSITRATIVA, FINANCIERA, CONTABLE, JURÍDICA Y MABIENTAL PARA EL PROEYCTO CONSTRUCCIÓN DEL SISTEMA ELÉCTRICA, UNA COCINA Y ADECUACIONES EN LA INSTITUTCIÓN EDUCATIVA LA PRIMAVERA DEL MUNICIPIO DE INÍRIDA DEL DEPARTAMENTO DEL GUANIA | D22: Gobernación del Guanía | E22: 14 | F22: 83101800 81101500 | G22: 24768535 | H22: 38.439566 | I22: 1 | J22: =J21+H22*I22 -> 1546.7077 | K22: =IF(H22*I22>0,"HABILITADO", "NO HABILITADO") -> HABILITADO | L22: De conformidad con la nota 7 del numeral 3.2.3. a.1 no podrá ser acumulable la experiencia obtenida en varios proyectos en un mismo periodo de tiempo. Se cambian las fechas de finalización por el 4 de enero de 2015 | P22: 8 | X22: =X21+V22*W22 -> 993.67336 | AA22: 8 | AB22: “Control y supervisión administrativa, técnica, jurídica, financiera y contable a las actividades de construcción de obras civiles y eléctricas para la Electrificación rural veredas Carrusel y La Rivera del municipio de Ataco en el departamento del Tolima, y la ejecución de cada una de las obligaciones derivadas de(l) (los) contrato(s) suscrito(s) por ENERTOLIMA para tal fin” | AC22: ENERTOLIMA S.A.-ESP | AD22: 35 | AF22: 26884184 | AG22: 32.46 | AH22: 0.5 | AI22: =AI21+AG22*AH22 -> 166.855 | AL22: 8 | AM22: INTERVENTORÍA TÉCNICA, ADMINSITRATIVA, FINANCIERA, CONTABLE, JURÍDICA Y MABIENTAL PARA EL PROEYCTO CONSTRUCCIÓN DEL SISTEMA ELÉCTRICA, UNA COCINA Y ADECUACIONES EN LA INSTITUTCIÓN EDUCATIVA LA PRIMAVERA DEL MUNICIPIO DE INÍRIDA DEL DEPARTAMENTO DEL GUANIA | AN22: Gobernación del Guanía | AO22: 14 | AP22: 83101800 81101500 | AQ22: 24768535 | AR22: 38.439566 | AS22: 1 | AT22: =AT21+AR22*AS22 -> 1546.7077 | AU22: =IF(AR22*AS22>0,"HABILITADO", "NO HABILITADO") -> HABILITADO | AV22: De conformidad con la nota 7 del numeral 3.2.3. a.1 no podrá ser acumulable la experiencia obtenida en varios proyectos en un mismo periodo de tiempo. Se cambian las fechas de finalización por el 4 de enero de 2015 | AW22: 41954 | AX22: 42079 | AY22: 41954 | AZ22: 42008 | BA22: =+(AZ22-AY22+1)/365 -> 0.15068493
B23: 9 | C23: INTERVENTORÍA TÉCNICA PARA CONSTRUCCIÓN Y REMODELACIÓN DEL SISTEMA DE REDES DE DISTRIBUCIÓN ELÉCTRICA EN MEDIA Y BAJA TENSIÓN DEL PROYECTO A DESARROLLARSE EN EL MUNICIPIO DE FRANCISCO PIZARRO-SALAHONDA EN EL DEPARTAMENTO DE NARIÑO, CORRESPONDIENTE AL CONTRATO FAZNI GGC 199-2013 | D23: CEDENAR S.A.-ESP | E23: 10 | F23: 80101600 81101700 83101800 | G23: 57996520 | H23: 94.150195 | I23: 1 | J23: =J22+H23*I23 -> 1640.8579 | K23: =IF(H23*I23>0,"HABILITADO", "NO HABILITADO") -> HABILITADO | L23: De conformidad con la nota 7 del numeral 3.2.3. a.1 no podrá ser acumulable la experiencia obtenida en varios proyectos en un mismo periodo de tiempo. Se cambian las fechas de finalización por el 10 de noviembre de 2015 | P23: 9 | X23: =X22+V23*W23 -> 993.67336 | AA23: 9 | AB23: Interventoría técnica, administrativa, financiera, jurídica y contable para las obras de suministro, transporte e instalación de componentes de redes para las siguientes obras a) Interconexión eléctrica al sistema de distribución de 16 corregimientos iniciando desde Sanceno, incluyendo Las Mercedes, Neguá llegando a Santa Lucia del Fuerte en el municipio de Quibdó del departamento del Chocó b) Interconexión eléctrica al sistema de distribución de 11 centros poblados desde La Sierra hasta Piedra Honda – Bagadó – del municipio de Bagadó en el departamento del Chocó | AC23: DISPAC S.A.-ESP | AD23: 37 | AE23: 801016-811015 | AF23: 915754197 | AG23: 1105.83 | AH23: 0.5 | AI23: =AI22+AG23*AH23 -> 719.77 | AL23: 9 | AM23: INTERVENTORÍA TÉCNICA PARA CONSTRUCCIÓN Y REMODELACIÓN DEL SISTEMA DE REDES DE DISTRIBUCIÓN ELÉCTRICA EN MEDIA Y BAJA TENSIÓN DEL PROYECTO A DESARROLLARSE EN EL MUNICIPIO DE FRANCISCO PIZARRO-SALAHONDA EN EL DEPARTAMENTO DE NARIÑO, CORRESPONDIENTE AL CONTRATO FAZNI GGC 199-2013 | AN23: CEDENAR S.A.-ESP | AO23: 10 | AP23: 80101600 81101700 83101800 | AQ23: 57996520 | AR23: 94.150195 | AS23: 1 | AT23: =AT22+AR23*AS23 -> 1640.8579 | AU23: =IF(AR23*AS23>0,"HABILITADO", "NO HABILITADO") -> HABILITADO | AV23: De conformidad con la nota 7 del numeral 3.2.3. a.1 no podrá ser acumulable la experiencia obtenida en varios proyectos en un mismo periodo de tiempo. Se cambian las fechas de finalización por el 10 de noviembre de 2015 | AW23: 41927 | AX23: 42004 | AY23: 41927 | AZ23: 41953 | BA23: =+(AZ23-AY23+1)/365 -> 0.073972603
B24: 10 | C24: Construcción, suminsitro y montaje de equipos de corte, control, mando, medida y protección para las subestaciones Buchelly, Tumaco y Junín 115/34,5/13,8 kV y subestaciones no atentdidas 34,5/13,8 kV, pertenecientres a Cedenar S.A. E.S.P. | D24: INGEMA S.A. | E24: 7 | F24: 81101700 83101800 | G24: 130618800 | H24: 212.04351 | I24: 1 | J24: =J23+H24*I24 -> 1852.9014 | K24: =IF(H24*I24>0,"HABILITADO", "NO HABILITADO") -> HABILITADO | P24: 10 | X24: =X23+V24*W24 -> 993.67336 | AA24: 10 | AB24: INTERVENTORIA TECNICA, ADMINISTRATIVA, FINANCIEERA, AMBIENTAL, CONTABLE Y JURIDICA A LA INSTALACION DE ILUMINACION DEL ESTADIO DE FUTBOL DIEGO CARVAJAL DEL MUNICIPIO DE MAGANGUE BOLIVAR | AC24: GOBERNACIÓN DE BOLÍVAR | AD24: 23 | AF24: 139998740 | AG24: 189.77 | AH24: 0.45 | AI24: =AI23+AG24*AH24 -> 805.1665 | AL24: 10 | AM24: Construcción, suminsitro y montaje de equipos de corte, control, mando, medida y protección para las subestaciones Buchelly, Tumaco y Junín 115/34,5/13,8 kV y subestaciones no atentdidas 34,5/13,8 kV, pertenecientres a Cedenar S.A. E.S.P. | AN24: INGEMA S.A. | AO24: 7 | AP24: 81101700 83101800 | AQ24: 130618800 | AR24: 212.04351 | AS24: 1 | AT24: =AT23+AR24*AS24 -> 1852.9014 | AU24: =IF(AR24*AS24>0,"HABILITADO", "NO HABILITADO") -> HABILITADO | AW24: 41737 | AX24: 41818 | AY24: 41737 | AZ24: 41818 | BA24: =+(AZ24-AY24+1)/365 -> 0.22465753
B25: 11 | P25: 11 | X25: =X24+V25*W25 -> 993.67336 | AA25: 11 | AB25: Interventoría para los siguientes proyectos: mejoramiento en el sistema de distribución eléctrica en la cabecera municipal de El Charco, departamento de Nariño y mejoramiento en el sistema de redes de distribución eléctrica en media y baja tensión en la cabecera municipal de Bocas de Satinga, municipio de Olaya Herrera – Nariño | AC25: GENSA S.A--ESP | AD25: 21 | AF25: 244953720 | AG25: 332.04 | AH25: 1 | AI25: =AI24+AG25*AH25 -> 1137.2065
B26: 12 | P26: 12 | X26: =X25+V26*W26 -> 993.67336 | AA26: 12 | AB26: Interventoría Técnica, Administrativa, Financiera y Jurídica para el proyecto de “MEJORAMIENTO DE LA INFRAESTRUCTURA DE SANTA MARÍA, GILGAL, SANTUARIO, CUQUE MINA, CUQUE PENIEL, TISLO, TANELA, LA LOMA, PATA PELÁ, QUEBRADA BONITA Y VILLA ESPERANZA, MUNICIPIO DE UNGUÍA, DEPARTAMENTO DEL CHOCÓ” | AC26: DISPAC S.A.-ESP | AD26: 20 | AF26: 466652016 | AG26: 632.56 | AH26: 1 | AI26: =AI25+AG26*AH26 -> 1769.7665
B27: 13 | P27: 13 | X27: =X26+V27*W27 -> 993.67336 | AA27: 13 | AB27: Interventoría Técnica, Administrativa, Financiera y Jurídica para el proyecto de “MEJORAMIENTO Y REPOSICIÓN DEL SISTEMA ELÉCTRICO EN LAS COMUNIDADES INDÍGENAS DE CEDRAL, LA LOMA, PATATO Y DOS BOCAS, CONSTRUCCIÓN DE LA LÍNEA DE INTERCONEXIÓN CACIQUE – PAJAL – MAQUERULE – PUNTA PIÑA, MUNICIPIO DE JURADÓ. DEPARTAMENTO DEL CHOCÓ” | AC27: DISPAC S.A.-ESP | AD27: 19 | AF27: 96582978 | AG27: 130.92 | AH27: 1 | AI27: =AI26+AG27*AH27 -> 1900.6865
B28: 14 | P28: 14 | X28: =X27+V28*W28 -> 993.67336 | AA28: 14 | AB28: Interventoría Técnica, Administrativa, Financiera y Jurídica para el proyecto de “MEJORAMIENTO Y AMPLIACIÓN DE LA INFRAESTRUCTURA ELÉCTRICA DE LA CABECERA MUNICIPAL DE BAHÍA SOLANO Y LAS LOCALIDADES DE EL VALLE, PUNTA HUINA, MECANA, HUACA, PLAYA DE POTES, PLAYA DE FLORES, NABUGA, EL BRAZO Y POSAMANZA, DEPARTAMENTO DEL CHOCÓ” | AC28: DISPAC S.A.-ESP | AD28: 18 | AF28: 499816755 | AG28: 677.52 | AH28: 1 | AI28: =AI27+AG28*AH28 -> 2578.2065 | AZ28: TOTAL AÑOS DE EXPERIENCIA | BA28: =SUM(BA15:BA27) -> 5.0191781
B29: 15 | P29: 15 | X29: =X28+V29*W29 -> 993.67336 | AA29: 15 | AB29: Interventoría Técnica, Administrativa, Financiera y Jurídica para el proyecto de “MEJORAMIENTO DE LA INFRAESTRUCTURA ELÉCTRICA EN LOS CORREGIMIENTOS DE CAPURGANA, SAPZURRO, SAN MIGUEL, PEÑALOZA Y LA CABECERA MUNICIPAL DE ACANDÍ – DEPARTAMENTO DEL CHOCÓ” | AC29: DISPAC S.A.-ESP | AD29: 17 | AF29: 337616613 | AG29: 457.65 | AH29: 1 | AI29: =AI28+AG29*AH29 -> 3035.8565
B30: 16 | P30: 16 | X30: =X29+V30*W30 -> 993.67336 | AA30: 16 | AB30: Interventoría técnica, administrativa y financiera para el contrato de ampliación de la cobertura del alumbrado público en vías, parques y escenarios deportivos en Inirida, Guanía. Emelce S.A.-ESP. | AC30: Empresa de Energía del Guanía S.A.-EMELCE S.A.-ESP | AD30: 3 | AF30: 54932340 | AG30: 89.18 | AH30: 1 | AI30: =AI29+AG30*AH30 -> 3125.0365
B31: 17 | P31: 17 | X31: =X30+V31*W31 -> 993.67336 | AA31: 17 | AI31: =AI30+AG31*AH31 -> 3125.0365
B32: 18 | P32: 18 | X32: =X31+V32*W32 -> 993.67336 | AA32: 18 | AI32: =AI31+AG32*AH32 -> 3125.0365
B33: 19 | P33: 19 | X33: =X32+V33*W33 -> 993.67336 | AA33: 19 | AI33: =AI32+AG33*AH33 -> 3125.0365
B34: 20 | P34: 20 | X34: =X33+V34*W34 -> 993.67336 | AA34: 20 | AI34: =AI33+AG34*AH34 -> 3125.0365
B35: 21 | P35: 21 | X35: =X34+V35*W35 -> 993.67336 | AA35: 21 | AI35: =AI34+AG35*AH35 -> 3125.0365
B36: 22 | P36: 22 | X36: =X35+V36*W36 -> 993.67336 | AA36: 22 | AI36: =AI35+AG36*AH36 -> 3125.0365
B37: 23 | P37: 23 | X37: =X36+V37*W37 -> 993.67336 | AA37: 23 | AI37: =AI36+AG37*AH37 -> 3125.0365
B38: 24 | P38: 24 | X38: =X37+V38*W38 -> 993.67336 | AA38: 24 | AI38: =AI37+AG38*AH38 -> 3125.0365
B39: 25 | P39: 25 | X39: =X38+V39*W39 -> 993.67336 | AA39: 25 | AI39: =AI38+AG39*AH39 -> 3125.0365
B40: 26 | P40: 26 | X40: =X39+V40*W40 -> 993.67336 | AA40: 26 | AI40: =AI39+AG40*AH40 -> 3125.0365
B41: 27 | P41: 27 | X41: =X40+V41*W41 -> 993.67336 | AA41: 27 | AI41: =AI40+AG41*AH41 -> 3125.0365
B42: 28 | P42: 28 | X42: =X41+V42*W42 -> 993.67336 | AA42: 28 | AI42: =AI41+AG42*AH42 -> 3125.0365
... B68: 54 | P68: 54 | X68: =X67+V68*W68 -> 993.67336 | AA68: 54 | AI68: =AI67+AG68*AH68 -> 3125.0365
B69: TOTAL | P69: TOTAL | V69: =SUM(V15:V68) -> 2142.6551 | X69: =IF(MAX(X15:X68)>=H7*0.5,MAX(X15:X68),0) -> 993.67336 | AA69: TOTAL | AG69: =SUM(AG15:AG68) -> 3949.18 | AI69: =IF(MAX(AI15:AI68)>=H7*0.5,MAX(AI15:AI68),0) -> 3125.0365
D76: EXPERIENCIA DEL EQUIPO DE TRABAJO
C79: NOMBRE DEL PROPONENTE: | E79: =H5 -> SEGEN INGENIERIA S.A.S.
...

Sheet Oferente 8
C2: EXPERIENCIA DEL PROPONENTE
C5: NOMBRE DEL OFERENTE | H5: DESARROLLADORA DE PROYECTOS SAS
C7: PRESUPUESTO DEL LOTE MÁXIMO AL QUE PARTICIPAN (en SMMLV) | H7: 1453.2903
C8: VALOR 30% | H8: =H7*0.3 -> 435.9871
C9: VALOR REQUERIDO EN SMMLV
C11: contar con 5 años de experiencia en interventoría o en la construcción y montaje de proyectos del sector eléctrico, de los cuales como mínimo debe incluir un (1) año de experiencia específica en proyectos de generación o distribución de energía eléctrica, cuya sumatoria se igual o superior al 30% del valor del mayor lote ofertado | J11: =IF(BA27>=5,"HABILITA: CUENTA CON MÁS DE 5 AÑOS","NO HABILITA POR TIEMPO") -> HABILITA: CUENTA CON MÁS DE 5 AÑOS | AU11: =IF(BA27>=5,"HABILITA: CUENTA CON MÁS DE 5 AÑOS","NO HABILITA POR TIEMPO") -> HABILITA: CUENTA CON MÁS DE 5 AÑOS
Q12: CONTRATOS QUE ACREDITAN EXPERIENCIA EN FOTOVOLTAICO (ANEXO 8) | AB12: CONTRATOS QUE ACREDITAN EXPERIENCIA ADICIONAL EN ELECTRICOS NO FOTOVOLTAICO (ANEXO 8) | AM12: CONTRATOS DE EXPERIENCIA MÍNIMA PARA HABILITARSE (ANEXO 7)
C13: CONTRATOS DE EXPERIENCIA MÍNIMA PARA HABILITARSE (ANEXO 7) | Q13: OBJETO DEL CONTRATO | R13: ENTIDAD CONTRATANTE O EMPLEADORA | S13: CONSECUTIVO EN EL RUP | T13: CODIGO UNSPSC | U13: VALOR CONTRATO | V13: VALOR DEL CONTRATO TOTAL EN SMMLV | W13: % PARTICIPACIÓN CONSORCIO | X13: ACUMULADO SMMLV | Y13: OBSERVACIONES | AB13: OBJETO DEL CONTRATO | AC13: ENTIDAD CONTRATANTE O EMPLEADORA | AD13: CONSECUTIVO EN EL RUP | AE13: CODIGO UNSPSC | AF13: VALOR CONTRATO | AG13: VALOR DEL CONTRATO TOTAL EN SMMLV | AH13: % PARTICIPACIÓN CONSORCIO | AI13: ACUMULADO SMMLV | AJ13: OBSERVACIONES | AM13: OBJETO DEL CONTRATO | AN13: ENTIDAD CONTRATANTE O EMPLEADORA | AO13: CONSECUTIVO EN EL RUP | AP13: CODIGO UNSPSC | AQ13: VALOR CONTRATO | AR13: VALOR DEL CONTRATO TOTAL EN SMMLV | AS13: % PARTICIPACIÓN CONSORCIO | AT13: ACUMULADO SMMLV | AU13: HABILITADO | AV13: OBSERVACIONES | AW13: FECHA DE INICIO ORIGINAL | AX13: FECHA FIN ORIGINAL | AY13: FECHA DE INICIO AJUSTE TRASLAPOS | AZ13: FECHA FIN AJUSTE TRASLAPOS | BA13: AÑOS DE EXPERIENCIA
C14: OBJETO DEL CONTRATO | D14: ENTIDAD CONTRATANTE O EMPLEADORA | E14: CONSECUTIVO EN EL RUP | F14: CODIGO UNSPSC | G14: VALOR CONTRATO | H14: VALOR DEL CONTRATO TOTAL EN SMMLV | I14: % PARTICIPACIÓN CONSORCIO | J14: ACUMULADO SMMLV | K14: HABILITADO | L14: OBSERVACIONES | M14: CÓDIGO UNSPSC | N14: NOMBRE | P14: 1 | AA14: 1 | AL14: 1 | AM14: INTERVENTORIA EXTERNA AL CONTRATO DE GESTION DE DISPAC EN EL MERCADO DE COMERCIALIZACION | AN14: DISPAC S.A.S. | AO14: 5 | AP14: 81101500 | AQ14: 6655005271 | AR14: 9562.56 | AS14: 1 | AT14: =AR14*AS14 -> 9562.56 | AU14: =IF(AR14*AS14>0,"HABILITADO", "NO HABILITADO") -> HABILITADO | AW14: 40983 | AX14: 42582 | AY14: 40983 | AZ14: 42582 | BA14: =+(AZ14-AY14+1)/365 -> 4.3835616
