Workbook

Sheet Oferente 1
C2: EXPERIENCIA DEL PROPONENTE
C5: NOMBRE DEL OFERENTE | H5: HYV Ingenieros Asociados SAS
C7: PRESUPUESTO DEL LOTE MÁXIMO AL QUE PARTICIPAN (en SMMLV) | H7: 961.67478
C8: VALOR 30% | H8: =H7*0.3 -> 288.50244
C9: VALOR REQUERIDO EN SMMLV
C11: contar con 5 años de experiencia en interventoría o en la construcción y montaje de proyectos del sector eléctrico, de los cuales como mínimo debe incluir un (1) año de experiencia específica en proyectos de generación o distribución de energía eléctrica, cuya sumatoria se igual o superior al 30% del valor del mayor lote ofertado | K11: =IF(BB28>=5,"HABILITA: CUENTA CON MÁS DE 5 AÑOS","NO HABILITA POR TIEMPO") -> HABILITA: CUENTA CON MÁS DE 5 AÑOS | AV11: =IF(BB28>=5,"HABILITA: CUENTA CON MÁS DE 5 AÑOS","NO HABILITA POR TIEMPO") -> HABILITA: CUENTA CON MÁS DE 5 AÑOS
C13: CONTRATOS DE EXPERIENCIA MÍNIMA PARA HABILITARSE (ANEXO 7) | Q13: CONTRATOS QUE ACREDITAN EXPERIENCIA EN FOTOVOLTAICO (ANEXO 8) | AB13: CONTRATOS QUE ACREDITAN EXPERIENCIA ADICIONAL EN ELECTRICOS NO FOTOVOLTAICO (ANEXO 8) | AN13: CONTRATOS DE EXPERIENCIA MÍNIMA PARA HABILITARSE (ANEXO 7)
C14: OBJETO DEL CONTRATO | D14: ENTIDAD CONTRATANTE O EMPLEADORA | E14: CONSECUTIVO EN EL RUP | F14: CODIGO UNSPSC | G14: VALOR CONTRATO | H14: VALOR DEL CONTRATO TOTAL EN SMMLV | I14: % PARTICIPACIÓN CONSORCIO | J14: ACUMULADO SMMLV | K14: HABILITADO | L14: OBSERVACIONES | M14: CÓDIGO UNSPSC | N14: NOMBRE | Q14: OBJETO DEL CONTRATO | R14: ENTIDAD CONTRATANTE O EMPLEADORA | S14: CONSECUTIVO EN EL RUP | T14: CODIGO UNSPSC | U14: VALOR CONTRATO | V14: VALOR DEL CONTRATO TOTAL EN SMMLV | W14: % PARTICIPACIÓN CONSORCIO | X14: ACUMULADO SMMLV | Y14: OBSERVACIONES | AB14: OBJETO DEL CONTRATO | AC14: ENTIDAD CONTRATANTE O EMPLEADORA | AD14: CONSECUTIVO EN EL RUP | AE14: CODIGO UNSPSC | AF14: VALOR CONTRATO | AG14: VALOR DEL CONTRATO TOTAL EN SMMLV | AH14: % PARTICIPACIÓN CONSORCIO | AI14: ACUMULADO SMMLV | AJ14: OBSERVACIONES | AN14: OBJETO DEL CONTRATO | AO14: ENTIDAD CONTRATANTE O EMPLEADORA | AP14: CONSECUTIVO EN EL RUP | AQ14: CODIGO UNSPSC | AR14: VALOR CONTRATO | AS14: VALOR DEL CONTRATO TOTAL EN SMMLV | AT14: % PARTICIPACIÓN CONSORCIO | AU14: ACUMULADO SMMLV | AV14: HABILITADO | AW14: OBSERVACIONES | AX14: FECHA DE INICIO ORIGINAL | AY14: FECHA FIN ORIGINAL | AZ14: FECHA DE INICIO AJUSTE TRASLAPOS | BA14: FECHA FIN AJUSTE TRASLAPOS | BB14: AÑOS DE EXPERIENCIA | BC14: CÓDIGO UNSPSC
B15: 1 | C15: PRESTACIÓN DE SERVICIOS DE ADMINISTRACIÓN EXTERNA PARA LA ELECTRIFICADORA DEL CAQUETA S.A.ESP | D15: ELECTRIFICADORA DEL CAQUETA S.A E.S.P | E15: 1 | F15: 801015-801016-801017-801115-801116-801615-811017-811418 | G15: 829999998 | H15: 1347 | I15: 1 | J15: =H15*I15 -> 1347 | K15: =IF(I15*H15>0,"HABILITADO", "NO HABILITADO") -> HABILITADO | M15: 80101500 | N15: Servicios de consultoría y administración corporativa | P15: 1 | X15: =V15*W15 -> 0 | AA15: 1 | AI15: =AG15*AH15 -> 0 | AM15: 1 | AN15: PRESTACIÓN DE SERVICIOS DE ADMINISTRACIÓN EXTERNA PARA LA ELECTRIFICADORA DEL CAQUETA S.A.ESP | AO15: ELECTRIFICADORA DEL CAQUETA S.A E.S.P | AP15: 1 | AQ15: 801015-801016-801017-801115-801116-801615-811017-811418 | AR15: 829999998 | AS15: 1347 | AT15: 1 | AU15: =AS15*AT15 -> 1347 | AV15: =IF(AS15*AT15>0,"HABILITADO", "NO HABILITADO") -> HABILITADO | AX15: 41699 | AY15: 42004 | AZ15: 41699 | BA15: 42004 | BB15: =+(BA15-AZ15+1)/365 -> 0.83835616 | BC15: 80101500
B16: 2 | C16: ADMINISTRACIÓN DE LAS OBRAS DEL PROYECTO CONSTRUCCION LÍNEA DE INTERCONEXIÓN SAN VICENTE- LOS POZOS-DELICIAS-SAN JUAN DE LOZADA Y SU ÁREA RURAL CON SUBESTACIÓN ELÉCTRICA DE 2.0 MVA A 34.5/14.4 KV EN LAS DELICIAS Y SOLUCIÓN PARCIAL FOTOVOLTAICA SAN VICENTE DEL CAGUÁN | D16: ELECTRIFICADORA DEL CAQUETA S.A E.S.P | E16: 2 | F16: 801015-801016-801017-801115-801116-801615-811017-811418 | G16: 662000400 | H16: 1123 | I16: 1 | J16: =J15+H16*I16 -> 2470 | K16: =IF(I16*H16>0,"HABILITADO", "NO HABILITADO") -> HABILITADO | M16: 80101600 | N16: Servicios de consultoría y administración corporativa | P16: 2 | X16: =X15+V16*W16 -> 0 | AA16: 2 | AI16: =AI15+AG16*AH16 -> 0 | AM16: 2 | AN16: ADMINISTRACIÓN DE LAS OBRAS DEL PROYECTO CONSTRUCCION LÍNEA DE INTERCONEXIÓN SAN VICENTE- LOS POZOS-DELICIAS-SAN JUAN DE LOZADA Y SU ÁREA RURAL CON SUBESTACIÓN ELÉCTRICA DE 2.0 MVA A 34.5/14.4 KV EN LAS DELICIAS Y SOLUCIÓN PARCIAL FOTOVOLTAICA SAN VICENTE DEL CAGUÁN | AO16: ELECTRIFICADORA DEL CAQUETA S.A E.S.P | AP16: 2 | AQ16: 801015-801016-801017-801115-801116-801615-811017-811418 | AR16: 662000400 | AS16: 1123 | AT16: 1 | AU16: =AU15+AS16*AT16 -> 2470 | AV16: =IF(AS16*AT16>0,"HABILITADO", "NO HABILITADO") -> HABILITADO | AX16: 41044 | AY16: 41954 | AZ16: 41044 | BA16: 41550 | BB16: =+(BA16-AZ16+1)/365 -> 1.3890411 | BC16: 80101600
B17: 3 | C17: PRESTACION DE SERVICIOS DE ADMINISTRACION DE LOS CONTRATOS DE LA GERENCIA COMERCIAL | D17: ELECTRIFICADORA DEL CAQUETA S.A E.S.P | E17: 7 | F17: 801015-801016-801017-801115-801116-801615-811017-811418 | G17: 202999995 | H17: 379 | I17: 1 | J17: =J16+H17*I17 -> 2849 | K17: =IF(I17*H17>0,"HABILITADO", "NO HABILITADO") -> HABILITADO | M17: 81101500 | N17: Ingenieria Civil y arquitectura | P17: 3 | X17: =X16+V17*W17 -> 0 | AA17: 3 | AI17: =AI16+AG17*AH17 -> 0 | AM17: 3 | AN17: PRESTACION DE SERVICIOS DE ADMINISTRACION DE LOS CONTRATOS DE LA GERENCIA COMERCIAL | AO17: ELECTRIFICADORA DEL CAQUETA S.A E.S.P | AP17: 7 | AQ17: 801015-801016-801017-801115-801116-801615-811017-811418 | AR17: 202999995 | AS17: 379 | AT17: 1 | AU17: =AU16+AS17*AT17 -> 2849 | AV17: =IF(AS17*AT17>0,"HABILITADO", "NO HABILITADO") -> HABILITADO | AX17: 41701 | AY17: 42157 | AZ17: 41984 | BA17: 42157 | BB17: =+(BA17-AZ17+1)/365 -> 0.47671233 | BC17: 81101500
B18: 4 | C18: LABORES DE INTERVENTORÍA A LOS CONTRATOS DE LOS SERVICIOS DE ATENCIÓN AL CLIENTE, LECTURA Y FACTURACION EN SITIO Y RECAUDO,DONDE LA EMPRESA PRESTA SUS SERVICIOS. | D18: ELECTRIFICADORA DEL CAQUETA S.A E.S.P | E18: 9 | F18: 801015-801016-801017-801115-801116-801615-811017-811418 | G18: 110500000 | H18: 222 | I18: 1 | J18: =J17+H18*I18 -> 3071 | K18: =IF(I18*H18>0,"HABILITADO", "NO HABILITADO") -> HABILITADO | M18: 81101700 | N18: Ingeniería Eléctrica y Electrónica | P18: 4 | X18: =X17+V18*W18 -> 0 | AA18: 4 | AI18: =AI17+AG18*AH18 -> 0 | AM18: 4 | AN18: LABORES DE INTERVENTORÍA A LOS CONTRATOS DE LOS SERVICIOS DE ATENCIÓN AL CLIENTE, LECTURA Y FACTURACION EN SITIO Y RECAUDO,DONDE LA EMPRESA PRESTA SUS SERVICIOS. | AO18: ELECTRIFICADORA DEL CAQUETA S.A E.S.P | AP18: 9 | AQ18: 801015-801016-801017-801115-801116-801615-811017-811418 | AR18: 110500000 | AS18: 222 | AT18: 1 | AU18: =AU17+AS18*AT18 -> 3071 | AV18: =IF(AS18*AT18>0,"HABILITADO", "NO HABILITADO") -> HABILITADO | AX18: 39680 | AY18: 40011 | AZ18: 39680 | BA18: 39981 | BB18: =+(BA18-AZ18+1)/365 -> 0.82739726 | BC18: 81101700
B19: 5 | C19: INTERVENTORIA DE LOS CONTRATOS DE GESTIÓN DE CORRECCIÓN DE PÉRDIDAS NO TECNICAS DE LA DIVISIÓN DE GESTIÓN DE PÉRDIDAS. | D19: ELECTRIFICADORA DEL CAQUETA S.A E.S.P | E19: 16 | F19: 801015-801016-801017-801115-801116-801615-811017-811418 | G19: 65000000 | H19: 150 | I19: 1 | J19: =J18+H19*I19 -> 3221 | K19: =IF(I19*H19>0,"HABILITADO", "NO HABILITADO") -> HABILITADO | M19: 83101800 | N19: Servicios Eléctricos | P19: 5 | X19: =X18+V19*W19 -> 0 | AA19: 5 | AI19: =AI18+AG19*AH19 -> 0 | AM19: 5 | AN19: INTERVENTORIA DE LOS CONTRATOS DE GESTIÓN DE CORRECCIÓN DE PÉRDIDAS NO TECNICAS DE LA DIVISIÓN DE GESTIÓN DE PÉRDIDAS. | AO19: ELECTRIFICADORA DEL CAQUETA S.A E.S.P | AP19: 16 | AQ19: 801015-801016-801017-801115-801116-801615-811017-811418 | AR19: 65000000 | AS19: 150 | AT19: 1 | AU19: =AU18+AS19*AT19 -> 3221 | AV19: =IF(AS19*AT19>0,"HABILITADO", "NO HABILITADO") -> HABILITADO | AX19: 39139 | AY19: 39289 | AZ19: 39139 | BA19: 39289 | BB19: =+(BA19-AZ19+1)/365 -> 0.41369863 | BC19: 83101800
B20: 6 | C20: INTERVENTORIA DE LOS CONTRATOS DE GESTIÓN DE CORRECCIÓN DE PÉRDIDAS NO TECNICAS DE LA DIVISIÓN DE GESTIÓN EN PÉRDIDAS. | D20: ELECTRIFICADORA DEL CAQUETA S.A E.S.P | E20: 14 | F20: 801015-801016-801017-801115-801116-801615-811017-811418 | G20: 70000000 | H20: 161 | I20: 1 | J20: =J19+H20*I20 -> 3382 | K20: =IF(I20*H20>0,"HABILITADO", "NO HABILITADO") -> HABILITADO | P20: 6 | X20: =X19+V20*W20 -> 0 | AA20: 6 | AI20: =AI19+AG20*AH20 -> 0 | AM20: 6 | AN20: INTERVENTORIA DE LOS CONTRATOS DE GESTIÓN DE CORRECCIÓN DE PÉRDIDAS NO TECNICAS DE LA DIVISIÓN DE GESTIÓN EN PÉRDIDAS. | AO20: ELECTRIFICADORA DEL CAQUETA S.A E.S.P | AP20: 14 | AQ20: 801015-801016-801017-801115-801116-801615-811017-811418 | AR20: 70000000 | AS20: 161 | AT20: 1 | AU20: =AU19+AS20*AT20 -> 3382 | AV20: =IF(AS20*AT20>0,"HABILITADO", "NO HABILITADO") -> HABILITADO | AX20: 39315 | AY20: 39435 | AZ20: 39315 | BA20: 39435 | BB20: =+(BA20-AZ20+1)/365 -> 0.33150685
B21: 7 | C21: ADMINISTRACIÓN CONTRATOS DE MANTENIMIENTO DE REDES EN NÚCLEOS ASIGNADOS DEL MUNICIPIO DEL SAN VICENTE DEL CAGÚAN. | D21: ELECTRIFICADORA DEL CAQUETA S.A E.S.P | E21: 22 | F21: 801015-801016-801017-801115-801116-801615-811017-811418 | G21: 34997200 | H21: 65 | I21: 1 | J21: =J20+H21*I21 -> 3447 | K21: =IF(I21*H21>0,"HABILITADO", "NO HABILITADO") -> HABILITADO | P21: 7 | X21: =X20+V21*W21 -> 0 | AA21: 7 | AI21: =AI20+AG21*AH21 -> 0 | AM21: 7 | AN21: ADMINISTRACIÓN CONTRATOS DE MANTENIMIENTO DE REDES EN NÚCLEOS ASIGNADOS DEL MUNICIPIO DEL SAN VICENTE DEL CAGÚAN. | AO21: ELECTRIFICADORA DEL CAQUETA S.A E.S.P | AP21: 22 | AQ21: 801015-801016-801017-801115-801116-801615-811017-811418 | AR21: 34997200 | AS21: 65 | AT21: 1 | AU21: =AU20+AS21*AT21 -> 3447 | AV21: =IF(AS21*AT21>0,"HABILITADO", "NO HABILITADO") -> HABILITADO | AX21: 40884 | AY21: 40908 | AZ21: 40884 | BA21: 40908 | BB21: =+(BA21-AZ21+1)/365 -> 0.068493151
B22: 8 | C22: INTERVENTORÍA TÉCNICA, ADMINISTRATIVA Y FINANCIERA AL CONTRATO DERIVADO DEL PROCESO LICITATORIO 003 OBJETO CONSTRUCCIÓN ELECTRIFICACION RURAL LINEA DE MEDIA, BAJA TENSIÓN Y MONTAJE DE SUBESTACIÓN AÉREA PARA LA INSPECCIÓN DE POLICÍA DE GALLINAZO, MUNICIPIO DE PUERTO GUZMAS DEPARTAMENTO DEL PUTUMAYO. | D22: MUNICIPIO DE PUERTO GUZMAN | E22: 33 | F22: 801015-801016-801017-801115-801116-801615-811017-811418 | G22: 23306997 | H22: 40 | I22: 1 | J22: =J21+H22*I22 -> 3487 | K22: =IF(I22*H22>0,"HABILITADO", "NO HABILITADO") -> HABILITADO | P22: 8 | X22: =X21+V22*W22 -> 0 | AA22: 8 | AI22: =AI21+AG22*AH22 -> 0 | AM22: 8 | AN22: INTERVENTORÍA TÉCNICA, ADMINISTRATIVA Y FINANCIERA AL CONTRATO DERIVADO DEL PROCESO LICITATORIO 003 OBJETO CONSTRUCCIÓN ELECTRIFICACION RURAL LINEA DE MEDIA, BAJA TENSIÓN Y MONTAJE DE SUBESTACIÓN AÉREA PARA LA INSPECCIÓN DE POLICÍA DE GALLINAZO, MUNICIPIO DE PUERTO GUZMAS DEPARTAMENTO DEL PUTUMAYO. | AO22: MUNICIPIO DE PUERTO GUZMAN | AP22: 33 | AQ22: 801015-801016-801017-801115-801116-801615-811017-811418 | AR22: 23306997 | AS22: 40 | AT22: 1 | AU22: =AU21+AS22*AT22 -> 3487 | AV22: =IF(AS22*AT22>0,"HABILITADO", "NO HABILITADO") -> HABILITADO | AX22: 41344 | AY22: 41494 | AZ22: 41344 | BA22: 41494 | BB22: =+(BA22-AZ22+1)/365 -> 0.41369863
B23: 9 | C23: LEVANTAMIENTO DE LA INFORMACIÓN DE LAS REDES ELÉCTRICAS DE MEDIA Y BAJA TENSIÓN DEL MUNICIPIO DE CARTAGENA DEL CHAIRÁ. | D23: ELECTRIFICADORA DEL CAQUETA S.A E.S.P | E23: 41 | F23: 801015-801016-801017-801115-801116-801615-811017-811418 | G23: 12986200 | H23: 28 | I23: 1 | J23: =J22+H23*I23 -> 3515 | K23: =IF(I23*H23>0,"HABILITADO", "NO HABILITADO") -> HABILITADO | P23: 9 | X23: =X22+V23*W23 -> 0 | AA23: 9 | AI23: =AI22+AG23*AH23 -> 0 | AM23: 9 | AN23: LEVANTAMIENTO DE LA INFORMACIÓN DE LAS REDES ELÉCTRICAS DE MEDIA Y BAJA TENSIÓN DEL MUNICIPIO DE CARTAGENA DEL CHAIRÁ. | AO23: ELECTRIFICADORA DEL CAQUETA S.A E.S.P | AP23: 41 | AQ23: 801015-801016-801017-801115-801116-801615-811017-811418 | AR23: 12986200 | AS23: 28 | AT23: 1 | AU23: =AU22+AS23*AT23 -> 3515 | AV23: =IF(AS23*AT23>0,"HABILITADO", "NO HABILITADO") -> HABILITADO | AX23: 39377 | AY23: 39497 | AZ23: 39436 | BA23: 39497 | BB23: =+(BA23-AZ23+1)/365 -> 0.16986301
B24: 10 | C24: ADMINISTRACIÓN DE LAS OBRAS DE CONSTRUCCIÓN REDES DE ELECTRIFICACIÓN RURAL DE LAS VEREDAS PORVENIR ALTO, CARBON, LA TORTUGA III, SAN LUIS, PUENTE RIO PESCADO, MUNICIPIO DE BELEN DE LOS ANDAQUIES DEPARTAMENTO DEL CAQUETA. | D24: ELECTRIFICADORA DEL CAQUETA S.A E.S.P | E24: 43 | F24: 801015-801016-801017-801115-801116-801615-811017-811418 | G24: 10636888 | H24: 18 | I24: 1 | J24: =J23+H24*I24 -> 3533 | K24: =IF(I24*H24>0,"HABILITADO", "NO HABILITADO") -> HABILITADO | P24: 10 | X24: =X23+V24*W24 -> 0 | AA24: 10 | AI24: =AI23+AG24*AH24 -> 0 | AM24: 10 | AN24: ADMINISTRACIÓN DE LAS OBRAS DE CONSTRUCCIÓN REDES DE ELECTRIFICACIÓN RURAL DE LAS VEREDAS PORVENIR ALTO, CARBON, LA TORTUGA III, SAN LUIS, PUENTE RIO PESCADO, MUNICIPIO DE BELEN DE LOS ANDAQUIES DEPARTAMENTO DEL CAQUETA. | AO24: ELECTRIFICADORA DEL CAQUETA S.A E.S.P | AP24: 43 | AQ24: 801015-801016-801017-801115-801116-801615-811017-811418 | AR24: 10636888 | AS24: 18 | AT24: 1 | AU24: =AU23+AS24*AT24 -> 3533 | AV24: =IF(AS24*AT24>0,"HABILITADO", "NO HABILITADO") -> HABILITADO | AX24: 41610 | AY24: 41639 | AZ24: 41610 | BA24: 41639 | BB24: =+(BA24-AZ24+1)/365 -> 0.082191781
B25: 11 | C25: INTERVENTORÍA TÉCNICA AL CONVENIO DE COOPERACION INTERINSTITUCIONAL No. 018 ENTRE EL MUNICIPIO DE LA MONTAÑITA Y LA ELECTRIFICADORA DEL CAQUETA S.A E.S.P | D25: MUNICIPIO DE LA MONTAÑITA | E25: 45 | F25: 801015-801016-801017-801115-801116-801615-811017-811418 | G25: 5000000 | H25: 0 | I25: 0 | J25: =J24+H25*I25 -> 3533 | K25: =IF(I25*H25>0,"HABILITADO", "NO HABILITADO") -> NO HABILITADO | L25: De conformidad con el numeral 3.2.3. a.1 la certificación aportada por el proponente no cumple con la totalidad de los criterios esetablecidos por la entidad dado que no es claro el objeto del mismo para cumplir con el requisito habilitante, de esta manera se evidencia un contrato y su objeto pero no son claras las actividades realizadas, es decir no se puede evidenciar que el contrato sea de construcción o interventoría de proyectos del sector eléctrico, se solicita al proponente subsanar tal información. | P25: 11 | X25: =X24+V25*W25 -> 0 | AA25: 11 | AI25: =AI24+AG25*AH25 -> 0 | AM25: 11 | AN25: INTERVENTORÍA TÉCNICA AL CONVENIO DE COOPERACION INTERINSTITUCIONAL No. 018 ENTRE EL MUNICIPIO DE LA MONTAÑITA Y LA ELECTRIFICADORA DEL CAQUETA S.A E.S.P | AO25: MUNICIPIO DE LA MONTAÑITA | AP25: 45 | AQ25: 801015-801016-801017-801115-801116-801615-811017-811418 | AR25: 5000000 | AS25: 0 | AT25: 0 | AU25: =AU24+AS25*AT25 -> 3533 | AV25: =IF(AS25*AT25>0,"HABILITADO", "NO HABILITADO") -> NO HABILITADO | AW25: De conformidad con el numeral 3.2.3. a.1 la certificación aportada por el proponente no cumple con la totalidad de los criterios esetablecidos por la entidad dado que no es claro el objeto del mismo para cumplir con el requisito habilitante, de esta manera se evidencia un contrato y su objeto pero no son claras las actividades realizadas, es decir no se puede evidenciar que el contrato sea de construcción o interventoría de proyectos del sector eléctrico, se solicita al proponente subsanar tal información. | AX25: 39982 | AY25: 40052 | AZ25: 39982 | BA25: 40052 | BB25: 0
B26: 12 | C26: REALIZAR LA INTERVENTORÍA TÉCNICA SOBRE EL CONTRATO DE OBRA CUYO OBJETO CORRESPONDE A"CONSTRUCCIÓN DE REDES DE ALUMBRADO PUBLICO PARA LA CANCHA DE FÚTBOL DEL MUNICIPIO DE MORELIA-CAQUETÁ". | D26: MUNICIPIO DE MORELIA | E26: 52 | F26: 801015-801016-801415-801615-811017-811024-811027-811215-811418-831018-831019 | G26: 19080460 | H26: 24.42 | I26: 1 | J26: =J25+H26*I26 -> 3557.42 | K26: =IF(I26*H26>0,"HABILITADO", "NO HABILITADO") -> HABILITADO | P26: 12 | X26: =X25+V26*W26 -> 0 | AA26: 12 | AI26: =AI25+AG26*AH26 -> 0 | AM26: 12 | AN26: REALIZAR LA INTERVENTORÍA TÉCNICA SOBRE EL CONTRATO DE OBRA CUYO OBJETO CORRESPONDE A"CONSTRUCCIÓN DE REDES DE ALUMBRADO PUBLICO PARA LA CANCHA DE FÚTBOL DEL MUNICIPIO DE MORELIA-CAQUETÁ". | AO26: MUNICIPIO DE MORELIA | AP26: 52 | AQ26: 801015-801016-801415-801615-811017-811024-811027-811215-811418-831018-831019 | AR26: 19080460 | AS26: 24.42 | AT26: 1 | AU26: =AU25+AS26*AT26 -> 3557.42 | AV26: =IF(AS26*AT26>0,"HABILITADO", "NO HABILITADO") -> HABILITADO | AX26: 21/03/2018 | AY26: 20/6/2018 | AZ26: 43180 | BA26: 43271 | BB26: =+(BA26-AZ26+1)/365 -> 0.25205479
B27: 13 | P27: 13 | X27: =X26+V27*W27 -> 0 | AA27: 13 | AI27: =AI26+AG27*AH27 -> 0 | AM27: 13 | BB27: 0
B28: 14 | P28: 14 | X28: =X27+V28*W28 -> 0 | AA28: 14 | AI28: =AI27+AG28*AH28 -> 0 | AM28: 14 | BA28: TOTAL AÑOS DE EXPERIENCIA | BB28: =SUM(BB15:BB27) -> 5.2630137
B29: 15 | P29: 15 | X29: =X28+V29*W29 -> 0 | AA29: 15 | AI29: =AI28+AG29*AH29 -> 0
B30: 16 | P30: 16 | X30: =X29+V30*W30 -> 0 | AA30: 16 | AI30: =AI29+AG30*AH30 -> 0
B31: 17 | P31: 17 | X31: =X30+V31*W31 -> 0 | AA31: 17 | AI31: =AI30+AG31*AH31 -> 0
B32: 18 | P32: 18 | X32: =X31+V32*W32 -> 0 | AA32: 18 | AI32: =AI31+AG32*AH32 -> 0
B33: 19 | P33: 19 | X33: =X32+V33*W33 -> 0 | AA33: 19 | AI33: =AI32+AG33*AH33 -> 0
B34: 20 | P34: 20 | X34: =X33+V34*W34 -> 0 | AA34: 20 | AI34: =AI33+AG34*AH34 -> 0
B35: 21 | P35: 21 | X35: =X34+V35*W35 -> 0 | AA35: 21 | AI35: =AI34+AG35*AH35 -> 0
B36: 22 | P36: 22 | X36: =X35+V36*W36 -> 0 | AA36: 22 | AI36: =AI35+AG36*AH36 -> 0
B37: 23 | P37: 23 | X37: =X36+V37*W37 -> 0 | AA37: 23 | AI37: =AI36+AG37*AH37 -> 0
B38: 24 | P38: 24 | X38: =X37+V38*W38 -> 0 | AA38: 24 | AI38: =AI37+AG38*AH38 -> 0
B39: 25 | P39: 25 | X39: =X38+V39*W39 -> 0 | AA39: 25 | AI39: =AI38+AG39*AH39 -> 0
B40: 26 | P40: 26 | X40: =X39+V40*W40 -> 0 | AA40: 26 | AI40: =AI39+AG40*AH40 -> 0
... B68: 54 | P68: 54 | X68: =X67+V68*W68 -> 0 | AA68: 54 | AI68: =AI67+AG68*AH68 -> 0
B69: TOTAL | P69: TOTAL | V69: =SUM(V15:V68) -> 0 | X69: =IF(MAX(X15:X68)>=H7*0.5,MAX(X15:X68),0) -> 0 | AA69: TOTAL | AG69: =SUM(AG15:AG68) -> 0 | AI69: =IF(MAX(AI15:AI68)>=H7*0.5,MAX(AI15:AI68),0) -> 0
D76: EXPERIENCIA DEL EQUIPO DE TRABAJO
C79: NOMBRE DEL PROPONENTE: | E79: =H5 -> HYV Ingenieros Asociados SAS
C80: NOMBRE DEL PROFESIONAL | E80: Arlintong Luis Medina Coneo
C81: CARGO EN EL EQUIPO DE TRABAJO | E81: DIRECTOR DE INTERVENTORIA
...

Sheet Oferente 2
C2: EXPERIENCIA DEL PROPONENTE
C5: NOMBRE DEL OFERENTE | H5: CONSORCIO PROISES
C7: PRESUPUESTO DEL LOTE MÁXIMO AL QUE PARTICIPAN (en SMMLV) | H7: 1072.8034
C8: VALOR 30% | H8: =H7*0.3 -> 321.84103
C9: VALOR REQUERIDO EN SMMLV
C11: contar con 5 años de experiencia en interventoría o en la construcción y montaje de proyectos del sector eléctrico, de los cuales como mínimo debe incluir un (1) año de experiencia específica en proyectos de generación o distribución de energía eléctrica, cuya sumatoria se igual o superior al 30% del valor del mayor lote ofertado | K11: =IF(BA21>=5,"HABILITA: CUENTA CON MÁS DE 5 AÑOS","NO HABILITA POR TIEMPO") -> HABILITA: CUENTA CON MÁS DE 5 AÑOS | AU11: =IF(BA21>=5,"HABILITA: CUENTA CON MÁS DE 5 AÑOS","NO HABILITA POR TIEMPO") -> HABILITA: CUENTA CON MÁS DE 5 AÑOS
C13: CONTRATOS DE EXPERIENCIA MÍNIMA PARA HABILITARSE (ANEXO 7) | Q13: CONTRATOS QUE ACREDITAN EXPERIENCIA EN FOTOVOLTAICO (ANEXO 8) | AB13: CONTRATOS QUE ACREDITAN EXPERIENCIA ADICIONAL EN ELECTRICOS NO FOTOVOLTAICO (ANEXO 8) | AM13: CONTRATOS DE EXPERIENCIA MÍNIMA PARA HABILITARSE (ANEXO 7)
C14: OBJETO DEL CONTRATO | D14: ENTIDAD CONTRATANTE O EMPLEADORA | E14: CONSECUTIVO EN EL RUP | F14: CODIGO UNSPSC | G14: VALOR CONTRATO | H14: VALOR DEL CONTRATO TOTAL EN SMMLV | I14: % PARTICIPACIÓN CONSORCIO | J14: ACUMULADO SMMLV | K14: HABILITADO | L14: OBSERVACIONES | M14: CÓDIGO UNSPSC | N14: NOMBRE | Q14: OBJETO DEL CONTRATO | R14: ENTIDAD CONTRATANTE O EMPLEADORA | S14: CONSECUTIVO EN EL RUP | T14: CODIGO UNSPSC | U14: VALOR CONTRATO | V14: VALOR DEL CONTRATO TOTAL EN SMMLV | W14: % PARTICIPACIÓN CONSORCIO | X14: ACUMULADO SMMLV | Y14: OBSERVACIONES | AB14: OBJETO DEL CONTRATO | AC14: ENTIDAD CONTRATANTE O EMPLEADORA | AD14: CONSECUTIVO EN EL RUP | AE14: CODIGO UNSPSC | AF14: VALOR CONTRATO | AG14: VALOR DEL CONTRATO TOTAL EN SMMLV | AH14: % PARTICIPACIÓN CONSORCIO | AI14: ACUMULADO SMMLV | AJ14: OBSERVACIONES | AM14: OBJETO DEL CONTRATO | AN14: ENTIDAD CONTRATANTE O EMPLEADORA | AO14: CONSECUTIVO EN EL RUP | AP14: CODIGO UNSPSC | AQ14: VALOR CONTRATO | AR14: VALOR DEL CONTRATO TOTAL EN SMMLV | AS14: % PARTICIPACIÓN CONSORCIO | AT14: ACUMULADO SMMLV | AU14: HABILITADO | AV14: OBSERVACIONES | AW14: FECHA DE INICIO ORIGINAL | AX14: FECHA FIN ORIGINAL | AY14: FECHA DE INICIO AJUSTE TRASLAPOS | AZ14: FECHA FIN AJUSTE TRASLAPOS | BA14: AÑOS DE EXPERIENCIA
B15: 1 | C15: Interventoría para la normalización de las redes eléctricas en el barrio Las frías en el municipio de Sabanagrande, en el atlántico | D15: GOBERNACION DEL ATLANTICO | E15: 13 (PROINGES SAS) | F15: 80101500 80101600 81101700 83101800 81101500 | G15: 24704520 | H15: 31.62 | I15: 1 | J15: =H15*I15 -> 31.62 | K15: =IF(H15*I15>0,"HABILITADO", "NO HABILITADO") -> HABILITADO | M15: 80101500 | N15: Servicios de consultoría y administración corporativa | P15: 1 | Q15: Interventoria técnica, administrativa, financiera, jurídica, ambiental, social, y contable para la implementación de un sistema de generación de energía eléctrica a nivel residencial en los hogares priorizados a través del uso de fuentes renovables (fotovoltaica) por 250 familias ubicadas en las veredas El Trigo, Marimonda, Conejo, San Agustin, Puerto Lopez, Quebrachal, Sabana del Medio, El Toco, Las Iguana, Mediadia, La illa, El Chorro, El Puy, Hatico Viejo, Jabuey, El Confuso, La Bendiciones, Las Colonias, Los Altos y El Resguardo Indígena Mayamangloma integrado por las cuatro comunidades: Mayavita, Bangañita, La Gloria y La Loma, estas veredas se encuentran ubicadas en el área rural del municipio de Fonseca - Guajira. | R15: Empresa Distribuidora del pacifico S.A. E.S.P | S15: 6 (ProInges S.A.S) | T15: 80101500 80101600 81101700 83101800 81101500 | U15: 206534415 | V15: 249.4 | W15: 1 | X15: =V15*W15 -> 249.4 | AA15: 1 | AB15: Interventoria Tecnica, Administrativa y Ambiental de la construcción de las salidas de la subestación Galeras y construcción de la línea a 34.5kV Galeras-San Benito Abad departamento de Sucre y construcción salida subestación Santa Ines y construcción de la linea a 34.5kV Santa-Ines-La Unión ampliación de la subestación la Unión departamento de Sucre. | AC15: Gobernación Departamento de Sucre | AD15: 1(ProInges S.A.S) | AE15: 80101500 80101600 81101700 83101800 81101500 | AF15: 398726500 | AG15: 703.59 | AH15: 1 | AI15: =AG15*AH15 -> 703.59 | AL15: 1 | AM15: Interventoría para la normalización de las redes eléctricas en el barrio Las frías en el municipio de Sabanagrande, en el atlántico | AN15: GOBERNACION DEL ATLANTICO | AO15: 13 (PROINGES SAS) | AP15: 80101500 80101600 81101700 83101800 81101500 | AQ15: 24704520 | AR15: 31.62 | AS15: 1 | AT15: =AR15*AS15 -> 31.62 | AU15: =IF(AR15*AS15>0,"HABILITADO", "NO HABILITADO") -> HABILITADO | AW15: 42100 | AX15: 43136 | AY15: 42100 | AZ15: 43136 | BA15: =+(AZ15-AY15+1)/365 -> 2.8410959
B16: 2 | C16: Interventoría técnica para la obra de electrificación del sector turístico de puerto velero municipio de Tubara Departamento del Atlántico | D16: GOBERNACION DEL ATLANTICO | E16: 18 (PROINGES SAS) | F16: 80101500 80101600 81101700 83101800 81101500 | G16: =19855919+6009134 -> 25865053 | H16: 43.87 | I16: 1 | J16: =J15+H16*I16 -> 75.49 | K16: =IF(H16*I16>0,"HABILITADO", "NO HABILITADO") -> HABILITADO | M16: 80101600 | N16: Servicios de consultoría y administración corporativa | P16: 2 | Q16: Interventoria técnica, administrativa, financiera, juridica y contable para las obras de suministro, transporte e instalación e implementación de la construcción instalación e implementación de soluciones de energía individuales sostenibles consistentes en sistemas solares fotovoltaicos para viviendas rurales en las zonas no interconectadas de las veredas El Peneya, Loma Larga, Jordan, El Paraiso, Animas Altas, El Porvenir 1, Santa Fe, Alta Sardinata, Remanzos, Monterrey, La Granja, Aguas Claras, Andaquies, Barcelona, Villanueva, Risaralda, Fundación, Santo Domingo, La Sabaleta Baja, El caño Santo Domingo, Caracol, Lejanias, Arrallantes, Alto Cristales, Dos Quebradas, Paujiles, La Ceiba, Argentina, Los Cauchos, La Uribe, Lobites, Pores, Sardinata y Libano del municipio de Cartagena del Chairá - Caqueta (947 Soluciones) | R16: Empresa Distribuidora del pacifico S.A. E.S.P | S16: 28 (ProInges S.A.S) | T16: 80101500 80101600 81101700 83101800 81101500 | U16: 908673726 | V16: 1097.27 | W16: 0.5 | X16: =X15+V16*W16 -> 798.035 | AA16: 2 | AB16: Interventoria para la Construcción de línea de 34.5kV para interconectar los municipios del Difícil y Nueva Granada y la construcción de una subestación de 2Mva en el Municipio de Nueva Granada y la adecuación de la salida de la subestación del Municipio del Difícil. | AC16: Alcaldia del Municipio de Nueva Granada-Magdalena | AD16: 2 (ProInges S.A.S) | AE16: 80101500 80101600 81101700 83101800 81101500 | AF16: 124690000 | AG16: 232.8 | AH16: 1 | AI16: =AI15+AG16*AH16 -> 936.39 | AL16: 2 | AM16: Interventoría técnica para la obra de electrificación del sector turístico de puerto velero municipio de Tubara Departamento del Atlántico | AN16: GOBERNACION DEL ATLANTICO | AO16: 18 (PROINGES SAS) | AP16: 80101500 80101600 81101700 83101800 81101500 | AQ16: =19855919+6009134 -> 25865053 | AR16: 43.87 | AS16: 1 | AT16: =AT15+AR16*AS16 -> 75.49 | AU16: =IF(AR16*AS16>0,"HABILITADO", "NO HABILITADO") -> HABILITADO | AW16: 40903 | AX16: 41625 | AY16: 40903 | AZ16: 41625 | BA16: =+(AZ16-AY16+1)/365 -> 1.9808219
B17: 3 | C17: Interventoría para la normalización de las redes eléctricas en los barrios Recreo y San Francisco en el municipio de Sabanagrande, en el atlántico | D17: GOBERNACION DEL ATLANTICO | E17: 23 (PROINGES SAS) | F17: 80101500 80101600 81101700 83101800 81101500 | G17: 47014229 | H17: 76.32 | I17: 1 | J17: =J16+H17*I17 -> 151.81 | K17: =IF(H17*I17>0,"HABILITADO", "NO HABILITADO") -> HABILITADO | M17: 81101500 | N17: Ingenieria Civil y arquitectura | P17: 3 | Q17: Contratar La Prestación De Servicios De Interventoría Para Los Proyectos: 1) Construcción De Sistemas De Energía Alternativa Solar Fotovoltaica Para Viviendas Rurales En El Municipio De Santa Rosalía En Las Veredas De Pavanay, Bordereño, Control, La Ladera, Caño Negro, San Marcos, Guacacias, Flor Amarillo Y Nazareth En Las Zonas No Interconectadas Del Departamento De Vichada Y 2) Suministro, Transporte Y Construcción De Caseta, Planta Eléctrica, Red Trenzada De Baja Tensión, Acometidas Domiciliarias Antifraude De Las Veredas De Guayabales, Puerto Flores, Chuapal, La Paz Y Catalina Y Reposición De Las Plantas Eléctricas De Las Veredas Cachicamo, Caño Maku, Guanapalo Y Charras De Los Municipios De San José Del Guaviare Y El Retorno, Departamento Del Guaviare. | R17: GENSA | S17: 59 (ISES S.A.S) | T17: 80101500 80101600 81101700 83101800 81101500 | U17: 178009152 | V17: 241.29 | W17: 1 | X17: =X16+V17*W17 -> 1039.325 | AA17: 3 | AB17: Interventoria tecnica, administrativa y financiera a las obras de implementacion, montaje y puesta en operación de la infraestructura necesaria para las redes de distribución electrica relativas al proyecto denominado "Modernizacion y Mejoramiento de las redes electricas de media y baja tensión del corregimiento de Palmor municipio de Cienaga Departamento del Magdalena". | AC17: IPSE-INSTITUTO DE PLANIFICACION Y PROMOCION DE SOLUCIONES ENERGETICAS PARA LAS ZONAS NO INTERCONECTADAS. | AD17: 4 (ProInges S.A.S) | AE17: 80101500 80101600 81101700 83101800 81101500 | AF17: 71000000 | AG17: 115.25 | AH17: 1 | AI17: =AI16+AG17*AH17 -> 1051.64 | AL17: 3 | AM17: Interventoría para la normalización de las redes eléctricas en los barrios Recreo y San Francisco en el municipio de Sabanagrande, en el atlántico | AN17: GOBERNACION DEL ATLANTICO | AO17: 23 (PROINGES SAS) | AP17: 80101500 80101600 81101700 83101800 81101500 | AQ17: 47014229 | AR17: 76.32 | AS17: 1 | AT17: =AT16+AR17*AS17 -> 151.81 | AU17: =IF(AR17*AS17>0,"HABILITADO", "NO HABILITADO") -> HABILITADO | AW17: 41579 | AX17: 41991 | AY17: 41625 | AZ17: 41991 | BA17: =+(AZ17-AY17+1)/365 -> 1.0054795
B18: 4 | C18: Consultoría para la revisión y adaptación de las normas de diseño y construcción de subestaciones de EPSA E.S.P., de alta y media tensión | D18: EMPRESA DE ENERGÍA DEL PACIFICO SA ESP EPSA ESP | E18: 1 (ISES S.A.S) | F18: 80101600 81101700 83101800 81101500 | G18: 427547000 | H18: 754.45 | I18: 0 | J18: =J17+H18*I18 -> 151.81 | K18: =IF(H18*I18>0,"HABILITADO", "NO HABILITADO") -> NO HABILITADO | L18: este contrato No 4. no puede ser tenido en cuenta como experiencia mínima habilitante ya que su objeto no es concerniente a interventoría, construcción y montaje de proyectos del sector eléctrico. y tal y como se ha mencionado en las observaciones, es necesario que los contratos presentados guarden relación con la experiencia solicitada, ejemplo de esto es la observación realizada a la empresa JORGE BARRETO con fecha de observación EXTEMPORÁNEA, en la cual se aclara qué: _x000D_ _x000D_ “ OBSERVACIÓN NO. 1 _x000D_ “(…) En el numeral 3.2.3 CAPACIDAD TECNICA (HABILITA/ NO HABILITA) apartado a. EXPERIENCIA MINIMA HABILITANTE DEL PROPONENTE establece textualmente lo siguiente:_x000D_ “El proponente deberá cumplir con los requisitos establecidos en el artículo 4o de la Resolución 1 1208 de 2016, es decir, contar con 5 años de experiencia en interventoría o en la construcción y montaje de proyectos del sector eléctrico, de los cuales como mínimo debe incluir un (1) año de experiencia específica en proyectos de generación o distribución de energía eléctrica.” _x000D_ Solicito muy respetuosamente al Ministerio de Minas y Energía aclarar la forma de cómo se debe acreditar esta experiencia y como el Ministerio evaluara dicho requisito. (…)”_x000D_ RESPUESTA OBSERVACIÓN No.1 _x000D_ El Ministerio de Minas y Energía se permite aclarar que la experiencia del proponente exigida está establecida en el artículo 4 de la Resolución 4 1208 de 2016 y consiste en acreditar cinco (5) años de experiencia en interventoría en el sector eléctrico o en la construcción y montaje de proyectos del sector eléctrico, de los cuales como mínimo debe incluir un (1) año de experiencia específica en proyectos de generación o distribución de energía eléctrica._x000D_ Para ello el Ministerio de Minas y Energía en el pliego de condiciones hace expresa mención a la forma de acreditación de la experiencia, el cual entre otras cosas indica:_x000D_ “a.1 FORMA DE ACREDITACIÓN DE LA EXPERIENCIA _x000D_ Para la acreditación de experiencia mínima habilitante, el OFERENTE debe: _x000D_ 1. a) El PROPONENTE deberá presentar el RUP e identificar claramente cuales contratos deberá tener en cuenta el MINISTERIO para validar la experiencia solicitada. _x000D_ 2. b) Adjuntar las certificaciones de los contratos respectivas expedidas por terceros, en donde se evidencie la siguiente información: _x000D_ ● Nombre de la entidad contratante o empleador _x000D_ ● Nombre del contratista o firma que llevó a cabo la ejecución del contrato _x000D_ ● Fecha de inicio y terminación del contrato y/o proyecto (dd/mm/aa) _x000D_ ● Objeto u obligaciones u actividades. _x000D_ ● Nombre, cargo y firma de quien expide la certificación. _x000D_ _x000D_ En caso de que, la certificación no contenga la totalidad de la información, EL PROPONENTE podrá aportar otro tipo de documento(s) que complementen la información requerida para acreditar la experiencia, tales como, acta de liquidación, acta de terminación y recibo a satisfacción o certificación de contrato. Es importante aclarar que el Ministerio de Minas y Energía no aceptará como un nuevo contrato las adiciones o prorrogas. (…)”_x000D_ De conformidad con lo anterior, la evaluación de esta experiencia se verificará de acuerdo con dichos criterios, es decir verificando en el RUP la inscripción los contratos que se pretenden acreditar, así mismo, se analizarán las certificaciones aportadas, a fin de verificar el cumplimiento de la experiencia mencionada en la respectiva, sin que exista límite en el número de contratos que los proponentes puedan aportar para ello siempre y cuando la sumatoria de los mismos sea igual o superior al 30% del presupuesto oficial del lote de mayor valor ofertado, expresado en SMMLV”_x000D_ | M18: 81101700 | N18: Ingeniería Eléctrica y Electrónica | P18: 4 | X18: =X17+V18*W18 -> 1039.325 | AA18: 4 | AB18: Prestación del servicio de interventoria técnica de los proyectos financiados con recursos del Fondo de Apoyo Financiero para la Energización de las Zonas Rurales Interconectadas - FAER en ELECTRICARIBE S.A E.S.P contrato GGC 224 - 2012 (Grupo II). | AC18: Electricaribe S.A ESP. | AD18: 7 (ProInges S.A.S) | AE18: 80101500 80101600 81101700 83101800 81101500 | AF18: 609004479 | AG18: 883.31 | AH18: 1 | AI18: =AI17+AG18*AH18 -> 1934.95 | AL18: 4 | AM18: Consultoría para la revisión y adaptación de las normas de diseño y construcción de subestaciones de EPSA E.S.P., de alta y media tensión | AN18: EMPRESA DE ENERGÍA DEL PACIFICO SA ESP EPSA ESP | AO18: 1 (ISES S.A.S) | AP18: 80101600 81101700 83101800 81101500 | AQ18: 427547000 | AR18: 754.45 | AS18: 0 | AT18: =AT17+AR18*AS18 -> 151.81 | AU18: =IF(AR18*AS18>0,"HABILITADO", "NO HABILITADO") -> NO HABILITADO | AV18: este contrato No 4. no puede ser tenido en cuenta como experiencia mínima habilitante ya que su objeto no es concerniente a interventoría, construcción y montaje de proyectos del sector eléctrico. y tal y como se ha mencionado en las observaciones, es necesario que los contratos presentados guarden relación con la experiencia solicitada, ejemplo de esto es la observación realizada a la empresa JORGE BARRETO con fecha de observación EXTEMPORÁNEA, en la cual se aclara qué: _x000D_ _x000D_ “ OBSERVACIÓN NO. 1 _x000D_ “(…) En el numeral 3.2.3 CAPACIDAD TECNICA (HABILITA/ NO HABILITA) apartado a. EXPERIENCIA MINIMA HABILITANTE DEL PROPONENTE establece textualmente lo siguiente:_x000D_ “El proponente deberá cumplir con los requisitos establecidos en el artículo 4o de la Resolución 1 1208 de 2016, es decir, contar con 5 años de experiencia en interventoría o en la construcción y montaje de proyectos del sector eléctrico, de los cuales como mínimo debe incluir un (1) año de experiencia específica en proyectos de generación o distribución de energía eléctrica.” _x000D_ Solicito muy respetuosamente al Ministerio de Minas y Energía aclarar la forma de cómo se debe acreditar esta experiencia y como el Ministerio evaluara dicho requisito. (…)”_x000D_ RESPUESTA OBSERVACIÓN No.1 _x000D_ El Ministerio de Minas y Energía se permite aclarar que la experiencia del proponente exigida está establecida en el artículo 4 de la Resolución 4 1208 de 2016 y consiste en acreditar cinco (5) años de experiencia en interventoría en el sector eléctrico o en la construcción y montaje de proyectos del sector eléctrico, de los cuales como mínimo debe incluir un (1) año de experiencia específica en proyectos de generación o distribución de energía eléctrica._x000D_ Para ello el Ministerio de Minas y Energía en el pliego de condiciones hace expresa mención a la forma de acreditación de la experiencia, el cual entre otras cosas indica:_x000D_ “a.1 FORMA DE ACREDITACIÓN DE LA EXPERIENCIA _x000D_ Para la acreditación de experiencia mínima habilitante, el OFERENTE debe: _x000D_ 1. a) El PROPONENTE deberá presentar el RUP e identificar claramente cuales contratos deberá tener en cuenta el MINISTERIO para validar la experiencia solicitada. _x000D_ 2. b) Adjuntar las certificaciones de los contratos respectivas expedidas por terceros, en donde se evidencie la siguiente información: _x000D_ ● Nombre de la entidad contratante o empleador _x000D_ ● Nombre del contratista o firma que llevó a cabo la ejecución del contrato _x000D_ ● Fecha de inicio y terminación del contrato y/o proyecto (dd/mm/aa) _x000D_ ● Objeto u obligaciones u actividades. _x000D_ ● Nombre, cargo y firma de quien expide la certificación. _x000D_ _x000D_ En caso de que, la certificación no contenga la totalidad de la información, EL PROPONENTE podrá aportar otro tipo de documento(s) que complementen la información requerida para acreditar la experiencia, tales como, acta de liquidación, acta de terminación y recibo a satisfacción o certificación de contrato. Es importante aclarar que el Ministerio de Minas y Energía no aceptará como un nuevo contrato las adiciones o prorrogas. (…)”_x000D_ De conformidad con lo anterior, la evaluación de esta experiencia se verificará de acuerdo con dichos criterios, es decir verificando en el RUP la inscripción los contratos que se pretenden acreditar, así mismo, se analizarán las certificaciones aportadas, a fin de verificar el cumplimiento de la experiencia mencionada en la respectiva, sin que exista límite en el número de contratos que los proponentes puedan aportar para ello siempre y cuando la sumatoria de los mismos sea igual o superior al 30% del presupuesto oficial del lote de mayor valor ofertado, expresado en SMMLV”_x000D_ | AW18: 40755 | AX18: 41030 | AY18: 40755 | AZ18: 40903 | BA18: 0
B19: 5 | C19: Interventoria técnica, administrativa, financiera y jurídica del proyecto NORMALIZACIÓN DE REDES ELÉCTRICAS MT Y BT PROYECTO LA CANTERA (BARRANQUILLA), VILLA SAN CARLOS (BARRANQUILLA), CIUDAD BONITA (SOLEDAD), JUAN MINA SECTOR MANGA LA ESPERANZA (BARRANQUILLA) Y VILLA ROSALES (PUERTO COLOMBIA) DEL DEPARTAMENTO DEL ATLÁNTICO. | D19: EMPRESA DE ENERGÍA DEL PACIFICO SA ESP EPSA ESP | E19: 12 (PROINGES SAS) | F19: 80101500 - 80101600 - 81101700 - 83101800-81101500 | G19: $ 147.994.335 | H19: 178.71 | I19: 1 | J19: =J18+H19*I19 -> 330.52 | K19: =IF(H19*I19>0,"HABILITADO", "NO HABILITADO") -> HABILITADO | L19: De conformidad con la nota 7 del numeral 3.2.3. a.1 no podrá ser acumulable la experiencia obtenida en varios proyectos en un mismo periodo de tiempo. Se modificó el intervalo de duración del contrato, con respecto a las fechas originalmente presentadas, para no acumular doble experiencia en un mismo periodo. | M19: 83101800 | N19: Servicios Eléctricos | P19: 5 | X19: =X18+V19*W19 -> 1039.325 | AA19: 5 | AB19: Interventoria técnica, administrativa, financiera y jurídica del proyecto NORMALIZACIÓN DE REDES ELÉCTRICAS MT Y BT PROYECTO LAS FLORES (BARRANQUILLA) Y LA PRADERA (BARRANQUILLA) DEL DEPARTAMENTO DEL ATLÁNTICO. | AC19: Empresa Distribuidora del pacifico S.A. E.S.P | AD19: 9 (ProInges S.A.S) | AE19: 80101500 80101600 81101700 83101800 81101500 | AF19: 170901348 | AG19: 206.37 | AH19: 1 | AI19: =AI18+AG19*AH19 -> 2141.32 | AL19: 5 | AM19: Interventoria técnica, administrativa, financiera y jurídica del proyecto NORMALIZACIÓN DE REDES ELÉCTRICAS MT Y BT PROYECTO LA CANTERA (BARRANQUILLA), VILLA SAN CARLOS (BARRANQUILLA), CIUDAD BONITA (SOLEDAD), JUAN MINA SECTOR MANGA LA ESPERANZA (BARRANQUILLA) Y VILLA ROSALES (PUERTO COLOMBIA) DEL DEPARTAMENTO DEL ATLÁNTICO. | AN19: EMPRESA DE ENERGÍA DEL PACIFICO SA ESP EPSA ESP | AO19: 12 (PROINGES SAS) | AP19: 80101500 - 80101600 - 81101700 - 83101800-81101500 | AQ19: $ 147.994.335 | AR19: 178.71 | AS19: 1 | AT19: =AT18+AR19*AS19 -> 330.52 | AU19: =IF(AR19*AS19>0,"HABILITADO", "NO HABILITADO") -> HABILITADO | AV19: De conformidad con la nota 7 del numeral 3.2.3. a.1 no podrá ser acumulable la experiencia obtenida en varios proyectos en un mismo periodo de tiempo. Se modificó el intervalo de duración del contrato, con respecto a las fechas originalmente presentadas, para no acumular doble experiencia en un mismo periodo. | AW19: 42437 | AX19: 43621 | AY19: 43136 | AZ19: 43591 | BA19: =+(AZ19-AY19+1)/365 -> 1.2493151
B20: 6 | C20: Construccion proyecto electrificacion rural vereda punta gorda -tosnovan en el departamento del atlantico | D20: Consorcio Viviendas del Atlantico | E20: 27 (PROINGES SAS) | F20: 80101500 - 80101600 - 81101700 - 83101800-81101500 | G20: 1099999975 | H20: 1328.31 | I20: 0 | J20: =J19+H20*I20 -> 330.52 | K20: =IF(H20*I20>0,"HABILITADO", "NO HABILITADO") -> NO HABILITADO | P20: 6 | X20: =X19+V20*W20 -> 1039.325 | AA20: 6 | AB20: Interventoria técnica, administrativa, financiera y jurídica para la obra de electrificación rural Vereda Santa Catalina, ubicada en el municipio de San Juan de Betulia, departamento de Sucre. | AC20: Empresa Distribuidora del pacifico S.A. E.S.P | AD20: 10 (ProInges S.A.S) | AE20: 80101500 80101600 81101700 83101800 81101500 | AF20: 38943031 | AG20: 49.84 | AH20: 1 | AI20: =AI19+AG20*AH20 -> 2191.16 | AL20: 6 | AM20: Construccion proyecto electrificacion rural vereda punta gorda -tosnovan en el departamento del atlantico | AN20: Consorcio Viviendas del Atlantico | AO20: 27 (PROINGES SAS) | AP20: 80101500 - 80101600 - 81101700 - 83101800-81101500 | AQ20: 1099999975 | AR20: 1328.31 | AS20: 0 | AT20: =AT19+AR20*AS20 -> 330.52 | AU20: =IF(AR20*AS20>0,"HABILITADO", "NO HABILITADO") -> NO HABILITADO | AW20: 27/04/2018 | AX20: 43775 | AY20: 43592 | AZ20: 43775 | BA20: 0
B21: 7 | J21: =J20+H21*I21 -> 330.52 | P21: 7 | X21: =X20+V21*W21 -> 1039.325 | AA21: 7 | AB21: Interventoria técnica, administrativa, financiera y jurídica del proyecto NORMALIZACIÓN DE REDES ELÉCTRICAS MT Y BT PROYECTO EL EDÉN (BARRANQUILLA), PUMAREJO (SOLEDAD) Y CIUDAD CARIBE 4TA ETAPA (SOLEDAD) DEL DEPARTAMENTO DEL ATLÁNTICO. | AC21: Empresa Distribuidora del pacifico S.A. E.S.P | AD21: 11 (ProInges S.A.S) | AE21: 80101500 80101600 81101700 83101800 81101500 | AF21: 123194864 | AG21: 148.76 | AH21: 1 | AI21: =AI20+AG21*AH21 -> 2339.92 | AZ21: Años de experiencia | BA21: =SUM(BA15:BA20) -> 7.0767123
B22: 8 | J22: =J21+H22*I22 -> 330.52 | P22: 8 | X22: =X21+V22*W22 -> 1039.325 | AA22: 8 | AB22: Interventoria técnica, administrativa, financiera y jurídica del proyecto NORMALIZACIÓN DE REDES ELÉCTRICAS MT Y BT PROYECTO LA CANTERA (BARRANQUILLA), VILLA SAN CARLOS (BARRANQUILLA), CIUDAD BONITA (SOLEDAD), JUAN MINA SECTOR MANGA LA ESPERANZA (BARRANQUILLA) Y VILLA ROSALES (PUERTO COLOMBIA) DEL DEPARTAMENTO DEL ATLÁNTICO. | AC22: Empresa Distribuidora del pacifico S.A. E.S.P | AD22: 12 (ProInges S.A.S) | AE22: 80101500 80101600 81101700 83101800 81101500 | AF22: 147994335 | AG22: 178.71 | AH22: 0 | AI22: =AI21+AG22*AH22 -> 2339.92 | AJ22: Se vale para habilitante y no para calificable
B23: 9 | J23: =J22+H23*I23 -> 330.52 | P23: 9 | X23: =X22+V23*W23 -> 1039.325 | AA23: 9 | AB23: Prestación del servicio de interventoria en obras de normalización de redes eléctricas en los Municipios de la costa Atlántica según convenio 003-8-Grupo I. | AC23: Electricaribe S.A ESP. | AD23: 14 (ProInges S.A.S) | AE23: 80101500 80101600 81101700 83101800 81101500 | AF23: 908060491 | AG23: 1602.36 | AH23: 0.5 | AI23: =AI22+AG23*AH23 -> 3141.1
B24: 10 | J24: =J23+H24*I24 -> 330.52 | P24: 10 | X24: =X23+V24*W24 -> 1039.325 | AA24: 10 | AB24: Contratación de la interventoria para la construcción de las redes electricas de Media Tensión y Baja Tensión, centros de transformación y acometidas a los usuarios de barrios de los Municipios de Barranquilla( Atlantico) y Valledupar(Cesar) y las obras de construcción de las redes electricas de Media Tensión y Baja Tensión y centros de transformación en las comunidades rurales de Urumita(Guajira) y el Banco(Magdalena). | AC24: Gestión Energetica S.A ESP. | AD24: 15 (ProInges S.A.S) | AE24: 80101500 80101600 81101700 83101800 81101500 | AF24: 797217669 | AG24: 1604.38 | AH24: 1 | AI24: =AI23+AG24*AH24 -> 4745.48
B25: 11 | J25: =J24+H25*I25 -> 330.52 | P25: 11 | X25: =X24+V25*W25 -> 1039.325 | AA25: 11 | AB25: Contratación de la interventoria técnica, financiera y administrativa a los contratyos del PRONE I; tendientes a la Construcción de las redes aéreas de distribución de Energía eléctrica en Media y Baja Tensión en los barrios: La Chinita, Por fin; La Luz, Cuchilla de Villate, Lipaya y El Edén en la ciudad de Barranquilla; Paraíso, Once de Noviembre y Villa Marbella en Santa Marta; El Páramo, Don Felipe, Nuevo milenio y Campo Romero en Vallledupar; y Nelson Mandela, San José de los Campanos y El pozón en la ciudad de Cartagena. | AC25: Gestión Energetica S.A ESP. | AD25: 16 (ProInges S.A.S) | AE25: 80101500 80101600 81101700 83101800 81101500 | AF25: 619737579 | AG25: 1428.95 | AH25: 0.34 | AI25: =AI24+AG25*AH25 -> 5231.323
B26: 12 | J26: =J25+H26*I26 -> 330.52 | P26: 12 | X26: =X25+V26*W26 -> 1039.325 | AA26: 12 | AB26: Contratación de la interventoria para la construcción de las lineas de conducción electrica a 13,2kV que se enumeran a continuación: 1)Construcción de la linea de interconexión electrica a 13,200 voltios, trifasica desde canoas a los corregimientos de San Jose de la Montaña (Garrapata) y Placitas Municipio de Pivijai-Magdalena. 2)Construcción de la linea de electrificación rural a la vereda los Pajaritos municipio de Chimichagua-Cesar y para la normalización de las redes electricas en los barrios subnormales que se enumeran a continuación: 1)Mejoramiento de la infraestructura electrica de los barrios la Paz, Tres de Diciembre y Manzanares I, II y III del municipio de El Banco-Magdalena. 2)Mejoramiento de la infraestructura electrica de los barrios Los Olivos, Oscar Pisciotti, Santa Rosa y La Esperanza del municipio de El Banco Magdalena 3)Construcción de las redes electricas en los sectores subnormales La Unión, Nuevo Horiente y Victor Blanco I del barrio El Pozón de Cartagena-Bolivar. | AC26: Gestión Energetica S.A ESP. | AD26: 17 (ProInges S.A.S) | AE26: 80101500 80101600 81101700 83101800 81101500 | AF26: 277583939 | AG26: 558.63 | AH26: 1 | AI26: =AI25+AG26*AH26 -> 5789.953
B27: 13 | J27: =J26+H27*I27 -> 330.52 | P27: 13 | X27: =X26+V27*W27 -> 1039.325 | AA27: 13 | AB27: Interventoria tecnica, administrativa, financiera, contable y juridica a la construcción de redes electricas en zonas urbanas y rurales de diferentes municipios del departamento de Cordoba. | AC27: GOBERNACIÓN DE CORDOBA | AD27: 30 (ProInges S.A.S) | AE27: 80101500 80101600 81101700 83101800 81101500 | AF27: 393016700 | AG27: 666.69 | AH27: 0.5 | AI27: =AI26+AG27*AH27 -> 6123.298
B28: 14 | J28: =J27+H28*I28 -> 330.52 | P28: 14 | X28: =X27+V28*W28 -> 1039.325 | AA28: 14 | AB28: Interventoria para la normalizacion de redes electricas en el corregimiento de Arroyo Negro y Barrio Las Palmas en el Municipio de Repelon - Departamento del Atlantico. | AC28: Gobernacion del Atlántico | AD28: 19 (ProInges S.A.S) | AE28: 80101500 80101600 81101700 83101800 81101500 | AF28: 65918079 | AG28: 107 | AH28: 1 | AI28: =AI27+AG28*AH28 -> 6230.298
B29: 15 | J29: =J28+H29*I29 -> 330.52 | P29: 15 | X29: =X28+V29*W29 -> 1039.325 | AA29: 15 | AB29: Interventoria para la normalizacion de redes electricas en los Corregimientos de Cien Pesos y Las Tablas en el Municipio de Repelon, Departamento del Atlantico. | AC29: Gobernacion del Atlántico | AD29: 20 (ProInges S.A.S) | AE29: 80101500 80101600 81101700 83101800 81101500 | AF29: 67679452 | AG29: 109.86 | AH29: 1 | AI29: =AI28+AG29*AH29 -> 6340.158
B30: 16 | J30: =J29+H30*I30 -> 330.52 | P30: 16 | X30: =X29+V30*W30 -> 1039.325 | AA30: 16 | AB30: Interventoria para la electrificacion rural Veredas Loma Carreto, La Sierra, San Jacinto y un sector de Las Mellizas del Municipio de Sabanalarga, en el Departmento del Atlantico. | AC30: Gobernacion del Atlántico | AD30: 21 (ProInges S.A.S) | AE30: 80101500 80101600 81101700 83101800 81101500 | AF30: 75997778 | AG30: 123.37 | AH30: 1 | AI30: =AI29+AG30*AH30 -> 6463.528
B31: 17 | J31: =J30+H31*I31 -> 330.52 | P31: 17 | X31: =X30+V31*W31 -> 1039.325 | AA31: 17 | AB31: Interventoria para la normalizacion de redes electricas en los Barrios Primero de Mayo, Buena Esperanza y La Arenosa, Municipio de Santo Tomas, Departamento del Atlantico. | AC31: Gobernacion del Atlántico | AD31: 22 (ProInges S.A.S) | AE31: 80101500 80101600 81101700 83101800 81101500 | AF31: 73762549 | AG31: 119.74 | AH31: 1 | AI31: =AI30+AG31*AH31 -> 6583.268
B32: 18 | J32: =J31+H32*I32 -> 330.52 | P32: 18 | X32: =X31+V32*W32 -> 1039.325 | AA32: 18 | AB32: La interventoria para la construccion de redes electricas en las Veredas Los Manguitos y Marcos Perez en el Municipio de Palmar de Varela en el Atlantico. | AC32: Gobernacion del Atlántico | AD32: 26 (ProInges S.A.S) | AE32: 80101500 80101600 81101700 83101800 81101500 | AF32: 49996000 | AG32: 72.51 | AH32: 1 | AI32: =AI31+AG32*AH32 -> 6655.778
B33: 19 | J33: =J32+H33*I33 -> 330.52 | P33: 19 | X33: =X32+V33*W33 -> 1039.325 | AA33: 19 | AB33: La interventoria para la normalizacion de redes electricas en el Corral de San Luis y electrificacion de la Vereda Bajo La Habana, Municipio de Tubara, en el Departamento del Atlantico. | AC33: Gobernacion del Atlántico | AD33: 24 (ProInges S.A.S) | AE33: 80101500 80101600 81101700 83101800 81101500 | AF33: 67961337 | AG33: 105.47 | AH33: 1 | AI33: =AI32+AG33*AH33 -> 6761.248
B34: 20 | J34: =J33+H34*I34 -> 330.52 | P34: 20 | X34: =X33+V34*W34 -> 1039.325 | AA34: 20 | AB34: Interventoria para la electrificacion rural de las Verdas del Municipio de Osiacuri, sector 1, en el Departamento del Atlantico. | AC34: Gobernacion del Atlántico | AD34: 25 (ProInges S.A.S) | AE34: 80101500 80101600 81101700 83101800 81101500 | AF34: 73762550 | AG34: 119.74 | AH34: 1 | AI34: =AI33+AG34*AH34 -> 6880.988
... B36: 22 | J36: =J35+H36*I36 -> 330.52 | P36: 22 | X36: =X35+V36*W36 -> 1039.325 | AA36: 22 | AB36: Servicio de interventoria tecnica de los proyectos de normalización electrica que se realizaran bajos los contratos entre Electricariba S.A.S E.S.P y el ministerio de minas numeros PRONE GGC-295-2014, GGC-296-2014, GGC-297-2014, GGC-298-2014. | AC36: Electricaribe S.A ESP. | AD36: 31 (ProInges S.A.S) | AE36: 80101500 80101600 81101700 83101800 81101500 | AF36: 843862710 | AG36: 1019.01 | AH36: 1 | AI36: =AI35+AG36*AH36 -> 7986.961
B37: 23 | J37: =J36+H37*I37 -> 330.52 | P37: 23 | X37: =X36+V37*W37 -> 1039.325 | AA37: 23 | AB37: Establecer un acuerdo técnico y económico para la prestación de los servicios profesionales de interventoría para los proyectos de la Unidad de Desarrollo de la gerencia de Distribución, quien deberá llevar a cabo la ejecución de los planes de inversión u obras asociadas a la construcción de nuevas subestaciones eléctricas 220/115/34,5/13,2 kV, líneas de distribución a 220/115 kV, ampliaciones y modernizaciones en subestaciones y líneas 220/115/34,5/13,2 kV, etc. | AC37: EMPRESA DE ENERGÍA DEL PACÍFICO S.A. E.S.P - EPSA | AD37: 15 (ISES S.A.S) | AE37: 811017 | AF37: 1039930984 | AG37: 1613.92 | AH37: 1 | AI37: =AI36+AG37*AH37 -> 9600.881
B38: 24 | J38: =J37+H38*I38 -> 330.52 | P38: 24 | X38: =X37+V38*W38 -> 1039.325 | AA38: 24 | AB38: 4113000484 Interventoría técnica-operativa, administrativa, de seguridad y salud en el trabajo, regulatoria, normativa, legal y ambiental de los proyectos financiados con recursos del fondo de apoyo financiero para la energización de las zonas rurales interconectadas FAER en ELECTRICARIBE S.A E.S.P, contratos GGC-223-2012 (Grupo I) | AC38: ELECTRICARIBE S.A E.S.P. | AD38: 16 (ISES S.A.S) | AE38: 80101500 80101600 81101700 83101800 81101500 | AF38: 852372620 | AG38: 1236.29 | AH38: 1 | AI38: =AI37+AG38*AH38 -> 10837.171
B39: 25 | J39: =J38+H39*I39 -> 330.52 | P39: 25 | X39: =X38+V39*W39 -> 1039.325 | AA39: 25 | AB39: Interventoría técnica-operativa, administrativa, de seguridad y salud en el trabajo, regulatoria, normativa, legal y ambiental de los proyectos financiados con recursos del fondo de apoyo financiero para la energización de las zonas rurales interconectadas FAER en ELECTRICARIBE S.A E.S.P | AC39: ELECTRICARIBE S.A E.S.P. | AD39: 17 (ISES S.A.S) | AE39: 80101500 80101600 81101700 83101800 81101500 | AF39: 202792899 | AG39: 294.13 | AH39: 1 | AI39: =AI38+AG39*AH39 -> 11131.301
B40: 26 | J40: =J39+H40*I40 -> 330.52 | P40: 26 | X40: =X39+V40*W40 -> 1039.325 | AA40: 26 | AB40: Interventoría técnica-operativa, administrativa, de seguridad y salud en el trabajo, regulatoria, normativa, legal y ambiental de los proyectos financiados con recursos del fondo de apoyo financiero para la energización de las zonas rurales interconectadas FAER en ELECTRICARIBE S.A E.S.P | AC40: ELECTRICARIBE S.A E.S.P. | AD40: 18 (ISES S.A.S) | AE40: 80101500 80101600 81101700 83101800 81101500 | AF40: 668769776 | AG40: 969.99 | AH40: 1 | AI40: =AI39+AG40*AH40 -> 12101.291
B41: 27 | J41: =J40+H41*I41 -> 330.52 | P41: 27 | X41: =X40+V41*W41 -> 1039.325 | AA41: 27 | AB41: Interventoría técnica-operativa, administrativa, de seguridad y salud en el trabajo, regulatoria, normativa, legal y ambiental de los proyectos de normalización eléctrica PRONE contrato GSA-157-2012 (Grupo I) | AC41: ELECTRICARIBE S.A E.S.P. | AD41: 19 (ISES S.A.S) | AE41: 80101500 80101600 81101700 83101800 81101500 | AF41: 2202144203 | AG41: 3417.62 | AH41: 1 | AI41: =AI40+AG41*AH41 -> 15518.911
B42: 28 | J42: =J41+H42*I42 -> 330.52 | P42: 28 | X42: =X41+V42*W42 -> 1039.325 | AA42: 28 | AB42: Interventoría técnica-operativa, administrativa, de seguridad y salud en el trabajo, regulatoria, normativa, legal y ambiental de los proyectos de normalización eléctrica PRONE contrato GSC-226-2012 (Grupo II) | AC42: ELECTRICARIBE S.A E.S.P. | AD42: 20 (ISES S.A.S) | AE42: 80101500 80101600 81101700 83101800 81101500 | AF42: 442277210 | AG42: 686.39 | AH42: 1 | AI42: =AI41+AG42*AH42 -> 16205.301
B43: 29 | J43: =J42+H43*I43 -> 330.52 | P43: 29 | X43: =X42+V43*W43 -> 1039.325 | AA43: 29 | AB43: Interventoría al contrato de prestación de servicio de alumbrado público en Bogotá D.C. | AC43: UAESP | AD43: 21 (ISES S.A.S) | AE43: 80101600 81101700 83101800 81101500 | AF43: 2811433509 | AG43: 3810.99 | AH43: 1 | AI43: =AI42+AG43*AH43 -> 20016.291
B44: 30 | J44: =J43+H44*I44 -> 330.52 | P44: 30 | X44: =X43+V44*W44 -> 1039.325 | AA44: 30 | AB44: Interventoria al "Suministro, construccion, montaje, pruebas y puesta en servicio para las subestaciones Tibú 115/34,5/13,8 kV y Socuavó 115/34,5 kV pertenecientes al proyecto conexión Tibú. | AC44: CENTRALES ELECTRICAS DEL NORTE DE SANTANTER S.A E.S.P - CENS | AD44: 40 (ISES S.A.S) | AE44: 80101500 80101600 81101700 83101800 81101500 | AF44: 1526249700 | AG44: 2068.88 | AH44: 1 | AI44: =AI43+AG44*AH44 -> 22085.171
B45: 31 | J45: =J44+H45*I45 -> 330.52 | P45: 31 | X45: =X44+V45*W45 -> 1039.325 | AA45: 31 | AB45: Control y supervisión técnica, operativa, económica y administrativa a las actividades de construcción de obras civiles y eléctricas para la electrificación de diferentes zonas rurales en el departamento de Tolima, y la ejecución de cada una de las obligaciones derivadas de(l) (los) contrato(s) suscrito(s) por ENERTOLIMA para tal fin | AC45: ENERTOLIMA | AD45: 47 (ISES S.A.S) | AE45: 80101500 80101600 81101700 83101800 81101500 | AF45: 302177055 | AG45: 409.61 | AH45: 1 | AI45: =AI44+AG45*AH45 -> 22494.781
B46: 32 | J46: =J45+H46*I46 -> 330.52 | P46: 32 | X46: =X45+V46*W46 -> 1039.325 | AA46: 32 | AB46: Control y supervisión técnica, operativa, económica y administrativa a las actividades de construcción de obras civiles y eléctricas para la electrificación de diferentes zonas rurales en el departamento de Tolima, y la ejecución de cada una de las obligaciones derivadas de(l) (los) contratos(s) suscrito(s) por ENERTOLIMA para tal fin. | AC46: ENERTOLIMA | AD46: 51 (ISES S.A.S) | AE46: 80101500 80101600 81101700 83101800 81101500 | AF46: 166925138 | AG46: 226.27 | AH46: 1 | AI46: =AI45+AG46*AH46 -> 22721.051
B47: 33 | J47: =J46+H47*I47 -> 330.52 | P47: 33 | X47: =X46+V47*W47 -> 1039.325 | AA47: 33 | AB47: Prestación de los servicios de interventoria técnica de los proyectos financiados con recursos del Fondo de Apoyo Financiero para la Energización de las Zonas Rurales Interconectadas - FAER en ELECTRICARIBE S.A E.S.P contrato GGC 223 - 2012 (Grupo II). | AC47: Electricaribe S.A ESP. | AD47: 8 (ProInges S.A.S) | AE47: 80101500 80101600 81101700 83101800 81101500 | AF47: 84.793.791 | AG47: 122.98 | AH47: 1 | AI47: =AI46+AG47*AH47 -> 22844.031
...

Sheet Oferente 7
C2: EXPERIENCIA DEL PROPONENTE
C5: NOMBRE DEL OFERENTE | H5: SEGEN INGENIERIA S.A.S.
C7: PRESUPUESTO DEL LOTE MÁXIMO AL QUE PARTICIPAN (en SMMLV) | H7: 1453.2903
C8: VALOR 30% | H8: =H7*0.3 -> 435.9871
C9: VALOR REQUERIDO EN SMMLV
C11: contar con 5 años de experiencia en interventoría o en la construcción y montaje de proyectos del sector eléctrico, de los cuales como mínimo debe incluir un (1) año de experiencia específica en proyectos de generación o distribución de energía eléctrica, cuya sumatoria se igual o superior al 30% del valor del mayor lote ofertado
C13: CONTRATOS DE EXPERIENCIA MÍNIMA PARA HABILITARSE (ANEXO 7) | Q13: CONTRATOS QUE ACREDITAN EXPERIENCIA EN FOTOVOLTAICO (ANEXO 8) | AB13: CONTRATOS QUE ACREDITAN EXPERIENCIA ADICIONAL EN ELECTRICOS NO FOTOVOLTAICO (ANEXO 8) | AM13: CONTRATOS DE EXPERIENCIA MÍNIMA PARA HABILITARSE (ANEXO 7)
C14: OBJETO DEL CONTRATO | D14: ENTIDAD CONTRATANTE O EMPLEADORA | E14: CONSECUTIVO EN EL RUP | F14: CODIGO UNSPSC | G14: VALOR CONTRATO | H14: VALOR DEL CONTRATO TOTAL EN SMMLV | I14: % PARTICIPACIÓN CONSORCIO | J14: ACUMULADO SMMLV | K14: HABILITADO | L14: OBSERVACIONES | M14: CÓDIGO UNSPSC | N14: NOMBRE | Q14: OBJETO DEL CONTRATO | R14: ENTIDAD CONTRATANTE O EMPLEADORA | S14: CONSECUTIVO EN EL RUP | T14: CODIGO UNSPSC | U14: VALOR CONTRATO | V14: VALOR DEL CONTRATO TOTAL EN SMMLV | W14: % PARTICIPACIÓN CONSORCIO | X14: ACUMULADO SMMLV | Y14: OBSERVACIONES | AB14: OBJETO DEL CONTRATO | AC14: ENTIDAD CONTRATANTE O EMPLEADORA | AD14: CONSECUTIVO EN EL RUP | AE14: CODIGO UNSPSC | AF14: VALOR CONTRATO | AG14: VALOR DEL CONTRATO TOTAL EN SMMLV | AH14: % PARTICIPACIÓN CONSORCIO | AI14: ACUMULADO SMMLV | AJ14: OBSERVACIONES | AM14: OBJETO DEL CONTRATO | AN14: ENTIDAD CONTRATANTE O EMPLEADORA | AO14: CONSECUTIVO EN EL RUP | AP14: CODIGO UNSPSC | AQ14: VALOR CONTRATO | AR14: VALOR DEL CONTRATO TOTAL EN SMMLV | AS14: % PARTICIPACIÓN CONSORCIO | AT14: ACUMULADO SMMLV | AU14: HABILITADO | AV14: OBSERVACIONES | AW14: FECHA DE INICIO ORIGINAL | AX14: FECHA FIN ORIGINAL | AY14: FECHA DE INICIO AJUSTE TRASLAPOS | AZ14: FECHA FIN AJUSTE TRASLAPOS | BA14: AÑOS DE EXPERIENCIA
