Workbook

Sheet Especificaciones tecnicas
A1: ESPECIFICACIONES TÉCNICAS
A2: 1. ELEMENTOS PARA GESTIÓN DE RESIDUOS
A3: ITEMS | B3: DESCRIPCCIÓN TÉCNICA | C3: UNIDAD | D3: CANTIDAD
A4: 1.1 | B4: Puntos ecológicos de 3 puestos caneca verde, negra y blanca de 53 L con tapa tipo vaivén con estructura metálica y señalización. | C4: Unidad | D4: ='Ajuste de cantidades'!E4 -> 38
A5: 1.2 | B5: Papelera negra de 20 L con pedal. | C5: Unidad | D5: ='Ajuste de cantidades'!E5 -> 70
A6: 1.3 | B6: Caneca roja plástica de 53L para residuos peligrosos con tapa tipo vaivén. | C6: Unidad | D6: ='Ajuste de cantidades'!E6 -> 10
A7: 1.4 | B7: Practiwagones negros de 240L plásticos con rueda y tapa. | C7: Unidad | D7: ='Ajuste de cantidades'!E7 -> 10
A8: 1.5 | B8: Caneca blanca capacidad 120 L. | C8: Unidad | D8: ='Ajuste de cantidades'!E8 -> 4
A9: 1.6 | B9: Puntos ecológicos de 2 puestos (Color blanco y negro) capacidad 121L. | C9: Unidad | D9: ='Ajuste de cantidades'!E9 -> 10
A11: 2. ELEMENTOS PARA CONTROL DE DERRAMES
A12: ITEMS | B12: DESCRIPCCIÓN TÉCNICA | C12: UNIDAD | D12: CANTIDAD
A13: 2.1 | B13: Kit Control de Derrames con capacidad para 8 Galones. Contenido: ​ 1 ​ Almohadilla absorbente (25 cm x 25 cm)​ 2 ​ Barrera Absorbente 3 pulgadas x 1,20 m de Largo​ 2 ​ Kilogramo de Material Absorbente Biodegradable CLEAN SORB​ 5 ​ Paños absorbentes de 40cm x 50 cm (2mm)​ 1 ​ Tapabocas Clásico​ 1 ​ Par de Guantes de Nitrilo​ 1 ​ Monogafas​ 3 ​ Bolsas Rojas – Tipo Industrial​ 1 ​ Recogedor Plástico​ 1​ Masilla Epóxica de 100 gr​ 1​ Cinta de Seguridad​ 1​ Litro de Desengrasante Biodegradable SIMPLE GREEN​ 1 ​ Instructivo para Derrames​ 1 ​ Maletín de tela o caja plastificada con la marca: KIT CONTROL DE DERRAMES​ | C13: Unidad | D13: ='Ajuste de cantidades'!E14 -> 4
A14: 2.2 | B14: Kit Control de Derrames con capacidad para 10 Galones. Contenido: 20 Tapetes de 15”x19” Universales (TG1519) 3 Calcetines 3”x4’ Universales (CG34) 1 Almohadilla 8”x18” Universal (AG818) 2 Bolsas amarillas 18”x6”x30” para productos contaminados 1 Par de guantes de nitrilo 1 Goggles de seguridad 1 Etiqueta de vinil de Spill Kit 3”x5” 1 Tambor amarillo de 10 gal. 15”x18.3” 1 Sello de seguridad 6”x2” 1 ​ Maletín de Tela O Caja Plastificada marcada KIT CONTROL DE DERRAMES​ | C14: Unidad | D14: ='Ajuste de cantidades'!E15 -> 4
A15: 2.3 | B15: Kit Control de Derrames con capacidad para 15 Galones. Contenido: 3 ​ Almohadilla absorbente (25 cm x 25 cm) – Gris Polipropileno​ 3 ​ Barrera Absorbente 3 pulgadas x 1,20 m de Largo – Gris Polipropileno​ 2 ​ Kilogramo de Material Absorbente Biodegradable CLEAN SORB​ 15 ​ Paños Absorbentes de 40cm x 50 cm (2mm) – Gris Polipropileno​ 1 ​ Tapabocas Clásico​ 1 ​ Par de Guantes de Nitrilo​ 1 ​ Monogafas​ 1 ​ Chaleco Reflectivo​ 5​ Bolsas Rojas – Tipo Industrial​ 1 ​ Martillo de madera con punta de goma​ 1 ​ Masilla Epóxica de 100 gramos​ 1​ Paquete de Calajanes de Madera – 4 calajanes​ 1​ Cinta de Seguridad x 50 metros​ 1 Recogedor Plástico​ 1​ Litro de Desengrasante Biodegradable SIMPLE GREEN​ 1 ​ Instructivo para Derrames​ 1 ​ Maletín de Tela​ marcado KIT CONTROL DE DERRAMES | C15: Unidad | D15: ='Ajuste de cantidades'!E16 -> 14
A16: 2.4 | B16: Kit Control de Derrames con capacidad para 25 a 35 Galones. Contiene: 4 ​Almohadilla absorbente (25 cm x 25 cm) – Gris Polipropileno​ 4 ​Barrera Absorbente 3 pulgadas x 1,20 m de Largo – Gris Polipropileno​ 1​ Barrera Absorbente 5 pulgadas x 3m de Largo– Gris Polipropileno​ 2 ​Kilogramo de Material Absorbente Biodegradable CLEAN SORB​ 30 Paños Absorbentes de 40cm x 50 cm (2mm) – Gris Polipropileno​ 1 ​Respirador Doble Cartucho para vapores orgánicos económico​ 1 ​Par de Guantes de Nitrilo​ 1 ​Monogafas​ 1 ​Chaleco Reflectivo​ 10​ Bolsas Rojas – Tipo Industrial​ 1 ​Martillo de madera con punta de goma​ 1 ​Masilla Epóxica de 100 gramos​ 1​ Paquete de Calajanes de Madera – 4 calajanes​ 1​ Cinta de Seguridad x 50 metros​ 1 ​Pala Antichispa 1.13m, color negra​ 1​ Litro de Desengrasante Biodegradable SIMPLE GREEN​ 1​ Linterna recargable ​ 1 ​Instructivo para Derrames​ 1 ​Tula Naranja para portar el kit o Caneca de 15 Gal​ | C16: Unidad | D16: ='Ajuste de cantidades'!E17 -> 1
A17: 2.5 | B17: Kit Control de Derrames con capacidad para 55 Galones. Contiene: 2 Bolsas de 2kgs de SpillSorb (SS140B) 50 Tapetes de 15”x19” Universales (TG1519) 10 Calcetines 3”x4’ Universales (CG34) 10 Almohadillas 8”x18” Universal (AG818) 5 Bolsas negras 18”x6”x30” para productos contaminados 1 Par de guantes de nitrilo 1 Goggles de seguridad 1 Traje tyveck 1 Tambor amarillo de 55 gal. | C17: Unidad | D17: ='Ajuste de cantidades'!E18 -> 1
A18: 2.6 | B18: Estiba plástica de almacenamiento a piso Contención 1 posición 12 galones Capacidad de contención: 12 gal / 45 L Dimensiones: 63,5 cm x 63,5 cm x14 cm Material polietileno | C18: Unidad | D18: ='Ajuste de cantidades'!E19 -> 25
A19: 2.7 | B19: Estiba Antiderrames de 4 tambores, 2 entradas Capacidad de contención: 270 L (4 barriles de 55 galones máximo por espacio) Medidas: 129,5 cm x 129,5 cm x 25,5 cm Capacidad de carga: 4000 Kg (estática) 1000 Kg (dinámica) Sistema de drenaje con conexión hembra de 3/8" NPT Material polietileno de alta densidad. | C19: Unidad | D19: ='Ajuste de cantidades'!E20 -> 8

Sheet EM Necesidad requerida
A1: ESTUDIO DE MERCADO- NECESIDAD REQUERIDA
A2: 1. ELEMENTOS PARA GESTIÓN DE RESIDUOS
A3: ITEMS | B3: DESCRIPCCIÓN TÉCNICA | C3: UNIDAD | D3: CANTIDAD | E3: COT 1 | F3: COT 2 | G3: COT 3 | H3: PROMEDIO | I3: SUBTOTAL
A4: 1.1 | B4: Puntos ecológicos de 3 puestos caneca verde, negra y blanca de 53 L con tapa tipo vaivén con estructura metálica y señalización. | C4: Unidad | D4: 159 | E4: 500000 | F4: 532000 | G4: 357520 | H4: =AVERAGE(E4:F4) -> 516000 | I4: =D4*H4 -> 82044000
A5: 1.2 | B5: Papelera negra de 20 L con pedal. | C5: Unidad | D5: 201 | E5: 124020 | F5: 122467 | G5: 36596.25 | H5: =AVERAGE(E5:F5) -> 123243.5 | I5: =D5*H5 -> 24771944
A6: 1.3 | B6: Caneca roja plástica de 53L para residuos peligrosos con tapa tipo vaivén. | C6: Unidad | D6: 49 | E6: =104900 -> 104900 | F6: =114900 -> 114900 | G6: 97243.75 | H6: =AVERAGE(E6:G6) -> 105681.25 | I6: =D6*H6 -> 5178381.2
A7: 1.4 | B7: Practiwagones negros de 240L plásticos con rueda y tapa. | C7: Unidad | D7: 31 | E7: =474900*1.2 -> 569880 | F7: =500000*1.2 -> 600000 | G7: 973635 | H7: =AVERAGE(E7:F7) -> 584940 | I7: =D7*H7 -> 18133140
A8: 1.5 | B8: Caneca blanca capacidad 120 L. | C8: Unidad | D8: 5 | E8: 420000 | F8: 350873 | G8: 125131.25 | H8: =AVERAGE(E8:F8) -> 385436.5 | I8: =D8*H8 -> 1927182.5
A9: 1.6 | B9: Puntos ecológicos de 2 puestos (Color blanco y negro) capacidad 121L. | C9: Unidad | D9: 27 | E9: =1059000 -> 1059000 | F9: =1059000 -> 1059000 | G9: 926470 | H9: =AVERAGE(E9:G9) -> 1014823.3 | I9: =D9*H9 -> 27400230
A11: 2. ELEMENTOS PARA CONTROL DE DERRAMES
A12: ITEMS | B12: DESCRIPCCIÓN TÉCNICA | C12: UNIDAD | D12: CANTIDAD | E12: COT 1 | F12: COT 2 | G12: COT 3 | H12: PROMEDIO | I12: SUBTOTAL
A13: 2.1 | B13: Kit Control de Derrames con capacidad para 8 Galones. Contenido: ​ 1 ​ Almohadilla absorbente (25 cm x 25 cm)​ 2 ​ Barrera Absorbente 3 pulgadas x 1,20 m de Largo​ 2 ​ Kilogramo de Material Absorbente Biodegradable CLEAN SORB​ 5 ​ Paños absorbentes de 40cm x 50 cm (2mm)​ 1 ​ Tapabocas Clásico​ 1 ​ Par de Guantes de Nitrilo​ 1 ​ Monogafas​ 3 ​ Bolsas Rojas – Tipo Industrial​ 1 ​ Recogedor Plástico​ 1​ Masilla Epóxica de 100 gr​ 1​ Cinta de Seguridad​ 1​ Litro de Desengrasante Biodegradable SIMPLE GREEN​ 1 ​ Instructivo para Derrames​ 1 ​ Maletín de tela o caja plastificada con la marca: KIT CONTROL DE DERRAMES​ | C13: Unidad | D13: 9 | E13: 280000 | F13: 280000 | G13: 227,176.25 | H13: =AVERAGE(E13:G13) -> 280000 | I13: =D13*H13 -> 2520000
A14: 2.2 | B14: Kit Control de Derrames con capacidad para 10 Galones. Contenido: 20 Tapetes de 15”x19” Universales (TG1519) 3 Calcetines 3”x4’ Universales (CG34) 1 Almohadilla 8”x18” Universal (AG818) 2 Bolsas amarillas 18”x6”x30” para productos contaminados 1 Par de guantes de nitrilo 1 Goggles de seguridad 1 Etiqueta de vinil de Spill Kit 3”x5” 1 Tambor amarillo de 10 gal. 15”x18.3” 1 Sello de seguridad 6”x2” 1 ​ Maletín de Tela O Caja Plastificada marcada KIT CONTROL DE DERRAMES​ | C14: Unidad | D14: 7 | E14: 310000 | F14: 320000 | G14: 227,176.25 | H14: =AVERAGE(E14:G14) -> 315000 | I14: =D14*H14 -> 2205000
A15: 2.3 | B15: Kit Control de Derrames con capacidad para 15 Galones. Contenido: 3 ​ Almohadilla absorbente (25 cm x 25 cm) – Gris Polipropileno​ 3 ​ Barrera Absorbente 3 pulgadas x 1,20 m de Largo – Gris Polipropileno​ 2 ​ Kilogramo de Material Absorbente Biodegradable CLEAN SORB​ 15 ​ Paños Absorbentes de 40cm x 50 cm (2mm) – Gris Polipropileno​ 1 ​ Tapabocas Clásico​ 1 ​ Par de Guantes de Nitrilo​ 1 ​ Monogafas​ 1 ​ Chaleco Reflectivo​ 5​ Bolsas Rojas – Tipo Industrial​ 1 ​ Martillo de madera con punta de goma​ 1 ​ Masilla Epóxica de 100 gramos​ 1​ Paquete de Calajanes de Madera – 4 calajanes​ 1​ Cinta de Seguridad x 50 metros​ 1 Recogedor Plástico​ 1​ Litro de Desengrasante Biodegradable SIMPLE GREEN​ 1 ​ Instructivo para Derrames​ 1 ​ Maletín de Tela​ marcado KIT CONTROL DE DERRAMES | C15: Unidad | D15: 24 | E15: 400000 | F15: 410000 | G15: 263610 | H15: =AVERAGE(E15:G15) -> 357870 | I15: =D15*H15 -> 8588880
A16: 2.4 | B16: Kit Control de Derrames con capacidad para 25 a 35 Galones. Contiene: 4 ​Almohadilla absorbente (25 cm x 25 cm) – Gris Polipropileno​ 4 ​Barrera Absorbente 3 pulgadas x 1,20 m de Largo – Gris Polipropileno​ 1​ Barrera Absorbente 5 pulgadas x 3m de Largo– Gris Polipropileno​ 2 ​Kilogramo de Material Absorbente Biodegradable CLEAN SORB​ 30 Paños Absorbentes de 40cm x 50 cm (2mm) – Gris Polipropileno​ 1 ​Respirador Doble Cartucho para vapores orgánicos económico​ 1 ​Par de Guantes de Nitrilo​ 1 ​Monogafas​ 1 ​Chaleco Reflectivo​ 10​ Bolsas Rojas – Tipo Industrial​ 1 ​Martillo de madera con punta de goma​ 1 ​Masilla Epóxica de 100 gramos​ 1​ Paquete de Calajanes de Madera – 4 calajanes​ 1​ Cinta de Seguridad x 50 metros​ 1 ​Pala Antichispa 1.13m, color negra​ 1​ Litro de Desengrasante Biodegradable SIMPLE GREEN​ 1​ Linterna recargable ​ 1 ​Instructivo para Derrames​ 1 ​Tula Naranja para portar el kit o Caneca de 15 Gal​ | C16: Unidad | D16: 1 | E16: 830000 | F16: 840000 | G16: 629420 | H16: =AVERAGE(E16:G16) -> 766473.33 | I16: =D16*H16 -> 766473.33
A17: 2.5 | B17: Kit Control de Derrames con capacidad para 55 Galones. Contiene: 2 Bolsas de 2kgs de SpillSorb (SS140B) 50 Tapetes de 15”x19” Universales (TG1519) 10 Calcetines 3”x4’ Universales (CG34) 10 Almohadillas 8”x18” Universal (AG818) 5 Bolsas negras 18”x6”x30” para productos contaminados 1 Par de guantes de nitrilo 1 Goggles de seguridad 1 Traje tyveck 1 Tambor amarillo de 55 gal. | C17: Unidad | D17: 1 | E17: 1600000 | F17: 1648000 | G17: 829810 | H17: =AVERAGE(E17:F17) -> 1624000 | I17: =D17*H17 -> 1624000
A18: 2.6 | B18: Estiba plástica de almacenamiento a piso Contención 1 posición 12 galones Capacidad de contención: 12 gal / 45 L Dimensiones: 63,5 cm x 63,5 cm x14 cm Material polietileno | C18: Unidad | D18: 81 | E18: 1500000 | F18: 1440000 | G18: 525,000.00 | H18: =AVERAGE(E18:F18) -> 1470000 | I18: =D18*H18 -> 119070000
A19: 2.7 | B19: Estiba Antiderrames de 4 tambores, 2 entradas Capacidad de contención: 270 L (4 barriles de 55 galones máximo por espacio) Medidas: 129,5 cm x 129,5 cm x 25,5 cm Capacidad de carga: 4000 Kg (estática) 1000 Kg (dinámica) Sistema de drenaje con conexión hembra de 3/8" NPT Material polietileno de alta densidad. | C19: Unidad | D19: 29 | E19: 1800000 | F19: 1764000 | G19: 747,500.00 | H19: =AVERAGE(E19:F19) -> 1782000 | I19: =D19*H19 -> 51678000
F21: SUBTOTAL | I21: =SUM(I4:I9,I13:I19) -> 3.4590723e+08
F22: IVA (19%) | I22: =I21*0.19 -> 65722374
F23: VALOR TOTAL | I23: =I21+I22 -> 4.116296e+08
F24: PRESUPUESTO | I24: 130000000
F25: SALDO | I25: =I24-I23 -> -2.816296e+08

Sheet Ajuste de cantidades
A1: AJUSTE DE CANTIDADES POR LIMITACIÓN PRESUPUESTAL
A2: 1. ELEMENTOS PARA GESTIÓN DE RESIDUOS
A3: ITEM | B3: DESCRIPCCIÓN TÉCNICA | C3: UNIDAD | D3: NECESIDAD REQUERIDA | E3: NECESIDAD AJISTADA | F3: NECESIDAD INSATISFECHA
A4: 1.1 | B4: Puntos ecológicos de 3 puestos caneca verde, negra y blanca de 53 L con tapa tipo vaivén con estructura metálica y señalización. | C4: Unidad | D4: 159 | E4: 38 | F4: =D4-E4 -> 121
A5: 1.2 | B5: Papelera negra de 20 L con pedal. | C5: Unidad | D5: 201 | E5: 70 | F5: =D5-E5 -> 131
A6: 1.3 | B6: Caneca roja plástica de 53L para residuos peligrosos con tapa tipo vaivén. | C6: Unidad | D6: 49 | E6: 10 | F6: =D6-E6 -> 39
A7: 1.4 | B7: Practiwagones negros de 240L plásticos con rueda y tapa. | C7: Unidad | D7: 31 | E7: 10 | F7: =D7-E7 -> 21
A8: 1.5 | B8: Caneca blanca capacidad 120 L. | C8: Unidad | D8: 5 | E8: 4 | F8: =D8-E8 -> 1
A9: 1.6 | B9: Puntos ecológicos de 2 puestos (Color blanco y negro) capacidad 121L. | C9: Unidad | D9: 27 | E9: 10 | F9: =D9-E9 -> 17
C10: TOTAL | D10: =SUM(D4:D9) -> 472 | E10: =SUM(E4:E9) -> 142 | F10: =SUM(F4:F9) -> 330
A12: 2. ELEMENTOS PARA CONTROL DE DERRAMES
A13: ITEM | B13: DESCRIPCCIÓN TÉCNICA | C13: UNIDAD | D13: NECESIDAD REQUERIDA | E13: NECESIDAD AJISTADA | F13: NECESIDAD INSATISFECHA
A14: 2.1 | B14: Kit Control de Derrames con capacidad para 8 Galones. | C14: Unidad | D14: 9 | E14: 4 | F14: =D14-E14 -> 5
A15: 2.2 | B15: Kit Control de Derrames con capacidad para 10 Galones. | C15: Unidad | D15: 7 | E15: 4 | F15: =D15-E15 -> 3
A16: 2.3 | B16: Kit Control de Derrames con capacidad para 15 Galones. | C16: Unidad | D16: 24 | E16: 14 | F16: =D16-E16 -> 10
A17: 2.4 | B17: Kit Control de Derrames con capacidad para 25 a 35 Galones. | C17: Unidad | D17: 1 | E17: 1 | F17: =D17-E17 -> 0
A18: 2.5 | B18: Kit Control de Derrames con capacidad para 55 Galones. | C18: Unidad | D18: 1 | E18: 1 | F18: =D18-E18 -> 0
A19: 2.6 | B19: Estiba plástica de almacenamiento a piso Contención 1 posición 12 galones Capacidad de contención: 12 gal / 45 L Dimensiones: 63,5 cm x 63,5 cm x14 cm Material polietileno | C19: Unidad | D19: 81 | E19: 25 | F19: =D19-E19 -> 56
A20: 2.7 | B20: Estiba Antiderrames de 4 tambores, 2 entradas Capacidad de contención: 270 L (4 barriles de 55 galones máximo por espacio) Medidas: 129,5 cm x 129,5 cm x 25,5 cm Capacidad de carga: 4000 Kg (estática) 1000 Kg (dinámica) Sistema de drenaje con conexión hembra de 3/8" NPT Material polietileno de alta densidad. | C20: Unidad | D20: 29 | E20: 8 | F20: =D20-E20 -> 21
C21: TOTAL | D21: =SUM(D14:D20) -> 152 | E21: =SUM(E14:E20) -> 57 | F21: =SUM(F14:F20) -> 95

Sheet EM Necesidad ajustada
A1: ESTUDIO DE MERCADO- NECESIDAD AJUSTADA
A2: 1. ELEMENTOS PARA GESTIÓN DE RESIDUOS
A3: ITEMS | B3: DESCRIPCCIÓN TÉCNICA | C3: UNIDAD | D3: CANTIDAD | E3: COT 1 | F3: COT 2 | G3: COT 3 | H3: PROMEDIO | I3: SUBTOTAL
A4: 1.1 | B4: Puntos ecológicos de 3 puestos caneca verde, negra y blanca de 53 L con tapa tipo vaivén con estructura metálica y señalización. | C4: Unidad | D4: ='Ajuste de cantidades'!E4 -> 38 | E4: 500000 | F4: 532000 | G4: 357520 | H4: =AVERAGE(E4:F4) -> 516000 | I4: =D4*H4 -> 19608000
A5: 1.2 | B5: Papelera negra de 20 L con pedal. | C5: Unidad | D5: ='Ajuste de cantidades'!E5 -> 70 | E5: 124020 | F5: 122467 | G5: 36596.25 | H5: =AVERAGE(E5:F5) -> 123243.5 | I5: =D5*H5 -> 8627045
A6: 1.3 | B6: Caneca roja plástica de 53L para residuos peligrosos con tapa tipo vaivén. | C6: Unidad | D6: ='Ajuste de cantidades'!E6 -> 10 | E6: =104900*1.2 -> 125880 | F6: =114900*1.2 -> 137880 | G6: 97243.75 | H6: =AVERAGE(E6:G6) -> 120334.58 | I6: =D6*H6 -> 1203345.8
A7: 1.4 | B7: Practiwagones negros de 240L plásticos con rueda y tapa. | C7: Unidad | D7: ='Ajuste de cantidades'!E7 -> 10 | E7: =474900*1.2 -> 569880 | F7: =500000*1.2 -> 600000 | G7: 973635 | H7: =AVERAGE(E7:F7) -> 584940 | I7: =D7*H7 -> 5849400
A8: 1.5 | B8: Caneca blanca capacidad 120 L. | C8: Unidad | D8: ='Ajuste de cantidades'!E8 -> 4 | E8: 420000 | F8: 350873 | G8: 125131.25 | H8: =AVERAGE(E8:F8) -> 385436.5 | I8: =D8*H8 -> 1541746
A9: 1.6 | B9: Puntos ecológicos de 2 puestos (Color blanco y negro) capacidad 121L. | C9: Unidad | D9: ='Ajuste de cantidades'!E9 -> 10 | E9: =1059000*1.2 -> 1270800 | F9: =1059000*1.2 -> 1270800 | G9: 926470 | H9: =AVERAGE(E9:G9) -> 1156023.3 | I9: =D9*H9 -> 11560233
A11: 2. ELEMENTOS PARA CONTROL DE DERRAMES
A12: ITEMS | B12: DESCRIPCCIÓN TÉCNICA | C12: UNIDAD | D12: CANTIDAD | E12: COT 1 | F12: COT 2 | G12: COT 3 | H12: PROMEDIO | I12: SUBTOTAL
A13: 2.1 | B13: Kit Control de Derrames con capacidad para 8 Galones. Contenido: ​ 1 ​ Almohadilla absorbente (25 cm x 25 cm)​ 2 ​ Barrera Absorbente 3 pulgadas x 1,20 m de Largo​ 2 ​ Kilogramo de Material Absorbente Biodegradable CLEAN SORB​ 5 ​ Paños absorbentes de 40cm x 50 cm (2mm)​ 1 ​ Tapabocas Clásico​ 1 ​ Par de Guantes de Nitrilo​ 1 ​ Monogafas​ 3 ​ Bolsas Rojas – Tipo Industrial​ 1 ​ Recogedor Plástico​ 1​ Masilla Epóxica de 100 gr​ 1​ Cinta de Seguridad​ 1​ Litro de Desengrasante Biodegradable SIMPLE GREEN​ 1 ​ Instructivo para Derrames​ 1 ​ Maletín de tela o caja plastificada con la marca: KIT CONTROL DE DERRAMES​ | C13: Unidad | D13: ='Ajuste de cantidades'!E14 -> 4 | E13: 280000 | F13: 280000 | G13: 227,176.25 | H13: =AVERAGE(E13:G13) -> 280000 | I13: =D13*H13 -> 1120000
A14: 2.2 | B14: Kit Control de Derrames con capacidad para 10 Galones. Contenido: 20 Tapetes de 15”x19” Universales (TG1519) 3 Calcetines 3”x4’ Universales (CG34) 1 Almohadilla 8”x18” Universal (AG818) 2 Bolsas amarillas 18”x6”x30” para productos contaminados 1 Par de guantes de nitrilo 1 Goggles de seguridad 1 Etiqueta de vinil de Spill Kit 3”x5” 1 Tambor amarillo de 10 gal. 15”x18.3” 1 Sello de seguridad 6”x2” 1 ​ Maletín de Tela O Caja Plastificada marcada KIT CONTROL DE DERRAMES​ | C14: Unidad | D14: ='Ajuste de cantidades'!E15 -> 4 | E14: 310000 | F14: 320000 | G14: 227,176.25 | H14: =AVERAGE(E14:G14) -> 315000 | I14: =D14*H14 -> 1260000
A15: 2.3 | B15: Kit Control de Derrames con capacidad para 15 Galones. Contenido: 3 ​ Almohadilla absorbente (25 cm x 25 cm) – Gris Polipropileno​ 3 ​ Barrera Absorbente 3 pulgadas x 1,20 m de Largo – Gris Polipropileno​ 2 ​ Kilogramo de Material Absorbente Biodegradable CLEAN SORB​ 15 ​ Paños Absorbentes de 40cm x 50 cm (2mm) – Gris Polipropileno​ 1 ​ Tapabocas Clásico​ 1 ​ Par de Guantes de Nitrilo​ 1 ​ Monogafas​ 1 ​ Chaleco Reflectivo​ 5​ Bolsas Rojas – Tipo Industrial​ 1 ​ Martillo de madera con punta de goma​ 1 ​ Masilla Epóxica de 100 gramos​ 1​ Paquete de Calajanes de Madera – 4 calajanes​ 1​ Cinta de Seguridad x 50 metros​ 1 Recogedor Plástico​ 1​ Litro de Desengrasante Biodegradable SIMPLE GREEN​ 1 ​ Instructivo para Derrames​ 1 ​ Maletín de Tela​ marcado KIT CONTROL DE DERRAMES | C15: Unidad | D15: ='Ajuste de cantidades'!E16 -> 14 | E15: 400000 | F15: 410000 | G15: 263610 | H15: =AVERAGE(E15:G15) -> 357870 | I15: =D15*H15 -> 5010180
A16: 2.4 | B16: Kit Control de Derrames con capacidad para 25 a 35 Galones. Contiene: 4 ​Almohadilla absorbente (25 cm x 25 cm) – Gris Polipropileno​ 4 ​Barrera Absorbente 3 pulgadas x 1,20 m de Largo – Gris Polipropileno​ 1​ Barrera Absorbente 5 pulgadas x 3m de Largo– Gris Polipropileno​ 2 ​Kilogramo de Material Absorbente Biodegradable CLEAN SORB​ 30 Paños Absorbentes de 40cm x 50 cm (2mm) – Gris Polipropileno​ 1 ​Respirador Doble Cartucho para vapores orgánicos económico​ 1 ​Par de Guantes de Nitrilo​ 1 ​Monogafas​ 1 ​Chaleco Reflectivo​ 10​ Bolsas Rojas – Tipo Industrial​ 1 ​Martillo de madera con punta de goma​ 1 ​Masilla Epóxica de 100 gramos​ 1​ Paquete de Calajanes de Madera – 4 calajanes​ 1​ Cinta de Seguridad x 50 metros​ 1 ​Pala Antichispa 1.13m, color negra​ 1​ Litro de Desengrasante Biodegradable SIMPLE GREEN​ 1​ Linterna recargable ​ 1 ​Instructivo para Derrames​ 1 ​Tula Naranja para portar el kit o Caneca de 15 Gal​ | C16: Unidad | D16: ='Ajuste de cantidades'!E17 -> 1 | E16: 830000 | F16: 840000 | G16: 629420 | H16: =AVERAGE(E16:G16) -> 766473.33 | I16: =D16*H16 -> 766473.33
A17: 2.5 | B17: Kit Control de Derrames con capacidad para 55 Galones. Contiene: 2 Bolsas de 2kgs de SpillSorb (SS140B) 50 Tapetes de 15”x19” Universales (TG1519) 10 Calcetines 3”x4’ Universales (CG34) 10 Almohadillas 8”x18” Universal (AG818) 5 Bolsas negras 18”x6”x30” para productos contaminados 1 Par de guantes de nitrilo 1 Goggles de seguridad 1 Traje tyveck 1 Tambor amarillo de 55 gal. | C17: Unidad | D17: ='Ajuste de cantidades'!E18 -> 1 | E17: 1600000 | F17: 1648000 | G17: 829810 | H17: =AVERAGE(E17:F17) -> 1624000 | I17: =D17*H17 -> 1624000
A18: 2.6 | B18: Estiba plástica de almacenamiento a piso Contención 1 posición 12 galones Capacidad de contención: 12 gal / 45 L Dimensiones: 63,5 cm x 63,5 cm x14 cm Material polietileno | C18: Unidad | D18: ='Ajuste de cantidades'!E19 -> 25 | E18: 1500000 | F18: 1440000 | G18: 525,000.00 | H18: =AVERAGE(E18:F18) -> 1470000 | I18: =D18*H18 -> 36750000
A19: 2.7 | B19: Estiba Antiderrames de 4 tambores, 2 entradas Capacidad de contención: 270 L (4 barriles de 55 galones máximo por espacio) Medidas: 129,5 cm x 129,5 cm x 25,5 cm Capacidad de carga: 4000 Kg (estática) 1000 Kg (dinámica) Sistema de drenaje con conexión hembra de 3/8" NPT Material polietileno de alta densidad. | C19: Unidad | D19: ='Ajuste de cantidades'!E20 -> 8 | E19: 1800000 | F19: 1764000 | G19: 747,500.00 | H19: =AVERAGE(E19:F19) -> 1782000 | I19: =D19*H19 -> 14256000
F21: SUBTOTAL | I21: =SUM(I4:I9,I13:I19) -> 1.0917642e+08
F22: IVA (19%) | I22: =I21*0.19 -> 20743520
F23: VALOR TOTAL | I23: =I21+I22 -> 1.2991994e+08
F24: PRESUPUESTO | I24: 130000000
F25: SALDO | I25: =I24-I23 -> 80056.035
