Workbook
Name descripcion: Resultado!$B$3
Name matriz1: #REF!
Name matriz2: #REF!
Name numero: Resultado!$B$2
Name responable: Resultado!$B$4
Name resultado: Resultado!$A$9:$O$36

Sheet Contexto
B3: =CONCATENATE([1]Medidas!B122,Contexto!C7) -> CONTEXTO DE ANÁLISIS DE RIESGOS ESTUDIO PREVIO 38517
B6: Fecha: | C6: =IF(C7="","",TODAY()) -> 45614
B7: Estudio previo: | C7: 38517
B9: Objeto del Proceso de Contratación | D9: Suministrar mezcla asfáltica para el mantenimiento de la malla vial
B10: Partícipes del Proceso de Contratación: | D10: Distrito Especial de Ciencia, Tecnología e Innovación de Medellín y todas las personas naturales o jurídicas, nacionales o extranjeras, individualmente o en Consorcio o Unión Temporal, consideradas legalmente capaces en las disposiciones vigentes, que no se encuentren incursas en ninguna causal de inhabilidad e incompatibilidad consagradas en la Ley 80 de 1993, Ley 1150 de 2007, Ley 1474 de 2011, decretos reglamentarios y demás normas concordantes y que cumplan con los requerimientos que se detallan en los pliegos de condiciones.
B11: Ciudadanía que se beneficia del Proceso de Contratación: | D11: Se benefician todos los habitantes del Distrito de Medellín, en especial las personas que se encuentran cerca de la zonas de influencia donde se hacen intervenciones directas mediante el mantenimiento y rehabilitación de la malla vial.
B12: La capacidad de la Entidad Estatal entendida como la disponibilidad de recursos y conocimientos para el Proceso de contratación: | D12: Se cuenta con CDP No. por valor de $ 709.985.867 correspondientes a recursos ordinarios para la vigencia 2024. El Distrito de Medellín, cuenta con personal idóneo y capacitado ampliamente en la realización de estos Procesos de selección. Las disponibilidades presupuestales corresponden a valores iniciales de las necesidades que se pretenden satisfacer con esta Contratación.
B13: Las condiciones geográficas y de acceso, del lugar en el cual se debe cumplir el Objeto del Proceso de Contratación: | D13: Las Entregas deberán efectuarse en diferentes puntos de la malla vial del Distrito de Medellín, en zona urbana y rural, según las necesidades que se presenten durante la ejecución. Los puntos atender cuentan con vias de acceso en condiciones normales, lo que permite ejecutar el contrato con normalidad.
B14: El entorno socio-ambiental | D14: Es adecuado y no presenta ningún tipo de situaciones anómalas en su entorno. Para el desarrollo del contrato se deben seguir todas las disposiciones en materia ambiental y de seguridad y salud en el trabajo SST.
B15: las condiciones políticas: | D15: Son adecuadas y no está afectado por procesos de elecciones del orden Nacional, Departamental o Distrital.
B16: los factores ambientales: | D16: La adquisición de estos equipos tiene una incidencia moderada en el medio ambiente. Las entregas según las condiciones de ejecución pueden verse afectadas por el clima.
B17: El sector del Objeto del Proceso de Contratación y su mercado: | D17: Están explicados en el análisis del sector económico.
B18: La normativa aplicable al Objeto del proceso de Contratación: | D18: Ley 80 de 1993, Ley 1150 de 2007, Ley 1286 de 2009 y Ley 299 de 1996, Decreto 1082 de 2015, Decretos Distritales 883 de 2015, 0724 de 2021, 0361 de 2024 y 835 de 2021 (manual de contratación del Distrito de Medellín) y demás normas que los reglamenten o complementen.
B19: Experiencia propia y de otras entidades estatales en Procesos de Contratación de este tipo: | D19: Están desarrolladas en el Anexo EP - "Análisis del Sector Económico".
B20: La suficiencia del presupuesto oficial del Proceso de Contratación: | D20: El presupuesto asignado hace parte de los recursos destinados para ejecución de los proyectos de la Secretaría de Infraestructura Física del Distrito de Medellín para la vigencia 2024.
B22: NOTA: El contexto de los riesgos hace parte integral de la matriz de riesgos previsibles.

Sheet Resultado
B2: Numero: 38517
B3: Descripción: Suministrar mezcla asfáltica para el mantenimiento de la malla vial.
B4: Diligenció: Tecnico gestor SIF y Comité de Estructuración Contractual
A5: MATRIZ DE RIESGOS
A7: No | B7: Descripción | C7: No | D7: Clase | E7: Fuente | F7: Etapa | G7: Tipo | H7: Descripción (qué puede pasar y cómo puede ocurrir) | I7: Consecuencia | J7: Probabilidad | K7: Impacto | L7: Valoración del Riesgo | M7: Categoría | N7: A quien se le asigna? | O7: Tratamiento / Controles a ser implementados | P7: Probabilidad | Q7: Impacto | R7: Valoración del Riesgo | S7: Categoría | T7: Afecta Ejecución del Contrato | U7: Responsable por implementar el tratamiento | V7: Fecha estimada en que se inicia el tratamiento | W7: Fecha estimada en que se Completa el tratamiento | X7: Como se realiza el monitoreo? | Y7: Periodicidad | AC7: Desde | AD7: hasta
A8: 1 | B8: Elaboración de presupuestos con información desactualizada o baja participación de empresas para el estudio de mercado. | C8: 219 | D8: Específico | E8: Interno | F8: Planeación | G8: Riesgos Operacionales | H8: Deficiencia en tempario o lista de bienes requeridos como consecuencia de un estudio de mercado sesgado o información desactualizada que dificulta la estructuración del presupuesto oficial. | I8: 1. modificaciones contractuales 2. Reprocesos en la expedición del certificado de disponibilidad presupuestal. 3. Variación del presupuesto 4. Distribución o modificación de cantidades 5. insuficiencia del presupuesto. 6. actividades extra y adicionales. | J8: 3. Posible (puede ocurrir en cualquier momento del futuro) | K8: 2. Menor | L8: 5 | M8: Riesgo Medio | N8: Entidad | O8: 1. Revisar y evaluar los históricos de adquisiciones similares o relacionadas. 2. Definición detallada de los bienes requeridos. 3. Solicitud de cotizaciones atreves de plataformas virtuales 4. Definición del sector del mercado de acuerdo con las especificaciones de los bienes requeridos. 5. Revisar los bienes en insumos de uso frecuente 6. Realizar estudios de mercado sectorizados ajustados a las características del bien requerido. 7. utilizar lista de bienes o insumos de talleres especializados o concesionarios. | P8: 2. Improbable (puede ocurrir ocasionalmente) | Q8: 1. Insignificante | R8: 3 | S8: Riesgo Bajo | T8: Si | U8: Entidad | V8: Desde el Inicio de la Etapa de Planeación | W8: Hasta Finalizar Etapa de Selección | X8: Análisis de cantidades Análisis de precios | Y8: En hito(s) de la contratación | AC8: =+INDEX([1]DATOS!$B$2:$F$13,MATCH(Resultado!V8,[1]DATOS!$E$2:$E$13,0),2) -> 44666 | AD8: =+INDEX([1]DATOS!$B$2:$F$13,MATCH(Resultado!W8,[1]DATOS!$F$2:$F$13,0),2) -> 44756
A9: 2 | B9: Fluctuación de los precios de los bienes, insumos, materiales o equipos desabastecimiento y especulación de precios. | C9: 26 | D9: General | E9: Externo | F9: Planeación/Ejecución | G9: Riesgos Económicos | H9: Condiciones del mercado, transporte, logística, tasas de cambio, variaciones del ipc e indices economicos o compra e importaciones, que pueden causar una fluctuación de los precios, desabastecimiento y especulación de precios, que afectan los plazos de entrega y recibo a satisfacción de los bienes, materiales, insumos y/o equipos. | I9: 1. Mayor onerosidad del contrato. 2. Reclamaciones de carácter civil, administrativo o penal. 3. Desgaste administrativo. 4. Baja disponibilidad de los bienes, materiales, insumos o equipos requeridos. 5. insatisfacción e incumplimiento por demoras en los plazos de entrega y recibo a satisfacción. 6. sobrecostos y variaciones contractuales por ajuste presupuestal. | J9: 3. Posible (puede ocurrir en cualquier momento del futuro) | K9: 2. Menor | L9: 5 | M9: Riesgo Medio | N9: Ambas partes (Entidad/Proveedor) | O9: 1. Identificar los componentes cuya fuente es extranjera, su disponibilidad y criticidad para el proyecto, y considerar anticipar su compra de ser necesario._x000D_ 2. Considerar la compra con anticipación de bienes, materiales, insumos o equipos, que probablemente estén escasos en el momento en que se requieran._x000D_ 3. Evaluar métodos de entrega y abastecimiento alternativos._x000D_ 4. Estipulación contractual que obligue al proveedor a tener planes de contingencia para estos eventos. _x000D_ 5. Estipulación contractual que permita revisar precios frente a variaciones significativas en la tasa representativa del mercado._x000D_ 6. Estipulación contractual que determine la obligación a cargo del contratista de garantizar el valor del contrato. 7. Estipulación o modificación contractual que determine la aplicación de fórmulas de reajuste de precios que consideren los índices suministrados por la Cámara Colombiana de la Construcción – Camacol – Antioquia para transporte y mezcla asfaltica. 8. Análisis de precios de bienes, insumos, materiales o equipos durante la ejecución del contrato para aumentar inventarios y tener disponibilidad de los mismos de tal manera que no se vean afectados por la variaciones del mercado 9. Análisis del sector para buscar proveedores directos, talleres autorizados y concesionarios, libres de intermediarios y con contacto directo y ágil con el fabricante de los equipo._x000D_ | P9: 2. Improbable (puede ocurrir ocasionalmente) | Q9: 1. Insignificante | R9: 3 | S9: Riesgo Bajo | T9: No | U9: Entidad y Proveedor | V9: Desde el Inicio de la Etapa de Planeación | W9: Hasta Finalizar la Ejecución del Contrato | X9: Análisis de precios | Y9: En hito(s) de la contratación | AC9: =+INDEX([1]DATOS!$B$2:$F$13,MATCH(Resultado!V9,[1]DATOS!$E$2:$E$13,0),2) -> 44666 | AD9: =+INDEX([1]DATOS!$B$2:$F$13,MATCH(Resultado!W9,[1]DATOS!$F$2:$F$13,0),2) -> 44921
A10: 3 | B10: Inexactitud o falta de claridad o entendimiento de las especificaciones y condiciones de ejecución definidas por la Entidad. | C10: 29 | D10: Específico | E10: Interno | F10: Planeación/Ejecución | G10: Riesgos Operacionales | H10: La descripción de las especificaciones técnicas establecidas por la entidad puede generar opciones en la entrega o especificaciones del bien requerido, sin embargo, algunas de estas opciones entregadas por el proveedor no satisfacen las necesidades de la Entidad. El proveedor no atiende u ofrece condiciones alternativas diferentes a las condiciones de ejecución y especificaciones técnicas definidas por la Entidad. | I10: 1. Mayor onerosidad del contrato. 2. Incumplimiento o cumplimiento no satisfactorio. 3. Resultados no esperado. 4. insatisfacción de los intereses de la institución y de los objetivos y metas de la contratación. 5. Desgaste administrativo. 5. Baja disponibilidad de los Equipos 6. insatisfacción e incumplimiento por demoras en los plazos de entrega y recibo a satisfacción. 7. Mayor exigencia de supervisión 8. inconformidad de los operadores de los equipos 9. inconformidades con los bienes y/o servicios recibidos, que implican reprocesos o aumento en el numero de garantías. | J10: 3. Posible (puede ocurrir en cualquier momento del futuro) | K10: 2. Menor | L10: 5 | M10: Riesgo Medio | N10: Ambas partes (Entidad/Proveedor) | O10: 1. Asegurar que el alcance de la contratación esté definido, documentado y entendido_x000D_ 2. Describir el producto o servicio de una manera tangible y sin ambigüedades._x000D_ 3. Asegurar que los documentos son concisos, precisos y sin ambigüedades._x000D_ 4. Estipulación contractual que obligue al proveedor a tener planes de contingencia para estos eventos. 5. Estipulación contractual que permita la aplicación de descuentos por los incumplimientos._x000D_ 6. Estipulación contractual de multas y sanciones al Proveedor._x000D_ 7. definición de condiciones de ejecución aclaras y cumplibles 8. contratación con proveedores directos libres de intermediarios 9. obligación de exclusividad o trato preferente para la atención . 11. Comunicación, clara, oportuna y permanente con la supervisión durante todo el plazo de ejecución del contrato. | P10: 2. Improbable (puede ocurrir ocasionalmente) | Q10: 1. Insignificante | R10: 3 | S10: Riesgo Bajo | T10: No | U10: Entidad y Proveedor | V10: Desde el Inicio de la Etapa de Planeación | W10: Hasta Finalizar la Ejecución del Contrato | X10: Análisis de cumplimiento de requisitos | Y10: En hito(s) de la contratación | AC10: =+INDEX([1]DATOS!$B$2:$F$13,MATCH(Resultado!V10,[1]DATOS!$E$2:$E$13,0),2) -> 44666 | AD10: =+INDEX([1]DATOS!$B$2:$F$13,MATCH(Resultado!W10,[1]DATOS!$F$2:$F$13,0),2) -> 44921
A11: 4 | B11: Errores involuntarios que hayan quedado en los pliegos de condiciones, especificaciones técnicas, descripción del proyecto y/o estudios previos, operaciones aritméticas, etc. | C11: 38 | D11: General | E11: Interno | F11: Planeación | G11: Riesgos Operacionales | H11: Ante errores involuntarios que hayan quedado en los pliegos de condiciones, especificaciones técnicas, descripciones, operaciones aritméticas y anexos del contrato, la entidad esta en riesgo de no poder llevar a buen termino el proceso de selección o requerir de mas recursos e incurrir en un mayor desgaste administrativo. también pueden afectar la ejecución del contrato, generando modificaciones, aclaraciones, prórrogas y adiciones. | I11: 1. aumento de las observaciones recibidas a los procesos de selección que obligan modificaciones. 2. desgaste administrativo. 3. disminución del numero de posibles oferentes. 4. dificultades en la evaluación de las ofertas. 5. declaratorias de desierto. 6. modificaciones contractuales para corregir errores. 7. dificultades en la supervisión del contrato. | J11: 2. Improbable (puede ocurrir ocasionalmente) | K11: 2. Menor | L11: 4 | M11: Riesgo Bajo | N11: Entidad | O11: 1. Utilizar los formatos dispuestos por la Entidad y diligenciarlos correctamente. 2. cumplir con todas las etapas de revisión de los documentos 3. Dar cumplimiento estricto al periodo de observaciones del proceso de selección. 4. responder en tiempo y de fondo las observaciones realizadas por los interesados. _x000D_ 5. Corregir los errores evidenciados en los documentos de estructura en el menor tiempo posible._x000D_ 6. Seguimiento al desarrollo de las actividades y al cronograma previsto con el fin de garantizar el cumplimiento del mismo._x000D_ 7. supervisión permanente del contrato y comunicación continua con el contratista para corregir los errores que se detecten durante la ejecución. | P11: 1. Raro (puede ocurrir excepcionalmente) | Q11: 1. Insignificante | R11: 2 | S11: Riesgo Bajo | T11: Si | U11: Entidad | V11: Desde Inicio Etapa de Selección | W11: Hasta Finalizar Etapa de Selección | X11: Estudio de documentos | Y11: En hito(s) de la contratación | AC11: =+INDEX([1]DATOS!$B$2:$F$13,MATCH(Resultado!V11,[1]DATOS!$E$2:$E$13,0),2) -> 44696 | AD11: =+INDEX([1]DATOS!$B$2:$F$13,MATCH(Resultado!W11,[1]DATOS!$F$2:$F$13,0),2) -> 44756
A12: 5 | B12: Baja participación de proponentes | C12: 18 | D12: General | E12: Externo | F12: Selección | G12: Riesgos Económicos | H12: Con motivo de los requisitos de participación o condiciones de ejecución definidas por la Entidad para el cumplimiento del contrato bajo las condiciones de oportunidad y calidad requerida, se puede limitar la participación o el interés de empresas que operan como intermediarios no autorizados, talleres no certificados, talleres no especializados, talleres sin representación o concesionarios de otras marcas o con otra especialidad de equipos, bienes o insumos requeridos. | I12: 1. Declaratoria de desierto del proceso. 2. Retrasos en los procedimientos de selección. 3. Error en la Selección del contratista. 4. Poca competencia de proponentes interesados en el proceso de contratación. 5. actividades colusorias 6. descontento de las empresas 7. aumento de el numero de observaciones al procesos de selección. 8. retraso en los tiempos de entrega y recibo a satisfacción de los bienes, insumos o equipos. | J12: 3. Posible (puede ocurrir en cualquier momento del futuro) | K12: 2. Menor | L12: 5 | M12: Riesgo Medio | N12: Entidad | O12: 1. Compruebe que el presupuesto tiene en cuenta la situación del mercado._x000D_ 2. Informar a la industria con la mayor antelación posible y considerar la realización de una presentación del proyecto. _x000D_ 3. Realizar promoción mediática sobre el contrato y sus objetivos ._x000D_ 4. Evaluar los niveles de competitividad del mercado y adoptar la modalidad de contratación correspondiente. _x000D_ Asegurar que existe una industria competitiva capaz de desarrollar el alcance del contrato._x000D_ 5. Identificar los medios más eficaces para comunicar la oportunidad de contrato a la industria._x000D_ 6. Socialización del proceso de contratación y determinación de criterios de selección que permitan pluralidad de proponentes_x000D_ 7. Adelantar el estudio del sector y de análisis de riegos de manera clara, acertada y con información actualizada. | P12: 2. Improbable (puede ocurrir ocasionalmente) | Q12: 2. Menor | R12: 4 | S12: Riesgo Bajo | T12: Si | U12: Entidad | V12: Desde Inicio Etapa de Selección | W12: Hasta Finalizar Etapa de Selección | X12: Análisis de cifras | Y12: En hito(s) de la contratación | AC12: =+INDEX([1]DATOS!$B$2:$F$13,MATCH(Resultado!V12,[1]DATOS!$E$2:$E$13,0),2) -> 44696 | AD12: =+INDEX([1]DATOS!$B$2:$F$13,MATCH(Resultado!W12,[1]DATOS!$F$2:$F$13,0),2) -> 44756
A13: 6 | B13: Resistencia por parte de la comunidad o ciertos grupos de interés | C13: 23 | D13: General | E13: Externo | F13: Selección | G13: Riesgos Sociales o Políticos | H13: Resistencia por parte de la comunidad o ciertos grupos, gremios o empresas, sindicatos, que vean restringida su participación en los proceso, se sientan excluidos o no sientan que se esta cumpliendo con el objetivo del proyecto, por causas imputables a le Entidad o por incumplimiento del contratista. | I13: 1. Retrasos en la ejecución del contrato. 2. Mayor onerosidad. 3.Demanda de terceros. 4. La contratación está relacionada con ciertos temas que son objeto de discusión o polémica por parte de la comunidad o grupos de interés, gremios o empresas, sindicatos, que pueden retrasar los tiempos de entrega y recibo a satisfacción de los bienes y equipos requeridos. 5. paro o huelgas de los operadores de los equipos. 6. suspensión del servicio por desabastecimiento o falta de bienes o equipos requeridos | J13: 2. Improbable (puede ocurrir ocasionalmente) | K13: 2. Menor | L13: 4 | M13: Riesgo Bajo | N13: Ambas partes (Entidad/Proveedor) | O13: 1. Identificar políticas gubernamentales (por ejemplo, desarrollo económico, abastecimiento, etc.) que se aplican al contrato y asegurar su cumplimiento_x000D_ 2. Identificar los problemas regionales que puedan afectar la entrega del producto o servicio, como condiciones sociales y laborales, los patrones estacionales del clima, la lejanía, la accesibilidad, la disponibilidad de recursos, servicios, etc., y desarrollar planes de manejo._x000D_ 3. Realizar promoción mediática sobre el contrato y sus objetivos. _x000D_ Considerar la posibilidad de cuestiones de contenido local._x000D_ 4. Informar a la industria con la mayor antelación posible y considerar la realización de una presentación del alcance del contrato. _x000D_ 5. Publicación de todos los documentos del proceso en SECOP en las diferentes etapas contractuales, con el fin de dar a conocer a todos los interesados toda la trazabilidad del proceso de contratación y así promover la transparencia del proceso de contratación._x000D_ 6. reuniones con la comunidad y grupos de interés para informar avances y situaciones del contrato 7. estructuración de los procesos con la participación de los operadores de los equipos y sindicatos. 8. Adelantar el estudio del sector y de análisis de riegos de manera clara, acertada y con información actualizada. | P13: 1. Raro (puede ocurrir excepcionalmente) | Q13: 1. Insignificante | R13: 2 | S13: Riesgo Bajo | T13: Si | U13: Entidad y Proveedor | V13: Desde Inicio Etapa de Selección | W13: Hasta Finalizar la Ejecución del Contrato | X13: Análisis de progreso | Y13: En hito(s) de la contratación | AC13: =+INDEX([1]DATOS!$B$2:$F$13,MATCH(Resultado!V13,[1]DATOS!$E$2:$E$13,0),2) -> 44696 | AD13: =+INDEX([1]DATOS!$B$2:$F$13,MATCH(Resultado!W13,[1]DATOS!$F$2:$F$13,0),2) -> 44921
A14: 7 | B14: Restricciones en la capacidad técnica de la industria. | C14: 33 | D14: General | E14: Interno | F14: Planeación | G14: Riesgos Económicos | H14: Un número reducido de empresas del sector tienen la capacidad técnica requerida por el contrato. | I14: 1. Declaratoria de desierto del proceso 2. Desgaste administrativo | J14: posible (puede ocurrir en cualquier momento futuro) | K14: Menor | L14: 5 | M14: Riesgo Medio | N14: Entidad | O14: Verificar que se haya establecido con claridad, y de acuerdo con los presupuestos legales, los requisitos habilitantes. Así como establecer si existen o no proponentes que cumplan con los mismos._x000D_ Evaluar los requisitos de control de calidad y comparar con la capacidad de la industria._x000D_ | P14: Raro (puede ocurrir excepcionalmente) | Q14: Insignificante | R14: 2 | S14: Riesgo bajo | T14: Si | U14: Dependencia a cargo de la contratacion | V14: Desde el Inicio de la Etapa de Planeación | W14: Hasta Finalizar Etapa de Selección | X14: Análisis de cumplimiento de requisitos | Y14: En hito(s) de la contratación
A15: 8 | B15: Injerencia indebida de la industria en la forma en que el contrato es estructurado | C15: 19 | D15: Específico | E15: Externo | F15: Planeación | G15: Riesgos Económicos | H15: Injerencia indebida de la industria en la forma en que el contrato es estructurado | I15: 1. Demandas de terceros. 2. Presiones externas en la ejecución o adjudicación. 3. Retrasos en la ejecución. 4. Mayor onerosidad. | J15: Improbable (puede ocurrir ocasionalmente) | K15: Moderado | L15: 5 | M15: Riesgo medio | N15: Entidad | O15: Consultar con gremios y asociaciones sectoriales._x000D_ Identificar posibles conflictos entre las partes interesadas._x000D_ Informar a la industria con la mayor antelación posible y considerar la realización de una presentación del proyecto. _x000D_ Realizar promoción mediática sobre el contrato y sus objetivos ._x000D_ Identificar posibles conflictos entre las partes interesadas._x000D_ Mantener a la oficina de relaciones públicas informada sobre contratos de alto riesgo._x000D_ Identificar problemáticas que pueden tener sensibilidades locales o regionales._x000D_ Determinar el conocimiento que la comunidad tiene en el proyecto y su opinión sobre el contrato._x000D_ Identificar interés de la comunidad y grupos de presión (incluidos los locales)._x000D_ | P15: Raro (puede ocurrir excepcionalmente) | Q15: Menor | R15: 3 | S15: Riesgo bajo | T15: No | U15: Dependencia a cargo de la contratación | V15: Desde el Inicio de la Etapa de Planeación | W15: Hasta Finalizar Etapa de Selección | X15: Análisis de cumplimiento de requisitos | Y15: En hito(s) de la contratación
A16: 9 | B16: Colusión o cualquier conducta restrictiva de la libre competencia en el mercado | C16: 30 | D16: General | E16: Externo | F16: Selección | G16: Riesgos Operacionales | H16: Colusión o cualquier conducta restrictiva de la libre competencia en el mercado | I16: 1. Denuncias penales al contratista. 2. Erronéa selección del contratista. 3. Poca participación de proponentes. 4. El proceso de contratación no logra condiciones competitivas. | J16: improbable (puede ocurrir ocacionalmente) | K16: Insignificante | L16: 3 | M16: Riesgo bajo | N16: Entidad | O16: Comprobar la pertinencia de la modalidad de contratación frente a la relación tiempo - coste esperada y la exigencia legal para el caso._x000D_ Asegurar que el proceso de selección del contratista cumple con los parámetros legales y buenas prácticas para ser un proceso transparente._x000D_ Solidez en el Estudio de Mercado y adecuada redacción de los Documentos del Proceso teniendo en cuanta las condiciones del mercado. _x000D_ Establecimiento de condiciones de selección que garanticen pluralidad de proponentes y seguimiento a las observaciones y ofertas presentadas para realizar la denuncia oportunamente ante la autoridad competente. | P16: Raro (puede ocurrir excepcionalmente) | Q16: Insignificante | R16: 2 | S16: Riesgo bajo | T16: No | U16: Entidad | V16: Desde el Inicio de la Etapa de Planeación | W16: Hasta Finalizar Etapa de Selección | X16: Análisis de cumplimiento de requisitos | Y16: En hito(s) de la contratación
A17: 10 | B17: Precios artificialmente bajos y sobrecostos en la ejecución del contrato | C17: 31 | D17: General | E17: Externo | F17: Selección | G17: Riesgos Operacionales | H17: Precios artificialmente bajos y sobrecostos en la ejecución del contrato | I17: 1. Erronéa selección del contratista. 2. Incumplimiento de las obligaciones contractuales en la ejecución del contrato. 3. Sanciones disciplinarias, administrativas y fiscales. 4 Mal cálculo de los costos financieros de la oferta económica del contratista para el desarrollo del objeto contractual. | J17: Posible (puede ocurrir en cualquier momento futuro) | K17: Menor | L17: 5 | M17: Riego Medio | N17: Entidad/Proveedor | O17: Establecer la relación precio-valor de la contratación._x000D_ Desarrollar una planeación del proyecto en el nivel detalle apropiado._x000D_ Revisión de los precios ofrecidos de acuerdo con la metodologia establecida en la Guia para el manejo de Ofertas Artificialmente Bajas expedido por Colombia Compra Eficiente._x000D_ Establecer en los documentos del proceso las cantidades mínimas requeridas de todos los componentes que el proveedor debe contemplar para el desarrollo de la ejecución del contrato._x000D_ Estipulación contractual que determine la obligación a cargo del proveedor de garantizar el valor del contrato._x000D_ | P17: Improbable (puede ocurrir ocasionalmente) | Q17: Insignificante | R17: 2 | S17: Riesgo bajo | T17: Si | U17: Entidad | V17: Desde finalizar Etapa de Selección | W17: Hasta Inicio del Contrato | X17: Análisis de precios | Y17: En hito(s) de la contratación
A18: 11 | B18: Declaratoria de desierto del proceso de selección | C18: 39 | D18: Específico | E18: Externo | F18: Selección | G18: Riesgos Operacionales | H18: Declaratoria de desierto del proceso de selección | I18: La necesidad de la entidad no se podría satisfacer en los tiempos establecidos, lo que conlleva al no cumplimiento de los fines planeados | J18: 1. Raro (puede ocurrir excepcionalmente) | K18: 2. Menor | L18: 3 | M18: Riesgo bajo | N18: Entidad/Proveedor | O18: Estimación adecuada de las necesidades de la entidad, a través del análisis de conveniencia y oportunidad, especialmente en los temas técnicos y financieros, los cuales dependerán de la realización de un análisis del sector de fondo que permita verificar el mercado y así garantizar la pluralidad de oferentes. _x000D_ Socialización del proceso de contratación y determinación de criterios de selección que permitan pluralidad de proponentes_x000D_ _x000D_ | P18: 1. Raro (puede ocurrir excepcionalmente) | Q18: 1. Insignificante | R18: 2 | S18: Riesgo bajo | T18: Si | U18: Dependencia a cargo de la contratación | V18: Desde el Inicio de la Etapa de Planeación | W18: Hasta Finalizar Etapa de Selección | X18: Estudio de documentos | Y18: En hito(s) de la contratación
A19: 12 | B19: Cambios en los tributos, aranceles, tasas de cambio, o la regulación aplicable | C19: 34 | D19: General | E19: Externo | F19: Planeación/Ejecución | G19: Riesgos Regulatorios | H19: Cambios en los tributos, aranceles, tasa de cambio o la regulación aplicable que afecten el presupuesto, lo vuelvan insuficiente o afecte las condiciones pactadas para la ejecución del contrato y que sean imputables al contrato con cargo a la Entidad contratante. | I19: 1. Variación en el valor del bien o servicio. 2.Normas que impongan nuevos tributos, impuestos o cargas parafiscales, que varíen las condiciones económicas previstas en la presentación de la Oferta. 4. Genera una carga adicional a las previstas, que puede afectar a cualquiera o a las dos partes del contrato. 5. Variación y modificaciones contractuales por cambios en las condiciones financieras y económicas del contrato. 6. solicitud de reajuste de precios | J19: 3. Posible (puede ocurrir en cualquier momento del futuro) | K19: 2. Menor | L19: 5 | M19: Riesgo Medio | N19: Entidad | O19: 1. Identificación en el Estudio del Sector de posibles cambios en los tributos, aranceles, tasas de cambio o la regulación aplicable._x000D_ 2. Estipulación contractual que permita revisar precios frente a modificaciones en tributos, aranceles o tasa de cambio aplicables y/o contemple dichas posibles variaciones._x000D_ 4. Aplicación inmediata de las disposiciones legales y solicitar las adiciones presupuestales pertinentes en el caso que aumente el valor del contrato. _x000D_ 5. Realizar las modificaciones a que haya lugar._x000D_ 6. revisión de precios y reajustes que apliquen | P19: 1. Raro (puede ocurrir excepcionalmente) | Q19: 1. Insignificante | R19: 2 | S19: Riesgo Bajo | T19: Si | U19: Entidad | V19: Desde el Inicio de la Etapa de Planeación | W19: Hasta liquidación del contrato | X19: Análisis de cifras | Y19: En hito(s) de la contratación | AC19: =+INDEX([1]DATOS!$B$2:$F$13,MATCH(Resultado!V19,[1]DATOS!$E$2:$E$13,0),2) -> 44666 | AD19: =+INDEX([1]DATOS!$B$2:$F$13,MATCH(Resultado!W19,[1]DATOS!$F$2:$F$13,0),2) -> 45101
A20: 13 | B20: Retrasos en la gestión de entrega de permisos o información por parte de otras entidades o autoridades que generan inoportunidad en el cumplimiento del contrato | C20: 5 | D20: Específico | E20: Externo | F20: Planeación/Ejecución | G20: Riesgos Operacionales | H20: Retrasos en la gestión de entrega de permisos por parte de otras entidades o autoridades | I20: 1. Retrasos en la ejecución. 2. Sanciones Penales, Disciplinarios y/o administrativas. 3. Hallazgos de fiscales. 4. Deficiente gestión. 5. Se requieren aprobaciones o autorizaciones por parte de otras entidades o autoridades que van a generar retrazos en la contratación y/o ejecución del contrato. | J20: improbable (puede ocurrir ocacionalmente) | K20: Insignificante | L20: 3 | M20: Riesgo bajo | N20: Entidad/Proveedor | O20: Realizar las gestiones necesarias para obtener las aprobaciones requeridas._x000D_ Identificar políticas y normas gubernamentales que podrían aplicar al proceso de contratación y asegurar su cumplimiento._x000D_ Identificar los problemas de concesión de licencias que pueden afectar el proyecto, y efectuar su oportuno trámite._x000D_ Estipulación contractual que permita en caso de ser necesario ajustar los tiempos de entrega definidos en los documentos del proceso._x000D_ Seguimiento al desarrolo de las actividades y al cronograma previsto con el fin de garantizar el cumpimiento del mismo._x000D_ _x000D_ _x000D_ | P20: Raro (puede ocurrir excepcionalmente) | Q20: Insignificante | R20: 2 | S20: Riesgo bajo | T20: Si | U20: Proveedor | V20: Desde el Inicio de la Etapa de Planeación | W20: Hasta Finalizar Etapa de Selección | X20: Análisis de cumplimiento de requisitos | Y20: En hito(s) de la contratación
A21: 14 | B21: Errores en la elaboración de las facturas y/o cuentas de cobro y sus soportes anexos, que ocasionen demora en la radicación. | C21: 35 | D21: Específico | E21: Interno | F21: Ejecución | G21: Riesgos Operacionales | H21: Errores en la elaboración de las facturas y/o cuentas de cobro y sus soportes anexos, que ocasionen demora en la radicación. | I21: 1. Retrasos en los pagos del contrato. 2. Afectación al flujo de caja del contratista | J21: 1. Raro (puede ocurrir excepcionalmente) | K21: 2. Menor | L21: 3 | M21: Riesgo bajo | N21: Proveedor | O21: Estipulación contractual donde se defina las condiciones de facturación y pago._x000D_ Socialización oportuna de los formatos y requisitos para el facturación y pago._x000D_ Seguimiento y revisión periodica de la facturación y soportes presentados para el pago._x000D_ Aprobación de informes y la correspondiente obligación de pago conforme a los plazos definidos en la norma y/o documentos del proceso._x000D_ | P21: 1. Raro (puede ocurrir excepcionalmente) | Q21: 1. Insignificante | R21: 2 | S21: Riesgo bajo | T21: Si | U21: Proveedor | V21: Desde el Inicio de la Etapa de Planeación | W21: Hasta Finalizar Etapa de Selección | X21: Estudio de documentos | Y21: En hito(s) de la contratación
A22: 15 | B22: Retrasos en la legalización del contrato, garantías y orden de inicio | C22: 32 | D22: General | E22: Externo | F22: Contratación | G22: Riesgos Operacionales | H22: Retrasos en la legalización del contrato, por demora en la presentación de garantías, aprobaciones en secop y ordenes de inicio. | I22: 1. Desgaste administrativo. 2. Demoras en la ejecución del contrato. 3. Ampliación de los plazos de ejecución. 4. insatisfacción de los operarios de los equipos y demora para el inicio de las labores de mantenimiento y trabajos con los equipos, por falta de bienes materiales, insumos o equipos para desarrollarlas 5. sobrecostos para la entidad por inoperatividad de los equipos 6. bajo disponibilidad y falta de equipos para atender las necesidades que se atienden con ellos. 6. Pérdida de la capacidad financiera del contratista | J22: 2. Improbable (puede ocurrir ocasionalmente) | K22: 2. Menor | L22: 4 | M22: Riesgo Bajo | N22: Proveedor | O22: 1. Utilizar métodos apropiados de formalización de la aceptación del contrato_x000D_. 2. Tramite anticipado de las pólizas o garantías 3. comunicación oportuna y permanente 4. agilidad en las aprobaciones y tramites en el SECOP 5. Calcular los tiempos adecuados para la legalización del contrato en los documentos del proceso. | P22: 1. Raro (puede ocurrir excepcionalmente) | Q22: 1. Insignificante | R22: 2 | S22: Riesgo Bajo | T22: Si | U22: Entidad y Proveedor | V22: Desde finalizar Etapa de Selección | W22: Hasta Inicio del Contrato | X22: Análisis de cumplimiento de requisitos | Y22: En hito(s) de la contratación | AC22: =+INDEX([1]DATOS!$B$2:$F$13,MATCH(Resultado!V22,[1]DATOS!$E$2:$E$13,0),2) -> 44756 | AD22: =+INDEX([1]DATOS!$B$2:$F$13,MATCH(Resultado!W22,[1]DATOS!$F$2:$F$13,0),2) -> 44771
A23: 16 | B23: Reclamos de terceros sobre la selección del oferente | C23: 33 | D23: General | E23: Externo | F23: Contratación | G23: Riesgos Operacionales | H23: Reclamos de terceros sobre la selección del oferente adjudicatario que retrasan el perfeccionamiento del contrato y el inicio de ejecución del mismo. | I23: 1. desgaste administrativo. 2. Demandas de terceros 3. Presiones externas en la ejecución o adjudicación. 4. Retrasos en la ejecución. 5. La estructuración y selección del proceso de contratación genera controversias que terminan en reclamaciones. | J23: 3. Posible (puede ocurrir en cualquier momento del futuro) | K23: 1. Insignificante | L23: 4 | M23: Riesgo Bajo | N23: Entidad | O23: 1. Verificar que se haya establecido con claridad, y de acuerdo con los presupuestos legales, los requisitos habilitantes. Así como establecer si existen o no proponentes que cumplan con los mismos._x000D_ 2. Identificar políticas y normas gubernamentales que podrían aplicar al proceso de contratación y asegurar su cumplimiento._x000D_ 3. Comprobar la pertinencia de la modalidad de contratación frente a la relación tiempo - coste esperada y la exigencia legal para el caso._x000D_ 4. Seleccionar un equipo de contratación con la experiencia adecuada._x000D_ 5. Identificar posibles conflictos entre las partes interesadas._x000D_ 6. Identificar políticas gubernamentales (por ejemplo, desarrollo económico, abastecimiento, etc.) que se aplican al contrato y asegurar su cumplimiento_x000D_. 7. Respuestas oportunas y de fondo a las observaciones presentados por los oferentes durante todo el proceso de selección. | P23: 1. Raro (puede ocurrir excepcionalmente) | Q23: 1. Insignificante | R23: 2 | S23: Riesgo Bajo | T23: No | U23: Entidad | V23: Desde finalizar Etapa de Selección | W23: Hasta Inicio del Contrato | X23: Estudio de documentos | Y23: En hito(s) de la contratación | AC23: =+INDEX([1]DATOS!$B$2:$F$13,MATCH(Resultado!V23,[1]DATOS!$E$2:$E$13,0),2) -> 44756 | AD23: =+INDEX([1]DATOS!$B$2:$F$13,MATCH(Resultado!W23,[1]DATOS!$F$2:$F$13,0),2) -> 44771
A24: 17 | B24: Peligros fisicos en el desarrollo de las actividades a ejecutar | C24: 14 | D24: Específico | E24: Interno | F24: Ejecución | G24: Riesgos Operacionales | H24: Peligros fisicos en el desarrollo de las actividades a ejecutar | I24: 1. El desarrollo del contrato requiere la realización de actividades que pueden tener riesgos para la salud y vida de los trabajadores y otras personas durante la ejecución del contrato. | J24: Posible (puede ocurrir en cualquier momento futuro | K24: Menor | L24: 5 | M24: Riesgo medio | N24: Proveedor | O24: Identificar materiales o prácticas peligrosas que se utilizan para desarrollar o entregar el producto o servicio, y asegurar el uso de procedimientos de manipulación apropiados._x000D_ Identificar los problemas regionales que puedan afectar la entrega del producto o servicio, como los patrones estacionales del clima, la lejanía, la accesibilidad, la disponibilidad de recursos, servicios, etc., y desarrollar planes de manejo._x000D_ Pedir detalles al Contratista de cómo planea llevar a cabo el trabajo._x000D_ Estipulación contractual que obligue al proveedor a tener planes de contingencia para estos eventos. _x000D_ Seguimiento al cumplimiento de los protocolos de seguridad._x000D_ | P24: Raro (puede ocurrir excepcionalmente) | Q24: Insignificante | R24: 2 | S24: Riesgo bajo | T24: No | U24: Proveedor | V24: Desde el Inicio del Contrato | W24: Finalizacion de las actividades correspondientes a la realizacion del proyecto | X24: Estudio de documentos | Y24: Permanente
A25: 18 | B25: Incumplimiento de los protocolos, medidas y procedimientos asociados a sistema de seguridad y salud en el trabajo SST. | C25: 37 | D25: General | E25: Interno | F25: Ejecución | G25: Riesgos Operacionales | H25: Falta de seguimiento de los procedimientos y estándares del sistema de seguridad y salud en el trabajo SST que propician accidentes, ambientes inseguros, contagios y riesgos físicos. | I25: 1. baja disponibilidad del personal para el desarrollo de las actividades contratadas. 2. demandas por accidentes 3. baja disponibilidad de los equipos 4. Aparición o nuevos brotes virus Covid-19. 5. Retrasos en la ejecución del contrato. 6. Baja productividad laboral. 7. Incumplimiento del contrato. | J25: 2. Improbable (puede ocurrir ocasionalmente) | K25: 1. Insignificante | L25: 3 | M25: Riesgo Bajo | N25: Proveedor | O25: 1. Asegurar que el contratista desarrollo todos los protocolos, medidas y procedimientos definidos por la normatividad en materia de seguridad y salud en el trabajo SST. 2. cumpliendo con la normatividad establecida para la prevención y mitigación del contagio 3. exigencia de certificación de las aseguradoras 4. obligación contractual para el cumplimiento de los estándares del sistema de seguridad y salud en el trabajo. _x000D_ 5. Capacitación del personal empleado 6. Supervisión permanente a las medidas de SST. | P25: 1. Raro (puede ocurrir excepcionalmente) | Q25: 1. Insignificante | R25: 2 | S25: Riesgo Bajo | T25: No | U25: Entidad y Proveedor | V25: Desde el Inicio del Contrato | W25: Hasta Finalizar la Ejecución del Contrato | X25: Análisis de cumplimiento de requisitos | Y25: Semanal | AC25: =+INDEX([1]DATOS!$B$2:$F$13,MATCH(Resultado!V25,[1]DATOS!$E$2:$E$13,0),2) -> 44771 | AD25: =+INDEX([1]DATOS!$B$2:$F$13,MATCH(Resultado!W25,[1]DATOS!$F$2:$F$13,0),2) -> 44921
A26: 19 | B26: Accidentes o daños causados a terceros por parte del proveedor durante la ejecución del contrato | C26: 49 | D26: Específico | E26: Interno | F26: Ejecución | G26: Riesgos Operacionales | H26: Accidentes o daños causados a terceros por parte del proveedor durante la ejecución del contrato | I26: 1. Lesiones o afectaciones que impliquen indemnizaciones a los terceros afectados. 2. Retrasos o demoras en la ejecución del proyecto. | J26: improbable (puede ocurrir ocacionalmente) | K26: Insignificante | L26: 3 | M26: Riesgo bajo | N26: Proveedor | O26: 1. Estipulación contractual que obligue al proveedor a contar con los protocolos de seguridad._x000D_ 2.Disponer de seguros que respalden la obligación de indemnizar. _x000D_ | P26: Raro (puede ocurrir excepcionalmente) | Q26: Insignificante | R26: 2 | S26: Riesgo bajo | T26: No | U26: Proveedor | V26: Desde el Inicio del Contrato | W26: hasta liquidación del contrato | X26: Reuniones con contratista/interventor | Y26: Semanal
A27: 20 | B27: Deficiente calidad de los bienes, materiales, insumos o equipos requeridos (defectos, deterioro, usados o re manufacturados, no originales) | C27: 214 | D27: Específico | E27: Externo | F27: Ejecución | G27: Riesgos Operacionales | H27: La falta de idoneidad, experiencia, capacidad técnica, operativa y financiera de las empresas, las ofertas por debajo de los precios del mercado y la variedad de marcas y tipo de bienes y equipos requeridos así como las diferentes alternativas en cuanto a desempeño y especificaciones técnicas, pueden conducir a que se presente deficiente calidad los bienes y equipos requeridos. | I27: 1. Suspensión temporal o definitiva del contrato. 2. Retrasos en los tiempos de entrega y recibo a satisfacción 3. Baja disponibilidad y confiabilidad de los equipos y/o bienes requeridos 4. sobrecostos por baja calidad 5. insatisfacción, descontento e incumplimiento por demoras en los plazos de entrega y recibo a satisfacción 6. riegos de accidentes y disminución de la seguridad de los bienes y equipos. 7. reclamaciones 8. demora en la atención de las necesidades que se satisfacen con la utilización de los bienes y la operación de los equipos. 9. insatisfacción de los operarios por demoras en el inicio de operación de los equipos 10. Incremento de garantías 11. desgaste administrativo por mayor supervisión y control | J27: 2. Improbable (puede ocurrir ocasionalmente) | K27: 3. Moderado | L27: 5 | M27: Riesgo Medio | N27: Proveedor | O27: 1. La supervisión del contrato debe monitorear y exigir el reemplazo de considerarlo necesario._x000D_ 2. verificar las especificaciones técnicas y proyectar las actividades de acuerdo con los manuales y requerimientos de fabricantes directos 3. verificación de las referencias y modelos de los equipos _x000D_ 4. Verificar que el personal empleado para el desarrollo de las actividades sea idóneo y calificado. 5. propender por la participación de empresas idóneas con capacidad técnica, operativa y financiera suficiente para la ejecución del contrato con la oportunidad y calidad requerida. 6. establecer especificaciones y obligaciones contractuales que se ajusten a los requisitos de calidad requeridos para el proceso 7. establecer parámetros de calidad homogéneos y de fácil comprensión. 8. definir condiciones de originalidad de los insumos, materiales, bines y equipos requeridos. 9. disminuir la intermediación y la ejecución con empresas que no cuentan con la idoneidad, capacidad técnica, operativa y experiencia ajustada al tipo de equipo, bien o servicio requerido. 10. Exigir garantía del contrato y garantía de fabricante. | P27: 2. Improbable (puede ocurrir ocasionalmente) | Q27: 2. Menor | R27: 4 | S27: Riesgo Bajo | T27: Si | U27: Entidad y Proveedor | V27: Desde el Inicio del Contrato | W27: Hasta la finalización del periodo de Garantías | X27: Análisis de cumplimiento de requisitos | Y27: Mensual | AC27: =+INDEX([1]DATOS!$B$2:$F$13,MATCH(Resultado!V27,[1]DATOS!$E$2:$E$13,0),2) -> 44771 | AD27: =+INDEX([1]DATOS!$B$2:$F$13,MATCH(Resultado!W27,[1]DATOS!$F$2:$F$13,0),2) -> #N/A
A28: 21 | B28: El proveedor no entrega los bienes y/o servicios de acuerdo con las especificaciones técnicas definidas en los documentos del proceso | C28: 3 | D28: Específico | E28: Interno | F28: Ejecución | G28: Riesgos Operacionales | H28: El proveedor no entrega los bienes y/o servicios de acuerdo con las especificaciones técnicas definidas en los documentos del proceso | I28: 1. Los bienes o el servicio no cumpla con el objeto del contrato. 2. Mayor onerosidad. 3. Insatisfacción de las partes interesadas. 4. Resultados no confiables. 5. El proveedor no entrega los bienes y/o servicios de acuerdo con las especificaciones técnicas definidas en los documentos del proceso. | J28: Posible (puede ocurrir en cualquier momento futuro | K28: Menor | L28: 5 | M28: Riesgo medio | N28: Proveedor | O28: Adecuar los valores de tiempo y costos para lograr los objetivos de la contratación_x000D_ Asegurar que se tiene el conocimiento técnico adecuado para la definición del alcance_x000D_ Describir el producto o servicio de una manera tangible y sin ambigüedades._x000D_ Desarrollar una planeación del proyecto en el nivel detalle apropiado_x000D_ Asegurar la documentación de la planeación_x000D_ Asegurar que los documentos son concisos, precisos y sin ambigüedades._x000D_ Evaluar los requisitos de control de calidad y comparar con la capacidad de la industria._x000D_ Seleccionar un equipo de contratación con la experiencia adecuada._x000D_ Pedir a los proveedores que expliquen su comprensión de los requisitos y entregables del contrato._x000D_ Asegurar que las especificaciones son adecuadamente establecidas en términos de rendimiento o la función que debe cumplir el producto o servicio._x000D_ Estipulación contractual que permita la aplicación de descuentos a los proveedores por incumplimiento de ANS y/o descuentos._x000D_ Estipulación contractual de multas y sanciones al Proveedor. | P28: Improbable (puede ocurrir ocasionalmente) | Q28: Menor | R28: 4 | S28: Riesgo bajo | T28: Si | U28: Proveedor | V28: Desde el Inicio del Contrato | W28: Una vez entregada la obra a entera satisfaccion | X28: Reuniones con contratista/interventor | Y28: Permanente
A29: 22 | B29: El recurso humano y equipos de que dispone el proveedor para la ejecución del contrato es insuficiente para cumplir con el objeto contractual. | C29: 13 | D29: Específico | E29: Interno | F29: Ejecución | G29: Riesgos Operacionales | H29: El recurso humano y equipos de que dispone el proveedor para la ejecución del contrato es insuficiente para cumplir con el objeto contractual. | I29: 1. Mayor onerosidad del contrato. 2. Retrasos en la ejecución. 3. Ampliación de los plazos de ejecución. 4. incumplimiento del contrato . | J29: Improbable (puede ocurrir ocasionalmente) | K29: Moderado | L29: 5 | M29: Riesgo medio | N29: Proveedor | O29: Seguimiento al desarrolo de las actividades y al cronograma previsto con el fin de garantizar el cumpimiento del mismo._x000D_ Estipulación contractual que permita en caso de ser necesario ajustar los tiempos de entrega definidos en los documentos del proceso._x000D_ Contar con mecanismos efectivos de comunicación que permitan conocer de manera oportuna las dificultades presentadas en la ejecución del contrato._x000D_ Estipulación contractual que obligue al proveedor a tener planes de contingencia para estos eventos. Asegurar la Disponibilidad de los recursos para el cumplimiento del contrato. Definir las estrategias de entrega con compromisos de disponibilidad y/o producción que aseguren el abastecimieto oportuno de recursos necesarios para satisfacer las necesidad del contrato. | P29: Raro (puede ocurrir excepcionalmente) | Q29: Menor | R29: 3 | S29: Riesgo bajo | T29: Si | U29: Proveedor | V29: Desde el Inicio del Contrato | W29: Una vez entregada la obra a entera satisfaccion | X29: Análisis de cumplimiento de requisitos | Y29: Permanente
A30: 23 | B30: Incumplimiento o retrasos con los tiempos de entrega de los bienes, insumos o equipos. | C30: 2 | D30: General | E30: Interno | F30: Ejecución | G30: Riesgos Operacionales | H30: La falta de idoneidad, experiencia, capacidad técnica, operativa y financiera de las empresas, las ofertas por debajo de los precios del mercado y la variedad de marcas y tipo de bienes y equipos requeridos así como las diferentes alternativas en cuanto a desempeño y especificaciones técnicas, pueden conducir a que se presente incumplimiento o retrasos con los tiempos de entrega y recibo a satisfacción de los bienes o equipos requeridos. | I30: 1. Incumplimiento por parte del contratista. 2.Entregas tardías o extemporáneas. 3. Mayor onerosidad del contrato. 4. mayor tiempo de ejecución. 5. suspensión temporal o definitiva del contrato. 6. Baja disponibilidad y confiabilidad de los bienes y equipos 7. insatisfacción, descontento e incumplimiento por demoras en los plazos de entrega y recibo a satisfacción 8. reclamaciones 9. demora en la atención de las necesidades que se satisfacen con la utilización de los bienes y la operación de los equipos. | J30: 2. Improbable (puede ocurrir ocasionalmente) | K30: 3. Moderado | L30: 5 | M30: Riesgo Medio | N30: Proveedor | O30: 1. Adecuar los valores de tiempo y costos para lograr los objetivos de la contratación_x000D_ 2. Realizar las gestiones necesarias para obtener las aprobaciones requeridas._x000D_ 3. Asegurar que el alcance de la contratación esté definido, documentado y entendido._x000D_ 4. La supervisión del contrato debe monitorear y exigir el cumplimiento en los tiempos definidos en los documentos del proceso. 5. verificar y planificar los tiempos de entrega acorde con los servicios solicitados 6. Desarrollar una planeación apropiada_x000D_ y dar seguimiento a los cronogramas de ejecución. 7. exigir previo al inicio de las actividades los tiempos de ejecución 8. Asegurar que los plazos y presupuestos incorporan características de la zona o región._x000D_ 9. Evaluar métodos de entrega y abastecimiento alternativos._x000D_ 10. Estipulación contractual que permita en caso de ser necesario ajustar los tiempos de entrega definidos en los documentos del proceso._x000D_ 11. Estipulación contractual de multas y sanciones al Proveedor._x000D_ 12. Estipulación contractual que obligue al proveedor a tener planes de contingencia para estos eventos._x000D_ 13. Seguimiento al desarrollo de las actividades y al cronograma previsto con el fin de garantizar el cumplimiento del mismo._x000D_ 14. disminuir la intermediación y la ejecución con empresas que no cuentan con la idoneidad y capacidad técnica ajustada al tipo de equipo y sus necesidades de mantenimiento. 15. exigencia contractual de bienes, insumos o equipo con entrega inmediata o tiempos de entrega ajustados al plazo de contrato | P30: 2. Improbable (puede ocurrir ocasionalmente) | Q30: 2. Menor | R30: 4 | S30: Riesgo Bajo | T30: Si | U30: Entidad y Proveedor | V30: Desde el Inicio del Contrato | W30: Hasta Finalizar la Ejecución del Contrato | X30: Informes de avance | Y30: Permanente | AC30: =+INDEX([1]DATOS!$B$2:$F$13,MATCH(Resultado!V30,[1]DATOS!$E$2:$E$13,0),2) -> 44771 | AD30: =+INDEX([1]DATOS!$B$2:$F$13,MATCH(Resultado!W30,[1]DATOS!$F$2:$F$13,0),2) -> 44921
A31: 24 | B31: Retrasos en la obtención de componentes, bienes o equipos extranjeros y variación de la tasa de cambio | C31: 7 | D31: Específico | E31: Externo | F31: Ejecución | G31: Riesgos Operacionales | H31: De acuerdo con el tipo, marca y condiciones del equipo, se puede presentar la necesidad de realizar importaciones que pueden presentar retrasos o se vean afectados por la variación de las tasas de cambio. | I31: 1. No consecución de las metas y objetivos de la contratación. 2. Incumplimiento del contrato. 3. Dificultades en el transporte o importación de algunos o todos los componentes contratados, debido a la necesidad de autorizaciones por parte de otras entidades o problemas coyunturales. 4. sobrecostos en la ejecución del contrato 5. reclamaciones 6. demora en la prestación del servicio y puesta en funcionamiento de los equipos 7. insatisfacción de los operarios por demoras en el inicio de operación de los equipos | J31: 3. Posible (puede ocurrir en cualquier momento del futuro) | K31: 2. Menor | L31: 5 | M31: Riesgo Medio | N31: Ambas partes (Entidad/Proveedor) | O31: 1. Identificar los componentes cuya fuente es extranjera, su disponibilidad y criticidad para el proyecto, y considerar anticipar su compra de ser necesario._x000D_ 2. Pedir detalles al proveedor de cómo planea llevar a cabo el trabajo_x000D_ 3. Identificar las actividades que pueden ser necesarias para entregar los productos, bienes o equipos, y asegurar que estén disponibles._x000D_ 4. Considerar estrategias para minimizar el impacto de las fluctuaciones cambiarias_x000D_ 5. Considerar la compra con anticipación de bienes o equipos que probablemente estén escasos en el momento en que se requieran._x000D_ 6. Estipulación contractual que obligue al proveedor a tener planes de contingencia para estos eventos._x000D_ 7. Seguimiento al desarrollo de las actividades y al cronograma previsto con el fin de garantizar el cumplimiento del mismo._x000D_ 8. Estipulación contractual que permita en caso de ser necesario ajustar los tiempos de entrega definidos en los documentos del proceso._x000D_ 9. Estipulación contractual que contemple los tiempos de importación, nacionalización y entrega de los bienes y/o servicios a contratar._x000D_ | P31: 1. Raro (puede ocurrir excepcionalmente) | Q31: 1. Insignificante | R31: 2 | S31: Riesgo Bajo | T31: No | U31: Entidad y Proveedor | V31: Desde el Inicio del Contrato | W31: Hasta Finalizar la Ejecución del Contrato | X31: Análisis de precios | Y31: En hito(s) de la contratación | AC31: =+INDEX([1]DATOS!$B$2:$F$13,MATCH(Resultado!V31,[1]DATOS!$E$2:$E$13,0),2) -> 44771 | AD31: =+INDEX([1]DATOS!$B$2:$F$13,MATCH(Resultado!W31,[1]DATOS!$F$2:$F$13,0),2) -> 44921
A32: 25 | B32: Incumplimiento de la normativa ambiental y afectación al medio ambiente por los bienes, insumos o equipos requeridos. | C32: 217 | D32: Específico | E32: Externo | F32: Ejecución | G32: Riesgos Ambientales | H32: La adquisición de bienes, insumos, materiales o equipos que no sean sostenibles o amigables con el medio ambiente pueden ocasionar una afectación grave al medio ambiente e incumplir las normas en materia ambiental aplicable, como la referida a las emisiones contaminantes y la producción sostenible y amigable con el medio ambiente. | I32: 1. Sanciones disciplinarias, fiscales, administrativas y/o penales. 2. Hallazgos por parte de los entes de control. 3. Insatisfacción de los intereses de las partes. 4. afectación al medio ambiente. 5. adquisición de bienes o equipos contaminantes. | J32: 2. Improbable (puede ocurrir ocasionalmente) | K32: 3. Moderado | L32: 5 | M32: Riesgo Medio | N32: Proveedor | O32: 1. Establecer claramente las condiciones técnicas de lo requerido por la Entidad para la ejecución del contrato._x000D_ 2. propender por la adquisición de bienes, insumos o equipos que sean sostenibles y amigables con el medio ambiente 3. Exigir el cumplimiento de la normatividad en materia ambiental_x000D_ 4. Exigir que se destinen espacios y recipientes adecuados para el manejo de residuos peligrosos_x000D_ 5. Exigir certificados del gestor ambiental y de los entes gubernamentales en materia ambiental. 6. cumplir las políticas de compras publicas sostenibles | P32: 2. Improbable (puede ocurrir ocasionalmente) | Q32: 2. Menor | R32: 4 | S32: Riesgo Bajo | T32: No | U32: Entidad y Proveedor | V32: Desde el Inicio del Contrato | W32: Hasta Finalizar la Ejecución del Contrato | X32: Análisis de cumplimiento de requisitos | Y32: Permanente | AC32: =+INDEX([1]DATOS!$B$2:$F$13,MATCH(Resultado!V32,[1]DATOS!$E$2:$E$13,0),2) -> 44771 | AD32: =+INDEX([1]DATOS!$B$2:$F$13,MATCH(Resultado!W32,[1]DATOS!$F$2:$F$13,0),2) -> 44921
A33: 26 | B33: Incumplimiento de los compromisos adquiridos por las partes | C33: 46 | D33: General | E33: Externo | F33: Ejecución | G33: Riesgos Operacionales | H33: Las Entidades tienen los recursos y mecanismos para asumir los compromisos derivados del contrato pero pueden existir dificultades o demoras en su implementación, por la disponibilidad y tramite de los recursos. | I33: 1. Hallazgos fiscales 2. Detrimento patrimonial 2. incumplimiento de los objetivos y fines de la contratación. 3. Insatisfacción de terceros y beneficiarios 4. desgaste administrativo 5. Incumplimiento de compromisos con la comunidad o beneficiarios 6. Demoras en la satisfacción de las necesidades 7. Multas y o Sanciones 8. Modificaciones contractuales 9. Insatisfacción de la comunidad o población beneficiaria. 10. Inicio de posibles acciones disciplinarias. 11. Investigaciones por parte de los organismos de control. | J33: 1. Raro (puede ocurrir excepcionalmente) | K33: 2. Menor | L33: 3 | M33: Riesgo Bajo | N33: Ambas partes (Entidad/Proveedor) | O33: 1. Asegurar que el contrato objetivos claros y bien definidos._x000D_ 2. Incluir etapas individuales de entrega._x000D_ realizar mesas de seguimiento para evaluar el avance del proyecto. 3. Adoptar una estructura adecuada de control de proyectos_x000D_. 4. Identificar y desarrollar herramientas apropiadas para el reporte de información del contrato_x000D_. 5. Desarrollar un plan de gestión de contratos, que incluya el seguimiento y la gestión de los compromisos contractuales de todas las partes._x000D_ 6. Incluir en el cronograma de control de la ejecución y plazos para la evaluación. 7. Coordinación interinstitucional para el tramite y gestión de los recursos. | P33: 1. Raro (puede ocurrir excepcionalmente) | Q33: 1. Insignificante | R33: 2 | S33: Riesgo Bajo | T33: Si | U33: Supervisión y Contratista | V33: Desde el Inicio del contrato | W33: hasta liquidación del contrato | X33: Análisis de progreso | Y33: Mensual
A34: 27 | B34: Incumplimiento del contratista | C34: 46 | D34: General | E34: Externo | F34: Ejecución | G34: Riesgos Operacionales | H34: El Contratista seleccionado cumple con los requisitos de experiencia y capacidad para desarrollar el Contrato, pero en el caso de presentarse un evento externo es posible que no tenga la capacidad para afrontarlo. | I34: 1. Hallazgos fiscales 2. Detrimento patrimonial 3. incumplimiento de los objetivos y fines de la contratación 4. Baja Cobertura del servicio 5. Insatisfacción de la comunidad o población beneficiaria. 6. Inicio de posibles acciones disciplinarias. 7. Investigaciones por parte de los organismos de control. 8. Incremento en los tiempos de respuesta y atención. 9. Incumplimiento de las especificaciones Técnicas y condiciones de ejecución. 10. Deficiencia en la prestación de los servicios y entrega de los productos requeridos 11. Productos y Servicios no conformes. 12. reclamaciones de afectados. 13. suspensiones del servicio | J34: 1. Raro (puede ocurrir excepcionalmente) | K34: 3. Moderado | L34: 4 | M34: Riesgo Bajo | N34: Contratista | O34: 1. Asegurar que el contrato tiene provisiones para retener los pagos si el producto o servicio no es satisfactorio._x000D_ 2. Incluir etapas individuales de entrega, prueba e instalación en el cronograma del proyecto._x000D_ Pedir detalles al Contratista de cómo planea llevar a cabo el trabajo_x000D_. 3. Evaluar el posible impacto del contrato en las empresas y sectores._x000D_ 4. Adoptar una estructura adecuada de control de proyectos_x000D_ 5. Identificar y desarrollar herramientas apropiadas para el reporte de información del contrato. 6. Desarrollar un plan de gestión de contratos, que incluya el seguimiento y la gestión de las obligaciones contractuales de todas las partes._x000D_ 7. Confirmar el esquema de pagos y las responsabilidades con el Contratista_x000D_. 8. Incluir en el cronograma de control de la ejecución, plazos para la evaluación técnica, pruebas de producto o servicio, y la instalación de los mismos._x000D_ | P34: 1. Raro (puede ocurrir excepcionalmente) | Q34: 2. Menor | R34: 3 | S34: Riesgo Bajo | T34: Si | U34: Supervisión y Contratista | V34: Desde el Inicio del Contrato | W34: hasta liquidación del contrato | X34: Análisis de progreso | Y34: Mensual
