Workbook

Sheet TOYOTA HILUX 1997
A1: CAMIONETA | C1: TOYOTA HILUX RN85 - 1997 | G1: OFERTA PROPONENTE
C2: PRECIOS TECHO
A3: ITEM | B3: PREVENTIVO | C3: CANTIDAD | D3: VALOR UNITARIO | E3: IVA | F3: VALOR UNITARIO CON IVA INCLUIDO | G3: VALOR UNITARIO | H3: IVA | I3: VALOR UNITARIO CON IVA INCLUIDO
A4: 1 | B4: Aceite motor | C4: 1 | D4: 42500 | E4: 8075 | F4: 50575
A5: 2 | B5: Filtro aceite | C5: 1 | D5: 67227 | E5: 12773.13 | F5: 80000.13
A6: 3 | B6: Anillo tapón carter | C6: 1 | D6: 4202 | E6: 798.38 | F6: 5000.38
A7: 4 | B7: Filtro combustible | C7: 1 | D7: 235294 | E7: 44705.86 | F7: 279999.86
A8: 5 | B8: Filtro purificador(Aire) | C8: 1 | D8: 211345 | E8: 40155.55 | F8: 251500.55
A9: 6 | B9: Bujías | C9: 1 | D9: 86975 | E9: 16525.25 | F9: 103500.25
A10: =+A9+1 -> 7 | B10: Limpiador de inyectores | C10: 1 | D10: 82774 | E10: 15727.06 | F10: 98501.06
A11: =+A10+1 -> 8 | B11: Instalacion de alta | C11: 1 | D11: 211646 | E11: 40212.74 | F11: 251858.74
A12: =+A11+1 -> 9 | B12: Bobina | C12: 1 | D12: 513025 | E12: 97474.75 | F12: 610499.75
A13: =+A12+1 -> 10 | B13: Correa alternador o accesorios | C13: 1 | D13: 152386 | E13: 28953.34 | F13: 181339.34
A14: =+A13+1 -> 11 | B14: Bomba gasolina | C14: 1 | D14: 1089076 | E14: 206924.44 | F14: 1296000.4
A15: =+A14+1 -> 12 | B15: Juego casquetes biela | C15: 1 | D15: 312738 | E15: 59420.22 | F15: 372158.22
A16: =+A15+1 -> 13 | B16: Juego casquetes bancada | C16: 1 | D16: 648939 | E16: 123298.41 | F16: 772237.41
A17: =+A16+1 -> 14 | B17: Correa hidráulico dirección | C17: 1 | D17: 129673 | E17: 24637.87 | F17: 154310.87
A18: =+A17+1 -> 15 | B18: Juego válvulas de admisión | C18: 1 | D18: 173357 | E18: 32937.83 | F18: 206294.83
A19: =+A18+1 -> 16 | B19: Juego válvulas de escape | C19: 1 | D19: 349171 | E19: 66342.49 | F19: 415513.49
A20: =+A19+1 -> 17 | B20: Juego guias válvulas | C20: 1 | D20: 269513 | E20: 51207.47 | F20: 320720.47
A21: =+A20+1 -> 18 | B21: Juego sellos válvulas | C21: 1 | D21: 44877 | E21: 8526.63 | F21: 53403.63
... A193: =+A192+1 -> 190 | B193: Película de seguridad por vidrio c/uno | C193: 1 | D193: 110000 | E193: 20900 | F193: 130900
E195: TOTAL | G195: =SUM(G4:G193) -> 0 | H195: =SUM(H4:H193) -> 0 | I195: =SUM(I4:I193) -> 0

Sheet TOYOTA PRADO VXM 2001
A1: CAMIONETA | C1: TOYOTA PRADO VXM 2001 | G1: OFERTA PROPONENTE
C2: PRECIOS TECHO
A3: ITEM | B3: PREVENTIVO | C3: CANTIDAD | D3: VALOR UNITARIO | E3: IVA | F3: VALOR UNITARIO CON IVA INCLUIDO | G3: VALOR UNITARIO | H3: IVA | I3: VALOR UNITARIO CON IVA INCLUIDO
A4: 1 | B4: Aceite motor | C4: 1 | D4: 39200 | E4: 7448 | F4: 46648
A5: 2 | B5: Filtro aceite | C5: 1 | D5: 82583 | E5: 15690.77 | F5: 98273.77
A6: 3 | B6: Anillo tapón carter | C6: 1 | D6: 4238 | E6: 805.22 | F6: 5043.22
A7: 4 | B7: Filtro combustible | C7: 1 | D7: 269491 | E7: 51203.29 | F7: 320694.29
A8: 5 | B8: Filtro purificador(Aire) | C8: 1 | D8: 185327 | E8: 35212.13 | F8: 220539.13
A9: 6 | B9: Bujías | C9: 1 | D9: 25012 | E9: 4752.28 | F9: 29764.28
A10: =+A9+1 -> 7 | B10: Aditivo inyectores | C10: 1 | D10: 81474 | E10: 15480.06 | F10: 96954.06
A11: =+A10+1 -> 8 | B11: Instalacion de alta | C11: 1 | D11: 373479 | E11: 70961.01 | F11: 444440.01
A12: =+A11+1 -> 9 | B12: Bobina | C12: 1 | D12: 467966 | E12: 88913.54 | F12: 556879.54
A13: =+A12+1 -> 10 | B13: Correa alternador o accesorios | C13: 1 | D13: 196570 | E13: 37348.3 | F13: 233918.3
A14: =+A13+1 -> 11 | B14: Bomba gasolina | C14: 1 | D14: 1012908 | E14: 192452.52 | F14: 1205360.5
A15: =+A14+1 -> 12 | B15: Juego casquetes biela | C15: 1 | D15: 373228 | E15: 70913.32 | F15: 444141.32
A16: =+A15+1 -> 13 | B16: Juego casquetes bancada | C16: 1 | D16: 424495 | E16: 80654.05 | F16: 505149.05
A17: =+A16+1 -> 14 | B17: Correa hidráulico dirección | C17: 1 | D17: 401698 | E17: 76322.62 | F17: 478020.62
A18: =+A17+1 -> 15 | B18: Juego válvulas de admisión | C18: 1 | D18: 102122 | E18: 19403.18 | F18: 121525.18
A19: =+A18+1 -> 16 | B19: Juego válvulas de escape | C19: 1 | D19: 148375 | E19: 28191.25 | F19: 176566.25
A20: =+A19+1 -> 17 | B20: Juego guias válvulas | C20: 1 | D20: 50643 | E20: 9622.17 | F20: 60265.17
A21: =+A20+1 -> 18 | B21: Juego sellos válvulas | C21: 1 | D21: 39952 | E21: 7590.88 | F21: 47542.88
... A143: =+A142+1 -> 140 | B143: Llanta | C143: 1 | D143: 1156464 | E143: 219728.16 | F143: 1376192.2
A144: 141 | B144: Alineación | C144: 1 | D144: 177237 | E144: 33675.03 | F144: 210912.03
A145: =+A144+1 -> 142 | B145: Balanceo cada rueda | C145: 1 | D145: 68154 | E145: 12949.26 | F145: 81103.26
A146: =+A145+1 -> 143 | B146: Rotación de llantas | C146: 1 | D146: 73457 | E146: 13956.83 | F146: 87413.83
A147: =+A146+1 -> 144 | B147: Vulcanización llanta | C147: 1 | D147: 128399 | E147: 24395.81 | F147: 152794.81
A148: =+A147+1 -> 145 | B148: Cambio aceite y filtro | C148: 1 | D148: 94979 | E148: 18046.01 | F148: 113025.01
A149: =+A148+1 -> 146 | B149: Reparación general de motor | C149: 1 | D149: 8410834 | E149: 1598058.5 | F149: 10008892
A150: =+A149+1 -> 147 | B150: Sincronización | C150: 1 | D150: 591395 | E150: 112365.05 | F150: 703760.05
A151: =+A150+1 -> 148 | B151: Calibración válvulas | C151: 1 | D151: 903727 | E151: 171708.13 | F151: 1075435.1
A152: =+A151+1 -> 149 | B152: Cambio bomba agua | C152: 1 | D152: 1054858 | E152: 200423.02 | F152: 1255281
A153: =+A152+1 -> 150 | B153: Cambio bomba gasolina | C153: 1 | D153: 559088 | E153: 106226.72 | F153: 665314.72
A154: =+A153+1 -> 151 | B154: Cambio empaque múltiple de admisión | C154: 1 | D154: 481091 | E154: 91407.29 | F154: 572498.29
A155: =+A154+1 -> 152 | B155: Cambio correa o cadena de repartición | C155: 1 | D155: 6890087 | E155: 1309116.5 | F155: 8199203.5
A156: =+A155+1 -> 153 | B156: Cambio empaquetadura culata | C156: 1 | D156: 3448249 | E156: 655167.31 | F156: 4103416.3
... A222: =+A221+1 -> 219 | B222: Película de seguridad por vidrio c/uno | C222: 1 | D222: 94282 | E222: 17913.58 | F222: 112195.58
E224: TOTALES | G224: =SUM(G4:G190) -> 0 | H224: =SUM(H4:H190) -> 0 | I224: =SUM(I4:I190) -> 0

Sheet TOYOTA RAV4 - 2003
A1: CAMIONETA | C1: TOYOTA RAV-4 2003 | G1: OFERTA PROPONENTE
C2: PRECIOS TECHO
A3: ITEM | B3: PREVENTIVO | C3: CANTIDAD | D3: VALOR UNITARIO | E3: IVA | F3: VALOR UNITARIO CON IVA INCLUIDO | G3: VALOR UNITARIO | H3: IVA | I3: VALOR UNITARIO CON IVA INCLUIDO
A4: 1 | B4: Aceite motor | C4: 1 | D4: 41500 | E4: 7885 | F4: 49385
A5: 2 | B5: Filtro aceite | C5: 1 | D5: 69614 | E5: 13226.66 | F5: 82840.66
A6: 3 | B6: Anillo tapón carter | C6: 1 | D6: 4101 | E6: 779.19 | F6: 4880.19
A7: 4 | B7: Filtro combustible | C7: 1 | D7: 410124 | E7: 77923.56 | F7: 488047.56
A8: 5 | B8: Filtro purificador(Aire) | C8: 1 | D8: 94200 | E8: 17898 | F8: 112098
A9: 6 | B9: Bujia | C9: 1 | D9: 84900 | E9: 16131 | F9: 101031
A10: =+A9+1 -> 7 | B10: Limpiador de inyectores | C10: 1 | D10: 76486 | E10: 14532.34 | F10: 91018.34
A11: =+A10+1 -> 8 | B11: Instalacion de alta | C11: 1 | D11: 86200 | E11: 16378 | F11: 102578
A12: =+A11+1 -> 9 | B12: Bobina | C12: 1 | D12: 489576 | E12: 93019.44 | F12: 582595.44
A13: =+A12+1 -> 10 | B13: Correa alternador o accesorios | C13: 1 | D13: 431366 | E13: 81959.54 | F13: 513325.54
A14: =+A13+1 -> 11 | B14: Bomba gasolina | C14: 1 | D14: 1895849 | E14: 360211.31 | F14: 2256060.3
A15: =+A14+1 -> 12 | B15: Correa hidráulico dirección | C15: 1 | D15: 476366 | E15: 90509.54 | F15: 566875.54
A16: =+A15+1 -> 13 | B16: Juego válvulas de admisión | C16: 1 | D16: 280500 | E16: 53295 | F16: 333795
A17: =+A16+1 -> 14 | B17: Juego válvulas de escape | C17: 1 | D17: 470200 | E17: 89338 | F17: 559538
A18: =+A17+1 -> 15 | B18: Juego guias válvulas | C18: 1 | D18: 226818 | E18: 43095.42 | F18: 269913.42
A19: =+A18+1 -> 16 | B19: Juego sellos válvulas | C19: 1 | D19: 45297 | E19: 8606.43 | F19: 53903.43
A20: =+A19+1 -> 17 | B20: Juego media lunas | C20: 1 | D20: 103677 | E20: 19698.63 | F20: 123375.63
A21: =+A20+1 -> 18 | B21: Empaquetadura motor completa | C21: 1 | D21: 1264152 | E21: 240188.88 | F21: 1504340.9
... A174: =+A173+1 -> 171 | B174: Película de seguridad por vidrio c/uno | C174: 1 | D174: 110000 | E174: 20900 | F174: 130900
E176: TOTALES | G176: =SUM(G4:G174) -> 0 | H176: =SUM(H4:H174) -> 0 | I176: =SUM(I4:I174) -> 0

Sheet TOYOTA COROLLA 2004
A1: CAMIONETA | C1: TOYOTA COROLLA 2004 | G1: OFERTA PROPONENTE
C2: PRECIOS TECHO
A3: ITEM | B3: PREVENTIVO | C3: CANTIDAD | D3: VALOR UNITARIO | E3: IVA | F3: VALOR UNITARIO CON IVA INCLUIDO | G3: VALOR UNITARIO | H3: IVA | I3: VALOR UNITARIO CON IVA INCLUIDO
A4: 1 | B4: Aceite motor | C4: 1 | D4: 36500 | E4: 6935 | F4: 43435
A5: 2 | B5: Filtro aceite | C5: 1 | D5: 64757 | E5: 12303.83 | F5: 77060.83
A6: 3 | B6: Anillo tapón carter | C6: 1 | D6: 4197 | E6: 797.43 | F6: 4994.43
A7: 4 | B7: Filtro combustible | C7: 1 | D7: 331604 | E7: 63004.76 | F7: 394608.76
A8: 5 | B8: Filtro purificador(Aire) | C8: 1 | D8: 147702 | E8: 28063.38 | F8: 175765.38
A9: 6 | B9: Bujías | C9: 1 | D9: 26291 | E9: 4995.29 | F9: 31286.29
A10: =+A9+1 -> 7 | B10: Limpiador de inyectores | C10: 1 | D10: 65314 | E10: 12409.66 | F10: 77723.66
A11: =+A10+1 -> 8 | B11: Bobina | C11: 1 | D11: 425668 | E11: 80876.92 | F11: 506544.92
A12: =+A11+1 -> 9 | B12: Correa alternador o accesorios | C12: 1 | D12: 429694 | E12: 81641.86 | F12: 511335.86
A13: =+A12+1 -> 10 | B13: Bomba gasolina | C13: 1 | D13: 1371785 | E13: 260639.15 | F13: 1632424.1
A14: =+A13+1 -> 11 | B14: Juego casquetes biela | C14: 1 | D14: 30727 | E14: 5838.13 | F14: 36565.13
A15: =+A14+1 -> 12 | B15: Juego casquetes bancada | C15: 1 | D15: 352458 | E15: 66967.02 | F15: 419425.02
A16: =+A15+1 -> 13 | B16: Correa hidráulico dirección | C16: 1 | D16: 433999 | E16: 82459.81 | F16: 516458.81
A17: =+A16+1 -> 14 | B17: Juego válvulas de admisión | C17: 1 | D17: 534889 | E17: 101628.91 | F17: 636517.91
A18: =+A17+1 -> 15 | B18: Juego válvulas de escape | C18: 1 | D18: 903541 | E18: 171672.79 | F18: 1075213.8
A19: =+A18+1 -> 16 | B19: Juego guias válvulas | C19: 1 | D19: 149373 | E19: 28380.87 | F19: 177753.87
A20: =+A19+1 -> 17 | B20: Juego sellos válvulas | C20: 1 | D20: 39147 | E20: 7437.93 | F20: 46584.93
A21: =+A20+1 -> 18 | B21: Juego media lunas | C21: 1 | D21: 144359 | E21: 27428.21 | F21: 171787.21
... A127: =+A126+1 -> 124 | B127: Llanta | C127: 1 | D127: 1050569 | E127: 199608.11 | F127: 1250177.1
A128: 125 | B128: Alineación | C128: 1 | D128: 177237 | E128: 33675.03 | F128: 210912.03
A129: =+A128+1 -> 126 | B129: Balanceo cada rueda | C129: 1 | D129: 68154 | E129: 12949.26 | F129: 81103.26
A130: =+A129+1 -> 127 | B130: Rotación de llantas | C130: 1 | D130: 73457 | E130: 13956.83 | F130: 87413.83
A131: =+A130+1 -> 128 | B131: Vulcanización llanta | C131: 1 | D131: 128399 | E131: 24395.81 | F131: 152794.81
A132: =+A131+1 -> 129 | B132: Cambio aceite y filtro | C132: 1 | D132: 94979 | E132: 18046.01 | F132: 113025.01
A133: =+A132+1 -> 130 | B133: Reparación general de motor | C133: 1 | D133: 7781715 | E133: 1478525.9 | F133: 9260240.8
A134: =+A133+1 -> 131 | B134: Sincronización | C134: 1 | D134: 573796 | E134: 109021.24 | F134: 682817.24
A135: =+A134+1 -> 132 | B135: Calibración válvulas | C135: 1 | D135: 868530 | E135: 165020.7 | F135: 1033550.7
A136: =+A135+1 -> 133 | B136: Cambio bomba agua | C136: 1 | D136: 997161 | E136: 189460.59 | F136: 1186621.6
A137: =+A136+1 -> 134 | B137: Cambio bomba gasolina | C137: 1 | D137: 559088 | E137: 106226.72 | F137: 665314.72
A138: =+A137+1 -> 135 | B138: Cambio empaque múltiple de admisión | C138: 1 | D138: 472292 | E138: 89735.48 | F138: 562027.48
A139: =+A138+1 -> 136 | B139: Cambio correa o cadena de repartición | C139: 1 | D139: 6587216 | E139: 1251571 | F139: 7838787
A140: =+A139+1 -> 137 | B140: Cambio empaquetadura culata | C140: 1 | D140: 3248577 | E140: 617229.63 | F140: 3865806.6
... A161: =+A160+1 -> 158 | B161: Cambio retenes interno y externo (Bocines) | C161: 1 | D161: 752665 | E161: 143006.35 | F161: 895671.35
A162: =+A161+1 -> 159 | B162: Cambio retenes caja dirección | D162: 1308134 | E162: 248545.46 | F162: 1556679.5
A163: =+A162+1 -> 160 | B163: Cambio rodamientos caja dirección | D163: 1156354 | E163: 219707.26 | F163: 1376061.3
A164: =+A163+1 -> 161 | B164: Cambio terminales | C164: 1 | D164: 348590 | E164: 66232.1 | F164: 414822.1
A165: =+A164+1 -> 162 | B165: Cambio radiador | C165: 1 | D165: 281995 | E165: 53579.05 | F165: 335574.05
A166: =+A165+1 -> 163 | B166: Reparación radiador | C166: 1 | D166: 424395 | E166: 80635.05 | F166: 505030.05
A167: =+A166+1 -> 164 | B167: Cambio tarro auxiliar | C167: 1 | D167: 174295 | E167: 33116.05 | F167: 207411.05
A168: =+A167+1 -> 165 | B168: Cambio bomba del agua | C168: 1 | D168: 729487 | E168: 138602.53 | F168: 868089.53
A169: =+A168+1 -> 166 | B169: Cambio correa bomba del agua | C169: 1 | D169: 280545 | E169: 53303.55 | F169: 333848.55
A170: =+A169+1 -> 167 | B170: Cambio mangueras c/una. | C170: 1 | D170: 129565 | E170: 24617.35 | F170: 154182.35
A171: =+A170+1 -> 168 | B171: Cambio pera de temperatura | C171: 1 | D171: 242016 | E171: 45983.04 | F171: 287999.04
A172: =+A171+1 -> 169 | B172: Cambio termostato | C172: 1 | D172: 241036 | E172: 45796.84 | F172: 286832.84
A173: =+A172+1 -> 170 | B173: Carga Aire acondicionado | C173: 1 | D173: 466096 | E173: 88558.24 | F173: 554654.24
A174: =+A173+1 -> 171 | B174: Cambio compresor A/A | C174: 1 | D174: 659282 | E174: 125263.58 | F174: 784545.58
A175: =+A174+1 -> 172 | B175: Cambio calefactor A/A | C175: 1 | D175: 544432 | E175: 103442.08 | F175: 647874.08
... A201: =+A200+1 -> 198 | B201: Película de seguridad por vidrio c/uno | C201: 1 | D201: 94681 | E201: 17989.39 | F201: 112670.39
E203: TOTALES | G203: =SUM(G4:G201) -> 0 | H203: =SUM(H4:H201) -> 0 | I203: =SUM(I4:I201) -> 0

Sheet TOYOTA PRADO VXM-2004-2005
A1: CAMIONETA | C1: TOYOTA PRADO VXM 2004-2005 | G1: OFERTA PROPONENTE
C2: PRECIOS TECHO
A3: ITEM | B3: PREVENTIVO | C3: CANTIDAD | D3: VALOR UNITARIO | E3: IVA | F3: VALOR UNITARIO CON IVA INCLUIDO | G3: VALOR UNITARIO | H3: IVA | I3: VALOR UNITARIO CON IVA INCLUIDO
A4: 1 | B4: Aceite motor | C4: 1 | D4: 39200 | E4: 7448 | F4: 46648
A5: 2 | B5: Filtro aceite | C5: 1 | D5: 82583 | E5: 15690.77 | F5: 98273.77
A6: 3 | B6: Anillo tapón carter | C6: 1 | D6: 4238 | E6: 805.22 | F6: 5043.22
A7: 4 | B7: Filtro combustible | C7: 1 | D7: 269491 | E7: 51203.29 | F7: 320694.29
A8: 5 | B8: Filtro purificador(Aire) | C8: 1 | D8: 185327 | E8: 35212.13 | F8: 220539.13
A9: 6 | B9: Bujías | C9: 1 | D9: 25012 | E9: 4752.28 | F9: 29764.28
A10: =+A9+1 -> 7 | B10: Aditivo inyectores | C10: 1 | D10: 81474 | E10: 15480.06 | F10: 96954.06
A11: =+A10+1 -> 8 | B11: Instalacion de alta | C11: 1 | D11: 373479 | E11: 70961.01 | F11: 444440.01
A12: =+A11+1 -> 9 | B12: Bobina | C12: 1 | D12: 467966 | E12: 88913.54 | F12: 556879.54
A13: =+A12+1 -> 10 | B13: Correa alternador o accesorios | C13: 1 | D13: 196570 | E13: 37348.3 | F13: 233918.3
A14: =+A13+1 -> 11 | B14: Bomba gasolina | C14: 1 | D14: 1012908 | E14: 192452.52 | F14: 1205360.5
A15: =+A14+1 -> 12 | B15: Juego casquetes biela | C15: 1 | D15: 373228 | E15: 70913.32 | F15: 444141.32
A16: =+A15+1 -> 13 | B16: Juego casquetes bancada | C16: 1 | D16: 424495 | E16: 80654.05 | F16: 505149.05
A17: =+A16+1 -> 14 | B17: Correa hidráulico dirección | C17: 1 | D17: 401698 | E17: 76322.62 | F17: 478020.62
A18: =+A17+1 -> 15 | B18: Juego válvulas de admisión | C18: 1 | D18: 102122 | E18: 19403.18 | F18: 121525.18
A19: =+A18+1 -> 16 | B19: Juego válvulas de escape | C19: 1 | D19: 148375 | E19: 28191.25 | F19: 176566.25
A20: =+A19+1 -> 17 | B20: Juego guias válvulas | C20: 1 | D20: 50643 | E20: 9622.17 | F20: 60265.17
A21: =+A20+1 -> 18 | B21: Juego sellos válvulas | C21: 1 | D21: 39952 | E21: 7590.88 | F21: 47542.88
... A143: =+A142+1 -> 140 | B143: Llanta | C143: 1 | D143: 1156464 | E143: 219728.16 | F143: 1376192.2
A144: 141 | B144: Alineación | C144: 1 | D144: 177237 | E144: 33675.03 | F144: 210912.03
A145: =+A144+1 -> 142 | B145: Balanceo cada rueda | C145: 1 | D145: 68154 | E145: 12949.26 | F145: 81103.26
A146: =+A145+1 -> 143 | B146: Rotación de llantas | C146: 1 | D146: 73457 | E146: 13956.83 | F146: 87413.83
A147: =+A146+1 -> 144 | B147: Vulcanización llanta | C147: 1 | D147: 128399 | E147: 24395.81 | F147: 152794.81
A148: =+A147+1 -> 145 | B148: Cambio aceite y filtro | C148: 1 | D148: 94979 | E148: 18046.01 | F148: 113025.01
A149: =+A148+1 -> 146 | B149: Reparación general de motor | C149: 1 | D149: 8410834 | E149: 1598058.5 | F149: 10008892
A150: =+A149+1 -> 147 | B150: Sincronización | C150: 1 | D150: 591395 | E150: 112365.05 | F150: 703760.05
A151: =+A150+1 -> 148 | B151: Calibración válvulas | C151: 1 | D151: 903727 | E151: 171708.13 | F151: 1075435.1
A152: =+A151+1 -> 149 | B152: Cambio bomba agua | C152: 1 | D152: 1054858 | E152: 200423.02 | F152: 1255281
A153: =+A152+1 -> 150 | B153: Cambio bomba gasolina | C153: 1 | D153: 559088 | E153: 106226.72 | F153: 665314.72
A154: =+A153+1 -> 151 | B154: Cambio empaque múltiple de admisión | C154: 1 | D154: 481091 | E154: 91407.29 | F154: 572498.29
A155: =+A154+1 -> 152 | B155: Cambio correa o cadena de repartición | C155: 1 | D155: 6890087 | E155: 1309116.5 | F155: 8199203.5
A156: =+A155+1 -> 153 | B156: Cambio empaquetadura culata | C156: 1 | D156: 3448249 | E156: 655167.31 | F156: 4103416.3
... A222: =+A221+1 -> 219 | B222: Película de seguridad por vidrio c/uno | C222: 1 | D222: 94282 | E222: 17913.58 | F222: 112195.58
E224: TOTALES | G224: =SUM(G4:G222) -> 0 | H224: =SUM(H4:H222) -> 0 | I224: =SUM(I4:I222) -> 0

Sheet TOYOTA HILUX 2005-2006-2007
A1: CAMIONETA | C1: TOYOTA HILUX 2005-2006-2007 | G1: OFERTA PROPONENTE
C2: PRECIOS TECHO
A3: ITEM | B3: PREVENTIVO | C3: CANTIDAD | D3: VALOR UNITARIO | E3: IVA | F3: VALOR UNITARIO CON IVA INCLUIDO | G3: VALOR UNITARIO | H3: IVA | I3: VALOR UNITARIO CON IVA INCLUIDO
A4: 1 | B4: Aceite motor | C4: 1 | D4: 42500 | E4: 8075 | F4: 50575
A5: 2 | B5: Filtro aceite | C5: 1 | D5: 67227 | E5: 12773.13 | F5: 80000.13
A6: 3 | B6: Anillo tapón carter | C6: 1 | D6: 4202 | E6: 798.38 | F6: 5000.38
A7: 4 | B7: Filtro combustible | C7: 1 | D7: 235294 | E7: 44705.86 | F7: 279999.86
A8: 5 | B8: Filtro purificador(Aire) | C8: 1 | D8: 211345 | E8: 40155.55 | F8: 251500.55
A9: 6 | B9: Bujías | C9: 1 | D9: 86975 | E9: 16525.25 | F9: 103500.25
A10: =+A9+1 -> 7 | B10: Limpiador de inyectores | C10: 1 | D10: 82774 | E10: 15727.06 | F10: 98501.06
A11: =+A10+1 -> 8 | B11: Instalacion de alta | C11: 1 | D11: 596639 | E11: 113361.41 | F11: 710000.41
A12: =+A11+1 -> 9 | B12: Bobina | C12: 1 | D12: 488656 | E12: 92844.64 | F12: 581500.64
A13: =+A12+1 -> 10 | B13: Correa alternador o accesorios | C13: 1 | D13: 364706 | E13: 69294.14 | F13: 434000.14
A14: =+A13+1 -> 11 | B14: Bomba gasolina | C14: 1 | D14: 1089076 | E14: 206924.44 | F14: 1296000.4
A15: =+A14+1 -> 12 | B15: Juego casquetes biela | C15: 1 | D15: 312738 | E15: 59420.22 | F15: 372158.22
A16: =+A15+1 -> 13 | B16: Juego casquetes bancada | C16: 1 | D16: 529611 | E16: 100626.09 | F16: 630237.09
A17: =+A16+1 -> 14 | B17: Correa hidráulico dirección | C17: 1 | D17: 320589 | E17: 60911.91 | F17: 381500.91
A18: =+A17+1 -> 15 | B18: Juego válvulas de admisión | C18: 1 | D18: 472244 | E18: 89726.36 | F18: 561970.36
A19: =+A18+1 -> 16 | B19: Juego válvulas de escape | C19: 1 | D19: 465089 | E19: 88366.91 | F19: 553455.91
A20: =+A19+1 -> 17 | B20: Juego guias válvulas | C20: 1 | D20: 403849 | E20: 76731.31 | F20: 480580.31
A21: =+A20+1 -> 18 | B21: Juego sellos válvulas | C21: 1 | D21: 853279 | E21: 162123.01 | F21: 1015402
... A212: =+A211+1 -> 209 | B212: Película de seguridad por vidrio c/uno | C212: 1 | D212: 110000 | E212: 20900 | F212: 130900
E214: TOTALES | G214: =SUM(G4:G212) -> 0 | H214: =SUM(H4:H212) -> 0 | I214: =SUM(I4:I212) -> 0

Sheet TOYOTA COROLLA 2007 BLIND.
A1: AUTOMÓVIL | C1: TOYOTA COROLLA 2007 | G1: OFERTA PROPONENTE
C2: PRECIOS TECHO
A3: ITEM | B3: PREVENTIVO | C3: CANTIDAD | D3: VALOR UNITARIO | E3: IVA | F3: VALOR UNITARIO CON IVA INCLUIDO | G3: VALOR UNITARIO | H3: IVA | I3: VALOR UNITARIO CON IVA INCLUIDO
A4: 1 | B4: Aceite motor | C4: 1 | D4: 36500 | E4: 6935 | F4: 43435
A5: 2 | B5: Filtro aceite | C5: 1 | D5: 64757 | E5: 12303.83 | F5: 77060.83
A6: 3 | B6: Anillo tapón carter | C6: 1 | D6: 4197 | E6: 797.43 | F6: 4994.43
A7: 4 | B7: Filtro combustible | C7: 1 | D7: 331604 | E7: 63004.76 | F7: 394608.76
A8: 5 | B8: Filtro purificador(Aire) | C8: 1 | D8: 147702 | E8: 28063.38 | F8: 175765.38
A9: 6 | B9: Bujías | C9: 1 | D9: 26291 | E9: 4995.29 | F9: 31286.29
A10: =+A9+1 -> 7 | B10: Limpiador de inyectores | C10: 1 | D10: 65314 | E10: 12409.66 | F10: 77723.66
A11: =+A10+1 -> 8 | B11: Bobina | C11: 1 | D11: 425668 | E11: 80876.92 | F11: 506544.92
A12: =+A11+1 -> 9 | B12: Correa alternador o accesorios | C12: 1 | D12: 429694 | E12: 81641.86 | F12: 511335.86
A13: =+A12+1 -> 10 | B13: Bomba gasolina | C13: 1 | D13: 1371785 | E13: 260639.15 | F13: 1632424.1
A14: =+A13+1 -> 11 | B14: Juego casquetes biela | C14: 1 | D14: 30727 | E14: 5838.13 | F14: 36565.13
A15: =+A14+1 -> 12 | B15: Juego casquetes bancada | C15: 1 | D15: 352458 | E15: 66967.02 | F15: 419425.02
A16: =+A15+1 -> 13 | B16: Correa hidráulico dirección | C16: 1 | D16: 433999 | E16: 82459.81 | F16: 516458.81
A17: =+A16+1 -> 14 | B17: Juego válvulas de admisión | C17: 1 | D17: 534889 | E17: 101628.91 | F17: 636517.91
A18: =+A17+1 -> 15 | B18: Juego válvulas de escape | C18: 1 | D18: 903541 | E18: 171672.79 | F18: 1075213.8
A19: =+A18+1 -> 16 | B19: Juego guias válvulas | C19: 1 | D19: 149373 | E19: 28380.87 | F19: 177753.87
A20: =+A19+1 -> 17 | B20: Juego sellos válvulas | C20: 1 | D20: 39147 | E20: 7437.93 | F20: 46584.93
A21: =+A20+1 -> 18 | B21: Juego media lunas | C21: 1 | D21: 144359 | E21: 27428.21 | F21: 171787.21
... A161: =+A160+1 -> 158 | B161: Cambio retenes interno y externo (Bocines) | C161: 1 | D161: 752665 | E161: 143006.35 | F161: 895671.35
A162: =+A161+1 -> 159 | B162: Cambio retenes caja dirección | D162: 1308134 | E162: 248545.46 | F162: 1556679.5
A163: =+A162+1 -> 160 | B163: Cambio rodamientos caja dirección | D163: 1156354 | E163: 219707.26 | F163: 1376061.3
A164: =+A163+1 -> 161 | B164: Cambio terminales | C164: 1 | D164: 348590 | E164: 66232.1 | F164: 414822.1
A165: =+A164+1 -> 162 | B165: Cambio radiador | C165: 1 | D165: 281995 | E165: 53579.05 | F165: 335574.05
A166: =+A165+1 -> 163 | B166: Reparación radiador | C166: 1 | D166: 424395 | E166: 80635.05 | F166: 505030.05
A167: =+A166+1 -> 164 | B167: Cambio tarro auxiliar | C167: 1 | D167: 174295 | E167: 33116.05 | F167: 207411.05
A168: =+A167+1 -> 165 | B168: Cambio bomba del agua | C168: 1 | D168: 729487 | E168: 138602.53 | F168: 868089.53
A169: =+A168+1 -> 166 | B169: Cambio correa bomba del agua | C169: 1 | D169: 280545 | E169: 53303.55 | F169: 333848.55
A170: =+A169+1 -> 167 | B170: Cambio mangueras c/una. | C170: 1 | D170: 129565 | E170: 24617.35 | F170: 154182.35
A171: =+A170+1 -> 168 | B171: Cambio pera de temperatura | C171: 1 | D171: 242016 | E171: 45983.04 | F171: 287999.04
A172: =+A171+1 -> 169 | B172: Cambio termostato | C172: 1 | D172: 241036 | E172: 45796.84 | F172: 286832.84
A173: =+A172+1 -> 170 | B173: Carga Aire acondicionado | C173: 1 | D173: 466096 | E173: 88558.24 | F173: 554654.24
A174: =+A173+1 -> 171 | B174: Cambio compresor A/A | C174: 1 | D174: 659282 | E174: 125263.58 | F174: 784545.58
A175: =+A174+1 -> 172 | B175: Cambio calefactor A/A | C175: 1 | D175: 544432 | E175: 103442.08 | F175: 647874.08
... A201: =+A200+1 -> 198 | B201: Película de seguridad por vidrio c/uno | C201: 1 | D201: 94681 | E201: 17989.39 | F201: 112670.39
E203: TOTALES | G203: =SUM(G4:G201) -> 0 | H203: =SUM(H4:H201) -> 0 | I203: =SUM(I4:I201) -> 0

Sheet TOYOTA UZJ100-2007
A1: CAMIONETA | C1: TOYOTA UZJ 100 - 2007 | G1: OFERTA PROPONENTE
C2: PRECIOS TECHO
A3: ITEM | B3: PREVENTIVO | C3: CANTIDAD | D3: VALOR UNITARIO | E3: IVA | F3: VALOR UNITARIO CON IVA INCLUIDO | G3: VALOR UNITARIO | H3: IVA | I3: VALOR UNITARIO CON IVA INCLUIDO
A4: 1 | B4: Aceite motor | C4: 1 | D4: 37000 | E4: 7030 | F4: 44030
A5: 2 | B5: Filtro aceite | C5: 1 | D5: 80632 | E5: 15320.08 | F5: 95952.08
A6: 3 | B6: Anillo tapón carter | C6: 1 | D6: 4234 | E6: 804.46 | F6: 5038.46
A7: 4 | B7: Filtro combustible | C7: 1 | D7: 214170 | E7: 40692.3 | F7: 254862.3
A8: 5 | B8: Filtro purificador(Aire) | C8: 1 | D8: 185507 | E8: 35246.33 | F8: 220753.33
A9: 6 | B9: Bujías | C9: 1 | D9: 184958 | E9: 35142.02 | F9: 220100.02
A10: =+A9+1 -> 7 | B10: Limpiador de inyectores | C10: 1 | D10: 76120 | E10: 14462.8 | F10: 90582.8
A11: =+A10+1 -> 8 | B11: Bobina | C11: 1 | D11: 461892 | E11: 87759.48 | F11: 549651.48
A12: =+A11+1 -> 9 | B12: Correa alternador o accesorios | C12: 1 | D12: 516051 | E12: 98049.69 | F12: 614100.69
A13: =+A12+1 -> 10 | B13: Bomba gasolina | C13: 1 | D13: 1685925 | E13: 320325.75 | F13: 2006250.8
A14: =+A13+1 -> 11 | B14: Juego casquetes biela | C14: 1 | D14: 808381 | E14: 153592.39 | F14: 961973.39
A15: =+A14+1 -> 12 | B15: Juego casquetes bancada | C15: 1 | D15: 545320 | E15: 103610.8 | F15: 648930.8
A16: =+A15+1 -> 13 | B16: Correa hidráulico dirección | C16: 1 | D16: 578914 | E16: 109993.66 | F16: 688907.66
A17: =+A16+1 -> 14 | B17: Juego válvulas de admisión | C17: 1 | D17: 1219340 | E17: 231674.6 | F17: 1451014.6
A18: =+A17+1 -> 15 | B18: Juego válvulas de escape | C18: 1 | D18: 1310552 | E18: 249004.88 | F18: 1559556.9
A19: =+A18+1 -> 16 | B19: Juego guias válvulas | C19: 1 | D19: 990635 | E19: 188220.65 | F19: 1178855.6
A20: =+A19+1 -> 17 | B20: Juego sellos válvulas | C20: 1 | D20: 909686 | E20: 172840.34 | F20: 1082526.3
A21: =+A20+1 -> 18 | B21: Juego media lunas | C21: 1 | D21: 162242 | E21: 30825.98 | F21: 193067.98
... A140: =+A139+1 -> 137 | B140: Llanta | C140: 1 | D140: 1050000 | E140: 199500 | F140: 1249500
A141: 138 | B141: Alineación | C141: 1 | D141: 177237 | E141: 33675.03 | F141: 210912.03
A142: =+A141+1 -> 139 | B142: Balanceo cada rueda | C142: 1 | D142: 68154 | E142: 12949.26 | F142: 81103.26
A143: =+A142+1 -> 140 | B143: Rotación de llantas | C143: 1 | D143: 73457 | E143: 13956.83 | F143: 87413.83
A144: =+A143+1 -> 141 | B144: Vulcanización llanta | C144: 1 | D144: 128399 | E144: 24395.81 | F144: 152794.81
A145: =+A144+1 -> 142 | B145: Cambio aceite y filtro | C145: 1 | D145: 94979 | E145: 18046.01 | F145: 113025.01
A146: =+A145+1 -> 143 | B146: Reparación general de motor | C146: 1 | D146: 8410834 | E146: 1598058.5 | F146: 10008892
A147: =+A146+1 -> 144 | B147: Sincronización | C147: 1 | D147: 591395 | E147: 112365.05 | F147: 703760.05
A148: =+A147+1 -> 145 | B148: Calibración válvulas | C148: 1 | D148: 956521 | E148: 181738.99 | F148: 1138260
A149: =+A148+1 -> 146 | B149: Cambio bomba agua | C149: 1 | D149: 1014759 | E149: 192804.21 | F149: 1207563.2
A150: =+A149+1 -> 147 | B150: Cambio bomba gasolina | C150: 1 | D150: 559088 | E150: 106226.72 | F150: 665314.72
A151: =+A150+1 -> 148 | B151: Cambio empaque múltiple de admisión | C151: 1 | D151: 481091 | E151: 91407.29 | F151: 572498.29
A152: =+A151+1 -> 149 | B152: Cambio correa o cadena de repartición | C152: 1 | D152: 7405595 | E152: 1407063.1 | F152: 8812658.1
A153: =+A152+1 -> 150 | B153: Cambio empaquetadura culata | C153: 1 | D153: 3717123 | E153: 706253.37 | F153: 4423376.4
... A211: =+A210+1 -> 208 | B211: Película de seguridad completa-Instalada | C211: 1 | D211: 414218 | E211: 78701.42 | F211: 492919.42
E213: TOTALES | G213: =SUM(G4:G211) -> 0 | H213: =SUM(H4:H211) -> 0 | I213: =SUM(I4:I211) -> 0

Sheet TOYOTA PRADO SUMO 2007-2008
A1: CAMIONETA | C1: TOYOTA PRADO SUMO - 2007/2008 | G1: OFERTA PROPONENTE
C2: PRECIOS TECHO
A3: ITEM | B3: PREVENTIVO | C3: CANTIDAD | D3: VALOR UNITARIO | E3: IVA | F3: VALOR UNITARIO CON IVA INCLUIDO | G3: VALOR UNITARIO | H3: IVA | I3: VALOR UNITARIO CON IVA INCLUIDO
A4: 1 | B4: Aceite motor | C4: 1 | D4: 39200 | E4: 7448 | F4: 46648
A5: 2 | B5: Filtro aceite | C5: 1 | D5: 82583 | E5: 15690.77 | F5: 98273.77
A6: 3 | B6: Anillo tapón carter | C6: 1 | D6: 4238 | E6: 805.22 | F6: 5043.22
A7: 4 | B7: Filtro combustible | C7: 1 | D7: 269491 | E7: 51203.29 | F7: 320694.29
A8: 5 | B8: Filtro purificador(Aire) | C8: 1 | D8: 185327 | E8: 35212.13 | F8: 220539.13
A9: 6 | B9: Bujías | C9: 1 | D9: 25012 | E9: 4752.28 | F9: 29764.28
A10: =+A9+1 -> 7 | B10: Aditivo inyectores | C10: 1 | D10: 81474 | E10: 15480.06 | F10: 96954.06
A11: =+A10+1 -> 8 | B11: Instalacion de alta | C11: 1 | D11: 373479 | E11: 70961.01 | F11: 444440.01
A12: =+A11+1 -> 9 | B12: Bobina | C12: 1 | D12: 467966 | E12: 88913.54 | F12: 556879.54
A13: =+A12+1 -> 10 | B13: Correa alternador o accesorios | C13: 1 | D13: 196570 | E13: 37348.3 | F13: 233918.3
A14: =+A13+1 -> 11 | B14: Bomba gasolina | C14: 1 | D14: 1012908 | E14: 192452.52 | F14: 1205360.5
A15: =+A14+1 -> 12 | B15: Juego casquetes biela | C15: 1 | D15: 373228 | E15: 70913.32 | F15: 444141.32
A16: =+A15+1 -> 13 | B16: Juego casquetes bancada | C16: 1 | D16: 424495 | E16: 80654.05 | F16: 505149.05
A17: =+A16+1 -> 14 | B17: Correa hidráulico dirección | C17: 1 | D17: 401698 | E17: 76322.62 | F17: 478020.62
A18: =+A17+1 -> 15 | B18: Juego válvulas de admisión | C18: 1 | D18: 102122 | E18: 19403.18 | F18: 121525.18
A19: =+A18+1 -> 16 | B19: Juego válvulas de escape | C19: 1 | D19: 148375 | E19: 28191.25 | F19: 176566.25
A20: =+A19+1 -> 17 | B20: Juego guias válvulas | C20: 1 | D20: 50643 | E20: 9622.17 | F20: 60265.17
A21: =+A20+1 -> 18 | B21: Juego sellos válvulas | C21: 1 | D21: 39952 | E21: 7590.88 | F21: 47542.88
... A143: =+A142+1 -> 140 | B143: Llanta | C143: 1 | D143: 1156464 | E143: 219728.16 | F143: 1376192.2
A144: 141 | B144: Alineación | C144: 1 | D144: 177237 | E144: 33675.03 | F144: 210912.03
A145: =+A144+1 -> 142 | B145: Balanceo cada rueda | C145: 1 | D145: 68154 | E145: 12949.26 | F145: 81103.26
A146: =+A145+1 -> 143 | B146: Rotación de llantas | C146: 1 | D146: 73457 | E146: 13956.83 | F146: 87413.83
A147: =+A146+1 -> 144 | B147: Vulcanización llanta | C147: 1 | D147: 128399 | E147: 24395.81 | F147: 152794.81
A148: =+A147+1 -> 145 | B148: Cambio aceite y filtro | C148: 1 | D148: 94979 | E148: 18046.01 | F148: 113025.01
A149: =+A148+1 -> 146 | B149: Reparación general de motor | C149: 1 | D149: 8410834 | E149: 1598058.5 | F149: 10008892
A150: =+A149+1 -> 147 | B150: Sincronización | C150: 1 | D150: 591395 | E150: 112365.05 | F150: 703760.05
A151: =+A150+1 -> 148 | B151: Calibración válvulas | C151: 1 | D151: 903727 | E151: 171708.13 | F151: 1075435.1
A152: =+A151+1 -> 149 | B152: Cambio bomba agua | C152: 1 | D152: 1054858 | E152: 200423.02 | F152: 1255281
A153: =+A152+1 -> 150 | B153: Cambio bomba gasolina | C153: 1 | D153: 559088 | E153: 106226.72 | F153: 665314.72
A154: =+A153+1 -> 151 | B154: Cambio empaque múltiple de admisión | C154: 1 | D154: 481091 | E154: 91407.29 | F154: 572498.29
A155: =+A154+1 -> 152 | B155: Cambio correa o cadena de repartición | C155: 1 | D155: 6890087 | E155: 1309116.5 | F155: 8199203.5
A156: =+A155+1 -> 153 | B156: Cambio empaquetadura culata | C156: 1 | D156: 3448249 | E156: 655167.31 | F156: 4103416.3
... A222: =+A221+1 -> 219 | B222: Película de seguridad por vidrio c/uno | C222: 1 | D222: 94282 | E222: 17913.58 | F222: 112195.58
E224: TOTALES | G224: =SUM(G15:G222) -> 0 | H224: =SUM(H15:H222) -> 0 | I224: =SUM(I15:I222) -> 0

Sheet PRADO EUROPA 2004-06-07-08
A1: CAMIONETA | C1: TOYOTA PRADO DIESEL EUROPA - 2004/2006/2007/2008 | G1: OFERTA PROPONENTE
C2: PRECIOS TECHO
A3: ITEM | B3: PREVENTIVO | C3: CANTIDAD | D3: VALOR UNITARIO | E3: IVA | F3: VALOR UNITARIO CON IVA INCLUIDO | G3: VALOR UNITARIO | H3: IVA | I3: VALOR UNITARIO CON IVA INCLUIDO
A4: 1 | B4: Aceite motor | C4: 1 | D4: 39200 | E4: 7448 | F4: 46648
A5: 2 | B5: Filtro aceite | C5: 1 | D5: 95958 | E5: 18232.02 | F5: 114190.02
A6: 3 | B6: Anillo tapón carter | C6: 1 | D6: 6101 | E6: 1159.19 | F6: 7260.19
A7: 4 | B7: Filtro combustible | C7: 1 | D7: 310126 | E7: 58923.94 | F7: 369049.94
A8: 5 | B8: Filtro purificador(Aire) | C8: 1 | D8: 290042 | E8: 55107.98 | F8: 345149.98
A9: 6 | B9: Bujías | C9: 1 | D9: 91471 | E9: 17379.49 | F9: 108850.49
A10: =+A9+1 -> 7 | B10: Limpiador de inyectores | C10: 1 | D10: 109393 | E10: 20784.67 | F10: 130177.67
A11: =+A10+1 -> 8 | B11: Correa alternador o accesorios | C11: 1 | D11: 500374 | E11: 95071.06 | F11: 595445.06
A12: =+A11+1 -> 9 | B12: Juego casquetes biela | C12: 1 | D12: 487592 | E12: 92642.48 | F12: 580234.48
A13: =+A12+1 -> 10 | B13: Juego casquetes bancada | C13: 1 | D13: 352801 | E13: 67032.19 | F13: 419833.19
A14: =+A13+1 -> 11 | B14: Correa hidráulico dirección | C14: 1 | D14: 769748 | E14: 146252.12 | F14: 916000.12
A15: =+A14+1 -> 12 | B15: Juego válvulas de admisión | C15: 1 | D15: 100441 | E15: 19083.79 | F15: 119524.79
A16: =+A15+1 -> 13 | B16: Juego válvulas de escape | C16: 1 | D16: 146274 | E16: 27792.06 | F16: 174066.06
A17: =+A16+1 -> 14 | B17: Juego guias válvulas | C17: 1 | D17: 51483 | E17: 9781.77 | F17: 61264.77
A18: =+A17+1 -> 15 | B18: Juego sellos válvulas | C18: 1 | D18: 41213 | E18: 7830.47 | F18: 49043.47
A19: =+A18+1 -> 16 | B19: Juego media lunas | C19: 1 | D19: 231708 | E19: 44024.52 | F19: 275732.52
A20: =+A19+1 -> 17 | B20: Empaquetadura motor | C20: 1 | D20: 1286448 | E20: 244425.12 | F20: 1530873.1
A21: =+A20+1 -> 18 | B21: Empaque culata | C21: 1 | D21: 386680 | E21: 73469.2 | F21: 460149.2
... A199: =+A198+1 -> 196 | B199: Película de seguridad por vidrio c/uno | C199: 1 | D199: 110000 | E199: 20900 | F199: 130900
E201: TOTALES | G201: =SUM(G15:G199) -> 0 | H201: =SUM(H15:H199) -> 0 | I201: =SUM(I15:I199) -> 0

Sheet TOYOTA 4RUNNER 2007
A1: CAMIONETA | C1: TOYOTA 4RUNNER - 2007 | G1: OFERTA PROPONENTE
C2: PRECIOS TECHO
A3: ITEM | B3: PREVENTIVO | C3: CANTIDAD | D3: VALOR UNITARIO | E3: IVA | F3: VALOR UNITARIO CON IVA INCLUIDO | G3: VALOR UNITARIO | H3: IVA | I3: VALOR UNITARIO CON IVA INCLUIDO
A4: 1 | B4: Aceite motor | C4: 1 | D4: 41500 | E4: 7885 | F4: 49385
A5: 2 | B5: Filtro aceite | C5: 1 | D5: 71214 | E5: 13530.66 | F5: 84744.66
A6: 3 | B6: Anillo tapón carter | C6: 1 | D6: 4101 | E6: 779.19 | F6: 4880.19
A7: 4 | B7: Filtro combustible | C7: 1 | D7: 283706 | E7: 53904.14 | F7: 337610.14
A8: 5 | B8: Filtro purificador(Aire) | C8: 1 | D8: 197660 | E8: 37555.4 | F8: 235215.4
A9: 6 | B9: Bujías | C9: 1 | D9: 48765 | E9: 9265.35 | F9: 58030.35
A10: =+A9+1 -> 7 | B10: Limpiador de inyectores | C10: 1 | D10: 85736 | E10: 16289.84 | F10: 102025.84
A11: =+A10+1 -> 8 | B11: Bobina | C11: 1 | D11: 452601 | E11: 85994.19 | F11: 538595.19
A12: =+A11+1 -> 9 | B12: Correa alternador o accesorios | C12: 1 | D12: 514475 | E12: 97750.25 | F12: 612225.25
A13: =+A12+1 -> 10 | B13: Bomba gasolina | C13: 1 | D13: 2058706 | E13: 391154.14 | F13: 2449860.1
A14: =+A13+1 -> 11 | B14: Juego casquetes biela | C14: 1 | D14: 192551 | E14: 36584.69 | F14: 229135.69
A15: =+A14+1 -> 12 | B15: Juego casquetes bancada | C15: 1 | D15: 238883 | E15: 45387.77 | F15: 284270.77
A16: =+A15+1 -> 13 | B16: Correa hidráulico dirección | C16: 1 | D16: 514475 | E16: 97750.25 | F16: 612225.25
A17: =+A16+1 -> 14 | B17: Juego válvulas de admisión | C17: 1 | D17: 559059 | E17: 106221.21 | F17: 665280.21
A18: =+A17+1 -> 15 | B18: Juego válvulas de escape | C18: 1 | D18: 940265 | E18: 178650.35 | F18: 1118915.4
A19: =+A18+1 -> 16 | B19: Juego guias válvulas | C19: 1 | D19: 295908 | E19: 56222.52 | F19: 352130.52
A20: =+A19+1 -> 17 | B20: Juego sellos válvulas | C20: 1 | D20: 202046 | E20: 38388.74 | F20: 240434.74
A21: =+A20+1 -> 18 | B21: Juego media lunas | C21: 1 | D21: 164093 | E21: 31177.67 | F21: 195270.67
... A213: =+A212+1 -> 210 | B213: Película de seguridad por vidrio c/uno | C213: 1 | D213: 110000 | E213: 20900 | F213: 130900
E215: TOTALES | G215: =SUM(G15:G213) -> 0 | H215: =SUM(H15:H213) -> 0 | I215: =SUM(I15:I213) -> 0

Sheet PRADO VXM 2007-2008
A1: CAMIONETA | C1: TOYOTA PRADO VXM 2007-2008 | G1: OFERTA PROPONENTE
C2: PRECIOS TECHO
A3: ITEM | B3: PREVENTIVO | C3: CANTIDAD | D3: VALOR UNITARIO | E3: IVA | F3: VALOR UNITARIO CON IVA INCLUIDO | G3: VALOR UNITARIO | H3: IVA | I3: VALOR UNITARIO CON IVA INCLUIDO
A4: 1 | B4: Aceite motor | C4: 1 | D4: 39200 | E4: 7448 | F4: 46648
A5: 2 | B5: Filtro aceite | C5: 1 | D5: 82583 | E5: 15690.77 | F5: 98273.77
A6: 3 | B6: Anillo tapón carter | C6: 1 | D6: 4238 | E6: 805.22 | F6: 5043.22
A7: 4 | B7: Filtro combustible | C7: 1 | D7: 269491 | E7: 51203.29 | F7: 320694.29
A8: 5 | B8: Filtro purificador(Aire) | C8: 1 | D8: 185327 | E8: 35212.13 | F8: 220539.13
A9: 6 | B9: Bujías | C9: 1 | D9: 25012 | E9: 4752.28 | F9: 29764.28
A10: =+A9+1 -> 7 | B10: Aditivo inyectores | C10: 1 | D10: 81474 | E10: 15480.06 | F10: 96954.06
A11: =+A10+1 -> 8 | B11: Instalacion de alta | C11: 1 | D11: 373479 | E11: 70961.01 | F11: 444440.01
A12: =+A11+1 -> 9 | B12: Bobina | C12: 1 | D12: 467966 | E12: 88913.54 | F12: 556879.54
A13: =+A12+1 -> 10 | B13: Correa alternador o accesorios | C13: 1 | D13: 196570 | E13: 37348.3 | F13: 233918.3
A14: =+A13+1 -> 11 | B14: Bomba gasolina | C14: 1 | D14: 1012908 | E14: 192452.52 | F14: 1205360.5
A15: =+A14+1 -> 12 | B15: Juego casquetes biela | C15: 1 | D15: 373228 | E15: 70913.32 | F15: 444141.32
A16: =+A15+1 -> 13 | B16: Juego casquetes bancada | C16: 1 | D16: 424495 | E16: 80654.05 | F16: 505149.05
A17: =+A16+1 -> 14 | B17: Correa hidráulico dirección | C17: 1 | D17: 401698 | E17: 76322.62 | F17: 478020.62
A18: =+A17+1 -> 15 | B18: Juego válvulas de admisión | C18: 1 | D18: 102122 | E18: 19403.18 | F18: 121525.18
A19: =+A18+1 -> 16 | B19: Juego válvulas de escape | C19: 1 | D19: 148375 | E19: 28191.25 | F19: 176566.25
A20: =+A19+1 -> 17 | B20: Juego guias válvulas | C20: 1 | D20: 50643 | E20: 9622.17 | F20: 60265.17
A21: =+A20+1 -> 18 | B21: Juego sellos válvulas | C21: 1 | D21: 39952 | E21: 7590.88 | F21: 47542.88
... A143: =+A142+1 -> 140 | B143: Llanta | C143: 1 | D143: 1156464 | E143: 219728.16 | F143: 1376192.2
A144: 141 | B144: Alineación | C144: 1 | D144: 177237 | E144: 33675.03 | F144: 210912.03
A145: =+A144+1 -> 142 | B145: Balanceo cada rueda | C145: 1 | D145: 68154 | E145: 12949.26 | F145: 81103.26
A146: =+A145+1 -> 143 | B146: Rotación de llantas | C146: 1 | D146: 73457 | E146: 13956.83 | F146: 87413.83
A147: =+A146+1 -> 144 | B147: Vulcanización llanta | C147: 1 | D147: 128399 | E147: 24395.81 | F147: 152794.81
A148: =+A147+1 -> 145 | B148: Cambio aceite y filtro | C148: 1 | D148: 94979 | E148: 18046.01 | F148: 113025.01
A149: =+A148+1 -> 146 | B149: Reparación general de motor | C149: 1 | D149: 8410834 | E149: 1598058.5 | F149: 10008892
A150: =+A149+1 -> 147 | B150: Sincronización | C150: 1 | D150: 591395 | E150: 112365.05 | F150: 703760.05
A151: =+A150+1 -> 148 | B151: Calibración válvulas | C151: 1 | D151: 903727 | E151: 171708.13 | F151: 1075435.1
A152: =+A151+1 -> 149 | B152: Cambio bomba agua | C152: 1 | D152: 1054858 | E152: 200423.02 | F152: 1255281
A153: =+A152+1 -> 150 | B153: Cambio bomba gasolina | C153: 1 | D153: 559088 | E153: 106226.72 | F153: 665314.72
A154: =+A153+1 -> 151 | B154: Cambio empaque múltiple de admisión | C154: 1 | D154: 481091 | E154: 91407.29 | F154: 572498.29
A155: =+A154+1 -> 152 | B155: Cambio correa o cadena de repartición | C155: 1 | D155: 6890087 | E155: 1309116.5 | F155: 8199203.5
A156: =+A155+1 -> 153 | B156: Cambio empaquetadura culata | C156: 1 | D156: 3448249 | E156: 655167.31 | F156: 4103416.3
... A222: =+A221+1 -> 219 | B222: Película de seguridad por vidrio c/uno | C222: 1 | D222: 94282 | E222: 17913.58 | F222: 112195.58
E224: TOTALES | G224: =SUM(G15:G222) -> 0 | H224: =SUM(H15:H222) -> 0 | I224: =SUM(I15:I222) -> 0

Sheet HILUX 2008-2009-GASOLINA
A1: CAMIONETA | C1: TOYOTA HILUX GASOLINA 2008-2009 | G1: OFERTA PROPONENTE
C2: PRECIOS TECHO
A3: ITEM | B3: PREVENTIVO | C3: CANTIDAD | D3: VALOR UNITARIO | E3: IVA | F3: VALOR UNITARIO CON IVA INCLUIDO | G3: VALOR UNITARIO | H3: IVA | I3: VALOR UNITARIO CON IVA INCLUIDO
A4: 1 | B4: Aceite motor | C4: 1 | D4: 42500 | E4: 8075 | F4: 50575
A5: 2 | B5: Filtro aceite | C5: 1 | D5: 67227 | E5: 12773.13 | F5: 80000.13
A6: 3 | B6: Anillo tapón carter | C6: 1 | D6: 4202 | E6: 798.38 | F6: 5000.38
A7: 4 | B7: Filtro combustible | C7: 1 | D7: 235294 | E7: 44705.86 | F7: 279999.86
A8: 5 | B8: Filtro purificador(Aire) | C8: 1 | D8: 211345 | E8: 40155.55 | F8: 251500.55
A9: 6 | B9: Bujías | C9: 1 | D9: 86975 | E9: 16525.25 | F9: 103500.25
A10: =+A9+1 -> 7 | B10: Limpiador de inyectores | C10: 1 | D10: 82774 | E10: 15727.06 | F10: 98501.06
A11: =+A10+1 -> 8 | B11: Instalacion de alta | C11: 1 | D11: 596639 | E11: 113361.41 | F11: 710000.41
A12: =+A11+1 -> 9 | B12: Bobina | C12: 1 | D12: 488656 | E12: 92844.64 | F12: 581500.64
A13: =+A12+1 -> 10 | B13: Correa alternador o accesorios | C13: 1 | D13: 364706 | E13: 69294.14 | F13: 434000.14
A14: =+A13+1 -> 11 | B14: Bomba gasolina | C14: 1 | D14: 1089076 | E14: 206924.44 | F14: 1296000.4
A15: =+A14+1 -> 12 | B15: Juego casquetes biela | C15: 1 | D15: 312738 | E15: 59420.22 | F15: 372158.22
A16: =+A15+1 -> 13 | B16: Juego casquetes bancada | C16: 1 | D16: 529611 | E16: 100626.09 | F16: 630237.09
A17: =+A16+1 -> 14 | B17: Correa hidráulico dirección | C17: 1 | D17: 320589 | E17: 60911.91 | F17: 381500.91
A18: =+A17+1 -> 15 | B18: Juego válvulas de admisión | C18: 1 | D18: 472244 | E18: 89726.36 | F18: 561970.36
A19: =+A18+1 -> 16 | B19: Juego válvulas de escape | C19: 1 | D19: 465089 | E19: 88366.91 | F19: 553455.91
A20: =+A19+1 -> 17 | B20: Juego guias válvulas | C20: 1 | D20: 403849 | E20: 76731.31 | F20: 480580.31
A21: =+A20+1 -> 18 | B21: Juego sellos válvulas | C21: 1 | D21: 853279 | E21: 162123.01 | F21: 1015402
... A217: =+A216+1 -> 214 | B217: Película de seguridad por vidrio c/uno | C217: 1 | D217: 110000 | E217: 20900 | F217: 130900
E219: TOTALES | G219: =SUM(G15:G217) -> 0 | H219: =SUM(H15:H217) -> 0 | I219: =SUM(I15:I217) -> 0

Sheet FORTUNER 2009-2010 DIÉSEL
A1: CAMIONETA | C1: TOYOTA FORTUNER DIÉSEL 2009-2010 | G1: OFERTA PROPONENTE
C2: PRECIOS TECHO
A3: ITEM | B3: PREVENTIVO | C3: CANTIDAD | D3: VALOR UNITARIO | E3: IVA | F3: VALOR UNITARIO CON IVA INCLUIDO | G3: VALOR UNITARIO | H3: IVA | I3: VALOR UNITARIO CON IVA INCLUIDO
A4: 1 | B4: Aceite motor | C4: 1 | D4: 37000 | E4: 7030 | F4: 44030
A5: 2 | B5: Filtro aceite | C5: 1 | D5: 73614 | E5: 13986.66 | F5: 87600.66
A6: 3 | B6: Anillo tapón carter | C6: 1 | D6: 4601 | E6: 874.19 | F6: 5475.19
A7: 4 | B7: Filtro combustible | C7: 1 | D7: 166067 | E7: 31552.73 | F7: 197619.73
A8: 5 | B8: Filtro purificador(Aire) | C8: 1 | D8: 177177 | E8: 33663.63 | F8: 210840.63
A9: 6 | B9: Bujías | C9: 1 | D9: 212269 | E9: 40331.11 | F9: 252600.11
A10: =+A9+1 -> 7 | B10: Limpiador de inyectores | C10: 1 | D10: 94538 | E10: 17962.22 | F10: 112500.22
A11: =+A10+1 -> 8 | B11: Bobina | C11: 1 | D11: 465800 | E11: 88502 | F11: 554302
A12: =+A11+1 -> 9 | B12: Correa alternador o accesorios | C12: 1 | D12: 423614 | E12: 80486.66 | F12: 504100.66
A13: =+A12+1 -> 10 | B13: Bomba gasolina | C13: 1 | D13: 4977521 | E13: 945728.99 | F13: 5923250
A14: =+A13+1 -> 11 | B14: Juego casquetes biela | C14: 1 | D14: 623131 | E14: 118394.89 | F14: 741525.89
A15: =+A14+1 -> 12 | B15: Juego casquetes bancada | C15: 1 | D15: 619475 | E15: 117700.25 | F15: 737175.25
A16: =+A15+1 -> 13 | B16: Correa hidráulico dirección | C16: 1 | D16: 412614 | E16: 78396.66 | F16: 491010.66
A17: =+A16+1 -> 14 | B17: Juego válvulas de admisión | C17: 1 | D17: 641597 | E17: 121903.43 | F17: 763500.43
A18: =+A17+1 -> 15 | B18: Juego válvulas de escape | C18: 1 | D18: 634244 | E18: 120506.36 | F18: 754750.36
A19: =+A18+1 -> 16 | B19: Juego guias válvulas | C19: 1 | D19: 445168 | E19: 84581.92 | F19: 529749.92
A20: =+A19+1 -> 17 | B20: Juego sellos válvulas | C20: 1 | D20: 445687 | E20: 84680.53 | F20: 530367.53
A21: =+A20+1 -> 18 | B21: Juego media lunas | C21: 1 | D21: 303370 | E21: 57640.3 | F21: 361010.3
... A219: =+A218+1 -> 216 | B219: Película de seguridad por vidrio c/uno | C219: 1 | D219: 110000 | E219: 20900 | F219: 130900
E221: TOTALES | G221: =SUM(G4:G219) -> 0 | H221: =SUM(H4:H219) -> 0 | I221: =SUM(I4:I219) -> 0

Sheet TOYOTA FORTUNER-2008-2009 GSNA
A1: CAMIONETA | C1: TOYOTA FORTUNER GASOLINA 2008-2009 | G1: OFERTA PROPONENTE
C2: PRECIOS TECHO
A3: ITEM | B3: PREVENTIVO | C3: CANTIDAD | D3: VALOR UNITARIO | E3: IVA | F3: VALOR UNITARIO CON IVA INCLUIDO | G3: VALOR UNITARIO | H3: IVA | I3: VALOR UNITARIO CON IVA INCLUIDO
A4: 1 | B4: Aceite motor | C4: 1 | D4: 37000 | E4: 7030 | F4: 44030
A5: 2 | B5: Filtro aceite | C5: 1 | D5: 77070 | E5: 14643.3 | F5: 91713.3
A6: 3 | B6: Anillo tapón carter | C6: 1 | D6: 4228 | E6: 803.32 | F6: 5031.32
A7: 4 | B7: Filtro combustible | C7: 1 | D7: 195899 | E7: 37220.81 | F7: 233119.81
A8: 5 | B8: Filtro purificador(Aire) | C8: 1 | D8: 177177 | E8: 33663.63 | F8: 210840.63
A9: 6 | B9: Bujías | C9: 1 | D9: 47202 | E9: 8968.38 | F9: 56170.38
A10: =+A9+1 -> 7 | B10: Limpiador de inyectores | C10: 1 | D10: 75203 | E10: 14288.57 | F10: 89491.57
A11: =+A10+1 -> 8 | B11: Bobina | C11: 1 | D11: 394091 | E11: 74877.29 | F11: 468968.29
A12: =+A11+1 -> 9 | B12: Correa alternador o accesorios | C12: 1 | D12: 392472 | E12: 74569.68 | F12: 467041.68
A13: =+A12+1 -> 10 | B13: Bomba gasolina | C13: 1 | D13: 1665055 | E13: 316360.45 | F13: 1981415.4
A14: =+A13+1 -> 11 | B14: Juego casquetes biela | C14: 1 | D14: 259041 | E14: 49217.79 | F14: 308258.79
A15: =+A14+1 -> 12 | B15: Juego casquetes bancada | C15: 1 | D15: 500941 | E15: 95178.79 | F15: 596119.79
A16: =+A15+1 -> 13 | B16: Correa hidráulico dirección | C16: 1 | D16: 393026 | E16: 74674.94 | F16: 467700.94
A17: =+A16+1 -> 14 | B17: Juego válvulas de admisión | C17: 1 | D17: 937854 | E17: 178192.26 | F17: 1116046.3
A18: =+A17+1 -> 15 | B18: Juego válvulas de escape | C18: 1 | D18: 1039264 | E18: 197460.16 | F18: 1236724.2
A19: =+A18+1 -> 16 | B19: Juego guias válvulas | C19: 1 | D19: 761302 | E19: 144647.38 | F19: 905949.38
A20: =+A19+1 -> 17 | B20: Juego sellos válvulas | C20: 1 | D20: 700898 | E20: 133170.62 | F20: 834068.62
A21: =+A20+1 -> 18 | B21: Juego media lunas | C21: 1 | D21: 167265 | E21: 31780.35 | F21: 199045.35
... A212: =+A211+1 -> 209 | B212: Película de seguridad por vidrio c/uno | C212: 1 | D212: 93700 | E212: 17803 | F212: 111503
E214: TOTALES | G214: =SUM(G4:G212) -> 0 | H214: =SUM(H4:H212) -> 0 | I214: =SUM(I4:I212) -> 0

Sheet HILUX DIÉSEL 2008-2009
A1: CAMIONETA | C1: TOYOTA HILUX DIÉSEL 2008-2009 | G1: OFERTA PROPONENTE
C2: PRECIOS TECHO
A3: ITEM | B3: PREVENTIVO | C3: CANTIDAD | D3: VALOR UNITARIO | E3: IVA | F3: VALOR UNITARIO CON IVA INCLUIDO | G3: VALOR UNITARIO | H3: IVA | I3: VALOR UNITARIO CON IVA INCLUIDO
A4: 1 | B4: Aceite motor | C4: 1 | D4: 42500 | E4: 8075 | F4: 50575
A5: 2 | B5: Filtro aceite | C5: 1 | D5: 67227 | E5: 12773.13 | F5: 80000.13
A6: 3 | B6: Anillo tapón carter | C6: 1 | D6: 4202 | E6: 798.38 | F6: 5000.38
A7: 4 | B7: Filtro combustible | C7: 1 | D7: 135383 | E7: 25722.77 | F7: 161105.77
A8: 5 | B8: Filtro purificador(Aire) | C8: 1 | D8: 179010 | E8: 34011.9 | F8: 213021.9
A9: 6 | B9: Bujías de precalentamiento | C9: 1 | D9: 149160 | E9: 28340.4 | F9: 177500.4
A10: =+A9+1 -> 7 | B10: Aditivo inyectores | C10: 1 | D10: 89076 | E10: 16924.44 | F10: 106000.44
A11: =+A10+1 -> 8 | B11: Correa alternador o accesorios | C11: 1 | D11: 369429 | E11: 70191.51 | F11: 439620.51
A12: =+A11+1 -> 9 | B12: Bomba de inyección | C12: 1 | D12: 7208167 | E12: 1369551.7 | F12: 8577718.7
A13: =+A12+1 -> 10 | B13: Juego casquetes biela | C13: 1 | D13: 297182 | E13: 56464.58 | F13: 353646.58
A14: =+A13+1 -> 11 | B14: Juego casquetes bancada | C14: 1 | D14: 505291 | E14: 96005.29 | F14: 601296.29
A15: =+A14+1 -> 12 | B15: Correa hidráulico dirección | C15: 1 | D15: 369983 | E15: 70296.77 | F15: 440279.77
A16: =+A15+1 -> 13 | B16: Juego válvulas de admisión | C16: 1 | D16: 733676 | E16: 139398.44 | F16: 873074.44
A17: =+A16+1 -> 14 | B17: Juego válvulas de escape | C17: 1 | D17: 762606 | E17: 144895.14 | F17: 907501.14
A18: =+A17+1 -> 15 | B18: Juego guias válvulas | C18: 1 | D18: 692439 | E18: 131563.41 | F18: 824002.41
A19: =+A18+1 -> 16 | B19: Juego sellos válvulas | C19: 1 | D19: 272351 | E19: 51746.69 | F19: 324097.69
A20: =+A19+1 -> 17 | B20: Juego media lunas | C20: 1 | D20: 144249 | E20: 27407.31 | F20: 171656.31
A21: =+A20+1 -> 18 | B21: Empaquetadura motor | C21: 1 | D21: 790208 | E21: 150139.52 | F21: 940347.52
... A210: =+A209+1 -> 207 | B210: Película de seguridad por vidrio c/uno | C210: 1 | D210: 93700 | E210: 17803 | F210: 111503
E212: TOTALES | G212: =SUM(G4:G210) -> 0 | H212: =SUM(H4:H210) -> 0 | I212: =SUM(I4:I210) -> 0

Sheet TOYOTA LC 200 2011 BLIND.
A1: CAMIONETA | C1: TOYOTA LC 200 2011 | G1: OFERTA PROPONENTE
C2: PRECIOS TECHO
A3: ITEM | B3: PREVENTIVO | C3: CANTIDAD | D3: VALOR UNITARIO | E3: IVA | F3: VALOR UNITARIO CON IVA INCLUIDO | G3: VALOR UNITARIO | H3: IVA | I3: VALOR UNITARIO CON IVA INCLUIDO
A4: 1 | B4: Aceite motor | C4: 1 | D4: 37000 | E4: 7030 | F4: 44030
A5: 2 | B5: Filtro aceite | C5: 1 | D5: 77874 | E5: 14796.06 | F5: 92670.06
A6: 3 | B6: Anillo tapón carter | C6: 1 | D6: 4217 | E6: 801.23 | F6: 5018.23
A7: 4 | B7: Filtro combustible | C7: 1 | D7: 213126 | E7: 40493.94 | F7: 253619.94
A8: 5 | B8: Filtro purificador(Aire) | C8: 1 | D8: 203630 | E8: 38689.7 | F8: 242319.7
A9: 6 | B9: Bujías | C9: 1 | D9: 69166 | E9: 13141.54 | F9: 82307.54
A10: =+A9+1 -> 7 | B10: Limpiador de inyectores | C10: 1 | D10: 75963 | E10: 14432.97 | F10: 90395.97
A11: =+A10+1 -> 8 | B11: Bobina | C11: 1 | D11: 461892 | E11: 87759.48 | F11: 549651.48
A12: =+A11+1 -> 9 | B12: Correa alternador o accesorios | C12: 1 | D12: 579855 | E12: 110172.45 | F12: 690027.45
A13: =+A12+1 -> 10 | B13: Bomba gasolina | C13: 1 | D13: 1896682 | E13: 360369.58 | F13: 2257051.6
A14: =+A13+1 -> 11 | B14: Juego casquetes biela | C14: 1 | D14: 185585 | E14: 35261.15 | F14: 220846.15
A15: =+A14+1 -> 12 | B15: Juego casquetes bancada | C15: 1 | D15: 319007 | E15: 60611.33 | F15: 379618.33
A16: =+A15+1 -> 13 | B16: Correa hidráulico dirección | C16: 1 | D16: 534462 | E16: 101547.78 | F16: 636009.78
A17: =+A16+1 -> 14 | B17: Juego válvulas de admisión | C17: 1 | D17: 1177123 | E17: 223653.37 | F17: 1400776.4
A18: =+A17+1 -> 15 | B18: Juego válvulas de escape | C18: 1 | D18: 1420414 | E18: 269878.66 | F18: 1690292.7
A19: =+A18+1 -> 16 | B19: Juego guias válvulas | C19: 1 | D19: 1044910 | E19: 198532.9 | F19: 1243442.9
A20: =+A19+1 -> 17 | B20: Juego sellos válvulas | C20: 1 | D20: 893578 | E20: 169779.82 | F20: 1063357.8
A21: =+A20+1 -> 18 | B21: Juego media lunas | C21: 1 | D21: 179297 | E21: 34066.43 | F21: 213363.43
... A128: =+A127+1 -> 125 | B128: Llanta | C128: 1 | D128: 1032150 | E128: 196108.5 | F128: 1228258.5
A129: 126 | B129: Alineación | C129: 1 | D129: 177237 | E129: 33675.03 | F129: 210912.03
A130: =+A129+1 -> 127 | B130: Balanceo cada rueda | C130: 1 | D130: 68154 | E130: 12949.26 | F130: 81103.26
A131: =+A130+1 -> 128 | B131: Rotación de llantas | C131: 1 | D131: 73457 | E131: 13956.83 | F131: 87413.83
A132: =+A131+1 -> 129 | B132: Vulcanización llanta | C132: 1 | D132: 128399 | E132: 24395.81 | F132: 152794.81
A133: =+A132+1 -> 130 | B133: Cambio aceite y filtro | C133: 1 | D133: 94979 | E133: 18046.01 | F133: 113025.01
A134: =+A133+1 -> 131 | B134: Reparación general de motor | C134: 1 | D134: 8520822 | E134: 1618956.2 | F134: 10139778
A135: =+A134+1 -> 132 | B135: Sincronización | C135: 1 | D135: 591395 | E135: 112365.05 | F135: 703760.05
A136: =+A135+1 -> 133 | B136: Calibración válvulas | C136: 1 | D136: 956521 | E136: 181738.99 | F136: 1138260
A137: =+A136+1 -> 134 | B137: Cambio bomba agua | C137: 1 | D137: 1125251 | E137: 213797.69 | F137: 1339048.7
A138: =+A137+1 -> 135 | B138: Cambio bomba gasolina | C138: 1 | D138: 584557 | E138: 111065.83 | F138: 695622.83
A139: =+A138+1 -> 136 | B139: Cambio empaque múltiple de admisión | C139: 1 | D139: 481091 | E139: 91407.29 | F139: 572498.29
A140: =+A139+1 -> 137 | B140: Cambio correa o cadena de repartición | C140: 1 | D140: 7598801 | E140: 1443772.2 | F140: 9042573.2
A141: =+A140+1 -> 138 | B141: Cambio empaquetadura culata | C141: 1 | D141: 3712221 | E141: 705321.99 | F141: 4417543
... A198: =+A197+1 -> 195 | B198: Película de seguridad por vidrio c/uno | C198: 1 | D198: 94583 | E198: 17970.77 | F198: 112553.77
E200: TOTALES | G200: =SUM(G4:G198) -> 0 | H200: =SUM(H4:H198) -> 0 | I200: =SUM(I4:I198) -> 0

Sheet PRADO TX 2010-2011-2012-2013
A1: CAMIONETA | C1: TOYOTA PRADO TX 2010-2011-2012-2013 | G1: OFERTA PROPONENTE
C2: PRECIOS TECHO
A3: ITEM | B3: PREVENTIVO | C3: CANTIDAD | D3: VALOR UNITARIO | E3: IVA | F3: VALOR UNITARIO CON IVA INCLUIDO | G3: VALOR UNITARIO | H3: IVA | I3: VALOR UNITARIO CON IVA INCLUIDO
A4: 1 | B4: Aceite motor | C4: 1 | D4: 39200 | E4: 7448 | F4: 46648
A5: 2 | B5: Filtro aceite | C5: 1 | D5: 84614 | E5: 16076.66 | F5: 100690.66
A6: 3 | B6: Anillo tapón carter | C6: 1 | D6: 6101 | E6: 1159.19 | F6: 7260.19
A7: 4 | B7: Filtro combustible | C7: 1 | D7: 303404 | E7: 57646.76 | F7: 361050.76
A8: 5 | B8: Filtro purificador(Aire) | C8: 1 | D8: 171600 | E8: 32604 | F8: 204204
A9: 6 | B9: Bujías | C9: 1 | D9: 50715 | E9: 9635.85 | F9: 60350.85
A10: =+A9+1 -> 7 | B10: Limpiador de inyectores | C10: 1 | D10: 73086 | E10: 13886.34 | F10: 86972.34
A11: =+A10+1 -> 8 | B11: Bobina | C11: 1 | D11: 183105 | E11: 34789.95 | F11: 217894.95
A12: =+A11+1 -> 9 | B12: Correa alternador o accesorios | C12: 1 | D12: 422036 | E12: 80186.84 | F12: 502222.84
A13: =+A12+1 -> 10 | B13: Bomba gasolina | C13: 1 | D13: 396019 | E13: 75243.61 | F13: 471262.61
A14: =+A13+1 -> 11 | B14: Juego casquetes biela | C14: 1 | D14: 84651 | E14: 16083.69 | F14: 100734.69
A15: =+A14+1 -> 12 | B15: Juego casquetes bancada | C15: 1 | D15: 121288 | E15: 23044.72 | F15: 144332.72
A16: =+A15+1 -> 13 | B16: Correa hidráulico dirección | C16: 1 | D16: 239168 | E16: 45441.92 | F16: 284609.92
A17: =+A16+1 -> 14 | B17: Juego válvulas de admisión | C17: 1 | D17: 101282 | E17: 19243.58 | F17: 120525.58
A18: =+A17+1 -> 15 | B18: Juego válvulas de escape | C18: 1 | D18: 154677 | E18: 29388.63 | F18: 184065.63
A19: =+A18+1 -> 16 | B19: Juego guias válvulas | C19: 1 | D19: 50643 | E19: 9622.17 | F19: 60265.17
A20: =+A19+1 -> 17 | B20: Juego sellos válvulas | C20: 1 | D20: 39112 | E20: 7431.28 | F20: 46543.28
A21: =+A20+1 -> 18 | B21: Juego media lunas | C21: 1 | D21: 231708 | E21: 44024.52 | F21: 275732.52
... A132: =+A131+1 -> 129 | B132: Llanta | C132: 1 | D132: 446283 | E132: 84793.77 | F132: 531076.77
A133: 130 | B133: Alineación | C133: 1 | D133: 178708 | E133: 33954.52 | F133: 212662.52
A134: =+A133+1 -> 131 | B134: Balanceo cada rueda | C134: 1 | D134: 68154 | E134: 12949.26 | F134: 81103.26
A135: =+A134+1 -> 132 | B135: Rotación de llantas | C135: 1 | D135: 73457 | E135: 13956.83 | F135: 87413.83
A136: =+A135+1 -> 133 | B136: Vulcanización llanta | C136: 1 | D136: 128399 | E136: 24395.81 | F136: 152794.81
A137: =+A136+1 -> 134 | B137: Cambio aceite y filtro | C137: 1 | D137: 94979 | E137: 18046.01 | F137: 113025.01
A138: =+A137+1 -> 135 | B138: Reparación general de motor | C138: 1 | D138: 8410834 | E138: 1598058.5 | F138: 10008892
A139: =+A138+1 -> 136 | B139: Sincronización | C139: 1 | D139: 591395 | E139: 112365.05 | F139: 703760.05
A140: =+A139+1 -> 137 | B140: Calibración válvulas | C140: 1 | D140: 970249 | E140: 184347.31 | F140: 1154596.3
A141: =+A140+1 -> 138 | B141: Cambio bomba agua | C141: 1 | D141: 1019662 | E141: 193735.78 | F141: 1213397.8
A142: =+A141+1 -> 139 | B142: Cambio bomba gasolina | C142: 1 | D142: 563991 | E142: 107158.29 | F142: 671149.29
A143: =+A142+1 -> 140 | B143: Cambio empaque múltiple de admisión | C143: 1 | D143: 481091 | E143: 91407.29 | F143: 572498.29
A144: =+A143+1 -> 141 | B144: Cambio correa o cadena de repartición | C144: 1 | D144: 7542874 | E144: 1433146.1 | F144: 8976020.1
A145: =+A144+1 -> 142 | B145: Cambio empaquetadura culata | C145: 1 | D145: 3736735 | E145: 709979.65 | F145: 4446714.7
... A205: =+A204+1 -> 202 | B205: Película de seguridad por vidrio c/uno | C205: 1 | D205: 94282 | E205: 17913.58 | F205: 112195.58
E207: TOTALES | G207: =SUM(G4:G205) -> 0 | H207: =SUM(H4:H205) -> 0 | I207: =SUM(I4:I205) -> 0

Sheet TOYOTA 4RUNNER 2011
A1: CAMIONETA | C1: TOYOTA 4RUNNER 2011 | G1: OFERTA PROPONENTE
C2: PRECIOS TECHO
A3: ITEM | B3: PREVENTIVO | C3: CANTIDAD | D3: VALOR UNITARIO | E3: IVA | F3: VALOR UNITARIO CON IVA INCLUIDO | G3: VALOR UNITARIO | H3: IVA | I3: VALOR UNITARIO CON IVA INCLUIDO
A4: 1 | B4: Aceite motor | C4: 1 | D4: 41500 | E4: 7885 | F4: 49385
A5: 2 | B5: Filtro aceite | C5: 1 | D5: 71214 | E5: 13530.66 | F5: 84744.66
A6: 3 | B6: Anillo tapón carter | C6: 1 | D6: 4101 | E6: 779.19 | F6: 4880.19
A7: 4 | B7: Filtro combustible | C7: 1 | D7: 283706 | E7: 53904.14 | F7: 337610.14
A8: 5 | B8: Filtro purificador(Aire) | C8: 1 | D8: 197660 | E8: 37555.4 | F8: 235215.4
A9: 6 | B9: Bujías | C9: 1 | D9: 48765 | E9: 9265.35 | F9: 58030.35
A10: =+A9+1 -> 7 | B10: Limpiador de inyectores | C10: 1 | D10: 85736 | E10: 16289.84 | F10: 102025.84
A11: =+A10+1 -> 8 | B11: Bobina | C11: 1 | D11: 452601 | E11: 85994.19 | F11: 538595.19
A12: =+A11+1 -> 9 | B12: Correa alternador o accesorios | C12: 1 | D12: 514475 | E12: 97750.25 | F12: 612225.25
A13: =+A12+1 -> 10 | B13: Bomba gasolina | C13: 1 | D13: 2058706 | E13: 391154.14 | F13: 2449860.1
A14: =+A13+1 -> 11 | B14: Juego casquetes biela | C14: 1 | D14: 192551 | E14: 36584.69 | F14: 229135.69
A15: =+A14+1 -> 12 | B15: Juego casquetes bancada | C15: 1 | D15: 238883 | E15: 45387.77 | F15: 284270.77
A16: =+A15+1 -> 13 | B16: Correa hidráulico dirección | C16: 1 | D16: 514475 | E16: 97750.25 | F16: 612225.25
A17: =+A16+1 -> 14 | B17: Juego válvulas de admisión | C17: 1 | D17: 559059 | E17: 106221.21 | F17: 665280.21
A18: =+A17+1 -> 15 | B18: Juego válvulas de escape | C18: 1 | D18: 940265 | E18: 178650.35 | F18: 1118915.4
A19: =+A18+1 -> 16 | B19: Juego guias válvulas | C19: 1 | D19: 295908 | E19: 56222.52 | F19: 352130.52
A20: =+A19+1 -> 17 | B20: Juego sellos válvulas | C20: 1 | D20: 202046 | E20: 38388.74 | F20: 240434.74
A21: =+A20+1 -> 18 | B21: Juego media lunas | C21: 1 | D21: 164093 | E21: 31177.67 | F21: 195270.67
... A214: =+A213+1 -> 211 | B214: Película de seguridad por vidrio c/uno | C214: 1 | D214: 110000 | E214: 20900 | F214: 130900
E216: TOTALES | G216: =SUM(G4:G214) -> 0 | H216: =SUM(H4:H214) -> 0 | I216: =SUM(I4:I214) -> 0

Sheet TOYOTA HILUX 2012 DIÉSEL
A1: CAMIONETA | C1: TOYOTA HILUX 2012 DIÉSEL | G1: OFERTA PROPONENTE
C2: PRECIOS TECHO
A3: ITEM | B3: PREVENTIVO | C3: CANTIDAD | D3: VALOR UNITARIO | E3: IVA | F3: VALOR UNITARIO CON IVA INCLUIDO | G3: VALOR UNITARIO | H3: IVA | I3: VALOR UNITARIO CON IVA INCLUIDO
A4: 1 | B4: Aceite motor | C4: 1 | D4: 42500 | E4: 8075 | F4: 50575
A5: 2 | B5: Filtro aceite | C5: 1 | D5: 67227 | E5: 12773.13 | F5: 80000.13
A6: 3 | B6: Anillo tapón carter | C6: 1 | D6: 4202 | E6: 798.38 | F6: 5000.38
A7: 4 | B7: Filtro combustible | C7: 1 | D7: 135383 | E7: 25722.77 | F7: 161105.77
A8: 5 | B8: Filtro purificador(Aire) | C8: 1 | D8: 179010 | E8: 34011.9 | F8: 213021.9
A9: 6 | B9: Bujías de precalentamiento | C9: 1 | D9: 149160 | E9: 28340.4 | F9: 177500.4
A10: =+A9+1 -> 7 | B10: Aditivo inyectores | C10: 1 | D10: 89076 | E10: 16924.44 | F10: 106000.44
A11: =+A10+1 -> 8 | B11: Correa alternador o accesorios | C11: 1 | D11: 369429 | E11: 70191.51 | F11: 439620.51
A12: =+A11+1 -> 9 | B12: Bomba de inyección | C12: 1 | D12: 7208167 | E12: 1369551.7 | F12: 8577718.7
A13: =+A12+1 -> 10 | B13: Juego casquetes biela | C13: 1 | D13: 297182 | E13: 56464.58 | F13: 353646.58
A14: =+A13+1 -> 11 | B14: Juego casquetes bancada | C14: 1 | D14: 505291 | E14: 96005.29 | F14: 601296.29
A15: =+A14+1 -> 12 | B15: Correa hidráulico dirección | C15: 1 | D15: 369983 | E15: 70296.77 | F15: 440279.77
A16: =+A15+1 -> 13 | B16: Juego válvulas de admisión | C16: 1 | D16: 733676 | E16: 139398.44 | F16: 873074.44
A17: =+A16+1 -> 14 | B17: Juego válvulas de escape | C17: 1 | D17: 762606 | E17: 144895.14 | F17: 907501.14
A18: =+A17+1 -> 15 | B18: Juego guias válvulas | C18: 1 | D18: 692439 | E18: 131563.41 | F18: 824002.41
A19: =+A18+1 -> 16 | B19: Juego sellos válvulas | C19: 1 | D19: 272351 | E19: 51746.69 | F19: 324097.69
A20: =+A19+1 -> 17 | B20: Juego media lunas | C20: 1 | D20: 144249 | E20: 27407.31 | F20: 171656.31
A21: =+A20+1 -> 18 | B21: Empaquetadura motor | C21: 1 | D21: 790208 | E21: 150139.52 | F21: 940347.52
... A210: =+A209+1 -> 207 | B210: Película de seguridad por vidrio c/uno | C210: 1 | D210: 93700 | E210: 17803 | F210: 111503
E213: TOTALES | G213: =SUM(G4:G210) -> 0 | H213: =SUM(H4:H210) -> 0 | I213: =SUM(I4:I210) -> 0

Sheet PRADO TX 2012-2013 DIÉSEL
A1: CAMIONETA | C1: TOYOTA PRADO TX 2012-2013 DIÉSEL | G1: OFERTA PROPONENTE
C2: PRECIOS TECHO
A3: ITEM | B3: PREVENTIVO | C3: CANTIDAD | D3: VALOR UNITARIO | E3: IVA | F3: VALOR UNITARIO CON IVA INCLUIDO | G3: VALOR UNITARIO | H3: IVA | I3: VALOR UNITARIO CON IVA INCLUIDO
A4: 1 | B4: Aceite motor | C4: 1 | D4: 39200 | E4: 7448 | F4: 46648
A5: 2 | B5: Filtro aceite | C5: 1 | D5: 64233 | E5: 12204.27 | F5: 76437.27
A6: 3 | B6: Anillo tapón carter | C6: 1 | D6: 4221 | E6: 801.99 | F6: 5022.99
A7: 4 | B7: Filtro combustible | C7: 1 | D7: 231879 | E7: 44057.01 | F7: 275936.01
A8: 5 | B8: Filtro purificador(Aire) | C8: 1 | D8: 161232 | E8: 30634.08 | F8: 191866.08
A9: 6 | B9: Bujías de precalentamiento | C9: 1 | D9: 133643 | E9: 25392.17 | F9: 159035.17
A10: =+A9+1 -> 7 | B10: Limpiador de inyectores | C10: 1 | D10: 80522 | E10: 15299.18 | F10: 95821.18
A11: =+A10+1 -> 8 | B11: Correa alternador o accesorios | C11: 1 | D11: 607110 | E11: 115350.9 | F11: 722460.9
A12: =+A11+1 -> 9 | B12: Bomba de inyección | C12: 1 | D12: 7259589 | E12: 1379321.9 | F12: 8638910.9
A13: =+A12+1 -> 10 | B13: Juego casquetes biela | C13: 1 | D13: 344810 | E13: 65513.9 | F13: 410323.9
A14: =+A13+1 -> 11 | B14: Juego casquetes bancada | C14: 1 | D14: 692184 | E14: 131514.96 | F14: 823698.96
A15: =+A14+1 -> 12 | B15: Correa hidráulico dirección | C15: 1 | D15: 605303 | E15: 115007.57 | F15: 720310.57
A16: =+A15+1 -> 13 | B16: Juego válvulas de admisión | C16: 1 | D16: 102122 | E16: 19403.18 | F16: 121525.18
A17: =+A16+1 -> 14 | B17: Juego válvulas de escape | C17: 1 | D17: 148375 | E17: 28191.25 | F17: 176566.25
A18: =+A17+1 -> 15 | B18: Juego guias válvulas | C18: 1 | D18: 50643 | E18: 9622.17 | F18: 60265.17
A19: =+A18+1 -> 16 | B19: Juego sellos válvulas | C19: 1 | D19: 39952 | E19: 7590.88 | F19: 47542.88
A20: =+A19+1 -> 17 | B20: Juego media lunas | C20: 1 | D20: 144837 | E20: 27519.03 | F20: 172356.03
A21: =+A20+1 -> 18 | B21: Empaquetadura motor | C21: 1 | D21: 1189389 | E21: 225983.91 | F21: 1415372.9
... A204: =+A203+1 -> 201 | B204: Película de seguridad por vidrio c/uno | C204: 1 | D204: 93700 | E204: 17803 | F204: 111503
E206: TOTALES | G206: =SUM(G4:G204) -> 0 | H206: =SUM(H4:H204) -> 0 | I206: =SUM(I4:I204) -> 0

Sheet FORTUNER 2013-2014 DIÉSEL
A1: CAMIONETA | C1: TOYOTA FORTUNER 2013-2014 DIESEL | G1: OFERTA PROPONENTE
C2: PRECIOS TECHO
A3: ITEM | B3: PREVENTIVO | C3: CANTIDAD | D3: VALOR UNITARIO | E3: IVA | F3: VALOR UNITARIO CON IVA INCLUIDO | G3: VALOR UNITARIO | H3: IVA | I3: VALOR UNITARIO CON IVA INCLUIDO
A4: 1 | B4: Aceite motor | C4: 1 | D4: 37000 | E4: 7030 | F4: 44030
A5: 2 | B5: Filtro aceite | C5: 1 | D5: 73614 | E5: 13986.66 | F5: 87600.66
A6: 3 | B6: Anillo tapón carter | C6: 1 | D6: 4601 | E6: 874.19 | F6: 5475.19
A7: 4 | B7: Filtro combustible | C7: 1 | D7: 166067 | E7: 31552.73 | F7: 197619.73
A8: 5 | B8: Filtro purificador(Aire) | C8: 1 | D8: 177177 | E8: 33663.63 | F8: 210840.63
A9: 6 | B9: Bujías | C9: 1 | D9: 212269 | E9: 40331.11 | F9: 252600.11
A10: =+A9+1 -> 7 | B10: Limpiador de inyectores | C10: 1 | D10: 94538 | E10: 17962.22 | F10: 112500.22
A11: =+A10+1 -> 8 | B11: Correa alternador o accesorios | C11: 1 | D11: 423614 | E11: 80486.66 | F11: 504100.66
A12: =+A11+1 -> 9 | B12: Bomba gasolina | C12: 1 | D12: 4977521 | E12: 945728.99 | F12: 5923250
A13: =+A12+1 -> 10 | B13: Juego casquetes biela | C13: 1 | D13: 623131 | E13: 118394.89 | F13: 741525.89
A14: =+A13+1 -> 11 | B14: Juego casquetes bancada | C14: 1 | D14: 619475 | E14: 117700.25 | F14: 737175.25
A15: =+A14+1 -> 12 | B15: Correa hidráulico dirección | C15: 1 | D15: 412614 | E15: 78396.66 | F15: 491010.66
A16: =+A15+1 -> 13 | B16: Juego válvulas de admisión | C16: 1 | D16: 641597 | E16: 121903.43 | F16: 763500.43
A17: =+A16+1 -> 14 | B17: Juego válvulas de escape | C17: 1 | D17: 634244 | E17: 120506.36 | F17: 754750.36
A18: =+A17+1 -> 15 | B18: Juego guias válvulas | C18: 1 | D18: 445168 | E18: 84581.92 | F18: 529749.92
A19: =+A18+1 -> 16 | B19: Juego sellos válvulas | C19: 1 | D19: 445687 | E19: 84680.53 | F19: 530367.53
A20: =+A19+1 -> 17 | B20: Juego media lunas | C20: 1 | D20: 303370 | E20: 57640.3 | F20: 361010.3
A21: =+A20+1 -> 18 | B21: Empaquetadura motor | C21: 1 | D21: 941605 | E21: 178904.95 | F21: 1120509.9
... A214: =+A213+1 -> 211 | B214: Película de seguridad por vidrio c/uno | C214: 1 | D214: 110000 | E214: 20900 | F214: 130900
E217: TOTALES | G217: =SUM(G4:G214) -> 0 | H217: =SUM(H4:H214) -> 0 | I217: =SUM(I4:I214) -> 0

Sheet TOYOTA FORTUNER 2014 GASOLINA
A1: CAMIONETA | C1: TOYOTA FORTUNER 2014 GASOLINA | G1: OFERTA PROPONENTE
C2: PRECIOS TECHO
A3: ITEM | B3: PREVENTIVO | C3: CANTIDAD | D3: VALOR UNITARIO | E3: IVA | F3: VALOR UNITARIO CON IVA INCLUIDO | G3: VALOR UNITARIO | H3: IVA | I3: VALOR UNITARIO CON IVA INCLUIDO
A4: 1 | B4: Aceite motor | C4: 1 | D4: 37000 | E4: 7030 | F4: 44030
A5: 2 | B5: Filtro aceite | C5: 1 | D5: 77070 | E5: 14643.3 | F5: 91713.3
A6: 3 | B6: Anillo tapón carter | C6: 1 | D6: 4228 | E6: 803.32 | F6: 5031.32
A7: 4 | B7: Filtro combustible | C7: 1 | D7: 195899 | E7: 37220.81 | F7: 233119.81
A8: 5 | B8: Filtro purificador(Aire) | C8: 1 | D8: 177177 | E8: 33663.63 | F8: 210840.63
A9: 6 | B9: Bujías | C9: 1 | D9: 47202 | E9: 8968.38 | F9: 56170.38
A10: =+A9+1 -> 7 | B10: Limpiador de inyectores | C10: 1 | D10: 75203 | E10: 14288.57 | F10: 89491.57
A11: =+A10+1 -> 8 | B11: Bobina | C11: 1 | D11: 394091 | E11: 74877.29 | F11: 468968.29
A12: =+A11+1 -> 9 | B12: Correa alternador o accesorios | C12: 1 | D12: 392472 | E12: 74569.68 | F12: 467041.68
A13: =+A12+1 -> 10 | B13: Bomba gasolina | C13: 1 | D13: 1665055 | E13: 316360.45 | F13: 1981415.4
A14: =+A13+1 -> 11 | B14: Juego casquetes biela | C14: 1 | D14: 259041 | E14: 49217.79 | F14: 308258.79
A15: =+A14+1 -> 12 | B15: Juego casquetes bancada | C15: 1 | D15: 500941 | E15: 95178.79 | F15: 596119.79
A16: =+A15+1 -> 13 | B16: Correa hidráulico dirección | C16: 1 | D16: 393026 | E16: 74674.94 | F16: 467700.94
A17: =+A16+1 -> 14 | B17: Juego válvulas de admisión | C17: 1 | D17: 937854 | E17: 178192.26 | F17: 1116046.3
A18: =+A17+1 -> 15 | B18: Juego válvulas de escape | C18: 1 | D18: 1039264 | E18: 197460.16 | F18: 1236724.2
A19: =+A18+1 -> 16 | B19: Juego guias válvulas | C19: 1 | D19: 761302 | E19: 144647.38 | F19: 905949.38
A20: =+A19+1 -> 17 | B20: Juego sellos válvulas | C20: 1 | D20: 700898 | E20: 133170.62 | F20: 834068.62
A21: =+A20+1 -> 18 | B21: Juego media lunas | C21: 1 | D21: 167265 | E21: 31780.35 | F21: 199045.35
... A212: =+A211+1 -> 209 | B212: Película de seguridad por vidrio c/uno | C212: 1 | D212: 93700 | E212: 17803 | F212: 111503
E214: TOTALES | G214: =SUM(G4:G212) -> 0 | H214: =SUM(H4:H212) -> 0 | I214: =SUM(I4:I212) -> 0

Sheet TOYOTA HILUX 2015 DIESEL
A1: CAMIONETA | C1: TOYOTA HILUX 2015 DIESEL | G1: OFERTA PROPONENTE
C2: PRECIOS TECHO
A3: ITEM | B3: PREVENTIVO | C3: CANTIDAD | D3: VALOR UNITARIO | E3: IVA | F3: VALOR UNITARIO CON IVA INCLUIDO | G3: VALOR UNITARIO | H3: IVA | I3: VALOR UNITARIO CON IVA INCLUIDO
A4: 1 | B4: Aceite motor | C4: 1 | D4: 42500 | E4: 8075 | F4: 50575
A5: 2 | B5: Filtro aceite | C5: 1 | D5: 67227 | E5: 12773.13 | F5: 80000.13
A6: 3 | B6: Anillo tapón carter | C6: 1 | D6: 4202 | E6: 798.38 | F6: 5000.38
A7: 4 | B7: Filtro combustible | C7: 1 | D7: 135383 | E7: 25722.77 | F7: 161105.77
A8: 5 | B8: Filtro purificador(Aire) | C8: 1 | D8: 179010 | E8: 34011.9 | F8: 213021.9
A9: 6 | B9: Bujías de precalentamiento | C9: 1 | D9: 149160 | E9: 28340.4 | F9: 177500.4
A10: =+A9+1 -> 7 | B10: Aditivo inyectores | C10: 1 | D10: 89076 | E10: 16924.44 | F10: 106000.44
A11: =+A10+1 -> 8 | B11: Correa alternador o accesorios | C11: 1 | D11: 369429 | E11: 70191.51 | F11: 439620.51
A12: =+A11+1 -> 9 | B12: Bomba de inyección | C12: 1 | D12: 7208167 | E12: 1369551.7 | F12: 8577718.7
A13: =+A12+1 -> 10 | B13: Juego casquetes biela | C13: 1 | D13: 297182 | E13: 56464.58 | F13: 353646.58
A14: =+A13+1 -> 11 | B14: Juego casquetes bancada | C14: 1 | D14: 505291 | E14: 96005.29 | F14: 601296.29
A15: =+A14+1 -> 12 | B15: Correa hidráulico dirección | C15: 1 | D15: 369983 | E15: 70296.77 | F15: 440279.77
A16: =+A15+1 -> 13 | B16: Juego válvulas de admisión | C16: 1 | D16: 733676 | E16: 139398.44 | F16: 873074.44
A17: =+A16+1 -> 14 | B17: Juego válvulas de escape | C17: 1 | D17: 762606 | E17: 144895.14 | F17: 907501.14
A18: =+A17+1 -> 15 | B18: Juego guias válvulas | C18: 1 | D18: 692439 | E18: 131563.41 | F18: 824002.41
A19: =+A18+1 -> 16 | B19: Juego sellos válvulas | C19: 1 | D19: 272351 | E19: 51746.69 | F19: 324097.69
A20: =+A19+1 -> 17 | B20: Juego media lunas | C20: 1 | D20: 144249 | E20: 27407.31 | F20: 171656.31
A21: =+A20+1 -> 18 | B21: Empaquetadura motor | C21: 1 | D21: 790208 | E21: 150139.52 | F21: 940347.52
... A210: =+A209+1 -> 207 | B210: Película de seguridad por vidrio c/uno | C210: 1 | D210: 93700 | E210: 17803 | F210: 111503
E212: TOTALES | G212: =SUM(G4:G210) -> 0 | H212: =SUM(H4:H210) -> 0 | I212: =SUM(I4:I210) -> 0

Sheet TOYOTA FZJ 2015
A1: CAMIONETA | C1: TOYOTA FZJ 2015 (MACHO) | G1: OFERTA PROPONENTE
C2: PRECIOS TECHO
A3: ITEM | B3: PREVENTIVO | C3: CANTIDAD | D3: VALOR UNITARIO | E3: IVA | F3: VALOR UNITARIO CON IVA INCLUIDO | G3: VALOR UNITARIO | H3: IVA | I3: VALOR UNITARIO CON IVA INCLUIDO
A4: 1 | B4: Aceite motor | C4: 1 | D4: 37000 | E4: 7030 | F4: 44030
A5: 2 | B5: Filtro aceite | C5: 1 | D5: 73614 | E5: 13986.66 | F5: 87600.66
A6: 3 | B6: Anillo tapón carter | C6: 1 | D6: 4601 | E6: 874.19 | F6: 5475.19
A7: 4 | B7: Filtro combustible | C7: 1 | D7: 206404 | E7: 39216.76 | F7: 245620.76
A8: 5 | B8: Filtro purificador(Aire) | C8: 1 | D8: 172975 | E8: 32865.25 | F8: 205840.25
A9: 6 | B9: Bujías | C9: 1 | D9: 175715 | E9: 33385.85 | F9: 209100.85
A10: =+A9+1 -> 7 | B10: Limpiador de inyectores | C10: 1 | D10: 88236 | E10: 16764.84 | F10: 105000.84
A11: =+A10+1 -> 8 | B11: Bobina | C11: 1 | D11: 435001 | E11: 82650.19 | F11: 517651.19
A12: =+A11+1 -> 9 | B12: Correa alternador o accesorios | C12: 1 | D12: 514370 | E12: 97730.3 | F12: 612100.3
A13: =+A12+1 -> 10 | B13: Bomba gasolina | C13: 1 | D13: 1726681 | E13: 328069.39 | F13: 2054750.4
A14: =+A13+1 -> 11 | B14: Juego casquetes biela | C14: 1 | D14: 475652 | E14: 90373.88 | F14: 566025.88
A15: =+A14+1 -> 12 | B15: Juego casquetes bancada | C15: 1 | D15: 325357 | E15: 61817.83 | F15: 387174.83
A16: =+A15+1 -> 13 | B16: Juego válvulas de admisión | C16: 1 | D16: 640757 | E16: 121743.83 | F16: 762500.83
A17: =+A16+1 -> 14 | B17: Juego válvulas de escape | C17: 1 | D17: 660715 | E17: 125535.85 | F17: 786250.85
A18: =+A17+1 -> 15 | B18: Juego guias válvulas | C18: 1 | D18: 443908 | E18: 84342.52 | F18: 528250.52
A19: =+A18+1 -> 16 | B19: Juego sellos válvulas | C19: 1 | D19: 444846 | E19: 84520.74 | F19: 529366.74
A20: =+A19+1 -> 17 | B20: Juego media lunas | C20: 1 | D20: 307152 | E20: 58358.88 | F20: 365510.88
A21: =+A20+1 -> 18 | B21: Empaquetadura motor | C21: 1 | D21: 1294126 | E21: 245883.94 | F21: 1540009.9
... A209: =+A208+1 -> 206 | B209: Película de seguridad por vidrio c/uno | C209: 1 | D209: 110000 | E209: 20900 | F209: 130900
E211: TOTALES | G211: =SUM(G4:G209) -> 0 | H211: =SUM(H4:H209) -> 0 | I211: =SUM(I4:I209) -> 0

Sheet TOYOTA PRADO TX 2016 GASOLINA
A1: CAMIONETA | C1: TOYOTA PRADO TX 2016 GASOLINA | G1: OFERTA PROPONENTE
C2: PRECIOS TECHO
A3: ITEM | B3: PREVENTIVO | C3: CANTIDAD | D3: VALOR UNITARIO | E3: IVA | F3: VALOR UNITARIO CON IVA INCLUIDO | G3: VALOR UNITARIO | H3: IVA | I3: VALOR UNITARIO CON IVA INCLUIDO
A4: 1 | B4: Aceite motor | C4: 1 | D4: 39200 | E4: 7448 | F4: 46648
A5: 2 | B5: Filtro aceite | C5: 1 | D5: 64059 | E5: 12171.21 | F5: 76230.21
A6: 3 | B6: Anillo tapón carter | C6: 1 | D6: 4203 | E6: 798.57 | F6: 5001.57
A7: 4 | B7: Filtro combustible | C7: 1 | D7: 207735 | E7: 39469.65 | F7: 247204.65
A8: 5 | B8: Filtro purificador(Aire) | C8: 1 | D8: 129393 | E8: 24584.67 | F8: 153977.67
A9: 6 | B9: Bujías | C9: 1 | D9: 70565 | E9: 13407.35 | F9: 83972.35
A10: =+A9+1 -> 7 | B10: Limpiador de inyectores | C10: 1 | D10: 72978 | E10: 13865.82 | F10: 86843.82
A11: =+A10+1 -> 8 | B11: Bobina | C11: 1 | D11: 464053 | E11: 88170.07 | F11: 552223.07
A12: =+A11+1 -> 9 | B12: Correa alternador o accesorios | C12: 1 | D12: 398918 | E12: 75794.42 | F12: 474712.42
A13: =+A12+1 -> 10 | B13: Bomba gasolina | C13: 1 | D13: 1762172 | E13: 334812.68 | F13: 2096984.7
A14: =+A13+1 -> 11 | B14: Juego casquetes biela | C14: 1 | D14: 84651 | E14: 16083.69 | F14: 100734.69
A15: =+A14+1 -> 12 | B15: Juego casquetes bancada | C15: 1 | D15: 121288 | E15: 23044.72 | F15: 144332.72
A16: =+A15+1 -> 13 | B16: Correa hidráulico dirección | C16: 1 | D16: 395798 | E16: 75201.62 | F16: 470999.62
A17: =+A16+1 -> 14 | B17: Juego válvulas de admisión | C17: 1 | D17: 101282 | E17: 19243.58 | F17: 120525.58
A18: =+A17+1 -> 15 | B18: Juego válvulas de escape | C18: 1 | D18: 154677 | E18: 29388.63 | F18: 184065.63
A19: =+A18+1 -> 16 | B19: Juego guias válvulas | C19: 1 | D19: 50643 | E19: 9622.17 | F19: 60265.17
A20: =+A19+1 -> 17 | B20: Juego sellos válvulas | C20: 1 | D20: 39112 | E20: 7431.28 | F20: 46543.28
A21: =+A20+1 -> 18 | B21: Juego media lunas | C21: 1 | D21: 150595 | E21: 28613.05 | F21: 179208.05
... A132: =+A131+1 -> 129 | B132: Llanta | C132: 1 | D132: 1071429 | E132: 203571.51 | F132: 1275000.5
A133: 130 | B133: Alineación | C133: 1 | D133: 178708 | E133: 33954.52 | F133: 212662.52
A134: =+A133+1 -> 131 | B134: Balanceo cada rueda | C134: 1 | D134: 68154 | E134: 12949.26 | F134: 81103.26
A135: =+A134+1 -> 132 | B135: Rotación de llantas | C135: 1 | D135: 73457 | E135: 13956.83 | F135: 87413.83
A136: =+A135+1 -> 133 | B136: Vulcanización llanta | C136: 1 | D136: 128399 | E136: 24395.81 | F136: 152794.81
A137: =+A136+1 -> 134 | B137: Cambio aceite y filtro | C137: 1 | D137: 94979 | E137: 18046.01 | F137: 113025.01
A138: =+A137+1 -> 135 | B138: Reparación general de motor | C138: 1 | D138: 8410834 | E138: 1598058.5 | F138: 10008892
A139: =+A138+1 -> 136 | B139: Sincronización | C139: 1 | D139: 591395 | E139: 112365.05 | F139: 703760.05
A140: =+A139+1 -> 137 | B140: Calibración válvulas | C140: 1 | D140: 970249 | E140: 184347.31 | F140: 1154596.3
A141: =+A140+1 -> 138 | B141: Cambio bomba agua | C141: 1 | D141: 1019662 | E141: 193735.78 | F141: 1213397.8
A142: =+A141+1 -> 139 | B142: Cambio bomba gasolina | C142: 1 | D142: 563991 | E142: 107158.29 | F142: 671149.29
A143: =+A142+1 -> 140 | B143: Cambio empaque múltiple de admisión | C143: 1 | D143: 481091 | E143: 91407.29 | F143: 572498.29
A144: =+A143+1 -> 141 | B144: Cambio correa o cadena de repartición | C144: 1 | D144: 7542874 | E144: 1433146.1 | F144: 8976020.1
A145: =+A144+1 -> 142 | B145: Cambio empaquetadura culata | C145: 1 | D145: 3736735 | E145: 709979.65 | F145: 4446714.7
... A205: =+A204+1 -> 202 | B205: Película de seguridad por vidrio c/uno | C205: 1 | D205: 94282 | E205: 17913.58 | F205: 112195.58
E207: TOTALES | G207: =SUM(G4:G205) -> 0 | H207: =SUM(H4:H205) -> 0 | I207: =SUM(I4:I205) -> 0

Sheet TOYOTA RAV4-2017
A1: CAMIONETA | C1: TOYOTA RAV 4 2017 | G1: OFERTA PROPONENTE
C2: PRECIOS TECHO
A3: ITEM | B3: PREVENTIVO | C3: CANTIDAD | D3: VALOR UNITARIO | E3: IVA | F3: VALOR UNITARIO CON IVA INCLUIDO | G3: VALOR UNITARIO | H3: IVA | I3: VALOR UNITARIO CON IVA INCLUIDO
A4: 1 | B4: Aceite motor | C4: 1 | D4: 41500 | E4: 7885 | F4: 49385
A5: 2 | B5: Filtro aceite | C5: 1 | D5: 57429 | E5: 10911.51 | F5: 68340.51
A6: 3 | B6: Anillo tapón carter | C6: 1 | D6: 4101 | E6: 779.19 | F6: 4880.19
A7: 5 | B7: Filtro purificador(Aire) | C7: 1 | D7: 102597 | E7: 19493.43 | F7: 122090.43
A8: 6 | B8: Bujías | C8: 1 | D8: 74815 | E8: 14214.85 | F8: 89029.85
A9: =+A8+1 -> 7 | B9: Limpiador de inyectores | C9: 1 | D9: 76486 | E9: 14532.34 | F9: 91018.34
A10: =+A9+1 -> 8 | B10: Bobina | C10: 1 | D10: 488736 | E10: 92859.84 | F10: 581595.84
A11: =+A10+1 -> 9 | B11: Correa alternador o accesorios | C11: 1 | D11: 337248 | E11: 64077.12 | F11: 401325.12
A12: =+A11+1 -> 10 | B12: Bomba gasolina | C12: 1 | D12: 1895849 | E12: 360211.31 | F12: 2256060.3
A13: =+A12+1 -> 11 | B13: Juego casquetes biela | C13: 1 | D13: 280593 | E13: 53312.67 | F13: 333905.67
A14: =+A13+1 -> 12 | B14: Juego casquetes bancada | C14: 1 | D14: 215874 | E14: 41016.06 | F14: 256890.06
A15: =+A14+1 -> 13 | B15: Correa hidráulico dirección | C15: 1 | D15: 382248 | E15: 72627.12 | F15: 454875.12
A16: =+A15+1 -> 14 | B16: Juego válvulas de admisión | C16: 1 | D16: 190757 | E16: 36243.83 | F16: 227000.83
A17: =+A16+1 -> 15 | B17: Juego válvulas de escape | C17: 1 | D17: 305063 | E17: 57961.97 | F17: 363024.97
A18: =+A17+1 -> 16 | B18: Juego guias válvulas | C18: 1 | D18: 344009 | E18: 65361.71 | F18: 409370.71
A19: =+A18+1 -> 17 | B19: Juego sellos válvulas | C19: 1 | D19: 141546 | E19: 26893.74 | F19: 168439.74
A20: =+A19+1 -> 18 | B20: Juego media lunas | C20: 1 | D20: 105357 | E20: 20017.83 | F20: 125374.83
... A189: =+A188+1 -> 187 | B189: Película de seguridad por vidrio c/uno | C189: 1 | D189: 110000 | E189: 20900 | F189: 130900
E191: TOTALES | G191: =SUM(G4:G189) -> 0 | H191: =SUM(H4:H189) -> 0 | I191: =SUM(I4:I189) -> 0

Sheet PRADO TX 2016-2017 DIESEL
A1: CAMIONETA | C1: TOYOTA PRADO TX 2016-2017 DIESEL | G1: OFERTA PROPONENTE
C2: PRECIOS TECHO
A3: ITEM | B3: PREVENTIVO | C3: CANTIDAD | D3: VALOR UNITARIO | E3: IVA | F3: VALOR UNITARIO CON IVA INCLUIDO | G3: VALOR UNITARIO | H3: IVA | I3: VALOR UNITARIO CON IVA INCLUIDO
A4: 1 | B4: Aceite motor | C4: 1 | D4: 39200 | E4: 7448 | F4: 46648
A5: 2 | B5: Filtro aceite | C5: 1 | D5: 64233 | E5: 12204.27 | F5: 76437.27
A6: 3 | B6: Anillo tapón carter | C6: 1 | D6: 4221 | E6: 801.99 | F6: 5022.99
A7: 4 | B7: Filtro combustible | C7: 1 | D7: 231879 | E7: 44057.01 | F7: 275936.01
A8: 5 | B8: Filtro purificador(Aire) | C8: 1 | D8: 161232 | E8: 30634.08 | F8: 191866.08
A9: 6 | B9: Bujías de precalentamiento | C9: 1 | D9: 133643 | E9: 25392.17 | F9: 159035.17
A10: =+A9+1 -> 7 | B10: Limpiador de inyectores | C10: 1 | D10: 80522 | E10: 15299.18 | F10: 95821.18
A11: =+A10+1 -> 8 | B11: Correa alternador o accesorios | C11: 1 | D11: 607110 | E11: 115350.9 | F11: 722460.9
A12: =+A11+1 -> 9 | B12: Bomba de inyección | C12: 1 | D12: 7259589 | E12: 1379321.9 | F12: 8638910.9
A13: =+A12+1 -> 10 | B13: Juego casquetes biela | C13: 1 | D13: 344810 | E13: 65513.9 | F13: 410323.9
A14: =+A13+1 -> 11 | B14: Juego casquetes bancada | C14: 1 | D14: 692184 | E14: 131514.96 | F14: 823698.96
A15: =+A14+1 -> 12 | B15: Correa hidráulico dirección | C15: 1 | D15: 605303 | E15: 115007.57 | F15: 720310.57
A16: =+A15+1 -> 13 | B16: Juego válvulas de admisión | C16: 1 | D16: 102122 | E16: 19403.18 | F16: 121525.18
A17: =+A16+1 -> 14 | B17: Juego válvulas de escape | C17: 1 | D17: 148375 | E17: 28191.25 | F17: 176566.25
A18: =+A17+1 -> 15 | B18: Juego guias válvulas | C18: 1 | D18: 50643 | E18: 9622.17 | F18: 60265.17
A19: =+A18+1 -> 16 | B19: Juego sellos válvulas | C19: 1 | D19: 39952 | E19: 7590.88 | F19: 47542.88
A20: =+A19+1 -> 17 | B20: Juego media lunas | C20: 1 | D20: 144837 | E20: 27519.03 | F20: 172356.03
A21: =+A20+1 -> 18 | B21: Empaquetadura motor | C21: 1 | D21: 1189389 | E21: 225983.91 | F21: 1415372.9
... A204: =+A203+1 -> 201 | B204: Película de seguridad por vidrio c/uno | C204: 1 | D204: 93700 | E204: 17803 | F204: 111503
E206: TOTALES | G206: =SUM(G4:G186) -> 0 | H206: =SUM(H4:H186) -> 0 | I206: =SUM(I4:I186) -> 0

Sheet TOYOTA FORTUNER 2018 GASOLINA
A1: CAMIONETA | C1: TOYOTA FORTUNER 2018 GASOLINA | G1: OFERTA PROPONENTE
C2: PRECIOS TECHO
A3: ITEM | B3: PREVENTIVO | C3: CANTIDAD | D3: VALOR UNITARIO | E3: IVA | F3: VALOR UNITARIO CON IVA INCLUIDO | G3: VALOR UNITARIO | H3: IVA | I3: VALOR UNITARIO CON IVA INCLUIDO
A4: 1 | B4: Aceite motor | C4: 1 | D4: 37000 | E4: 7030 | F4: 44030
A5: 2 | B5: Filtro aceite | C5: 1 | D5: 77070 | E5: 14643.3 | F5: 91713.3
A6: 3 | B6: Anillo tapón carter | C6: 1 | D6: 4228 | E6: 803.32 | F6: 5031.32
A7: 4 | B7: Filtro combustible | C7: 1 | D7: 195899 | E7: 37220.81 | F7: 233119.81
A8: 5 | B8: Filtro purificador(Aire) | C8: 1 | D8: 141072 | E8: 26803.68 | F8: 167875.68
A9: 6 | B9: Bujías | C9: 1 | D9: 83757 | E9: 15913.83 | F9: 99670.83
A10: =+A9+1 -> 7 | B10: Limpiador de inyectores | C10: 1 | D10: 75203 | E10: 14288.57 | F10: 89491.57
A11: =+A10+1 -> 8 | B11: Bobina | C11: 1 | D11: 394091 | E11: 74877.29 | F11: 468968.29
A12: =+A11+1 -> 9 | B12: Correa alternador o accesorios | C12: 1 | D12: 392472 | E12: 74569.68 | F12: 467041.68
A13: =+A12+1 -> 10 | B13: Bomba gasolina | C13: 1 | D13: 1665055 | E13: 316360.45 | F13: 1981415.4
A14: =+A13+1 -> 11 | B14: Juego casquetes biela | C14: 1 | D14: 259041 | E14: 49217.79 | F14: 308258.79
A15: =+A14+1 -> 12 | B15: Juego casquetes bancada | C15: 1 | D15: 542584 | E15: 103090.96 | F15: 645674.96
A16: =+A15+1 -> 13 | B16: Correa hidráulico dirección | C16: 1 | D16: 393026 | E16: 74674.94 | F16: 467700.94
A17: =+A16+1 -> 14 | B17: Juego válvulas de admisión | C17: 1 | D17: 937854 | E17: 178192.26 | F17: 1116046.3
A18: =+A17+1 -> 15 | B18: Juego válvulas de escape | C18: 1 | D18: 1039264 | E18: 197460.16 | F18: 1236724.2
A19: =+A18+1 -> 16 | B19: Juego guias válvulas | C19: 1 | D19: 761302 | E19: 144647.38 | F19: 905949.38
A20: =+A19+1 -> 17 | B20: Juego sellos válvulas | C20: 1 | D20: 700898 | E20: 133170.62 | F20: 834068.62
A21: =+A20+1 -> 18 | B21: Juego media lunas | C21: 1 | D21: 167265 | E21: 31780.35 | F21: 199045.35
... A170: =+A169+1 -> 167 | B170: Cambio retenes interno y externo (Bocines) | C170: 1 | D170: 761464 | E170: 144678.16 | F170: 906142.16
A171: =+A170+1 -> 168 | B171: Cambio retenes caja dirección | D171: 1267267 | E171: 240780.73 | F171: 1508047.7
A172: =+A171+1 -> 169 | B172: Cambio rodamientos caja dirección | D172: 1115487 | E172: 211942.53 | F172: 1327429.5
A173: =+A172+1 -> 170 | B173: Cambio terminales | C173: 1 | D173: 350551 | E173: 66604.69 | F173: 417155.69
A174: =+A173+1 -> 171 | B174: Cambio radiador | C174: 1 | D174: 281995 | E174: 53579.05 | F174: 335574.05
A175: =+A174+1 -> 172 | B175: Reparación radiador | C175: 1 | D175: 434200 | E175: 82498 | F175: 516698
A176: =+A175+1 -> 173 | B176: Cambio tarro auxiliar | C176: 1 | D176: 183094 | E176: 34787.86 | F176: 217881.86
A177: =+A176+1 -> 174 | B177: Cambio bomba del agua | C177: 1 | D177: 806795 | E177: 153291.05 | F177: 960086.05
A178: =+A177+1 -> 175 | B178: Cambio correa bomba del agua | C178: 1 | D178: 275642 | E178: 52371.98 | F178: 328013.98
A179: =+A178+1 -> 176 | B179: Cambio mangueras c/una. | C179: 1 | D179: 128094 | E179: 24337.86 | F179: 152431.86
A180: =+A179+1 -> 177 | B180: Cambio pera de temperatura | C180: 1 | D180: 241036 | E180: 45796.84 | F180: 286832.84
A181: =+A180+1 -> 178 | B181: Cambio termostato | C181: 1 | D181: 241036 | E181: 45796.84 | F181: 286832.84
A182: =+A181+1 -> 179 | B182: Carga Aire acondicionado | C182: 1 | D182: 474895 | E182: 90230.05 | F182: 565125.05
A183: =+A182+1 -> 180 | B183: Cambio compresor A/A | C183: 1 | D183: 646639 | E183: 122861.41 | F183: 769500.41
A184: =+A183+1 -> 181 | B184: Cambio calefactor A/A | C184: 1 | D184: 543451 | E184: 103255.69 | F184: 646706.69
... A212: =+A211+1 -> 209 | B212: Película de seguridad por vidrio c/uno | C212: 1 | D212: 93700 | E212: 17803 | F212: 111503
E214: TOTALES | G214: =SUM(G4:G212) -> 0 | H214: =SUM(H4:H212) -> 0 | I214: =SUM(I4:I212) -> 0

Sheet TOYOTA HILUX 2018 DIESEL
A1: CAMIONETA | C1: TOYOTA HILUX 2018 DIESEL | G1: OFERTA PROPONENTE
C2: PRECIOS TECHO
A3: ITEM | B3: PREVENTIVO | C3: CANTIDAD | D3: VALOR UNITARIO | E3: IVA | F3: VALOR UNITARIO CON IVA INCLUIDO | G3: VALOR UNITARIO | H3: IVA | I3: VALOR UNITARIO CON IVA INCLUIDO
A4: 1 | B4: Aceite motor | C4: 1 | D4: 42500 | E4: 8075 | F4: 50575
A5: =+A4+1 -> 2 | B5: Filtro aceite | C5: 1 | D5: 68205 | E5: 12958.95 | F5: 81163.95
A6: =+A5+1 -> 3 | B6: Anillo tapón carter | C6: 1 | D6: 4202 | E6: 798.38 | F6: 5000.38
A7: =+A6+1 -> 4 | B7: Filtro combustible | C7: 1 | D7: 195798 | E7: 37201.62 | F7: 232999.62
A8: =+A7+1 -> 5 | B8: Filtro purificador(Aire) | C8: 1 | D8: 144976 | E8: 27545.44 | F8: 172521.44
A9: =+A8+1 -> 6 | B9: Limpiador de inyectores | C9: 1 | D9: 89076 | E9: 16924.44 | F9: 106000.44
A10: =+A9+1 -> 7 | B10: Correa alternador o accesorios | C10: 1 | D10: 377833 | E10: 71788.27 | F10: 449621.27
A11: =+A10+1 -> 8 | B11: Bomba de inyección | C11: 1 | D11: 6550184 | E11: 1244535 | F11: 7794719
A12: =+A11+1 -> 9 | B12: Juego casquetes biela | C12: 1 | D12: 297182 | E12: 56464.58 | F12: 353646.58
A13: =+A12+1 -> 10 | B13: Juego casquetes bancada | C13: 1 | D13: 505291 | E13: 96005.29 | F13: 601296.29
A14: =+A13+1 -> 11 | B14: Correa hidráulico dirección | C14: 1 | D14: 378387 | E14: 71893.53 | F14: 450280.53
A15: =+A14+1 -> 12 | B15: Juego válvulas de admisión | C15: 1 | D15: 733676 | E15: 139398.44 | F15: 873074.44
A16: =+A15+1 -> 13 | B16: Juego válvulas de escape | C16: 1 | D16: 762606 | E16: 144895.14 | F16: 907501.14
... A200: =+A199+1 -> 197 | B200: Película de seguridad por vidrio c/uno | C200: 1 | D200: 93700 | E200: 17803 | F200: 111503
E202: TOTALES | G202: =SUM(G4:G200) -> 0 | H202: =SUM(H4:H200) -> 0 | I202: =SUM(I4:I200) -> 0

Sheet TOYOTA LC 200 2018 BLIND.
A1: CAMIONETA | C1: TOYOTA LC 200 2018 GASOLINA | G1: OFERTA PROPONENTE
C2: PRECIOS TECHO
A3: ITEM | B3: PREVENTIVO | C3: CANTIDAD | D3: VALOR UNITARIO | E3: IVA | F3: VALOR UNITARIO CON IVA INCLUIDO | G3: VALOR UNITARIO | H3: IVA | I3: VALOR UNITARIO CON IVA INCLUIDO
A4: 1 | B4: Aceite motor | C4: 1 | D4: 37000 | E4: 7030 | F4: 44030
A5: 2 | B5: Filtro aceite | C5: 1 | D5: 77874 | E5: 14796.06 | F5: 92670.06
A6: 3 | B6: Anillo tapón carter | C6: 1 | D6: 4217 | E6: 801.23 | F6: 5018.23
A7: 4 | B7: Filtro combustible | C7: 1 | D7: 213126 | E7: 40493.94 | F7: 253619.94
A8: 5 | B8: Filtro purificador(Aire) | C8: 1 | D8: 203630 | E8: 38689.7 | F8: 242319.7
A9: 6 | B9: Bujías | C9: 1 | D9: 69166 | E9: 13141.54 | F9: 82307.54
A10: =+A9+1 -> 7 | B10: Limpiador de inyectores | C10: 1 | D10: 75963 | E10: 14432.97 | F10: 90395.97
A11: =+A10+1 -> 8 | B11: Bobina | C11: 1 | D11: 461892 | E11: 87759.48 | F11: 549651.48
A12: =+A11+1 -> 9 | B12: Correa alternador o accesorios | C12: 1 | D12: 579855 | E12: 110172.45 | F12: 690027.45
A13: =+A12+1 -> 10 | B13: Bomba gasolina | C13: 1 | D13: 1896682 | E13: 360369.58 | F13: 2257051.6
A14: =+A13+1 -> 11 | B14: Juego casquetes biela | C14: 1 | D14: 185585 | E14: 35261.15 | F14: 220846.15
A15: =+A14+1 -> 12 | B15: Juego casquetes bancada | C15: 1 | D15: 319007 | E15: 60611.33 | F15: 379618.33
A16: =+A15+1 -> 13 | B16: Correa hidráulico dirección | C16: 1 | D16: 534462 | E16: 101547.78 | F16: 636009.78
A17: =+A16+1 -> 14 | B17: Juego válvulas de admisión | C17: 1 | D17: 1177123 | E17: 223653.37 | F17: 1400776.4
A18: =+A17+1 -> 15 | B18: Juego válvulas de escape | C18: 1 | D18: 1420414 | E18: 269878.66 | F18: 1690292.7
A19: =+A18+1 -> 16 | B19: Juego guias válvulas | C19: 1 | D19: 1044910 | E19: 198532.9 | F19: 1243442.9
A20: =+A19+1 -> 17 | B20: Juego sellos válvulas | C20: 1 | D20: 893578 | E20: 169779.82 | F20: 1063357.8
A21: =+A20+1 -> 18 | B21: Juego media lunas | C21: 1 | D21: 179297 | E21: 34066.43 | F21: 213363.43
... A128: =+A127+1 -> 125 | B128: Llanta | C128: 1 | D128: 1032150 | E128: 196108.5 | F128: 1228258.5
A129: 126 | B129: Alineación | C129: 1 | D129: 177237 | E129: 33675.03 | F129: 210912.03
A130: =+A129+1 -> 127 | B130: Balanceo cada rueda | C130: 1 | D130: 68154 | E130: 12949.26 | F130: 81103.26
A131: =+A130+1 -> 128 | B131: Rotación de llantas | C131: 1 | D131: 73457 | E131: 13956.83 | F131: 87413.83
A132: =+A131+1 -> 129 | B132: Vulcanización llanta | C132: 1 | D132: 128399 | E132: 24395.81 | F132: 152794.81
A133: =+A132+1 -> 130 | B133: Cambio aceite y filtro | C133: 1 | D133: 94979 | E133: 18046.01 | F133: 113025.01
A134: =+A133+1 -> 131 | B134: Reparación general de motor | C134: 1 | D134: 8520822 | E134: 1618956.2 | F134: 10139778
A135: =+A134+1 -> 132 | B135: Sincronización | C135: 1 | D135: 591395 | E135: 112365.05 | F135: 703760.05
A136: =+A135+1 -> 133 | B136: Calibración válvulas | C136: 1 | D136: 956521 | E136: 181738.99 | F136: 1138260
A137: =+A136+1 -> 134 | B137: Cambio bomba agua | C137: 1 | D137: 1125251 | E137: 213797.69 | F137: 1339048.7
A138: =+A137+1 -> 135 | B138: Cambio bomba gasolina | C138: 1 | D138: 584557 | E138: 111065.83 | F138: 695622.83
A139: =+A138+1 -> 136 | B139: Cambio empaque múltiple de admisión | C139: 1 | D139: 481091 | E139: 91407.29 | F139: 572498.29
A140: =+A139+1 -> 137 | B140: Cambio correa o cadena de repartición | C140: 1 | D140: 7598801 | E140: 1443772.2 | F140: 9042573.2
A141: =+A140+1 -> 138 | B141: Cambio empaquetadura culata | C141: 1 | D141: 3712221 | E141: 705321.99 | F141: 4417543
... A198: =+A197+1 -> 195 | B198: Película de seguridad por vidrio c/uno | C198: 1 | D198: 94583 | E198: 17970.77 | F198: 112553.77
E200: TOTALES | G200: =SUM(G4:G198) -> 0 | H200: =SUM(H4:H198) -> 0 | I200: =SUM(I4:I198) -> 0

Sheet TOYOTA FORTUNER 2020 DIÉSEL
A1: CAMIONETA | C1: TOYOTA FORTUNER 2020 DIÉSEL | G1: OFERTA PROPONENTE
C2: PRECIOS TECHO
A3: ITEM | B3: PREVENTIVO | C3: CANTIDAD | D3: VALOR UNITARIO | E3: IVA | F3: VALOR UNITARIO CON IVA INCLUIDO | G3: VALOR UNITARIO | H3: IVA | I3: VALOR UNITARIO CON IVA INCLUIDO
A4: 1 | B4: Aceite motor | C4: 1 | D4: 37000 | E4: 7030 | F4: 44030
A5: 2 | B5: Filtro aceite | C5: 1 | D5: 73614 | E5: 13986.66 | F5: 87600.66
A6: 3 | B6: Anillo tapón carter | C6: 1 | D6: 4601 | E6: 874.19 | F6: 5475.19
A7: 4 | B7: Filtro combustible | C7: 1 | D7: 195899 | E7: 37220.81 | F7: 233119.81
A8: 5 | B8: Filtro purificador(Aire) | C8: 1 | D8: 157849 | E8: 29991.31 | F8: 187840.31
A9: 6 | B9: Bujías | C9: 1 | D9: 216891 | E9: 41209.29 | F9: 258100.29
A10: =+A9+1 -> 7 | B10: Limpiador de inyectores | C10: 1 | D10: 94538 | E10: 17962.22 | F10: 112500.22
A11: =+A10+1 -> 8 | B11: Correa alternador o accesorios | C11: 1 | D11: 432017 | E11: 82083.23 | F11: 514100.23
A12: =+A11+1 -> 9 | B12: Bomba gasolina | C12: 1 | D12: 4319538 | E12: 820712.22 | F12: 5140250.2
A13: =+A12+1 -> 10 | B13: Juego casquetes biela | C13: 1 | D13: 482794 | E13: 91730.86 | F13: 574524.86
A14: =+A13+1 -> 11 | B14: Juego casquetes bancada | C14: 1 | D14: 327038 | E14: 62137.22 | F14: 389175.22
A15: =+A14+1 -> 12 | B15: Correa hidráulico dirección | C15: 1 | D15: 421017 | E15: 79993.23 | F15: 501010.23
A16: =+A15+1 -> 13 | B16: Juego válvulas de admisión | C16: 1 | D16: 653362 | E16: 124138.78 | F16: 777500.78
A17: =+A16+1 -> 14 | B17: Juego válvulas de escape | C17: 1 | D17: 628362 | E17: 119388.78 | F17: 747750.78
A18: =+A17+1 -> 15 | B18: Juego guias válvulas | C18: 1 | D18: 446429 | E18: 84821.51 | F18: 531250.51
A19: =+A18+1 -> 16 | B19: Juego sellos válvulas | C19: 1 | D19: 702409 | E19: 133457.71 | F19: 835866.71
A20: =+A19+1 -> 17 | B20: Juego media lunas | C20: 1 | D20: 303370 | E20: 57640.3 | F20: 361010.3
A21: =+A20+1 -> 18 | B21: Empaque múltiple de admisión | C21: 1 | D21: 171072 | E21: 32503.68 | F21: 203575.68
... A208: =+A207+1 -> 205 | B208: Película de seguridad por vidrio c/uno | C208: 1 | D208: 110000 | E208: 20900 | F208: 130900
E210: TOTALES | G210: =SUM(G4:G208) -> 0 | H210: =SUM(H4:H208) -> 0 | I210: =SUM(I4:I208) -> 0

Sheet PRADO TX 2018-2020 GASOLINA
A1: CAMIONETA | C1: TOYOTA PRADO TX 2018-2020 GASOLINA | G1: OFERTA PROPONENTE
C2: PRECIOS TECHO
A3: ITEM | B3: PREVENTIVO | C3: CANTIDAD | D3: VALOR UNITARIO | E3: IVA | F3: VALOR UNITARIO CON IVA INCLUIDO | G3: VALOR UNITARIO | H3: IVA | I3: VALOR UNITARIO CON IVA INCLUIDO
A4: 1 | B4: Aceite motor | C4: 1 | D4: 39200 | E4: 7448 | F4: 46648
A5: 2 | B5: Filtro aceite | C5: 1 | D5: 64059 | E5: 12171.21 | F5: 76230.21
A6: 3 | B6: Anillo tapón carter | C6: 1 | D6: 4203 | E6: 798.57 | F6: 5001.57
A7: 4 | B7: Filtro combustible | C7: 1 | D7: 207735 | E7: 39469.65 | F7: 247204.65
A8: 5 | B8: Filtro purificador(Aire) | C8: 1 | D8: 129393 | E8: 24584.67 | F8: 153977.67
A9: 6 | B9: Bujías | C9: 1 | D9: 70565 | E9: 13407.35 | F9: 83972.35
A10: =+A9+1 -> 7 | B10: Limpiador de inyectores | C10: 1 | D10: 72978 | E10: 13865.82 | F10: 86843.82
A11: =+A10+1 -> 8 | B11: Bobina | C11: 1 | D11: 464053 | E11: 88170.07 | F11: 552223.07
A12: =+A11+1 -> 9 | B12: Correa alternador o accesorios | C12: 1 | D12: 398918 | E12: 75794.42 | F12: 474712.42
A13: =+A12+1 -> 10 | B13: Bomba gasolina | C13: 1 | D13: 1762172 | E13: 334812.68 | F13: 2096984.7
A14: =+A13+1 -> 11 | B14: Juego casquetes biela | C14: 1 | D14: 84651 | E14: 16083.69 | F14: 100734.69
A15: =+A14+1 -> 12 | B15: Juego casquetes bancada | C15: 1 | D15: 121288 | E15: 23044.72 | F15: 144332.72
A16: =+A15+1 -> 13 | B16: Correa hidráulico dirección | C16: 1 | D16: 395798 | E16: 75201.62 | F16: 470999.62
A17: =+A16+1 -> 14 | B17: Juego válvulas de admisión | C17: 1 | D17: 101282 | E17: 19243.58 | F17: 120525.58
A18: =+A17+1 -> 15 | B18: Juego válvulas de escape | C18: 1 | D18: 154677 | E18: 29388.63 | F18: 184065.63
A19: =+A18+1 -> 16 | B19: Juego guias válvulas | C19: 1 | D19: 50643 | E19: 9622.17 | F19: 60265.17
A20: =+A19+1 -> 17 | B20: Juego sellos válvulas | C20: 1 | D20: 39112 | E20: 7431.28 | F20: 46543.28
A21: =+A20+1 -> 18 | B21: Juego media lunas | C21: 1 | D21: 150595 | E21: 28613.05 | F21: 179208.05
... A132: =+A131+1 -> 129 | B132: Llanta | C132: 1 | D132: 1071429 | E132: 203571.51 | F132: 1275000.5
A133: 130 | B133: Alineación | C133: 1 | D133: 178708 | E133: 33954.52 | F133: 212662.52
A134: =+A133+1 -> 131 | B134: Balanceo cada rueda | C134: 1 | D134: 68154 | E134: 12949.26 | F134: 81103.26
A135: =+A134+1 -> 132 | B135: Rotación de llantas | C135: 1 | D135: 73457 | E135: 13956.83 | F135: 87413.83
A136: =+A135+1 -> 133 | B136: Vulcanización llanta | C136: 1 | D136: 128399 | E136: 24395.81 | F136: 152794.81
A137: =+A136+1 -> 134 | B137: Cambio aceite y filtro | C137: 1 | D137: 94979 | E137: 18046.01 | F137: 113025.01
A138: =+A137+1 -> 135 | B138: Reparación general de motor | C138: 1 | D138: 8410834 | E138: 1598058.5 | F138: 10008892
A139: =+A138+1 -> 136 | B139: Sincronización | C139: 1 | D139: 591395 | E139: 112365.05 | F139: 703760.05
A140: =+A139+1 -> 137 | B140: Calibración válvulas | C140: 1 | D140: 970249 | E140: 184347.31 | F140: 1154596.3
A141: =+A140+1 -> 138 | B141: Cambio bomba agua | C141: 1 | D141: 1019662 | E141: 193735.78 | F141: 1213397.8
A142: =+A141+1 -> 139 | B142: Cambio bomba gasolina | C142: 1 | D142: 563991 | E142: 107158.29 | F142: 671149.29
A143: =+A142+1 -> 140 | B143: Cambio empaque múltiple de admisión | C143: 1 | D143: 481091 | E143: 91407.29 | F143: 572498.29
A144: =+A143+1 -> 141 | B144: Cambio correa o cadena de repartición | C144: 1 | D144: 7542874 | E144: 1433146.1 | F144: 8976020.1
A145: =+A144+1 -> 142 | B145: Cambio empaquetadura culata | C145: 1 | D145: 3736735 | E145: 709979.65 | F145: 4446714.7
... A205: =+A204+1 -> 202 | B205: Película de seguridad por vidrio c/uno | C205: 1 | D205: 94282 | E205: 17913.58 | F205: 112195.58
E207: TOTALES | G207: =SUM(G4:G205) -> 0 | H207: =SUM(H4:H205) -> 0 | I207: =SUM(I4:I205) -> 0

Sheet TOYOTA LC 200 2021 BLIND.
A1: CAMIONETA | C1: TOYOTA LC 200 2021 GASOLINA | G1: OFERTA PROPONENTE
C2: PRECIOS TECHO
A3: ITEM | B3: PREVENTIVO | C3: CANTIDAD | D3: VALOR UNITARIO | E3: IVA | F3: VALOR UNITARIO CON IVA INCLUIDO | G3: VALOR UNITARIO | H3: IVA | I3: VALOR UNITARIO CON IVA INCLUIDO
A4: 1 | B4: Aceite motor | C4: 1 | D4: 37000 | E4: 7030 | F4: 44030
A5: 2 | B5: Filtro aceite | C5: 1 | D5: 77874 | E5: 14796.06 | F5: 92670.06
A6: 3 | B6: Anillo tapón carter | C6: 1 | D6: 4217 | E6: 801.23 | F6: 5018.23
A7: 4 | B7: Filtro combustible | C7: 1 | D7: 213126 | E7: 40493.94 | F7: 253619.94
A8: 5 | B8: Filtro purificador(Aire) | C8: 1 | D8: 203630 | E8: 38689.7 | F8: 242319.7
A9: 6 | B9: Bujías | C9: 1 | D9: 69166 | E9: 13141.54 | F9: 82307.54
A10: =+A9+1 -> 7 | B10: Limpiador de inyectores | C10: 1 | D10: 75963 | E10: 14432.97 | F10: 90395.97
A11: =+A10+1 -> 8 | B11: Bobina | C11: 1 | D11: 461892 | E11: 87759.48 | F11: 549651.48
A12: =+A11+1 -> 9 | B12: Correa alternador o accesorios | C12: 1 | D12: 579855 | E12: 110172.45 | F12: 690027.45
A13: =+A12+1 -> 10 | B13: Bomba gasolina | C13: 1 | D13: 1896682 | E13: 360369.58 | F13: 2257051.6
A14: =+A13+1 -> 11 | B14: Juego casquetes biela | C14: 1 | D14: 185585 | E14: 35261.15 | F14: 220846.15
A15: =+A14+1 -> 12 | B15: Juego casquetes bancada | C15: 1 | D15: 319007 | E15: 60611.33 | F15: 379618.33
A16: =+A15+1 -> 13 | B16: Correa hidráulico dirección | C16: 1 | D16: 534462 | E16: 101547.78 | F16: 636009.78
A17: =+A16+1 -> 14 | B17: Juego válvulas de admisión | C17: 1 | D17: 1177123 | E17: 223653.37 | F17: 1400776.4
A18: =+A17+1 -> 15 | B18: Juego válvulas de escape | C18: 1 | D18: 1420414 | E18: 269878.66 | F18: 1690292.7
A19: =+A18+1 -> 16 | B19: Juego guias válvulas | C19: 1 | D19: 1044910 | E19: 198532.9 | F19: 1243442.9
A20: =+A19+1 -> 17 | B20: Juego sellos válvulas | C20: 1 | D20: 893578 | E20: 169779.82 | F20: 1063357.8
A21: =+A20+1 -> 18 | B21: Juego media lunas | C21: 1 | D21: 179297 | E21: 34066.43 | F21: 213363.43
... A128: =+A127+1 -> 125 | B128: Llanta | C128: 1 | D128: 1032150 | E128: 196108.5 | F128: 1228258.5
A129: 126 | B129: Alineación | C129: 1 | D129: 177237 | E129: 33675.03 | F129: 210912.03
A130: =+A129+1 -> 127 | B130: Balanceo cada rueda | C130: 1 | D130: 68154 | E130: 12949.26 | F130: 81103.26
A131: =+A130+1 -> 128 | B131: Rotación de llantas | C131: 1 | D131: 73457 | E131: 13956.83 | F131: 87413.83
A132: =+A131+1 -> 129 | B132: Vulcanización llanta | C132: 1 | D132: 128399 | E132: 24395.81 | F132: 152794.81
A133: =+A132+1 -> 130 | B133: Cambio aceite y filtro | C133: 1 | D133: 94979 | E133: 18046.01 | F133: 113025.01
A134: =+A133+1 -> 131 | B134: Reparación general de motor | C134: 1 | D134: 8520822 | E134: 1618956.2 | F134: 10139778
A135: =+A134+1 -> 132 | B135: Sincronización | C135: 1 | D135: 591395 | E135: 112365.05 | F135: 703760.05
A136: =+A135+1 -> 133 | B136: Calibración válvulas | C136: 1 | D136: 956521 | E136: 181738.99 | F136: 1138260
A137: =+A136+1 -> 134 | B137: Cambio bomba agua | C137: 1 | D137: 1125251 | E137: 213797.69 | F137: 1339048.7
A138: =+A137+1 -> 135 | B138: Cambio bomba gasolina | C138: 1 | D138: 584557 | E138: 111065.83 | F138: 695622.83
A139: =+A138+1 -> 136 | B139: Cambio empaque múltiple de admisión | C139: 1 | D139: 481091 | E139: 91407.29 | F139: 572498.29
A140: =+A139+1 -> 137 | B140: Cambio correa o cadena de repartición | C140: 1 | D140: 7598801 | E140: 1443772.2 | F140: 9042573.2
A141: =+A140+1 -> 138 | B141: Cambio empaquetadura culata | C141: 1 | D141: 3712221 | E141: 705321.99 | F141: 4417543
... A198: =+A197+1 -> 195 | B198: Película de seguridad por vidrio c/uno | C198: 1 | D198: 94583 | E198: 17970.77 | F198: 112553.77
E200: TOTALES | G200: =SUM(G4:G198) -> 0 | H200: =SUM(H4:H198) -> 0 | I200: =SUM(I4:I198) -> 0

Sheet CONSOLIDADO OFERTA
C5: ITEM | D5: REFERENCIAS | E5: TOTALES
C6: 1 | D6: TOYOTA HILUX RN85 - 1997 | E6: =+'TOYOTA HILUX 1997'!$I$195 -> 0
C7: =+C6+1 -> 2 | D7: TOYOTA PRADO VXM 2001 | E7: =+'TOYOTA PRADO VXM 2001'!$I$224 -> 0
C8: =+C7+1 -> 3 | D8: TOYOTA RAV-4 2003 | E8: =+'TOYOTA RAV4 - 2003'!$I$176 -> 0
C9: =+C8+1 -> 4 | D9: TOYOTA COROLLA 2004 | E9: =+'TOYOTA COROLLA 2004'!$I$203 -> 0
C10: =+C9+1 -> 5 | D10: TOYOTA PRADO VXM 2005 | E10: =+'TOYOTA PRADO VXM-2004-2005'!$I$224 -> 0
C11: =+C10+1 -> 6 | D11: TOYOTA HILUX 2005-2006-2007 | E11: =+'TOYOTA HILUX 2005-2006-2007'!$I$214 -> 0
C12: =+C11+1 -> 7 | D12: TOYOTA COROLLA 2007 | E12: =+'TOYOTA COROLLA 2007 BLIND.'!$I$203 -> 0
C13: =+C12+1 -> 8 | D13: TOYOTA UZJ 100 - 2007 | E13: =+'TOYOTA UZJ100-2007'!$I$213 -> 0
C14: =+C13+1 -> 9 | D14: TOYOTA PRADO SUMO - 2007/2008 | E14: =+'TOYOTA PRADO SUMO 2007-2008'!$I$224 -> 0
C15: =+C14+1 -> 10 | D15: TOYOTA PRADO DIESEL EUROPA - 2004/2006/2007/2008 | E15: =+'PRADO EUROPA 2004-06-07-08'!$I$201 -> 0
C16: =+C15+1 -> 11 | D16: TOYOTA 4RUNNER - 2007 | E16: =+'TOYOTA 4RUNNER 2007'!$I$215 -> 0
C17: =+C16+1 -> 12 | D17: TOYOTA PRADO VXM 2007-2008 | E17: =+'PRADO VXM 2007-2008'!$I$224 -> 0
C18: =+C17+1 -> 13 | D18: TOYOTA HILUX GASOLINA 2008-2009 | E18: =+'HILUX 2008-2009-GASOLINA'!$I$219 -> 0
C19: =+C18+1 -> 14 | D19: TOYOTA FORTUNER DIÉSEL 2009-2010 | E19: =+'FORTUNER 2009-2010 DIÉSEL'!$I$221 -> 0
C20: =+C19+1 -> 15 | D20: TOYOTA FORTUNER GASOLINA 2008-2009 | E20: =+'TOYOTA FORTUNER-2008-2009 GSNA'!$I$214 -> 0
C21: =+C20+1 -> 16 | D21: TOYOTA HILUX DIÉSEL 2008-2009 | E21: =+'HILUX DIÉSEL 2008-2009'!$I$212 -> 0
C22: =+C21+1 -> 17 | D22: TOYOTA LC 200 2011 | E22: =+'TOYOTA LC 200 2011 BLIND.'!$I$200 -> 0
C23: =+C22+1 -> 18 | D23: TOYOTA PRADO TX 2010-2011-2012-2013 | E23: =+'PRADO TX 2010-2011-2012-2013'!$I$207 -> 0
C24: =+C23+1 -> 19 | D24: TOYOTA 4RUNNER 2011 | E24: =+'TOYOTA 4RUNNER 2011'!$I$216 -> 0
C25: =+C24+1 -> 20 | D25: TOYOTA HILUX 2012 DIÉSEL | E25: =+'TOYOTA HILUX 2012 DIÉSEL'!$I$213 -> 0
C26: =+C25+1 -> 21 | D26: TOYOTA PRADO TX 2012-2013 DIÉSEL | E26: =+'PRADO TX 2012-2013 DIÉSEL'!$I$206 -> 0
C27: =+C26+1 -> 22 | D27: TOYOTA FORTUNER 2013-2014 DIESEL | E27: =+'FORTUNER 2013-2014 DIÉSEL'!$I$217 -> 0
C28: =+C27+1 -> 23 | D28: TOYOTA FORTUNER 2014 GASOLINA | E28: =+'TOYOTA FORTUNER 2014 GASOLINA'!$I$214 -> 0
C29: =+C28+1 -> 24 | D29: TOYOTA HILUX 2015 DIESEL | E29: =+'TOYOTA HILUX 2015 DIESEL'!$I$212 -> 0
C30: =+C29+1 -> 25 | D30: TOYOTA FZJ 2015 (MACHO) | E30: =+'TOYOTA FZJ 2015'!$I$211 -> 0
C31: =+C30+1 -> 26 | D31: TOYOTA PRADO TX 2016 GASOLINA | E31: =+'TOYOTA PRADO TX 2016 GASOLINA'!$I$207 -> 0
C32: =+C31+1 -> 27 | D32: TOYOTA RAV 4 2017 | E32: =+'TOYOTA RAV4-2017'!$I$191 -> 0
C33: =+C32+1 -> 28 | D33: TOYOTA PRADO TX 2016-2017 DIESEL | E33: =+'PRADO TX 2016-2017 DIESEL'!$I$206 -> 0
C34: =+C33+1 -> 29 | D34: TOYOTA FORTUNER 2018 GASOLINA | E34: =+'TOYOTA FORTUNER 2018 GASOLINA'!$I$214 -> 0
C35: =+C34+1 -> 30 | D35: TOYOTA HILUX 2018 DIESEL | E35: =+'TOYOTA HILUX 2018 DIESEL'!$I$202 -> 0
C36: =+C35+1 -> 31 | D36: TOYOTA LC 200 2018 GASOLINA | E36: =+'TOYOTA LC 200 2018 BLIND.'!$I$200 -> 0
C37: =+C36+1 -> 32 | D37: TOYOTA FORTUNER 2020 DIÉSEL | E37: =+'TOYOTA FORTUNER 2020 DIÉSEL'!$I$210 -> 0
C38: =+C37+1 -> 33 | D38: TOYOTA PRADO TX 2018-2020 GASOLINA | E38: =+'PRADO TX 2018-2020 GASOLINA'!$I$207 -> 0
C39: =+C38+1 -> 34 | D39: TOYOTA LC 200 2021 GASOLINA | E39: =+'TOYOTA LC 200 2021 BLIND.'!$I$200 -> 0
D41: TOTAL | E41: =SUM(E6:E40) -> 0
