Workbook
Name _AFC1: [1]INV!$A$25:$D$28
Name _AFC3: [1]INV!$F$25:$I$28
Name _AFC5: [1]INV!$K$25:$N$28
Name _BGC1: [1]INV!$A$5:$D$8
Name _BGC3: [1]INV!$F$5:$I$8
Name _BGC5: [1]INV!$K$5:$N$8
Name _CAC1: [1]INV!$A$19:$D$22
Name _CAC3: [1]INV!$F$19:$I$22
Name _CAC5: [1]INV!$K$19:$N$22
Name _Cod1: #REF!
Name _Cod1: #REF!
Name _Cod1: #REF!
Name _Cod1: #REF!
Name _MA2: #REF!
Name _MA2: #REF!
Name _MA2: #REF!
Name _MA2: #REF!
Name _Pa1: '[4]Paral. 1'!$E$1:$E$65536
Name _Pa1: '[4]Paral. 1'!$E$1:$E$65536
Name _Pa1: '[4]Paral. 1'!$E$1:$E$65536
Name _Pa1: '[4]Paral. 1'!$E$1:$E$65536
Name _Pa1: '[4]Paral. 1'!$E$1:$E$65536
Name _Pa1: '[4]Paral. 1'!$E$1:$E$65536
Name _Pa1: '[5]Paral. 1'!$E$1:$E$65536
Name _Pa2: '[4]Paral. 2'!$E$1:$E$65536
Name _Pa2: '[4]Paral. 2'!$E$1:$E$65536
Name _Pa2: '[4]Paral. 2'!$E$1:$E$65536
Name _Pa2: '[4]Paral. 2'!$E$1:$E$65536
Name _Pa2: '[4]Paral. 2'!$E$1:$E$65536
Name _Pa2: '[4]Paral. 2'!$E$1:$E$65536
Name _Pa2: '[5]Paral. 2'!$E$1:$E$65536
Name _Pa3: '[4]Paral. 3'!$E$1:$E$65536
Name _Pa3: '[4]Paral. 3'!$E$1:$E$65536
Name _Pa3: '[4]Paral. 3'!$E$1:$E$65536
Name _Pa3: '[4]Paral. 3'!$E$1:$E$65536
Name _Pa3: '[4]Paral. 3'!$E$1:$E$65536
Name _Pa3: '[4]Paral. 3'!$E$1:$E$65536
Name _Pa3: '[5]Paral. 3'!$E$1:$E$65536
Name _Pa4: [4]Paral.4!$E$1:$E$65536
Name _Pa4: [4]Paral.4!$E$1:$E$65536
Name _Pa4: [4]Paral.4!$E$1:$E$65536
Name _Pa4: [4]Paral.4!$E$1:$E$65536
Name _Pa4: [4]Paral.4!$E$1:$E$65536
Name _Pa4: [4]Paral.4!$E$1:$E$65536
Name _Pa4: [5]Paral.4!$E$1:$E$65536
Name _SBC1: [1]INV!$A$12:$D$15
Name _SBC3: [1]INV!$F$12:$I$15
Name _SBC5: [1]INV!$K$12:$N$15
Name a: #REF!
Name a: #REF!
Name a: #REF!
Name a: #REF!
Name A_IMPRESIÓN_IM: #REF!
Name A_IMPRESIÓN_IM: #REF!
Name A_IMPRESIÓN_IM: #REF!
Name A_IMPRESIÓN_IM: #REF!
Name aa: #REF!
Name aa: #REF!
Name aa: #REF!
Name aa: #REF!

Sheet Formulario 1
A2: SECRETARÍA DE SUMINISTROS Y SERVICIOS
A3: LICITACIÓN PÚBLICA -MENOR CUANTIA No. 29031
A5: OBJETO: MANTENIMIENTO Y REPARACIONES MENORES DE LA INFRAESTRUCTURA FÍSICA EDUCATIVA DE LAS COMUNAS 1, 2, 3 y 4
A7: Formulario No. 1
A8: CONTRATOS EN EJECUCIÓN
A10: CONTRATO NO. (1) | B10: OBJETO DEL CONTRATO | C10: CONTRATANTE | D10: FORMA DE EJECUCIÓN (2) | E10: % DE PARTICIPACION | F10: VALOR COP (3) | G10: PLAZO (MESES) (4) | H10: FECHA INICIO (dd/mm/aaaa) | I10: SUSPENSIONES (5)
I11: FECHA INICIO (dd/mm/aaaa) | J11: FECHA TERMINACIÓN (dd/mm/aaaa)
A22: (1) Contratos de obras civiles en ejecución, incluyendo los suspendidos y aquellos que no tengan acta de inicio. | G22: SI EL PROPONENTE NO TIENE CONTRATOS EN EJECUCIÓN, EN ESTE FORMULARIO DEBE DEJAR CONSTANCIA EXPRESA DE ESA CIRCUNSTANCIA
A23: (2) Indicar si el contrato se ejecuta en forma Individual (I), en Consorcio (C) o Unión Temporal (UT).
A24: (3) Valor total del contrato expresado en moneda legal colombiana.
A25: (4) Plazo total de contrato incluyendo las ampliaciones.
A26: (5) Si el contrato presenta mas de una suspensión deberán informarlas todas, Si a la fecha de cierre del presente proceso en contrato se encuentra suspendido no diligenciar la "Fecha de Terminación".
A29: El formulario debe ser diligenciado en su totalidad. En todo caso la evaluación se efectuara conforme lo dispuesto en el pliego.
A30: Para el caso de proponentes plurales se debe entregar formulario por cada uno de los integrantes
A32: ____________________________________
A33: Nombre del Proponente Individual o Integrante del Consorcio:
A36: ____________________________________ | E36: ____________________________________
A37: Firma representante legal del Oferente | E37: Firma del auditor o revisor fiscal
A38: Nombre: | E38: Nombre:
A39: Cargo: | E39: Cargo:
A40: Documento de Identidad: | E40: Documento de Identidad:

Sheet Formulario 1.1
A2: SECRETARÍA DE SUMINISTROS Y SERVICIOS
A3: ='Formulario 1'!A3:J3 -> LICITACIÓN PÚBLICA -MENOR CUANTIA No. 29031
A5: ='Formulario 1'!A5:J5 -> OBJETO: MANTENIMIENTO Y REPARACIONES MENORES DE LA INFRAESTRUCTURA FÍSICA EDUCATIVA DE LAS COMUNAS 1, 2, 3 y 4
A7: Formulario No. 1.1
A8: EXPERIENCIA DEL PROPONENTE PARA LA Cr
A11: CONTRATO No. (1) | B11: CONTRATANTE | C11: OBJETO DEL CONTRATO | D11: FORMA DE | E11: % DE | F11: VALOR DEL CONTRATO (3)
D12: EJECUCIÓN (2) | E12: PARTICIPACIÓN | F12: EN PESOS | G12: EN SMMLV
E21: TOTAL
A23: (1) Contratos relacionados con la actividad de la construcción - Segmento 72 Clasificador UNSPSC | D23: SALARIO MÍNIMO MENSUAL LEGAL (SMMLV)
D24: Año | E24: Valor | F24: Año | G24: Valor
A25: (2) Indicar si el contrato se ejecuta en forma Individual (I), en Consorcio (C) o Unión Temporal (UT). | D25: 1997 | E25: 172005 | F25: 2008 | G25: 461500
D26: 1998 | E26: 203826 | F26: 2009 | G26: 496900
A27: (3) Valor total del contrato, en Pesos (COP) y SMMLV a la fecha de TERMINACIÓN del contrato | D27: 1999 | E27: 236438 | F27: 2010 | G27: 515000
D28: 2000 | E28: 260106 | F28: 2011 | G28: 535600
D29: 2001 | E29: 286000 | F29: 2012 | G29: 566700
D30: 2002 | E30: 309000 | F30: 2013 | G30: 589500
A31: El formulario debe ser diligenciado en su totalidad. En todo caso la evaluación se efectuara conforme lo dispuesto en el pliego. | D31: 2003 | E31: 332000 | F31: 2014 | G31: 616000
D32: 2004 | E32: 358000 | F32: 2015 | G32: 644350
A33: Para el caso de proponentes plurales se debe entregar formulario por cada uno de los integrantes. | D33: 2005 | E33: 381500 | F33: 2016 | G33: 689454
D34: 2006 | E34: 408000 | F34: 2017 | G34: 737717
D35: 2007 | E35: 433700 | F35: 2018 | G35: 781242
D36: 2019 | E36: 828116 | F36: 2020 | G36: 877803
A38: ____________________________________ | D38: ____________________________________
A39: Firma representante legal del Oferente | D39: Firma del auditor o revisor fiscal
A40: Nombre: | D40: Nombre:
A41: Cargo: | D41: Cargo:
A42: Documento de Identidad: | D42: Documento de Identidad:

Sheet Formulario 1.2
A2: SECRETARÍA DE SUMINISTROS Y SERVICIOS
A3: ='Formulario 1'!A3:J3 -> LICITACIÓN PÚBLICA -MENOR CUANTIA No. 29031
A5: ='Formulario 1'!A5:J5 -> OBJETO: MANTENIMIENTO Y REPARACIONES MENORES DE LA INFRAESTRUCTURA FÍSICA EDUCATIVA DE LAS COMUNAS 1, 2, 3 y 4
A7: Formulario No. 1.2
A8: CAPACIDAD TÉCNICA - Cr
A10: No. | B10: Nombre del socio y/o profesional de la arquitectura, ingenieria o geologia | C10: Marcar con una X | E10: Profesión | F10: No. Matricula profecional | G10: Numero y año del contrato laboral o de prestacion de servicios profecionales | H10: Vigencia del Contrato
C11: Socio | D11: Empleado
A20: Para el caso de proponentes plurales se debe entregar formulario por cada uno de los integrantes.
A24: ____________________________________
A25: Nombre del Proponente Individual o Integrante del Consorcio:
A29: ____________________________________ | F29: ____________________________________
A30: Firma representante legal del Oferente | F30: Firma del auditor o revisor fiscal
A31: Nombre: | F31: Nombre:
A32: Cargo: | F32: Cargo:
A33: Documento de Identidad: | F33: Documento de Identidad:

Sheet Formulario 2
A2: SECRETARÍA DE SUMINISTROS Y SERVICIOS
A4: ='Formulario 1'!A3:J3 -> LICITACIÓN PÚBLICA -MENOR CUANTIA No. 29031
A6: ='Formulario 1'!A5:J5 -> OBJETO: MANTENIMIENTO Y REPARACIONES MENORES DE LA INFRAESTRUCTURA FÍSICA EDUCATIVA DE LAS COMUNAS 1, 2, 3 y 4
A8: Formulario No. 2
A9: EXPERIENCIA DEL PROPONENTE
A11: No. Del contrato en el RUP (No. Consecutivo o No. de Orden) (1) | B11: CONTRATO No. (2) | C11: OBJETO DEL CONTRATO | D11: CONTRATANTE | E11: FECHA DE INICIACIÓN (mes - año) | F11: FECHA DE TERMINACIÓN (3) (mes - año) | G11: FORMA DE EJECUCIÓN (4) | H11: VALOR DEL CONTRATO (5) | J11: CLASIFICACIÓN (6)
H12: EN PESOS (COP) | I12: EN SMMLV
A21: (1) Posición o ubicación del contrato, según el orden en que son relacionados los contratos reportados en el aparte EXPERIENCIA del RUP. | G21: SALARIO MÍNIMO MENSUAL LEGAL (SMMLV)
G22: Año | H22: Valor | I22: Año | J22: Valor
A23: (2) Contratos terminados y registrados en el RUP. | G23: 1997 | H23: 172005 | I23: 2008 | J23: 461500
A24: (3) Fecha de terminación. | G24: 1998 | H24: 203826 | I24: 2009 | J24: 496900
A25: (4) Indicar si el contrato se ejecutó en forma Individual (I), en Consorcio (C) o Unión Temporal (UT). | G25: 1999 | H25: 236438 | I25: 2010 | J25: 515000
A26: (5) Valor total del contrato, en Pesos (COP) y SMMLV a la fecha de TERMINACIÓN del contrato. | G26: 2000 | H26: 260106 | I26: 2011 | J26: 535600
A27: (6) Indicar las clasificaciones del contrato en el RUP según los códigos del Clasificador de Bienes y Servicios de las Naciones Unidas para estandarizar productos y servicios (UNSPSC), DEBE corresponder con las exigidas en el PLIEGO. | G27: 2001 | H27: 286000 | I27: 2012 | J27: 566700
G28: 2002 | H28: 309000 | I28: 2013 | J28: 589500
G29: 2003 | H29: 332000 | I29: 2014 | J29: 616000
A30: El formulario debe ser diligenciado en su totalidad. En todo caso la evaluación se efectuara conforme lo dispuesto en el pliego. | G30: 2004 | H30: 358000 | I30: 2015 | J30: 644350
G31: 2005 | H31: 381500 | I31: 2016 | J31: 689454
A32: Los contratos relacionados deben estar debidamente certificados | G32: 2006 | H32: 408000 | I32: 2017 | J32: 737717
G33: 2007 | H33: 433700 | I33: 2018 | J33: 781242
G34: 2019 | H34: 828116 | I34: 2020 | J34: 877803
A37: ____________________________________________ | E37: ____________________________________________
A38: Nombre del Proponente: | E38: Firma representante legal

Sheet Formulario 3
A2: MUNICIPIO DE MEDELLÍN
A3: SECRETARIA DE EDUCACION
A4: SUBSECRETARIA ADMINISTRATIVA
A5: UNIDAD DE INFRAESTRUCTURA
A7: Formulario No. 3
A8: CANTIDADES DE OBRA Y PRECIOS UNITARIOS
A9: =+'Formulario 1'!A5 -> OBJETO: MANTENIMIENTO Y REPARACIONES MENORES DE LA INFRAESTRUCTURA FÍSICA EDUCATIVA DE LAS COMUNAS 1, 2, 3 y 4
A10: Ubicación: Municipio de Medellín
A11: Plazo: 180 Dias calendario
A13: ITEM | B13: DESCRIPCION ACTIVIDAD | C13: UN. | D13: CANT. | E13: VR. UNITARIO | F13: VR. TOTAL
A14: 1 | B14: PRELIMINARES
A15: 1.3 | B15: ROCERÍA Y LIMPIEZA, Incluye cargue, transporte y botada de material en botaderos oficiales o donde indique la interventoría, hasta altura de la vegetación de 0,50 m, La rocería se realizará a ras de piso. Se utilizará guadaña o machete. | C15: m² | D15: 1 | F15: =+ROUND(D15*E15,0) -> 0
A16: 2 | B16: MOVIMIENTO DE TIERRA Y EXCAVACIONES
A17: 2.1 | B17: Excavacion a mano o a maquina en material heterogeneo (rocas hasta volumenes de 0.10) bajo cualquier grado de humedad, para estructuras (diferentes a pilas), para redes y obras complementarias. Incluye acarreo desde el sitio de excavación hasta el sitio de cargue.
A18: 2.1.1 | B18: De 0.00 a 2.00 mt. de profundidad. A mano | C18: m³ | D18: 1 | F18: =+ROUND(D18*E18,0) -> 0
A19: 2.1.3 | B19: De 2.00 a 4.00 mt. de profundidad. A mano | C19: m³ | D19: 1 | F19: =+ROUND(D19*E19,0) -> 0
A20: 2.2 | B20: Excavación para pilas en cualquier tipo de material heterogeneo, bajo cualquier grado de humedad, Incluye: molinete, entibados y/o lo que se requiera para su protección según diseño especifico y acarreo del material desde el sitio de excavación hasta el sitio de cargue.
A21: 2.2.1 | B21: De 0 a 2 mt. De profundidad | C21: m³ | D21: 1 | F21: =+ROUND(D21*E21,0) -> 0
A22: 2.2.2 | B22: De 2 a 4 mt. De profundidad | C22: m³ | D22: 1 | F22: =+ROUND(D22*E22,0) -> 0
A23: 2.2.3 | B23: De 4 a 6 mt. De profundidad | C23: m³ | D23: 1 | F23: =+ROUND(D23*E23,0) -> 0
A24: 2.2.4 | B24: De 6 a 8 mt. De profundidad | C24: m³ | D24: 1 | F24: =+ROUND(D24*E24,0) -> 0
A25: 2.3 | B25: Excavación en roca bajo cualquier grado de humedad y profundidad,donde se requiera para volumenes de roca individual que exedan los 0.35 m³. Incluye acarreo desde el sitio de la excavación hasta el sitio de cargue.
A26: 2.3.1 | B26: Metro cubico | C26: m³ | D26: 1 | F26: =+ROUND(D26*E26,0) -> 0
A27: 2.3.2 | B27: Excavación en roca cemento demoledor no explosivo CRAS. Incluye cemento demoledor a una dosificación de 7,2 kg por metro cubico, desembombe, cargue, transporte y botada a donde lo indique la interventoria. Se pagará como roca compacta. Se deben seguir las recomendaciones del productor y garantizar la aplicación de personal autorizado. se medira como roca compacta | C27: m³ | D27: 1 | F27: =+ROUND(D27*E27,0) -> 0
A28: 2.5 | B28: Construccion de llenos compactados, incluye cargue del material desde el sitio de descargue hasta el sitio a llenar.
A29: 2.5.1 | B29: Construccion de llenos compactados con arenilla
A30: 2.5.1.1 | B30: En brechas, apiques y zonas abiertas | C30: m³ | D30: 1 | F30: =+ROUND(D30*E30,0) -> 0
A31: 2.5.4 | B31: Construccion de llenos compactados con material de subbase granular. | C31: m³ | D31: 1 | F31: =+ROUND(D31*E31,0) -> 0
A32: 2.5.6 | B32: En material seleccionado proveniente de las excavaciones, incluye transporte local. | C32: m³ | D32: 1 | F32: =+ROUND(D32*E32,0) -> 0
A33: 2.6 | B33: Cargue y botada de escombros provenientes de explanaciones y excavaciones, medido en sitio compactado. El precio incluye el factor de expansión de material | C33: m³ | D33: 1 | F33: =+ROUND(D33*E33,0) -> 0
A34: 2.10 | B34: Jornal oficial. Incluye:Herramienta menor | C34: dia | D34: 1 | F34: =+ROUND(D34*E34,0) -> 0
A35: 2.11 | B35: Jornal ayudante.Incluye: herramienta menor | C35: dia | D35: 1 | F35: =+ROUND(D35*E35,0) -> 0
A36: 3 | B36: DEMOLICIONES Y RETIROS
A37: 3.1 | B37: Demoliciones y retiros con o sin revoques o enchapes, incluyen cargue y botada de escombros a cualquier distancia. Los retiros incluyen las demoliciones necesarias, los elementos adosados, la proteccion de elementos existentes si fuere necesario, la recuperacion y el trasporte de los materiales reutilizables hasta el sitio determinado por la interventoria
A38: 3.1.1 | B38: Demolicion de muros en ladrillo e = 10cm. | C38: m² | D38: 1 | F38: =+ROUND(D38*E38,0) -> 0
A39: 3.1.2 | B39: Demolicion de muros en ladrillo e = 15/20 cm. | C39: m² | D39: 1 | F39: =+ROUND(D39*E39,0) -> 0
A40: 3.1.3 | B40: Demolicion de muros en bloque de concreto e=10/15 cm. | C40: m² | D40: 1 | F40: =+ROUND(D40*E40,0) -> 0
A41: 3.1.4 | B41: Demolicion de muros en bloque de concreto e=20 cm. | C41: m² | D41: 1 | F41: =+ROUND(D41*E41,0) -> 0
A42: 3.1.5 | B42: Demoliciones de mamposteria en bloque de concreto y o adobe de espesor 15 cm. Incluye: demolición de revoque , demolición de enchapes , cargue y botada de escombros | C42: m² | D42: 1 | F42: =+ROUND(D42*E42,0) -> 0
A43: 3.1.6 | B43: Demoliciones de mamposteria en adobe de espesor 10 cm. Incluye: demolición de revoque , demolición de enchapes , cargue y botada de escombros | C43: m² | D43: 1 | F43: =+ROUND(D43*E43,0) -> 0
...

Sheet Formulario 4
A2: SECRETARÍA DE SUMINISTROS Y SERVICIOS
A3: ='Formulario 1'!A3:J3 -> LICITACIÓN PÚBLICA -MENOR CUANTIA No. 29031
A5: ='Formulario 1'!A5:J5 -> OBJETO: MANTENIMIENTO Y REPARACIONES MENORES DE LA INFRAESTRUCTURA FÍSICA EDUCATIVA DE LAS COMUNAS 1, 2, 3 y 4
A7: Formulario No. 4
A8: INFORMACIÓN SOBRE MULTAS Y SANCIONES
A10: No. | B10: CONTRATO | C10: RESOLUCION MULTA | D10: FECHA EJECUTORIADA LA MULTA | E10: RESOLUCION SANCIÓN | F10: FECHA EJECUTORIADA LA SANCIÓN
A22: Para el caso de proponentes plurales se debe entregar formulario por cada uno de los integrantes.
A26: Nombre del Proponente: | E26: Firma representante legal

Sheet Formulario 5
A7: SECRETARÍA DE SUMINISTROS Y SERVICIOS
A8: LICITACIÓN PÚBLICA - MENOR CUANTIA No.
A10: Objeto:
A12: Formulario No. 5
A13: ANÁLISIS DE PRECIOS UNITARIOS
A15: PROYECTO:
A17: DESCRIPCION DEL ÍTEM: | E17: ITEM:
E18: UNIDAD:
A20: I. EQUIPO
A21: Descripción | C21: Tipo | D21: Tarifa/Hora | E21: Rendimiento | F21: Valor Unit.
E26: Sub-Total
A27: II. MATERIALES EN OBRA
A28: Descripción | C28: Unidad | D28: Precio Unit. | E28: Cantidad | F28: Valor Unit.
E33: Sub-Total
A34: III. TRANSPORTES
A35: Material | B35: Vol., peso o cant. | C35: Distancia | D35: m3-km | E35: Tarifa | F35: Valor Unit.
E39: Sub-Total
A40: IV. MANO DE OBRA
A41: Trabajador | C41: Jornal | D41: Prestaciones | E41: Rendimiento | F41: Valor Unit.
E46: Sub-Total
D48: Total Costo Directo
A49: V. COSTOS INDIRECTOS
A50: Descripción | E50: Porcentaje | F50: Valor Total
A51: ADMINISTRACION
A52: UTILIDAD
E53: Sub-Total
B55: PRECIO UNITARIO TOTAL (aproximado al peso)

Sheet Formulario 6
B2: =+'Formulario 1'!A5 -> OBJETO: MANTENIMIENTO Y REPARACIONES MENORES DE LA INFRAESTRUCTURA FÍSICA EDUCATIVA DE LAS COMUNAS 1, 2, 3 y 4
B3: Formulario No. 6
B4: CALCULO DEL A.I.U
B6: Personal | C6: Cantidad | D6: Dedicación | E6: Salario o valor | F6: F.P | G6: Plazo | H6: Vr. Total
B7: Residente | C7: 1 | D7: 1 | G7: 6 | H7: =+C7*D7*E7*F7*G7 -> 0
B8: Tecnólogo en Obras Civiles | C8: 1 | D8: 1 | G8: 6 | H8: =+C8*D8*E8*F8*G8 -> 0
B9: Tecnólogo ambiental | C9: 1 | D9: 0.5 | G9: 6 | H9: =+C9*D9*E9*F9*G9 -> 0
B10: Tecnólogo Residente en Seguridad y Salud en el Trabajo – SST | C10: 1 | D10: 1 | G10: 6 | H10: =+C10*D10*E10*F10*G10 -> 0
B11: Otros gastos
B12: Transporte Vehiculo para transporte de materiales a obra | C12: 1 | D12: mes | G12: 6 | H12: =+C12*E12*G12 -> 0
B13: Auxilio para gastos de papeleria, fotocopias y otros | C13: 1 | D13: mes | G13: 6 | H13: =+C13*E13*G13 -> 0
B14: Computadores licenciados, incluye impresora y conexión a internet | C14: 1 | D14: mes | G14: 6 | H14: =+C14*E14*G14 -> 0
B15: Valla contractual | C15: 3 | D15: global | G15: 1 | H15: =+C15*E15*G15 -> 0
B16: Impuestos
B17: Gravamen a los movimientos Financieros -GMF- Art. 115 ET Deducible 50% | C17: 0.002 | H17: 1722481
B18: Estampilla Procultura - Capítulo XVIII Acuerdo 066/2017 | C18: 0.005
B19: Estampilla Adulto Mayor - Capítulo XIX Acuerdo 066/2017 | C19: 0.02
B20: Estampilla U de A - Capítulo XX Acuerdo 066/2017 | C20: 0.01 | H20: 8612406
B21: Contribución Especial Artículo 11 del Decreto 399 de 2011 y el inciso 2 del artículo 6 de la Ley 1106 de 2006. | C21: 0.05 | H21: 43062032
B22: Subtotal costos Administración | H22: =+SUM(H7:H21) -> 53396919
B23: Costo directo de obra
B24: Porcentaje Administración | G24: =+ROUND(H22/H23,4) -> #DIV/0! | H24: =+G24*H23 -> #DIV/0!
B25: Imprevisto | G25: 0 | H25: 0
B26: Utilidad | H26: =+G26*H23 -> 0
B27: SUBTOTAL A.U | G27: =SUM(G24:G26) -> #DIV/0! | H27: =+H26+H22 -> 53396919
B28: Otros costos indirectos
B29: Legalización Contrato
B30: Pólizas - Gasto Reembolsable- | H30: 5155917
B31: Impacto Comunitario
B32: Inversión Ambiental - Socioambiental - Valor fijo- | H32: 29103243
B33: TOTAL COSTO DE OBRA | H33: =+H24+H23+H26+H30+H32 -> #DIV/0!
B35: Nota 1: El valor definido por la Entidad por concepto de pólizas es un valor fijo e inmodificable, que deberá ser comprobable y demostrable por el contratista en el momento de presentar la primer factura o documento equivalente, para el efecto, el contratista deberá presentar los documentos que soporten el valor facturado, que en todo caso no podrá ser superior al valor presupuestado por la Entidad.
B37: Nota 2: El valor de la Inversión ambiental es un valor fijo, corresponden al monto estimado con el cual se atenderán las actividades correspondientes. La entidad pagara al contratista el valor establecido en el presente formulario siempre y cuando pueda evidenciarse las actividades descritas en el pliego de condiciones.
A41: Nombre del Proponente: | E41: Firma representante legal

Sheet Formulario 8
A8: SECRETARÍA DE SUMINISTROS Y SERVICIOS
A9: LICITACION PUBLICA - MENOR CUANTIA No.
A11: Objeto:
A13: Formulario No. 8
A14: INFORMACIÓN FINANCIERA EXTRANJEROS
A16: INFORMACIÓN FINANCIERA CON LA ÚLTIMA FECHA DE CORTE DEL PAÍS CORRESPONDIENTE
A18: Oferente:
A20: Resumen de cuentas de Balance General y Estado de Resultados que sean necesarias para verificar los requisitos habilitantes de capacidad financiera y organizacional
B22: Oferente singular | C22: Consorcio o Unión Temporal
A23: Cuenta | B23: (Valores en pesos colombianos) | C23: Integrante N.1 (Valores en pesos colombianos) | D23: Integrante N.2 (Valores en pesos colombianos) | E23: Integrante N.3 (Valores en pesos colombianos)
A24: BALANCE GENERAL
A25: Efectivo
A26: Activo Corriente
A27: Activo Total
A28: Pasivo Corriente
A29: Pasivo Total
A30: Patrimonio
A31: ESTADO DE RESULTADOS
A32: Utilidad Operacional
A33: Gastos de Intereses
A34: Mayor ingreso operacional en los últimos cinco (5) años anteriores a la fecha de corte
A39: ________________________________ | C39: ________________________________
A40: FIRMA REPRESENTANTE LEGAL | C40: FIRMA REVISOR FISCAL
C41: T.P
A43: ________________________________
A44: FIRMA CONTADOR
A45: T.P
A46: ________________________________
A47: FIRMA CONTADOR
A48: T.P

Sheet Formulario 9
A2: SECRETARÍA DE SUMINISTROS Y SERVICIOS
A3: ='Formulario 1'!A3:J3 -> LICITACIÓN PÚBLICA -MENOR CUANTIA No. 29031
A5: ='Formulario 1'!A5:J5 -> OBJETO: MANTENIMIENTO Y REPARACIONES MENORES DE LA INFRAESTRUCTURA FÍSICA EDUCATIVA DE LAS COMUNAS 1, 2, 3 y 4
A7: Formulario No. 9
A8: FACTOR PRESTACIONAL
A10: 1 | B10: SALARIO BÁSICO | C10: 1
A12: 2 | B12: Prestaciones Sociales
A13: 2.1 | B13: Prima Anual
A14: 2.2 | B14: Cesantías anual
A15: 2.3 | B15: Interés a las cesantías
A16: 2.4 | B16: Vacaciones
A17: 2.5 | B17: Salud
A18: 2.6 | B18: Pension
A19: 2.7 | B19: Subsidio familiar
A20: 2.8 | B20: SENA
A21: 2.9 | B21: ICBF
A22: 2.10 | B22: ARL
A23: 2.11 | B23: Otras Prestaciones (se deben indicar claramente cuales son y para la etapa de ejecución aportar los respectivos certificados del pago de las misma)
B24: Subtotal 2 - Prestaciones Sociales | C24: =SUM(C12:C23) -> 0
B26: FACTOR PRESTACIONAL | C26: =C10+C24 -> 1
A29: Diligenciarlos los item 2.5, 2.8 y 2.9 de acuerdo con la característica tributaria, respecto de SI es Responsable o No de los Parafiscales de SENA, ICBF y de SALUD.
A31: El factor prestacional indicado debe ser el mismo utilizado en el calculo del AU- Formulario 6
A36: Nombre del Proponente: | C36: Firma representante legal
