Workbook
Name secores: #REF!
Name secores: #REF!
Name secores: #REF!
Name sectores: #REF!
Name sectores: #REF!
Name sectores: #REF!

Sheet EBS PIC 2024 
A1: MUNICIPIOS | B1: ITEM | C1: RECURSO HUMANO EQUIPO BASICO DE SALUD TERRITORIAL | D1: CANTIDAD | E1: VALOR UNITARIO | F1: DURACION | G1: VALOR TOTAL | H1: PRIORIZACION DIMENSION | I1: VALOR RECURSO HUMANO | J1: RECURSO HUMANO COMPLEMENTARIO | K1: JORNADA DE SALUD | L1: TRANSPORTE | M1: Medicamento:Iermectina | N1: TOTAL COSTOS DIRECTOS | O1: VALOR COSTO INDIRECTO | P1: TOTAL | Q1: % COSTO INDIRECTO
A2: SUCRE | B2: 1 | C2: PROFESIONAL EN MEDCINA | D2: 1 | E2: 4945875 | F2: 1.3333333 | G2: =D2*E2*F2 -> 6594500 | H2: VIDA SALUDABLE Y CONDICIONES NO TRASMISIBLES | I2: =SUM(G2:G6) -> 36908805 | J2: =G8 -> 6378235.2 | K2: =G12 -> 6800000 | L2: =G13 -> 7733333.3 | N2: =SUM(I2:L16) -> 57820374 | O2: =G15 -> 3945924 | P2: =SUM(N2:O16) -> 61766298
C3: PROFESIONAL EN ENFERMERIA | D3: 1 | E3: 4945875 | F3: 1.3333333 | G3: =D3*E3*F3 -> 6594500
C4: PROFESIONAL DE ODONTOLOGIA | D4: 1 | E4: 3986397 | F4: 1.3333333 | G4: =D4*E4*F4 -> 5315196
C5: PSICOLOGA/TRABAJADORA SOCIAL | D5: 1 | E5: 3986397 | F5: 1.3333333 | G5: =D5*E5*F5 -> 5315196 | H5: VIDA SALUDABLE Y CONDICIONES NO TRASMISIBLES
C6: AUX. ENFERMERIA/AUX SALUD PUBLICA /LIDER COMUNITARIO | D6: 4 | E6: 2454265 | F6: 1.3333333 | G6: =D6*E6*F6 -> 13089413 | H6: VIDA SALUDABLE Y ENFERMEDADES TRASMISIBLES (EDA-IRA)
C7: Recurso humano EB Complementario (Valor promedio para los 25 municipios)
C8: INGENIERO AMBIENTAL Y SANITARIO | D8: Promedio | E8: =H416 -> 4783676.4 | F8: 1.3333333 | G8: =E8*F8 -> 6378235.2
C9: MEDICO VETERINARIO | D9: Promedio
C10: NUTRICIONISTA | D10: Promedio
C11: Total Recurso humano | G11: =SUM(G2:G9) -> 43287040
B12: 2 | C12: Jornada de Salud | D12: 1 | E12: 6800000 | F12: 1 | G12: =D12*E12*F12 -> 6800000
B13: 3 | C13: Transporte | D13: 1 | E13: 5800000 | F13: 1.3333333 | G13: =E13*F13 -> 7733333.3
C14: Total Costos directos | G14: =SUM(G11:G13) -> 57820374
B15: 4 | C15: Costos indirectos (AU) | E15: % | F15: =G15*100/G14 -> 6.8244526 | G15: 3945924
C16: TOTAL | G16: =SUM(G14:G15) -> 61766298
A17: MUNICIPIOS | B17: ITEM | C17: RECURSO HUMANO EQUIPO DE SALUD TERRITORIAL | D17: CANTIDAD | E17: VALOR UNITARIO | F17: DURACION | G17: VALOR TOTAL | H17: PRIORIZACION DIMENSION
A18: GUARANDA | B18: 1 | C18: PROFESIONAL EN MEDCINA | D18: 1 | E18: 4945875 | F18: 1.3333333 | G18: =D18*E18*F18 -> 6594500 | H18: VIDA SALUDABLE Y CONDICIONES NO TRASMISIBLES | I18: =SUM(G18:G22) -> 36908805 | J18: =G24 -> 6378235.2 | K18: =G28 -> 6800000 | L18: =G29 -> 7733333.3 | N18: =SUM(I18:L32) -> 57820374 | O18: =G31 -> 3945924 | P18: =SUM(N18:O32) -> 61766298
C19: PROFESIONAL EN ENFERMERIA | D19: 1 | E19: 4945875 | F19: 1.3333333 | G19: =D19*E19*F19 -> 6594500
C20: PROFESIONAL DE ODONTOLOGIA | D20: 1 | E20: 3986397 | F20: 1.3333333 | G20: =D20*E20*F20 -> 5315196
C21: PSICOLOGA/TRABAJADORA SOCIAL | D21: 1 | E21: 3986397 | F21: 1.3333333 | G21: =D21*E21*F21 -> 5315196 | H21: VIDA SALUDABLE Y CONDICIONES NO TRASMISIBLES
C22: AUX. ENFERMERIA/AUX SALUD PUBLICA /LIDER COMUNITARIO | D22: 4 | E22: 2454265 | F22: 1.3333333 | G22: =D22*E22*F22 -> 13089413 | H22: VIDA SALUDABLE Y ENFERMEDADES TRASMISIBLES (EDA-IRA)
C23: Recurso humano EB Complementario (Valor promedio para los 25 municipios)
C24: INGENIERO AMBIENTAL Y SANITARIO | D24: Promedio | E24: =H416 -> 4783676.4 | F24: 1.3333333 | G24: =E24*F24 -> 6378235.2
C25: MEDICO VETERINARIO | D25: Promedio
C26: NUTRICIONISTA | D26: Promedio
C27: Total Recurso humano | G27: =SUM(G18:G25) -> 43287040
B28: 2 | C28: Jornada de Salud | D28: 1 | E28: 6800000 | F28: 1 | G28: =D28*E28*F28 -> 6800000
B29: 3 | C29: Transporte | D29: 1 | E29: 5800000 | F29: 1.3333333 | G29: =E29*F29 -> 7733333.3
C30: Total Costos directos | G30: =SUM(G27:G29) -> 57820374
B31: 4 | C31: Costos indirectos (AU) | E31: % | F31: =G31*100/G30 -> 6.8244526 | G31: 3945924
C32: TOTAL | G32: =SUM(G30:G31) -> 61766298
A33: MUNICIPIOS | B33: ITEM | C33: RECURSO HUMANO EQUIPO DE SALUD TERRITORIAL | D33: CANTIDAD | E33: VALOR UNITARIO | F33: DURACION | G33: VALOR TOTAL | H33: PRIORIZACION DIMENSION
A34: MAJAGUAL | B34: 1 | C34: PROFESIONAL EN MEDCINA | D34: 1 | E34: 4945875 | F34: 1.3333333 | G34: =D34*E34*F34 -> 6594500 | H34: VIDA SALUDABLE Y CONDICIONES NO TRASMISIBLES | I34: =SUM(G34:G38) -> 36908805 | J34: =G40 -> 6378235.2 | K34: =G44 -> 6800000 | L34: =G45 -> 7733333.3 | N34: =SUM(I34:L48) -> 57820374 | O34: =G47 -> 3945924 | P34: =SUM(N34:O48) -> 61766298
C35: PROFESIONAL EN ENFERMERIA | D35: 1 | E35: 4945875 | F35: 1.3333333 | G35: =D35*E35*F35 -> 6594500
C36: PROFESIONAL DE ODONTOLOGIA | D36: 1 | E36: 3986397 | F36: 1.3333333 | G36: =D36*E36*F36 -> 5315196
C37: PSICOLOGA/TRABAJADORA SOCIAL | D37: 1 | E37: 3986397 | F37: 1.3333333 | G37: =D37*E37*F37 -> 5315196 | H37: SEXUALIDAD Y DERECHOS SEXUALES Y REPRODUCTIVOS
C38: AUX. ENFERMERIA/AUX SALUD PUBLICA /LIDER COMUNITARIO | D38: 4 | E38: 2454265 | F38: 1.3333333 | G38: =D38*E38*F38 -> 13089413 | H38: GESTION DIFIERNCIA POBLACIONES VULNERABLES( DISCAPACIDAD)
C39: Recurso humano EB Complementario (Valor promedio para los 25 municipios)
C40: INGENIERO AMBIENTAL Y SANITARIO | D40: Promedio | E40: =H416 -> 4783676.4 | F40: 1.3333333 | G40: =E40*F40 -> 6378235.2
C41: MEDICO VETERINARIO | D41: Promedio
C42: NUTRICIONISTA | D42: Promedio
C43: Total Recurso humano | G43: =SUM(G34:G41) -> 43287040
B44: 2 | C44: Jornada de Salud | D44: 1 | E44: 6800000 | F44: 1 | G44: =D44*E44*F44 -> 6800000
B45: 3 | C45: Transporte | D45: 1 | E45: 5800000 | F45: 1.3333333 | G45: =D45*E45*F45 -> 7733333.3
C46: Total Costos directos | G46: =SUM(G43:G45) -> 57820374
B47: 4 | C47: Costos indirectos | E47: % | F47: =G47*100/G46 -> 6.8244526 | G47: 3945924
C48: TOTAL | G48: =SUM(G46:G47) -> 61766298
A49: MUNICIPIOS | B49: ITEM | C49: RECURSO HUMANO EQUIPO DE SALUD TERRITORIAL | D49: CANTIDAD | E49: VALOR UNITARIO | F49: DURACION | G49: VALOR TOTAL | H49: PRIORIZACION DIMENSION
A50: SAN MARCOS | B50: 1 | C50: PROFESIONAL EN MEDCINA | D50: 1 | E50: 4945875 | F50: 1.3333333 | G50: =D50*E50*F50 -> 6594500 | H50: VIDA SALUDABLE Y CONDICIONES NO TRASMISIBLES | I50: =SUM(G50:G54) -> 36908805 | J50: =G56 -> 6378235.2 | K50: =G60 -> 6800000 | L50: =G61 -> 7733333.3 | N50: =SUM(I50:L64) -> 57820374 | O50: =G63 -> 3945924 | P50: =SUM(N50:O64) -> 61766298
C51: PROFESIONAL EN ENFERMERIA | D51: 1 | E51: 4945875 | F51: 1.3333333 | G51: =D51*E51*F51 -> 6594500
C52: PROFESIONAL DE ODONTOLOGIA | D52: 1 | E52: 3986397 | F52: 1.3333333 | G52: =D52*E52*F52 -> 5315196
C53: PSICOLOGA/TRABAJADORA SOCIAL | D53: 1 | E53: 3986397 | F53: 1.3333333 | G53: =D53*E53*F53 -> 5315196 | H53: SEXUALIDAD Y DERECHOS SEXUALES Y REPRODUCTIVOS
C54: AUX. ENFERMERIA/AUX SALUD PUBLICA /LIDER COMUNITARIO | D54: 4 | E54: 2454265 | F54: 1.3333333 | G54: =D54*E54*F54 -> 13089413 | H54: GESTION DIFERENCIAL POBLACIONES VULNERABLES( NNA) | Q54: =O50*100/N50 -> 6.8244526
C55: Recurso humano EB Complementario (Valor promedio para los 25 municipios)
C56: INGENIERO AMBIENTAL Y SANITARIO | D56: Promedio | E56: =H416 -> 4783676.4 | F56: 1.3333333 | G56: =E56*F56 -> 6378235.2
C57: MEDICO VETERINARIO | D57: Promedio
C58: NUTRICIONISTA | D58: Promedio
C59: Total Recurso humano | G59: =SUM(G50:G57) -> 43287040
B60: 2 | C60: Jornada de Salud | D60: 1 | E60: 6800000 | F60: 1 | G60: =D60*E60*F60 -> 6800000
B61: 3 | C61: Transporte | E61: 5800000 | F61: 1.3333333 | G61: =E61*F61 -> 7733333.3
C62: Total Costos directos | G62: =SUM(G59:G61) -> 57820374
B63: 4 | C63: Costos indirectos | E63: % | F63: =G63*100/G62 -> 6.8244526 | G63: 3945924
C64: TOTAL | G64: =SUM(G62:G63) -> 61766298
A65: MUNICIPIOS | B65: ITEM | C65: RECURSO HUMANO EQUIPO DE SALUD TERRITORIAL | D65: CANTIDAD | E65: VALOR UNITARIO | F65: DURACION | G65: VALOR TOTAL | H65: PRIORIZACION DIMENSION
A66: SAN BENITO ABAD | B66: 1 | C66: PROFESIONAL EN MEDCINA | D66: 1 | E66: 4945875 | F66: 1.3333333 | G66: =D66*E66*F66 -> 6594500 | H66: VIDA SALUDABLE Y CONDICIONES NO TRASMISIBLES | I66: =SUM(G66:G70) -> 36908805 | J66: =G72 -> 6378235.2 | K66: =G76 -> 6800000 | L66: =G77 -> 7733333.3 | M66: =G78 -> 18750000 | N66: =SUM(I66:M81) -> 76570374 | O66: =G80 -> 3945924 | P66: =SUM(N66:O81) -> 80516298
C67: PROFESIONAL EN ENFERMERIA | D67: 1 | E67: 4945875 | F67: 1.3333333 | G67: =D67*E67*F67 -> 6594500
C68: PROFESIONAL DE ODONTOLOGIA | D68: 1 | E68: 3986397 | F68: 1.3333333 | G68: =D68*E68*F68 -> 5315196
C69: PSICOLOGA/TRABAJADORA SOCIAL | D69: 1 | E69: 3986397 | F69: 1.3333333 | G69: =D69*E69*F69 -> 5315196 | H69: SEXUALIDAD Y DERECHOS SEXUALES Y REPRODUCTIVOS
C70: AUX. ENFERMERIA/AUX SALUD PUBLICA /LIDER COMUNITARIO | D70: 4 | E70: 2454265 | F70: 1.3333333 | G70: =D70*E70*F70 -> 13089413 | H70: VIDA SALUDABLE Y ENFERMEDADES TRASMISIBLES (EDA-IRA)/ GESTION DIFERENCIAL POBLACIONES VULNERABLES( NNA)
C71: Recurso humano EB Complementario (Valor promedio para los 25 municipios)
C72: INGENIERO AMBIENTAL Y SANITARIO | D72: Promedio | E72: =H416 -> 4783676.4 | F72: 1.3333333 | G72: =E72*F72 -> 6378235.2
C73: MEDICO VETERINARIO | D73: Promedio
C74: NUTRICIONISTA | D74: Promedio
C75: Total Recurso humano | G75: =SUM(G66:G73) -> 43287040
B76: 2 | C76: Jornada de Salud | D76: 1 | E76: 6800000 | F76: 1 | G76: =D76*E76*F76 -> 6800000
B77: 3 | C77: Transporte | E77: 5800000 | F77: 1.3333333 | G77: =E77*F77 -> 7733333.3
B78: 4 | C78: Medicamento:Ivermectina | D78: 750 | E78: 25000 | F78: 1 | G78: =D78*E78 -> 18750000 | H78: =G78/4 -> 4687500
C79: Total Costos directos | G79: =SUM(G75:G78) -> 76570374
B80: 5 | C80: Costos indirectos | E80: % | F80: =G80*100/G79 -> 5.1533299 | G80: 3945924
C81: TOTAL | G81: =SUM(G79:G80) -> 80516298
A82: MUNICIPIOS | B82: ITEM | C82: RECURSO HUMANO EQUIPO DE SALUD TERRITORIAL | D82: CANTIDAD | E82: VALOR UNITARIO | F82: DURACION | G82: VALOR TOTAL | H82: PRIORIZACION DIMENSION
A83: CAIMITO | B83: 1 | C83: PROFESIONAL EN MEDCINA | D83: 1 | E83: 4945875 | F83: 1.3333333 | G83: =D83*E83*F83 -> 6594500 | H83: VIDA SALUDABLE Y CONDICIONES NO TRASMISIBLES | I83: =SUM(G83:G87) -> 36908805 | J83: =G89 -> 6378235.2 | K83: =G93 -> 6800000 | L83: =G94 -> 7733333.3 | N83: =SUM(I83:L97) -> 57820374 | O83: =G96 -> 3945924 | P83: =SUM(N83:O87) -> 61766298
C84: PROFESIONAL EN ENFERMERIA | D84: 1 | E84: 4945875 | F84: 1.3333333 | G84: =D84*E84*F84 -> 6594500
C85: PROFESIONAL DE ODONTOLOGIA | D85: 1 | E85: 3986397 | F85: 1.3333333 | G85: =D85*E85*F85 -> 5315196
C86: PSICOLOGA/TRABAJADORA SOCIAL | D86: 1 | E86: 3986397 | F86: 1.3333333 | G86: =D86*E86*F86 -> 5315196 | H86: SEXUALIDAD Y DERECHOS SEXUALES Y REPRODUCTIVOS
C87: AUX. ENFERMERIA/AUX SALUD PUBLICA /LIDER COMUNITARIO | D87: 4 | E87: 2454265 | F87: 1.3333333 | G87: =D87*E87*F87 -> 13089413 | H87: VIDA SALUDABLE Y ENFERMEDADES TRASMISIBLES (TB-LEPRA) | Q87: =O83*100/N83 -> 6.8244526
C88: Recurso humano EB Complementario (Valor promedio para los 25 municipios)
C89: INGENIERO AMBIENTAL Y SANITARIO | D89: Promedio | E89: =H416 -> 4783676.4 | F89: 1.3333333 | G89: =E89*F89 -> 6378235.2
C90: MEDICO VETERINARIO | D90: Promedio
C91: NUTRICIONISTA | D91: Promedio
C92: Total Recurso humano | G92: =SUM(G83:G90) -> 43287040
B93: 2 | C93: Jornada de Salud | D93: 1 | E93: 6800000 | F93: 1 | G93: =D93*E93*F93 -> 6800000
B94: 3 | C94: Transporte | E94: 5800000 | F94: 1.3333333 | G94: =E94*F94 -> 7733333.3
C95: Total Costos directos | G95: =SUM(G92:G94) -> 57820374
B96: 4 | C96: Costos indirectos | E96: % | F96: =G96*100/G95 -> 6.8244526 | G96: 3945924
C97: TOTAL | G97: =SUM(G95:G96) -> 61766298
A98: MUNICIPIOS | B98: ITEM | C98: RECURSO HUMANO EQUIPO DE SALUD TERRITORIAL | D98: CANTIDAD | E98: VALOR UNITARIO | F98: DURACION | G98: VALOR TOTAL | H98: PRIORIZACION DIMENSION
A99: GALERAS | B99: 1 | C99: PROFESIONAL EN MEDCINA | D99: 1 | E99: 4945875 | F99: 1.3333333 | G99: =D99*E99*F99 -> 6594500 | H99: VIDA SALUDABLE Y CONDICIONES NO TRASMISIBLES | I99: =SUM(G99:G103) -> 36908805 | J99: =G105 -> 6378235.2 | K99: =G109 -> 6800000 | L99: =G110 -> 7733333.3 | N99: =SUM(I99:L103) -> 57820374 | O99: =G112 -> 3945924 | P99: =SUM(N99:O103) -> 61766298
C100: PROFESIONAL EN ENFERMERIA | D100: 1 | E100: 4945875 | F100: 1.3333333 | G100: =D100*E100*F100 -> 6594500
...

Sheet PLAN DE ACCION PIC-2
A2: Eje Estrateagico (PTS 2022-2031) | B2: Componenete | C2: Actividades programadas | D2: Municipios Priorzados
A4: Eje_4-Atención Primaria en Salud | B4: Salud Ambiental | C4: Realizar campañas de educacion en salud en temas de manejo adecuado del agua para consumo humano, manejo de residuos, manejo de sustancias quimicas y estrategia de producción limpia en el entorno hogar | D4: 25 municipios priorizados: San Benito Abad, San Marcos, San Onfre, Majagual, Guaranda, Sucre, Caimito, Morroa, Ovejas, Toluviejo, Tolu, Sampues, Galeras , Betulia Sincé, Corozal, Coloso, Chalan, Buenavista, Coveñas, San Antonio de Palmito ,El Roble, La Union, Los Palmiitos y San Pedro
A5: Eje_4-Atención Primaria en Salud | B5: Zoonosis | C5: Educación y sensibilización de las acciones de promoción y prevención de los riesgos zoonóticos orientados al cuidado de la salud de las personas, familias y comunidades, con participación de la sociedad civil, con enfoque étnico e intercultural y con enfoque diferencia | D5: 25 municipios priorizados: San Benito Abad, San Marcos, San Onfre, Majagual, Guaranda, Sucre, Caimito, Morroa, Ovejas, Toluviejo, Tolu, Sampues, Galeras , Betulia Sincé, Corozal, Coloso, Chalan, Buenavista, Coveñas, San Antonio de Palmito ,El Roble, La Union, Los Palmiitos y San Pedro
A6: Eje_4-Atención Primaria en Salud | B6: Enfermedades Cronicas No Transmisbles | C6: Desarrollar estrategias de educacion y comunicaion a la comunidad sobre promocion y manteniminto de la salud en las ECNT con enfoque diferencial y etnocultural | D6: 25 municipios priorizados: San Benito Abad, San Marcos, San Onfre, Majagual, Guaranda, Sucre, Caimito, Morroa, Ovejas, Toluviejo, Tolu, Sampues, Galeras , Betulia Sincé, Corozal, Coloso, Chalan, Buenavista, Coveñas, San Antonio de Palmito ,El Roble, La Union, Los Palmiitos y San Pedro
A7: Eje_4-Atención Primaria en Salud | B7: Enfermedades Cronicas No Transmisbles | C7: Desarrollar estrategias de educacion y comunicaion a la comunidad sobre los factores de riesgo, factores protectores e intervenciones de detección temprana y protección específica por los canceres priorizados en el territorio con enfoque diferncial y etnocultura | D7: 25 municipios priorizados: San Benito Abad, San Marcos, San Onfre, Majagual, Guaranda, Sucre, Caimito, Morroa, Ovejas, Toluviejo, Tolu, Sampues, Galeras , Betulia Sincé, Corozal, Coloso, Chalan, Buenavista, Coveñas, San Antonio de Palmito ,El Roble, La Union, Los Palmiitos y San Pedro
A8: Eje_4-Atención Primaria en Salud | B8: Salud Laboral | C8: Realizar campañas educativas en promoción de la Salud y Prevención de Riesgos Laborales dirigido a los trabajadores del sector informal de la economía de acuerdo a los riesgos a los cuales se encuentra expuestos por su actividad económica y prevencion y erradicacion del trabajo infantil | D8: 25 municipios priorizados: San Benito Abad, San Marcos, San Onfre, Majagual, Guaranda, Sucre, Caimito, Morroa, Ovejas, Toluviejo, Tolu, Sampues, Galeras , Betulia Sincé, Corozal, Coloso, Chalan, Buenavista, Coveñas, San Antonio de Palmito ,El Roble, La Union, Los Palmiitos y San Pedro
A9: Eje_4-Atención Primaria en Salud | B9: Salud Mental | C9: Realizar estrategias de Educacion y Comiunicacion para la promoción de la salud mental, prevención de la conducta suicida y el consumo de SPA. | D9: 25 municipios priorizados: San Benito Abad, San Marcos, San Onfre, Majagual, Guaranda, Sucre, Caimito, Morroa, Ovejas, Toluviejo, Tolu, Sampues, Galeras , Betulia Sincé, Corozal, Coloso, Chalan, Buenavista, Coveñas, San Antonio de Palmito ,El Roble, La Union, Los Palmiitos y San Pedro
A10: Eje_4-Atención Primaria en Salud | B10: Salud Nutricional | C10: Desarrollar acciones de Educacion y comunicacion para la promocion de la salud nuticional con el enfoque del derecho humano a la alimentacion,con enfoque diferencial y ecnocultural | D10: 25 municipios priorizados: San Benito Abad, San Marcos, San Onfre, Majagual, Guaranda, Sucre, Caimito, Morroa, Ovejas, Toluviejo, Tolu, Sampues, Galeras , Betulia Sincé, Corozal, Coloso, Chalan, Buenavista, Coveñas, San Antonio de Palmito ,El Roble, La Union, Los Palmiitos y San Pedro
A11: Eje_4-Atención Primaria en Salud | B11: Emergentes Reemergente:IRA-EDA | C11: Desarrollar en los 25 municipios acciones de Educacion y comunicacion en salud para la prevención, manejo y control de la IRA/EDA, con enfoque diferencial y ecnocultural | D11: 25 municipios priorizados: San Benito Abad, San Marcos, San Onfre, Majagual, Guaranda, Sucre, Caimito, Morroa, Ovejas, Toluviejo, Tolu, Sampues, Galeras , Betulia Sincé, Corozal, Coloso, Chalan, Buenavista, Coveñas, San Antonio de Palmito ,El Roble, La Union, Los Palmiitos y San Pedro
A12: Eje_4-Atención Primaria en Salud | B12: Emergentes Reemergente: TB-LEPRA | C12: Desarrollar en los 25 municipios acciones de Educacion y comunicacion en salud para la prevención, manejo y control de la Tuberculosis y Lepra, con enfoque diferencial y ecnocultural | D12: 25 municipios priorizados: San Benito Abad, San Marcos, San Onfre, Majagual, Guaranda, Sucre, Caimito, Morroa, Ovejas, Toluviejo, Tolu, Sampues, Galeras , Betulia Sincé, Corozal, Coloso, Chalan, Buenavista, Coveñas, San Antonio de Palmito ,El Roble, La Union, Los Palmiitos y San Pedro
A13: Eje_4-Atención Primaria en Salud | B13: Programa Ampliado de Inmunizaciones-PAI | C13: Realizar jornadas de salud intensificando las estrategias de vacunación que garanticen el acceso a la Vacunación sin Barreras en los municipios priorizados del departamento de Sucre | D13: 25 municipios priorizados: San Benito Abad, San Marcos, San Onfre, Majagual, Guaranda, Sucre, Caimito, Morroa, Ovejas, Toluviejo, Tolu, Sampues, Galeras , Betulia Sincé, Corozal, Coloso, Chalan, Buenavista, Coveñas, San Antonio de Palmito ,El Roble, La Union, Los Palmiitos y San Pedro
A14: Eje_4-Atención Primaria en Salud | B14: Programa Ampliado de Inmunizaciones-PAI | C14: Desarrollar en los 25 municipios acciones de Educacion y comunicacion en salud para la prevecion de enfermedades inmunoprevenibles, con enfoque diferencial y ecnocultural | D14: 25 municipios priorizados: San Benito Abad, San Marcos, San Onfre, Majagual, Guaranda, Sucre, Caimito, Morroa, Ovejas, Toluviejo, Tolu, Sampues, Galeras , Betulia Sincé, Corozal, Coloso, Chalan, Buenavista, Coveñas, San Antonio de Palmito ,El Roble, La Union, Los Palmiitos y San Pedro
... A19: Eje_4-Atención Primaria en Salud | B19: Participacion Social en Salud-PARSO | C19: Desarrollar estrategia de educacion y comunicacion en salud para la promoción de una cultura de la salud, la inclusión social, el autocuidado, el derecho a la salud de los ciudadanos y en procesos de participacion y control social | D19: 25 municipios priorizados: San Benito Abad, San Marcos, San Onfre, Majagual, Guaranda, Sucre, Caimito, Morroa, Ovejas, Toluviejo, Tolu, Sampues, Galeras , Betulia Sincé, Corozal, Coloso, Chalan, Buenavista, Coveñas, San Antonio de Palmito ,El Roble, La Union, Los Palmiitos y San Pedro

Sheet EBS COMP
B6: EQUIPO BASICO DE SALUD COMPLEMENTARIO
B7: MUNICIPIOS | C7: ITEM | D7: RECURSO HUMANO EQUIPO DE SALUD TERRITORIAL | E7: CANTIDAD | F7: VALOR MENSUAL | G7: VALOR TOTAL | H7: VALOR PROMEDIO MENSUAL X MUNICIPIO
B8: 25 MUNICIPIOS PRIPRIZADOS | C8: 1 | D8: MEDICO VETERINARIO | E8: 12 | F8: 3986397 | G8: =E8*F8 -> 47836764 | H8: =G11/25 -> 4783676.4
C9: 2 | D9: INGENIERO AMBIENTAL Y/O SANITARIO | E9: 13 | F9: 3986397 | G9: =E9*F9 -> 51823161
C10: 3 | D10: NUTRICIONISTA | E10: 5 | F10: 3986397 | G10: =E10*F10 -> 19931985
B11: SUBTOTAL EQUIPOS BASICO DE SALUD COMPLEMENTARIO | G11: =G8+G9+G10 -> 119591910

Sheet MEDIC IVERMECTINA
B2: ANALLISIS DE COSTO INSUMOS PIC
B3: PROYECTO: IMPLEMENTACIÓN DE ACCIONES EN SALUD PÚBLICA PARA EL DESARROLLO DE LAS INTERVENCIONES INDIVIDUALES Y COLECTIVAS PARA LA AFECTACIÓN POSITIVA DE LOS DETERMINANTES SOCIALES DE LA SALUD, CON ENFOQUE FAMILIAR Y DE ATENCIÓN PRIMARIA EN SALUD VIGENCIA 2024 EN EL DEPARTAMENTO DE SUCRE
B4: Componente | C4: NINOS, NIÑAS Y ADOLESCENTES
B5: Programa | C5: Salud Publica
B6: Producto | C6: 1905054 - Servicio de promoción de la salud
B7: Indicador de Producto | C7: 190505400 - Estrategias de promoción de la salud implementadas
B8: Meta de Resultado | C8: Reducir la mortalidad en menores de 5 años por infección respiratoria aguda (ira) en el territorio desde un valor de línea base de 7,7 en el año 2023 a un valor esperado de 6,5 al final del cuatrienio.
B9: Rubro Presupuetal | C9: 2.3.2.02.02.009 - Servicios para la comunidad, sociales y personales 2.3.2.02.02.008 - Servicios prestados a las empresas y servicios de producción
B10: ITEM 1. | C10: PIC EDUCACION
B11: ITEM | C11: DESCRIPCION | D11: UNIDAD DE MEDIDA | E11: CANTIDAD | F11: V. PROMEDIO | G11: V.TOTAL
B12: 1 | C12: Ivermectina gotas 0,6% frasco de 5m | D12: Frasco | E12: 3200 | F12: 25000 | G12: 80000000
B13: DISTRIBUCION
B14: Municipios | C14: No. de Niñ@s de 7 a 15 años | D14: No. Frasco Ivermectina | E14: V. Promedio | F14: Valor x municipio
B15: San Benito Abad | C15: 3000 | D15: =C15/4 -> 750 | E15: 25000 | F15: =D15*E15 -> 18750000
B16: San Antonio de Palmito | C16: 2000 | D16: =C16/4 -> 500 | F16: =D16*E15 -> 12500000
B17: Ovejas | C17: 2000 | D17: =C17/4 -> 500 | F17: =D17*E15 -> 12500000
B18: Tolu | C18: 3000 | D18: =C18/4 -> 750 | F18: =D18*E15 -> 18750000
B19: Toluviejo | C19: 2800 | D19: =C19/4 -> 700 | F19: =D19*E15 -> 17500000
B20: TOTAL | C20: =SUM(C15:C19) -> 12800 | D20: =C20/4 -> 3200 | F20: =D20*E15 -> 80000000

Sheet SUCRE
A1: ANEXO TÉCNICO DEL CONTRATO DEL PLAN DE INTERVENCIONES COLECTIVAS VIGENCIA 2024
A2: TERRITORIO: MUNICIPIO DE SUCRE
A3: No. de Microterritorio | B3: No. de Hogares | C3: Dimensión (PTS 2020-2023) | D3: Componenete | E3: Actividades programadas | F3: CATEGORIA | G3: Lugar de Ejecución | I3: Población Objeto (No. de personas y momento de curso de vida) | K3: Cantidad a ejecutar | L3: Valor Unitario | M3: Valor Total | N3: Perfil del Talento humano del EBS | O3: No. Equipo Básico
F4: CATEGORIA RES 518/15 | G4: Ámbito territorial (Res 3202/16) | H4: Entornos (Res 3202/16) | I4: Población sujeto (Res 3280 de 2018) | J4: Momentos del curso de vida (Res 3202/16) | O4: 1 | P4: ='EBS PIC 2024 '!K419 -> 0
A5: MICROTERRITORIO 1 (De acuerdo a los criterios de priorización) Ubicación: Corregimiento Arboleda 277 hogares, Naranjal 165 hogares, total 442 hogares | B5: 375 | C5: Eje_4-Atención Primaria en Salud | D5: Salud Ambiental | E5: Realizar campañas de educacion en salud en temas de manejo adecuado del agua para consumo humano, manejo de residuos, manejo de sustancias quimicas y estrategia de producción limpia en el entorno hogar | F5: Educacion | G5: Rural | H5: Comunitario | I5: Comunidad en general | J5: Infancia, Adolescencia, Juventud, adultez y vejez | K5: 1 | L5: 911078 | M5: =K5*L5 -> 911078 | N5: Ingeniero Ambietal y/o Sanitario | P5: ='EBS PIC 2024 '!G14 -> 57820374 | Q5: =P4+P5 -> 57820374 | R5: =Q5/4 -> 14455093 | S5: =R5/14 -> 1032506.7
C6: Eje_4-Atención Primaria en Salud | D6: Zoonosis | E6: Educación y sensibilización de las acciones de promoción y prevención de los riesgos zoonóticos orientados al cuidado de la salud de las personas, familias y comunidades, con participación de la sociedad civil, con enfoque étnico e intercultural y con enfoque diferencia | F6: Educación y Comunicación | G6: Rural | H6: Comunitario | I6: Comunidad en general | J6: Infancia, Adolescencia, Juventud, adultez y vejez | K6: 1 | L6: 911078 | M6: =K6*L6 -> 911078 | N6: Medico Veterinario
C7: Eje_4-Atención Primaria en Salud | D7: Enfermedades Cronicas No Transmisbles | E7: Desarrollar estrategias de educacion y comunicaion a la comunidad sobre promocion y manteniminto de la salud en las ECNT con enfoque diferencial y etnocultural | F7: Educación y Comunicación | G7: Rural | H7: Comunitario | I7: Comunidad en general | J7: Infancia, Adolescencia, Juventud, adultez y vejez | K7: 1 | L7: 911079.44 | M7: =K7*L7 -> 911079.44 | N7: Enfermera/Medico /Auxiliar de Enfermeria
C8: Eje_4-Atención Primaria en Salud | D8: Enfermedades Cronicas No Transmisbles | E8: Desarrollar estrategias de educacion y comunicaion a la comunidad sobre los factores de riesgo, factores protectores e intervenciones de detección temprana y protección específica por los canceres priorizados en el territorio con enfoque diferncial y etnocultura | F8: Educación y Comunicación | G8: Rural | H8: Comunitario | I8: Comunidad en general | J8: Infancia, Adolescencia, Juventud, adultez y vejez | K8: 1 | L8: 911078 | M8: =K8*L8 -> 911078 | N8: Enfermera/Medico /Auxiliar de Enfermeria
C9: Eje_4-Atención Primaria en Salud | D9: Salud Laboral | E9: Realizar campañas educativas en promoción de la Salud y Prevención de Riesgos Laborales dirigido a los trabajadores del sector informal de la economía de acuerdo a los riesgos a los cuales se encuentra expuestos por su actividad económica y prevencion y erradicacion del trabajo infantil | F9: Educación y Comunicación | G9: Rural y Urbano | H9: Comunitario | I9: Comunidad en general | J9: Infancia, Adolescencia, Juventud, adultez y vejez | K9: 1 | L9: 911078 | M9: =K9*L9 -> 911078 | N9: Enfermera/Medico /Auxiliar de Enfermeria | R9: =120/4 -> 30
C10: Eje_4-Atención Primaria en Salud | D10: Salud Mental | E10: Realizar estrategias de Educacion y Comiunicacion para la promoción de la salud mental, prevención de la conducta suicida y el consumo de SPA. | F10: Educacion y comunicación | G10: Rural | H10: Hogar | I10: Comunidad en general | J10: adolescencia, juventud, adultez | K10: 1 | L10: 911078 | M10: =K10*L10 -> 911078 | N10: Psicologa/Trabajo social
C11: Eje_4-Atención Primaria en Salud | D11: Salud Nutricional | E11: Desarrollar acciones de Educacion y comunicacion para la promocion de la salud nuticional con el enfoque del derecho humano a la alimentacion,con enfoque diferencial y ecnocultural | F11: Educacion y comunicación | G11: Rural | H11: Comunitario | I11: Comunidad en general | J11: Adolescencia, juventud, adultez | K11: 1 | L11: 911078 | M11: =K11*L11 -> 911078 | N11: Enfermera/Medico /Auxiliar de Enfermeria
C12: Eje_4-Atención Primaria en Salud | D12: Emergentes Reemergente:IRA-EDA | E12: Desarrollar en los 25 municipios acciones de Educacion y comunicacion en salud para la prevención, manejo y control de la IRA/EDA, con enfoque diferencial y ecnocultural | F12: Educacion y comunicación | G12: Rural | H12: Comunitario | I12: Comunidad en general | J12: Infancia, Adolescencia, Juventud, adultez y vejez | K12: 1 | L12: 911078 | M12: =K12*L12 -> 911078 | N12: Psicologa/Trabajo social
C13: Eje_4-Atención Primaria en Salud | D13: Emergentes Reemergente: TB-LEPRA | E13: Desarrollar en los 25 municipios acciones de Educacion y comunicacion en salud para la prevención, manejo y control de la Tuberculosis y Lepra, con enfoque diferencial y ecnocultural | F13: Educacion y comunicación | G13: Rural | H13: Comunitario | I13: Comunidad en general | J13: Infancia, Adolescencia, Juventud, adultez y vejez | K13: 1 | L13: 911078 | M13: =K13*L13 -> 911078 | N13: Enfermera/Medico /Auxiliar de Enfermeria
C14: Eje_4-Atención Primaria en Salud | D14: Programa Ampliado de Inmunizaciones-PAI | E14: Realizar jornadas de salud intensificando las estrategias de vacunación que garanticen el acceso a la Vacunación sin Barreras en los municipios priorizados del departamento de Sucre | F14: Jornada de salud | G14: Rural | H14: Comunitario | I14: Comunidad en general | J14: Infancia, Adolescencia, Juventud, adultez y vejez | K14: 1 | L14: 1700000 | M14: =K14*L14 -> 1700000 | N14: Enfermera/Medico /Auxiliar de Enfermeria
C15: Eje_4-Atención Primaria en Salud | D15: Programa Ampliado de Inmunizaciones-PAI | E15: Desarrollar en los 25 municipios acciones de Educacion y comunicacion en salud para la prevecion de enfermedades inmunoprevenibles, con enfoque diferencial y ecnocultural | F15: Educacion y comunicación | G15: Rural | H15: Comunitario | I15: Comunidad en general | J15: Primera infancia, infancia, adolescencia, juventud, adultez y vejez | K15: 1 | L15: 911078 | M15: =K15*L15 -> 911078 | N15: Enfermera/Medico /Auxiliar de Enfermeria
C16: Eje_4-Atención Primaria en Salud | D16: Enfermedades Transmitidas por Vectores-ETV | E16: Dessarrollar acciones de educacion en 22 municipios mediante dialogos de saberes, con el fin de generar habilidades, para la apropiación y generación de hábitos protectores, requeridos para la corresponsabilidad y el cuidado de las personas, familias y comunidades para evitar la exposición a vectores biológicos y el control de los mismos en los diferentes entornos y detección y manejo oportuno de signos de alarma para las ETV. | F16: Educacion y comunicación | G16: Rural | H16: Comunitario | I16: Comunidad en general | J16: Primera infancia, infancia, adolescencia, juventud, adultez y vejez | K16: 1 | L16: 911078 | M16: =K16*L16 -> 911078 | N16: Enfermera/Medico /Auxiliar de Enfermeria
C17: Eje_2-Pueblos y comunidades étnicas y campesinas, mujeres, sectores LGBTIQ+ y otras poblaciones por condición y/o situación | D17: Niños, Niñas y Adolescentes | E17: Realizar educacion para la prevención y atención de infecciones parasitarias que afectan a los NNA(Geolmintiasis, pediculosis, escabiosis, teniasis y cisticercosis), en 22 municipios priorizados. | F17: Educacion y comunicación | G17: Rural | H17: Comunitario | I17: Comunidad en general | J17: Infancia, Adolescencia | K17: 1 | L17: 911078 | M17: =K17*L17 -> 911078 | N17: Auxiliar de Enfermeria
C18: Eje_2-Pueblos y comunidades étnicas y campesinas, mujeres, sectores LGBTIQ+ y otras poblaciones por condición y/o situación | D18: Poblaciones Vulnerables | E18: Realizar estrategias de educacion y comunicación en salud para la promoción de una cultura de la salud, la inclusión social, el autocuidado, el derecho a la salud con enfoque diferencial y etnocultural para los pueblos indigenas ,NARP, victimas del conflicto armado, las cobijadas por sentencias y adultos mayores | F18: Educacion y comunicación | G18: Rural | H18: Comunitario | I18: Comunidad en general | J18: Infancia, Adolescencia, Juventud, adultez y vejez | K18: 1 | L18: 911078 | M18: =K18*L18 -> 911078 | N18: Psicologa/Trabajo social
C19: Eje_4-Atención Primaria en Salud | D19: Participacion Social en Salud-PARSO | E19: Desarrollar estrategia de educacion y comunicacion en salud para la promoción de una cultura de la salud, la inclusión social, el autocuidado, el derecho a la salud de los ciudadanos y en procesos de participacion y control social | F19: Educacion y comunicación | G19: Rural | H19: Comunitario | I19: Comunidad en general | J19: Infancia, Adolescencia, Juventud, adultez y vejez | K19: 1 | L19: 911078 | M19: =K19*L19 -> 911078 | N19: Psicologa/Trabajo social
A20: MICROTERRITORIO 2 (De acuerdo a los criterios de priorización) Ubicación: Corregimiento Malambo 210 hogares, Montería 96 hogares, Isla del Coco 107 hogares, total 409 hogares | B20: 390 | C20: Eje_4-Atención Primaria en Salud | D20: Salud Ambiental | E20: Realizar campañas de educacion en salud en temas de manejo adecuado del agua para consumo humano, manejo de residuos, manejo de sustancias quimicas y estrategia de producción limpia en el entorno hogar | F20: Educacion | G20: Rural | H20: Comunitario | I20: Comunidad en general | J20: Infancia, Adolescencia, Juventud, adultez y vejez | K20: 1 | L20: 911078 | M20: =K20*L20 -> 911078 | N20: Ingeniero Ambietal y/o Sanitario
C21: Eje_4-Atención Primaria en Salud | D21: Zoonosis | E21: Educación y sensibilización de las acciones de promoción y prevención de los riesgos zoonóticos orientados al cuidado de la salud de las personas, familias y comunidades, con participación de la sociedad civil, con enfoque étnico e intercultural y con enfoque diferencia | F21: Educación y Comunicación | G21: Rural | H21: Comunitario | I21: Comunidad en general | J21: Infancia, Adolescencia, Juventud, adultez y vejez | K21: 1 | L21: 911078 | M21: =K21*L21 -> 911078 | N21: Medico Veterinario
C22: Eje_4-Atención Primaria en Salud | D22: Enfermedades Cronicas No Transmisbles | E22: Desarrollar estrategias de educacion y comunicaion a la comunidad sobre promocion y manteniminto de la salud en las ECNT con enfoque diferencial y etnocultural | F22: Educación y Comunicación | G22: Rural | H22: Comunitario | I22: Comunidad en general | J22: Infancia, Adolescencia, Juventud, adultez y vejez | K22: 1 | L22: 911079.44 | M22: =K22*L22 -> 911079.44 | N22: Enfermera/Medico /Auxiliar de Enfermeria
C23: Eje_4-Atención Primaria en Salud | D23: Enfermedades Cronicas No Transmisbles | E23: Desarrollar estrategias de educacion y comunicaion a la comunidad sobre los factores de riesgo, factores protectores e intervenciones de detección temprana y protección específica por los canceres priorizados en el territorio con enfoque diferncial y etnocultura | F23: Educación y Comunicación | G23: Rural | H23: Comunitario | I23: Comunidad en general | J23: Infancia, Adolescencia, Juventud, adultez y vejez | K23: 1 | L23: 911078 | M23: =K23*L23 -> 911078 | N23: Enfermera/Medico /Auxiliar de Enfermeria
C24: Eje_4-Atención Primaria en Salud | D24: Salud Laboral | E24: Realizar campañas educativas en promoción de la Salud y Prevención de Riesgos Laborales dirigido a los trabajadores del sector informal de la economía de acuerdo a los riesgos a los cuales se encuentra expuestos por su actividad económica y prevencion y erradicacion del trabajo infantil | F24: Educación y Comunicación | G24: Rural y Urbano | H24: Comunitario | I24: Comunidad en general | J24: Infancia, Adolescencia, Juventud, adultez y vejez | K24: 1 | L24: 911078 | M24: =K24*L24 -> 911078 | N24: Enfermera/Medico /Auxiliar de Enfermeria
C25: Eje_4-Atención Primaria en Salud | D25: Salud Mental | E25: Realizar estrategias de Educacion y Comiunicacion para la promoción de la salud mental, prevención de la conducta suicida y el consumo de SPA. | F25: Educacion y comunicación | G25: Rural | H25: Hogar | I25: Comunidad en general | J25: adolescencia, juventud, adultez | K25: 1 | L25: 911078 | M25: =K25*L25 -> 911078 | N25: Psicologa/Trabajo social
C26: Eje_4-Atención Primaria en Salud | D26: Salud Nutricional | E26: Desarrollar acciones de Educacion y comunicacion para la promocion de la salud nuticional con el enfoque del derecho humano a la alimentacion,con enfoque diferencial y ecnocultural | F26: Educacion y comunicación | G26: Rural | H26: Comunitario | I26: Comunidad en general | J26: Adolescencia, juventud, adultez | K26: 1 | L26: 911078 | M26: =K26*L26 -> 911078 | N26: Enfermera/Medico /Auxiliar de Enfermeria
C27: Eje_4-Atención Primaria en Salud | D27: Emergentes Reemergente:IRA-EDA | E27: Desarrollar en los 25 municipios acciones de Educacion y comunicacion en salud para la prevención, manejo y control de la IRA/EDA, con enfoque diferencial y ecnocultural | F27: Educacion y comunicación | G27: Rural | H27: Comunitario | I27: Comunidad en general | J27: Infancia, Adolescencia, Juventud, adultez y vejez | K27: 1 | L27: 911078 | M27: =K27*L27 -> 911078 | N27: Psicologa/Trabajo social
C28: Eje_4-Atención Primaria en Salud | D28: Emergentes Reemergente: TB-LEPRA | E28: Desarrollar en los 25 municipios acciones de Educacion y comunicacion en salud para la prevención, manejo y control de la Tuberculosis y Lepra, con enfoque diferencial y ecnocultural | F28: Educacion y comunicación | G28: Rural | H28: Comunitario | I28: Comunidad en general | J28: Infancia, Adolescencia, Juventud, adultez y vejez | K28: 1 | L28: 911078 | M28: =K28*L28 -> 911078 | N28: Enfermera/Medico /Auxiliar de Enfermeria
C29: Eje_4-Atención Primaria en Salud | D29: Programa Ampliado de Inmunizaciones-PAI | E29: Realizar jornadas de salud intensificando las estrategias de vacunación que garanticen el acceso a la Vacunación sin Barreras en los municipios priorizados del departamento de Sucre | F29: Jornada de salud | G29: Rural | H29: Comunitario | I29: Comunidad en general | J29: Infancia, Adolescencia, Juventud, adultez y vejez | K29: 1 | L29: 1700000 | M29: =K29*L29 -> 1700000 | N29: Enfermera/Medico /Auxiliar de Enfermeria
C30: Eje_4-Atención Primaria en Salud | D30: Programa Ampliado de Inmunizaciones-PAI | E30: Desarrollar en los 25 municipios acciones de Educacion y comunicacion en salud para la prevecion de enfermedades inmunoprevenibles, con enfoque diferencial y ecnocultural | F30: Educacion y comunicación | G30: Rural | H30: Comunitario | I30: Comunidad en general | J30: Primera infancia, infancia, adolescencia, juventud, adultez y vejez | K30: 1 | L30: 911078 | M30: =K30*L30 -> 911078 | N30: Enfermera/Medico /Auxiliar de Enfermeria
C31: Eje_4-Atención Primaria en Salud | D31: Enfermedades Transmitidas por Vectores-ETV | E31: Dessarrollar acciones de educacion en 22 municipios mediante dialogos de saberes, con el fin de generar habilidades, para la apropiación y generación de hábitos protectores, requeridos para la corresponsabilidad y el cuidado de las personas, familias y comunidades para evitar la exposición a vectores biológicos y el control de los mismos en los diferentes entornos y detección y manejo oportuno de signos de alarma para las ETV. | F31: Educacion y comunicación | G31: Rural | H31: Comunitario | I31: Comunidad en general | J31: Primera infancia, infancia, adolescencia, juventud, adultez y vejez | K31: 1 | L31: 911078 | M31: =K31*L31 -> 911078 | N31: Enfermera/Medico /Auxiliar de Enfermeria
C32: Eje_2-Pueblos y comunidades étnicas y campesinas, mujeres, sectores LGBTIQ+ y otras poblaciones por condición y/o situación | D32: Niños, Niñas y Adolescentes | E32: Realizar educacion para la prevención y atención de infecciones parasitarias que afectan a los NNA(Geolmintiasis, pediculosis, escabiosis, teniasis y cisticercosis), en 22 municipios priorizados. | F32: Educacion y comunicación | G32: Rural | H32: Comunitario | I32: Comunidad en general | J32: Infancia, Adolescencia | K32: 1 | L32: 911078 | M32: =K32*L32 -> 911078 | N32: Auxiliar de Enfermeria
... C34: Eje_4-Atención Primaria en Salud | D34: Participacion Social en Salud-PARSO | E34: Desarrollar estrategia de educacion y comunicacion en salud para la promoción de una cultura de la salud, la inclusión social, el autocuidado, el derecho a la salud de los ciudadanos y en procesos de participacion y control social | F34: Educacion y comunicación | G34: Rural | H34: Comunitario | I34: Comunidad en general | J34: Infancia, Adolescencia, Juventud, adultez y vejez | K34: 1 | L34: 911078 | M34: =K34*L34 -> 911078 | N34: Psicologa/Trabajo social
A35: MICROTERRITORIO 3 (De acuerdo a los criterios de priorización) Ubicación: Corregimiento Isla Grande 123 hogares, Congreso 239 hogares, total 359 hogares. | B35: 315 | C35: Eje_4-Atención Primaria en Salud | D35: Salud Ambiental | E35: Realizar campañas de educacion en salud en temas de manejo adecuado del agua para consumo humano, manejo de residuos, manejo de sustancias quimicas y estrategia de producción limpia en el entorno hogar | F35: Educacion | G35: Rural | H35: Comunitario | I35: Comunidad en general | J35: Infancia, Adolescencia, Juventud, adultez y vejez | K35: 1 | L35: 911078 | M35: =K35*L35 -> 911078 | N35: Ingeniero Ambietal y/o Sanitario
C36: Eje_4-Atención Primaria en Salud | D36: Zoonosis | E36: Educación y sensibilización de las acciones de promoción y prevención de los riesgos zoonóticos orientados al cuidado de la salud de las personas, familias y comunidades, con participación de la sociedad civil, con enfoque étnico e intercultural y con enfoque diferencia | F36: Educación y Comunicación | G36: Rural | H36: Comunitario | I36: Comunidad en general | J36: Infancia, Adolescencia, Juventud, adultez y vejez | K36: 1 | L36: 911078 | M36: =K36*L36 -> 911078 | N36: Medico Veterinario
C37: Eje_4-Atención Primaria en Salud | D37: Enfermedades Cronicas No Transmisbles | E37: Desarrollar estrategias de educacion y comunicaion a la comunidad sobre promocion y manteniminto de la salud en las ECNT con enfoque diferencial y etnocultural | F37: Educación y Comunicación | G37: Rural | H37: Comunitario | I37: Comunidad en general | J37: Infancia, Adolescencia, Juventud, adultez y vejez | K37: 1 | L37: 911079.44 | M37: =K37*L37 -> 911079.44 | N37: Enfermera/Medico /Auxiliar de Enfermeria
C38: Eje_4-Atención Primaria en Salud | D38: Enfermedades Cronicas No Transmisbles | E38: Desarrollar estrategias de educacion y comunicaion a la comunidad sobre los factores de riesgo, factores protectores e intervenciones de detección temprana y protección específica por los canceres priorizados en el territorio con enfoque diferncial y etnocultura | F38: Educación y Comunicación | G38: Rural | H38: Comunitario | I38: Comunidad en general | J38: Infancia, Adolescencia, Juventud, adultez y vejez | K38: 1 | L38: 911078 | M38: =K38*L38 -> 911078 | N38: Enfermera/Medico /Auxiliar de Enfermeria
C39: Eje_4-Atención Primaria en Salud | D39: Salud Laboral | E39: Realizar campañas educativas en promoción de la Salud y Prevención de Riesgos Laborales dirigido a los trabajadores del sector informal de la economía de acuerdo a los riesgos a los cuales se encuentra expuestos por su actividad económica y prevencion y erradicacion del trabajo infantil | F39: Educación y Comunicación | G39: Rural y Urbano | H39: Comunitario | I39: Comunidad en general | J39: Infancia, Adolescencia, Juventud, adultez y vejez | K39: 1 | L39: 911078 | M39: =K39*L39 -> 911078 | N39: Enfermera/Medico /Auxiliar de Enfermeria
C40: Eje_4-Atención Primaria en Salud | D40: Salud Mental | E40: Realizar estrategias de Educacion y Comiunicacion para la promoción de la salud mental, prevención de la conducta suicida y el consumo de SPA. | F40: Educacion y comunicación | G40: Rural | H40: Hogar | I40: Comunidad en general | J40: adolescencia, juventud, adultez | K40: 1 | L40: 911078 | M40: =K40*L40 -> 911078 | N40: Psicologa/Trabajo social
C41: Eje_4-Atención Primaria en Salud | D41: Salud Nutricional | E41: Desarrollar acciones de Educacion y comunicacion para la promocion de la salud nuticional con el enfoque del derecho humano a la alimentacion,con enfoque diferencial y ecnocultural | F41: Educacion y comunicación | G41: Rural | H41: Comunitario | I41: Comunidad en general | J41: Adolescencia, juventud, adultez | K41: 1 | L41: 911078 | M41: =K41*L41 -> 911078 | N41: Enfermera/Medico /Auxiliar de Enfermeria
C42: Eje_4-Atención Primaria en Salud | D42: Emergentes Reemergente:IRA-EDA | E42: Desarrollar en los 25 municipios acciones de Educacion y comunicacion en salud para la prevención, manejo y control de la IRA/EDA, con enfoque diferencial y ecnocultural | F42: Educacion y comunicación | G42: Rural | H42: Comunitario | I42: Comunidad en general | J42: Infancia, Adolescencia, Juventud, adultez y vejez | K42: 1 | L42: 911078 | M42: =K42*L42 -> 911078 | N42: Psicologa/Trabajo social
C43: Eje_4-Atención Primaria en Salud | D43: Emergentes Reemergente: TB-LEPRA | E43: Desarrollar en los 25 municipios acciones de Educacion y comunicacion en salud para la prevención, manejo y control de la Tuberculosis y Lepra, con enfoque diferencial y ecnocultural | F43: Educacion y comunicación | G43: Rural | H43: Comunitario | I43: Comunidad en general | J43: Infancia, Adolescencia, Juventud, adultez y vejez | K43: 1 | L43: 911078 | M43: =K43*L43 -> 911078 | N43: Enfermera/Medico /Auxiliar de Enfermeria
C44: Eje_4-Atención Primaria en Salud | D44: Programa Ampliado de Inmunizaciones-PAI | E44: Realizar jornadas de salud intensificando las estrategias de vacunación que garanticen el acceso a la Vacunación sin Barreras en los municipios priorizados del departamento de Sucre | F44: Jornada de salud | G44: Rural | H44: Comunitario | I44: Comunidad en general | J44: Infancia, Adolescencia, Juventud, adultez y vejez | K44: 1 | L44: 1700000 | M44: =K44*L44 -> 1700000 | N44: Enfermera/Medico /Auxiliar de Enfermeria
C45: Eje_4-Atención Primaria en Salud | D45: Programa Ampliado de Inmunizaciones-PAI | E45: Desarrollar en los 25 municipios acciones de Educacion y comunicacion en salud para la prevecion de enfermedades inmunoprevenibles, con enfoque diferencial y ecnocultural | F45: Educacion y comunicación | G45: Rural | H45: Comunitario | I45: Comunidad en general | J45: Primera infancia, infancia, adolescencia, juventud, adultez y vejez | K45: 1 | L45: 911078 | M45: =K45*L45 -> 911078 | N45: Enfermera/Medico /Auxiliar de Enfermeria
C46: Eje_4-Atención Primaria en Salud | D46: Enfermedades Transmitidas por Vectores-ETV | E46: Dessarrollar acciones de educacion en 22 municipios mediante dialogos de saberes, con el fin de generar habilidades, para la apropiación y generación de hábitos protectores, requeridos para la corresponsabilidad y el cuidado de las personas, familias y comunidades para evitar la exposición a vectores biológicos y el control de los mismos en los diferentes entornos y detección y manejo oportuno de signos de alarma para las ETV. | F46: Educacion y comunicación | G46: Rural | H46: Comunitario | I46: Comunidad en general | J46: Primera infancia, infancia, adolescencia, juventud, adultez y vejez | K46: 1 | L46: 911078 | M46: =K46*L46 -> 911078 | N46: Enfermera/Medico /Auxiliar de Enfermeria
C47: Eje_2-Pueblos y comunidades étnicas y campesinas, mujeres, sectores LGBTIQ+ y otras poblaciones por condición y/o situación | D47: Niños, Niñas y Adolescentes | E47: Realizar educacion para la prevención y atención de infecciones parasitarias que afectan a los NNA(Geolmintiasis, pediculosis, escabiosis, teniasis y cisticercosis), en 22 municipios priorizados. | F47: Educacion y comunicación | G47: Rural | H47: Comunitario | I47: Comunidad en general | J47: Infancia, Adolescencia | K47: 1 | L47: 911078 | M47: =K47*L47 -> 911078 | N47: Auxiliar de Enfermeria
C48: Eje_2-Pueblos y comunidades étnicas y campesinas, mujeres, sectores LGBTIQ+ y otras poblaciones por condición y/o situación | D48: Poblaciones Vulnerables | E48: Realizar estrategias de educacion y comunicación en salud para la promoción de una cultura de la salud, la inclusión social, el autocuidado, el derecho a la salud con enfoque diferencial y etnocultural para los pueblos indigenas ,NARP, victimas del conflicto armado, las cobijadas por sentencias y adultos mayores | F48: Educacion y comunicación | G48: Rural | H48: Comunitario | I48: Comunidad en general | J48: Infancia, Adolescencia, Juventud, adultez y vejez | K48: 1 | L48: 911078 | M48: =K48*L48 -> 911078 | N48: Psicologa/Trabajo social
C49: Eje_4-Atención Primaria en Salud | D49: Participacion Social en Salud-PARSO | E49: Desarrollar estrategia de educacion y comunicacion en salud para la promoción de una cultura de la salud, la inclusión social, el autocuidado, el derecho a la salud de los ciudadanos y en procesos de participacion y control social | F49: Educacion y comunicación | G49: Rural | H49: Comunitario | I49: Comunidad en general | J49: Infancia, Adolescencia, Juventud, adultez y vejez | K49: 1 | L49: 911078 | M49: =K49*L49 -> 911078 | N49: Psicologa/Trabajo social | P49: MICROTERRITORIO 4 (De acuerdo a los criterios de priorización) Ubicación: Corregimiento Hatonuevo 425 hogares | R49: 425
A50: MICROTERRITORIO 4 (De acuerdo a los criterios de priorización) Ubicación: Corregimiento Hatonuevo 425 hogares | B50: 201 | C50: Eje_4-Atención Primaria en Salud | D50: Salud Ambiental | E50: Realizar campañas de educacion en salud en temas de manejo adecuado del agua para consumo humano, manejo de residuos, manejo de sustancias quimicas y estrategia de producción limpia en el entorno hogar | F50: Educacion | G50: Rural | H50: Comunitario | I50: Comunidad en general | J50: Infancia, Adolescencia, Juventud, adultez y vejez | K50: 1 | L50: 911078 | M50: =K50*L50 -> 911078 | N50: Ingeniero Ambietal y/o Sanitario
C51: Eje_4-Atención Primaria en Salud | D51: Zoonosis | E51: Educación y sensibilización de las acciones de promoción y prevención de los riesgos zoonóticos orientados al cuidado de la salud de las personas, familias y comunidades, con participación de la sociedad civil, con enfoque étnico e intercultural y con enfoque diferencia | F51: Educación y Comunicación | G51: Rural | H51: Comunitario | I51: Comunidad en general | J51: Infancia, Adolescencia, Juventud, adultez y vejez | K51: 1 | L51: 911078 | M51: =K51*L51 -> 911078 | N51: Medico Veterinario
C52: Eje_4-Atención Primaria en Salud | D52: Enfermedades Cronicas No Transmisbles | E52: Desarrollar estrategias de educacion y comunicaion a la comunidad sobre promocion y manteniminto de la salud en las ECNT con enfoque diferencial y etnocultural | F52: Educación y Comunicación | G52: Rural | H52: Comunitario | I52: Comunidad en general | J52: Infancia, Adolescencia, Juventud, adultez y vejez | K52: 1 | L52: 911079.44 | M52: =K52*L52 -> 911079.44 | N52: Enfermera/Medico /Auxiliar de Enfermeria
C53: Eje_4-Atención Primaria en Salud | D53: Enfermedades Cronicas No Transmisbles | E53: Desarrollar estrategias de educacion y comunicaion a la comunidad sobre los factores de riesgo, factores protectores e intervenciones de detección temprana y protección específica por los canceres priorizados en el territorio con enfoque diferncial y etnocultura | F53: Educación y Comunicación | G53: Rural | H53: Comunitario | I53: Comunidad en general | J53: Infancia, Adolescencia, Juventud, adultez y vejez | K53: 1 | L53: 911078 | M53: =K53*L53 -> 911078 | N53: Enfermera/Medico /Auxiliar de Enfermeria
C54: Eje_4-Atención Primaria en Salud | D54: Salud Laboral | E54: Realizar campañas educativas en promoción de la Salud y Prevención de Riesgos Laborales dirigido a los trabajadores del sector informal de la economía de acuerdo a los riesgos a los cuales se encuentra expuestos por su actividad económica y prevencion y erradicacion del trabajo infantil | F54: Educación y Comunicación | G54: Rural y Urbano | H54: Comunitario | I54: Comunidad en general | J54: Infancia, Adolescencia, Juventud, adultez y vejez | K54: 1 | L54: 911078 | M54: =K54*L54 -> 911078 | N54: Enfermera/Medico /Auxiliar de Enfermeria
C55: Eje_4-Atención Primaria en Salud | D55: Salud Mental | E55: Realizar estrategias de Educacion y Comiunicacion para la promoción de la salud mental, prevención de la conducta suicida y el consumo de SPA. | F55: Educacion y comunicación | G55: Rural | H55: Hogar | I55: Comunidad en general | J55: adolescencia, juventud, adultez | K55: 1 | L55: 911078 | M55: =K55*L55 -> 911078 | N55: Psicologa/Trabajo social
C56: Eje_4-Atención Primaria en Salud | D56: Salud Nutricional | E56: Desarrollar acciones de Educacion y comunicacion para la promocion de la salud nuticional con el enfoque del derecho humano a la alimentacion,con enfoque diferencial y ecnocultural | F56: Educacion y comunicación | G56: Rural | H56: Comunitario | I56: Comunidad en general | J56: Adolescencia, juventud, adultez | K56: 1 | L56: 911078 | M56: =K56*L56 -> 911078 | N56: Enfermera/Medico /Auxiliar de Enfermeria
C57: Eje_4-Atención Primaria en Salud | D57: Emergentes Reemergente:IRA-EDA | E57: Desarrollar en los 25 municipios acciones de Educacion y comunicacion en salud para la prevención, manejo y control de la IRA/EDA, con enfoque diferencial y ecnocultural | F57: Educacion y comunicación | G57: Rural | H57: Comunitario | I57: Comunidad en general | J57: Infancia, Adolescencia, Juventud, adultez y vejez | K57: 1 | L57: 911078 | M57: =K57*L57 -> 911078 | N57: Psicologa/Trabajo social
C58: Eje_4-Atención Primaria en Salud | D58: Emergentes Reemergente: TB-LEPRA | E58: Desarrollar en los 25 municipios acciones de Educacion y comunicacion en salud para la prevención, manejo y control de la Tuberculosis y Lepra, con enfoque diferencial y ecnocultural | F58: Educacion y comunicación | G58: Rural | H58: Comunitario | I58: Comunidad en general | J58: Infancia, Adolescencia, Juventud, adultez y vejez | K58: 1 | L58: 911078 | M58: =K58*L58 -> 911078 | N58: Enfermera/Medico /Auxiliar de Enfermeria
C59: Eje_4-Atención Primaria en Salud | D59: Programa Ampliado de Inmunizaciones-PAI | E59: Realizar jornadas de salud intensificando las estrategias de vacunación que garanticen el acceso a la Vacunación sin Barreras en los municipios priorizados del departamento de Sucre | F59: Jornada de salud | G59: Rural | H59: Comunitario | I59: Comunidad en general | J59: Infancia, Adolescencia, Juventud, adultez y vejez | K59: 1 | L59: 1700000 | M59: =K59*L59 -> 1700000 | N59: Enfermera/Medico /Auxiliar de Enfermeria
C60: Eje_4-Atención Primaria en Salud | D60: Programa Ampliado de Inmunizaciones-PAI | E60: Desarrollar en los 25 municipios acciones de Educacion y comunicacion en salud para la prevecion de enfermedades inmunoprevenibles, con enfoque diferencial y ecnocultural | F60: Educacion y comunicación | G60: Rural | H60: Comunitario | I60: Comunidad en general | J60: Primera infancia, infancia, adolescencia, juventud, adultez y vejez | K60: 1 | L60: 911078 | M60: =K60*L60 -> 911078 | N60: Enfermera/Medico /Auxiliar de Enfermeria
C61: Eje_4-Atención Primaria en Salud | D61: Enfermedades Transmitidas por Vectores-ETV | E61: Dessarrollar acciones de educacion en 22 municipios mediante dialogos de saberes, con el fin de generar habilidades, para la apropiación y generación de hábitos protectores, requeridos para la corresponsabilidad y el cuidado de las personas, familias y comunidades para evitar la exposición a vectores biológicos y el control de los mismos en los diferentes entornos y detección y manejo oportuno de signos de alarma para las ETV. | F61: Educacion y comunicación | G61: Rural | H61: Comunitario | I61: Comunidad en general | J61: Primera infancia, infancia, adolescencia, juventud, adultez y vejez | K61: 1 | L61: 911078 | M61: =K61*L61 -> 911078 | N61: Enfermera/Medico /Auxiliar de Enfermeria
C62: Eje_2-Pueblos y comunidades étnicas y campesinas, mujeres, sectores LGBTIQ+ y otras poblaciones por condición y/o situación | D62: Niños, Niñas y Adolescentes | E62: Realizar educacion para la prevención y atención de infecciones parasitarias que afectan a los NNA(Geolmintiasis, pediculosis, escabiosis, teniasis y cisticercosis), en 22 municipios priorizados. | F62: Educacion y comunicación | G62: Rural | H62: Comunitario | I62: Comunidad en general | J62: Infancia, Adolescencia | K62: 1 | L62: 911078 | M62: =K62*L62 -> 911078 | N62: Auxiliar de Enfermeria
... C64: Eje_4-Atención Primaria en Salud | D64: Participacion Social en Salud-PARSO | E64: Desarrollar estrategia de educacion y comunicacion en salud para la promoción de una cultura de la salud, la inclusión social, el autocuidado, el derecho a la salud de los ciudadanos y en procesos de participacion y control social | F64: Educacion y comunicación | G64: Rural | H64: Comunitario | I64: Comunidad en general | J64: Infancia, Adolescencia, Juventud, adultez y vejez | K64: 1 | L64: 911078 | M64: =K64*L64 -> 911078 | N64: Psicologa/Trabajo social
K65: Valor total Equipo basico | M65: =SUM(M1:M64) -> 57820374
K66: Administración y Utilidad (Costos indirectos) | M66: ='EBS PIC 2024 '!G15 -> 3945924 | N66: =M66*100%/M65 -> 0.068244526
K67: TOTAL | M67: =M65+M66 -> 61766298

Sheet GUARANDA
A1: ANEXO TÉCNICO DEL CONTRATO DEL PLAN DE INTERVENCIONES COLECTIVAS VIGENCIA 2024
A2: TERRITORIO: MUNICIPIO DE GUARANDA
A3: No. de Microterritorio | B3: No. de Hogares | C3: Dimensión (PTS 2020-2023) | D3: Componenete | E3: Actividades programadas | F3: CATEGORIA | G3: Lugar de Ejecución | I3: Población Objeto (No. de personas y momento de curso de vida) | K3: Cantidad a ejecutar | L3: Valor Unitario | M3: Valor Total | N3: Perfil del Talento humano del EBS | O3: No. Equipo Básico
F4: CATEGORIA RES 518/15 | G4: Ámbito territorial (Res 3202/16) | H4: Entornos (Res 3202/16) | I4: Población sujeto (Res 3280 de 2018) | J4: Momentos del curso de vida (Res 3202/16) | O4: 1
A5: MICROTERRITORIO 1 (De acuerdo a los criterios de priorización) Ubicación: Corregimiento Palmaritico ( veredas Medellín, La Pita, La Unión, Nueva Italia, y Chuira Grande). Total: 433 hogares | B5: 267 | C5: Eje_4-Atención Primaria en Salud | D5: Salud Ambiental | E5: Realizar campañas de educacion en salud en temas de manejo adecuado del agua para consumo humano, manejo de residuos, manejo de sustancias quimicas y estrategia de producción limpia en el entorno hogar | F5: Educacion | G5: Rural | H5: Comunitario | I5: Comunidad en general | J5: Infancia, Adolescencia, Juventud, adultez y vejez | K5: 1 | L5: 911078 | M5: =K5*L5 -> 911078 | N5: Ingeniero Ambietal y/o Sanitario | P5: 64800000 | Q5: =P5/19 -> 3410526.3 | R5: =Q5/4 -> 852631.58
C6: Eje_4-Atención Primaria en Salud | D6: Zoonosis | E6: Educación y sensibilización de las acciones de promoción y prevención de los riesgos zoonóticos orientados al cuidado de la salud de las personas, familias y comunidades, con participación de la sociedad civil, con enfoque étnico e intercultural y con enfoque diferencia | F6: Educación y Comunicación | G6: Rural | H6: Comunitario | I6: Comunidad en general | J6: Infancia, Adolescencia, Juventud, adultez y vejez | K6: 1 | L6: 911078 | M6: =K6*L6 -> 911078 | N6: Medico Veterinario | P6: 25000000 | Q6: =P6/4 -> 6250000 | R6: =Q6/3 -> 2083333.3
C7: Eje_4-Atención Primaria en Salud | D7: Enfermedades Cronicas No Transmisbles | E7: Desarrollar estrategias de educacion y comunicaion a la comunidad sobre promocion y manteniminto de la salud en las ECNT con enfoque diferencial y etnocultural | F7: Educación y Comunicación | G7: Rural | H7: Comunitario | I7: Comunidad en general | J7: Infancia, Adolescencia, Juventud, adultez y vejez | K7: 1 | L7: 911079.44 | M7: =K7*L7 -> 911079.44 | N7: Enfermera/Medico /Auxiliar de Enfermeria | P7: =SUM(M5:M19) -> 14455093 | Q7: =P7*4 -> 57820374 | R7: 2100000 | S7: =R7*2+R8 -> 6250000
C8: Eje_4-Atención Primaria en Salud | D8: Enfermedades Cronicas No Transmisbles | E8: Desarrollar estrategias de educacion y comunicaion a la comunidad sobre los factores de riesgo, factores protectores e intervenciones de detección temprana y protección específica por los canceres priorizados en el territorio con enfoque diferncial y etnocultura | F8: Educación y Comunicación | G8: Rural | H8: Comunitario | I8: Comunidad en general | J8: Infancia, Adolescencia, Juventud, adultez y vejez | K8: 1 | L8: 911078 | M8: =K8*L8 -> 911078 | N8: Enfermera/Medico /Auxiliar de Enfermeria | R8: 2050000
C9: Eje_4-Atención Primaria en Salud | D9: Salud Laboral | E9: Realizar campañas educativas en promoción de la Salud y Prevención de Riesgos Laborales dirigido a los trabajadores del sector informal de la economía de acuerdo a los riesgos a los cuales se encuentra expuestos por su actividad económica y prevencion y erradicacion del trabajo infantil | F9: Educación y Comunicación | G9: Rural y Urbano | H9: Comunitario | I9: Comunidad en general | J9: Infancia, Adolescencia, Juventud, adultez y vejez | K9: 1 | L9: 911078 | M9: =K9*L9 -> 911078 | N9: Enfermera/Medico /Auxiliar de Enfermeria
C10: Eje_4-Atención Primaria en Salud | D10: Salud Mental | E10: Realizar estrategias de Educacion y Comiunicacion para la promoción de la salud mental, prevención de la conducta suicida y el consumo de SPA. | F10: Educacion y comunicación | G10: Rural | H10: Hogar | I10: Comunidad en general | J10: adolescencia, juventud, adultez | K10: 1 | L10: 911078 | M10: =K10*L10 -> 911078 | N10: Psicologa/Trabajo social
C11: Eje_4-Atención Primaria en Salud | D11: Salud Nutricional | E11: Desarrollar acciones de Educacion y comunicacion para la promocion de la salud nuticional con el enfoque del derecho humano a la alimentacion,con enfoque diferencial y ecnocultural | F11: Educacion y comunicación | G11: Rural | H11: Comunitario | I11: Comunidad en general | J11: Adolescencia, juventud, adultez | K11: 1 | L11: 911078 | M11: =K11*L11 -> 911078 | N11: Enfermera/Medico /Auxiliar de Enfermeria
C12: Eje_4-Atención Primaria en Salud | D12: Emergentes Reemergente:IRA-EDA | E12: Desarrollar en los 25 municipios acciones de Educacion y comunicacion en salud para la prevención, manejo y control de la IRA/EDA, con enfoque diferencial y ecnocultural | F12: Educacion y comunicación | G12: Rural | H12: Comunitario | I12: Comunidad en general | J12: Infancia, Adolescencia, Juventud, adultez y vejez | K12: 1 | L12: 911078 | M12: =K12*L12 -> 911078 | N12: Psicologa/Trabajo social
C13: Eje_4-Atención Primaria en Salud | D13: Emergentes Reemergente: TB-LEPRA | E13: Desarrollar en los 25 municipios acciones de Educacion y comunicacion en salud para la prevención, manejo y control de la Tuberculosis y Lepra, con enfoque diferencial y ecnocultural | F13: Educacion y comunicación | G13: Rural | H13: Comunitario | I13: Comunidad en general | J13: Infancia, Adolescencia, Juventud, adultez y vejez | K13: 1 | L13: 911078 | M13: =K13*L13 -> 911078 | N13: Enfermera/Medico /Auxiliar de Enfermeria
C14: Eje_4-Atención Primaria en Salud | D14: Programa Ampliado de Inmunizaciones-PAI | E14: Realizar jornadas de salud intensificando las estrategias de vacunación que garanticen el acceso a la Vacunación sin Barreras en los municipios priorizados del departamento de Sucre | F14: Jornada de salud | G14: Rural | H14: Comunitario | I14: Comunidad en general | J14: Infancia, Adolescencia, Juventud, adultez y vejez | K14: 1 | L14: 1700000 | M14: =K14*L14 -> 1700000 | N14: Enfermera/Medico /Auxiliar de Enfermeria
C15: Eje_4-Atención Primaria en Salud | D15: Programa Ampliado de Inmunizaciones-PAI | E15: Desarrollar en los 25 municipios acciones de Educacion y comunicacion en salud para la prevecion de enfermedades inmunoprevenibles, con enfoque diferencial y ecnocultural | F15: Educacion y comunicación | G15: Rural | H15: Comunitario | I15: Comunidad en general | J15: Primera infancia, infancia, adolescencia, juventud, adultez y vejez | K15: 1 | L15: 911078 | M15: =K15*L15 -> 911078 | N15: Enfermera/Medico /Auxiliar de Enfermeria
C16: Eje_4-Atención Primaria en Salud | D16: Enfermedades Transmitidas por Vectores-ETV | E16: Dessarrollar acciones de educacion en 22 municipios mediante dialogos de saberes, con el fin de generar habilidades, para la apropiación y generación de hábitos protectores, requeridos para la corresponsabilidad y el cuidado de las personas, familias y comunidades para evitar la exposición a vectores biológicos y el control de los mismos en los diferentes entornos y detección y manejo oportuno de signos de alarma para las ETV. | F16: Educacion y comunicación | G16: Rural | H16: Comunitario | I16: Comunidad en general | J16: Primera infancia, infancia, adolescencia, juventud, adultez y vejez | K16: 1 | L16: 911078 | M16: =K16*L16 -> 911078 | N16: Enfermera/Medico /Auxiliar de Enfermeria
C17: Eje_2-Pueblos y comunidades étnicas y campesinas, mujeres, sectores LGBTIQ+ y otras poblaciones por condición y/o situación | D17: Niños, Niñas y Adolescentes | E17: Realizar educacion para la prevención y atención de infecciones parasitarias que afectan a los NNA(Geolmintiasis, pediculosis, escabiosis, teniasis y cisticercosis), en 22 municipios priorizados. | F17: Educacion y comunicación | G17: Rural | H17: Comunitario | I17: Comunidad en general | J17: Infancia, Adolescencia | K17: 1 | L17: 911078 | M17: =K17*L17 -> 911078 | N17: Auxiliar de Enfermeria
C18: Eje_2-Pueblos y comunidades étnicas y campesinas, mujeres, sectores LGBTIQ+ y otras poblaciones por condición y/o situación | D18: Poblaciones Vulnerables | E18: Realizar estrategias de educacion y comunicación en salud para la promoción de una cultura de la salud, la inclusión social, el autocuidado, el derecho a la salud con enfoque diferencial y etnocultural para los pueblos indigenas ,NARP, victimas del conflicto armado, las cobijadas por sentencias y adultos mayores | F18: Educacion y comunicación | G18: Rural | H18: Comunitario | I18: Comunidad en general | J18: Infancia, Adolescencia, Juventud, adultez y vejez | K18: 1 | L18: 911078 | M18: =K18*L18 -> 911078 | N18: Psicologa/Trabajo social
C19: Eje_4-Atención Primaria en Salud | D19: Participacion Social en Salud-PARSO | E19: Desarrollar estrategia de educacion y comunicacion en salud para la promoción de una cultura de la salud, la inclusión social, el autocuidado, el derecho a la salud de los ciudadanos y en procesos de participacion y control social | F19: Educacion y comunicación | G19: Rural | H19: Comunitario | I19: Comunidad en general | J19: Infancia, Adolescencia, Juventud, adultez y vejez | K19: 1 | L19: 911078 | M19: =K19*L19 -> 911078 | N19: Psicologa/Trabajo social
A20: MICROTERRITORIO 2 (De acuerdo a los criterios de priorización) Ubicación: Corregimiento Gavalda 409 hogares | B20: 217 | C20: Eje_4-Atención Primaria en Salud | D20: Salud Ambiental | E20: Realizar campañas de educacion en salud en temas de manejo adecuado del agua para consumo humano, manejo de residuos, manejo de sustancias quimicas y estrategia de producción limpia en el entorno hogar | F20: Educacion | G20: Rural | H20: Comunitario | I20: Comunidad en general | J20: Infancia, Adolescencia, Juventud, adultez y vejez | K20: 1 | L20: 911078 | M20: =K20*L20 -> 911078 | N20: Ingeniero Ambietal y/o Sanitario
C21: Eje_4-Atención Primaria en Salud | D21: Zoonosis | E21: Educación y sensibilización de las acciones de promoción y prevención de los riesgos zoonóticos orientados al cuidado de la salud de las personas, familias y comunidades, con participación de la sociedad civil, con enfoque étnico e intercultural y con enfoque diferencia | F21: Educación y Comunicación | G21: Rural | H21: Comunitario | I21: Comunidad en general | J21: Infancia, Adolescencia, Juventud, adultez y vejez | K21: 1 | L21: 911078 | M21: =K21*L21 -> 911078 | N21: Medico Veterinario
C22: Eje_4-Atención Primaria en Salud | D22: Enfermedades Cronicas No Transmisbles | E22: Desarrollar estrategias de educacion y comunicaion a la comunidad sobre promocion y manteniminto de la salud en las ECNT con enfoque diferencial y etnocultural | F22: Educación y Comunicación | G22: Rural | H22: Comunitario | I22: Comunidad en general | J22: Infancia, Adolescencia, Juventud, adultez y vejez | K22: 1 | L22: 911079.44 | M22: =K22*L22 -> 911079.44 | N22: Enfermera/Medico /Auxiliar de Enfermeria
C23: Eje_4-Atención Primaria en Salud | D23: Enfermedades Cronicas No Transmisbles | E23: Desarrollar estrategias de educacion y comunicaion a la comunidad sobre los factores de riesgo, factores protectores e intervenciones de detección temprana y protección específica por los canceres priorizados en el territorio con enfoque diferncial y etnocultura | F23: Educación y Comunicación | G23: Rural | H23: Comunitario | I23: Comunidad en general | J23: Infancia, Adolescencia, Juventud, adultez y vejez | K23: 1 | L23: 911078 | M23: =K23*L23 -> 911078 | N23: Enfermera/Medico /Auxiliar de Enfermeria
C24: Eje_4-Atención Primaria en Salud | D24: Salud Laboral | E24: Realizar campañas educativas en promoción de la Salud y Prevención de Riesgos Laborales dirigido a los trabajadores del sector informal de la economía de acuerdo a los riesgos a los cuales se encuentra expuestos por su actividad económica y prevencion y erradicacion del trabajo infantil | F24: Educación y Comunicación | G24: Rural y Urbano | H24: Comunitario | I24: Comunidad en general | J24: Infancia, Adolescencia, Juventud, adultez y vejez | K24: 1 | L24: 911078 | M24: =K24*L24 -> 911078 | N24: Enfermera/Medico /Auxiliar de Enfermeria
C25: Eje_4-Atención Primaria en Salud | D25: Salud Mental | E25: Realizar estrategias de Educacion y Comiunicacion para la promoción de la salud mental, prevención de la conducta suicida y el consumo de SPA. | F25: Educacion y comunicación | G25: Rural | H25: Hogar | I25: Comunidad en general | J25: adolescencia, juventud, adultez | K25: 1 | L25: 911078 | M25: =K25*L25 -> 911078 | N25: Psicologa/Trabajo social
C26: Eje_4-Atención Primaria en Salud | D26: Salud Nutricional | E26: Desarrollar acciones de Educacion y comunicacion para la promocion de la salud nuticional con el enfoque del derecho humano a la alimentacion,con enfoque diferencial y ecnocultural | F26: Educacion y comunicación | G26: Rural | H26: Comunitario | I26: Comunidad en general | J26: Adolescencia, juventud, adultez | K26: 1 | L26: 911078 | M26: =K26*L26 -> 911078 | N26: Enfermera/Medico /Auxiliar de Enfermeria
C27: Eje_4-Atención Primaria en Salud | D27: Emergentes Reemergente:IRA-EDA | E27: Desarrollar en los 25 municipios acciones de Educacion y comunicacion en salud para la prevención, manejo y control de la IRA/EDA, con enfoque diferencial y ecnocultural | F27: Educacion y comunicación | G27: Rural | H27: Comunitario | I27: Comunidad en general | J27: Infancia, Adolescencia, Juventud, adultez y vejez | K27: 1 | L27: 911078 | M27: =K27*L27 -> 911078 | N27: Psicologa/Trabajo social
C28: Eje_4-Atención Primaria en Salud | D28: Emergentes Reemergente: TB-LEPRA | E28: Desarrollar en los 25 municipios acciones de Educacion y comunicacion en salud para la prevención, manejo y control de la Tuberculosis y Lepra, con enfoque diferencial y ecnocultural | F28: Educacion y comunicación | G28: Rural | H28: Comunitario | I28: Comunidad en general | J28: Infancia, Adolescencia, Juventud, adultez y vejez | K28: 1 | L28: 911078 | M28: =K28*L28 -> 911078 | N28: Enfermera/Medico /Auxiliar de Enfermeria
C29: Eje_4-Atención Primaria en Salud | D29: Programa Ampliado de Inmunizaciones-PAI | E29: Realizar jornadas de salud intensificando las estrategias de vacunación que garanticen el acceso a la Vacunación sin Barreras en los municipios priorizados del departamento de Sucre | F29: Jornada de salud | G29: Rural | H29: Comunitario | I29: Comunidad en general | J29: Infancia, Adolescencia, Juventud, adultez y vejez | K29: 1 | L29: 1700000 | M29: =K29*L29 -> 1700000 | N29: Enfermera/Medico /Auxiliar de Enfermeria
C30: Eje_4-Atención Primaria en Salud | D30: Programa Ampliado de Inmunizaciones-PAI | E30: Desarrollar en los 25 municipios acciones de Educacion y comunicacion en salud para la prevecion de enfermedades inmunoprevenibles, con enfoque diferencial y ecnocultural | F30: Educacion y comunicación | G30: Rural | H30: Comunitario | I30: Comunidad en general | J30: Primera infancia, infancia, adolescencia, juventud, adultez y vejez | K30: 1 | L30: 911078 | M30: =K30*L30 -> 911078 | N30: Enfermera/Medico /Auxiliar de Enfermeria
C31: Eje_4-Atención Primaria en Salud | D31: Enfermedades Transmitidas por Vectores-ETV | E31: Dessarrollar acciones de educacion en 22 municipios mediante dialogos de saberes, con el fin de generar habilidades, para la apropiación y generación de hábitos protectores, requeridos para la corresponsabilidad y el cuidado de las personas, familias y comunidades para evitar la exposición a vectores biológicos y el control de los mismos en los diferentes entornos y detección y manejo oportuno de signos de alarma para las ETV. | F31: Educacion y comunicación | G31: Rural | H31: Comunitario | I31: Comunidad en general | J31: Primera infancia, infancia, adolescencia, juventud, adultez y vejez | K31: 1 | L31: 911078 | M31: =K31*L31 -> 911078 | N31: Enfermera/Medico /Auxiliar de Enfermeria
C32: Eje_2-Pueblos y comunidades étnicas y campesinas, mujeres, sectores LGBTIQ+ y otras poblaciones por condición y/o situación | D32: Niños, Niñas y Adolescentes | E32: Realizar educacion para la prevención y atención de infecciones parasitarias que afectan a los NNA(Geolmintiasis, pediculosis, escabiosis, teniasis y cisticercosis), en 22 municipios priorizados. | F32: Educacion y comunicación | G32: Rural | H32: Comunitario | I32: Comunidad en general | J32: Infancia, Adolescencia | K32: 1 | L32: 911078 | M32: =K32*L32 -> 911078 | N32: Auxiliar de Enfermeria
... C34: Eje_4-Atención Primaria en Salud | D34: Participacion Social en Salud-PARSO | E34: Desarrollar estrategia de educacion y comunicacion en salud para la promoción de una cultura de la salud, la inclusión social, el autocuidado, el derecho a la salud de los ciudadanos y en procesos de participacion y control social | F34: Educacion y comunicación | G34: Rural | H34: Comunitario | I34: Comunidad en general | J34: Infancia, Adolescencia, Juventud, adultez y vejez | K34: 1 | L34: 911078 | M34: =K34*L34 -> 911078 | N34: Psicologa/Trabajo social
A35: MICROTERRITORIO 3 (De acuerdo a los criterios de priorización) Ubicación: Corregimiento Las Pavas 380 hogares, Vereda Diaz Granados 60 hogares. Total: 440 hogares | B35: 259 | C35: Eje_4-Atención Primaria en Salud | D35: Salud Ambiental | E35: Realizar campañas de educacion en salud en temas de manejo adecuado del agua para consumo humano, manejo de residuos, manejo de sustancias quimicas y estrategia de producción limpia en el entorno hogar | F35: Educacion | G35: Rural | H35: Comunitario | I35: Comunidad en general | J35: Infancia, Adolescencia, Juventud, adultez y vejez | K35: 1 | L35: 911078 | M35: =K35*L35 -> 911078 | N35: Ingeniero Ambietal y/o Sanitario
C36: Eje_4-Atención Primaria en Salud | D36: Zoonosis | E36: Educación y sensibilización de las acciones de promoción y prevención de los riesgos zoonóticos orientados al cuidado de la salud de las personas, familias y comunidades, con participación de la sociedad civil, con enfoque étnico e intercultural y con enfoque diferencia | F36: Educación y Comunicación | G36: Rural | H36: Comunitario | I36: Comunidad en general | J36: Infancia, Adolescencia, Juventud, adultez y vejez | K36: 1 | L36: 911078 | M36: =K36*L36 -> 911078 | N36: Medico Veterinario
C37: Eje_4-Atención Primaria en Salud | D37: Enfermedades Cronicas No Transmisbles | E37: Desarrollar estrategias de educacion y comunicaion a la comunidad sobre promocion y manteniminto de la salud en las ECNT con enfoque diferencial y etnocultural | F37: Educación y Comunicación | G37: Rural | H37: Comunitario | I37: Comunidad en general | J37: Infancia, Adolescencia, Juventud, adultez y vejez | K37: 1 | L37: 911079.44 | M37: =K37*L37 -> 911079.44 | N37: Enfermera/Medico /Auxiliar de Enfermeria
C38: Eje_4-Atención Primaria en Salud | D38: Enfermedades Cronicas No Transmisbles | E38: Desarrollar estrategias de educacion y comunicaion a la comunidad sobre los factores de riesgo, factores protectores e intervenciones de detección temprana y protección específica por los canceres priorizados en el territorio con enfoque diferncial y etnocultura | F38: Educación y Comunicación | G38: Rural | H38: Comunitario | I38: Comunidad en general | J38: Infancia, Adolescencia, Juventud, adultez y vejez | K38: 1 | L38: 911078 | M38: =K38*L38 -> 911078 | N38: Enfermera/Medico /Auxiliar de Enfermeria
C39: Eje_4-Atención Primaria en Salud | D39: Salud Laboral | E39: Realizar campañas educativas en promoción de la Salud y Prevención de Riesgos Laborales dirigido a los trabajadores del sector informal de la economía de acuerdo a los riesgos a los cuales se encuentra expuestos por su actividad económica y prevencion y erradicacion del trabajo infantil | F39: Educación y Comunicación | G39: Rural y Urbano | H39: Comunitario | I39: Comunidad en general | J39: Infancia, Adolescencia, Juventud, adultez y vejez | K39: 1 | L39: 911078 | M39: =K39*L39 -> 911078 | N39: Enfermera/Medico /Auxiliar de Enfermeria
C40: Eje_4-Atención Primaria en Salud | D40: Salud Mental | E40: Realizar estrategias de Educacion y Comiunicacion para la promoción de la salud mental, prevención de la conducta suicida y el consumo de SPA. | F40: Educacion y comunicación | G40: Rural | H40: Hogar | I40: Comunidad en general | J40: adolescencia, juventud, adultez | K40: 1 | L40: 911078 | M40: =K40*L40 -> 911078 | N40: Psicologa/Trabajo social
C41: Eje_4-Atención Primaria en Salud | D41: Salud Nutricional | E41: Desarrollar acciones de Educacion y comunicacion para la promocion de la salud nuticional con el enfoque del derecho humano a la alimentacion,con enfoque diferencial y ecnocultural | F41: Educacion y comunicación | G41: Rural | H41: Comunitario | I41: Comunidad en general | J41: Adolescencia, juventud, adultez | K41: 1 | L41: 911078 | M41: =K41*L41 -> 911078 | N41: Enfermera/Medico /Auxiliar de Enfermeria
C42: Eje_4-Atención Primaria en Salud | D42: Emergentes Reemergente:IRA-EDA | E42: Desarrollar en los 25 municipios acciones de Educacion y comunicacion en salud para la prevención, manejo y control de la IRA/EDA, con enfoque diferencial y ecnocultural | F42: Educacion y comunicación | G42: Rural | H42: Comunitario | I42: Comunidad en general | J42: Infancia, Adolescencia, Juventud, adultez y vejez | K42: 1 | L42: 911078 | M42: =K42*L42 -> 911078 | N42: Psicologa/Trabajo social
C43: Eje_4-Atención Primaria en Salud | D43: Emergentes Reemergente: TB-LEPRA | E43: Desarrollar en los 25 municipios acciones de Educacion y comunicacion en salud para la prevención, manejo y control de la Tuberculosis y Lepra, con enfoque diferencial y ecnocultural | F43: Educacion y comunicación | G43: Rural | H43: Comunitario | I43: Comunidad en general | J43: Infancia, Adolescencia, Juventud, adultez y vejez | K43: 1 | L43: 911078 | M43: =K43*L43 -> 911078 | N43: Enfermera/Medico /Auxiliar de Enfermeria
C44: Eje_4-Atención Primaria en Salud | D44: Programa Ampliado de Inmunizaciones-PAI | E44: Realizar jornadas de salud intensificando las estrategias de vacunación que garanticen el acceso a la Vacunación sin Barreras en los municipios priorizados del departamento de Sucre | F44: Jornada de salud | G44: Rural | H44: Comunitario | I44: Comunidad en general | J44: Infancia, Adolescencia, Juventud, adultez y vejez | K44: 1 | L44: 1700000 | M44: =K44*L44 -> 1700000 | N44: Enfermera/Medico /Auxiliar de Enfermeria
C45: Eje_4-Atención Primaria en Salud | D45: Programa Ampliado de Inmunizaciones-PAI | E45: Desarrollar en los 25 municipios acciones de Educacion y comunicacion en salud para la prevecion de enfermedades inmunoprevenibles, con enfoque diferencial y ecnocultural | F45: Educacion y comunicación | G45: Rural | H45: Comunitario | I45: Comunidad en general | J45: Primera infancia, infancia, adolescencia, juventud, adultez y vejez | K45: 1 | L45: 911078 | M45: =K45*L45 -> 911078 | N45: Enfermera/Medico /Auxiliar de Enfermeria
C46: Eje_4-Atención Primaria en Salud | D46: Enfermedades Transmitidas por Vectores-ETV | E46: Dessarrollar acciones de educacion en 22 municipios mediante dialogos de saberes, con el fin de generar habilidades, para la apropiación y generación de hábitos protectores, requeridos para la corresponsabilidad y el cuidado de las personas, familias y comunidades para evitar la exposición a vectores biológicos y el control de los mismos en los diferentes entornos y detección y manejo oportuno de signos de alarma para las ETV. | F46: Educacion y comunicación | G46: Rural | H46: Comunitario | I46: Comunidad en general | J46: Primera infancia, infancia, adolescencia, juventud, adultez y vejez | K46: 1 | L46: 911078 | M46: =K46*L46 -> 911078 | N46: Enfermera/Medico /Auxiliar de Enfermeria
C47: Eje_2-Pueblos y comunidades étnicas y campesinas, mujeres, sectores LGBTIQ+ y otras poblaciones por condición y/o situación | D47: Niños, Niñas y Adolescentes | E47: Realizar educacion para la prevención y atención de infecciones parasitarias que afectan a los NNA(Geolmintiasis, pediculosis, escabiosis, teniasis y cisticercosis), en 22 municipios priorizados. | F47: Educacion y comunicación | G47: Rural | H47: Comunitario | I47: Comunidad en general | J47: Infancia, Adolescencia | K47: 1 | L47: 911078 | M47: =K47*L47 -> 911078 | N47: Auxiliar de Enfermeria
... C49: Eje_4-Atención Primaria en Salud | D49: Participacion Social en Salud-PARSO | E49: Desarrollar estrategia de educacion y comunicacion en salud para la promoción de una cultura de la salud, la inclusión social, el autocuidado, el derecho a la salud de los ciudadanos y en procesos de participacion y control social | F49: Educacion y comunicación | G49: Rural | H49: Comunitario | I49: Comunidad en general | J49: Infancia, Adolescencia, Juventud, adultez y vejez | K49: 1 | L49: 911078 | M49: =K49*L49 -> 911078 | N49: Psicologa/Trabajo social
A50: MICROTERRITORIO 4 (De acuerdo a los criterios de priorización) Ubicación: Corregimiento Tierra Santa 348 hogares | B50: 287 | C50: Eje_4-Atención Primaria en Salud | D50: Salud Ambiental | E50: Realizar campañas de educacion en salud en temas de manejo adecuado del agua para consumo humano, manejo de residuos, manejo de sustancias quimicas y estrategia de producción limpia en el entorno hogar | F50: Educacion | G50: Rural | H50: Comunitario | I50: Comunidad en general | J50: Infancia, Adolescencia, Juventud, adultez y vejez | K50: 1 | L50: 911078 | M50: =K50*L50 -> 911078 | N50: Ingeniero Ambietal y/o Sanitario
C51: Eje_4-Atención Primaria en Salud | D51: Zoonosis | E51: Educación y sensibilización de las acciones de promoción y prevención de los riesgos zoonóticos orientados al cuidado de la salud de las personas, familias y comunidades, con participación de la sociedad civil, con enfoque étnico e intercultural y con enfoque diferencia | F51: Educación y Comunicación | G51: Rural | H51: Comunitario | I51: Comunidad en general | J51: Infancia, Adolescencia, Juventud, adultez y vejez | K51: 1 | L51: 911078 | M51: =K51*L51 -> 911078 | N51: Medico Veterinario
C52: Eje_4-Atención Primaria en Salud | D52: Enfermedades Cronicas No Transmisbles | E52: Desarrollar estrategias de educacion y comunicaion a la comunidad sobre promocion y manteniminto de la salud en las ECNT con enfoque diferencial y etnocultural | F52: Educación y Comunicación | G52: Rural | H52: Comunitario | I52: Comunidad en general | J52: Infancia, Adolescencia, Juventud, adultez y vejez | K52: 1 | L52: 911079.44 | M52: =K52*L52 -> 911079.44 | N52: Enfermera/Medico /Auxiliar de Enfermeria
C53: Eje_4-Atención Primaria en Salud | D53: Enfermedades Cronicas No Transmisbles | E53: Desarrollar estrategias de educacion y comunicaion a la comunidad sobre los factores de riesgo, factores protectores e intervenciones de detección temprana y protección específica por los canceres priorizados en el territorio con enfoque diferncial y etnocultura | F53: Educación y Comunicación | G53: Rural | H53: Comunitario | I53: Comunidad en general | J53: Infancia, Adolescencia, Juventud, adultez y vejez | K53: 1 | L53: 911078 | M53: =K53*L53 -> 911078 | N53: Enfermera/Medico /Auxiliar de Enfermeria
C54: Eje_4-Atención Primaria en Salud | D54: Salud Laboral | E54: Realizar campañas educativas en promoción de la Salud y Prevención de Riesgos Laborales dirigido a los trabajadores del sector informal de la economía de acuerdo a los riesgos a los cuales se encuentra expuestos por su actividad económica y prevencion y erradicacion del trabajo infantil | F54: Educación y Comunicación | G54: Rural y Urbano | H54: Comunitario | I54: Comunidad en general | J54: Infancia, Adolescencia, Juventud, adultez y vejez | K54: 1 | L54: 911078 | M54: =K54*L54 -> 911078 | N54: Enfermera/Medico /Auxiliar de Enfermeria
C55: Eje_4-Atención Primaria en Salud | D55: Salud Mental | E55: Realizar estrategias de Educacion y Comiunicacion para la promoción de la salud mental, prevención de la conducta suicida y el consumo de SPA. | F55: Educacion y comunicación | G55: Rural | H55: Hogar | I55: Comunidad en general | J55: adolescencia, juventud, adultez | K55: 1 | L55: 911078 | M55: =K55*L55 -> 911078 | N55: Psicologa/Trabajo social
C56: Eje_4-Atención Primaria en Salud | D56: Salud Nutricional | E56: Desarrollar acciones de Educacion y comunicacion para la promocion de la salud nuticional con el enfoque del derecho humano a la alimentacion,con enfoque diferencial y ecnocultural | F56: Educacion y comunicación | G56: Rural | H56: Comunitario | I56: Comunidad en general | J56: Adolescencia, juventud, adultez | K56: 1 | L56: 911078 | M56: =K56*L56 -> 911078 | N56: Enfermera/Medico /Auxiliar de Enfermeria
C57: Eje_4-Atención Primaria en Salud | D57: Emergentes Reemergente:IRA-EDA | E57: Desarrollar en los 25 municipios acciones de Educacion y comunicacion en salud para la prevención, manejo y control de la IRA/EDA, con enfoque diferencial y ecnocultural | F57: Educacion y comunicación | G57: Rural | H57: Comunitario | I57: Comunidad en general | J57: Infancia, Adolescencia, Juventud, adultez y vejez | K57: 1 | L57: 911078 | M57: =K57*L57 -> 911078 | N57: Psicologa/Trabajo social
C58: Eje_4-Atención Primaria en Salud | D58: Emergentes Reemergente: TB-LEPRA | E58: Desarrollar en los 25 municipios acciones de Educacion y comunicacion en salud para la prevención, manejo y control de la Tuberculosis y Lepra, con enfoque diferencial y ecnocultural | F58: Educacion y comunicación | G58: Rural | H58: Comunitario | I58: Comunidad en general | J58: Infancia, Adolescencia, Juventud, adultez y vejez | K58: 1 | L58: 911078 | M58: =K58*L58 -> 911078 | N58: Enfermera/Medico /Auxiliar de Enfermeria
C59: Eje_4-Atención Primaria en Salud | D59: Programa Ampliado de Inmunizaciones-PAI | E59: Realizar jornadas de salud intensificando las estrategias de vacunación que garanticen el acceso a la Vacunación sin Barreras en los municipios priorizados del departamento de Sucre | F59: Jornada de salud | G59: Rural | H59: Comunitario | I59: Comunidad en general | J59: Infancia, Adolescencia, Juventud, adultez y vejez | K59: 1 | L59: 1700000 | M59: =K59*L59 -> 1700000 | N59: Enfermera/Medico /Auxiliar de Enfermeria
C60: Eje_4-Atención Primaria en Salud | D60: Programa Ampliado de Inmunizaciones-PAI | E60: Desarrollar en los 25 municipios acciones de Educacion y comunicacion en salud para la prevecion de enfermedades inmunoprevenibles, con enfoque diferencial y ecnocultural | F60: Educacion y comunicación | G60: Rural | H60: Comunitario | I60: Comunidad en general | J60: Primera infancia, infancia, adolescencia, juventud, adultez y vejez | K60: 1 | L60: 911078 | M60: =K60*L60 -> 911078 | N60: Enfermera/Medico /Auxiliar de Enfermeria
C61: Eje_4-Atención Primaria en Salud | D61: Enfermedades Transmitidas por Vectores-ETV | E61: Dessarrollar acciones de educacion en 22 municipios mediante dialogos de saberes, con el fin de generar habilidades, para la apropiación y generación de hábitos protectores, requeridos para la corresponsabilidad y el cuidado de las personas, familias y comunidades para evitar la exposición a vectores biológicos y el control de los mismos en los diferentes entornos y detección y manejo oportuno de signos de alarma para las ETV. | F61: Educacion y comunicación | G61: Rural | H61: Comunitario | I61: Comunidad en general | J61: Primera infancia, infancia, adolescencia, juventud, adultez y vejez | K61: 1 | L61: 911078 | M61: =K61*L61 -> 911078 | N61: Enfermera/Medico /Auxiliar de Enfermeria
C62: Eje_2-Pueblos y comunidades étnicas y campesinas, mujeres, sectores LGBTIQ+ y otras poblaciones por condición y/o situación | D62: Niños, Niñas y Adolescentes | E62: Realizar educacion para la prevención y atención de infecciones parasitarias que afectan a los NNA(Geolmintiasis, pediculosis, escabiosis, teniasis y cisticercosis), en 22 municipios priorizados. | F62: Educacion y comunicación | G62: Rural | H62: Comunitario | I62: Comunidad en general | J62: Infancia, Adolescencia | K62: 1 | L62: 911078 | M62: =K62*L62 -> 911078 | N62: Auxiliar de Enfermeria
... C64: Eje_4-Atención Primaria en Salud | D64: Participacion Social en Salud-PARSO | E64: Desarrollar estrategia de educacion y comunicacion en salud para la promoción de una cultura de la salud, la inclusión social, el autocuidado, el derecho a la salud de los ciudadanos y en procesos de participacion y control social | F64: Educacion y comunicación | G64: Rural | H64: Comunitario | I64: Comunidad en general | J64: Infancia, Adolescencia, Juventud, adultez y vejez | K64: 1 | L64: 911078 | M64: =K64*L64 -> 911078 | N64: Psicologa/Trabajo social
K65: Valor total Equipo basico | M65: =SUM(M5:M64) -> 57820374
K66: Administración y Utilidad (Costos indirectos) | M66: ='EBS PIC 2024 '!G31 -> 3945924 | N66: =M66*100%/M65 -> 0.068244526
K67: TOTAL | M67: =M65+M66 -> 61766298

Sheet MAJAGUAL
A1: ANEXO TÉCNICO DEL CONTRATO DEL PLAN DE INTERVENCIONES COLECTIVAS VIGENCIA 2024
A2: TERRITORIO: MUNICIPIO DE MAJAGUAL
A3: No. de Microterritorio | B3: No. de Hogares | C3: Dimensión (PTS 2020-2023) | D3: Componenete | E3: Actividades programadas | F3: CATEGORIA | G3: Lugar de Ejecución | I3: Población Objeto (No. de personas y momento de curso de vida) | K3: Cantidad a ejecutar | L3: Valor Unitario | M3: Valor Total | N3: Perfil del Talento humano del EBS | O3: No. Equipo Básico
F4: CATEGORIA RES 518/15 | G4: Ámbito territorial (Res 3202/16) | H4: Entornos (Res 3202/16) | I4: Población sujeto (Res 3280 de 2018) | J4: Momentos del curso de vida (Res 3202/16) | O4: 1
A5: MICROTERRITORIO 1 (De acuerdo a los criterios de priorización) Ubicación: Corregimiento El Palomar (Huira, el Canal, el Paraíso, la Loma, el Palmar, las Flores, la Ladera) . TOTAL 400 hogares | B5: 400 | C5: Eje_4-Atención Primaria en Salud | D5: Salud Ambiental | E5: Realizar campañas de educacion en salud en temas de manejo adecuado del agua para consumo humano, manejo de residuos, manejo de sustancias quimicas y estrategia de producción limpia en el entorno hogar | F5: Educacion | G5: Rural | H5: Comunitario | I5: Comunidad en general | J5: Infancia, Adolescencia, Juventud, adultez y vejez | K5: 1 | L5: 911078 | M5: =K5*L5 -> 911078 | N5: Ingeniero Ambietal y/o Sanitario | P5: 64800000 | Q5: =P5/19 -> 3410526.3 | R5: =Q5/4 -> 852631.58
C6: Eje_4-Atención Primaria en Salud | D6: Zoonosis | E6: Educación y sensibilización de las acciones de promoción y prevención de los riesgos zoonóticos orientados al cuidado de la salud de las personas, familias y comunidades, con participación de la sociedad civil, con enfoque étnico e intercultural y con enfoque diferencia | F6: Educación y Comunicación | G6: Rural | H6: Comunitario | I6: Comunidad en general | J6: Infancia, Adolescencia, Juventud, adultez y vejez | K6: 1 | L6: 911078 | M6: =K6*L6 -> 911078 | N6: Medico Veterinario | P6: 27500000 | Q6: =P6/4 -> 6875000 | R6: =Q6/3 -> 2291666.7
C7: Eje_4-Atención Primaria en Salud | D7: Enfermedades Cronicas No Transmisbles | E7: Desarrollar estrategias de educacion y comunicaion a la comunidad sobre promocion y manteniminto de la salud en las ECNT con enfoque diferencial y etnocultural | F7: Educación y Comunicación | G7: Rural | H7: Comunitario | I7: Comunidad en general | J7: Infancia, Adolescencia, Juventud, adultez y vejez | K7: 1 | L7: 911079.44 | M7: =K7*L7 -> 911079.44 | N7: Enfermera/Medico /Auxiliar de Enfermeria | P7: =SUM(M5:M19) -> 14455093 | Q7: =P7*4 -> 57820374 | R7: 2300000
C8: Eje_4-Atención Primaria en Salud | D8: Enfermedades Cronicas No Transmisbles | E8: Desarrollar estrategias de educacion y comunicaion a la comunidad sobre los factores de riesgo, factores protectores e intervenciones de detección temprana y protección específica por los canceres priorizados en el territorio con enfoque diferncial y etnocultura | F8: Educación y Comunicación | G8: Rural | H8: Comunitario | I8: Comunidad en general | J8: Infancia, Adolescencia, Juventud, adultez y vejez | K8: 1 | L8: 911078 | M8: =K8*L8 -> 911078 | N8: Enfermera/Medico /Auxiliar de Enfermeria | R8: 2287500
C9: Eje_4-Atención Primaria en Salud | D9: Salud Laboral | E9: Realizar campañas educativas en promoción de la Salud y Prevención de Riesgos Laborales dirigido a los trabajadores del sector informal de la economía de acuerdo a los riesgos a los cuales se encuentra expuestos por su actividad económica y prevencion y erradicacion del trabajo infantil | F9: Educación y Comunicación | G9: Rural y Urbano | H9: Comunitario | I9: Comunidad en general | J9: Infancia, Adolescencia, Juventud, adultez y vejez | K9: 1 | L9: 911078 | M9: =K9*L9 -> 911078 | N9: Enfermera/Medico /Auxiliar de Enfermeria | P9: =SUM(M5:M19) -> 14455093 | Q9: =P9*4 -> 57820374 | R9: 2287500
C10: Eje_4-Atención Primaria en Salud | D10: Salud Mental | E10: Realizar estrategias de Educacion y Comiunicacion para la promoción de la salud mental, prevención de la conducta suicida y el consumo de SPA. | F10: Educacion y comunicación | G10: Rural | H10: Hogar | I10: Comunidad en general | J10: adolescencia, juventud, adultez | K10: 1 | L10: 911078 | M10: =K10*L10 -> 911078 | N10: Psicologa/Trabajo social
C11: Eje_4-Atención Primaria en Salud | D11: Salud Nutricional | E11: Desarrollar acciones de Educacion y comunicacion para la promocion de la salud nuticional con el enfoque del derecho humano a la alimentacion,con enfoque diferencial y ecnocultural | F11: Educacion y comunicación | G11: Rural | H11: Comunitario | I11: Comunidad en general | J11: Adolescencia, juventud, adultez | K11: 1 | L11: 911078 | M11: =K11*L11 -> 911078 | N11: Enfermera/Medico /Auxiliar de Enfermeria
C12: Eje_4-Atención Primaria en Salud | D12: Emergentes Reemergente:IRA-EDA | E12: Desarrollar en los 25 municipios acciones de Educacion y comunicacion en salud para la prevención, manejo y control de la IRA/EDA, con enfoque diferencial y ecnocultural | F12: Educacion y comunicación | G12: Rural | H12: Comunitario | I12: Comunidad en general | J12: Infancia, Adolescencia, Juventud, adultez y vejez | K12: 1 | L12: 911078 | M12: =K12*L12 -> 911078 | N12: Psicologa/Trabajo social
C13: Eje_4-Atención Primaria en Salud | D13: Emergentes Reemergente: TB-LEPRA | E13: Desarrollar en los 25 municipios acciones de Educacion y comunicacion en salud para la prevención, manejo y control de la Tuberculosis y Lepra, con enfoque diferencial y ecnocultural | F13: Educacion y comunicación | G13: Rural | H13: Comunitario | I13: Comunidad en general | J13: Infancia, Adolescencia, Juventud, adultez y vejez | K13: 1 | L13: 911078 | M13: =K13*L13 -> 911078 | N13: Enfermera/Medico /Auxiliar de Enfermeria
C14: Eje_4-Atención Primaria en Salud | D14: Programa Ampliado de Inmunizaciones-PAI | E14: Realizar jornadas de salud intensificando las estrategias de vacunación que garanticen el acceso a la Vacunación sin Barreras en los municipios priorizados del departamento de Sucre | F14: Jornada de salud | G14: Rural | H14: Comunitario | I14: Comunidad en general | J14: Infancia, Adolescencia, Juventud, adultez y vejez | K14: 1 | L14: 1700000 | M14: =K14*L14 -> 1700000 | N14: Enfermera/Medico /Auxiliar de Enfermeria
C15: Eje_4-Atención Primaria en Salud | D15: Programa Ampliado de Inmunizaciones-PAI | E15: Desarrollar en los 25 municipios acciones de Educacion y comunicacion en salud para la prevecion de enfermedades inmunoprevenibles, con enfoque diferencial y ecnocultural | F15: Educacion y comunicación | G15: Rural | H15: Comunitario | I15: Comunidad en general | J15: Primera infancia, infancia, adolescencia, juventud, adultez y vejez | K15: 1 | L15: 911078 | M15: =K15*L15 -> 911078 | N15: Enfermera/Medico /Auxiliar de Enfermeria
C16: Eje_4-Atención Primaria en Salud | D16: Enfermedades Transmitidas por Vectores-ETV | E16: Dessarrollar acciones de educacion en 22 municipios mediante dialogos de saberes, con el fin de generar habilidades, para la apropiación y generación de hábitos protectores, requeridos para la corresponsabilidad y el cuidado de las personas, familias y comunidades para evitar la exposición a vectores biológicos y el control de los mismos en los diferentes entornos y detección y manejo oportuno de signos de alarma para las ETV. | F16: Educacion y comunicación | G16: Rural | H16: Comunitario | I16: Comunidad en general | J16: Primera infancia, infancia, adolescencia, juventud, adultez y vejez | K16: 1 | L16: 911078 | M16: =K16*L16 -> 911078 | N16: Enfermera/Medico /Auxiliar de Enfermeria
C17: Eje_2-Pueblos y comunidades étnicas y campesinas, mujeres, sectores LGBTIQ+ y otras poblaciones por condición y/o situación | D17: Niños, Niñas y Adolescentes | E17: Realizar educacion para la prevención y atención de infecciones parasitarias que afectan a los NNA(Geolmintiasis, pediculosis, escabiosis, teniasis y cisticercosis), en 22 municipios priorizados. | F17: Educacion y comunicación | G17: Rural | H17: Comunitario | I17: Comunidad en general | J17: Infancia, Adolescencia | K17: 1 | L17: 911078 | M17: =K17*L17 -> 911078 | N17: Auxiliar de Enfermeria
C18: Eje_2-Pueblos y comunidades étnicas y campesinas, mujeres, sectores LGBTIQ+ y otras poblaciones por condición y/o situación | D18: Poblaciones Vulnerables | E18: Realizar estrategias de educacion y comunicación en salud para la promoción de una cultura de la salud, la inclusión social, el autocuidado, el derecho a la salud con enfoque diferencial y etnocultural para los pueblos indigenas ,NARP, victimas del conflicto armado, las cobijadas por sentencias y adultos mayores | F18: Educacion y comunicación | G18: Rural | H18: Comunitario | I18: Comunidad en general | J18: Infancia, Adolescencia, Juventud, adultez y vejez | K18: 1 | L18: 911078 | M18: =K18*L18 -> 911078 | N18: Psicologa/Trabajo social
C19: Eje_4-Atención Primaria en Salud | D19: Participacion Social en Salud-PARSO | E19: Desarrollar estrategia de educacion y comunicacion en salud para la promoción de una cultura de la salud, la inclusión social, el autocuidado, el derecho a la salud de los ciudadanos y en procesos de participacion y control social | F19: Educacion y comunicación | G19: Rural | H19: Comunitario | I19: Comunidad en general | J19: Infancia, Adolescencia, Juventud, adultez y vejez | K19: 1 | L19: 911078 | M19: =K19*L19 -> 911078 | N19: Psicologa/Trabajo social
A20: MICROTERRITORIO 2 (De acuerdo a los criterios de priorización) Ubicación: Corregimiento San Miguel (Tres Bocas, Puerta Azul, Cosobo, No te pases). TOTAL 380 hogares | B20: 380 | C20: Eje_4-Atención Primaria en Salud | D20: Salud Ambiental | E20: Realizar campañas de educacion en salud en temas de manejo adecuado del agua para consumo humano, manejo de residuos, manejo de sustancias quimicas y estrategia de producción limpia en el entorno hogar | F20: Educacion | G20: Rural | H20: Comunitario | I20: Comunidad en general | J20: Infancia, Adolescencia, Juventud, adultez y vejez | K20: 1 | L20: 911078 | M20: =K20*L20 -> 911078 | N20: Ingeniero Ambietal y/o Sanitario
C21: Eje_4-Atención Primaria en Salud | D21: Zoonosis | E21: Educación y sensibilización de las acciones de promoción y prevención de los riesgos zoonóticos orientados al cuidado de la salud de las personas, familias y comunidades, con participación de la sociedad civil, con enfoque étnico e intercultural y con enfoque diferencia | F21: Educación y Comunicación | G21: Rural | H21: Comunitario | I21: Comunidad en general | J21: Infancia, Adolescencia, Juventud, adultez y vejez | K21: 1 | L21: 911078 | M21: =K21*L21 -> 911078 | N21: Medico Veterinario
C22: Eje_4-Atención Primaria en Salud | D22: Enfermedades Cronicas No Transmisbles | E22: Desarrollar estrategias de educacion y comunicaion a la comunidad sobre promocion y manteniminto de la salud en las ECNT con enfoque diferencial y etnocultural | F22: Educación y Comunicación | G22: Rural | H22: Comunitario | I22: Comunidad en general | J22: Infancia, Adolescencia, Juventud, adultez y vejez | K22: 1 | L22: 911079.44 | M22: =K22*L22 -> 911079.44 | N22: Enfermera/Medico /Auxiliar de Enfermeria
C23: Eje_4-Atención Primaria en Salud | D23: Enfermedades Cronicas No Transmisbles | E23: Desarrollar estrategias de educacion y comunicaion a la comunidad sobre los factores de riesgo, factores protectores e intervenciones de detección temprana y protección específica por los canceres priorizados en el territorio con enfoque diferncial y etnocultura | F23: Educación y Comunicación | G23: Rural | H23: Comunitario | I23: Comunidad en general | J23: Infancia, Adolescencia, Juventud, adultez y vejez | K23: 1 | L23: 911078 | M23: =K23*L23 -> 911078 | N23: Enfermera/Medico /Auxiliar de Enfermeria
C24: Eje_4-Atención Primaria en Salud | D24: Salud Laboral | E24: Realizar campañas educativas en promoción de la Salud y Prevención de Riesgos Laborales dirigido a los trabajadores del sector informal de la economía de acuerdo a los riesgos a los cuales se encuentra expuestos por su actividad económica y prevencion y erradicacion del trabajo infantil | F24: Educación y Comunicación | G24: Rural y Urbano | H24: Comunitario | I24: Comunidad en general | J24: Infancia, Adolescencia, Juventud, adultez y vejez | K24: 1 | L24: 911078 | M24: =K24*L24 -> 911078 | N24: Enfermera/Medico /Auxiliar de Enfermeria
C25: Eje_4-Atención Primaria en Salud | D25: Salud Mental | E25: Realizar estrategias de Educacion y Comiunicacion para la promoción de la salud mental, prevención de la conducta suicida y el consumo de SPA. | F25: Educacion y comunicación | G25: Rural | H25: Hogar | I25: Comunidad en general | J25: adolescencia, juventud, adultez | K25: 1 | L25: 911078 | M25: =K25*L25 -> 911078 | N25: Psicologa/Trabajo social
C26: Eje_4-Atención Primaria en Salud | D26: Salud Nutricional | E26: Desarrollar acciones de Educacion y comunicacion para la promocion de la salud nuticional con el enfoque del derecho humano a la alimentacion,con enfoque diferencial y ecnocultural | F26: Educacion y comunicación | G26: Rural | H26: Comunitario | I26: Comunidad en general | J26: Adolescencia, juventud, adultez | K26: 1 | L26: 911078 | M26: =K26*L26 -> 911078 | N26: Enfermera/Medico /Auxiliar de Enfermeria
C27: Eje_4-Atención Primaria en Salud | D27: Emergentes Reemergente:IRA-EDA | E27: Desarrollar en los 25 municipios acciones de Educacion y comunicacion en salud para la prevención, manejo y control de la IRA/EDA, con enfoque diferencial y ecnocultural | F27: Educacion y comunicación | G27: Rural | H27: Comunitario | I27: Comunidad en general | J27: Infancia, Adolescencia, Juventud, adultez y vejez | K27: 1 | L27: 911078 | M27: =K27*L27 -> 911078 | N27: Psicologa/Trabajo social
C28: Eje_4-Atención Primaria en Salud | D28: Emergentes Reemergente: TB-LEPRA | E28: Desarrollar en los 25 municipios acciones de Educacion y comunicacion en salud para la prevención, manejo y control de la Tuberculosis y Lepra, con enfoque diferencial y ecnocultural | F28: Educacion y comunicación | G28: Rural | H28: Comunitario | I28: Comunidad en general | J28: Infancia, Adolescencia, Juventud, adultez y vejez | K28: 1 | L28: 911078 | M28: =K28*L28 -> 911078 | N28: Enfermera/Medico /Auxiliar de Enfermeria
C29: Eje_4-Atención Primaria en Salud | D29: Programa Ampliado de Inmunizaciones-PAI | E29: Realizar jornadas de salud intensificando las estrategias de vacunación que garanticen el acceso a la Vacunación sin Barreras en los municipios priorizados del departamento de Sucre | F29: Jornada de salud | G29: Rural | H29: Comunitario | I29: Comunidad en general | J29: Infancia, Adolescencia, Juventud, adultez y vejez | K29: 1 | L29: 1700000 | M29: =K29*L29 -> 1700000 | N29: Enfermera/Medico /Auxiliar de Enfermeria
C30: Eje_4-Atención Primaria en Salud | D30: Programa Ampliado de Inmunizaciones-PAI | E30: Desarrollar en los 25 municipios acciones de Educacion y comunicacion en salud para la prevecion de enfermedades inmunoprevenibles, con enfoque diferencial y ecnocultural | F30: Educacion y comunicación | G30: Rural | H30: Comunitario | I30: Comunidad en general | J30: Primera infancia, infancia, adolescencia, juventud, adultez y vejez | K30: 1 | L30: 911078 | M30: =K30*L30 -> 911078 | N30: Enfermera/Medico /Auxiliar de Enfermeria
C31: Eje_4-Atención Primaria en Salud | D31: Enfermedades Transmitidas por Vectores-ETV | E31: Dessarrollar acciones de educacion en 22 municipios mediante dialogos de saberes, con el fin de generar habilidades, para la apropiación y generación de hábitos protectores, requeridos para la corresponsabilidad y el cuidado de las personas, familias y comunidades para evitar la exposición a vectores biológicos y el control de los mismos en los diferentes entornos y detección y manejo oportuno de signos de alarma para las ETV. | F31: Educacion y comunicación | G31: Rural | H31: Comunitario | I31: Comunidad en general | J31: Primera infancia, infancia, adolescencia, juventud, adultez y vejez | K31: 1 | L31: 911078 | M31: =K31*L31 -> 911078 | N31: Enfermera/Medico /Auxiliar de Enfermeria
C32: Eje_2-Pueblos y comunidades étnicas y campesinas, mujeres, sectores LGBTIQ+ y otras poblaciones por condición y/o situación | D32: Niños, Niñas y Adolescentes | E32: Realizar educacion para la prevención y atención de infecciones parasitarias que afectan a los NNA(Geolmintiasis, pediculosis, escabiosis, teniasis y cisticercosis), en 22 municipios priorizados. | F32: Educacion y comunicación | G32: Rural | H32: Comunitario | I32: Comunidad en general | J32: Infancia, Adolescencia | K32: 1 | L32: 911078 | M32: =K32*L32 -> 911078 | N32: Auxiliar de Enfermeria
... C34: Eje_4-Atención Primaria en Salud | D34: Participacion Social en Salud-PARSO | E34: Desarrollar estrategia de educacion y comunicacion en salud para la promoción de una cultura de la salud, la inclusión social, el autocuidado, el derecho a la salud de los ciudadanos y en procesos de participacion y control social | F34: Educacion y comunicación | G34: Rural | H34: Comunitario | I34: Comunidad en general | J34: Infancia, Adolescencia, Juventud, adultez y vejez | K34: 1 | L34: 911078 | M34: =K34*L34 -> 911078 | N34: Psicologa/Trabajo social
A35: MICROTERRITORIO 3 (De acuerdo a los criterios de priorización) Ubicación: Corregimiento Pueblo Nuevo (Las Palmas, El Jobo, Barranquillita, Majagualito, El Pando) TOTAL 400 hogares | B35: 373 | C35: Eje_4-Atención Primaria en Salud | D35: Salud Ambiental | E35: Realizar campañas de educacion en salud en temas de manejo adecuado del agua para consumo humano, manejo de residuos, manejo de sustancias quimicas y estrategia de producción limpia en el entorno hogar | F35: Educacion | G35: Rural | H35: Comunitario | I35: Comunidad en general | J35: Infancia, Adolescencia, Juventud, adultez y vejez | K35: 1 | L35: 911078 | M35: =K35*L35 -> 911078 | N35: Ingeniero Ambietal y/o Sanitario
C36: Eje_4-Atención Primaria en Salud | D36: Zoonosis | E36: Educación y sensibilización de las acciones de promoción y prevención de los riesgos zoonóticos orientados al cuidado de la salud de las personas, familias y comunidades, con participación de la sociedad civil, con enfoque étnico e intercultural y con enfoque diferencia | F36: Educación y Comunicación | G36: Rural | H36: Comunitario | I36: Comunidad en general | J36: Infancia, Adolescencia, Juventud, adultez y vejez | K36: 1 | L36: 911078 | M36: =K36*L36 -> 911078 | N36: Medico Veterinario
C37: Eje_4-Atención Primaria en Salud | D37: Enfermedades Cronicas No Transmisbles | E37: Desarrollar estrategias de educacion y comunicaion a la comunidad sobre promocion y manteniminto de la salud en las ECNT con enfoque diferencial y etnocultural | F37: Educación y Comunicación | G37: Rural | H37: Comunitario | I37: Comunidad en general | J37: Infancia, Adolescencia, Juventud, adultez y vejez | K37: 1 | L37: 911079.44 | M37: =K37*L37 -> 911079.44 | N37: Enfermera/Medico /Auxiliar de Enfermeria
C38: Eje_4-Atención Primaria en Salud | D38: Enfermedades Cronicas No Transmisbles | E38: Desarrollar estrategias de educacion y comunicaion a la comunidad sobre los factores de riesgo, factores protectores e intervenciones de detección temprana y protección específica por los canceres priorizados en el territorio con enfoque diferncial y etnocultura | F38: Educación y Comunicación | G38: Rural | H38: Comunitario | I38: Comunidad en general | J38: Infancia, Adolescencia, Juventud, adultez y vejez | K38: 1 | L38: 911078 | M38: =K38*L38 -> 911078 | N38: Enfermera/Medico /Auxiliar de Enfermeria
C39: Eje_4-Atención Primaria en Salud | D39: Salud Laboral | E39: Realizar campañas educativas en promoción de la Salud y Prevención de Riesgos Laborales dirigido a los trabajadores del sector informal de la economía de acuerdo a los riesgos a los cuales se encuentra expuestos por su actividad económica y prevencion y erradicacion del trabajo infantil | F39: Educación y Comunicación | G39: Rural y Urbano | H39: Comunitario | I39: Comunidad en general | J39: Infancia, Adolescencia, Juventud, adultez y vejez | K39: 1 | L39: 911078 | M39: =K39*L39 -> 911078 | N39: Enfermera/Medico /Auxiliar de Enfermeria
C40: Eje_4-Atención Primaria en Salud | D40: Salud Mental | E40: Realizar estrategias de Educacion y Comiunicacion para la promoción de la salud mental, prevención de la conducta suicida y el consumo de SPA. | F40: Educacion y comunicación | G40: Rural | H40: Hogar | I40: Comunidad en general | J40: adolescencia, juventud, adultez | K40: 1 | L40: 911078 | M40: =K40*L40 -> 911078 | N40: Psicologa/Trabajo social
C41: Eje_4-Atención Primaria en Salud | D41: Salud Nutricional | E41: Desarrollar acciones de Educacion y comunicacion para la promocion de la salud nuticional con el enfoque del derecho humano a la alimentacion,con enfoque diferencial y ecnocultural | F41: Educacion y comunicación | G41: Rural | H41: Comunitario | I41: Comunidad en general | J41: Adolescencia, juventud, adultez | K41: 1 | L41: 911078 | M41: =K41*L41 -> 911078 | N41: Enfermera/Medico /Auxiliar de Enfermeria
C42: Eje_4-Atención Primaria en Salud | D42: Emergentes Reemergente:IRA-EDA | E42: Desarrollar en los 25 municipios acciones de Educacion y comunicacion en salud para la prevención, manejo y control de la IRA/EDA, con enfoque diferencial y ecnocultural | F42: Educacion y comunicación | G42: Rural | H42: Comunitario | I42: Comunidad en general | J42: Infancia, Adolescencia, Juventud, adultez y vejez | K42: 1 | L42: 911078 | M42: =K42*L42 -> 911078 | N42: Psicologa/Trabajo social
C43: Eje_4-Atención Primaria en Salud | D43: Emergentes Reemergente: TB-LEPRA | E43: Desarrollar en los 25 municipios acciones de Educacion y comunicacion en salud para la prevención, manejo y control de la Tuberculosis y Lepra, con enfoque diferencial y ecnocultural | F43: Educacion y comunicación | G43: Rural | H43: Comunitario | I43: Comunidad en general | J43: Infancia, Adolescencia, Juventud, adultez y vejez | K43: 1 | L43: 911078 | M43: =K43*L43 -> 911078 | N43: Enfermera/Medico /Auxiliar de Enfermeria
C44: Eje_4-Atención Primaria en Salud | D44: Programa Ampliado de Inmunizaciones-PAI | E44: Realizar jornadas de salud intensificando las estrategias de vacunación que garanticen el acceso a la Vacunación sin Barreras en los municipios priorizados del departamento de Sucre | F44: Jornada de salud | G44: Rural | H44: Comunitario | I44: Comunidad en general | J44: Infancia, Adolescencia, Juventud, adultez y vejez | K44: 1 | L44: 1700000 | M44: =K44*L44 -> 1700000 | N44: Enfermera/Medico /Auxiliar de Enfermeria
C45: Eje_4-Atención Primaria en Salud | D45: Programa Ampliado de Inmunizaciones-PAI | E45: Desarrollar en los 25 municipios acciones de Educacion y comunicacion en salud para la prevecion de enfermedades inmunoprevenibles, con enfoque diferencial y ecnocultural | F45: Educacion y comunicación | G45: Rural | H45: Comunitario | I45: Comunidad en general | J45: Primera infancia, infancia, adolescencia, juventud, adultez y vejez | K45: 1 | L45: 911078 | M45: =K45*L45 -> 911078 | N45: Enfermera/Medico /Auxiliar de Enfermeria
C46: Eje_4-Atención Primaria en Salud | D46: Enfermedades Transmitidas por Vectores-ETV | E46: Dessarrollar acciones de educacion en 22 municipios mediante dialogos de saberes, con el fin de generar habilidades, para la apropiación y generación de hábitos protectores, requeridos para la corresponsabilidad y el cuidado de las personas, familias y comunidades para evitar la exposición a vectores biológicos y el control de los mismos en los diferentes entornos y detección y manejo oportuno de signos de alarma para las ETV. | F46: Educacion y comunicación | G46: Rural | H46: Comunitario | I46: Comunidad en general | J46: Primera infancia, infancia, adolescencia, juventud, adultez y vejez | K46: 1 | L46: 911078 | M46: =K46*L46 -> 911078 | N46: Enfermera/Medico /Auxiliar de Enfermeria
C47: Eje_2-Pueblos y comunidades étnicas y campesinas, mujeres, sectores LGBTIQ+ y otras poblaciones por condición y/o situación | D47: Niños, Niñas y Adolescentes | E47: Realizar educacion para la prevención y atención de infecciones parasitarias que afectan a los NNA(Geolmintiasis, pediculosis, escabiosis, teniasis y cisticercosis), en 22 municipios priorizados. | F47: Educacion y comunicación | G47: Rural | H47: Comunitario | I47: Comunidad en general | J47: Infancia, Adolescencia | K47: 1 | L47: 911078 | M47: =K47*L47 -> 911078 | N47: Auxiliar de Enfermeria
... C49: Eje_4-Atención Primaria en Salud | D49: Participacion Social en Salud-PARSO | E49: Desarrollar estrategia de educacion y comunicacion en salud para la promoción de una cultura de la salud, la inclusión social, el autocuidado, el derecho a la salud de los ciudadanos y en procesos de participacion y control social | F49: Educacion y comunicación | G49: Rural | H49: Comunitario | I49: Comunidad en general | J49: Infancia, Adolescencia, Juventud, adultez y vejez | K49: 1 | L49: 911078 | M49: =K49*L49 -> 911078 | N49: Psicologa/Trabajo social
A50: MICROTERRITORIO 4 (De acuerdo a los criterios de priorización) Ubicación: Corregimiento Eduardo Santos (Carne Flaca, San Gregorio, Alemania, Puerto de las Guaduas) TOTAL 380 hogares | B50: 291 | C50: Eje_4-Atención Primaria en Salud | D50: Salud Ambiental | E50: Realizar campañas de educacion en salud en temas de manejo adecuado del agua para consumo humano, manejo de residuos, manejo de sustancias quimicas y estrategia de producción limpia en el entorno hogar | F50: Educacion | G50: Rural | H50: Comunitario | I50: Comunidad en general | J50: Infancia, Adolescencia, Juventud, adultez y vejez | K50: 1 | L50: 911078 | M50: =K50*L50 -> 911078 | N50: Ingeniero Ambietal y/o Sanitario
C51: Eje_4-Atención Primaria en Salud | D51: Zoonosis | E51: Educación y sensibilización de las acciones de promoción y prevención de los riesgos zoonóticos orientados al cuidado de la salud de las personas, familias y comunidades, con participación de la sociedad civil, con enfoque étnico e intercultural y con enfoque diferencia | F51: Educación y Comunicación | G51: Rural | H51: Comunitario | I51: Comunidad en general | J51: Infancia, Adolescencia, Juventud, adultez y vejez | K51: 1 | L51: 911078 | M51: =K51*L51 -> 911078 | N51: Medico Veterinario
C52: Eje_4-Atención Primaria en Salud | D52: Enfermedades Cronicas No Transmisbles | E52: Desarrollar estrategias de educacion y comunicaion a la comunidad sobre promocion y manteniminto de la salud en las ECNT con enfoque diferencial y etnocultural | F52: Educación y Comunicación | G52: Rural | H52: Comunitario | I52: Comunidad en general | J52: Infancia, Adolescencia, Juventud, adultez y vejez | K52: 1 | L52: 911079.44 | M52: =K52*L52 -> 911079.44 | N52: Enfermera/Medico /Auxiliar de Enfermeria
C53: Eje_4-Atención Primaria en Salud | D53: Enfermedades Cronicas No Transmisbles | E53: Desarrollar estrategias de educacion y comunicaion a la comunidad sobre los factores de riesgo, factores protectores e intervenciones de detección temprana y protección específica por los canceres priorizados en el territorio con enfoque diferncial y etnocultura | F53: Educación y Comunicación | G53: Rural | H53: Comunitario | I53: Comunidad en general | J53: Infancia, Adolescencia, Juventud, adultez y vejez | K53: 1 | L53: 911078 | M53: =K53*L53 -> 911078 | N53: Enfermera/Medico /Auxiliar de Enfermeria
C54: Eje_4-Atención Primaria en Salud | D54: Salud Laboral | E54: Realizar campañas educativas en promoción de la Salud y Prevención de Riesgos Laborales dirigido a los trabajadores del sector informal de la economía de acuerdo a los riesgos a los cuales se encuentra expuestos por su actividad económica y prevencion y erradicacion del trabajo infantil | F54: Educación y Comunicación | G54: Rural y Urbano | H54: Comunitario | I54: Comunidad en general | J54: Infancia, Adolescencia, Juventud, adultez y vejez | K54: 1 | L54: 911078 | M54: =K54*L54 -> 911078 | N54: Enfermera/Medico /Auxiliar de Enfermeria
C55: Eje_4-Atención Primaria en Salud | D55: Salud Mental | E55: Realizar estrategias de Educacion y Comiunicacion para la promoción de la salud mental, prevención de la conducta suicida y el consumo de SPA. | F55: Educacion y comunicación | G55: Rural | H55: Hogar | I55: Comunidad en general | J55: adolescencia, juventud, adultez | K55: 1 | L55: 911078 | M55: =K55*L55 -> 911078 | N55: Psicologa/Trabajo social
C56: Eje_4-Atención Primaria en Salud | D56: Salud Nutricional | E56: Desarrollar acciones de Educacion y comunicacion para la promocion de la salud nuticional con el enfoque del derecho humano a la alimentacion,con enfoque diferencial y ecnocultural | F56: Educacion y comunicación | G56: Rural | H56: Comunitario | I56: Comunidad en general | J56: Adolescencia, juventud, adultez | K56: 1 | L56: 911078 | M56: =K56*L56 -> 911078 | N56: Enfermera/Medico /Auxiliar de Enfermeria
C57: Eje_4-Atención Primaria en Salud | D57: Emergentes Reemergente:IRA-EDA | E57: Desarrollar en los 25 municipios acciones de Educacion y comunicacion en salud para la prevención, manejo y control de la IRA/EDA, con enfoque diferencial y ecnocultural | F57: Educacion y comunicación | G57: Rural | H57: Comunitario | I57: Comunidad en general | J57: Infancia, Adolescencia, Juventud, adultez y vejez | K57: 1 | L57: 911078 | M57: =K57*L57 -> 911078 | N57: Psicologa/Trabajo social
C58: Eje_4-Atención Primaria en Salud | D58: Emergentes Reemergente: TB-LEPRA | E58: Desarrollar en los 25 municipios acciones de Educacion y comunicacion en salud para la prevención, manejo y control de la Tuberculosis y Lepra, con enfoque diferencial y ecnocultural | F58: Educacion y comunicación | G58: Rural | H58: Comunitario | I58: Comunidad en general | J58: Infancia, Adolescencia, Juventud, adultez y vejez | K58: 1 | L58: 911078 | M58: =K58*L58 -> 911078 | N58: Enfermera/Medico /Auxiliar de Enfermeria
C59: Eje_4-Atención Primaria en Salud | D59: Programa Ampliado de Inmunizaciones-PAI | E59: Realizar jornadas de salud intensificando las estrategias de vacunación que garanticen el acceso a la Vacunación sin Barreras en los municipios priorizados del departamento de Sucre | F59: Jornada de salud | G59: Rural | H59: Comunitario | I59: Comunidad en general | J59: Infancia, Adolescencia, Juventud, adultez y vejez | K59: 1 | L59: 1700000 | M59: =K59*L59 -> 1700000 | N59: Enfermera/Medico /Auxiliar de Enfermeria
C60: Eje_4-Atención Primaria en Salud | D60: Programa Ampliado de Inmunizaciones-PAI | E60: Desarrollar en los 25 municipios acciones de Educacion y comunicacion en salud para la prevecion de enfermedades inmunoprevenibles, con enfoque diferencial y ecnocultural | F60: Educacion y comunicación | G60: Rural | H60: Comunitario | I60: Comunidad en general | J60: Primera infancia, infancia, adolescencia, juventud, adultez y vejez | K60: 1 | L60: 911078 | M60: =K60*L60 -> 911078 | N60: Enfermera/Medico /Auxiliar de Enfermeria
C61: Eje_4-Atención Primaria en Salud | D61: Enfermedades Transmitidas por Vectores-ETV | E61: Dessarrollar acciones de educacion en 22 municipios mediante dialogos de saberes, con el fin de generar habilidades, para la apropiación y generación de hábitos protectores, requeridos para la corresponsabilidad y el cuidado de las personas, familias y comunidades para evitar la exposición a vectores biológicos y el control de los mismos en los diferentes entornos y detección y manejo oportuno de signos de alarma para las ETV. | F61: Educacion y comunicación | G61: Rural | H61: Comunitario | I61: Comunidad en general | J61: Primera infancia, infancia, adolescencia, juventud, adultez y vejez | K61: 1 | L61: 911078 | M61: =K61*L61 -> 911078 | N61: Enfermera/Medico /Auxiliar de Enfermeria
C62: Eje_2-Pueblos y comunidades étnicas y campesinas, mujeres, sectores LGBTIQ+ y otras poblaciones por condición y/o situación | D62: Niños, Niñas y Adolescentes | E62: Realizar educacion para la prevención y atención de infecciones parasitarias que afectan a los NNA(Geolmintiasis, pediculosis, escabiosis, teniasis y cisticercosis), en 22 municipios priorizados. | F62: Educacion y comunicación | G62: Rural | H62: Comunitario | I62: Comunidad en general | J62: Infancia, Adolescencia | K62: 1 | L62: 911078 | M62: =K62*L62 -> 911078 | N62: Auxiliar de Enfermeria
... C64: Eje_4-Atención Primaria en Salud | D64: Participacion Social en Salud-PARSO | E64: Desarrollar estrategia de educacion y comunicacion en salud para la promoción de una cultura de la salud, la inclusión social, el autocuidado, el derecho a la salud de los ciudadanos y en procesos de participacion y control social | F64: Educacion y comunicación | G64: Rural | H64: Comunitario | I64: Comunidad en general | J64: Infancia, Adolescencia, Juventud, adultez y vejez | K64: 1 | L64: 911078 | M64: =K64*L64 -> 911078 | N64: Psicologa/Trabajo social
K65: Valor total Equipo basico | M65: =SUM(M5:M64) -> 57820374
K66: Administración y Utilidad (Costos indirectos) | M66: ='EBS PIC 2024 '!G47 -> 3945924 | N66: =M66*100%/M65 -> 0.068244526
K67: TOTAL | M67: =M65+M66 -> 61766298

Sheet CAIMITO
A1: ANEXO TÉCNICO DEL CONTRATO DEL PLAN DE INTERVENCIONES COLECTIVAS VIGENCIA 2024
A2: TERRITORIO: MUNICIPIO DE CAIMITO
A3: No. de Microterritorio | B3: No. de Hogares | C3: Dimensión (PTS 2020-2023) | D3: Componenete | E3: Actividades programadas | F3: CATEGORIA | G3: Lugar de Ejecución | I3: Población Objeto (No. de personas y momento de curso de vida) | K3: Cantidad a ejecutar | L3: Valor Unitario | M3: Valor Total | N3: Perfil del Talento humano del EBS | O3: No. Equipo Básico
F4: CATEGORIA RES 518/15 | G4: Ámbito territorial (Res 3202/16) | H4: Entornos (Res 3202/16) | I4: Población sujeto (Res 3280 de 2018) | J4: Momentos del curso de vida (Res 3202/16) | O4: 1
A5: MICROTERRITORIO 1 (De acuerdo a los criterios de priorización) Ubicación: Corregimiento Siete Palma 170 hogares, Platero 65 hogares, la angostura 20 hogares, Tanga sola 19 Hogares, Zona Rural Dispersa 25 hogares, Las pavitas 77 Hogares. Total Hogares (376) | B5: 340 | C5: Eje_4-Atención Primaria en Salud | D5: Salud Ambiental | E5: Realizar campañas de educacion en salud en temas de manejo adecuado del agua para consumo humano, manejo de residuos, manejo de sustancias quimicas y estrategia de producción limpia en el entorno hogar | F5: Educacion | G5: Rural | H5: Comunitario | I5: Comunidad en general | J5: Infancia, Adolescencia, Juventud, adultez y vejez | K5: 1 | L5: 911078 | M5: =K5*L5 -> 911078 | N5: Ingeniero Ambietal y/o Sanitario | P5: 64800000 | Q5: =P5/4 -> 16200000 | R5: =Q5/18 -> 900000
C6: Eje_4-Atención Primaria en Salud | D6: Zoonosis | E6: Educación y sensibilización de las acciones de promoción y prevención de los riesgos zoonóticos orientados al cuidado de la salud de las personas, familias y comunidades, con participación de la sociedad civil, con enfoque étnico e intercultural y con enfoque diferencia | F6: Educación y Comunicación | G6: Rural | H6: Comunitario | I6: Comunidad en general | J6: Infancia, Adolescencia, Juventud, adultez y vejez | K6: 1 | L6: 911078 | M6: =K6*L6 -> 911078 | N6: Medico Veterinario | P6: 20000000 | Q6: =P6/4 -> 5000000 | R6: 1600000
C7: Eje_4-Atención Primaria en Salud | D7: Enfermedades Cronicas No Transmisbles | E7: Desarrollar estrategias de educacion y comunicaion a la comunidad sobre promocion y manteniminto de la salud en las ECNT con enfoque diferencial y etnocultural | F7: Educación y Comunicación | G7: Rural | H7: Comunitario | I7: Comunidad en general | J7: Infancia, Adolescencia, Juventud, adultez y vejez | K7: 1 | L7: 911079.44 | M7: =K7*L7 -> 911079.44 | N7: Enfermera/Medico /Auxiliar de Enfermeria | P7: =SUM(M5:M19) -> 14455093 | Q7: =P7*4 -> 57820374 | R7: 1600000
C8: Eje_4-Atención Primaria en Salud | D8: Enfermedades Cronicas No Transmisbles | E8: Desarrollar estrategias de educacion y comunicaion a la comunidad sobre los factores de riesgo, factores protectores e intervenciones de detección temprana y protección específica por los canceres priorizados en el territorio con enfoque diferncial y etnocultura | F8: Educación y Comunicación | G8: Rural | H8: Comunitario | I8: Comunidad en general | J8: Infancia, Adolescencia, Juventud, adultez y vejez | K8: 1 | L8: 911078 | M8: =K8*L8 -> 911078 | N8: Enfermera/Medico /Auxiliar de Enfermeria | R8: 1800000
C9: Eje_4-Atención Primaria en Salud | D9: Salud Laboral | E9: Realizar campañas educativas en promoción de la Salud y Prevención de Riesgos Laborales dirigido a los trabajadores del sector informal de la economía de acuerdo a los riesgos a los cuales se encuentra expuestos por su actividad económica y prevencion y erradicacion del trabajo infantil | F9: Educación y Comunicación | G9: Rural y Urbano | H9: Comunitario | I9: Comunidad en general | J9: Infancia, Adolescencia, Juventud, adultez y vejez | K9: 1 | L9: 911078 | M9: =K9*L9 -> 911078 | N9: Enfermera/Medico /Auxiliar de Enfermeria
C10: Eje_4-Atención Primaria en Salud | D10: Salud Mental | E10: Realizar estrategias de Educacion y Comiunicacion para la promoción de la salud mental, prevención de la conducta suicida y el consumo de SPA. | F10: Educacion y comunicación | G10: Rural | H10: Hogar | I10: Comunidad en general | J10: adolescencia, juventud, adultez | K10: 1 | L10: 911078 | M10: =K10*L10 -> 911078 | N10: Psicologa/Trabajo social
C11: Eje_4-Atención Primaria en Salud | D11: Salud Nutricional | E11: Desarrollar acciones de Educacion y comunicacion para la promocion de la salud nuticional con el enfoque del derecho humano a la alimentacion,con enfoque diferencial y ecnocultural | F11: Educacion y comunicación | G11: Rural | H11: Comunitario | I11: Comunidad en general | J11: Adolescencia, juventud, adultez | K11: 1 | L11: 911078 | M11: =K11*L11 -> 911078 | N11: Enfermera/Medico /Auxiliar de Enfermeria
C12: Eje_4-Atención Primaria en Salud | D12: Emergentes Reemergente:IRA-EDA | E12: Desarrollar en los 25 municipios acciones de Educacion y comunicacion en salud para la prevención, manejo y control de la IRA/EDA, con enfoque diferencial y ecnocultural | F12: Educacion y comunicación | G12: Rural | H12: Comunitario | I12: Comunidad en general | J12: Infancia, Adolescencia, Juventud, adultez y vejez | K12: 1 | L12: 911078 | M12: =K12*L12 -> 911078 | N12: Psicologa/Trabajo social
C13: Eje_4-Atención Primaria en Salud | D13: Emergentes Reemergente: TB-LEPRA | E13: Desarrollar en los 25 municipios acciones de Educacion y comunicacion en salud para la prevención, manejo y control de la Tuberculosis y Lepra, con enfoque diferencial y ecnocultural | F13: Educacion y comunicación | G13: Rural | H13: Comunitario | I13: Comunidad en general | J13: Infancia, Adolescencia, Juventud, adultez y vejez | K13: 1 | L13: 911078 | M13: =K13*L13 -> 911078 | N13: Enfermera/Medico /Auxiliar de Enfermeria
C14: Eje_4-Atención Primaria en Salud | D14: Programa Ampliado de Inmunizaciones-PAI | E14: Realizar jornadas de salud intensificando las estrategias de vacunación que garanticen el acceso a la Vacunación sin Barreras en los municipios priorizados del departamento de Sucre | F14: Jornada de salud | G14: Rural | H14: Comunitario | I14: Comunidad en general | J14: Infancia, Adolescencia, Juventud, adultez y vejez | K14: 1 | L14: 1700000 | M14: =K14*L14 -> 1700000 | N14: Enfermera/Medico /Auxiliar de Enfermeria
C15: Eje_4-Atención Primaria en Salud | D15: Programa Ampliado de Inmunizaciones-PAI | E15: Desarrollar en los 25 municipios acciones de Educacion y comunicacion en salud para la prevecion de enfermedades inmunoprevenibles, con enfoque diferencial y ecnocultural | F15: Educacion y comunicación | G15: Rural | H15: Comunitario | I15: Comunidad en general | J15: Primera infancia, infancia, adolescencia, juventud, adultez y vejez | K15: 1 | L15: 911078 | M15: =K15*L15 -> 911078 | N15: Enfermera/Medico /Auxiliar de Enfermeria
C16: Eje_4-Atención Primaria en Salud | D16: Enfermedades Transmitidas por Vectores-ETV | E16: Dessarrollar acciones de educacion en 22 municipios mediante dialogos de saberes, con el fin de generar habilidades, para la apropiación y generación de hábitos protectores, requeridos para la corresponsabilidad y el cuidado de las personas, familias y comunidades para evitar la exposición a vectores biológicos y el control de los mismos en los diferentes entornos y detección y manejo oportuno de signos de alarma para las ETV. | F16: Educacion y comunicación | G16: Rural | H16: Comunitario | I16: Comunidad en general | J16: Primera infancia, infancia, adolescencia, juventud, adultez y vejez | K16: 1 | L16: 911078 | M16: =K16*L16 -> 911078 | N16: Enfermera/Medico /Auxiliar de Enfermeria
C17: Eje_2-Pueblos y comunidades étnicas y campesinas, mujeres, sectores LGBTIQ+ y otras poblaciones por condición y/o situación | D17: Niños, Niñas y Adolescentes | E17: Realizar educacion para la prevención y atención de infecciones parasitarias que afectan a los NNA(Geolmintiasis, pediculosis, escabiosis, teniasis y cisticercosis), en 22 municipios priorizados. | F17: Educacion y comunicación | G17: Rural | H17: Comunitario | I17: Comunidad en general | J17: Infancia, Adolescencia | K17: 1 | L17: 911078 | M17: =K17*L17 -> 911078 | N17: Auxiliar de Enfermeria
C18: Eje_2-Pueblos y comunidades étnicas y campesinas, mujeres, sectores LGBTIQ+ y otras poblaciones por condición y/o situación | D18: Poblaciones Vulnerables | E18: Realizar estrategias de educacion y comunicación en salud para la promoción de una cultura de la salud, la inclusión social, el autocuidado, el derecho a la salud con enfoque diferencial y etnocultural para los pueblos indigenas ,NARP, victimas del conflicto armado, las cobijadas por sentencias y adultos mayores | F18: Educacion y comunicación | G18: Rural | H18: Comunitario | I18: Comunidad en general | J18: Infancia, Adolescencia, Juventud, adultez y vejez | K18: 1 | L18: 911078 | M18: =K18*L18 -> 911078 | N18: Psicologa/Trabajo social
C19: Eje_4-Atención Primaria en Salud | D19: Participacion Social en Salud-PARSO | E19: Desarrollar estrategia de educacion y comunicacion en salud para la promoción de una cultura de la salud, la inclusión social, el autocuidado, el derecho a la salud de los ciudadanos y en procesos de participacion y control social | F19: Educacion y comunicación | G19: Rural | H19: Comunitario | I19: Comunidad en general | J19: Infancia, Adolescencia, Juventud, adultez y vejez | K19: 1 | L19: 911078 | M19: =K19*L19 -> 911078 | N19: Psicologa/Trabajo social
A20: MICROTERRITORIO 2 (De acuerdo a los criterios de priorización) Ubicación: Corregimiento La Mejía 180 Hogares, Tofeme 113 Hogares, Aguilar 76 Hogares, Palo Alto 35 Hogares, zona rural Total Hogares (429) | B20: 373 | C20: Eje_4-Atención Primaria en Salud | D20: Salud Ambiental | E20: Realizar campañas de educacion en salud en temas de manejo adecuado del agua para consumo humano, manejo de residuos, manejo de sustancias quimicas y estrategia de producción limpia en el entorno hogar | F20: Educacion | G20: Rural | H20: Comunitario | I20: Comunidad en general | J20: Infancia, Adolescencia, Juventud, adultez y vejez | K20: 1 | L20: 911078 | M20: =K20*L20 -> 911078 | N20: Ingeniero Ambietal y/o Sanitario
C21: Eje_4-Atención Primaria en Salud | D21: Zoonosis | E21: Educación y sensibilización de las acciones de promoción y prevención de los riesgos zoonóticos orientados al cuidado de la salud de las personas, familias y comunidades, con participación de la sociedad civil, con enfoque étnico e intercultural y con enfoque diferencia | F21: Educación y Comunicación | G21: Rural | H21: Comunitario | I21: Comunidad en general | J21: Infancia, Adolescencia, Juventud, adultez y vejez | K21: 1 | L21: 911078 | M21: =K21*L21 -> 911078 | N21: Medico Veterinario
C22: Eje_4-Atención Primaria en Salud | D22: Enfermedades Cronicas No Transmisbles | E22: Desarrollar estrategias de educacion y comunicaion a la comunidad sobre promocion y manteniminto de la salud en las ECNT con enfoque diferencial y etnocultural | F22: Educación y Comunicación | G22: Rural | H22: Comunitario | I22: Comunidad en general | J22: Infancia, Adolescencia, Juventud, adultez y vejez | K22: 1 | L22: 911079.44 | M22: =K22*L22 -> 911079.44 | N22: Enfermera/Medico /Auxiliar de Enfermeria
C23: Eje_4-Atención Primaria en Salud | D23: Enfermedades Cronicas No Transmisbles | E23: Desarrollar estrategias de educacion y comunicaion a la comunidad sobre los factores de riesgo, factores protectores e intervenciones de detección temprana y protección específica por los canceres priorizados en el territorio con enfoque diferncial y etnocultura | F23: Educación y Comunicación | G23: Rural | H23: Comunitario | I23: Comunidad en general | J23: Infancia, Adolescencia, Juventud, adultez y vejez | K23: 1 | L23: 911078 | M23: =K23*L23 -> 911078 | N23: Enfermera/Medico /Auxiliar de Enfermeria
C24: Eje_4-Atención Primaria en Salud | D24: Salud Laboral | E24: Realizar campañas educativas en promoción de la Salud y Prevención de Riesgos Laborales dirigido a los trabajadores del sector informal de la economía de acuerdo a los riesgos a los cuales se encuentra expuestos por su actividad económica y prevencion y erradicacion del trabajo infantil | F24: Educación y Comunicación | G24: Rural y Urbano | H24: Comunitario | I24: Comunidad en general | J24: Infancia, Adolescencia, Juventud, adultez y vejez | K24: 1 | L24: 911078 | M24: =K24*L24 -> 911078 | N24: Enfermera/Medico /Auxiliar de Enfermeria
C25: Eje_4-Atención Primaria en Salud | D25: Salud Mental | E25: Realizar estrategias de Educacion y Comiunicacion para la promoción de la salud mental, prevención de la conducta suicida y el consumo de SPA. | F25: Educacion y comunicación | G25: Rural | H25: Hogar | I25: Comunidad en general | J25: adolescencia, juventud, adultez | K25: 1 | L25: 911078 | M25: =K25*L25 -> 911078 | N25: Psicologa/Trabajo social
C26: Eje_4-Atención Primaria en Salud | D26: Salud Nutricional | E26: Desarrollar acciones de Educacion y comunicacion para la promocion de la salud nuticional con el enfoque del derecho humano a la alimentacion,con enfoque diferencial y ecnocultural | F26: Educacion y comunicación | G26: Rural | H26: Comunitario | I26: Comunidad en general | J26: Adolescencia, juventud, adultez | K26: 1 | L26: 911078 | M26: =K26*L26 -> 911078 | N26: Enfermera/Medico /Auxiliar de Enfermeria
C27: Eje_4-Atención Primaria en Salud | D27: Emergentes Reemergente:IRA-EDA | E27: Desarrollar en los 25 municipios acciones de Educacion y comunicacion en salud para la prevención, manejo y control de la IRA/EDA, con enfoque diferencial y ecnocultural | F27: Educacion y comunicación | G27: Rural | H27: Comunitario | I27: Comunidad en general | J27: Infancia, Adolescencia, Juventud, adultez y vejez | K27: 1 | L27: 911078 | M27: =K27*L27 -> 911078 | N27: Psicologa/Trabajo social
C28: Eje_4-Atención Primaria en Salud | D28: Emergentes Reemergente: TB-LEPRA | E28: Desarrollar en los 25 municipios acciones de Educacion y comunicacion en salud para la prevención, manejo y control de la Tuberculosis y Lepra, con enfoque diferencial y ecnocultural | F28: Educacion y comunicación | G28: Rural | H28: Comunitario | I28: Comunidad en general | J28: Infancia, Adolescencia, Juventud, adultez y vejez | K28: 1 | L28: 911078 | M28: =K28*L28 -> 911078 | N28: Enfermera/Medico /Auxiliar de Enfermeria
C29: Eje_4-Atención Primaria en Salud | D29: Programa Ampliado de Inmunizaciones-PAI | E29: Realizar jornadas de salud intensificando las estrategias de vacunación que garanticen el acceso a la Vacunación sin Barreras en los municipios priorizados del departamento de Sucre | F29: Jornada de salud | G29: Rural | H29: Comunitario | I29: Comunidad en general | J29: Infancia, Adolescencia, Juventud, adultez y vejez | K29: 1 | L29: 1700000 | M29: =K29*L29 -> 1700000 | N29: Enfermera/Medico /Auxiliar de Enfermeria
C30: Eje_4-Atención Primaria en Salud | D30: Programa Ampliado de Inmunizaciones-PAI | E30: Desarrollar en los 25 municipios acciones de Educacion y comunicacion en salud para la prevecion de enfermedades inmunoprevenibles, con enfoque diferencial y ecnocultural | F30: Educacion y comunicación | G30: Rural | H30: Comunitario | I30: Comunidad en general | J30: Primera infancia, infancia, adolescencia, juventud, adultez y vejez | K30: 1 | L30: 911078 | M30: =K30*L30 -> 911078 | N30: Enfermera/Medico /Auxiliar de Enfermeria
C31: Eje_4-Atención Primaria en Salud | D31: Enfermedades Transmitidas por Vectores-ETV | E31: Dessarrollar acciones de educacion en 22 municipios mediante dialogos de saberes, con el fin de generar habilidades, para la apropiación y generación de hábitos protectores, requeridos para la corresponsabilidad y el cuidado de las personas, familias y comunidades para evitar la exposición a vectores biológicos y el control de los mismos en los diferentes entornos y detección y manejo oportuno de signos de alarma para las ETV. | F31: Educacion y comunicación | G31: Rural | H31: Comunitario | I31: Comunidad en general | J31: Primera infancia, infancia, adolescencia, juventud, adultez y vejez | K31: 1 | L31: 911078 | M31: =K31*L31 -> 911078 | N31: Enfermera/Medico /Auxiliar de Enfermeria
C32: Eje_2-Pueblos y comunidades étnicas y campesinas, mujeres, sectores LGBTIQ+ y otras poblaciones por condición y/o situación | D32: Niños, Niñas y Adolescentes | E32: Realizar educacion para la prevención y atención de infecciones parasitarias que afectan a los NNA(Geolmintiasis, pediculosis, escabiosis, teniasis y cisticercosis), en 22 municipios priorizados. | F32: Educacion y comunicación | G32: Rural | H32: Comunitario | I32: Comunidad en general | J32: Infancia, Adolescencia | K32: 1 | L32: 911078 | M32: =K32*L32 -> 911078 | N32: Auxiliar de Enfermeria
... C34: Eje_4-Atención Primaria en Salud | D34: Participacion Social en Salud-PARSO | E34: Desarrollar estrategia de educacion y comunicacion en salud para la promoción de una cultura de la salud, la inclusión social, el autocuidado, el derecho a la salud de los ciudadanos y en procesos de participacion y control social | F34: Educacion y comunicación | G34: Rural | H34: Comunitario | I34: Comunidad en general | J34: Infancia, Adolescencia, Juventud, adultez y vejez | K34: 1 | L34: 911078 | M34: =K34*L34 -> 911078 | N34: Psicologa/Trabajo social
A35: MICROTERRITORIO 3 (De acuerdo a los criterios de priorización) Ubicación: : Corregimiento la Nueva estación 130 hogares, el rosario 12 hogares, las iguanas 12 hogares, pueblo nuevo 37 hogar, zona rural dispersa 24 hogares. Total, Hogares (268). | B35: 331 | C35: Eje_4-Atención Primaria en Salud | D35: Salud Ambiental | E35: Realizar campañas de educacion en salud en temas de manejo adecuado del agua para consumo humano, manejo de residuos, manejo de sustancias quimicas y estrategia de producción limpia en el entorno hogar | F35: Educacion | G35: Rural | H35: Comunitario | I35: Comunidad en general | J35: Infancia, Adolescencia, Juventud, adultez y vejez | K35: 1 | L35: 911078 | M35: =K35*L35 -> 911078 | N35: Ingeniero Ambietal y/o Sanitario
C36: Eje_4-Atención Primaria en Salud | D36: Zoonosis | E36: Educación y sensibilización de las acciones de promoción y prevención de los riesgos zoonóticos orientados al cuidado de la salud de las personas, familias y comunidades, con participación de la sociedad civil, con enfoque étnico e intercultural y con enfoque diferencia | F36: Educación y Comunicación | G36: Rural | H36: Comunitario | I36: Comunidad en general | J36: Infancia, Adolescencia, Juventud, adultez y vejez | K36: 1 | L36: 911078 | M36: =K36*L36 -> 911078 | N36: Medico Veterinario
C37: Eje_4-Atención Primaria en Salud | D37: Enfermedades Cronicas No Transmisbles | E37: Desarrollar estrategias de educacion y comunicaion a la comunidad sobre promocion y manteniminto de la salud en las ECNT con enfoque diferencial y etnocultural | F37: Educación y Comunicación | G37: Rural | H37: Comunitario | I37: Comunidad en general | J37: Infancia, Adolescencia, Juventud, adultez y vejez | K37: 1 | L37: 911079.44 | M37: =K37*L37 -> 911079.44 | N37: Enfermera/Medico /Auxiliar de Enfermeria
C38: Eje_4-Atención Primaria en Salud | D38: Enfermedades Cronicas No Transmisbles | E38: Desarrollar estrategias de educacion y comunicaion a la comunidad sobre los factores de riesgo, factores protectores e intervenciones de detección temprana y protección específica por los canceres priorizados en el territorio con enfoque diferncial y etnocultura | F38: Educación y Comunicación | G38: Rural | H38: Comunitario | I38: Comunidad en general | J38: Infancia, Adolescencia, Juventud, adultez y vejez | K38: 1 | L38: 911078 | M38: =K38*L38 -> 911078 | N38: Enfermera/Medico /Auxiliar de Enfermeria
C39: Eje_4-Atención Primaria en Salud | D39: Salud Laboral | E39: Realizar campañas educativas en promoción de la Salud y Prevención de Riesgos Laborales dirigido a los trabajadores del sector informal de la economía de acuerdo a los riesgos a los cuales se encuentra expuestos por su actividad económica y prevencion y erradicacion del trabajo infantil | F39: Educación y Comunicación | G39: Rural y Urbano | H39: Comunitario | I39: Comunidad en general | J39: Infancia, Adolescencia, Juventud, adultez y vejez | K39: 1 | L39: 911078 | M39: =K39*L39 -> 911078 | N39: Enfermera/Medico /Auxiliar de Enfermeria
C40: Eje_4-Atención Primaria en Salud | D40: Salud Mental | E40: Realizar estrategias de Educacion y Comiunicacion para la promoción de la salud mental, prevención de la conducta suicida y el consumo de SPA. | F40: Educacion y comunicación | G40: Rural | H40: Hogar | I40: Comunidad en general | J40: adolescencia, juventud, adultez | K40: 1 | L40: 911078 | M40: =K40*L40 -> 911078 | N40: Psicologa/Trabajo social
C41: Eje_4-Atención Primaria en Salud | D41: Salud Nutricional | E41: Desarrollar acciones de Educacion y comunicacion para la promocion de la salud nuticional con el enfoque del derecho humano a la alimentacion,con enfoque diferencial y ecnocultural | F41: Educacion y comunicación | G41: Rural | H41: Comunitario | I41: Comunidad en general | J41: Adolescencia, juventud, adultez | K41: 1 | L41: 911078 | M41: =K41*L41 -> 911078 | N41: Enfermera/Medico /Auxiliar de Enfermeria
C42: Eje_4-Atención Primaria en Salud | D42: Emergentes Reemergente:IRA-EDA | E42: Desarrollar en los 25 municipios acciones de Educacion y comunicacion en salud para la prevención, manejo y control de la IRA/EDA, con enfoque diferencial y ecnocultural | F42: Educacion y comunicación | G42: Rural | H42: Comunitario | I42: Comunidad en general | J42: Infancia, Adolescencia, Juventud, adultez y vejez | K42: 1 | L42: 911078 | M42: =K42*L42 -> 911078 | N42: Psicologa/Trabajo social
C43: Eje_4-Atención Primaria en Salud | D43: Emergentes Reemergente: TB-LEPRA | E43: Desarrollar en los 25 municipios acciones de Educacion y comunicacion en salud para la prevención, manejo y control de la Tuberculosis y Lepra, con enfoque diferencial y ecnocultural | F43: Educacion y comunicación | G43: Rural | H43: Comunitario | I43: Comunidad en general | J43: Infancia, Adolescencia, Juventud, adultez y vejez | K43: 1 | L43: 911078 | M43: =K43*L43 -> 911078 | N43: Enfermera/Medico /Auxiliar de Enfermeria
C44: Eje_4-Atención Primaria en Salud | D44: Programa Ampliado de Inmunizaciones-PAI | E44: Realizar jornadas de salud intensificando las estrategias de vacunación que garanticen el acceso a la Vacunación sin Barreras en los municipios priorizados del departamento de Sucre | F44: Jornada de salud | G44: Rural | H44: Comunitario | I44: Comunidad en general | J44: Infancia, Adolescencia, Juventud, adultez y vejez | K44: 1 | L44: 1700000 | M44: =K44*L44 -> 1700000 | N44: Enfermera/Medico /Auxiliar de Enfermeria
C45: Eje_4-Atención Primaria en Salud | D45: Programa Ampliado de Inmunizaciones-PAI | E45: Desarrollar en los 25 municipios acciones de Educacion y comunicacion en salud para la prevecion de enfermedades inmunoprevenibles, con enfoque diferencial y ecnocultural | F45: Educacion y comunicación | G45: Rural | H45: Comunitario | I45: Comunidad en general | J45: Primera infancia, infancia, adolescencia, juventud, adultez y vejez | K45: 1 | L45: 911078 | M45: =K45*L45 -> 911078 | N45: Enfermera/Medico /Auxiliar de Enfermeria
C46: Eje_4-Atención Primaria en Salud | D46: Enfermedades Transmitidas por Vectores-ETV | E46: Dessarrollar acciones de educacion en 22 municipios mediante dialogos de saberes, con el fin de generar habilidades, para la apropiación y generación de hábitos protectores, requeridos para la corresponsabilidad y el cuidado de las personas, familias y comunidades para evitar la exposición a vectores biológicos y el control de los mismos en los diferentes entornos y detección y manejo oportuno de signos de alarma para las ETV. | F46: Educacion y comunicación | G46: Rural | H46: Comunitario | I46: Comunidad en general | J46: Primera infancia, infancia, adolescencia, juventud, adultez y vejez | K46: 1 | L46: 911078 | M46: =K46*L46 -> 911078 | N46: Enfermera/Medico /Auxiliar de Enfermeria
C47: Eje_2-Pueblos y comunidades étnicas y campesinas, mujeres, sectores LGBTIQ+ y otras poblaciones por condición y/o situación | D47: Niños, Niñas y Adolescentes | E47: Realizar educacion para la prevención y atención de infecciones parasitarias que afectan a los NNA(Geolmintiasis, pediculosis, escabiosis, teniasis y cisticercosis), en 22 municipios priorizados. | F47: Educacion y comunicación | G47: Rural | H47: Comunitario | I47: Comunidad en general | J47: Infancia, Adolescencia | K47: 1 | L47: 911078 | M47: =K47*L47 -> 911078 | N47: Auxiliar de Enfermeria
... C49: Eje_4-Atención Primaria en Salud | D49: Participacion Social en Salud-PARSO | E49: Desarrollar estrategia de educacion y comunicacion en salud para la promoción de una cultura de la salud, la inclusión social, el autocuidado, el derecho a la salud de los ciudadanos y en procesos de participacion y control social | F49: Educacion y comunicación | G49: Rural | H49: Comunitario | I49: Comunidad en general | J49: Infancia, Adolescencia, Juventud, adultez y vejez | K49: 1 | L49: 911078 | M49: =K49*L49 -> 911078 | N49: Psicologa/Trabajo social
A50: MICROTERRITORIO 4 (De acuerdo a los criterios de priorización) Ubicación: Corregimiento Cedeño 78 hogares, la primavera , vijagual 4 hogares, apartada vijagual , molinero 74 hogares. Total, Hogares (156). | B50: 204 | C50: Eje_4-Atención Primaria en Salud | D50: Salud Ambiental | E50: Realizar campañas de educacion en salud en temas de manejo adecuado del agua para consumo humano, manejo de residuos, manejo de sustancias quimicas y estrategia de producción limpia en el entorno hogar | F50: Educacion | G50: Rural | H50: Comunitario | I50: Comunidad en general | J50: Infancia, Adolescencia, Juventud, adultez y vejez | K50: 1 | L50: 911078 | M50: =K50*L50 -> 911078 | N50: Ingeniero Ambietal y/o Sanitario
C51: Eje_4-Atención Primaria en Salud | D51: Zoonosis | E51: Educación y sensibilización de las acciones de promoción y prevención de los riesgos zoonóticos orientados al cuidado de la salud de las personas, familias y comunidades, con participación de la sociedad civil, con enfoque étnico e intercultural y con enfoque diferencia | F51: Educación y Comunicación | G51: Rural | H51: Comunitario | I51: Comunidad en general | J51: Infancia, Adolescencia, Juventud, adultez y vejez | K51: 1 | L51: 911078 | M51: =K51*L51 -> 911078 | N51: Medico Veterinario
C52: Eje_4-Atención Primaria en Salud | D52: Enfermedades Cronicas No Transmisbles | E52: Desarrollar estrategias de educacion y comunicaion a la comunidad sobre promocion y manteniminto de la salud en las ECNT con enfoque diferencial y etnocultural | F52: Educación y Comunicación | G52: Rural | H52: Comunitario | I52: Comunidad en general | J52: Infancia, Adolescencia, Juventud, adultez y vejez | K52: 1 | L52: 911079.44 | M52: =K52*L52 -> 911079.44 | N52: Enfermera/Medico /Auxiliar de Enfermeria
C53: Eje_4-Atención Primaria en Salud | D53: Enfermedades Cronicas No Transmisbles | E53: Desarrollar estrategias de educacion y comunicaion a la comunidad sobre los factores de riesgo, factores protectores e intervenciones de detección temprana y protección específica por los canceres priorizados en el territorio con enfoque diferncial y etnocultura | F53: Educación y Comunicación | G53: Rural | H53: Comunitario | I53: Comunidad en general | J53: Infancia, Adolescencia, Juventud, adultez y vejez | K53: 1 | L53: 911078 | M53: =K53*L53 -> 911078 | N53: Enfermera/Medico /Auxiliar de Enfermeria
C54: Eje_4-Atención Primaria en Salud | D54: Salud Laboral | E54: Realizar campañas educativas en promoción de la Salud y Prevención de Riesgos Laborales dirigido a los trabajadores del sector informal de la economía de acuerdo a los riesgos a los cuales se encuentra expuestos por su actividad económica y prevencion y erradicacion del trabajo infantil | F54: Educación y Comunicación | G54: Rural y Urbano | H54: Comunitario | I54: Comunidad en general | J54: Infancia, Adolescencia, Juventud, adultez y vejez | K54: 1 | L54: 911078 | M54: =K54*L54 -> 911078 | N54: Enfermera/Medico /Auxiliar de Enfermeria
C55: Eje_4-Atención Primaria en Salud | D55: Salud Mental | E55: Realizar estrategias de Educacion y Comiunicacion para la promoción de la salud mental, prevención de la conducta suicida y el consumo de SPA. | F55: Educacion y comunicación | G55: Rural | H55: Hogar | I55: Comunidad en general | J55: adolescencia, juventud, adultez | K55: 1 | L55: 911078 | M55: =K55*L55 -> 911078 | N55: Psicologa/Trabajo social
C56: Eje_4-Atención Primaria en Salud | D56: Salud Nutricional | E56: Desarrollar acciones de Educacion y comunicacion para la promocion de la salud nuticional con el enfoque del derecho humano a la alimentacion,con enfoque diferencial y ecnocultural | F56: Educacion y comunicación | G56: Rural | H56: Comunitario | I56: Comunidad en general | J56: Adolescencia, juventud, adultez | K56: 1 | L56: 911078 | M56: =K56*L56 -> 911078 | N56: Enfermera/Medico /Auxiliar de Enfermeria
C57: Eje_4-Atención Primaria en Salud | D57: Emergentes Reemergente:IRA-EDA | E57: Desarrollar en los 25 municipios acciones de Educacion y comunicacion en salud para la prevención, manejo y control de la IRA/EDA, con enfoque diferencial y ecnocultural | F57: Educacion y comunicación | G57: Rural | H57: Comunitario | I57: Comunidad en general | J57: Infancia, Adolescencia, Juventud, adultez y vejez | K57: 1 | L57: 911078 | M57: =K57*L57 -> 911078 | N57: Psicologa/Trabajo social
C58: Eje_4-Atención Primaria en Salud | D58: Emergentes Reemergente: TB-LEPRA | E58: Desarrollar en los 25 municipios acciones de Educacion y comunicacion en salud para la prevención, manejo y control de la Tuberculosis y Lepra, con enfoque diferencial y ecnocultural | F58: Educacion y comunicación | G58: Rural | H58: Comunitario | I58: Comunidad en general | J58: Infancia, Adolescencia, Juventud, adultez y vejez | K58: 1 | L58: 911078 | M58: =K58*L58 -> 911078 | N58: Enfermera/Medico /Auxiliar de Enfermeria
C59: Eje_4-Atención Primaria en Salud | D59: Programa Ampliado de Inmunizaciones-PAI | E59: Realizar jornadas de salud intensificando las estrategias de vacunación que garanticen el acceso a la Vacunación sin Barreras en los municipios priorizados del departamento de Sucre | F59: Jornada de salud | G59: Rural | H59: Comunitario | I59: Comunidad en general | J59: Infancia, Adolescencia, Juventud, adultez y vejez | K59: 1 | L59: 1700000 | M59: =K59*L59 -> 1700000 | N59: Enfermera/Medico /Auxiliar de Enfermeria
C60: Eje_4-Atención Primaria en Salud | D60: Programa Ampliado de Inmunizaciones-PAI | E60: Desarrollar en los 25 municipios acciones de Educacion y comunicacion en salud para la prevecion de enfermedades inmunoprevenibles, con enfoque diferencial y ecnocultural | F60: Educacion y comunicación | G60: Rural | H60: Comunitario | I60: Comunidad en general | J60: Primera infancia, infancia, adolescencia, juventud, adultez y vejez | K60: 1 | L60: 911078 | M60: =K60*L60 -> 911078 | N60: Enfermera/Medico /Auxiliar de Enfermeria
C61: Eje_4-Atención Primaria en Salud | D61: Enfermedades Transmitidas por Vectores-ETV | E61: Dessarrollar acciones de educacion en 22 municipios mediante dialogos de saberes, con el fin de generar habilidades, para la apropiación y generación de hábitos protectores, requeridos para la corresponsabilidad y el cuidado de las personas, familias y comunidades para evitar la exposición a vectores biológicos y el control de los mismos en los diferentes entornos y detección y manejo oportuno de signos de alarma para las ETV. | F61: Educacion y comunicación | G61: Rural | H61: Comunitario | I61: Comunidad en general | J61: Primera infancia, infancia, adolescencia, juventud, adultez y vejez | K61: 1 | L61: 911078 | M61: =K61*L61 -> 911078 | N61: Enfermera/Medico /Auxiliar de Enfermeria
C62: Eje_2-Pueblos y comunidades étnicas y campesinas, mujeres, sectores LGBTIQ+ y otras poblaciones por condición y/o situación | D62: Niños, Niñas y Adolescentes | E62: Realizar educacion para la prevención y atención de infecciones parasitarias que afectan a los NNA(Geolmintiasis, pediculosis, escabiosis, teniasis y cisticercosis), en 22 municipios priorizados. | F62: Educacion y comunicación | G62: Rural | H62: Comunitario | I62: Comunidad en general | J62: Infancia, Adolescencia | K62: 1 | L62: 911078 | M62: =K62*L62 -> 911078 | N62: Auxiliar de Enfermeria
... C64: Eje_4-Atención Primaria en Salud | D64: Participacion Social en Salud-PARSO | E64: Desarrollar estrategia de educacion y comunicacion en salud para la promoción de una cultura de la salud, la inclusión social, el autocuidado, el derecho a la salud de los ciudadanos y en procesos de participacion y control social | F64: Educacion y comunicación | G64: Rural | H64: Comunitario | I64: Comunidad en general | J64: Infancia, Adolescencia, Juventud, adultez y vejez | K64: 1 | L64: 911078 | M64: =K64*L64 -> 911078 | N64: Psicologa/Trabajo social
K65: Valor total Equipo basico | M65: =SUM(M5:M64) -> 57820374
K66: Administración y Utilidad (Costos indirectos) | M66: ='EBS PIC 2024 '!G96 -> 3945924 | N66: =M66*100%/M65 -> 0.068244526
K67: TOTAL | M67: =M65+M66 -> 61766298

Sheet LOS PALMITOS
A1: ANEXO TÉCNICO DEL CONTRATO DEL PLAN DE INTERVENCIONES COLECTIVAS VIGENCIA 2024
A2: TERRITORIO: MUNICIPIO DE LOS PALMITOS
A3: No. de Microterritorio | B3: No. de Hogares | C3: Eje Estrateagico (PTS 2022-2031) | D3: Componenete | E3: Actividades programadas | F3: CATEGORIA | G3: Lugar de Ejecución | I3: Población Objeto (No. de personas y momento de curso de vida) | K3: Cantidad a ejecutar | L3: Valor Unitario | M3: Valor Total | N3: Perfil del Talento humano del EBS | O3: No. Equipo Básico
F4: CATEGORIA RES 518/15 | G4: Ámbito territorial (Res 3202/16) | H4: Entornos (Res 3202/16) | I4: Población sujeto (Res 3280 de 2018) | J4: Momentos del curso de vida (Res 3202/16) | O4: 1
A5: MICROTERRITORIO 1 (De acuerdo a los criterios de priorización) Ubicación: . | C5: Eje_4-Atención Primaria en Salud | D5: Salud Ambiental | E5: Realizar campañas de educacion en salud en temas de manejo adecuado del agua para consumo humano, manejo de residuos, manejo de sustancias quimicas y estrategia de producción limpia en el entorno hogar | F5: Educacion | G5: Rural | H5: Comunitario | I5: Comunidad en general | J5: Infancia, Adolescencia, Juventud, adultez y vejez | K5: 1 | L5: 911078 | M5: =K5*L5 -> 911078 | N5: Ingeniero Ambietal y/o Sanitario | P5: ='EBS PIC 2024 '!H369 -> 51020374 | Q5: =P5/14 -> 3644312.4 | R5: =Q5/4 -> 911078.1
C6: Eje_4-Atención Primaria en Salud | D6: Zoonosis | E6: Educación y sensibilización de las acciones de promoción y prevención de los riesgos zoonóticos orientados al cuidado de la salud de las personas, familias y comunidades, con participación de la sociedad civil, con enfoque étnico e intercultural y con enfoque diferencia | F6: Educación y Comunicación | G6: Rural | H6: Comunitario | I6: Comunidad en general | J6: Infancia, Adolescencia, Juventud, adultez y vejez | K6: 1 | L6: 911078 | M6: =K6*L6 -> 911078 | N6: Medico Veterinario | P6: ='EBS PIC 2024 '!G369 -> 6800000 | Q6: =P6/4 -> 1700000
C7: Eje_4-Atención Primaria en Salud | D7: Enfermedades Cronicas No Transmisbles | E7: Desarrollar estrategias de educacion y comunicaion a la comunidad sobre promocion y manteniminto de la salud en las ECNT con enfoque diferencial y etnocultural | F7: Educación y Comunicación | G7: Rural | H7: Comunitario | I7: Comunidad en general | J7: Infancia, Adolescencia, Juventud, adultez y vejez | K7: 1 | L7: 911079.44 | M7: =K7*L7 -> 911079.44 | N7: Enfermera/Medico /Auxiliar de Enfermeria
C8: Eje_4-Atención Primaria en Salud | D8: Enfermedades Cronicas No Transmisbles | E8: Desarrollar estrategias de educacion y comunicaion a la comunidad sobre los factores de riesgo, factores protectores e intervenciones de detección temprana y protección específica por los canceres priorizados en el territorio con enfoque diferncial y etnocultura | F8: Educación y Comunicación | G8: Rural | H8: Comunitario | I8: Comunidad en general | J8: Infancia, Adolescencia, Juventud, adultez y vejez | K8: 1 | L8: 911078 | M8: =K8*L8 -> 911078 | N8: Enfermera/Medico /Auxiliar de Enfermeria
C9: Eje_4-Atención Primaria en Salud | D9: Salud Laboral | E9: Realizar campañas educativas en promoción de la Salud y Prevención de Riesgos Laborales dirigido a los trabajadores del sector informal de la economía de acuerdo a los riesgos a los cuales se encuentra expuestos por su actividad económica y prevencion y erradicacion del trabajo infantil | F9: Educación y Comunicación | G9: Rural y Urbano | H9: Comunitario | I9: Comunidad en general | J9: Infancia, Adolescencia, Juventud, adultez y vejez | K9: 1 | L9: 911078 | M9: =K9*L9 -> 911078 | N9: Enfermera/Medico /Auxiliar de Enfermeria
C10: Eje_4-Atención Primaria en Salud | D10: Salud Mental | E10: Realizar estrategias de Educacion y Comiunicacion para la promoción de la salud mental, prevención de la conducta suicida y el consumo de SPA. | F10: Educacion y comunicación | G10: Rural | H10: Hogar | I10: Comunidad en general | J10: adolescencia, juventud, adultez | K10: 1 | L10: 911078 | M10: =K10*L10 -> 911078 | N10: Psicologa/Trabajo social
C11: Eje_4-Atención Primaria en Salud | D11: Salud Nutricional | E11: Desarrollar acciones de Educacion y comunicacion para la promocion de la salud nuticional con el enfoque del derecho humano a la alimentacion,con enfoque diferencial y ecnocultural | F11: Educacion y comunicación | G11: Rural | H11: Comunitario | I11: Comunidad en general | J11: Adolescencia, juventud, adultez | K11: 1 | L11: 911078 | M11: =K11*L11 -> 911078 | N11: Enfermera/Medico /Auxiliar de Enfermeria
C12: Eje_4-Atención Primaria en Salud | D12: Emergentes Reemergente:IRA-EDA | E12: Desarrollar en los 25 municipios acciones de Educacion y comunicacion en salud para la prevención, manejo y control de la IRA/EDA, con enfoque diferencial y ecnocultural | F12: Educacion y comunicación | G12: Rural | H12: Comunitario | I12: Comunidad en general | J12: Infancia, Adolescencia, Juventud, adultez y vejez | K12: 1 | L12: 911078 | M12: =K12*L12 -> 911078 | N12: Psicologa/Trabajo social
C13: Eje_4-Atención Primaria en Salud | D13: Emergentes Reemergente: TB-LEPRA | E13: Desarrollar en los 25 municipios acciones de Educacion y comunicacion en salud para la prevención, manejo y control de la Tuberculosis y Lepra, con enfoque diferencial y ecnocultural | F13: Educacion y comunicación | G13: Rural | H13: Comunitario | I13: Comunidad en general | J13: Infancia, Adolescencia, Juventud, adultez y vejez | K13: 1 | L13: 911078 | M13: =K13*L13 -> 911078 | N13: Enfermera/Medico /Auxiliar de Enfermeria
C14: Eje_4-Atención Primaria en Salud | D14: Programa Ampliado de Inmunizaciones-PAI | E14: Realizar jornadas de salud intensificando las estrategias de vacunación que garanticen el acceso a la Vacunación sin Barreras en los municipios priorizados del departamento de Sucre | F14: Jornada de salud | G14: Rural | H14: Comunitario | I14: Comunidad en general | J14: Infancia, Adolescencia, Juventud, adultez y vejez | K14: 1 | L14: 1700000 | M14: =K14*L14 -> 1700000 | N14: Enfermera/Medico /Auxiliar de Enfermeria
C15: Eje_4-Atención Primaria en Salud | D15: Programa Ampliado de Inmunizaciones-PAI | E15: Desarrollar en los 25 municipios acciones de Educacion y comunicacion en salud para la prevecion de enfermedades inmunoprevenibles, con enfoque diferencial y ecnocultural | F15: Educacion y comunicación | G15: Rural | H15: Comunitario | I15: Comunidad en general | J15: Primera infancia, infancia, adolescencia, juventud, adultez y vejez | K15: 1 | L15: 911078 | M15: =K15*L15 -> 911078 | N15: Enfermera/Medico /Auxiliar de Enfermeria
C16: Eje_4-Atención Primaria en Salud | D16: Enfermedades Transmitidas por Vectores-ETV | E16: Dessarrollar acciones de educacion en 22 municipios mediante dialogos de saberes, con el fin de generar habilidades, para la apropiación y generación de hábitos protectores, requeridos para la corresponsabilidad y el cuidado de las personas, familias y comunidades para evitar la exposición a vectores biológicos y el control de los mismos en los diferentes entornos y detección y manejo oportuno de signos de alarma para las ETV. | F16: Educacion y comunicación | G16: Rural | H16: Comunitario | I16: Comunidad en general | J16: Primera infancia, infancia, adolescencia, juventud, adultez y vejez | K16: 1 | L16: 911078 | M16: =K16*L16 -> 911078 | N16: Enfermera/Medico /Auxiliar de Enfermeria
C17: Eje_2-Pueblos y comunidades étnicas y campesinas, mujeres, sectores LGBTIQ+ y otras poblaciones por condición y/o situación | D17: Niños, Niñas y Adolescentes | E17: Realizar educacion para la prevención y atención de infecciones parasitarias que afectan a los NNA(Geolmintiasis, pediculosis, escabiosis, teniasis y cisticercosis), en 22 municipios priorizados. | F17: Educacion y comunicación | G17: Rural | H17: Comunitario | I17: Comunidad en general | J17: Infancia, Adolescencia | K17: 1 | L17: 911078 | M17: =K17*L17 -> 911078 | N17: Auxiliar de Enfermeria
C18: Eje_2-Pueblos y comunidades étnicas y campesinas, mujeres, sectores LGBTIQ+ y otras poblaciones por condición y/o situación | D18: Poblaciones Vulnerables | E18: Realizar estrategias de educacion y comunicación en salud para la promoción de una cultura de la salud, la inclusión social, el autocuidado, el derecho a la salud con enfoque diferencial y etnocultural para los pueblos indigenas ,NARP, victimas del conflicto armado, las cobijadas por sentencias y adultos mayores | F18: Educacion y comunicación | G18: Rural | H18: Comunitario | I18: Comunidad en general | J18: Infancia, Adolescencia, Juventud, adultez y vejez | K18: 1 | L18: 911078 | M18: =K18*L18 -> 911078 | N18: Psicologa/Trabajo social
C19: Eje_4-Atención Primaria en Salud | D19: Participacion Social en Salud-PARSO | E19: Desarrollar estrategia de educacion y comunicacion en salud para la promoción de una cultura de la salud, la inclusión social, el autocuidado, el derecho a la salud de los ciudadanos y en procesos de participacion y control social | F19: Educacion y comunicación | G19: Rural | H19: Comunitario | I19: Comunidad en general | J19: Infancia, Adolescencia, Juventud, adultez y vejez | K19: 1 | L19: 911078 | M19: =K19*L19 -> 911078 | N19: Psicologa/Trabajo social
A20: MICROTERRITORIO 2 (De acuerdo a los criterios de priorización) Ubicación: | C20: Eje_4-Atención Primaria en Salud | D20: Salud Ambiental | E20: Realizar campañas de educacion en salud en temas de manejo adecuado del agua para consumo humano, manejo de residuos, manejo de sustancias quimicas y estrategia de producción limpia en el entorno hogar | F20: Educacion | G20: Rural | H20: Comunitario | I20: Comunidad en general | J20: Infancia, Adolescencia, Juventud, adultez y vejez | K20: 1 | L20: 911078 | M20: =K20*L20 -> 911078 | N20: Ingeniero Ambietal y/o Sanitario
C21: Eje_4-Atención Primaria en Salud | D21: Zoonosis | E21: Educación y sensibilización de las acciones de promoción y prevención de los riesgos zoonóticos orientados al cuidado de la salud de las personas, familias y comunidades, con participación de la sociedad civil, con enfoque étnico e intercultural y con enfoque diferencia | F21: Educación y Comunicación | G21: Rural | H21: Comunitario | I21: Comunidad en general | J21: Infancia, Adolescencia, Juventud, adultez y vejez | K21: 1 | L21: 911078 | M21: =K21*L21 -> 911078 | N21: Medico Veterinario
C22: Eje_4-Atención Primaria en Salud | D22: Enfermedades Cronicas No Transmisbles | E22: Desarrollar estrategias de educacion y comunicaion a la comunidad sobre promocion y manteniminto de la salud en las ECNT con enfoque diferencial y etnocultural | F22: Educación y Comunicación | G22: Rural | H22: Comunitario | I22: Comunidad en general | J22: Infancia, Adolescencia, Juventud, adultez y vejez | K22: 1 | L22: 911079.44 | M22: =K22*L22 -> 911079.44 | N22: Enfermera/Medico /Auxiliar de Enfermeria
C23: Eje_4-Atención Primaria en Salud | D23: Enfermedades Cronicas No Transmisbles | E23: Desarrollar estrategias de educacion y comunicaion a la comunidad sobre los factores de riesgo, factores protectores e intervenciones de detección temprana y protección específica por los canceres priorizados en el territorio con enfoque diferncial y etnocultura | F23: Educación y Comunicación | G23: Rural | H23: Comunitario | I23: Comunidad en general | J23: Infancia, Adolescencia, Juventud, adultez y vejez | K23: 1 | L23: 911078 | M23: =K23*L23 -> 911078 | N23: Enfermera/Medico /Auxiliar de Enfermeria
C24: Eje_4-Atención Primaria en Salud | D24: Salud Laboral | E24: Realizar campañas educativas en promoción de la Salud y Prevención de Riesgos Laborales dirigido a los trabajadores del sector informal de la economía de acuerdo a los riesgos a los cuales se encuentra expuestos por su actividad económica y prevencion y erradicacion del trabajo infantil | F24: Educación y Comunicación | G24: Rural y Urbano | H24: Comunitario | I24: Comunidad en general | J24: Infancia, Adolescencia, Juventud, adultez y vejez | K24: 1 | L24: 911078 | M24: =K24*L24 -> 911078 | N24: Enfermera/Medico /Auxiliar de Enfermeria
C25: Eje_4-Atención Primaria en Salud | D25: Salud Mental | E25: Realizar estrategias de Educacion y Comiunicacion para la promoción de la salud mental, prevención de la conducta suicida y el consumo de SPA. | F25: Educacion y comunicación | G25: Rural | H25: Hogar | I25: Comunidad en general | J25: adolescencia, juventud, adultez | K25: 1 | L25: 911078 | M25: =K25*L25 -> 911078 | N25: Psicologa/Trabajo social
C26: Eje_4-Atención Primaria en Salud | D26: Salud Nutricional | E26: Desarrollar acciones de Educacion y comunicacion para la promocion de la salud nuticional con el enfoque del derecho humano a la alimentacion,con enfoque diferencial y ecnocultural | F26: Educacion y comunicación | G26: Rural | H26: Comunitario | I26: Comunidad en general | J26: Adolescencia, juventud, adultez | K26: 1 | L26: 911078 | M26: =K26*L26 -> 911078 | N26: Enfermera/Medico /Auxiliar de Enfermeria
C27: Eje_4-Atención Primaria en Salud | D27: Emergentes Reemergente:IRA-EDA | E27: Desarrollar en los 25 municipios acciones de Educacion y comunicacion en salud para la prevención, manejo y control de la IRA/EDA, con enfoque diferencial y ecnocultural | F27: Educacion y comunicación | G27: Rural | H27: Comunitario | I27: Comunidad en general | J27: Infancia, Adolescencia, Juventud, adultez y vejez | K27: 1 | L27: 911078 | M27: =K27*L27 -> 911078 | N27: Psicologa/Trabajo social
C28: Eje_4-Atención Primaria en Salud | D28: Emergentes Reemergente: TB-LEPRA | E28: Desarrollar en los 25 municipios acciones de Educacion y comunicacion en salud para la prevención, manejo y control de la Tuberculosis y Lepra, con enfoque diferencial y ecnocultural | F28: Educacion y comunicación | G28: Rural | H28: Comunitario | I28: Comunidad en general | J28: Infancia, Adolescencia, Juventud, adultez y vejez | K28: 1 | L28: 911078 | M28: =K28*L28 -> 911078 | N28: Enfermera/Medico /Auxiliar de Enfermeria
C29: Eje_4-Atención Primaria en Salud | D29: Programa Ampliado de Inmunizaciones-PAI | E29: Realizar jornadas de salud intensificando las estrategias de vacunación que garanticen el acceso a la Vacunación sin Barreras en los municipios priorizados del departamento de Sucre | F29: Jornada de salud | G29: Rural | H29: Comunitario | I29: Comunidad en general | J29: Infancia, Adolescencia, Juventud, adultez y vejez | K29: 1 | L29: 1700000 | M29: =K29*L29 -> 1700000 | N29: Enfermera/Medico /Auxiliar de Enfermeria
C30: Eje_4-Atención Primaria en Salud | D30: Programa Ampliado de Inmunizaciones-PAI | E30: Desarrollar en los 25 municipios acciones de Educacion y comunicacion en salud para la prevecion de enfermedades inmunoprevenibles, con enfoque diferencial y ecnocultural | F30: Educacion y comunicación | G30: Rural | H30: Comunitario | I30: Comunidad en general | J30: Primera infancia, infancia, adolescencia, juventud, adultez y vejez | K30: 1 | L30: 911078 | M30: =K30*L30 -> 911078 | N30: Enfermera/Medico /Auxiliar de Enfermeria
C31: Eje_4-Atención Primaria en Salud | D31: Enfermedades Transmitidas por Vectores-ETV | E31: Dessarrollar acciones de educacion en 22 municipios mediante dialogos de saberes, con el fin de generar habilidades, para la apropiación y generación de hábitos protectores, requeridos para la corresponsabilidad y el cuidado de las personas, familias y comunidades para evitar la exposición a vectores biológicos y el control de los mismos en los diferentes entornos y detección y manejo oportuno de signos de alarma para las ETV. | F31: Educacion y comunicación | G31: Rural | H31: Comunitario | I31: Comunidad en general | J31: Primera infancia, infancia, adolescencia, juventud, adultez y vejez | K31: 1 | L31: 911078 | M31: =K31*L31 -> 911078 | N31: Enfermera/Medico /Auxiliar de Enfermeria
C32: Eje_2-Pueblos y comunidades étnicas y campesinas, mujeres, sectores LGBTIQ+ y otras poblaciones por condición y/o situación | D32: Niños, Niñas y Adolescentes | E32: Realizar educacion para la prevención y atención de infecciones parasitarias que afectan a los NNA(Geolmintiasis, pediculosis, escabiosis, teniasis y cisticercosis), en 22 municipios priorizados. | F32: Educacion y comunicación | G32: Rural | H32: Comunitario | I32: Comunidad en general | J32: Infancia, Adolescencia | K32: 1 | L32: 911078 | M32: =K32*L32 -> 911078 | N32: Auxiliar de Enfermeria
... C49: Eje_4-Atención Primaria en Salud | D49: Participacion Social en Salud-PARSO | E49: Desarrollar estrategia de educacion y comunicacion en salud para la promoción de una cultura de la salud, la inclusión social, el autocuidado, el derecho a la salud de los ciudadanos y en procesos de participacion y control social | F49: Educacion y comunicación | G49: Rural | H49: Comunitario | I49: Comunidad en general | J49: Infancia, Adolescencia, Juventud, adultez y vejez | K49: 1 | L49: 911078 | M49: =K49*L49 -> 911078 | N49: Psicologa/Trabajo social
A50: MICROTERRITORIO 4 (De acuerdo a los criterios de priorización) Ubicación: | C50: Eje_4-Atención Primaria en Salud | D50: Salud Ambiental | E50: Realizar campañas de educacion en salud en temas de manejo adecuado del agua para consumo humano, manejo de residuos, manejo de sustancias quimicas y estrategia de producción limpia en el entorno hogar | F50: Educacion | G50: Rural | H50: Comunitario | I50: Comunidad en general | J50: Infancia, Adolescencia, Juventud, adultez y vejez | K50: 1 | L50: 911078 | M50: =K50*L50 -> 911078 | N50: Ingeniero Ambietal y/o Sanitario
C51: Eje_4-Atención Primaria en Salud | D51: Zoonosis | E51: Educación y sensibilización de las acciones de promoción y prevención de los riesgos zoonóticos orientados al cuidado de la salud de las personas, familias y comunidades, con participación de la sociedad civil, con enfoque étnico e intercultural y con enfoque diferencia | F51: Educación y Comunicación | G51: Rural | H51: Comunitario | I51: Comunidad en general | J51: Infancia, Adolescencia, Juventud, adultez y vejez | K51: 1 | L51: 911078 | M51: =K51*L51 -> 911078 | N51: Medico Veterinario
C52: Eje_4-Atención Primaria en Salud | D52: Enfermedades Cronicas No Transmisbles | E52: Desarrollar estrategias de educacion y comunicaion a la comunidad sobre promocion y manteniminto de la salud en las ECNT con enfoque diferencial y etnocultural | F52: Educación y Comunicación | G52: Rural | H52: Comunitario | I52: Comunidad en general | J52: Infancia, Adolescencia, Juventud, adultez y vejez | K52: 1 | L52: 911079.44 | M52: =K52*L52 -> 911079.44 | N52: Enfermera/Medico /Auxiliar de Enfermeria
C53: Eje_4-Atención Primaria en Salud | D53: Enfermedades Cronicas No Transmisbles | E53: Desarrollar estrategias de educacion y comunicaion a la comunidad sobre los factores de riesgo, factores protectores e intervenciones de detección temprana y protección específica por los canceres priorizados en el territorio con enfoque diferncial y etnocultura | F53: Educación y Comunicación | G53: Rural | H53: Comunitario | I53: Comunidad en general | J53: Infancia, Adolescencia, Juventud, adultez y vejez | K53: 1 | L53: 911078 | M53: =K53*L53 -> 911078 | N53: Enfermera/Medico /Auxiliar de Enfermeria
C54: Eje_4-Atención Primaria en Salud | D54: Salud Laboral | E54: Realizar campañas educativas en promoción de la Salud y Prevención de Riesgos Laborales dirigido a los trabajadores del sector informal de la economía de acuerdo a los riesgos a los cuales se encuentra expuestos por su actividad económica y prevencion y erradicacion del trabajo infantil | F54: Educación y Comunicación | G54: Rural y Urbano | H54: Comunitario | I54: Comunidad en general | J54: Infancia, Adolescencia, Juventud, adultez y vejez | K54: 1 | L54: 911078 | M54: =K54*L54 -> 911078 | N54: Enfermera/Medico /Auxiliar de Enfermeria
C55: Eje_4-Atención Primaria en Salud | D55: Salud Mental | E55: Realizar estrategias de Educacion y Comiunicacion para la promoción de la salud mental, prevención de la conducta suicida y el consumo de SPA. | F55: Educacion y comunicación | G55: Rural | H55: Hogar | I55: Comunidad en general | J55: adolescencia, juventud, adultez | K55: 1 | L55: 911078 | M55: =K55*L55 -> 911078 | N55: Psicologa/Trabajo social
C56: Eje_4-Atención Primaria en Salud | D56: Salud Nutricional | E56: Desarrollar acciones de Educacion y comunicacion para la promocion de la salud nuticional con el enfoque del derecho humano a la alimentacion,con enfoque diferencial y ecnocultural | F56: Educacion y comunicación | G56: Rural | H56: Comunitario | I56: Comunidad en general | J56: Adolescencia, juventud, adultez | K56: 1 | L56: 911078 | M56: =K56*L56 -> 911078 | N56: Enfermera/Medico /Auxiliar de Enfermeria
C57: Eje_4-Atención Primaria en Salud | D57: Emergentes Reemergente:IRA-EDA | E57: Desarrollar en los 25 municipios acciones de Educacion y comunicacion en salud para la prevención, manejo y control de la IRA/EDA, con enfoque diferencial y ecnocultural | F57: Educacion y comunicación | G57: Rural | H57: Comunitario | I57: Comunidad en general | J57: Infancia, Adolescencia, Juventud, adultez y vejez | K57: 1 | L57: 911078 | M57: =K57*L57 -> 911078 | N57: Psicologa/Trabajo social
C58: Eje_4-Atención Primaria en Salud | D58: Emergentes Reemergente: TB-LEPRA | E58: Desarrollar en los 25 municipios acciones de Educacion y comunicacion en salud para la prevención, manejo y control de la Tuberculosis y Lepra, con enfoque diferencial y ecnocultural | F58: Educacion y comunicación | G58: Rural | H58: Comunitario | I58: Comunidad en general | J58: Infancia, Adolescencia, Juventud, adultez y vejez | K58: 1 | L58: 911078 | M58: =K58*L58 -> 911078 | N58: Enfermera/Medico /Auxiliar de Enfermeria
C59: Eje_4-Atención Primaria en Salud | D59: Programa Ampliado de Inmunizaciones-PAI | E59: Realizar jornadas de salud intensificando las estrategias de vacunación que garanticen el acceso a la Vacunación sin Barreras en los municipios priorizados del departamento de Sucre | F59: Jornada de salud | G59: Rural | H59: Comunitario | I59: Comunidad en general | J59: Infancia, Adolescencia, Juventud, adultez y vejez | K59: 1 | L59: 1700000 | M59: =K59*L59 -> 1700000 | N59: Enfermera/Medico /Auxiliar de Enfermeria
C60: Eje_4-Atención Primaria en Salud | D60: Programa Ampliado de Inmunizaciones-PAI | E60: Desarrollar en los 25 municipios acciones de Educacion y comunicacion en salud para la prevecion de enfermedades inmunoprevenibles, con enfoque diferencial y ecnocultural | F60: Educacion y comunicación | G60: Rural | H60: Comunitario | I60: Comunidad en general | J60: Primera infancia, infancia, adolescencia, juventud, adultez y vejez | K60: 1 | L60: 911078 | M60: =K60*L60 -> 911078 | N60: Enfermera/Medico /Auxiliar de Enfermeria
C61: Eje_4-Atención Primaria en Salud | D61: Enfermedades Transmitidas por Vectores-ETV | E61: Dessarrollar acciones de educacion en 22 municipios mediante dialogos de saberes, con el fin de generar habilidades, para la apropiación y generación de hábitos protectores, requeridos para la corresponsabilidad y el cuidado de las personas, familias y comunidades para evitar la exposición a vectores biológicos y el control de los mismos en los diferentes entornos y detección y manejo oportuno de signos de alarma para las ETV. | F61: Educacion y comunicación | G61: Rural | H61: Comunitario | I61: Comunidad en general | J61: Primera infancia, infancia, adolescencia, juventud, adultez y vejez | K61: 1 | L61: 911078 | M61: =K61*L61 -> 911078 | N61: Enfermera/Medico /Auxiliar de Enfermeria
C62: Eje_2-Pueblos y comunidades étnicas y campesinas, mujeres, sectores LGBTIQ+ y otras poblaciones por condición y/o situación | D62: Niños, Niñas y Adolescentes | E62: Realizar educacion para la prevención y atención de infecciones parasitarias que afectan a los NNA(Geolmintiasis, pediculosis, escabiosis, teniasis y cisticercosis), en 22 municipios priorizados. | F62: Educacion y comunicación | G62: Rural | H62: Comunitario | I62: Comunidad en general | J62: Infancia, Adolescencia | K62: 1 | L62: 911078 | M62: =K62*L62 -> 911078 | N62: Auxiliar de Enfermeria
... C64: Eje_4-Atención Primaria en Salud | D64: Participacion Social en Salud-PARSO | E64: Desarrollar estrategia de educacion y comunicacion en salud para la promoción de una cultura de la salud, la inclusión social, el autocuidado, el derecho a la salud de los ciudadanos y en procesos de participacion y control social | F64: Educacion y comunicación | G64: Rural | H64: Comunitario | I64: Comunidad en general | J64: Infancia, Adolescencia, Juventud, adultez y vejez | K64: 1 | L64: 911078 | M64: =K64*L64 -> 911078 | N64: Psicologa/Trabajo social
K65: Sub total EBS | M65: =SUM(M5:M64) -> 57820374
K66: Administración y Utilidad (Costos indirectos) | M66: ='EBS PIC 2024 '!G356 -> 3945924 | N66: =M66*100%/M65 -> 0.068244526
K67: TOTAL | M67: =M65+M66 -> 61766298
M68: ='EBS PIC 2024 '!G373 -> 61766298

Sheet SAN PEDRO
A1: ANEXO TÉCNICO DEL CONTRATO DEL PLAN DE INTERVENCIONES COLECTIVAS VIGENCIA 2024
A2: TERRITORIO: MUNICIPIO DE SAN PEDRO
A3: No. de Microterritorio | B3: No. de Hogares | C3: Eje Estrateagico (PTS 2022-2031) | D3: Componenete | E3: Actividades programadas | F3: CATEGORIA | G3: Lugar de Ejecución | I3: Población Objeto (No. de personas y momento de curso de vida) | K3: Cantidad a ejecutar | L3: Valor Unitario | M3: Valor Total | N3: Perfil del Talento humano del EBS | O3: No. Equipo Básico
F4: CATEGORIA RES 518/15 | G4: Ámbito territorial (Res 3202/16) | H4: Entornos (Res 3202/16) | I4: Población sujeto (Res 3280 de 2018) | J4: Momentos del curso de vida (Res 3202/16) | O4: 1
A5: MICROTERRITORIO 1 (De acuerdo a los criterios de priorización) Ubicación: . | C5: Eje_4-Atención Primaria en Salud | D5: Salud Ambiental | E5: Realizar campañas de educacion en salud en temas de manejo adecuado del agua para consumo humano, manejo de residuos, manejo de sustancias quimicas y estrategia de producción limpia en el entorno hogar | F5: Educacion | G5: Rural | H5: Comunitario | I5: Comunidad en general | J5: Infancia, Adolescencia, Juventud, adultez y vejez | K5: 1 | L5: 911078 | M5: =K5*L5 -> 911078 | N5: Ingeniero Ambietal y/o Sanitario | P5: ='EBS PIC 2024 '!G352+'EBS PIC 2024 '!G354 -> 51020374 | Q5: =P5/14 -> 3644312.4 | R5: =Q5/4 -> 911078.1
C6: Eje_4-Atención Primaria en Salud | D6: Zoonosis | E6: Educación y sensibilización de las acciones de promoción y prevención de los riesgos zoonóticos orientados al cuidado de la salud de las personas, familias y comunidades, con participación de la sociedad civil, con enfoque étnico e intercultural y con enfoque diferencia | F6: Educación y Comunicación | G6: Rural | H6: Comunitario | I6: Comunidad en general | J6: Infancia, Adolescencia, Juventud, adultez y vejez | K6: 1 | L6: 911078 | M6: =K6*L6 -> 911078 | N6: Medico Veterinario | P6: = | Q6: =P6/4 -> #VALUE! | R6: =L5+Q6 -> #VALUE!
C7: Eje_4-Atención Primaria en Salud | D7: Enfermedades Cronicas No Transmisbles | E7: Desarrollar estrategias de educacion y comunicaion a la comunidad sobre promocion y manteniminto de la salud en las ECNT con enfoque diferencial y etnocultural | F7: Educación y Comunicación | G7: Rural | H7: Comunitario | I7: Comunidad en general | J7: Infancia, Adolescencia, Juventud, adultez y vejez | K7: 1 | L7: 911079.44 | M7: =K7*L7 -> 911079.44 | N7: Enfermera/Medico /Auxiliar de Enfermeria
C8: Eje_4-Atención Primaria en Salud | D8: Enfermedades Cronicas No Transmisbles | E8: Desarrollar estrategias de educacion y comunicaion a la comunidad sobre los factores de riesgo, factores protectores e intervenciones de detección temprana y protección específica por los canceres priorizados en el territorio con enfoque diferncial y etnocultura | F8: Educación y Comunicación | G8: Rural | H8: Comunitario | I8: Comunidad en general | J8: Infancia, Adolescencia, Juventud, adultez y vejez | K8: 1 | L8: 911078 | M8: =K8*L8 -> 911078 | N8: Enfermera/Medico /Auxiliar de Enfermeria
C9: Eje_4-Atención Primaria en Salud | D9: Salud Laboral | E9: Realizar campañas educativas en promoción de la Salud y Prevención de Riesgos Laborales dirigido a los trabajadores del sector informal de la economía de acuerdo a los riesgos a los cuales se encuentra expuestos por su actividad económica y prevencion y erradicacion del trabajo infantil | F9: Educación y Comunicación | G9: Rural y Urbano | H9: Comunitario | I9: Comunidad en general | J9: Infancia, Adolescencia, Juventud, adultez y vejez | K9: 1 | L9: 911078 | M9: =K9*L9 -> 911078 | N9: Enfermera/Medico /Auxiliar de Enfermeria
C10: Eje_4-Atención Primaria en Salud | D10: Salud Mental | E10: Realizar estrategias de Educacion y Comiunicacion para la promoción de la salud mental, prevención de la conducta suicida y el consumo de SPA. | F10: Educacion y comunicación | G10: Rural | H10: Hogar | I10: Comunidad en general | J10: adolescencia, juventud, adultez | K10: 1 | L10: 911078 | M10: =K10*L10 -> 911078 | N10: Psicologa/Trabajo social
C11: Eje_4-Atención Primaria en Salud | D11: Salud Nutricional | E11: Desarrollar acciones de Educacion y comunicacion para la promocion de la salud nuticional con el enfoque del derecho humano a la alimentacion,con enfoque diferencial y ecnocultural | F11: Educacion y comunicación | G11: Rural | H11: Comunitario | I11: Comunidad en general | J11: Adolescencia, juventud, adultez | K11: 1 | L11: 911078 | M11: =K11*L11 -> 911078 | N11: Enfermera/Medico /Auxiliar de Enfermeria
C12: Eje_4-Atención Primaria en Salud | D12: Emergentes Reemergente:IRA-EDA | E12: Desarrollar en los 25 municipios acciones de Educacion y comunicacion en salud para la prevención, manejo y control de la IRA/EDA, con enfoque diferencial y ecnocultural | F12: Educacion y comunicación | G12: Rural | H12: Comunitario | I12: Comunidad en general | J12: Infancia, Adolescencia, Juventud, adultez y vejez | K12: 1 | L12: 911078 | M12: =K12*L12 -> 911078 | N12: Psicologa/Trabajo social
C13: Eje_4-Atención Primaria en Salud | D13: Emergentes Reemergente: TB-LEPRA | E13: Desarrollar en los 25 municipios acciones de Educacion y comunicacion en salud para la prevención, manejo y control de la Tuberculosis y Lepra, con enfoque diferencial y ecnocultural | F13: Educacion y comunicación | G13: Rural | H13: Comunitario | I13: Comunidad en general | J13: Infancia, Adolescencia, Juventud, adultez y vejez | K13: 1 | L13: 911078 | M13: =K13*L13 -> 911078 | N13: Enfermera/Medico /Auxiliar de Enfermeria
C14: Eje_4-Atención Primaria en Salud | D14: Programa Ampliado de Inmunizaciones-PAI | E14: Realizar jornadas de salud intensificando las estrategias de vacunación que garanticen el acceso a la Vacunación sin Barreras en los municipios priorizados del departamento de Sucre | F14: Jornada de salud | G14: Rural | H14: Comunitario | I14: Comunidad en general | J14: Infancia, Adolescencia, Juventud, adultez y vejez | K14: 1 | L14: 1700000 | M14: =K14*L14 -> 1700000 | N14: Enfermera/Medico /Auxiliar de Enfermeria
C15: Eje_4-Atención Primaria en Salud | D15: Programa Ampliado de Inmunizaciones-PAI | E15: Desarrollar en los 25 municipios acciones de Educacion y comunicacion en salud para la prevecion de enfermedades inmunoprevenibles, con enfoque diferencial y ecnocultural | F15: Educacion y comunicación | G15: Rural | H15: Comunitario | I15: Comunidad en general | J15: Primera infancia, infancia, adolescencia, juventud, adultez y vejez | K15: 1 | L15: 911078 | M15: =K15*L15 -> 911078 | N15: Enfermera/Medico /Auxiliar de Enfermeria
C16: Eje_4-Atención Primaria en Salud | D16: Enfermedades Transmitidas por Vectores-ETV | E16: Dessarrollar acciones de educacion en 22 municipios mediante dialogos de saberes, con el fin de generar habilidades, para la apropiación y generación de hábitos protectores, requeridos para la corresponsabilidad y el cuidado de las personas, familias y comunidades para evitar la exposición a vectores biológicos y el control de los mismos en los diferentes entornos y detección y manejo oportuno de signos de alarma para las ETV. | F16: Educacion y comunicación | G16: Rural | H16: Comunitario | I16: Comunidad en general | J16: Primera infancia, infancia, adolescencia, juventud, adultez y vejez | K16: 1 | L16: 911078 | M16: =K16*L16 -> 911078 | N16: Enfermera/Medico /Auxiliar de Enfermeria
C17: Eje_2-Pueblos y comunidades étnicas y campesinas, mujeres, sectores LGBTIQ+ y otras poblaciones por condición y/o situación | D17: Niños, Niñas y Adolescentes | E17: Realizar educacion para la prevención y atención de infecciones parasitarias que afectan a los NNA(Geolmintiasis, pediculosis, escabiosis, teniasis y cisticercosis), en 22 municipios priorizados. | F17: Educacion y comunicación | G17: Rural | H17: Comunitario | I17: Comunidad en general | J17: Infancia, Adolescencia | K17: 1 | L17: 911078 | M17: =K17*L17 -> 911078 | N17: Auxiliar de Enfermeria
C18: Eje_2-Pueblos y comunidades étnicas y campesinas, mujeres, sectores LGBTIQ+ y otras poblaciones por condición y/o situación | D18: Poblaciones Vulnerables | E18: Realizar estrategias de educacion y comunicación en salud para la promoción de una cultura de la salud, la inclusión social, el autocuidado, el derecho a la salud con enfoque diferencial y etnocultural para los pueblos indigenas ,NARP, victimas del conflicto armado, las cobijadas por sentencias y adultos mayores | F18: Educacion y comunicación | G18: Rural | H18: Comunitario | I18: Comunidad en general | J18: Infancia, Adolescencia, Juventud, adultez y vejez | K18: 1 | L18: 911078 | M18: =K18*L18 -> 911078 | N18: Psicologa/Trabajo social
C19: Eje_4-Atención Primaria en Salud | D19: Participacion Social en Salud-PARSO | E19: Desarrollar estrategia de educacion y comunicacion en salud para la promoción de una cultura de la salud, la inclusión social, el autocuidado, el derecho a la salud de los ciudadanos y en procesos de participacion y control social | F19: Educacion y comunicación | G19: Rural | H19: Comunitario | I19: Comunidad en general | J19: Infancia, Adolescencia, Juventud, adultez y vejez | K19: 1 | L19: 911078 | M19: =K19*L19 -> 911078 | N19: Psicologa/Trabajo social
A20: MICROTERRITORIO 2 (De acuerdo a los criterios de priorización) Ubicación: | C20: Eje_4-Atención Primaria en Salud | D20: Salud Ambiental | E20: Realizar campañas de educacion en salud en temas de manejo adecuado del agua para consumo humano, manejo de residuos, manejo de sustancias quimicas y estrategia de producción limpia en el entorno hogar | F20: Educacion | G20: Rural | H20: Comunitario | I20: Comunidad en general | J20: Infancia, Adolescencia, Juventud, adultez y vejez | K20: 1 | L20: 911078 | M20: =K20*L20 -> 911078 | N20: Ingeniero Ambietal y/o Sanitario
C21: Eje_4-Atención Primaria en Salud | D21: Zoonosis | E21: Educación y sensibilización de las acciones de promoción y prevención de los riesgos zoonóticos orientados al cuidado de la salud de las personas, familias y comunidades, con participación de la sociedad civil, con enfoque étnico e intercultural y con enfoque diferencia | F21: Educación y Comunicación | G21: Rural | H21: Comunitario | I21: Comunidad en general | J21: Infancia, Adolescencia, Juventud, adultez y vejez | K21: 1 | L21: 911078 | M21: =K21*L21 -> 911078 | N21: Medico Veterinario
C22: Eje_4-Atención Primaria en Salud | D22: Enfermedades Cronicas No Transmisbles | E22: Desarrollar estrategias de educacion y comunicaion a la comunidad sobre promocion y manteniminto de la salud en las ECNT con enfoque diferencial y etnocultural | F22: Educación y Comunicación | G22: Rural | H22: Comunitario | I22: Comunidad en general | J22: Infancia, Adolescencia, Juventud, adultez y vejez | K22: 1 | L22: 911079.44 | M22: =K22*L22 -> 911079.44 | N22: Enfermera/Medico /Auxiliar de Enfermeria
C23: Eje_4-Atención Primaria en Salud | D23: Enfermedades Cronicas No Transmisbles | E23: Desarrollar estrategias de educacion y comunicaion a la comunidad sobre los factores de riesgo, factores protectores e intervenciones de detección temprana y protección específica por los canceres priorizados en el territorio con enfoque diferncial y etnocultura | F23: Educación y Comunicación | G23: Rural | H23: Comunitario | I23: Comunidad en general | J23: Infancia, Adolescencia, Juventud, adultez y vejez | K23: 1 | L23: 911078 | M23: =K23*L23 -> 911078 | N23: Enfermera/Medico /Auxiliar de Enfermeria
C24: Eje_4-Atención Primaria en Salud | D24: Salud Laboral | E24: Realizar campañas educativas en promoción de la Salud y Prevención de Riesgos Laborales dirigido a los trabajadores del sector informal de la economía de acuerdo a los riesgos a los cuales se encuentra expuestos por su actividad económica y prevencion y erradicacion del trabajo infantil | F24: Educación y Comunicación | G24: Rural y Urbano | H24: Comunitario | I24: Comunidad en general | J24: Infancia, Adolescencia, Juventud, adultez y vejez | K24: 1 | L24: 911078 | M24: =K24*L24 -> 911078 | N24: Enfermera/Medico /Auxiliar de Enfermeria
C25: Eje_4-Atención Primaria en Salud | D25: Salud Mental | E25: Realizar estrategias de Educacion y Comiunicacion para la promoción de la salud mental, prevención de la conducta suicida y el consumo de SPA. | F25: Educacion y comunicación | G25: Rural | H25: Hogar | I25: Comunidad en general | J25: adolescencia, juventud, adultez | K25: 1 | L25: 911078 | M25: =K25*L25 -> 911078 | N25: Psicologa/Trabajo social
C26: Eje_4-Atención Primaria en Salud | D26: Salud Nutricional | E26: Desarrollar acciones de Educacion y comunicacion para la promocion de la salud nuticional con el enfoque del derecho humano a la alimentacion,con enfoque diferencial y ecnocultural | F26: Educacion y comunicación | G26: Rural | H26: Comunitario | I26: Comunidad en general | J26: Adolescencia, juventud, adultez | K26: 1 | L26: 911078 | M26: =K26*L26 -> 911078 | N26: Enfermera/Medico /Auxiliar de Enfermeria
C27: Eje_4-Atención Primaria en Salud | D27: Emergentes Reemergente:IRA-EDA | E27: Desarrollar en los 25 municipios acciones de Educacion y comunicacion en salud para la prevención, manejo y control de la IRA/EDA, con enfoque diferencial y ecnocultural | F27: Educacion y comunicación | G27: Rural | H27: Comunitario | I27: Comunidad en general | J27: Infancia, Adolescencia, Juventud, adultez y vejez | K27: 1 | L27: 911078 | M27: =K27*L27 -> 911078 | N27: Psicologa/Trabajo social
C28: Eje_4-Atención Primaria en Salud | D28: Emergentes Reemergente: TB-LEPRA | E28: Desarrollar en los 25 municipios acciones de Educacion y comunicacion en salud para la prevención, manejo y control de la Tuberculosis y Lepra, con enfoque diferencial y ecnocultural | F28: Educacion y comunicación | G28: Rural | H28: Comunitario | I28: Comunidad en general | J28: Infancia, Adolescencia, Juventud, adultez y vejez | K28: 1 | L28: 911078 | M28: =K28*L28 -> 911078 | N28: Enfermera/Medico /Auxiliar de Enfermeria
C29: Eje_4-Atención Primaria en Salud | D29: Programa Ampliado de Inmunizaciones-PAI | E29: Realizar jornadas de salud intensificando las estrategias de vacunación que garanticen el acceso a la Vacunación sin Barreras en los municipios priorizados del departamento de Sucre | F29: Jornada de salud | G29: Rural | H29: Comunitario | I29: Comunidad en general | J29: Infancia, Adolescencia, Juventud, adultez y vejez | K29: 1 | L29: 1700000 | M29: =K29*L29 -> 1700000 | N29: Enfermera/Medico /Auxiliar de Enfermeria
C30: Eje_4-Atención Primaria en Salud | D30: Programa Ampliado de Inmunizaciones-PAI | E30: Desarrollar en los 25 municipios acciones de Educacion y comunicacion en salud para la prevecion de enfermedades inmunoprevenibles, con enfoque diferencial y ecnocultural | F30: Educacion y comunicación | G30: Rural | H30: Comunitario | I30: Comunidad en general | J30: Primera infancia, infancia, adolescencia, juventud, adultez y vejez | K30: 1 | L30: 911078 | M30: =K30*L30 -> 911078 | N30: Enfermera/Medico /Auxiliar de Enfermeria
C31: Eje_4-Atención Primaria en Salud | D31: Enfermedades Transmitidas por Vectores-ETV | E31: Dessarrollar acciones de educacion en 22 municipios mediante dialogos de saberes, con el fin de generar habilidades, para la apropiación y generación de hábitos protectores, requeridos para la corresponsabilidad y el cuidado de las personas, familias y comunidades para evitar la exposición a vectores biológicos y el control de los mismos en los diferentes entornos y detección y manejo oportuno de signos de alarma para las ETV. | F31: Educacion y comunicación | G31: Rural | H31: Comunitario | I31: Comunidad en general | J31: Primera infancia, infancia, adolescencia, juventud, adultez y vejez | K31: 1 | L31: 911078 | M31: =K31*L31 -> 911078 | N31: Enfermera/Medico /Auxiliar de Enfermeria
C32: Eje_2-Pueblos y comunidades étnicas y campesinas, mujeres, sectores LGBTIQ+ y otras poblaciones por condición y/o situación | D32: Niños, Niñas y Adolescentes | E32: Realizar educacion para la prevención y atención de infecciones parasitarias que afectan a los NNA(Geolmintiasis, pediculosis, escabiosis, teniasis y cisticercosis), en 22 municipios priorizados. | F32: Educacion y comunicación | G32: Rural | H32: Comunitario | I32: Comunidad en general | J32: Infancia, Adolescencia | K32: 1 | L32: 911078 | M32: =K32*L32 -> 911078 | N32: Auxiliar de Enfermeria
... C49: Eje_4-Atención Primaria en Salud | D49: Participacion Social en Salud-PARSO | E49: Desarrollar estrategia de educacion y comunicacion en salud para la promoción de una cultura de la salud, la inclusión social, el autocuidado, el derecho a la salud de los ciudadanos y en procesos de participacion y control social | F49: Educacion y comunicación | G49: Rural | H49: Comunitario | I49: Comunidad en general | J49: Infancia, Adolescencia, Juventud, adultez y vejez | K49: 1 | L49: 911078 | M49: =K49*L49 -> 911078 | N49: Psicologa/Trabajo social
A50: MICROTERRITORIO 4 (De acuerdo a los criterios de priorización) Ubicación: | C50: Eje_4-Atención Primaria en Salud | D50: Salud Ambiental | E50: Realizar campañas de educacion en salud en temas de manejo adecuado del agua para consumo humano, manejo de residuos, manejo de sustancias quimicas y estrategia de producción limpia en el entorno hogar | F50: Educacion | G50: Rural | H50: Comunitario | I50: Comunidad en general | J50: Infancia, Adolescencia, Juventud, adultez y vejez | K50: 1 | L50: 911078 | M50: =K50*L50 -> 911078 | N50: Ingeniero Ambietal y/o Sanitario
C51: Eje_4-Atención Primaria en Salud | D51: Zoonosis | E51: Educación y sensibilización de las acciones de promoción y prevención de los riesgos zoonóticos orientados al cuidado de la salud de las personas, familias y comunidades, con participación de la sociedad civil, con enfoque étnico e intercultural y con enfoque diferencia | F51: Educación y Comunicación | G51: Rural | H51: Comunitario | I51: Comunidad en general | J51: Infancia, Adolescencia, Juventud, adultez y vejez | K51: 1 | L51: 911078 | M51: =K51*L51 -> 911078 | N51: Medico Veterinario
C52: Eje_4-Atención Primaria en Salud | D52: Enfermedades Cronicas No Transmisbles | E52: Desarrollar estrategias de educacion y comunicaion a la comunidad sobre promocion y manteniminto de la salud en las ECNT con enfoque diferencial y etnocultural | F52: Educación y Comunicación | G52: Rural | H52: Comunitario | I52: Comunidad en general | J52: Infancia, Adolescencia, Juventud, adultez y vejez | K52: 1 | L52: 911079.44 | M52: =K52*L52 -> 911079.44 | N52: Enfermera/Medico /Auxiliar de Enfermeria
C53: Eje_4-Atención Primaria en Salud | D53: Enfermedades Cronicas No Transmisbles | E53: Desarrollar estrategias de educacion y comunicaion a la comunidad sobre los factores de riesgo, factores protectores e intervenciones de detección temprana y protección específica por los canceres priorizados en el territorio con enfoque diferncial y etnocultura | F53: Educación y Comunicación | G53: Rural | H53: Comunitario | I53: Comunidad en general | J53: Infancia, Adolescencia, Juventud, adultez y vejez | K53: 1 | L53: 911078 | M53: =K53*L53 -> 911078 | N53: Enfermera/Medico /Auxiliar de Enfermeria
C54: Eje_4-Atención Primaria en Salud | D54: Salud Laboral | E54: Realizar campañas educativas en promoción de la Salud y Prevención de Riesgos Laborales dirigido a los trabajadores del sector informal de la economía de acuerdo a los riesgos a los cuales se encuentra expuestos por su actividad económica y prevencion y erradicacion del trabajo infantil | F54: Educación y Comunicación | G54: Rural y Urbano | H54: Comunitario | I54: Comunidad en general | J54: Infancia, Adolescencia, Juventud, adultez y vejez | K54: 1 | L54: 911078 | M54: =K54*L54 -> 911078 | N54: Enfermera/Medico /Auxiliar de Enfermeria
C55: Eje_4-Atención Primaria en Salud | D55: Salud Mental | E55: Realizar estrategias de Educacion y Comiunicacion para la promoción de la salud mental, prevención de la conducta suicida y el consumo de SPA. | F55: Educacion y comunicación | G55: Rural | H55: Hogar | I55: Comunidad en general | J55: adolescencia, juventud, adultez | K55: 1 | L55: 911078 | M55: =K55*L55 -> 911078 | N55: Psicologa/Trabajo social
C56: Eje_4-Atención Primaria en Salud | D56: Salud Nutricional | E56: Desarrollar acciones de Educacion y comunicacion para la promocion de la salud nuticional con el enfoque del derecho humano a la alimentacion,con enfoque diferencial y ecnocultural | F56: Educacion y comunicación | G56: Rural | H56: Comunitario | I56: Comunidad en general | J56: Adolescencia, juventud, adultez | K56: 1 | L56: 911078 | M56: =K56*L56 -> 911078 | N56: Enfermera/Medico /Auxiliar de Enfermeria
