Workbook
Name Codigo: 'EXPERIENCIA DEL PROPONENTE'!$I$27
Name CR: 'EXPERIENCIA DEL PROPONENTE'!$I$1
Name EEED: 'EXPERIENCIA DEL PROPONENTE'!#REF!
Name EEM: 'EXPERIENCIA DEL PROPONENTE'!$AB$25
Name EEOC: 'EXPERIENCIA DEL PROPONENTE'!$P$25
Name EG: 'EXPERIENCIA DEL PROPONENTE'!$L$25
Name EstDis: 'EXPERIENCIA DEL PROPONENTE'!#REF!
Name Mob: 'EXPERIENCIA DEL PROPONENTE'!$AB$1
Name RangoExpG1: 'EXPERIENCIA DEL PROPONENTE'!$F$28:$L$28
Name RangoExpG10: 'EXPERIENCIA DEL PROPONENTE'!$F$37:$L$37
Name RangoExpG2: 'EXPERIENCIA DEL PROPONENTE'!$F$29:$L$29
Name RangoExpG3: 'EXPERIENCIA DEL PROPONENTE'!$F$30:$L$30
Name RangoExpG4: 'EXPERIENCIA DEL PROPONENTE'!$F$31:$L$31
Name RangoExpG5: 'EXPERIENCIA DEL PROPONENTE'!$F$32:$L$32
Name RangoExpG6: 'EXPERIENCIA DEL PROPONENTE'!$F$33:$L$33
Name RangoExpG7: 'EXPERIENCIA DEL PROPONENTE'!$F$34:$L$34
Name RangoExpG8: 'EXPERIENCIA DEL PROPONENTE'!$F$35:$L$35
Name RangoExpG9: 'EXPERIENCIA DEL PROPONENTE'!$F$36:$L$36

Sheet SMMLV
A1: Año | B1: Salario Mínimo
B2: (Pesos Colombianos)
A3: 2024 | B3: 1300000
A4: 2023 | B4: 1160000
A5: 2022 | B5: 1000000
A6: 2021 | B6: 908526
A7: 2020 | B7: 877803
A8: 2019 | B8: 828116
A9: 2018 | B9: 781242
A10: 2017 | B10: 737717
A11: 2016 | B11: 689455
A12: 2015 | B12: 644350
A13: 2014 | B13: 616000
A14: 2013 | B14: 589500
... A43: 1984 | B43: 11298

Sheet EXPERIENCIA DEL PROPONENTE
B2: Rama Judicial del Poder Público
B3: Consejo Superior de la Judicatura Dirección Seccional de Administración Judicial de Villavicencio
B5: Formato 5 – Experiencia del proponente
B7: NUMERO DE PROCESO: | E7: [INDICAR NUMERO DEL PROCESO]
B9: OBJETO DEL PROCESO: | E9: [INDICAR OBJETO DEL PROCESO]
B11: NOMBRE DEL PROPONENTE: | E11: [INDICAR NOMBRE DEL PROPONENTE]
B13: Conformación del Proponente Plural
B14: No | C14: Integrante | F14: Tipo y Numero de Identificacion | G14: Porcentaje de Participación | H14: Porcentaje de Exp General Aportada
B15: 1 | C15: [INDICAR EL NOMBRE DEL INTEGRANTE DEL PROPONENTE PLURAL] | F15: [C.C., NIT, ETC Y NUMERO DE IDENTIFICACIÓN] | G15: 0 | H15: =XET38/EG -> 0
B16: 2 | C16: [INDICAR EL NOMBRE DEL INTEGRANTE DEL PROPONENTE PLURAL] | F16: [C.C., NIT, ETC Y NUMERO DE IDENTIFICACIÓN] | G16: 0 | H16: =XEU38/EG -> 0
B17: 3 | C17: [INDICAR EL NOMBRE DEL INTEGRANTE DEL PROPONENTE PLURAL] | F17: [C.C., NIT, ETC Y NUMERO DE IDENTIFICACIÓN] | G17: 0 | H17: =XEV39/EG -> 0
B18: 4 | C18: [INDICAR EL NOMBRE DEL INTEGRANTE DEL PROPONENTE PLURAL] | F18: [C.C., NIT, ETC Y NUMERO DE IDENTIFICACIÓN] | G18: 0 | H18: =XEW38/EG -> 0
B19: 5 | C19: [INDICAR EL NOMBRE DEL INTEGRANTE DEL PROPONENTE PLURAL] | F19: [C.C., NIT, ETC Y NUMERO DE IDENTIFICACIÓN] | G19: 0 | H19: =XEX38/EG -> 0
B20: 6 | C20: [INDICAR EL NOMBRE DEL INTEGRANTE DEL PROPONENTE PLURAL] | F20: [C.C., NIT, ETC Y NUMERO DE IDENTIFICACIÓN] | G20: 0 | H20: =XEY38/EG -> 0
B22: CONTRATOS EJECUTADOS REPORTADOS EN EL RUP | G22: EXPERIENCIA GENERAL | M22: EXPERIENCIA ESPECIFICA
M23: HABILITANTE | U23: PONDERABLE
M24: Interventoría a Obras de construcción nueva o remodelación o adecuación o ampliación o mejoramiento o restauración o mantenimiento o reparación o modificación o reforzamiento de edificaciones | Q24: Interventoría y/o consultoría a: Estudios y diseños: Por lo menos uno de los contratos válidos aportados para acreditar la experiencia en interventoría a obra civil debe contemplar en su alcance la interventoría a “elaboración o revisión y ajuste o actualización o complementación de los estudios y diseños para la obra ejecutada | U24: Interventoría a Obras de construcción nueva o remodelación o adecuación o ampliación o mejoramiento o restauración o mantenimiento o reparación o modificación o reforzamiento de edificaciones | Y24: Interventoría y/o consultoría a: Estudios y diseños: Por lo menos uno de los contratos válidos aportados para acreditar la experiencia en interventoría a obra civil debe contemplar en su alcance la interventoría a “elaboración o revisión y ajuste o actualización o complementación de los estudios y diseños para la obra ejecutada
G25: SMMLV Min | L25: 1500 | M25: M2 Min | P25: 1500 | Q25: M2 Min | T25: 500 | U25: SMMLV Min | X25: 1500 | Y25: SMMLV Min | AB25: 500
B26: ID | C26: Numero consecutivo del reporte del contrato ejecutado | D26: Nombre del contratista | E26: Nombre del contratante | F26: En caso de proponente plural indicar el nombre del integrante de la figura asociativa que acredita la experiencia | G26: UNSPSC | J26: Valor del contrato ejecutado expresado en SMMLV consignado en el RUP | K26: Porcentaje de participación en el valor ejecutado como figura asociativa consignado en el RUP, en el caso contrario indicar 100%. | L26: Valor total del contrato en SMMLV afectado por el porcentaje de participación | M26: Objeto del Contrato | O26: Áreas Construidas o Intervenidas Certificada (M2) | P26: Áreas Construidas o Intervenidas certificada, afectada por el porcentaje de participación (M2) | Q26: Objeto del Contrato | S26: Áreas Construidas o Intervenidas Certificada (M2) | T26: Áreas Construidas o Intervenidas certificada, afectada por el porcentaje de participación (M2) | U26: Valor del contrato o actividades | V26: Año de Terminación del Contrato | W26: Valor en SMMLV (La conversión se realiza con el SMMLV del año de terminación del contrato) | X26: Valor total en SMMLV afectado por el porcentaje de participación | Y26: Valor del contrato o actividades | Z26: Año de Terminación del Contrato | AA26: Valor en SMMLV (La conversión se realiza con el SMMLV del año de terminación del contrato) | AB26: Valor total en SMMLV afectado por el porcentaje de participación
G27: 81101500 | H27: 80101600 | XET27: =C15 -> [INDICAR EL NOMBRE DEL INTEGRANTE DEL PROPONENTE PLURAL] | XEU27: =C16 -> [INDICAR EL NOMBRE DEL INTEGRANTE DEL PROPONENTE PLURAL] | XEV27: =C17 -> [INDICAR EL NOMBRE DEL INTEGRANTE DEL PROPONENTE PLURAL] | XEW27: =C18 -> [INDICAR EL NOMBRE DEL INTEGRANTE DEL PROPONENTE PLURAL] | XEX27: =C19 -> [INDICAR EL NOMBRE DEL INTEGRANTE DEL PROPONENTE PLURAL] | XEY27: =C20 -> [INDICAR EL NOMBRE DEL INTEGRANTE DEL PROPONENTE PLURAL]
B28: 1 | L28: =ROUND(J28*K28,2) -> 0 | P28: =ROUND(K28*O28,2) -> 0 | T28: =ROUND(O28*S28,2) -> 0 | W28: =(U28/(VLOOKUP(V28,SMMLV!$A$3:$B$43,2,FALSE))) -> #N/A | X28: =ROUND(W28*G28,2) -> #N/A | AA28: =(Y28/(VLOOKUP(Z28,SMMLV!$A$3:$B$43,2,FALSE))) -> #N/A | AB28: =ROUND(AA28*K28,2) -> #N/A | XET28: =VLOOKUP(XET$27,RangoExpG1,ContarColumnas(RangoExpG1),FALSE) -> #NAME? | XEU28: =VLOOKUP(XEU$27,RangoExpG1,ContarColumnas(RangoExpG1),FALSE) -> #NAME? | XEV28: =VLOOKUP(XEV$27,RangoExpG1,ContarColumnas(RangoExpG1),FALSE) -> #NAME? | XEW28: =VLOOKUP(XEW$27,RangoExpG1,ContarColumnas(RangoExpG1),FALSE) -> #NAME? | XEX28: =VLOOKUP(XEX$27,RangoExpG1,ContarColumnas(RangoExpG1),FALSE) -> #NAME? | XEY28: =VLOOKUP(XEY$27,RangoExpG1,ContarColumnas(RangoExpG1),FALSE) -> #NAME?
B29: 2 | L29: =ROUND(J29*K29,2) -> 0 | P29: =ROUND(K29*O29,2) -> 0 | T29: =ROUND(O29*S29,2) -> 0 | W29: =(U29/(VLOOKUP(V29,SMMLV!$A$3:$B$43,2,FALSE))) -> #N/A | X29: =ROUND(W29*G29,2) -> #N/A | AA29: =(Y29/(VLOOKUP(Z29,SMMLV!$A$3:$B$43,2,FALSE))) -> #N/A | AB29: =ROUND(AA29*K29,2) -> #N/A | XET29: =VLOOKUP(XET$27,RangoExpG2,ContarColumnas(RangoExpG2),FALSE) -> #NAME? | XEU29: =VLOOKUP(XEU$27,RangoExpG2,ContarColumnas(RangoExpG2),FALSE) -> #NAME? | XEV29: =VLOOKUP(XEV$27,RangoExpG2,ContarColumnas(RangoExpG2),FALSE) -> #NAME? | XEW29: =VLOOKUP(XEW$27,RangoExpG2,ContarColumnas(RangoExpG2),FALSE) -> #NAME? | XEX29: =VLOOKUP(XEX$27,RangoExpG2,ContarColumnas(RangoExpG2),FALSE) -> #NAME? | XEY29: =VLOOKUP(XEY$27,RangoExpG2,ContarColumnas(RangoExpG2),FALSE) -> #NAME? | XFA29: =ContarColumnas(RangoExpG1) -> #NAME?
B30: 3 | L30: =ROUND(J30*K30,2) -> 0 | P30: =ROUND(K30*O30,2) -> 0 | T30: =ROUND(O30*S30,2) -> 0 | W30: =(U30/(VLOOKUP(V30,SMMLV!$A$3:$B$43,2,FALSE))) -> #N/A | X30: =ROUND(W30*G30,2) -> #N/A | AA30: =(Y30/(VLOOKUP(Z30,SMMLV!$A$3:$B$43,2,FALSE))) -> #N/A | AB30: =ROUND(AA30*K30,2) -> #N/A | XET30: =VLOOKUP(XET$27,RangoExpG3,ContarColumnas(RangoExpG3),FALSE) -> #NAME? | XEU30: =VLOOKUP(XEU$27,RangoExpG3,ContarColumnas(RangoExpG3),FALSE) -> #NAME? | XEV30: =VLOOKUP(XEV$27,RangoExpG3,ContarColumnas(RangoExpG3),FALSE) -> #NAME? | XEW30: =VLOOKUP(XEW$27,RangoExpG3,ContarColumnas(RangoExpG3),FALSE) -> #NAME? | XEX30: =VLOOKUP(XEX$27,RangoExpG3,ContarColumnas(RangoExpG3),FALSE) -> #NAME? | XEY30: =VLOOKUP(XEY$27,RangoExpG3,ContarColumnas(RangoExpG3),FALSE) -> #NAME?
B31: 4 | L31: =ROUND(J31*K31,2) -> 0 | P31: =ROUND(K31*O31,2) -> 0 | T31: =ROUND(O31*S31,2) -> 0 | W31: =(U31/(VLOOKUP(V31,SMMLV!$A$3:$B$43,2,FALSE))) -> #N/A | X31: =ROUND(W31*G31,2) -> #N/A | AA31: =(Y31/(VLOOKUP(Z31,SMMLV!$A$3:$B$43,2,FALSE))) -> #N/A | AB31: =ROUND(AA31*K31,2) -> #N/A | XET31: =VLOOKUP(XET$27,RangoExpG4,ContarColumnas(RangoExpG4),FALSE) -> #NAME? | XEU31: =VLOOKUP(XEU$27,RangoExpG4,ContarColumnas(RangoExpG4),FALSE) -> #NAME? | XEV31: =VLOOKUP(XEV$27,RangoExpG4,ContarColumnas(RangoExpG4),FALSE) -> #NAME? | XEW31: =VLOOKUP(XEW$27,RangoExpG4,ContarColumnas(RangoExpG4),FALSE) -> #NAME? | XEX31: =VLOOKUP(XEX$27,RangoExpG4,ContarColumnas(RangoExpG4),FALSE) -> #NAME? | XEY31: =VLOOKUP(XEY$27,RangoExpG4,ContarColumnas(RangoExpG4),FALSE) -> #NAME?
B32: 5 | L32: =ROUND(J32*K32,2) -> 0 | P32: =ROUND(K32*O32,2) -> 0 | T32: =ROUND(O32*S32,2) -> 0 | W32: =(U32/(VLOOKUP(V32,SMMLV!$A$3:$B$43,2,FALSE))) -> #N/A | X32: =ROUND(W32*G32,2) -> #N/A | AA32: =(Y32/(VLOOKUP(Z32,SMMLV!$A$3:$B$43,2,FALSE))) -> #N/A | AB32: =ROUND(AA32*K32,2) -> #N/A | XET32: =VLOOKUP(XET$27,RangoExpG5,ContarColumnas(RangoExpG5),FALSE) -> #NAME? | XEU32: =VLOOKUP(XEU$27,RangoExpG5,ContarColumnas(RangoExpG5),FALSE) -> #NAME? | XEV32: =VLOOKUP(XEV$27,RangoExpG5,ContarColumnas(RangoExpG5),FALSE) -> #NAME? | XEW32: =VLOOKUP(XEW$27,RangoExpG5,ContarColumnas(RangoExpG5),FALSE) -> #NAME? | XEX32: =VLOOKUP(XEX$27,RangoExpG5,ContarColumnas(RangoExpG5),FALSE) -> #NAME? | XEY32: =VLOOKUP(XEY$27,RangoExpG5,ContarColumnas(RangoExpG5),FALSE) -> #NAME?
B33: 6 | L33: =ROUND(J33*K33,2) -> 0 | P33: =ROUND(K33*O33,2) -> 0 | T33: =ROUND(O33*S33,2) -> 0 | W33: =(U33/(VLOOKUP(V33,SMMLV!$A$3:$B$43,2,FALSE))) -> #N/A | X33: =ROUND(W33*G33,2) -> #N/A | AA33: =(Y33/(VLOOKUP(Z33,SMMLV!$A$3:$B$43,2,FALSE))) -> #N/A | AB33: =ROUND(AA33*K33,2) -> #N/A | XET33: =VLOOKUP(XET$27,RangoExpG6,ContarColumnas(RangoExpG6),FALSE) -> #NAME? | XEU33: =VLOOKUP(XEU$27,RangoExpG6,ContarColumnas(RangoExpG6),FALSE) -> #NAME? | XEV33: =VLOOKUP(XEV$27,RangoExpG6,ContarColumnas(RangoExpG6),FALSE) -> #NAME? | XEW33: =VLOOKUP(XEW$27,RangoExpG6,ContarColumnas(RangoExpG6),FALSE) -> #NAME? | XEX33: =VLOOKUP(XEX$27,RangoExpG6,ContarColumnas(RangoExpG6),FALSE) -> #NAME? | XEY33: =VLOOKUP(XEY$27,RangoExpG6,ContarColumnas(RangoExpG6),FALSE) -> #NAME?
B34: 7 | L34: =ROUND(J34*K34,2) -> 0 | P34: =ROUND(K34*O34,2) -> 0 | T34: =ROUND(O34*S34,2) -> 0 | W34: =(U34/(VLOOKUP(V34,SMMLV!$A$3:$B$43,2,FALSE))) -> #N/A | X34: =ROUND(W34*G34,2) -> #N/A | AA34: =(Y34/(VLOOKUP(Z34,SMMLV!$A$3:$B$43,2,FALSE))) -> #N/A | AB34: =ROUND(AA34*K34,2) -> #N/A | XET34: =VLOOKUP(XET$27,RangoExpG7,ContarColumnas(RangoExpG7),FALSE) -> #NAME? | XEU34: =VLOOKUP(XEU$27,RangoExpG7,ContarColumnas(RangoExpG7),FALSE) -> #NAME? | XEV34: =VLOOKUP(XEV$27,RangoExpG7,ContarColumnas(RangoExpG7),FALSE) -> #NAME? | XEW34: =VLOOKUP(XEW$27,RangoExpG7,ContarColumnas(RangoExpG7),FALSE) -> #NAME? | XEX34: =VLOOKUP(XEX$27,RangoExpG7,ContarColumnas(RangoExpG7),FALSE) -> #NAME? | XEY34: =VLOOKUP(XEY$27,RangoExpG7,ContarColumnas(RangoExpG7),FALSE) -> #NAME?
B35: 8 | L35: =ROUND(J35*K35,2) -> 0 | P35: =ROUND(K35*O35,2) -> 0 | T35: =ROUND(O35*S35,2) -> 0 | W35: =(U35/(VLOOKUP(V35,SMMLV!$A$3:$B$43,2,FALSE))) -> #N/A | X35: =ROUND(W35*G35,2) -> #N/A | AA35: =(Y35/(VLOOKUP(Z35,SMMLV!$A$3:$B$43,2,FALSE))) -> #N/A | AB35: =ROUND(AA35*K35,2) -> #N/A | XET35: =VLOOKUP(XET$27,RangoExpG8,ContarColumnas(RangoExpG8),FALSE) -> #NAME? | XEU35: =VLOOKUP(XEU$27,RangoExpG8,ContarColumnas(RangoExpG8),FALSE) -> #NAME? | XEV35: =VLOOKUP(XEV$27,RangoExpG8,ContarColumnas(RangoExpG8),FALSE) -> #NAME? | XEW35: =VLOOKUP(XEW$27,RangoExpG8,ContarColumnas(RangoExpG8),FALSE) -> #NAME? | XEX35: =VLOOKUP(XEX$27,RangoExpG8,ContarColumnas(RangoExpG8),FALSE) -> #NAME? | XEY35: =VLOOKUP(XEY$27,RangoExpG8,ContarColumnas(RangoExpG8),FALSE) -> #NAME?
B36: 9 | L36: =ROUND(J36*K36,2) -> 0 | P36: =ROUND(K36*O36,2) -> 0 | T36: =ROUND(O36*S36,2) -> 0 | W36: =(U36/(VLOOKUP(V36,SMMLV!$A$3:$B$43,2,FALSE))) -> #N/A | X36: =ROUND(W36*G36,2) -> #N/A | AA36: =(Y36/(VLOOKUP(Z36,SMMLV!$A$3:$B$43,2,FALSE))) -> #N/A | AB36: =ROUND(AA36*K36,2) -> #N/A | XET36: =VLOOKUP(XET$27,RangoExpG9,ContarColumnas(RangoExpG9),FALSE) -> #NAME? | XEU36: =VLOOKUP(XEU$27,RangoExpG9,ContarColumnas(RangoExpG9),FALSE) -> #NAME? | XEV36: =VLOOKUP(XEV$27,RangoExpG9,ContarColumnas(RangoExpG9),FALSE) -> #NAME? | XEW36: =VLOOKUP(XEW$27,RangoExpG9,ContarColumnas(RangoExpG9),FALSE) -> #NAME? | XEX36: =VLOOKUP(XEX$27,RangoExpG9,ContarColumnas(RangoExpG9),FALSE) -> #NAME? | XEY36: =VLOOKUP(XEY$27,RangoExpG9,ContarColumnas(RangoExpG9),FALSE) -> #NAME?
B37: 10 | L37: =ROUND(J37*K37,2) -> 0 | P37: =ROUND(K37*O37,2) -> 0 | T37: =ROUND(O37*S37,2) -> 0 | W37: =(U37/(VLOOKUP(V37,SMMLV!$A$3:$B$43,2,FALSE))) -> #N/A | X37: =ROUND(W37*G37,2) -> #N/A | AA37: =(Y37/(VLOOKUP(Z37,SMMLV!$A$3:$B$43,2,FALSE))) -> #N/A | AB37: =ROUND(AA37*K37,2) -> #N/A | XET37: =VLOOKUP(XET$27,RangoExpG10,ContarColumnas(RangoExpG10),FALSE) -> #NAME? | XEU37: =VLOOKUP(XEU$27,RangoExpG10,ContarColumnas(RangoExpG10),FALSE) -> #NAME? | XEV37: =VLOOKUP(XEV$27,RangoExpG10,ContarColumnas(RangoExpG10),FALSE) -> #NAME? | XEW37: =VLOOKUP(XEW$27,RangoExpG10,ContarColumnas(RangoExpG10),FALSE) -> #NAME? | XEX37: =VLOOKUP(XEX$27,RangoExpG10,ContarColumnas(RangoExpG10),FALSE) -> #NAME? | XEY37: =VLOOKUP(XEY$27,RangoExpG10,ContarColumnas(RangoExpG10),FALSE) -> #NAME?
G38: TOTAL (SMMLV) | L38: =SUM(L28:L37) -> 0 | M38: TOTAL (M2) | P38: =SUM(P28:P37) -> 0 | Q38: TOTAL (M2) | T38: =SUM(T28:T37) -> 0 | U38: TOTAL (SMMLV) | X38: =_xlfn.AGGREGATE(9,6,X28:X37) -> 0 | Y38: TOTAL (SMMLV) | AB38: =_xlfn.AGGREGATE(9,6,AB28:AB37) -> 0 | XET38: =_xlfn.AGGREGATE(9,6,XET28:XET37) -> 0 | XEU38: =_xlfn.AGGREGATE(9,6,XEU28:XEU37) -> 0 | XEV38: =_xlfn.AGGREGATE(9,6,XEV28:XEV37) -> 0 | XEW38: =_xlfn.AGGREGATE(9,6,XEW28:XEW37) -> 0 | XEX38: =_xlfn.AGGREGATE(9,6,XEX28:XEX37) -> 0 | XEY38: =_xlfn.AGGREGATE(9,6,XEY28:XEY37) -> 0
L39: =IF(L25>0,IF(L38>=L25,"CUMPLE","NO CUMPLE"),"Diligencie el valor Correspondiente en la Fila 24 de esta columna") -> NO CUMPLE | P39: =IF(P25>0,IF(P38>=P25,"CUMPLE","NO CUMPLE"),"Diligencie el valor Correspondiente en la Fila 24 de esta columna") -> NO CUMPLE | T39: =IF(T25>0,IF(T38>=T25,"CUMPLE","NO CUMPLE"),"Diligencie el valor Correspondiente en la Fila 24 de esta columna") -> NO CUMPLE | X39: Puntaje Asignado de acuerdo a lo establecido en el Pliego de Condiciones | AB39: Puntaje Asignado de acuerdo a lo establecido en el Pliego de Condiciones
