Workbook
Name _Int_cvijGsdv: 'VEHICULOS POR ITEMS UNITARIOS'!$B$375

Sheet VEHICULOS POR ITEMS UNITARIOS
A1: ESTUDIO DE MERCADO PROCESO CUYO OBJETO ES: “LA PRESTACIÓN DEL SERVICIO DE MANTENIMIENTO GENERAL A TODO COSTO Y REVISIÓN TÉCNICO-MECÁNICA PARA LOS VEHÍCULOS PERTENECIENTES A EL GRUPO AÉREO DEL ORIENTE”.
D7: MITSUBISHI MONTERO HARDTOP | H7: CHEVROLET DMAX | L7: AMBULANCIA FORD RANGER | P7: AMBULANCIA CHEVROLET DMAX | T7: FORD SUPER DUTY | X7: TOYOTA HILUX | AB7: NISSAN NP300 FRONTIER | AF7: RENAULT MASTER | AJ7: CHEVROLET NHR RWD | AN7: CHEVROLET NPR | AR7: CHEVROLET NQR RW | AV7: CHEVROLET NKR | AZ7: CHEVROLET FVR 700P | BD7: CARROTANQUE CHEVROLET FVR | BH7: CARROTANQUE CHEVROLET NPR
A8: ITEM | B8: DESCRIPCIÓN / VEHÍCULO | C8: N° UNIDADES | D8: FUENTE 1: TALLERES REGIONALES DE TRANSPORTE NIT: 901.645.666-1 | E8: FUENTE 2: IMPORTADORA KOREA SAS NIT: 830.023.518-3 | F8: FUENTE 3: CARVIP COLOMBIA NIT: 901.663.266-5 | G8: VALOR PROMEDIO (VALOR ESTIMADO POR LA ENTIDAD) | H8: FUENTE 1: TALLERES REGIONALES DE TRANSPORTE NIT: 901.645.666-1 | I8: FUENTE 2: IMPORTADORA KOREA SAS NIT: 830.023.518-3 | J8: FUENTE 3: CARVIP COLOMBIA NIT: 901.663.266-5 | K8: VALOR PROMEDIO (VALOR ESTIMADO POR LA ENTIDAD) | L8: FUENTE 1: TALLERES REGIONALES DE TRANSPORTE NIT: 901.645.666-1 | M8: FUENTE 2: IMPORTADORA KOREA SAS NIT: 830.023.518-3 | N8: FUENTE 3: CARVIP COLOMBIA NIT: 901.663.266-5 | O8: VALOR PROMEDIO (VALOR ESTIMADO POR LA ENTIDAD) | P8: FUENTE 1: TALLERES REGIONALES DE TRANSPORTE NIT: 901.645.666-1 | Q8: FUENTE 2: IMPORTADORA KOREA SAS NIT: 830.023.518-3 | R8: FUENTE 3: CARVIP COLOMBIA NIT: 901.663.266-5 | S8: VALOR PROMEDIO (VALOR ESTIMADO POR LA ENTIDAD) | T8: FUENTE 1: TALLERES REGIONALES DE TRANSPORTE NIT: 901.645.666-1 | U8: FUENTE 2: IMPORTADORA KOREA SAS NIT: 830.023.518-3 | V8: FUENTE 3: CARVIP COLOMBIA NIT: 901.663.266-5 | W8: VALOR PROMEDIO (VALOR ESTIMADO POR LA ENTIDAD) | X8: FUENTE 1: TALLERES REGIONALES DE TRANSPORTE NIT: 901.645.666-1 | Y8: FUENTE 2: IMPORTADORA KOREA SAS NIT: 830.023.518-3 | Z8: FUENTE 3: CARVIP COLOMBIA NIT: 901.663.266-5 | AA8: VALOR PROMEDIO (VALOR ESTIMADO POR LA ENTIDAD) | AB8: FUENTE 1: TALLERES REGIONALES DE TRANSPORTE NIT: 901.645.666-1 | AC8: FUENTE 2: IMPORTADORA KOREA SAS NIT: 830.023.518-3 | AD8: FUENTE 3: CARVIP COLOMBIA NIT: 901.663.266-5 | AE8: VALOR PROMEDIO (VALOR ESTIMADO POR LA ENTIDAD) | AF8: FUENTE 1: TALLERES REGIONALES DE TRANSPORTE NIT: 901.645.666-1 | AG8: FUENTE 2: IMPORTADORA KOREA SAS NIT: 830.023.518-3 | AH8: FUENTE 3: CARVIP COLOMBIA NIT: 901.663.266-5 | AI8: VALOR PROMEDIO (VALOR ESTIMADO POR LA ENTIDAD) | AJ8: FUENTE 1: TALLERES REGIONALES DE TRANSPORTE NIT: 901.645.666-1 | AK8: FUENTE 2: IMPORTADORA KOREA SAS NIT: 830.023.518-3 | AL8: FUENTE 3: CARVIP COLOMBIA NIT: 901.663.266-5 | AM8: VALOR PROMEDIO (VALOR ESTIMADO POR LA ENTIDAD) | AN8: FUENTE 1: TALLERES REGIONALES DE TRANSPORTE NIT: 901.645.666-1 | AO8: FUENTE 2: IMPORTADORA KOREA SAS NIT: 830.023.518-3 | AP8: FUENTE 3: CARVIP COLOMBIA NIT: 901.663.266-5 | AQ8: VALOR PROMEDIO (VALOR ESTIMADO POR LA ENTIDAD) | AR8: FUENTE 1: TALLERES REGIONALES DE TRANSPORTE NIT: 901.645.666-1 | AS8: FUENTE 2: IMPORTADORA KOREA SAS NIT: 830.023.518-3 | AT8: FUENTE 3: CARVIP COLOMBIA NIT: 901.663.266-5 | AU8: VALOR PROMEDIO (VALOR ESTIMADO POR LA ENTIDAD) | AV8: FUENTE 1: TALLERES REGIONALES DE TRANSPORTE NIT: 901.645.666-1 | AW8: FUENTE 2: IMPORTADORA KOREA SAS NIT: 830.023.518-3 | AX8: FUENTE 3: CARVIP COLOMBIA NIT: 901.663.266-5 | AY8: VALOR PROMEDIO (VALOR ESTIMADO POR LA ENTIDAD) | AZ8: FUENTE 1: TALLERES REGIONALES DE TRANSPORTE NIT: 901.645.666-1 | BA8: FUENTE 2: IMPORTADORA KOREA SAS NIT: 830.023.518-3 | BB8: FUENTE 3: CARVIP COLOMBIA NIT: 901.663.266-5 | BC8: VALOR PROMEDIO (VALOR ESTIMADO POR LA ENTIDAD) | BD8: FUENTE 1: TALLERES REGIONALES DE TRANSPORTE NIT: 901.645.666-1 | BE8: FUENTE 2: IMPORTADORA KOREA SAS NIT: 830.023.518-3 | BF8: FUENTE 3: CARVIP COLOMBIA NIT: 901.663.266-5 | BG8: VALOR PROMEDIO (VALOR ESTIMADO POR LA ENTIDAD) | BH8: FUENTE 1: TALLERES REGIONALES DE TRANSPORTE NIT: 901.645.666-1 | BI8: FUENTE 2: IMPORTADORA KOREA SAS NIT: 830.023.518-3 | BJ8: FUENTE 3: CARVIP COLOMBIA NIT: 901.663.266-5 | BK8: VALOR PROMEDIO (VALOR ESTIMADO POR LA ENTIDAD)
B9: DESCRIPCIÓN | D9: VALOR UNITARIO A TODO COSTO SIN IVA | E9: VALOR UNITARIO A TODO COSTO SIN IVA | F9: VALOR UNITARIO A TODO COSTO SIN IVA | G9: VALOR UNITARIO A TODO COSTO SIN IVA | H9: VALOR UNITARIO A TODO COSTO SIN IVA | I9: VALOR UNITARIO A TODO COSTO SIN IVA | J9: VALOR UNITARIO A TODO COSTO SIN IVA | K9: VALOR UNITARIO A TODO COSTO SIN IVA | L9: VALOR UNITARIO A TODO COSTO SIN IVA | M9: VALOR UNITARIO A TODO COSTO SIN IVA | N9: VALOR UNITARIO A TODO COSTO SIN IVA | O9: VALOR UNITARIO A TODO COSTO SIN IVA | P9: VALOR UNITARIO A TODO COSTO SIN IVA | Q9: VALOR UNITARIO A TODO COSTO SIN IVA | R9: VALOR UNITARIO A TODO COSTO SIN IVA | S9: VALOR UNITARIO A TODO COSTO SIN IVA | T9: VALOR UNITARIO A TODO COSTO SIN IVA | U9: VALOR UNITARIO A TODO COSTO SIN IVA | V9: VALOR UNITARIO A TODO COSTO SIN IVA | W9: VALOR UNITARIO A TODO COSTO SIN IVA | X9: VALOR UNITARIO A TODO COSTO SIN IVA | Y9: VALOR UNITARIO A TODO COSTO SIN IVA | Z9: VALOR UNITARIO A TODO COSTO SIN IVA | AA9: VALOR UNITARIO A TODO COSTO SIN IVA | AB9: VALOR UNITARIO A TODO COSTO SIN IVA | AC9: VALOR UNITARIO A TODO COSTO SIN IVA | AD9: VALOR UNITARIO A TODO COSTO SIN IVA | AE9: VALOR UNITARIO A TODO COSTO SIN IVA | AF9: VALOR UNITARIO A TODO COSTO SIN IVA | AG9: VALOR UNITARIO A TODO COSTO SIN IVA | AH9: VALOR UNITARIO A TODO COSTO SIN IVA | AI9: VALOR UNITARIO A TODO COSTO SIN IVA | AJ9: VALOR UNITARIO A TODO COSTO SIN IVA | AK9: VALOR UNITARIO A TODO COSTO SIN IVA | AL9: VALOR UNITARIO A TODO COSTO SIN IVA | AM9: VALOR UNITARIO A TODO COSTO SIN IVA | AN9: VALOR UNITARIO A TODO COSTO SIN IVA | AO9: VALOR UNITARIO A TODO COSTO SIN IVA | AP9: VALOR UNITARIO A TODO COSTO SIN IVA | AQ9: VALOR UNITARIO A TODO COSTO SIN IVA | AR9: VALOR UNITARIO A TODO COSTO SIN IVA | AS9: VALOR UNITARIO A TODO COSTO SIN IVA | AT9: VALOR UNITARIO A TODO COSTO SIN IVA | AU9: VALOR UNITARIO A TODO COSTO SIN IVA | AV9: VALOR UNITARIO A TODO COSTO SIN IVA | AW9: VALOR UNITARIO A TODO COSTO SIN IVA | AX9: VALOR UNITARIO A TODO COSTO SIN IVA | AY9: VALOR UNITARIO A TODO COSTO SIN IVA | AZ9: VALOR UNITARIO A TODO COSTO SIN IVA | BA9: VALOR UNITARIO A TODO COSTO SIN IVA | BB9: VALOR UNITARIO A TODO COSTO SIN IVA | BC9: VALOR UNITARIO A TODO COSTO SIN IVA | BD9: VALOR UNITARIO A TODO COSTO SIN IVA | BE9: VALOR UNITARIO A TODO COSTO SIN IVA | BF9: VALOR UNITARIO A TODO COSTO SIN IVA | BG9: VALOR UNITARIO A TODO COSTO SIN IVA | BH9: VALOR UNITARIO A TODO COSTO SIN IVA | BI9: VALOR UNITARIO A TODO COSTO SIN IVA | BJ9: VALOR UNITARIO A TODO COSTO SIN IVA | BK9: VALOR UNITARIO A TODO COSTO SIN IVA
B10: COMPONENTES MOTOR
A11: 1 | B11: Cambio de Aceite hidráulico | C11: 1 | D11: 273718.34 | E11: 233000 | F11: 248834.85 | G11: =ROUND(AVERAGE(D11,E11,F11),2) -> 251851.06 | H11: 366782.57 | I11: 312220 | J11: 333438.7 | K11: =ROUND(AVERAGE(H11,I11,J11),2) -> 337480.42 | L11: 491488.65 | M11: 418374.8 | N11: 446807.86 | O11: =ROUND(AVERAGE(L11,M11,N11),2) -> 452223.77 | P11: 366782.57 | Q11: 312220 | R11: 333438.7 | S11: =ROUND(AVERAGE(P11,Q11,R11),2) -> 337480.42 | T11: 531834.73 | U11: 452719 | V11: 483486.12 | W11: =ROUND(AVERAGE(T11,U11,V11),2) -> 489346.61 | X11: 421799.96 | Y11: 359053 | Z11: 383454.51 | AA11: =ROUND(AVERAGE(X11,Y11,Z11),2) -> 388102.49 | AB11: 585018.2 | AC11: 497990.9 | AD11: 531834.73 | AE11: =ROUND(AVERAGE(AB11,AC11,AD11),2) -> 538281.28 | AF11: 614269.11 | AG11: 522890.45 | AH11: 558426.46 | AI11: =ROUND(AVERAGE(AF11,AG11,AH11),2) -> 565195.34 | AJ11: 675696.02 | AK11: 575179.49 | AL11: 614269.11 | AM11: =ROUND(AVERAGE(AJ11,AK11,AL11),2) -> 621714.87 | AN11: 709480.82 | AO11: 603938.46 | AP11: 644982.57 | AQ11: =ROUND(AVERAGE(AN11,AO11,AP11),2) -> 652800.62 | AR11: 722994.74 | AS11: 615442.05 | AT11: 657267.95 | AU11: =ROUND(AVERAGE(AR11,AS11,AT11),2) -> 665234.92 | AV11: 780834.32 | AW11: 664677.42 | AX11: 709849.38 | AY11: =ROUND(AVERAGE(AV11,AW11,AX11),2) -> 718453.71 | AZ11: 937001.19 | BA11: 797612.9 | BB11: 851819.26 | BC11: =ROUND(AVERAGE(AZ11,BA11,BB11),2) -> 862144.45 | BD11: 937001.19 | BE11: 797612.9 | BF11: 851819.26 | BG11: =ROUND(AVERAGE(BD11,BE11,BF11),2) -> 862144.45 | BH11: 812067.7 | BI11: 691264.51 | BJ11: 738243.36 | BK11: =ROUND(AVERAGE(BH11,BI11,BJ11),2) -> 747191.86
A12: 2 | B12: Cambio de Aceite motor | C12: 1 | D12: 361170.29 | E12: 307000 | F12: 328336.63 | G12: =ROUND(AVERAGE(D12,E12,F12),2) -> 332168.97 | H12: 483968.19 | I12: 411380 | J12: 439971.08 | K12: =ROUND(AVERAGE(H12,I12,J12),2) -> 445106.42 | L12: 648517.37 | M12: 551249.2 | N12: 589561.25 | O12: =ROUND(AVERAGE(L12,M12,N12),2) -> 596442.61 | P12: 483968.19 | Q12: 411380 | R12: 439971.08 | S12: =ROUND(AVERAGE(P12,Q12,R12),2) -> 445106.42 | T12: 701753.87 | U12: 596501 | V12: 637958.07 | W12: =ROUND(AVERAGE(T12,U12,V12),2) -> 645404.31 | X12: 556563.42 | Y12: 473087 | Z12: 505966.74 | AA12: =ROUND(AVERAGE(X12,Y12,Z12),2) -> 511872.39 | AB12: 771929.26 | AC12: 656151.1 | AD12: 701753.87 | AE12: =ROUND(AVERAGE(AB12,AC12,AD12),2) -> 709944.74 | AF12: 810525.72 | AG12: 688958.66 | AH12: 736841.57 | AI12: =ROUND(AVERAGE(AF12,AG12,AH12),2) -> 745441.98 | AJ12: 891578.3 | AK12: 757854.52 | AL12: 810525.72 | AM12: =ROUND(AVERAGE(AJ12,AK12,AL12),2) -> 819986.18 | AN12: 936157.21 | AO12: 795747.25 | AP12: 851052.01 | AQ12: =ROUND(AVERAGE(AN12,AO12,AP12),2) -> 860985.49 | AR12: 953988.78 | AS12: 810904.34 | AT12: 867262.52 | AU12: =ROUND(AVERAGE(AR12,AS12,AT12),2) -> 877385.21 | AV12: 1030307.9 | AW12: 875776.68 | AX12: 936643.53 | AY12: =ROUND(AVERAGE(AV12,AW12,AX12),2) -> 947576.03 | AZ12: 1236369.5 | BA12: 1050932 | BB12: 1123972.2 | BC12: =ROUND(AVERAGE(AZ12,BA12,BB12),2) -> 1137091.2 | BD12: 1236369.5 | BE12: 1050932 | BF12: 1123972.2 | BG12: =ROUND(AVERAGE(BD12,BE12,BF12),2) -> 1137091.2 | BH12: 1071520.2 | BI12: 910807.75 | BJ12: 974109.27 | BK12: =ROUND(AVERAGE(BH12,BI12,BJ12),2) -> 985479.07
A13: 3 | B13: Cambio de Hidraulico | C13: 1 | D13: 212832.49 | E13: 181000 | F13: 193484.08 | G13: =ROUND(AVERAGE(D13,E13,F13),2) -> 195772.19 | H13: 285195.54 | I13: 242540 | J13: 259268.67 | K13: =ROUND(AVERAGE(H13,I13,J13),2) -> 262334.74 | L13: 382162.02 | M13: 325003.6 | N13: 347420.02 | O13: =ROUND(AVERAGE(L13,M13,N13),2) -> 351528.55 | P13: 285195.54 | Q13: 242540 | R13: 259268.67 | S13: =ROUND(AVERAGE(P13,Q13,R13),2) -> 262334.74 | T13: 413533.53 | U13: 351683 | V13: 375939.57 | W13: =ROUND(AVERAGE(T13,U13,V13),2) -> 380385.37 | X13: 327974.87 | Y13: 278921 | Z13: 298158.97 | AA13: =ROUND(AVERAGE(X13,Y13,Z13),2) -> 301684.95 | AB13: 454886.89 | AC13: 386851.3 | AD13: 413533.53 | AE13: =ROUND(AVERAGE(AB13,AC13,AD13),2) -> 418423.91 | AF13: 477631.23 | AG13: 406193.87 | AH13: 434210.21 | AI13: =ROUND(AVERAGE(AF13,AG13,AH13),2) -> 439345.1 | AJ13: 525394.35 | AK13: 446813.25 | AL13: 477631.23 | AM13: =ROUND(AVERAGE(AJ13,AK13,AL13),2) -> 483279.61 | AN13: 551664.07 | AO13: 469153.91 | AP13: 501512.79 | AQ13: =ROUND(AVERAGE(AN13,AO13,AP13),2) -> 507443.59 | AR13: 562171.96 | AS13: 478090.18 | AT13: 511065.42 | AU13: =ROUND(AVERAGE(AR13,AS13,AT13),2) -> 517109.18 | AV13: 607145.71 | AW13: 516337.39 | AX13: 551950.65 | AY13: =ROUND(AVERAGE(AV13,AW13,AX13),2) -> 558477.92 | AZ13: 728574.86 | BA13: 619604.87 | BB13: 662340.78 | BC13: =ROUND(AVERAGE(AZ13,BA13,BB13),2) -> 670173.5 | BD13: 728574.86 | BE13: 619604.87 | BF13: 662340.78 | BG13: =ROUND(AVERAGE(BD13,BE13,BF13),2) -> 670173.5 | BH13: 631431.54 | BI13: 536990.89 | BJ13: 574028.68 | BK13: =ROUND(AVERAGE(BH13,BI13,BJ13),2) -> 580817.04
A14: 4 | B14: Cambio de valvulina | C14: 1 | D14: 180585.14 | E14: 153000 | F14: 164168.31 | G14: =ROUND(AVERAGE(D14,E14,F14),2) -> 165917.82 | H14: 241984.09 | I14: 205020 | J14: 219985.54 | K14: =ROUND(AVERAGE(H14,I14,J14),2) -> 222329.88 | L14: 324258.69 | M14: 274726.8 | N14: 294780.62 | O14: =ROUND(AVERAGE(L14,M14,N14),2) -> 297922.04 | P14: 241984.09 | Q14: 205020 | R14: 219985.54 | S14: =ROUND(AVERAGE(P14,Q14,R14),2) -> 222329.88 | T14: 350876.94 | U14: 297279 | V14: 318979.03 | W14: =ROUND(AVERAGE(T14,U14,V14),2) -> 322378.32 | X14: 278281.71 | Y14: 235773 | Z14: 252983.37 | AA14: =ROUND(AVERAGE(X14,Y14,Z14),2) -> 255679.36 | AB14: 385964.63 | AC14: 327006.9 | AD14: 350876.94 | AE14: =ROUND(AVERAGE(AB14,AC14,AD14),2) -> 354616.16 | AF14: 405262.86 | AG14: 343357.25 | AH14: 368420.78 | AI14: =ROUND(AVERAGE(AF14,AG14,AH14),2) -> 372346.96 | AJ14: 445789.15 | AK14: 377692.97 | AL14: 405262.86 | AM14: =ROUND(AVERAGE(AJ14,AK14,AL14),2) -> 409581.66 | AN14: 468078.61 | AO14: 396577.62 | AP14: 425526 | AQ14: =ROUND(AVERAGE(AN14,AO14,AP14),2) -> 430060.74 | AR14: 476994.39 | AS14: 404131.48 | AT14: 433631.26 | AU14: =ROUND(AVERAGE(AR14,AS14,AT14),2) -> 438252.38 | AV14: 515153.94 | AW14: 436462 | AX14: 468321.76 | AY14: =ROUND(AVERAGE(AV14,AW14,AX14),2) -> 473312.57 | AZ14: 618184.73 | BA14: 523754.39 | BB14: 561986.12 | BC14: =ROUND(AVERAGE(AZ14,BA14,BB14),2) -> 567975.08 | BD14: 618184.73 | BE14: 523754.39 | BF14: 561986.12 | BG14: =ROUND(AVERAGE(BD14,BE14,BF14),2) -> 567975.08 | BH14: 535760.1 | BI14: 453920.48 | BJ14: 487054.63 | BK14: =ROUND(AVERAGE(BH14,BI14,BJ14),2) -> 492245.07
A15: 5 | B15: Cambio Arandelas De Inyectores | C15: 1 | D15: 363320.11 | E15: 309000 | F15: 330291.01 | G15: =ROUND(AVERAGE(D15,E15,F15),2) -> 334203.71 | H15: 486848.95 | I15: 414060 | J15: 442589.96 | K15: =ROUND(AVERAGE(H15,I15,J15),2) -> 447832.97 | L15: 652377.59 | M15: 554840.4 | N15: 593070.54 | O15: =ROUND(AVERAGE(L15,M15,N15),2) -> 600096.18 | P15: 486848.95 | Q15: 414060 | R15: 442589.96 | S15: =ROUND(AVERAGE(P15,Q15,R15),2) -> 447832.97 | T15: 705930.98 | U15: 600387 | V15: 641755.44 | W15: =ROUND(AVERAGE(T15,U15,V15),2) -> 649357.81 | X15: 559876.29 | Y15: 476169 | Z15: 508978.45 | AA15: =ROUND(AVERAGE(X15,Y15,Z15),2) -> 515007.91 | AB15: 776524.08 | AC15: 660425.7 | AD15: 705930.98 | AE15: =ROUND(AVERAGE(AB15,AC15,AD15),2) -> 714293.59 | AF15: 815350.28 | AG15: 693446.99 | AH15: 741227.53 | AI15: =ROUND(AVERAGE(AF15,AG15,AH15),2) -> 750008.27 | AJ15: 896885.31 | AK15: 762791.68 | AL15: 815350.28 | AM15: =ROUND(AVERAGE(AJ15,AK15,AL15),2) -> 825009.09 | AN15: 941729.58 | AO15: 800931.27 | AP15: 856117.8 | AQ15: =ROUND(AVERAGE(AN15,AO15,AP15),2) -> 866259.55 | AR15: 959667.28 | AS15: 816187.1 | AT15: 872424.8 | AU15: =ROUND(AVERAGE(AR15,AS15,AT15),2) -> 882759.73 | AV15: 1036440.7 | AW15: 881482.07 | AX15: 942218.79 | AY15: =ROUND(AVERAGE(AV15,AW15,AX15),2) -> 953380.51 | AZ15: 1243728.8 | BA15: 1057778.5 | BB15: 1130662.5 | BC15: =ROUND(AVERAGE(AZ15,BA15,BB15),2) -> 1144056.6 | BD15: 1243728.8 | BE15: 1057778.5 | BF15: 1130662.5 | BG15: =ROUND(AVERAGE(BD15,BE15,BF15),2) -> 1144056.6 | BH15: 1077898.3 | BI15: 916741.35 | BJ15: 979907.54 | BK15: =ROUND(AVERAGE(BH15,BI15,BJ15),2) -> 991515.73
A16: 6 | B16: Cambio Bomba De Inyeccion De Combustible | C16: 1 | D16: N/A | E16: N/A | F16: N/A | G16: N/A | H16: 7000605.9 | I16: 5950800 | J16: 11500000 | K16: =ROUND(AVERAGE(H16,I16,J16),2) -> 8150468.7 | L16: 7700666.5 | M16: 6545880 | N16: 15410000 | O16: =ROUND(AVERAGE(L16,M16,N16),2) -> 9885515.5 | P16: 8470733.2 | Q16: 7200468 | R16: 11500000 | S16: =ROUND(AVERAGE(P16,Q16,R16),2) -> 9057067.1 | T16: 9317806.5 | U16: 7920514.8 | V16: 16675000 | W16: =ROUND(AVERAGE(T16,U16,V16),2) -> 11304440 | X16: 10249587 | Y16: 8712566.3 | Z16: 13225000 | AA16: =ROUND(AVERAGE(X16,Y16,Z16),2) -> 10729051 | AB16: 11274546 | AC16: 9583822.9 | AD16: 18342500 | AE16: =ROUND(AVERAGE(AB16,AC16,AD16),2) -> 13066956 | AF16: 12402000 | AG16: 10542205 | AH16: 19259625 | AI16: =ROUND(AVERAGE(AF16,AG16,AH16),2) -> 14067944 | AJ16: 13642201 | AK16: 11596426 | AL16: 21185588 | AM16: =ROUND(AVERAGE(AJ16,AK16,AL16),2) -> 15474738 | AN16: 15006421 | AO16: 12756068 | AP16: 22244867 | AQ16: =ROUND(AVERAGE(AN16,AO16,AP16),2) -> 16669119 | AR16: 16507063 | AS16: 14031675 | AT16: 22668579 | AU16: =ROUND(AVERAGE(AR16,AS16,AT16),2) -> 17735772 | AV16: 18157769 | AW16: 15434843 | AX16: 24482065 | AY16: =ROUND(AVERAGE(AV16,AW16,AX16),2) -> 19358225 | AZ16: 19973546 | BA16: 16978327 | BB16: 29378478 | BC16: =ROUND(AVERAGE(AZ16,BA16,BB16),2) -> 22110117 | BD16: 21970900 | BE16: 18676160 | BF16: 29378478 | BG16: =ROUND(AVERAGE(BD16,BE16,BF16),2) -> 23341846 | BH16: 24167990 | BI16: 20543776 | BJ16: 25461348 | BK16: =ROUND(AVERAGE(BH16,BI16,BJ16),2) -> 23391038
A17: 7 | B17: Cambio Bombin | C17: 1 | D17: N/A | E17: N/A | F17: N/A | G17: N/A | H17: 621201.17 | I17: 527800 | J17: 674500 | K17: =ROUND(AVERAGE(H17,I17,J17),2) -> 607833.72 | L17: 683321.29 | M17: 580580 | N17: 903830 | O17: =ROUND(AVERAGE(L17,M17,N17),2) -> 722577.1 | P17: 751653.42 | Q17: 638638 | R17: 674500 | S17: =ROUND(AVERAGE(P17,Q17,R17),2) -> 688263.81 | T17: 826818.76 | U17: 702501.8 | V17: 978025 | W17: =ROUND(AVERAGE(T17,U17,V17),2) -> 835781.85 | X17: 909500.64 | Y17: 772751.98 | Z17: 775675 | AA17: =ROUND(AVERAGE(X17,Y17,Z17),2) -> 819309.21 | AB17: 1000450.7 | AC17: 850027.18 | AD17: 1075827.5 | AE17: =ROUND(AVERAGE(AB17,AC17,AD17),2) -> 975435.13 | AF17: 1100495.8 | AG17: 935029.9 | AH17: 1129618.9 | AI17: =ROUND(AVERAGE(AF17,AG17,AH17),2) -> 1055048.2 | AJ17: 1210545.3 | AK17: 1028532.9 | AL17: 1242580.8 | AM17: =ROUND(AVERAGE(AJ17,AK17,AL17),2) -> 1160553 | AN17: 1331599.9 | AO17: 1131386.2 | AP17: 1304709.8 | AQ17: =ROUND(AVERAGE(AN17,AO17,AP17),2) -> 1255898.6 | AR17: 1464759.9 | AS17: 1244524.8 | AT17: 1329561.4 | AU17: =ROUND(AVERAGE(AR17,AS17,AT17),2) -> 1346282 | AV17: 1611235.9 | AW17: 1368977.3 | AX17: 1435926.3 | AY17: =ROUND(AVERAGE(AV17,AW17,AX17),2) -> 1472046.5 | AZ17: 1772359.4 | BA17: 1505875 | BB17: 1723111.6 | BC17: =ROUND(AVERAGE(AZ17,BA17,BB17),2) -> 1667115.3 | BD17: 1949595.4 | BE17: 1656462.5 | BF17: 1723111.6 | BG17: =ROUND(AVERAGE(BD17,BE17,BF17),2) -> 1776389.8 | BH17: 2144554.9 | BI17: 1822108.7 | BJ17: 1493363.4 | BK17: =ROUND(AVERAGE(BH17,BI17,BJ17),2) -> 1820009
A18: 8 | B18: Cambio Camisas Bloque | C18: 1 | D18: 3889225.5 | E18: 3306000 | F18: 3889225.5 | G18: =ROUND(AVERAGE(D18,E18,F18),2) -> 3694817 | H18: 5211562.2 | I18: 4430040 | J18: 5211562.2 | K18: =ROUND(AVERAGE(H18,I18,J18),2) -> 4951054.8 | L18: 6983493.4 | M18: 5936253.6 | N18: 6983493.4 | O18: =ROUND(AVERAGE(L18,M18,N18),2) -> 6634413.4 | P18: 5211562.2 | Q18: 4430040 | R18: 5211562.2 | S18: =ROUND(AVERAGE(P18,Q18,R18),2) -> 4951054.8 | T18: 7556765.2 | U18: 6423558 | V18: 7556765.2 | W18: =ROUND(AVERAGE(T18,U18,V18),2) -> 7179029.5 | X18: 5993296.5 | Y18: 5094546 | Z18: 5993296.5 | AA18: =ROUND(AVERAGE(X18,Y18,Z18),2) -> 5693713 | AB18: 8312441.7 | AC18: 7065913.8 | AD18: 8312441.7 | AE18: =ROUND(AVERAGE(AB18,AC18,AD18),2) -> 7896932.4 | AF18: 8728063.8 | AG18: 7419209.5 | AH18: 8728063.8 | AI18: =ROUND(AVERAGE(AF18,AG18,AH18),2) -> 8291779 | AJ18: 9600870.2 | AK18: 8161130.4 | AL18: 9600870.2 | AM18: =ROUND(AVERAGE(AJ18,AK18,AL18),2) -> 9120956.9 | AN18: 10080914 | AO18: 8569187 | AP18: 10080914 | AQ18: =ROUND(AVERAGE(AN18,AO18,AP18),2) -> 9577004.8 | AR18: 10272931 | AS18: 8732409.6 | AT18: 10272931 | AU18: =ROUND(AVERAGE(AR18,AS18,AT18),2) -> 9759423.9 | AV18: 11094766 | AW18: 9431002.3 | AX18: 11094766 | AY18: =ROUND(AVERAGE(AV18,AW18,AX18),2) -> 10540178 | AZ18: 13313719 | BA18: 11317203 | BB18: 13313719 | BC18: =ROUND(AVERAGE(AZ18,BA18,BB18),2) -> 12648213 | BD18: 13313719 | BE18: 11317203 | BF18: 13313719 | BG18: =ROUND(AVERAGE(BD18,BE18,BF18),2) -> 12648213 | BH18: 11538556 | BI18: 9808242.4 | BJ18: 11538556 | BK18: =ROUND(AVERAGE(BH18,BI18,BJ18),2) -> 10961785
A19: 9 | B19: Cambio Catalizador | C19: 1 | D19: 3078155.9 | E19: 2616000 | F19: 3078155.9 | G19: =ROUND(AVERAGE(D19,E19,F19),2) -> 2924103.9 | H19: 4124728.9 | I19: 3505440 | J19: 4124728.9 | K19: =ROUND(AVERAGE(H19,I19,J19),2) -> 3918299.2 | L19: 5527136.7 | M19: 4697289.6 | N19: 5527136.7 | O19: =ROUND(AVERAGE(L19,M19,N19),2) -> 5250521 | P19: 4124728.9 | Q19: 3505440 | R19: 4124728.9 | S19: =ROUND(AVERAGE(P19,Q19,R19),2) -> 3918299.2 | T19: 5980856.9 | U19: 5082888 | V19: 5980856.9 | W19: =ROUND(AVERAGE(T19,U19,V19),2) -> 5681533.9 | X19: 4743438.2 | Y19: 4031256 | Z19: 4743438.2 | AA19: =ROUND(AVERAGE(X19,Y19,Z19),2) -> 4506044.1 | AB19: 6578942.6 | AC19: 5591176.8 | AD19: 6578942.6 | AE19: =ROUND(AVERAGE(AB19,AC19,AD19),2) -> 6249687.3 | AF19: 6907889.7 | AG19: 5870735.6 | AH19: 6907889.7 | AI19: =ROUND(AVERAGE(AF19,AG19,AH19),2) -> 6562171.7 | AJ19: 7598678.7 | AK19: 6457809.2 | AL19: 7598678.7 | AM19: =ROUND(AVERAGE(AJ19,AK19,AL19),2) -> 7218388.8 | AN19: 7978612.6 | AO19: 6780699.7 | AP19: 7978612.6 | AQ19: =ROUND(AVERAGE(AN19,AO19,AP19),2) -> 7579308.3 | AR19: 8130586.2 | AS19: 6909855.8 | AT19: 8130586.2 | AU19: =ROUND(AVERAGE(AR19,AS19,AT19),2) -> 7723676.1 | AV19: 8781033.1 | AW19: 7462644.3 | AX19: 8781033.1 | AY19: =ROUND(AVERAGE(AV19,AW19,AX19),2) -> 8341570.1 | AZ19: 10537240 | BA19: 8955173.2 | BB19: 10537240 | BC19: =ROUND(AVERAGE(AZ19,BA19,BB19),2) -> 10009884 | BD19: 10537240 | BE19: 8955173.2 | BF19: 10537240 | BG19: =ROUND(AVERAGE(BD19,BE19,BF19),2) -> 10009884 | BH19: 9132274.4 | BI19: 7761150.1 | BJ19: 9132274.4 | BK19: =ROUND(AVERAGE(BH19,BI19,BJ19),2) -> 8675232.9
A20: 10 | B20: Cambio Cauchos Valvulas | C20: 1 | D20: 1446244.7 | E20: 1229000 | F20: 1446244.7 | G20: =ROUND(AVERAGE(D20,E20,F20),2) -> 1373829.8 | H20: 1937967.9 | I20: 1646860 | J20: 1937967.9 | K20: =ROUND(AVERAGE(H20,I20,J20),2) -> 1840931.9 | L20: 2596876.9 | M20: 2206792.4 | N20: 2596876.9 | O20: =ROUND(AVERAGE(L20,M20,N20),2) -> 2466848.8 | P20: 1937967.9 | Q20: 1646860 | R20: 1937967.9 | S20: =ROUND(AVERAGE(P20,Q20,R20),2) -> 1840931.9 | T20: 2810053.4 | U20: 2387947 | V20: 2810053.4 | W20: =ROUND(AVERAGE(T20,U20,V20),2) -> 2669351.3 | X20: 2228663 | Y20: 1893889 | Z20: 2228663 | AA20: =ROUND(AVERAGE(X20,Y20,Z20),2) -> 2117071.7 | AB20: 3091058.7 | AC20: 2626741.7 | AD20: 3091058.7 | AE20: =ROUND(AVERAGE(AB20,AC20,AD20),2) -> 2936286.4 | AF20: 3245611.7 | AG20: 2758078.8 | AH20: 3245611.7 | AI20: =ROUND(AVERAGE(AF20,AG20,AH20),2) -> 3083100.7 | AJ20: 3570172.8 | AK20: 3033886.7 | AL20: 3570172.8 | AM20: =ROUND(AVERAGE(AJ20,AK20,AL20),2) -> 3391410.8 | AN20: 3748681.5 | AO20: 3185581 | AP20: 3748681.5 | AQ20: =ROUND(AVERAGE(AN20,AO20,AP20),2) -> 3560981.3 | AR20: 3820084.9 | AS20: 3246258.7 | AT20: 3820084.9 | AU20: =ROUND(AVERAGE(AR20,AS20,AT20),2) -> 3628809.5 | AV20: 4125691.7 | AW20: 3505959.4 | AX20: 4125691.7 | AY20: =ROUND(AVERAGE(AV20,AW20,AX20),2) -> 3919114.3 | AZ20: 4950830.1 | BA20: 4207151.3 | BB20: 4950830.1 | BC20: =ROUND(AVERAGE(AZ20,BA20,BB20),2) -> 4702937.2 | BD20: 4950830.1 | BE20: 4207151.3 | BF20: 4950830.1 | BG20: =ROUND(AVERAGE(BD20,BE20,BF20),2) -> 4702937.2 | BH20: 4290719.4 | BI20: 3646197.8 | BJ20: 4290719.4 | BK20: =ROUND(AVERAGE(BH20,BI20,BJ20),2) -> 4075878.9
A21: 11 | B21: Cambio Correa De Reparticion | C21: 1 | D21: 477847.06 | E21: 406000 | F21: 477847.06 | G21: =ROUND(AVERAGE(D21,E21,F21),2) -> 453898.04 | H21: N/A | I21: N/A | J21: N/A | K21: N/A | L21: 812345 | M21: 812345 | N21: 774900 | O21: =ROUND(AVERAGE(L21,M21,N21),2) -> 799863.33 | P21: N/A | Q21: N/A | R21: N/A | S21: N/A | T21: 1745699 | U21: 1745699 | V21: 2329400 | W21: =ROUND(AVERAGE(T21,U21,V21),2) -> 1940266 | X21: 666888 | Y21: 666888 | Z21: 549524.11 | AA21: =ROUND(AVERAGE(X21,Y21,Z21),2) -> 627766.7 | AB21: 1920268.9 | AC21: 1920268.9 | AD21: 2562340 | AE21: =ROUND(AVERAGE(AB21,AC21,AD21),2) -> 2134292.6 | AF21: 2016282.3 | AG21: 2016282.3 | AH21: 2690457 | AI21: =ROUND(AVERAGE(AF21,AG21,AH21),2) -> 2241007.2 | AJ21: 2217910.6 | AK21: 2217910.6 | AL21: 2959502.7 | AM21: =ROUND(AVERAGE(AJ21,AK21,AL21),2) -> 2465108 | AN21: 2328806.1 | AO21: 2328806.1 | AP21: 3107477.8 | AQ21: =ROUND(AVERAGE(AN21,AO21,AP21),2) -> 2588363.4 | AR21: 2373164.3 | AS21: 2373164.3 | AT21: 3166667.9 | AU21: =ROUND(AVERAGE(AR21,AS21,AT21),2) -> 2637665.5 | AV21: 2563017.5 | AW21: 2563017.5 | AX21: 3420001.3 | AY21: =ROUND(AVERAGE(AV21,AW21,AX21),2) -> 2848678.8 | AZ21: 3075621 | BA21: 3075621 | BB21: 4104001.6 | BC21: =ROUND(AVERAGE(AZ21,BA21,BB21),2) -> 3418414.5 | BD21: 3075621 | BE21: 3075621 | BF21: 4104001.6 | BG21: =ROUND(AVERAGE(BD21,BE21,BF21),2) -> 3418414.5 | BH21: 2665538.2 | BI21: 2665538.2 | BJ21: 3556801.4 | BK21: =ROUND(AVERAGE(BH21,BI21,BJ21),2) -> 2962625.9
A22: 12 | B22: Cambio Cremallera Volante | C22: 1 | D22: 1216604.5 | E22: 1034000 | F22: 1216604.5 | G22: =ROUND(AVERAGE(D22,E22,F22),2) -> 1155736.3 | H22: 1630250 | I22: 1385560 | J22: 1630250 | K22: =ROUND(AVERAGE(H22,I22,J22),2) -> 1548686.7 | L22: 2184535 | M22: 1856650.4 | N22: 2184535 | O22: =ROUND(AVERAGE(L22,M22,N22),2) -> 2075240.1 | P22: 1630250 | Q22: 1385560 | R22: 1630250 | S22: =ROUND(AVERAGE(P22,Q22,R22),2) -> 1548686.7 | T22: 2363862.5 | U22: 2009062 | V22: 2363862.5 | W22: =ROUND(AVERAGE(T22,U22,V22),2) -> 2245595.6 | X22: 1874787.5 | Y22: 1593394 | Z22: 1874787.5 | AA22: =ROUND(AVERAGE(X22,Y22,Z22),2) -> 1780989.7 | AB22: 2600248.7 | AC22: 2209968.2 | AD22: 2600248.7 | AE22: =ROUND(AVERAGE(AB22,AC22,AD22),2) -> 2470155.2 | AF22: 2730261.2 | AG22: 2320466.6 | AH22: 2730261.2 | AI22: =ROUND(AVERAGE(AF22,AG22,AH22),2) -> 2593663 | AJ22: 3003287.3 | AK22: 2552513.3 | AL22: 3003287.3 | AM22: =ROUND(AVERAGE(AJ22,AK22,AL22),2) -> 2853029.3 | AN22: 3153451.6 | AO22: 2680138.9 | AP22: 3153451.6 | AQ22: =ROUND(AVERAGE(AN22,AO22,AP22),2) -> 2995680.7 | AR22: 3213517.4 | AS22: 2731189.2 | AT22: 3213517.4 | AU22: =ROUND(AVERAGE(AR22,AS22,AT22),2) -> 3052741.3 | AV22: 3470598.8 | AW22: 2949684.3 | AX22: 3470598.8 | AY22: =ROUND(AVERAGE(AV22,AW22,AX22),2) -> 3296960.6 | AZ22: 4164718.5 | BA22: 3539621.2 | BB22: 4164718.5 | BC22: =ROUND(AVERAGE(AZ22,BA22,BB22),2) -> 3956352.8 | BD22: 4164718.5 | BE22: 3539621.2 | BF22: 4164718.5 | BG22: =ROUND(AVERAGE(BD22,BE22,BF22),2) -> 3956352.8 | BH22: 3609422.7 | BI22: 3067671.7 | BJ22: 3609422.7 | BK22: =ROUND(AVERAGE(BH22,BI22,BJ22),2) -> 3428839.1
A23: 13 | B23: Suministro Y Cambio Damper Cigüeñal | C23: 1 | D23: 766118.8 | E23: 651000 | F23: 766118.8 | G23: =ROUND(AVERAGE(D23,E23,F23),2) -> 727745.86 | H23: 1026599.2 | I23: 872340 | J23: 1026599.2 | K23: =ROUND(AVERAGE(H23,I23,J23),2) -> 975179.46 | L23: 1375642.9 | M23: 1168935.6 | N23: 1375642.9 | O23: =ROUND(AVERAGE(L23,M23,N23),2) -> 1306740.5 | P23: 1026599.2 | Q23: 872340 | R23: 1026599.2 | S23: =ROUND(AVERAGE(P23,Q23,R23),2) -> 975179.46 | T23: 1488568.8 | U23: 1264893 | V23: 1488568.8 | W23: =ROUND(AVERAGE(T23,U23,V23),2) -> 1414010.2 | X23: 1180589.1 | Y23: 1003191 | Z23: 1180589.1 | AA23: =ROUND(AVERAGE(X23,Y23,Z23),2) -> 1121456.4 | AB23: 1637425.7 | AC23: 1391382.3 | AD23: 1637425.7 | AE23: =ROUND(AVERAGE(AB23,AC23,AD23),2) -> 1555411.2 | AF23: 1719297 | AG23: 1460951.4 | AH23: 1719297 | AI23: =ROUND(AVERAGE(AF23,AG23,AH23),2) -> 1633181.8 | AJ23: 1891226.7 | AK23: 1607046.6 | AL23: 1891226.7 | AM23: =ROUND(AVERAGE(AJ23,AK23,AL23),2) -> 1796500 | AN23: 1985788 | AO23: 1687398.9 | AP23: 1985788 | AQ23: =ROUND(AVERAGE(AN23,AO23,AP23),2) -> 1886325 | AR23: 2023612.6 | AS23: 1719539.8 | AT23: 2023612.6 | AU23: =ROUND(AVERAGE(AR23,AS23,AT23),2) -> 1922255 | AV23: 2185501.6 | AW23: 1857103 | AX23: 2185501.6 | AY23: =ROUND(AVERAGE(AV23,AW23,AX23),2) -> 2076035.4 | AZ23: 2622601.9 | BA23: 2228523.6 | BB23: 2622601.9 | BC23: =ROUND(AVERAGE(AZ23,BA23,BB23),2) -> 2491242.5 | BD23: 2622601.9 | BE23: 2228523.6 | BF23: 2622601.9 | BG23: =ROUND(AVERAGE(BD23,BE23,BF23),2) -> 2491242.5 | BH23: 2272921.6 | BI23: 1931387.1 | BJ23: 2272921.6 | BK23: =ROUND(AVERAGE(BH23,BI23,BJ23),2) -> 2159076.8
A24: 14 | B24: Cambio Empaque Carter | C24: 1 | D24: 477847.06 | E24: 406000 | F24: 477847.06 | G24: =ROUND(AVERAGE(D24,E24,F24),2) -> 453898.04 | H24: 640315.05 | I24: 544040 | J24: 640315.05 | K24: =ROUND(AVERAGE(H24,I24,J24),2) -> 608223.37 | L24: 858022.17 | M24: 729013.6 | N24: 858022.17 | O24: =ROUND(AVERAGE(L24,M24,N24),2) -> 815019.32 | P24: 640315.05 | Q24: 544040 | R24: 640315.05 | S24: =ROUND(AVERAGE(P24,Q24,R24),2) -> 608223.37 | T24: 928456.83 | U24: 788858 | V24: 928456.83 | W24: =ROUND(AVERAGE(T24,U24,V24),2) -> 881923.89 | X24: 736362.31 | Y24: 625646 | Z24: 736362.31 | AA24: =ROUND(AVERAGE(X24,Y24,Z24),2) -> 699456.88 | AB24: 1021302.5 | AC24: 867743.8 | AD24: 1021302.5 | AE24: =ROUND(AVERAGE(AB24,AC24,AD24),2) -> 970116.27 | AF24: 1072367.6 | AG24: 911130.99 | AH24: 1072367.6 | AI24: =ROUND(AVERAGE(AF24,AG24,AH24),2) -> 1018622.1 | AJ24: 1179604.4 | AK24: 1002244.1 | AL24: 1179604.4 | AM24: =ROUND(AVERAGE(AJ24,AK24,AL24),2) -> 1120484.3 | AN24: 1238584.6 | AO24: 1052356.3 | AP24: 1238584.6 | AQ24: =ROUND(AVERAGE(AN24,AO24,AP24),2) -> 1176508.5 | AR24: 1262176.7 | AS24: 1072401.2 | AT24: 1262176.7 | AU24: =ROUND(AVERAGE(AR24,AS24,AT24),2) -> 1198918.2 | AV24: 1363150.8 | AW24: 1158193.3 | AX24: 1363150.8 | AY24: =ROUND(AVERAGE(AV24,AW24,AX24),2) -> 1294831.6 | AZ24: 1635781 | BA24: 1389831.9 | BB24: 1635781 | BC24: =ROUND(AVERAGE(AZ24,BA24,BB24),2) -> 1553798 | BD24: 1635781 | BE24: 1389831.9 | BF24: 1635781 | BG24: =ROUND(AVERAGE(BD24,BE24,BF24),2) -> 1553798 | BH24: 1417676.9 | BI24: 1204521 | BJ24: 1417676.9 | BK24: =ROUND(AVERAGE(BH24,BI24,BJ24),2) -> 1346624.9
A25: 15 | B25: Cambio Empaque Multiple Admision | C25: 1 | D25: 375241.86 | E25: 319000 | F25: 375241.86 | G25: =ROUND(AVERAGE(D25,E25,F25),2) -> 356494.57 | H25: 502824.09 | I25: 427460 | J25: 502824.09 | K25: =ROUND(AVERAGE(H25,I25,J25),2) -> 477702.73 | L25: 673784.28 | M25: 572796.4 | N25: 673784.28 | O25: =ROUND(AVERAGE(L25,M25,N25),2) -> 640121.66 | P25: 502824.09 | Q25: 427460 | R25: 502824.09 | S25: =ROUND(AVERAGE(P25,Q25,R25),2) -> 477702.73 | T25: 729094.93 | U25: 619817 | V25: 729094.93 | W25: =ROUND(AVERAGE(T25,U25,V25),2) -> 692668.96 | X25: 578247.71 | Y25: 491579 | Z25: 578247.71 | AA25: =ROUND(AVERAGE(X25,Y25,Z25),2) -> 549358.14 | AB25: 802004.43 | AC25: 681798.7 | AD25: 802004.43 | AE25: =ROUND(AVERAGE(AB25,AC25,AD25),2) -> 761935.85 | AF25: 842104.65 | AG25: 715888.64 | AH25: 842104.65 | AI25: =ROUND(AVERAGE(AF25,AG25,AH25),2) -> 800032.64 | AJ25: 926315.11 | AK25: 787477.5 | AL25: 926315.11 | AM25: =ROUND(AVERAGE(AJ25,AK25,AL25),2) -> 880035.91 | AN25: 972630.87 | AO25: 826851.37 | AP25: 972630.87 | AQ25: =ROUND(AVERAGE(AN25,AO25,AP25),2) -> 924037.7 | AR25: 991157.17 | AS25: 842600.92 | AT25: 991157.17 | AU25: =ROUND(AVERAGE(AR25,AS25,AT25),2) -> 941638.42 | AV25: 1070449.7 | AW25: 910009 | AX25: 1070449.7 | AY25: =ROUND(AVERAGE(AV25,AW25,AX25),2) -> 1016969.5 | AZ25: 1284539.7 | BA25: 1092010.8 | BB25: 1284539.7 | BC25: =ROUND(AVERAGE(AZ25,BA25,BB25),2) -> 1220363.4 | BD25: 1284539.7 | BE25: 1092010.8 | BF25: 1284539.7 | BG25: =ROUND(AVERAGE(BD25,BE25,BF25),2) -> 1220363.4 | BH25: 1113267.7 | BI25: 946409.36 | BJ25: 1113267.7 | BK25: =ROUND(AVERAGE(BH25,BI25,BJ25),2) -> 1057648.3
A26: 16 | B26: Cambio Empaque Multiple Escape | C26: 1 | D26: 375241.86 | E26: 319000 | F26: 375241.86 | G26: =ROUND(AVERAGE(D26,E26,F26),2) -> 356494.57 | H26: 502824.09 | I26: 427460 | J26: 502824.09 | K26: =ROUND(AVERAGE(H26,I26,J26),2) -> 477702.73 | L26: 673784.28 | M26: 572796.4 | N26: 673784.28 | O26: =ROUND(AVERAGE(L26,M26,N26),2) -> 640121.66 | P26: 502824.09 | Q26: 427460 | R26: 502824.09 | S26: =ROUND(AVERAGE(P26,Q26,R26),2) -> 477702.73 | T26: 729094.93 | U26: 619817 | V26: 729094.93 | W26: =ROUND(AVERAGE(T26,U26,V26),2) -> 692668.96 | X26: 578247.71 | Y26: 491579 | Z26: 578247.71 | AA26: =ROUND(AVERAGE(X26,Y26,Z26),2) -> 549358.14 | AB26: 802004.43 | AC26: 681798.7 | AD26: 802004.43 | AE26: =ROUND(AVERAGE(AB26,AC26,AD26),2) -> 761935.85 | AF26: 842104.65 | AG26: 715888.64 | AH26: 842104.65 | AI26: =ROUND(AVERAGE(AF26,AG26,AH26),2) -> 800032.64 | AJ26: 926315.11 | AK26: 787477.5 | AL26: 926315.11 | AM26: =ROUND(AVERAGE(AJ26,AK26,AL26),2) -> 880035.91 | AN26: 972630.87 | AO26: 826851.37 | AP26: 972630.87 | AQ26: =ROUND(AVERAGE(AN26,AO26,AP26),2) -> 924037.7 | AR26: 991157.17 | AS26: 842600.92 | AT26: 991157.17 | AU26: =ROUND(AVERAGE(AR26,AS26,AT26),2) -> 941638.42 | AV26: 1070449.7 | AW26: 910009 | AX26: 1070449.7 | AY26: =ROUND(AVERAGE(AV26,AW26,AX26),2) -> 1016969.5 | AZ26: 1284539.7 | BA26: 1092010.8 | BB26: 1284539.7 | BC26: =ROUND(AVERAGE(AZ26,BA26,BB26),2) -> 1220363.4 | BD26: 1284539.7 | BE26: 1092010.8 | BF26: 1284539.7 | BG26: =ROUND(AVERAGE(BD26,BE26,BF26),2) -> 1220363.4 | BH26: 1113267.7 | BI26: 946409.36 | BJ26: 1113267.7 | BK26: =ROUND(AVERAGE(BH26,BI26,BJ26),2) -> 1057648.3
A27: 17 | B27: Cambio Empaque Tapa Valvulas | C27: 1 | D27: 349834.86 | E27: 297000 | F27: 349834.86 | G27: =ROUND(AVERAGE(D27,E27,F27),2) -> 332223.24 | H27: 468778.71 | I27: 397980 | J27: 468778.71 | K27: =ROUND(AVERAGE(H27,I27,J27),2) -> 445179.14 | L27: 628163.47 | M27: 533293.2 | N27: 628163.47 | O27: =ROUND(AVERAGE(L27,M27,N27),2) -> 596540.05 | P27: 468778.71 | Q27: 397980 | R27: 468778.71 | S27: =ROUND(AVERAGE(P27,Q27,R27),2) -> 445179.14 | T27: 679729.13 | U27: 577071 | V27: 679729.13 | W27: =ROUND(AVERAGE(T27,U27,V27),2) -> 645509.75 | X27: 539095.52 | Y27: 457677 | Z27: 539095.52 | AA27: =ROUND(AVERAGE(X27,Y27,Z27),2) -> 511956.01 | AB27: 747702.04 | AC27: 634778.1 | AD27: 747702.04 | AE27: =ROUND(AVERAGE(AB27,AC27,AD27),2) -> 710060.73 | AF27: 785087.15 | AG27: 666517.01 | AH27: 785087.15 | AI27: =ROUND(AVERAGE(AF27,AG27,AH27),2) -> 745563.77 | AJ27: 863595.86 | AK27: 733168.71 | AL27: 863595.86 | AM27: =ROUND(AVERAGE(AJ27,AK27,AL27),2) -> 820120.14 | AN27: 906775.65 | AO27: 769827.14 | AP27: 906775.65 | AQ27: =ROUND(AVERAGE(AN27,AO27,AP27),2) -> 861126.15 | AR27: 924047.57 | AS27: 784490.51 | AT27: 924047.57 | AU27: =ROUND(AVERAGE(AR27,AS27,AT27),2) -> 877528.55 | AV27: 997971.38 | AW27: 847249.76 | AX27: 997971.38 | AY27: =ROUND(AVERAGE(AV27,AW27,AX27),2) -> 947730.84 | AZ27: 1197565.7 | BA27: 1016699.7 | BB27: 1197565.7 | BC27: =ROUND(AVERAGE(AZ27,BA27,BB27),2) -> 1137277 | BD27: 1197565.7 | BE27: 1016699.7 | BF27: 1197565.7 | BG27: =ROUND(AVERAGE(BD27,BE27,BF27),2) -> 1137277 | BH27: 1037890.2 | BI27: 881139.75 | BJ27: 1037890.2 | BK27: =ROUND(AVERAGE(BH27,BI27,BJ27),2) -> 985640.07
A28: 18 | B28: Cambio Empaquetadura Culata | C28: 1 | D28: 1895753.1 | E28: 1611000 | F28: 1895753.1 | G28: =ROUND(AVERAGE(D28,E28,F28),2) -> 1800835.4 | H28: 2540309.2 | I28: 2158740 | J28: 2540309.2 | K28: =ROUND(AVERAGE(H28,I28,J28),2) -> 2413119.5 | L28: 3404014.3 | M28: 2892711.6 | N28: 3404014.3 | O28: =ROUND(AVERAGE(L28,M28,N28),2) -> 3233580.1 | P28: 2540309.2 | Q28: 2158740 | R28: 2540309.2 | S28: =ROUND(AVERAGE(P28,Q28,R28),2) -> 2413119.5 | T28: 3683448.4 | U28: 3130173 | V28: 3683448.4 | W28: =ROUND(AVERAGE(T28,U28,V28),2) -> 3499023.2 | X28: 2921355.6 | Y28: 2482551 | Z28: 2921355.6 | AA28: =ROUND(AVERAGE(X28,Y28,Z28),2) -> 2775087.4 | AB28: 4051793.2 | AC28: 3443190.3 | AD28: 4051793.2 | AE28: =ROUND(AVERAGE(AB28,AC28,AD28),2) -> 3848925.6 | AF28: 4254382.9 | AG28: 3615349.8 | AH28: 4254382.9 | AI28: =ROUND(AVERAGE(AF28,AG28,AH28),2) -> 4041371.8 | AJ28: 4679821.1 | AK28: 3976884.8 | AL28: 4679821.1 | AM28: =ROUND(AVERAGE(AJ28,AK28,AL28),2) -> 4445509 | AN28: 4913812.2 | AO28: 4175729 | AP28: 4913812.2 | AQ28: =ROUND(AVERAGE(AN28,AO28,AP28),2) -> 4667784.5 | AR28: 5007408.6 | AS28: 4255266.7 | AT28: 5007408.6 | AU28: =ROUND(AVERAGE(AR28,AS28,AT28),2) -> 4756694.7 | AV28: 5408001.3 | AW28: 4595688.1 | AX28: 5408001.3 | AY28: =ROUND(AVERAGE(AV28,AW28,AX28),2) -> 5137230.2 | AZ28: 6489601.6 | BA28: 5514825.7 | BB28: 6489601.6 | BC28: =ROUND(AVERAGE(AZ28,BA28,BB28),2) -> 6164676.3 | BD28: 6489601.6 | BE28: 5514825.7 | BF28: 6489601.6 | BG28: =ROUND(AVERAGE(BD28,BE28,BF28),2) -> 6164676.3 | BH28: 5624321.4 | BI28: 4779515.6 | BJ28: 5624321.4 | BK28: =ROUND(AVERAGE(BH28,BI28,BJ28),2) -> 5342719.4
A29: 19 | B29: Cambio Flexible De Escape | C29: 1 | D29: 825727.53 | E29: 702000 | F29: 825727.53 | G29: =ROUND(AVERAGE(D29,E29,F29),2) -> 784485.02 | H29: 1106474.9 | I29: 940680 | J29: 1106474.9 | K29: =ROUND(AVERAGE(H29,I29,J29),2) -> 1051209.9 | L29: 1482676.4 | M29: 1260511.2 | N29: 1482676.4 | O29: =ROUND(AVERAGE(L29,M29,N29),2) -> 1408621.3 | P29: 1106474.9 | Q29: 940680 | R29: 1106474.9 | S29: =ROUND(AVERAGE(P29,Q29,R29),2) -> 1051209.9 | T29: 1604388.6 | U29: 1363986 | V29: 1604388.6 | W29: =ROUND(AVERAGE(T29,U29,V29),2) -> 1524254.4 | X29: 1272446.1 | Y29: 1081782 | Z29: 1272446.1 | AA29: =ROUND(AVERAGE(X29,Y29,Z29),2) -> 1208891.4 | AB29: 1764827.4 | AC29: 1500384.6 | AD29: 1764827.4 | AE29: =ROUND(AVERAGE(AB29,AC29,AD29),2) -> 1676679.8 | AF29: 1853068.8 | AG29: 1575403.8 | AH29: 1853068.8 | AI29: =ROUND(AVERAGE(AF29,AG29,AH29),2) -> 1760513.8 | AJ29: 2038375.7 | AK29: 1732944.2 | AL29: 2038375.7 | AM29: =ROUND(AVERAGE(AJ29,AK29,AL29),2) -> 1936565.2 | AN29: 2140294.5 | AO29: 1819591.4 | AP29: 2140294.5 | AQ29: =ROUND(AVERAGE(AN29,AO29,AP29),2) -> 2033393.5 | AR29: 2181062 | AS29: 1854250.3 | AT29: 2181062 | AU29: =ROUND(AVERAGE(AR29,AS29,AT29),2) -> 2072124.8 | AV29: 2355547 | AW29: 2002590.3 | AX29: 2355547 | AY29: =ROUND(AVERAGE(AV29,AW29,AX29),2) -> 2237894.8 | AZ29: 2826656.4 | BA29: 2403108.4 | BB29: 2826656.4 | BC29: =ROUND(AVERAGE(AZ29,BA29,BB29),2) -> 2685473.7 | BD29: 2826656.4 | BE29: 2403108.4 | BF29: 2826656.4 | BG29: =ROUND(AVERAGE(BD29,BE29,BF29),2) -> 2685473.7 | BH29: 2449768.8 | BI29: 2082693.9 | BJ29: 2449768.8 | BK29: =ROUND(AVERAGE(BH29,BI29,BJ29),2) -> 2327410.5
A30: 20 | B30: Cambio Guia De Valvula | C30: 1 | D30: 1895753.1 | E30: 1611000 | F30: 1895753.1 | G30: =ROUND(AVERAGE(D30,E30,F30),2) -> 1800835.4 | H30: 2540309.2 | I30: 2158740 | J30: 2540309.2 | K30: =ROUND(AVERAGE(H30,I30,J30),2) -> 2413119.5 | L30: 3404014.3 | M30: 2892711.6 | N30: 3404014.3 | O30: =ROUND(AVERAGE(L30,M30,N30),2) -> 3233580.1 | P30: 2540309.2 | Q30: 2158740 | R30: 2540309.2 | S30: =ROUND(AVERAGE(P30,Q30,R30),2) -> 2413119.5 | T30: 3683448.4 | U30: 3130173 | V30: 3683448.4 | W30: =ROUND(AVERAGE(T30,U30,V30),2) -> 3499023.2 | X30: 2921355.6 | Y30: 2482551 | Z30: 2921355.6 | AA30: =ROUND(AVERAGE(X30,Y30,Z30),2) -> 2775087.4 | AB30: 4051793.2 | AC30: 3443190.3 | AD30: 4051793.2 | AE30: =ROUND(AVERAGE(AB30,AC30,AD30),2) -> 3848925.6 | AF30: 4254382.9 | AG30: 3615349.8 | AH30: 4254382.9 | AI30: =ROUND(AVERAGE(AF30,AG30,AH30),2) -> 4041371.8 | AJ30: 4679821.1 | AK30: 3976884.8 | AL30: 4679821.1 | AM30: =ROUND(AVERAGE(AJ30,AK30,AL30),2) -> 4445509 | AN30: 4913812.2 | AO30: 4175729 | AP30: 4913812.2 | AQ30: =ROUND(AVERAGE(AN30,AO30,AP30),2) -> 4667784.5 | AR30: 5007408.6 | AS30: 4255266.7 | AT30: 5007408.6 | AU30: =ROUND(AVERAGE(AR30,AS30,AT30),2) -> 4756694.7 | AV30: 5408001.3 | AW30: 4595688.1 | AX30: 5408001.3 | AY30: =ROUND(AVERAGE(AV30,AW30,AX30),2) -> 5137230.2 | AZ30: 6489601.6 | BA30: 5514825.7 | BB30: 6489601.6 | BC30: =ROUND(AVERAGE(AZ30,BA30,BB30),2) -> 6164676.3 | BD30: 6489601.6 | BE30: 5514825.7 | BF30: 6489601.6 | BG30: =ROUND(AVERAGE(BD30,BE30,BF30),2) -> 6164676.3 | BH30: 5624321.4 | BI30: 4779515.6 | BJ30: 5624321.4 | BK30: =ROUND(AVERAGE(BH30,BI30,BJ30),2) -> 5342719.4
A31: 21 | B31: Cambio Inyector De Combustible GASOLINA | C31: 1 | D31: 418824.64 | E31: 356000 | F31: 418824.64 | G31: =ROUND(AVERAGE(D31,E31,F31),2) -> 397883.09 | H31: N/A | I31: N/A | J31: N/A | K31: N/A | L31: N/A | M31: N/A | N31: N/A | O31: N/A | P31: N/A | Q31: N/A | R31: N/A | S31: N/A | T31: N/A | U31: N/A | V31: N/A | W31: N/A | X31: N/A | Y31: N/A | Z31: N/A | AA31: N/A | AB31: N/A | AC31: N/A | AD31: N/A | AE31: N/A | AF31: N/A | AG31: N/A | AH31: N/A | AI31: N/A | AJ31: N/A | AK31: N/A | AL31: N/A | AM31: N/A | AN31: N/A | AO31: N/A | AP31: N/A | AQ31: N/A | AR31: N/A | AS31: N/A | AT31: N/A | AU31: N/A | AV31: N/A | AW31: N/A | AX31: N/A | AY31: N/A | AZ31: N/A | BA31: N/A | BB31: N/A | BC31: N/A | BD31: N/A | BE31: N/A | BF31: N/A | BG31: N/A | BH31: N/A | BI31: N/A | BJ31: N/A | BK31: N/A
A32: 22 | B32: Cambio Inyector De Combustible DIESEL | C32: 1 | D32: N/A | E32: N/A | F32: N/A | G32: N/A | H32: 3220900 | I32: 3220900 | J32: 3220900 | K32: =ROUND(AVERAGE(H32,I32,J32),2) -> 3220900 | L32: 4316006 | M32: 4316006 | N32: 4316006 | O32: =ROUND(AVERAGE(L32,M32,N32),2) -> 4316006 | P32: 3220900 | Q32: 3220900 | R32: 3220900 | S32: =ROUND(AVERAGE(P32,Q32,R32),2) -> 3220900 | T32: 4670305 | U32: 4670305 | V32: 4670305 | W32: =ROUND(AVERAGE(T32,U32,V32),2) -> 4670305 | X32: 3704035 | Y32: 3704035 | Z32: 3704035 | AA32: =ROUND(AVERAGE(X32,Y32,Z32),2) -> 3704035 | AB32: 5137335.5 | AC32: 5137335.5 | AD32: 5137335.5 | AE32: =ROUND(AVERAGE(AB32,AC32,AD32),2) -> 5137335.5 | AF32: 5394202.3 | AG32: 5394202.3 | AH32: 5394202.3 | AI32: =ROUND(AVERAGE(AF32,AG32,AH32),2) -> 5394202.3 | AJ32: 5933622.5 | AK32: 5933622.5 | AL32: 5933622.5 | AM32: =ROUND(AVERAGE(AJ32,AK32,AL32),2) -> 5933622.5 | AN32: 6230303.6 | AO32: 6230303.6 | AP32: 6230303.6 | AQ32: =ROUND(AVERAGE(AN32,AO32,AP32),2) -> 6230303.6 | AR32: 6348976.1 | AS32: 6348976.1 | AT32: 6348976.1 | AU32: =ROUND(AVERAGE(AR32,AS32,AT32),2) -> 6348976.1 | AV32: 6856894.2 | AW32: 6856894.2 | AX32: 6856894.2 | AY32: =ROUND(AVERAGE(AV32,AW32,AX32),2) -> 6856894.2 | AZ32: 8228273 | BA32: 8228273 | BB32: 8228273 | BC32: =ROUND(AVERAGE(AZ32,BA32,BB32),2) -> 8228273 | BD32: 8228273 | BE32: 8228273 | BF32: 8228273 | BG32: =ROUND(AVERAGE(BD32,BE32,BF32),2) -> 8228273 | BH32: 7131169.9 | BI32: 7131169.9 | BJ32: 7131169.9 | BK32: =ROUND(AVERAGE(BH32,BI32,BJ32),2) -> 7131169.9
A33: 23 | B33: Cambio Patin Tensor | C33: 1 | D33: 525631.76 | E33: 447000 | F33: 477847.06 | G33: =ROUND(AVERAGE(D33,E33,F33),2) -> 483492.94 | H33: 704346.56 | I33: 598980 | J33: 640315.05 | K33: =ROUND(AVERAGE(H33,I33,J33),2) -> 647880.54 | L33: 943824.39 | M33: 802633.2 | N33: 858022.17 | O33: =ROUND(AVERAGE(L33,M33,N33),2) -> 868159.92 | P33: 704346.56 | Q33: 598980 | R33: 640315.05 | S33: =ROUND(AVERAGE(P33,Q33,R33),2) -> 647880.54 | T33: 1021302.5 | U33: 868521 | V33: 928456.83 | W33: =ROUND(AVERAGE(T33,U33,V33),2) -> 939426.78 | X33: 809998.54 | Y33: 688827 | Z33: 736362.31 | AA33: =ROUND(AVERAGE(X33,Y33,Z33),2) -> 745062.62 | AB33: 1123432.8 | AC33: 955373.1 | AD33: 1021302.5 | AE33: =ROUND(AVERAGE(AB33,AC33,AD33),2) -> 1033369.5 | AF33: 1179604.4 | AG33: 1003141.8 | AH33: 1072367.6 | AI33: =ROUND(AVERAGE(AF33,AG33,AH33),2) -> 1085037.9 | AJ33: 1297564.8 | AK33: 1103455.9 | AL33: 1179604.4 | AM33: =ROUND(AVERAGE(AJ33,AK33,AL33),2) -> 1193541.7 | AN33: 1362443.1 | AO33: 1158628.7 | AP33: 1238584.6 | AQ33: =ROUND(AVERAGE(AN33,AO33,AP33),2) -> 1253218.8 | AR33: 1388394.4 | AS33: 1180697.8 | AT33: 1262176.7 | AU33: =ROUND(AVERAGE(AR33,AS33,AT33),2) -> 1277089.6 | AV33: 1499465.9 | AW33: 1275153.7 | AX33: 1363150.8 | AY33: =ROUND(AVERAGE(AV33,AW33,AX33),2) -> 1379256.8 | AZ33: 1799359.1 | BA33: 1530184.4 | BB33: 1635781 | BC33: =ROUND(AVERAGE(AZ33,BA33,BB33),2) -> 1655108.2 | BD33: 1799359.1 | BE33: 1530184.4 | BF33: 1635781 | BG33: =ROUND(AVERAGE(BD33,BE33,BF33),2) -> 1655108.2 | BH33: 1559444.6 | BI33: 1326159.8 | BJ33: 1417676.9 | BK33: =ROUND(AVERAGE(BH33,BI33,BJ33),2) -> 1434427.1
A34: 24 | B34: Cambio Piñon Cigüeñal | C34: 1 | D34: 696542.7 | E34: 592000 | F34: 633220.64 | G34: =ROUND(AVERAGE(D34,E34,F34),2) -> 640587.78 | H34: 933367.22 | I34: 793280 | J34: 848515.66 | K34: =ROUND(AVERAGE(H34,I34,J34),2) -> 858387.63 | L34: 1250712.1 | M34: 1062995.2 | N34: 1137011 | O34: =ROUND(AVERAGE(L34,M34,N34),2) -> 1150239.4 | P34: 933367.22 | Q34: 793280 | R34: 848515.66 | S34: =ROUND(AVERAGE(P34,Q34,R34),2) -> 858387.63 | T34: 1353382.5 | U34: 1150256 | V34: 1230347.7 | W34: =ROUND(AVERAGE(T34,U34,V34),2) -> 1244662.1 | X34: 1073372.3 | Y34: 912272 | Z34: 975793 | AA34: =ROUND(AVERAGE(X34,Y34,Z34),2) -> 987145.77 | AB34: 1488720.7 | AC34: 1265281.6 | AD34: 1353382.5 | AE34: =ROUND(AVERAGE(AB34,AC34,AD34),2) -> 1369128.3 | AF34: 1563156.8 | AG34: 1328545.7 | AH34: 1421051.6 | AI34: =ROUND(AVERAGE(AF34,AG34,AH34),2) -> 1437584.7 | AJ34: 1719472.4 | AK34: 1461400.2 | AL34: 1563156.8 | AM34: =ROUND(AVERAGE(AJ34,AK34,AL34),2) -> 1581343.1 | AN34: 1805446 | AO34: 1534470.3 | AP34: 1641314.6 | AQ34: =ROUND(AVERAGE(AN34,AO34,AP34),2) -> 1660410.3 | AR34: 1839835.5 | AS34: 1563698.3 | AT34: 1672577.7 | AU34: =ROUND(AVERAGE(AR34,AS34,AT34),2) -> 1692037.2 | AV34: 1987022.3 | AW34: 1688794.1 | AX34: 1806383.9 | AY34: =ROUND(AVERAGE(AV34,AW34,AX34),2) -> 1827400.1 | AZ34: 2384426.8 | BA34: 2026553 | BB34: 2167660.7 | BC34: =ROUND(AVERAGE(AZ34,BA34,BB34),2) -> 2192880.2 | BD34: 2384426.8 | BE34: 2026553 | BF34: 2167660.7 | BG34: =ROUND(AVERAGE(BD34,BE34,BF34),2) -> 2192880.2 | BH34: 2066503.2 | BI34: 1756345.9 | BJ34: 1878639.3 | BK34: =ROUND(AVERAGE(BH34,BI34,BJ34),2) -> 1900496.1
A35: 25 | B35: Cambio Piston | C35: 1 | D35: 4278148.1 | E35: 3636000 | F35: 3889225.5 | G35: =ROUND(AVERAGE(D35,E35,F35),2) -> 3934457.9 | H35: 5732718.4 | I35: 4872240 | J35: 5211562.2 | K35: =ROUND(AVERAGE(H35,I35,J35),2) -> 5272173.5 | L35: 7681842.7 | M35: 6528801.6 | N35: 6983493.4 | O35: =ROUND(AVERAGE(L35,M35,N35),2) -> 7064712.5 | P35: 5732718.4 | Q35: 4872240 | R35: 5211562.2 | S35: =ROUND(AVERAGE(P35,Q35,R35),2) -> 5272173.5 | T35: 8312441.7 | U35: 7064748 | V35: 7556765.2 | W35: =ROUND(AVERAGE(T35,U35,V35),2) -> 7644651.6 | X35: 6592626.2 | Y35: 5603076 | Z35: 5993296.5 | AA35: =ROUND(AVERAGE(X35,Y35,Z35),2) -> 6062999.6 | AB35: 9143685.9 | AC35: 7771222.8 | AD35: 8312441.7 | AE35: =ROUND(AVERAGE(AB35,AC35,AD35),2) -> 8409116.8 | AF35: 9600870.2 | AG35: 8159783.9 | AH35: 8728063.8 | AI35: =ROUND(AVERAGE(AF35,AG35,AH35),2) -> 8829572.6 | AJ35: 10560957 | AK35: 8975762.3 | AL35: 9600870.2 | AM35: =ROUND(AVERAGE(AJ35,AK35,AL35),2) -> 9712529.9 | AN35: 11089005 | AO35: 9424550.5 | AP35: 10080914 | AQ35: =ROUND(AVERAGE(AN35,AO35,AP35),2) -> 10198156 | AR35: 11300224 | AS35: 9604065.7 | AT35: 10272931 | AU35: =ROUND(AVERAGE(AR35,AS35,AT35),2) -> 10392407 | AV35: 12204242 | AW35: 10372391 | AX35: 11094766 | AY35: =ROUND(AVERAGE(AV35,AW35,AX35),2) -> 11223800 | AZ35: 14645091 | BA35: 12446869 | BB35: 13313719 | BC35: =ROUND(AVERAGE(AZ35,BA35,BB35),2) -> 13468559 | BD35: 14645091 | BE35: 12446869 | BF35: 13313719 | BG35: =ROUND(AVERAGE(BD35,BE35,BF35),2) -> 13468559 | BH35: 12692412 | BI35: 10787287 | BJ35: 11538556 | BK35: =ROUND(AVERAGE(BH35,BI35,BJ35),2) -> 11672752
A36: 26 | B36: Cambio Polea Con Rodamiento | C36: 1 | D36: 696542.7 | E36: 592000 | F36: 633220.64 | G36: =ROUND(AVERAGE(D36,E36,F36),2) -> 640587.78 | H36: 933367.22 | I36: 793280 | J36: 848515.66 | K36: =ROUND(AVERAGE(H36,I36,J36),2) -> 858387.63 | L36: 1250712.1 | M36: 1062995.2 | N36: 1137011 | O36: =ROUND(AVERAGE(L36,M36,N36),2) -> 1150239.4 | P36: 933367.22 | Q36: 793280 | R36: 848515.66 | S36: =ROUND(AVERAGE(P36,Q36,R36),2) -> 858387.63 | T36: 1353382.5 | U36: 1150256 | V36: 1230347.7 | W36: =ROUND(AVERAGE(T36,U36,V36),2) -> 1244662.1 | X36: 1073372.3 | Y36: 912272 | Z36: 975793 | AA36: =ROUND(AVERAGE(X36,Y36,Z36),2) -> 987145.77 | AB36: 1488720.7 | AC36: 1265281.6 | AD36: 1353382.5 | AE36: =ROUND(AVERAGE(AB36,AC36,AD36),2) -> 1369128.3 | AF36: 1563156.8 | AG36: 1328545.7 | AH36: 1421051.6 | AI36: =ROUND(AVERAGE(AF36,AG36,AH36),2) -> 1437584.7 | AJ36: 1719472.4 | AK36: 1461400.2 | AL36: 1563156.8 | AM36: =ROUND(AVERAGE(AJ36,AK36,AL36),2) -> 1581343.1 | AN36: 1805446 | AO36: 1534470.3 | AP36: 1641314.6 | AQ36: =ROUND(AVERAGE(AN36,AO36,AP36),2) -> 1660410.3 | AR36: 1839835.5 | AS36: 1563698.3 | AT36: 1672577.7 | AU36: =ROUND(AVERAGE(AR36,AS36,AT36),2) -> 1692037.2 | AV36: 1987022.3 | AW36: 1688794.1 | AX36: 1806383.9 | AY36: =ROUND(AVERAGE(AV36,AW36,AX36),2) -> 1827400.1 | AZ36: 2384426.8 | BA36: 2026553 | BB36: 2167660.7 | BC36: =ROUND(AVERAGE(AZ36,BA36,BB36),2) -> 2192880.2 | BD36: 2384426.8 | BE36: 2026553 | BF36: 2167660.7 | BG36: =ROUND(AVERAGE(BD36,BE36,BF36),2) -> 2192880.2 | BH36: 2066503.2 | BI36: 1756345.9 | BJ36: 1878639.3 | BK36: =ROUND(AVERAGE(BH36,BI36,BJ36),2) -> 1900496.1
A37: 27 | B37: Cambio Punta De Inyector DIESEL | C37: 1 | D37: N/A | E37: N/A | F37: N/A | G37: N/A | H37: 654899 | I37: 654899 | J37: 654899 | K37: =ROUND(AVERAGE(H37,I37,J37),2) -> 654899 | L37: 877564.66 | M37: 877564.66 | N37: 877564.66 | O37: =ROUND(AVERAGE(L37,M37,N37),2) -> 877564.66 | P37: 654899 | Q37: 654899 | R37: 654899 | S37: =ROUND(AVERAGE(P37,Q37,R37),2) -> 654899 | T37: 949603.55 | U37: 949603.55 | V37: 949603.55 | W37: =ROUND(AVERAGE(T37,U37,V37),2) -> 949603.55 | X37: 753133.85 | Y37: 753133.85 | Z37: 753133.85 | AA37: =ROUND(AVERAGE(X37,Y37,Z37),2) -> 753133.85 | AB37: 1044563.9 | AC37: 1044563.9 | AD37: 1044563.9 | AE37: =ROUND(AVERAGE(AB37,AC37,AD37),2) -> 1044563.9 | AF37: 1096792.1 | AG37: 1096792.1 | AH37: 1096792.1 | AI37: =ROUND(AVERAGE(AF37,AG37,AH37),2) -> 1096792.1 | AJ37: 1206471.3 | AK37: 1206471.3 | AL37: 1206471.3 | AM37: =ROUND(AVERAGE(AJ37,AK37,AL37),2) -> 1206471.3 | AN37: 1266794.9 | AO37: 1266794.9 | AP37: 1266794.9 | AQ37: =ROUND(AVERAGE(AN37,AO37,AP37),2) -> 1266794.9 | AR37: 1290924.3 | AS37: 1290924.3 | AT37: 1290924.3 | AU37: =ROUND(AVERAGE(AR37,AS37,AT37),2) -> 1290924.3 | AV37: 1394198.2 | AW37: 1394198.2 | AX37: 1394198.2 | AY37: =ROUND(AVERAGE(AV37,AW37,AX37),2) -> 1394198.2 | AZ37: 1673037.9 | BA37: 1673037.9 | BB37: 1673037.9 | BC37: =ROUND(AVERAGE(AZ37,BA37,BB37),2) -> 1673037.9 | BD37: 1673037.9 | BE37: 1673037.9 | BF37: 1673037.9 | BG37: =ROUND(AVERAGE(BD37,BE37,BF37),2) -> 1673037.9 | BH37: 1449966.2 | BI37: 1449966.2 | BJ37: 1449966.2 | BK37: =ROUND(AVERAGE(BH37,BI37,BJ37),2) -> 1449966.2
A38: 28 | B38: Cambio Retenedor De Inyector | C38: 1 | D38: 352571 | E38: 300000 | F38: 320519.09 | G38: =ROUND(AVERAGE(D38,E38,F38),2) -> 324363.36 | H38: 472445.14 | I38: 402000 | J38: 429495.58 | K38: =ROUND(AVERAGE(H38,I38,J38),2) -> 434646.9 | L38: 633076.48 | M38: 538680 | N38: 575524.08 | O38: =ROUND(AVERAGE(L38,M38,N38),2) -> 582426.85 | P38: 472445.14 | Q38: 402000 | R38: 429495.58 | S38: =ROUND(AVERAGE(P38,Q38,R38),2) -> 434646.9 | T38: 685045.45 | U38: 582900 | V38: 622768.59 | W38: =ROUND(AVERAGE(T38,U38,V38),2) -> 630238.01 | X38: 543311.91 | Y38: 462300 | Z38: 493919.92 | AA38: =ROUND(AVERAGE(X38,Y38,Z38),2) -> 499843.94 | AB38: 753549.99 | AC38: 641190 | AD38: 685045.45 | AE38: =ROUND(AVERAGE(AB38,AC38,AD38),2) -> 693261.81 | AF38: 791227.49 | AG38: 673249.5 | AH38: 719297.72 | AI38: =ROUND(AVERAGE(AF38,AG38,AH38),2) -> 727924.9 | AJ38: 870350.24 | AK38: 740574.45 | AL38: 791227.49 | AM38: =ROUND(AVERAGE(AJ38,AK38,AL38),2) -> 800717.39 | AN38: 913867.75 | AO38: 777603.17 | AP38: 830788.87 | AQ38: =ROUND(AVERAGE(AN38,AO38,AP38),2) -> 840753.26 | AR38: 931274.76 | AS38: 792414.66 | AT38: 846613.42 | AU38: =ROUND(AVERAGE(AR38,AS38,AT38),2) -> 856767.61 | AV38: 1005776.7 | AW38: 855807.83 | AX38: 914342.49 | AY38: =ROUND(AVERAGE(AV38,AW38,AX38),2) -> 925309.02 | AZ38: 1206932.1 | BA38: 1026969.4 | BB38: 1097211 | BC38: =ROUND(AVERAGE(AZ38,BA38,BB38),2) -> 1110370.8 | BD38: 1206932.1 | BE38: 1026969.4 | BF38: 1097211 | BG38: =ROUND(AVERAGE(BD38,BE38,BF38),2) -> 1110370.8 | BH38: 1046007.8 | BI38: 890040.15 | BJ38: 950916.19 | BK38: =ROUND(AVERAGE(BH38,BI38,BJ38),2) -> 962321.38
A39: 29 | B39: Cambio Silenciador | C39: 1 | D39: 693317.97 | E39: 589000 | F39: 630289.06 | G39: =ROUND(AVERAGE(D39,E39,F39),2) -> 637535.68 | H39: 929046.08 | I39: 789260 | J39: 844587.34 | K39: =ROUND(AVERAGE(H39,I39,J39),2) -> 854297.81 | L39: 1244921.7 | M39: 1057608.4 | N39: 1131747 | O39: =ROUND(AVERAGE(L39,M39,N39),2) -> 1144759.1 | P39: 929046.08 | Q39: 789260 | R39: 844587.34 | S39: =ROUND(AVERAGE(P39,Q39,R39),2) -> 854297.81 | T39: 1347116.8 | U39: 1144427 | V39: 1224651.6 | W39: =ROUND(AVERAGE(T39,U39,V39),2) -> 1238731.8 | X39: 1068403 | Y39: 907649 | Z39: 971275.44 | AA39: =ROUND(AVERAGE(X39,Y39,Z39),2) -> 982442.48 | AB39: 1481828.5 | AC39: 1258869.7 | AD39: 1347116.8 | AE39: =ROUND(AVERAGE(AB39,AC39,AD39),2) -> 1362605 | AF39: 1555919.9 | AG39: 1321813.2 | AH39: 1414472.7 | AI39: =ROUND(AVERAGE(AF39,AG39,AH39),2) -> 1430735.2 | AJ39: 1711511.9 | AK39: 1453994.5 | AL39: 1555919.9 | AM39: =ROUND(AVERAGE(AJ39,AK39,AL39),2) -> 1573808.8 | AN39: 1797087.5 | AO39: 1526694.2 | AP39: 1633715.9 | AQ39: =ROUND(AVERAGE(AN39,AO39,AP39),2) -> 1652499.2 | AR39: 1831317.7 | AS39: 1555774.1 | AT39: 1664834.3 | AU39: =ROUND(AVERAGE(AR39,AS39,AT39),2) -> 1683975.4 | AV39: 1977823.2 | AW39: 1680236 | AX39: 1798021.1 | AY39: =ROUND(AVERAGE(AV39,AW39,AX39),2) -> 1818693.4 | AZ39: 2373387.8 | BA39: 2016283.3 | BB39: 2157625.3 | BC39: =ROUND(AVERAGE(AZ39,BA39,BB39),2) -> 2182432.1 | BD39: 2373387.8 | BE39: 2016283.3 | BF39: 2157625.3 | BG39: =ROUND(AVERAGE(BD39,BE39,BF39),2) -> 2182432.1 | BH39: 2056936.1 | BI39: 1747445.5 | BJ39: 1869941.9 | BK39: =ROUND(AVERAGE(BH39,BI39,BJ39),2) -> 1891441.2
A40: 30 | B40: Cambio Soporte De Bateria | C40: 1 | D40: 193484.08 | E40: 164000 | F40: 175894.62 | G40: =ROUND(AVERAGE(D40,E40,F40),2) -> 177792.9 | H40: 259268.67 | I40: 219760 | J40: 235698.79 | K40: =ROUND(AVERAGE(H40,I40,J40),2) -> 238242.49 | L40: 347420.02 | M40: 294478.4 | N40: 315836.38 | O40: =ROUND(AVERAGE(L40,M40,N40),2) -> 319244.93 | P40: 259268.67 | Q40: 219760 | R40: 235698.79 | S40: =ROUND(AVERAGE(P40,Q40,R40),2) -> 238242.49 | T40: 375939.57 | U40: 318652 | V40: 341763.25 | W40: =ROUND(AVERAGE(T40,U40,V40),2) -> 345451.61 | X40: 298158.97 | Y40: 252724 | Z40: 271053.61 | AA40: =ROUND(AVERAGE(X40,Y40,Z40),2) -> 273978.86 | AB40: 413533.53 | AC40: 350517.2 | AD40: 375939.57 | AE40: =ROUND(AVERAGE(AB40,AC40,AD40),2) -> 379996.77 | AF40: 434210.21 | AG40: 368043.06 | AH40: 394736.55 | AI40: =ROUND(AVERAGE(AF40,AG40,AH40),2) -> 398996.61 | AJ40: 477631.23 | AK40: 404847.37 | AL40: 434210.21 | AM40: =ROUND(AVERAGE(AJ40,AK40,AL40),2) -> 438896.27 | AN40: 501512.79 | AO40: 425089.73 | AP40: 455920.72 | AQ40: =ROUND(AVERAGE(AN40,AO40,AP40),2) -> 460841.08 | AR40: 511065.42 | AS40: 433186.68 | AT40: 464604.92 | AU40: =ROUND(AVERAGE(AR40,AS40,AT40),2) -> 469619.01 | AV40: 551950.65 | AW40: 467841.62 | AX40: 501773.32 | AY40: =ROUND(AVERAGE(AV40,AW40,AX40),2) -> 507188.53 | AZ40: 662340.78 | BA40: 561409.94 | BB40: 602127.98 | BC40: =ROUND(AVERAGE(AZ40,BA40,BB40),2) -> 608626.23 | BD40: 662340.78 | BE40: 561409.94 | BF40: 602127.98 | BG40: =ROUND(AVERAGE(BD40,BE40,BF40),2) -> 608626.23 | BH40: 574028.68 | BI40: 486555.28 | BJ40: 521844.25 | BK40: =ROUND(AVERAGE(BH40,BI40,BJ40),2) -> 527476.07
A41: 31 | B41: Cambio Tapon De Motor | C41: 1 | D41: 288076.3 | E41: 245000 | F41: 261887.55 | G41: =ROUND(AVERAGE(D41,E41,F41),2) -> 264987.95 | H41: 386022.25 | I41: 328300 | J41: 350929.31 | K41: =ROUND(AVERAGE(H41,I41,J41),2) -> 355083.85 | L41: 517269.81 | M41: 439922 | N41: 470245.28 | O41: =ROUND(AVERAGE(L41,M41,N41),2) -> 475812.36 | P41: 386022.25 | Q41: 328300 | R41: 350929.31 | S41: =ROUND(AVERAGE(P41,Q41,R41),2) -> 355083.85 | T41: 559732.26 | U41: 476035 | V41: 508847.51 | W41: =ROUND(AVERAGE(T41,U41,V41),2) -> 514871.59 | X41: 443925.58 | Y41: 377545 | Z41: 403568.71 | AA41: =ROUND(AVERAGE(X41,Y41,Z41),2) -> 408346.43 | AB41: 615705.48 | AC41: 523638.5 | AD41: 559732.26 | AE41: =ROUND(AVERAGE(AB41,AC41,AD41),2) -> 566358.75 | AF41: 646490.76 | AG41: 549820.43 | AH41: 587718.87 | AI41: =ROUND(AVERAGE(AF41,AG41,AH41),2) -> 594676.68 | AJ41: 711139.83 | AK41: 604802.47 | AL41: 646490.76 | AM41: =ROUND(AVERAGE(AJ41,AK41,AL41),2) -> 654144.35 | AN41: 746696.82 | AO41: 635042.59 | AP41: 678815.29 | AQ41: =ROUND(AVERAGE(AN41,AO41,AP41),2) -> 686851.57 | AR41: 760919.62 | AS41: 647138.64 | AT41: 691745.11 | AU41: =ROUND(AVERAGE(AR41,AS41,AT41),2) -> 699934.46 | AV41: 821793.19 | AW41: 698909.73 | AX41: 747084.72 | AY41: =ROUND(AVERAGE(AV41,AW41,AX41),2) -> 755929.21 | AZ41: 986151.83 | BA41: 838691.68 | BB41: 896501.66 | BC41: =ROUND(AVERAGE(AZ41,BA41,BB41),2) -> 907115.06 | BD41: 986151.83 | BE41: 838691.68 | BF41: 896501.66 | BG41: =ROUND(AVERAGE(BD41,BE41,BF41),2) -> 907115.06 | BH41: 854664.92 | BI41: 726866.12 | BJ41: 776968.11 | BK41: =ROUND(AVERAGE(BH41,BI41,BJ41),2) -> 786166.38
A42: 32 | B42: Cambio Turbo Cargador | C42: 1 | D42: N/A | E42: N/A | F42: N/A | G42: N/A | H42: 4320300 | I42: 4320300 | J42: 4320300 | K42: =ROUND(AVERAGE(H42,I42,J42),2) -> 4320300 | L42: 5789202 | M42: 5789202 | N42: 5789202 | O42: =ROUND(AVERAGE(L42,M42,N42),2) -> 5789202 | P42: 4320300 | Q42: 4320300 | R42: 4320300 | S42: =ROUND(AVERAGE(P42,Q42,R42),2) -> 4320300 | T42: 6264435 | U42: 6264435 | V42: 6264435 | W42: =ROUND(AVERAGE(T42,U42,V42),2) -> 6264435 | X42: 4968345 | Y42: 4968345 | Z42: 4968345 | AA42: =ROUND(AVERAGE(X42,Y42,Z42),2) -> 4968345 | AB42: 6890878.5 | AC42: 6890878.5 | AD42: 6890878.5 | AE42: =ROUND(AVERAGE(AB42,AC42,AD42),2) -> 6890878.5 | AF42: 7235422.4 | AG42: 7235422.4 | AH42: 7235422.4 | AI42: =ROUND(AVERAGE(AF42,AG42,AH42),2) -> 7235422.4 | AJ42: 7958964.7 | AK42: 7958964.7 | AL42: 7958964.7 | AM42: =ROUND(AVERAGE(AJ42,AK42,AL42),2) -> 7958964.7 | AN42: 8356912.9 | AO42: 8356912.9 | AP42: 8356912.9 | AQ42: =ROUND(AVERAGE(AN42,AO42,AP42),2) -> 8356912.9 | AR42: 8516092.2 | AS42: 8516092.2 | AT42: 8516092.2 | AU42: =ROUND(AVERAGE(AR42,AS42,AT42),2) -> 8516092.2 | AV42: 9197379.6 | AW42: 9197379.6 | AX42: 9197379.6 | AY42: =ROUND(AVERAGE(AV42,AW42,AX42),2) -> 9197379.6 | AZ42: 11036855 | BA42: 11036855 | BB42: 11036855 | BC42: =ROUND(AVERAGE(AZ42,BA42,BB42),2) -> 11036855 | BD42: 11036855 | BE42: 11036855 | BF42: 11036855 | BG42: =ROUND(AVERAGE(BD42,BE42,BF42),2) -> 11036855 | BH42: 9565274.8 | BI42: 9565274.8 | BJ42: 9565274.8 | BK42: =ROUND(AVERAGE(BH42,BI42,BJ42),2) -> 9565274.8
A43: 33 | B43: Cambio Valvulas Admision Y Escape | C43: 1 | D43: 2085328.5 | E43: 1773000 | F43: 1895753.1 | G43: =ROUND(AVERAGE(D43,E43,F43),2) -> 1918027.2 | H43: 2794340.1 | I43: 2375820 | J43: 2540309.2 | K43: =ROUND(AVERAGE(H43,I43,J43),2) -> 2570156.5 | L43: 3744415.8 | M43: 3183598.8 | N43: 3404014.3 | O43: =ROUND(AVERAGE(L43,M43,N43),2) -> 3444009.6 | P43: 2794340.1 | Q43: 2375820 | R43: 2540309.2 | S43: =ROUND(AVERAGE(P43,Q43,R43),2) -> 2570156.5 | T43: 4051793.2 | U43: 3444939 | V43: 3683448.4 | W43: =ROUND(AVERAGE(T43,U43,V43),2) -> 3726726.9 | X43: 3213491.2 | Y43: 2732193 | Z43: 2921355.6 | AA43: =ROUND(AVERAGE(X43,Y43,Z43),2) -> 2955679.9 | AB43: 4456972.5 | AC43: 3789432.9 | AD43: 4051793.2 | AE43: =ROUND(AVERAGE(AB43,AC43,AD43),2) -> 4099399.5 | AF43: 4679821.1 | AG43: 3978904.5 | AH43: 4254382.9 | AI43: =ROUND(AVERAGE(AF43,AG43,AH43),2) -> 4304369.5 | AJ43: 5147803.3 | AK43: 4376795 | AL43: 4679821.1 | AM43: =ROUND(AVERAGE(AJ43,AK43,AL43),2) -> 4734806.5 | AN43: 5405193.4 | AO43: 4595634.7 | AP43: 4913812.2 | AQ43: =ROUND(AVERAGE(AN43,AO43,AP43),2) -> 4971546.8 | AR43: 5508149.5 | AS43: 4683170.6 | AT43: 5007408.6 | AU43: =ROUND(AVERAGE(AR43,AS43,AT43),2) -> 5066242.9 | AV43: 5948801.4 | AW43: 5057824.3 | AX43: 5408001.3 | AY43: =ROUND(AVERAGE(AV43,AW43,AX43),2) -> 5471542.3 | AZ43: 7138561.7 | BA43: 6069389.2 | BB43: 6489601.6 | BC43: =ROUND(AVERAGE(AZ43,BA43,BB43),2) -> 6565850.8 | BD43: 7138561.7 | BE43: 6069389.2 | BF43: 6489601.6 | BG43: =ROUND(AVERAGE(BD43,BE43,BF43),2) -> 6565850.8 | BH43: 6186753.5 | BI43: 5260137.3 | BJ43: 5624321.4 | BK43: =ROUND(AVERAGE(BH43,BI43,BJ43),2) -> 5690404
