Workbook

Sheet PRESUPUESTO
C3: SALON DE MUSICA
C4: ITEM | D4: ACTIVIDADES | E4: UNIDAD | F4: CANT | G4: V/UNIT | H4: V/TOTAL
C5: 1 | D5: ALISTAMIENTO DE PISO PARA ENCHAPE | E5: M2 | F5: =+'MEMORIA DE CANTIDADES'!K34 -> 50.41 | G5: =+APUS!J51 -> 18100 | H5: =+F5*G5 -> 912421 | J5: 16000 | K5: 50.41 | L5: =+J5*K5 -> 806560
C6: 2 | D6: SUMINISTRO E INSTALACION DE PISO ENCHAPE DE 50CMS X 50 CMS | E6: M2 | F6: =+'MEMORIA DE CANTIDADES'!K68 -> 50.41 | G6: =+APUS!J102 -> 74361 | H6: =+F6*G6 -> 3748538 | J6: 74000 | K6: 50.41 | L6: =+J6*K6 -> 3730340
C7: 3 | D7: SUMINSTRO E ISNTALACION DE CERAMICA GUARDAESCOBA | E7: ML | F7: =+'MEMORIA DE CANTIDADES'!K102 -> 32 | G7: =+APUS!J153 -> 36192 | H7: =+F7*G7 -> 1158144 | J7: 38000 | K7: 32 | L7: =+J7*K7 -> 1216000
C8: 4 | D8: SUMINSTRO E ISNTALACION DE CERAMICA A MESON GUARDA INSTRUMENTOS MUSICALES | E8: M2 | F8: =+'MEMORIA DE CANTIDADES'!K136 -> 19.8 | G8: =+APUS!J206 -> 62586 | H8: =+F8*G8 -> 1239202.8 | J8: 74000 | K8: 19.8 | L8: =+J8*K8 -> 1465200
C9: 5 | D9: SUMINISTRO E INSTALACION LAMPARA ENCRUSTAR | E9: UND | F9: =+'MEMORIA DE CANTIDADES'!K170 -> 8 | G9: =+APUS!J259 -> 38861 | H9: =+F9*G9 -> 310888 | J9: 39000 | K9: 8 | L9: =+J9*K9 -> 312000
C10: 6 | D10: SUMINSTRO E INSTALACION CIELORASO EN PVC 9MM X 30 CM (Tipo Mexicano) | E10: M2 | F10: =+'MEMORIA DE CANTIDADES'!K204 -> 50.41 | G10: =+APUS!J312 -> 69201 | H10: =+F10*G10 -> 3488422.4 | J10: 66000 | K10: 50.41 | L10: =+J10*K10 -> 3327060
C11: SUB TOTAL | H11: =SUM(H5:H10) -> 10857616
C12: ADMINISTRACION | F12: 0.12 | H12: =+H11*F12 -> 1302913.9
C13: IMPREVISTOS | F13: 0.02 | H13: =+H11*F13 -> 217152.32
C14: UTILIDAD | F14: 0.05 | H14: =+H11*F14 -> 542880.81
C15: TOTAL OBRA | H15: =SUM(H11:H14) -> 12920563 | J15: 12920020
J17: =+H15-J15 -> 542.9018

Sheet APUS
C4: REPUBLICA DE COLOMBIA | H4: ANÁLISIS DE PRECIOS UNITARIOS
C5: DEPARTAMENTO DEL TOLIMA
C6: INSTITUCIÓN EDUCATIVA TÉCNICA INSTITUTO ARMERO DE ARMERO GUAYABAL TOLIMA
C7: NIT.: 890701513-4
C9: ITEM: | D9: 1 | H9: ESPECIFICACIÓN: PARTICULAR
C10: DESCRIPCION: | D10: ALISTAMIENTO DE PISO PARA ENCHAPE | I10: UNIDAD : | J10: M2
C12: I. EQUIPO
C13: Descripción | F13: Tipo | G13: Tarifa/Hora | H13: Rendimiento | I13: Valor-Unit.
C14: Herramienta Menor | F14: Glb | G14: 2562 | H14: 0.05 | I14: =+G14*H14 -> 128.1
I19: Sub-Total | J19: =SUM(I14:I18) -> 128.1
C20: II. MATERIALES EN OBRA
C21: Descripción | F21: Unidad | G21: Precio-Unit. | H21: Cantidad | I21: Valor-Unit.
C22: Mortero 1:4 | F22: M3 | G22: 296000 | H22: 0.032 | I22: =+G22*H22 -> 9472
I28: Sub-Total | J28: =SUM(I22:I27) -> 9472
C29: III. TRANSPORTES
C30: Material | D30: Vol-peso ó Cant. | F30: Distancia | G30: M3-Km | H30: Tarifa | I30: Valor-Unit.
I35: Sub-Total | J35: =SUM(I31:I34) -> 0
C36: IV. MANO DE OBRA
C37: Trabajador | F37: Unidad | G37: Can. O Rend. | H37: Valor | I37: Valor-Unit.
C38: Mano de Obra Albañileria | F38: Hc | G38: 0.5 | H38: 17000 | I38: =+G38*H38 -> 8500
I44: Sub-Total | J44: =SUM(I38:I43) -> 8500
C51: Total Costo Directo | J51: =ROUND(J19+J28+J35+J44,0) -> 18100
C55: REPUBLICA DE COLOMBIA | H55: ANÁLISIS DE PRECIOS UNITARIOS
C56: DEPARTAMENTO DEL TOLIMA
C57: INSTITUCIÓN EDUCATIVA TÉCNICA INSTITUTO ARMERO DE ARMERO GUAYABAL TOLIMA
C58: NIT.: 890701513-4
C60: ITEM: | D60: 2 | H60: ESPECIFICACIÓN: PARTICULAR
C61: DESCRIPCION: | D61: SUMINISTRO E INSTALACION DE PISO ENCHAPE DE 50CMS X 50 CMS | I61: UNIDAD : | J61: M2
C63: I. EQUIPO
C64: Descripción | F64: Tipo | G64: Tarifa/Hora | H64: Rendimiento | I64: Valor-Unit.
C65: Herramienta Menor | F65: Glb | G65: 2562 | H65: 0.2 | I65: =+G65*H65 -> 512.4
I70: Sub-Total | J70: =SUM(I65:I69) -> 512.4
C71: II. MATERIALES EN OBRA
C72: Descripción | F72: Unidad | G72: Precio-Unit. | H72: Cantidad | I72: Valor-Unit.
C73: Pegacor | F73: Kg | G73: 1705 | H73: 0.46 | I73: =+G73*H73 -> 784.3
C74: Enchape piso 05, X 0,5mts | F74: M2 | G74: 49000 | H74: 1.3 | I74: =+G74*H74 -> 63700
C75: Agua | F75: Lt | G75: 80 | H75: 1.3 | I75: =+G75*H75 -> 104
C76: Boquilla | F76: Kg | G76: 35000 | H76: 0.08 | I76: =+G76*H76 -> 2800
I79: Sub-Total | J79: =SUM(I73:I78) -> 67388.3
C80: III. TRANSPORTES
...

Sheet MEMORIA DE CANTIDADES
C4: MEMORIA DE CÁLCULO CANTIDADES DE OBRA
C7: ITEM | D7: 1 | J7: HOJA 1 DE 1
C8: DESCRIPCIÓN | D8: ALISTAMIENTO DE PISO PARA ENCHAPE | J8: UNIDAD | K8: m2
C9: DIAGRAMA | E9: LOCALIZACION | F9: DIMENSIONES | J9: Cantidad | K9: Total
F10: Largo | G10: Ancho | H10: Alto | I10: Otros
E11: Aula | F11: 7.1 | G11: 7.1 | K11: =+F11*G11 -> 50.41
E34: TOTAL ITEM | K34: =SUM(K11:K33) -> 50.41
C38: MEMORIA DE CÁLCULO CANTIDADES DE OBRA
C41: ITEM | D41: 2 | J41: HOJA 1 DE 1
C42: DESCRIPCIÓN | D42: SUMINISTRO E INSTALACION DE PISO ENCHAPE DE 50CMS X 50 CMS | J42: UNIDAD | K42: m2
C43: DIAGRAMA | E43: LOCALIZACION | F43: DIMENSIONES | J43: Cantidad | K43: Total
F44: Largo | G44: Ancho | H44: Alto | I44: Otros
E45: Aula | F45: 7.1 | G45: 7.1 | K45: =+F45*G45 -> 50.41
E68: TOTAL ITEM | K68: =SUM(K45:K67) -> 50.41
C72: MEMORIA DE CÁLCULO CANTIDADES DE OBRA
C75: ITEM | D75: 3 | J75: HOJA 1 DE 1
C76: DESCRIPCIÓN | D76: SUMINSTRO E ISNTALACION DE CERAMICA GUARDAESCOBA | J76: UNIDAD | K76: ml
C77: DIAGRAMA | E77: LOCALIZACION | F77: DIMENSIONES | J77: Cantidad | K77: Total
F78: Largo | G78: Ancho | H78: Alto | I78: Otros
E79: Aula | J79: 32 | K79: =+J79 -> 32
E102: TOTAL ITEM | K102: =SUM(K79:K101) -> 32
C106: MEMORIA DE CÁLCULO CANTIDADES DE OBRA
C109: ITEM | D109: 4 | J109: HOJA 1 DE 1
C110: DESCRIPCIÓN | D110: SUMINSTRO E ISNTALACION DE CERAMICA A MESON GUARDA INSTRUMENTOS MUSICALES | J110: UNIDAD
C111: DIAGRAMA | E111: LOCALIZACION | F111: DIMENSIONES | J111: Cantidad | K111: Total
F112: Largo | G112: Ancho | H112: Alto | I112: Otros
E113: Mesón Aula | J113: 19.8 | K113: =+J113 -> 19.8
E136: TOTAL ITEM | K136: =SUM(K113:K135) -> 19.8
C140: MEMORIA DE CÁLCULO CANTIDADES DE OBRA
C143: ITEM | D143: 5 | J143: HOJA 1 DE 1
C144: DESCRIPCIÓN | D144: SUMINISTRO E INSTALACION LAMPARA ENCRUSTAR | J144: UNIDAD | K144: Und
C145: DIAGRAMA | E145: LOCALIZACION | F145: DIMENSIONES | J145: Cantidad | K145: Total
F146: Largo | G146: Ancho | H146: Alto | I146: Otros
E147: Aula | J147: 8 | K147: =+J147 -> 8
E170: TOTAL ITEM | K170: =SUM(K147:K169) -> 8
C174: MEMORIA DE CÁLCULO CANTIDADES DE OBRA
C177: ITEM | D177: 6 | J177: HOJA 1 DE 1
C178: DESCRIPCIÓN | D178: SUMINSTRO E INSTALACION CIELORASO EN PVC 9MM X 30 CM (Tipo Mexicano) | J178: UNIDAD | K178: m2
C179: DIAGRAMA | E179: LOCALIZACION | F179: DIMENSIONES | J179: Cantidad | K179: Total
F180: Largo | G180: Ancho | H180: Alto | I180: Otros
...
