Workbook
Name _: #REF!
Name asadaddad: #REF!
Name BuiltIn_Print_Area: #REF!
Name BuiltIn_Print_Titles: #REF!
Name FFF: #REF!
Name FFFF: #REF!
Name fqefqfqef: #REF!
Name FUNDIDA: #REF!
Name fwfwef: #REF!
Name fwfwf: #REF!
Name incInterestedSuppliersWidget_32tblSuppliersInterestedList_rptSuppliersInterestedList_rpteElements_trRow1_0_tdCell1_tblTableSuppliersInterested_trRow1_tdCell1_divSuppliersInterestedWrapper_lnkCompanyLink: Hoja1!#REF!
Name incInterestedSuppliersWidget_32tblSuppliersInterestedList_rptSuppliersInterestedList_rpteElements_trRow1_1_tdCell1_tblTableSuppliersInterested_trRow1_tdCell1_divSuppliersInterestedWrapper_lnkCompanyLink: Hoja1!#REF!
Name JJJ: #REF!
Name l: #REF!

Sheet Hoja1
A1: PROCESO | B1: FGN-NC-IPSE-0044-2024 - GRUPO 1
A2: OBJETO | B2: RENOVACIÓN DE SOPORTE CON MANTENIMIENTO CORRECTIVO, PREVENTIVO, SOPORTE TÉCNICO Y GARANTÍA PARA LOS SUBSISTEMAS QUE SOPORTAN LOS COMPONENTES CENTRO DE DATOS DE LA FGN GRUPO No. 1- CENTROS DE DATOS BOGOTÁ GRUPO No. 2- CENTRO DE DATOS DE MEDELLÍN
A3: VALOR ESTUDIO DE MERCADO | B3: ='VERIFICACION OFERTAS'!I28 -> 1.6664884e+09
A4: No. | B4: EMPRESA | C4: VALOR OFERTA ECONÓMICA | D4: VALOR PLATAFORMA
A5: 1 | B5: COTEL S.A.S. | C5: 1666218286 | D5: 1666218286 | E5: 1
A6: 2 | E6: 2

Sheet VERIFICACION OFERTAS
A2: VERIFICACIÓN DE OFERTAS - FGN-NC-IPSE-0044-2024 - GRUPO 1
C3: =Hoja1!B2 -> RENOVACIÓN DE SOPORTE CON MANTENIMIENTO CORRECTIVO, PREVENTIVO, SOPORTE TÉCNICO Y GARANTÍA PARA LOS SUBSISTEMAS QUE SOPORTAN LOS COMPONENTES CENTRO DE DATOS DE LA FGN GRUPO No. 1- CENTROS DE DATOS BOGOTÁ GRUPO No. 2- CENTRO DE DATOS DE MEDELLÍN
K5: OFERTAS PRESENTADAS
N6: =Hoja1!A5 -> 1
A8: GRUPO No. 1- CENTROS DE DATOS BOGOTÁ | F8: ESTUDIO DE MERCADO | K8: =Hoja1!B5 -> COTEL S.A.S.
A10: MANTENIMIENTO CORRECTIVOS | F10: VALOR SELECCIONADO - GRUPO 1 | K10: VALOR SELECCIONADO - GRUPO 1
A11: ITEM | B11: DESCRIPCIÓN | C11: UNIDAD DE MEDIDA | D11: CANTIDAD
B12: DESCRIPCIÓN DEL BIEN O SERVICIO | C12: UNIDAD DE MEDIDA | F12: VALOR UNITARIO SIN IVA | G12: IVA UNITARIO | H12: VALOR UNITARIO CON IVA | I12: VALOR TOTAL INCLUIDO IVA | K12: VALOR UNITARIO SIN IVA | L12: IVA UNITARIO | M12: VALOR UNITARIO CON IVA | N12: VALOR TOTAL INCLUIDO IVA
A13: 1 | B13: Soporte Técnico con mantenimientos preventivos y correctivos que sean necesarios para los subsistemas: ● Subsistema arquitectónico ● Subsistema de infraestructura de redes eléctricas y estructuradas ● Subsistema de extinción de incendios. ● Subsistema de CCTV y control de acceso ● Subsistema de enfriamiento y de refrigeración De acuerdo con anexo GRUPO No. 1- CENTROS DE DATOS BOGOTÁ CENTRO DE DATOS EDIFICIO GUSTAVO DE GREIFF FICHA TÉCNICA No.1 | C13: SERVICIO | D13: 1 | F13: 604312479 | G13: =ROUND(F13*19%,2) -> 1.1481937e+08 | H13: =ROUND(F13+G13,2) -> 7.1913185e+08 | I13: =ROUND(H13*$D13,2) -> 7.1913185e+08 | K13: 6.0422845e+08 | L13: =ROUND(K13*19%,2) -> 1.148034e+08 | M13: =ROUND(K13+L13,2) -> 719031850 | N13: =ROUND(M13*$D13,2) -> 719031850 | O13: =IF(M13>$H13,"EXCEDIDO","CORRECTO") -> CORRECTO | P13: =IF(N13>$I13,"EXCEDIDO","CORRECTO") -> CORRECTO
A14: TOTAL CENTRO DE DATOS EDIFICIO GUSTAVO DE GREIFF PISO 1 | I14: =ROUND(SUM(I13:I13),2) -> 7.1913185e+08 | N14: =SUM(N13:N13) -> 719031850 | P14: =IF(N14>$I14,"EXCEDIDO","CORRECTO") -> CORRECTO
A16: CENTRO DE DATOS EDIFICIO H (ZEUS) | F16: VALOR UNITARIO | G16: IVA | H16: VALOR UNITARIO INCLUIDO IVA | I16: VALOR TOTAL INCLUIDO IVA | K16: VALOR UNITARIO | L16: IVA | M16: VALOR UNITARIO INCLUIDO IVA | N16: VALOR TOTAL INCLUIDO IVA
A17: ÍTEM | B17: DESCRIPCIÓN DEL BIEN O SERVICIO | C17: UNIDAD DE MEDIDA | D17: CANTIDAD
A18: 1 | B18: Soporte Técnico con mantenimientos preventivos y correctivos que sean necesarios para los subsistemas: ● Subsistema de infraestructura de redes eléctricas y estructuradas ● Subsistema de CCTV y control de acceso ● Subsistema de extinción de incendios ● Subsistema de enfriamiento y de refrigeración ● Subsistema arquitectónico De acuerdo con anexo GRUPO No. 1- CENTROS DE DATOS BOGOTA CENTRO DE DATOS EDIFICIO H (ZEUS) FICHA TÉCNICA N° 2 | C18: SERVICIO | D18: 1 | F18: 665786921 | G18: =ROUND(F18*19%,2) -> 1.2649951e+08 | H18: =ROUND(F18+G18,2) -> 7.9228644e+08 | I18: =ROUND(H18*$D18,2) -> 7.9228644e+08 | K18: 6.6570289e+08 | L18: =ROUND(K18*19%,2) -> 1.2648355e+08 | M18: =ROUND(K18+L18,2) -> 7.9218644e+08 | N18: =ROUND(M18*$D18,2) -> 7.9218644e+08 | O18: =IF(M18>$H18,"EXCEDIDO","CORRECTO") -> CORRECTO | P18: =IF(N18>$I18,"EXCEDIDO","CORRECTO") -> CORRECTO
A19: TOTAL CENTRO DE DATOS EDIFICIO H (ZEUS) | I19: =ROUND(SUM(I18:I18),2) -> 7.9228644e+08 | N19: =ROUND(SUM(N18:N18),2) -> 7.9218644e+08 | P19: =IF(N19>$I19,"EXCEDIDO","CORRECTO") -> CORRECTO
A21: CENTRO DE DATOS INTERCEPTACIONES EDIFICIO L PISO 6 Y AZOTEA | F21: VALOR UNITARIO | G21: IVA | H21: VALOR UNITARIO INCLUIDO IVA | I21: VALOR TOTAL INCLUIDO IVA | K21: VALOR UNITARIO | L21: IVA | M21: VALOR UNITARIO INCLUIDO IVA | N21: VALOR TOTAL INCLUIDO IVA
A22: ÍTEM | B22: DESCRIPCIÓN DEL BIEN O SERVICIO | C22: UNIDAD DE MEDIDA | D22: CANTIDAD
A23: 1 | B23: Soporte Técnico con mantenimientos preventivos correctivos que sean necesarios para los Subsistemas: ● Subsistema de infraestructura de redes eléctricas y estructuradas ● Subsistema de enfriamiento y de refrigeración ● Subsistema de extinción de incendios ● Subsistema arquitectónico ● Subsistema de CCTV y control de acceso De acuerdo con anexo GRUPO No. 1- CENTROS DE DATOS BOGOTÁ CENTRO DE DATOS INTERCEPTACIONES EDIFICIO L PISO 6 Y AZOTEA FICHA TÉCNICA N° 3 | C23: SERVICIO | D23: 1 | F23: 1.3031105e+08 | G23: =ROUND(F23*19%,2) -> 24759099 | H23: =ROUND(F23+G23,2) -> 1.5507015e+08 | I23: =ROUND(H23*$D23,2) -> 1.5507015e+08 | K23: 1.302521e+08 | L23: =ROUND(K23*19%,2) -> 24747899 | M23: =ROUND(K23+L23,2) -> 155000000 | N23: =ROUND(M23*$D23,2) -> 155000000 | O23: =IF(M23>$H23,"EXCEDIDO","CORRECTO") -> CORRECTO | P23: =IF(N23>$I23,"EXCEDIDO","CORRECTO") -> CORRECTO
A24: TOTAL CENTRO DE DATOS INTERCEPTACIONES EDIFICIO L PISO 6 Y AZOTEA | I24: =ROUND(SUM(I23:I23),2) -> 1.5507015e+08 | N24: =ROUND(SUM(N23:N23),2) -> 155000000 | P24: =IF(N24>$I24,"EXCEDIDO","CORRECTO") -> CORRECTO
A26: TOTAL GRUPO 1 - CENTRO DE DATOS BOGOTÁ | I26: =ROUND(I14+I19+I24,2) -> 1.6664884e+09 | N26: =ROUND(N14+N19+N24,2) -> 1.6662183e+09
A28: TOTAL GRUPO 1 | I28: =ROUND(I14+I19+I24,2) -> 1.6664884e+09 | N28: =N26 -> 1.6662183e+09
K30: FGN | N30: =N28 -> 1.6662183e+09
K32: OFERTA | N32: =Hoja1!C5 -> 1666218286
K34: PLATAFORMA | N34: 1666218286
K36: DIFERENCIA | N36: =N32-N30 -> 0.0099999905
N38: 1
K40: LA OFERTA NO SE ENCUENTRA INCURSA EN CAUSAL DE RECHAZO La oferta económica contiene decimales ocultos, por lo tanto la oferta económica queda en $1.666.218.285,99

Sheet RESUMEN DE LA EVALUACION
A1: RESUMEN DE OFERTAS PROCESO FGN-NC-IPSE-0044-2024 - GRUPO 1
A2: OBJETO CONTRACTUAL | C2: =Hoja1!B2 -> RENOVACIÓN DE SOPORTE CON MANTENIMIENTO CORRECTIVO, PREVENTIVO, SOPORTE TÉCNICO Y GARANTÍA PARA LOS SUBSISTEMAS QUE SOPORTAN LOS COMPONENTES CENTRO DE DATOS DE LA FGN GRUPO No. 1- CENTROS DE DATOS BOGOTÁ GRUPO No. 2- CENTRO DE DATOS DE MEDELLÍN
A4: RESUMEN DE LA EVALUACION
A5: CAUSALES DE RECHAZO
A6: l. La no presentación de la “PROPUESTA ECONÓMICA” con la oferta o no se diligencie en su totalidad dejando espacios vacíos sin diligenciar. m. Cuando el valor total incluido IVA de la oferta inicial de precio por Grupo, sea superior al presupuesto oficial estimado por Grupo, de acuerdo con el estudio de mercado Definitivo. n. Cuando el valor unitario por ítem incluido IVA que integran cada uno de los Grupos de la oferta inicial de precio sea superior al Estudio de Mercado Definitivo. o. Cuando el valor total incluido IVA de la oferta inicial de precio, contenga errores aritméticos de que trata el numeral 6.1 del presente documento, y que producto de la corrección aritmética realizada por la Entidad, dicho valor difiera de la propuesta económica inicial registrada en el sobre económico del SECOP II, y esta sea la oferta de menor valor presentada al proceso de contratación, y por tanto, el precio de arranque para el inicio del evento de subasta, esta oferta será rechazada, teniendo en cuenta que el valor registrado como oferta económica inicial por parte de los proponentes en el sobre económico del SECOP II es imposible de ser ajustado en la plataforma tanto para la Entidad, como para los proponentes. Por lo tanto, el proponente debe tener especial cuidado al momento de estructurar la oferta económica aplicando las reglas señaladas en el pliego y registrar los valores en el sobre económico de la plataforma del SECOP II.
A8: VALOR ESTUDIO DE MERCADO | C8: ='VERIFICACION OFERTAS'!I28 -> 1.6664884e+09
A9: ITEM | B9: EMPRESA | C9: VALOR TOTAL OFERTA ECONOMICA | D9: VALOR PLATAFORMA | E9: VALOR VERIFICACIÓN FGN | F9: OBSERVACIONES
A10: 1 | B10: =Hoja1!B5 -> COTEL S.A.S. | C10: =Hoja1!C5 -> 1666218286 | D10: =Hoja1!D5 -> 1666218286 | E10: ='VERIFICACION OFERTAS'!N30 -> 1.6662183e+09 | F10: ='VERIFICACION OFERTAS'!K40 -> LA OFERTA NO SE ENCUENTRA INCURSA EN CAUSAL DE RECHAZO La oferta económica contiene decimales ocultos, por lo tanto la oferta económica queda en $1.666.218.285,99
B13: Fecha: 19/11/2024
B15: Nombre y Cargo de quien Revisó y Aprobó (Área Técnica):
B18: Firma:

Sheet PRECIO ART. BAJO
C1: ANALISIS DE PRECIOS ARTIFICIALMENTE BAJOS
C3: PROCESO | D3: =Hoja1!B1 -> FGN-NC-IPSE-0044-2024 - GRUPO 1
C4: OBJETO CONTRACTUAL: | D4: =Hoja1!B2 -> RENOVACIÓN DE SOPORTE CON MANTENIMIENTO CORRECTIVO, PREVENTIVO, SOPORTE TÉCNICO Y GARANTÍA PARA LOS SUBSISTEMAS QUE SOPORTAN LOS COMPONENTES CENTRO DE DATOS DE LA FGN GRUPO No. 1- CENTROS DE DATOS BOGOTÁ GRUPO No. 2- CENTRO DE DATOS DE MEDELLÍN
C5: VALOR ESTUDIO DE MERCADO | D5: ='RESUMEN DE LA EVALUACION'!#REF! -> #REF!
C6: EMPRESA | D6: OFERTA | E6: AHORRO | F6: % AHORRO FRENTE AL PRESUPUESTO | G6: % DIFERENCIAL ENTRE PROPUESTAS | H6: PROMEDIO | I6: MEDIANA | J6: DESVIACION | K6: MINIMO ADMISIBLE
E7: =$D$5-D7 -> #REF! | F7: =1-(D7/$D$5) -> #REF! | G7: =1-(D7/H7) -> #REF! | H7: =AVERAGE(D5,D7) -> #REF! | I7: =MEDIAN(D5:D7) -> #REF! | J7: =STDEV(D5:D7) -> #REF! | K7: =I7-J7 -> #REF!
E8: =$D$5-D8 -> #REF! | F8: =1-(D8/$D$5) -> #REF! | G8: =1-(D8/H8) -> #DIV/0! | H8: =AVERAGE(D6,D8) -> #DIV/0! | I8: =MEDIAN(D6:D8) -> #NUM! | J8: =STDEV(D6:D8) -> #DIV/0! | K8: =I8-J8 -> #NUM!
E9: =$D$5-D9 -> #REF! | F9: =1-(D9/$D$5) -> #REF! | G9: =1-(D9/H9) -> #DIV/0! | H9: =AVERAGE(D7,D9) -> #DIV/0! | I9: =MEDIAN(D7:D9) -> #NUM! | J9: =STDEV(D7:D9) -> #DIV/0! | K9: =I9-J9 -> #NUM!
E10: =$D$5-D10 -> #REF! | F10: =1-(D10/$D$5) -> #REF! | G10: =1-(D10/H10) -> #DIV/0! | H10: =AVERAGE(D8,D10) -> #DIV/0! | I10: =MEDIAN(D8:D10) -> #NUM! | J10: =STDEV(D8:D10) -> #DIV/0! | K10: =I10-J10 -> #NUM!
E11: =$D$5-D11 -> #REF! | F11: =1-(D11/$D$5) -> #REF! | G11: =1-(D11/H11) -> #DIV/0! | H11: =AVERAGE(D9,D11) -> #DIV/0! | I11: =MEDIAN(D9:D11) -> #NUM! | J11: =STDEV(D9:D11) -> #DIV/0! | K11: =I11-J11 -> #NUM!
E12: =$D$5-D12 -> #REF! | F12: =1-(D12/$D$5) -> #REF! | G12: =1-(D12/H12) -> #DIV/0! | H12: =AVERAGE(D10,D12) -> #DIV/0! | I12: =MEDIAN(D10:D12) -> #NUM! | J12: =STDEV(D10:D12) -> #DIV/0! | K12: =I12-J12 -> #NUM!
E13: =$D$5-D13 -> #REF! | F13: =1-(D13/$D$5) -> #REF! | G13: =1-(D13/H13) -> #DIV/0! | H13: =AVERAGE(D11,D13) -> #DIV/0! | I13: =MEDIAN(D11:D13) -> #NUM! | J13: =STDEV(D11:D13) -> #DIV/0! | K13: =I13-J13 -> #NUM!
E14: =$D$5-D14 -> #REF! | F14: =1-(D14/$D$5) -> #REF! | G14: =1-(D14/H14) -> #DIV/0! | H14: =AVERAGE(D12,D14) -> #DIV/0! | I14: =MEDIAN(D12:D14) -> #NUM! | J14: =STDEV(D12:D14) -> #DIV/0! | K14: =I14-J14 -> #NUM!
E15: =$D$5-D15 -> #REF! | F15: =1-(D15/$D$5) -> #REF! | G15: =1-(D15/H15) -> #DIV/0! | H15: =AVERAGE(D13,D15) -> #DIV/0! | I15: =MEDIAN(D13:D15) -> #NUM! | J15: =STDEV(D13:D15) -> #DIV/0! | K15: =I15-J15 -> #NUM!
E16: =$D$5-D16 -> #REF! | F16: =1-(D16/$D$5) -> #REF! | G16: =1-(D16/H16) -> #DIV/0! | H16: =AVERAGE(D14,D16) -> #DIV/0! | I16: =MEDIAN(D14:D16) -> #NUM! | J16: =STDEV(D14:D16) -> #DIV/0! | K16: =I16-J16 -> #NUM!
E17: =$D$5-D17 -> #REF! | F17: =1-(D17/$D$5) -> #REF! | G17: =1-(D17/H17) -> #DIV/0! | H17: =AVERAGE(D15,D17) -> #DIV/0! | I17: =MEDIAN(D15:D17) -> #NUM! | J17: =STDEV(D15:D17) -> #DIV/0! | K17: =I17-J17 -> #NUM!
E18: =$D$5-D18 -> #REF! | F18: =1-(D18/$D$5) -> #REF! | G18: =1-(D18/H18) -> #DIV/0! | H18: =AVERAGE(D16,D18) -> #DIV/0! | I18: =MEDIAN(D16:D18) -> #NUM! | J18: =STDEV(D16:D18) -> #DIV/0! | K18: =I18-J18 -> #NUM!
... E30: =$D$5-D30 -> #REF! | F30: =1-(D30/$D$5) -> #REF! | G30: =1-(D30/H30) -> #DIV/0! | H30: =AVERAGE(D28,D30) -> #DIV/0! | I30: =MEDIAN(D28:D30) -> #NUM! | J30: =STDEV(D28:D30) -> #DIV/0! | K30: =I30-J30 -> #NUM!
C32: De acuerdo a la Guía para el manejo de ofertas artificialmente bajas en Procesos de Contratación de Colombia Compra Eficiente, se pudo establecer que: 1. En la comparación absoluta de las propuestas frente al valor del proceso, el valor finalmente ofertado por EXPERTQUIM S.A.S. de $10.864.700 se obtuvo un ahorro de 0,05%. 2. En la comparación relativa, al contrastar la oferta con el valor emitido por el Grupo del Sector Económico y de los Oferentes, se evidencia que la oferta de EXPERTQUIM S.A.S. presenta un diferencial del 0,03% frente al presupuesto establecido en el estudio del sector. CONCLUSIÓN Una vez realizado éste análisis, podemos concluir que la propuesta de EXPERTQUIM S.A.S. de $10.864.700 se encuentra acorde a los precios del mercado, teniendo en cuenta que sus precios están por encima del valor mínimo admisible ($10.863.511) y el porcentaje de ahorro frente al presupuesto es de 0,05%.
