Workbook
Name \X: ERR
Name \X: ERR
Name \X: [0]!ERR
Name \Z: ERR
Name \Z: ERR
Name \Z: [0]!ERR
Name ______________________FS01: [1]!ERR
Name _____________________FS01: [0]!ERR
Name ____________________FS01: [1]!ERR
Name __________________FS01: [0]!ERR
Name _________________FS01: [1]!ERR
Name _______________F: [1]!ERR
Name _______________FS01: [1]!ERR
Name ______________F: [1]!ERR
Name ______________FS01: [1]!ERR
Name ____________F: [1]!ERR
Name ____________FS01: [1]!ERR
Name ___________F: [1]!ERR
Name ___________FS01: [1]!ERR
Name __________ff2005: [1]!ERR
Name __________FS01: [1]!ERR
Name _________F: [1]!ERR
Name _________ff2005: [1]!ERR
Name _________FS01: [1]!ERR
Name ________F: [1]!ERR
Name ________FS01: [1]!ERR
Name _______F: [1]!ERR
Name _______ff2005: [1]!ERR
Name _______FS01: NA()
Name _______FS01: #NAME?
Name _______FS01: #NAME?
Name _______FS01: [1]!ERR
Name _______TD02: [1]!ERR
Name ______F: [1]!ERR
Name ______FS01: [1]!ERR
Name ______TD02: [1]!ERR
Name _____F: [1]!ERR
Name _____ff2005: [1]!ERR
Name _____FS01: NA()
Name _____FS01: #NAME?
Name _____FS01: #NAME?
Name _____FS01: [1]!ERR
Name ____A251140: #REF!
Name ____A251150: #REF!
Name ____F: [1]!ERR
Name ____ff2005: [1]!ERR
Name ____FS01: [1]!ERR
Name ____TD02: [1]!ERR
Name ___A251140: #REF!
Name ___A251150: #REF!
Name ___F: #N/A
Name ___ff2005: #N/A
Name ___FS01: NA()
Name ___FS01: #NAME?
Name ___FS01: #NAME?
Name ___FS01: #N/A
Name ___mun2: #REF!
Name ___TD02: #N/A
Name __A251140: #REF!
Name __A251150: #REF!

Sheet fm ..
A3: ANALISIS DEL FACTOR MULTIPLICADOR CONSULTORIA
A4: ='PRESU GENERAL'!A3 -> OBJETO: “PRESTAR EL SERVICIO DE UNA COMISIÓN DE TOPOGRAFIA PARA APOYAR LOS PROGRAMAS DE VIVIENDA EN EL AREA RURAL DEL MUNICIPIO DE MONTERREY, CASANARE.”
A6: No | B6: DESCRIPCIÓN | C6: % PARCIAL | D6: SUB-TOTAL % | E6: TOTAL%
A8: A | B8: SUELDO ANUAL BASICO
A9: 1.1 | B9: Salario Básico | C9: 100
B10: TOTAL SALARIO BASICO | E10: =C9 -> 100
A12: B | B12: PRESTACIONES SOCIALES (expresado como % de 1) | C12: 8.33
B13: B.1. PRESTACIONES LEGALES
A14: 2.1 | B14: Prima anual de servicios (30 días) | C14: 8.33
A15: 2.2 | B15: Cesantías anuales | C15: 8.33
A16: 2.3 | B16: Intereses a las cesantías | C16: 1
A17: 2.4 | B17: Vacaciones anuales (15 días) | C17: 4.17
B18: SUB-TOTAL PRESTACIONES LEGALES | D18: =SUM(C14:C17) -> 21.83 | H18: 47065
B19: B.2. APORTES PARAFISCALES
A20: 2.5 | B20: Sena | C20: 2
A21: 2.6 | B21: Subsidio familiar | C21: 4 | I21: UVT
A22: 2.7 | B22: I.C.B.F | C22: 3 | G22: ESTAMPILLA CULTURA | H22: INFERIOR A | I22: 15000 | J22: 0.01 | K22: =$H$18*I22 -> 705975000
A23: 2.8 | B23: Seguros de Ley | C23: 1 | G23: ESTAMPILLA ADULTO MAYOR | H23: INFERIOR A | I23: 5616 | J23: 0.04 | K23: =$H$18*I23 -> 264317040
B24: SUB-TOTAL APORTES | D24: =SUM(C20:C23) -> 10 | H24: SUPERIOR A | I24: 5616 | J24: 0.04 | K24: =$H$18*I24 -> 264317040
B25: B.3. SEGURIDAD SOCIAL | G25: ESTAMPILLA ELECTRIFICACION | H25: MAYOR A | I25: 3473 | J25: 0.01 | K25: =$H$18*I25 -> 163456745
A26: 2.8 | B26: Pensiones | C26: 12 | G26: ESTAMPILLA DEPORTE Y RECREACION | H26: SIEMPRE | J26: 0.015 | K26: =$H$18*I26 -> 0
A27: 2.9 | B27: medicina Familiar o aportes salud | C27: 8.5 | G27: ESTAMPILLA FAMILIAR | H27: PRESUPUESTO DEL MUNICIPIO | J27: 0.02 | K27: =$H$18*I27 -> 0
A28: 2.10 | B28: ARL | C28: 6.96 | G28: CONTRIBUCION SEGURIDAD | H28: CONSORCIOS
B29: SUB-TOTAL SEGURIDAD SOCIAL | D29: =SUM(C26:C28) -> 27.46
B30: TOTAL PRESTACIONES SOCIALES | E30: =SUM(D18,D24,D29) -> 59.29
A32: C | B32: GASTOS LEGALES, DE REPRESENTACION O INDIRECTOS
B33: C.1. POLIZAS
A34: 3.1 | B34: Cumplimiento | C34: 1
A35: 3.2 | B35: Buen manejo y correcta inversión del anticipo
A36: 3.3 | B36: Pago de salarios, prestaciones sociales legales e indemnizaciones laborales | C36: 0.5
A37: 3.4 | B37: Calidad del servicio | C37: 0.5
A38: 3.5 | B38: Seriedad de la propuesta | C38: 0.5
B39: SUB-TOTAL POLIZAS | D39: =SUM(C34:C38) -> 2.5
B40: C.2. IMPUESTOS
B41: Estampilla proadulto | C41: =I49 -> #DIV/0! | I41: ='PRESU GENERAL'!K22 -> 0
B42: Estampilla prodeporte | C42: =I50 -> #DIV/0! | G42: Estampilla proadulto | I42: 0.04 | J42: =I41*I42 -> 0
B43: Estampillas procultura | C43: =I51 -> #DIV/0! | G43: Estampilla prodeporte | I43: 0.015 | J43: =I41*I43 -> 0
B44: Estampilla projusticia familiar | C44: =I52 -> #DIV/0! | G44: Estampillas procultura | I44: 0.01 | J44: =I41*I44 -> 0
G45: Estampilla projusticia familiar | I45: 0.02 | J45: =I41*I45 -> 0
B46: SUB-TOTAL IMPUESTOS | D46: =SUM(C41:C44) -> #DIV/0! | J46: =SUM(J42:J45) -> 0
...

Sheet PRESU GENERAL
A2: FORMULARIO PROPUESTA ECONÓMICA
A3: OBJETO: “PRESTAR EL SERVICIO DE UNA COMISIÓN DE TOPOGRAFIA PARA APOYAR LOS PROGRAMAS DE VIVIENDA EN EL AREA RURAL DEL MUNICIPIO DE MONTERREY, CASANARE.”
A5: ITEM | B5: 1. COSTOS DE PERSONAL | I5: Plazo = | J5: 25 | K5: Días Calendario | N5: F.M.= | O5: 2.2
A7: No. 1 | B7: CARGO | D7: PERFIL PROFESIONAL | E7: CANT | F7: SUELDO MES | G7: meses | H7: PARTICIPACION (H-MES) | I7: VR. BASICO | J7: F.M. | K7: VR. PARCIAL
A12: TOTAL COSTOS DE PERSONAL | I12: =SUM(I10:I11) -> 0 | K12: =SUM(K10:K11) -> 0
A13: ITEM | B13: 2. COSTOS DIRECTOS
A14: CONCEPTO | E14: UND | F14: VALOR | G14: CANT | H14: UTILIZACION ( H-MES) | I14: VR. PARCIAL
L15: G
A16: TRANSPORTE
A17: 2.1. | B17: Comisión de Topografía | E17: DÍA | G17: 25 | H17: 1 | I17: =ROUND(F17*G17*H17,0) -> 0
H20: TOTAL COSTOS INDIRECTOS | K20: =ROUND(SUM(I17:J19),0) -> 0
A22: 5. COSTOS DE PERSONAL + COSTOS DIRECTOS | K22: =ROUND(K12+K20,0) -> 0
A24: 6. IVA 19.00% | K24: =ROUND(K22*0.19,0) -> 0 | N24: =K12+K20 -> 0
A26: 7. COSTO FINAL (ajustado al Peso) | K26: =ROUND(SUM(K22+K24),0) -> 0
A28: HOJA DE CALCULO PARA ESTABLECER LOS TOPES MAXIMOS SUGERIDOS QUE SE PUEDEN RECONOCER EN LOS CONTRATOS DE CONSULTORIA EJECUTADOS POR EL DEPARTAMENTO DE CASANARE ACTUALIZACION 2024 Resolucion 0056 de 2018 (modificada parcialmente por la Resolucion No 0123 de 13 de Junio de 2018 y por la Resolucion No 0072 de Abril de 2022 e incluye lo establecido en el el Decreto 0051 de 2022
B31: Elaboró: | F31: Aprovó:
B34: ING. YEISON JAVIER HERRERA MORENO | F34: ARQ. JORGE ANDRES MONTES PULIDO
B35: PROFESIONAL DE APOYO OFICINA ASESORA DE PLANEACION | F35: JEFE OFICINA ASESORA DE PLANEACION
B40: DESGLOSE ITEM 4,3 Ensayos y Laboratorios
B41: Ensayos y Laboratorios (Suelos para subrasante natural con operario, Suelos para terraplen con operario, Suelos para capas granulares con operario, Suelos para Concretos con operario)
B42: DESCRIPCIÓN | C42: CANTIDAD | D42: VALOR UNITARIO | E42: VALOR TOTAL
B43: Ensayos de laboratorio sobre concreto hidráulico (Incluye laboratorista) cada 40 m3. | C43: 12 | D43: 625849 | E43: =C43*D43 -> 7510188
B44: ensayos de laboratorio sobre concreto hidráulico (Incluye laboratorista) cada 350 m3 | C44: 0 | D44: 911007 | E44: =C44*D44 -> 0
B45: Ensayos de laboratorio para la verificación periódica de la calidad de material de Sub-base granular. (Por cada un (1) Km) | C45: 1 | D45: 329625 | E45: =C45*D45 -> 329625
B46: Ensayos de laboratorio para la verificación periódica de la calidad de material de base granular. (Por cada un (1) Km) | C46: 0 | D46: 329625 | E46: =C46*D46 -> 0
B47: Densidad método cono arena por punto BASE | C47: 10 | D47: 54574 | E47: 545740
E52: 0
B54: VALOR TOTAL DE ENSAYOS Y LABORATORIOS | E54: =SUM(E43:E50) -> 8385553

Sheet Plan_d_cargas_INTER
D4: INTERVENTORÍA TÉCNICA, ADMINISTRATIVA, FINANCIERA, JURIDICA Y AMBIENTAL PARA EL CONTRATO DE OBRA CUYO OBJETO ES: MANTENIMIENTO DEL SISTEMA DE ALCANTARILLADO PLUVIAL DEL CASCO URBANO DEL MUNICIPIO DE MONTERREY CASANARE Y CONSTRUCCION DE OBRAS MENORES.
C9: ACTIVIDADES INTERVENTORIA | F9: MES | I9: 1 | J9: MES | M9: =I9+1 -> 2 | N9: MES | Q9: =#REF!+1 -> #REF!
F10: 1 | G10: 2 | H10: 3 | I10: 4 | J10: 1 | K10: 2 | L10: 3 | M10: 4 | N10: 1 | O10: 2 | P10: 3 | Q10: 4 | R10: LABORA. | S10: DIAS | T10: =R27 -> 14.4 | U10: LABORA. | V10: DIAS | W10: =U27 -> 60 | X10: LABORA. | Y10: MES | Z10: 2 | AA10: LABORADOS | AC10: #REF! | AD10: LABORA. | AF10: #REF! | AG10: LABORADOS | AI10: #REF! | AJ10: LABORADOS | AL10: #REF! | AM10: LABORADOS | AO10: #REF! | AP10: LABORADOS | AR10: 0 | AS10: LABORA. | AT10: MUESTREO | AU10: 2
R11: ='PRESU GENERAL'!F10 -> 0 | U11: ='PRESU GENERAL'!F11 -> 0 | X11: ='PRESU GENERAL'!F17 -> 0 | AS11: ='PRESU GENERAL'!F18 -> 0
D12: DIAS LABORADOS | E12: DIAS ACTIVIDAD | R12: ='PRESU GENERAL'!B10 -> 0 | U12: ='PRESU GENERAL'!B11 -> 0 | X12: ='PRESU GENERAL'!B17 -> Comisión de Topografía | AS12: ='PRESU GENERAL'!B18 -> 0 | AV12: VALOR POR ACTIVIDAD | AW12: VALOR POR ACTIVIDAD + (IVA 19%)
A13: FM
A14: 2.2 | C14: 1. FUNCIONES ETAPA PRECONSTRUCCION: | D14: =D15 -> 15 | E14: =SUM(E15:E19) -> 30 | R14: =SUM(R15:R19) -> 1 | S14: =SUM(S15:S19) -> 0 | T14: =SUM(T15:T19) -> 0.033333333 | U14: =SUM(U15:U19) -> 5 | V14: =SUM(V15:V19) -> 0 | W14: =SUM(W15:W19) -> 0.16666667 | X14: =SUM(X15:X19) -> 0 | Y14: =SUM(Y15:Y19) -> 0 | ... AU14: =SUM(AU15:AU19) -> 0 | AV14: =ROUND((SUM(AV15:AV19)),2) -> 0 | AW14: =SUM(AW15:AX19) -> 0
C15: 1.1 Revisión y/o ajustes a los diseños | D15: 15 | E15: 10 | F15: 1 | R15: 1 | S15: =($R$11/30)*$A$14*R15 -> 0 | T15: =(R15/$S$45)*$S$46 -> 0.033333333 | U15: 1 | V15: =($U$11/30)*U15*$A$14 -> 0 | W15: =(U15/$V$45)*$V$46 -> 0.033333333 | X15: 0 | Y15: =Z15*X$11*$A$14 -> 0 | Z15: =X15/Y$45*$Y$46 -> 0 | AB15: #REF! | AC15: =AA15/$D$28*$D$46 -> 0 | AE15: #REF! | AF15: =AD15/$D$28*$D$46 -> 0 | AH15: #REF! | AI15: =AG15/$D$28*$D$46 -> 0 | AK15: #REF! | AL15: =AJ15/$D$28*$D$46 -> 0 | AN15: #REF! | AO15: =AM15/$D$28*$D$46 -> 0 | AQ15: 0 | AR15: =AP15/$D$28*$D$46 -> 0 | AS15: 0 | AT15: =AU15*AS$11*$A$14*AT$46 -> 0 | AU15: =(AS15/AT$45)*$AT$46 -> 0 | AV15: =ROUND(S15+V15+Y15+AT15,2) -> 0 | AW15: =AV15*1.19 -> 0
C16: 1.2 Cumplimiento requerimientos ambientales | D16: 15 | E16: 5 | F16: 1 | R16: 0 | S16: =($R$11/30)*$A$14*R16 -> 0 | T16: =(R16/$S$45)*$S$46 -> 0 | U16: 1 | V16: =($U$11/30)*U16*$A$14 -> 0 | W16: =(U16/$V$45)*$V$46 -> 0.033333333 | X16: 0 | Y16: =Z16*X$11*$A$14 -> 0 | Z16: =X16/Y$45*$Y$46 -> 0 | AB16: #REF! | AC16: =AA16/$D$28*$D$46 -> 0 | AE16: #REF! | AF16: =AD16/$D$28*$D$46 -> 0 | AH16: #REF! | AI16: =AG16/$D$28*$D$46 -> 0 | AK16: #REF! | AL16: =AJ16/$D$28*$D$46 -> 0 | AN16: #REF! | AO16: =AM16/$D$28*$D$46 -> 0 | AQ16: 0 | AR16: =AP16/$D$28*$D$46 -> 0 | AS16: 0 | AT16: =AU16*AS$11*$A$14*AT$46 -> 0 | AU16: =(AS16/AT$45)*$AT$46 -> 0 | AV16: =ROUND(S16+V16+Y16+AT16,2) -> 0 | AW16: =AV16*1.19 -> 0
C17: 1.3 Revisión predial | D17: 15 | E17: =SUM($D$15:$D$19)/D17 -> 5 | F17: 1 | J17: t | R17: 0 | S17: =($R$11/30)*$A$14*R17 -> 0 | T17: =(R17/$S$45)*$S$46 -> 0 | U17: 1 | V17: =($U$11/30)*U17*$A$14 -> 0 | W17: =(U17/$V$45)*$V$46 -> 0.033333333 | X17: 0 | Y17: =Z17*X$11*$A$14 -> 0 | Z17: =X17/Y$45*$Y$46 -> 0 | AB17: #REF! | AC17: =AA17/$D$28*$D$46 -> 0 | AE17: #REF! | AF17: =AD17/$D$28*$D$46 -> 0 | AH17: #REF! | AI17: =AG17/$D$28*$D$46 -> 0 | AK17: #REF! | AL17: =AJ17/$D$28*$D$46 -> 0 | AN17: #REF! | AO17: =AM17/$D$28*$D$46 -> 0 | AQ17: 0 | AR17: =AP17/$D$28*$D$46 -> 0 | AS17: 0 | AT17: =AU17*AS$11*$A$14 -> 0 | AU17: =(AS17/AT$45)*$AT$46 -> 0 | AV17: =ROUND(S17+V17+Y17+AT17,2) -> 0 | AW17: =AV17*1.19 -> 0
C18: 1.4 Permisos y/o disponibilidad de servicios publicos | D18: 15 | E18: =SUM($D$15:$D$19)/D18 -> 5 | F18: 1 | R18: 0 | S18: =($R$11/30)*$A$14*R18 -> 0 | T18: =(R18/$S$45)*$S$46 -> 0 | U18: 1 | V18: =($U$11/30)*U18*$A$14 -> 0 | W18: =(U18/$V$45)*$V$46 -> 0.033333333 | X18: 0 | Y18: =Z18*X$11*$A$14 -> 0 | Z18: =X18/Y$45*$Y$46 -> 0 | AB18: #REF! | AC18: =AA18/$D$28*$D$46 -> 0 | AE18: #REF! | AF18: =AD18/$D$28*$D$46 -> 0 | AH18: #REF! | AI18: =AG18/$D$28*$D$46 -> 0 | AK18: #REF! | AL18: =AJ18/$D$28*$D$46 -> 0 | AN18: #REF! | AO18: =AM18/$D$28*$D$46 -> 0 | AQ18: 0 | AR18: =AP18/$D$28*$D$46 -> 0 | AS18: 0 | AT18: =AU18*AS$11*$A$14 -> 0 | AU18: =(AS18/AT$45)*$AT$46 -> 0 | AV18: =ROUND(S18+V18+Y18+AT18,2) -> 0 | AW18: =AV18*1.19 -> 0
C19: 1.5 Permisos y/o disponibilidad fuentes de materiales | D19: 15 | E19: =SUM($D$15:$D$19)/D19 -> 5 | F19: 1 | R19: 0 | S19: =($R$11/30)*$A$14*R19 -> 0 | T19: =(R19/$S$45)*$S$46 -> 0 | U19: 1 | V19: =($U$11/30)*U19*$A$14 -> 0 | W19: =(U19/$V$45)*$V$46 -> 0.033333333 | X19: 0 | Y19: =Z19*X$11*$A$14 -> 0 | Z19: =X19/Y$45*$Y$46 -> 0 | AB19: #REF! | AC19: =AA19/$D$28*$D$46 -> 0 | AE19: #REF! | AF19: =AD19/$D$28*$D$46 -> 0 | AH19: #REF! | AI19: =AG19/$D$28*$D$46 -> 0 | AK19: #REF! | AL19: =AJ19/$D$28*$D$46 -> 0 | AN19: #REF! | AO19: =AM19/$D$28*$D$46 -> 0 | AQ19: 0 | AR19: =AP19/$D$28*$D$46 -> 0 | AS19: 0 | AT19: =AU19*AS$11*$A$14*AT$46 -> 0 | AU19: =(AS19/AT$45)*$AT$46 -> 0 | AV19: =ROUND(S19+V19+Y19+AT19,2) -> 0 | AW19: =AV19*1.19 -> 0
C20: 2. FUNCIONES ETAPA CONSTRUCTIVA: | D20: =(D46*30)-D14 -> 45 | E20: =SUM(E21:E26) -> 552 | R20: =SUM(R21:R26) -> 13.4 | S20: =SUM(S21:S26) -> 0 | T20: =SUM(T21:T26) -> 0.44666667 | U20: =SUM(U21:U26) -> 55 | V20: =SUM(V21:V26) -> 0 | W20: =SUM(W21:W26) -> 1.8333333 | X20: =SUM(X21:X26) -> 18 | Y20: =SUM(Y21:Y26) -> 0 | ... AU20: =SUM(AU21:AU26) -> 1 | AV20: =ROUND((SUM(AV21:AV26)),0) -> 0 | AW20: =SUM(AW21:AX26) -> 0
C21: 2.1 INTERVENTORIA TÉCNICA | D21: =D20 -> 45 | E21: 165 | G21: 1 | H21: 1 | I21: 1 | J21: 1 | K21: 1 | L21: 1 | M21: 1 | N21: 1 | O21: 1 | P21: 1 | Q21: 1 | R21: 10.4 | S21: =(R$11/30)*$A$14*R21 -> 0 | T21: =R21/S$45*$S$46 -> 0.34666667 | U21: 46 | V21: =($U$11/30)*$A$14*U21 -> 0 | W21: =U21/V$45*V46 -> 1.5333333 | X21: 17 | Y21: =X21*(X$11/30) -> 0 | Z21: =X21/Y$45*$Y$46 -> 0.56666667 | AB21: #REF! | AC21: =AA21/$D$28*$D$46 -> 0 | AE21: #REF! | AF21: =AD21/$D$28*$D$46 -> 0 | AH21: #REF! | AI21: =AG21/$D$28*$D$46 -> 0 | AK21: #REF! | AL21: =AJ21/$D$28*$D$46 -> 0 | AN21: #REF! | AO21: =AM21/$D$28*$D$46 -> 0 | AQ21: 0 | AR21: =AP21/$D$28*$D$46 -> 0 | AS21: 2 | AT21: =AS11*AS21 -> 0 | AU21: =AS21/AT$45 -> 1 | AV21: =ROUND(S21+V21+Y21+AT21,2) -> 0 | AW21: =AV21*1.19 -> 0
C22: 2.2 INTERVENTORIA AMBIENTAL (social) | D22: =D20 -> 45 | E22: 165 | G22: 1 | H22: 1 | I22: 1 | J22: 1 | K22: 1 | L22: 1 | M22: 1 | N22: 1 | O22: 1 | P22: 1 | Q22: 1 | R22: 1 | S22: =(R$11/30)*$A$14*R22 -> 0 | T22: =R22/S$45*$S$46 -> 0.033333333 | U22: 3 | V22: =($U$11/30)*$A$14*U22 -> 0 | W22: =U22/V$45*V46 -> 0.1 | X22: 1 | Y22: =X22*(X$11/30) -> 0 | Z22: =X22/Y$45*$Y$46 -> 0.033333333 | AB22: #REF! | AC22: =AA22/$D$28*$D$46 -> 0 | AE22: #REF! | AF22: =AD22/$D$28*$D$46 -> 0 | AH22: #REF! | AI22: =AG22/$D$28*$D$46 -> 0 | AK22: #REF! | AL22: =AJ22/$D$28*$D$46 -> 0 | AN22: #REF! | AO22: =AM22/$D$28*$D$46 -> 0 | AQ22: 0 | AR22: =AP22/$D$28*$D$46 -> 0 | AS22: 0 | AT22: =AU22*AS$11*$A$14*AT$46 -> 0 | AU22: =AS22/AT$45 -> 0 | AV22: =ROUND(S22+V22+Y22+AT22,2) -> 0 | AW22: =AV22*1.19 -> 0
C23: 2.3 INTERVENTORIA ADMINISTRATIVA | D23: =D20 -> 45 | E23: 165 | G23: 1 | H23: 1 | I23: 1 | J23: 1 | K23: 1 | L23: 1 | M23: 1 | N23: 1 | O23: 1 | P23: 1 | Q23: 1 | R23: 1 | S23: =(R$11/30)*$A$14*R23 -> 0 | T23: =R23/S$45*$S$46 -> 0.033333333 | U23: 3 | V23: =($U$11/30)*$A$14*U23 -> 0 | W23: =U23/V$45*V46 -> 0.1 | X23: 0 | Y23: =X23*(X$11/30) -> 0 | Z23: =X23/Y$45*$Y$46 -> 0 | AB23: #REF! | AC23: =AA23/$D$28*$D$46 -> 0 | AE23: #REF! | AF23: =AD23/$D$28*$D$46 -> 0 | AH23: #REF! | AI23: =AG23/$D$28*$D$46 -> 0 | AK23: #REF! | AL23: =AJ23/$D$28*$D$46 -> 0 | AN23: #REF! | AO23: =AM23/$D$28*$D$46 -> 0 | AQ23: 0 | AR23: =AP23/$D$28*$D$46 -> 0 | AS23: 0 | AT23: =AU23*AS$11*$A$14*AT$46 -> 0 | AU23: =AS23/AT$45 -> 0 | AV23: =ROUND(S23+V23+Y23+AT23,2) -> 0 | AW23: =AV23*1.19 -> 0
C24: 2.4 INTERVENTORIA FINANCIERA | D24: =D20 -> 45 | E24: 24 | I24: 1 | M24: 1 | Q24: 1 | R24: 1 | S24: =(R$11/30)*$A$14*R24 -> 0 | T24: =R24/S$45*$S$46 -> 0.033333333 | U24: 2 | V24: =($U$11/30)*$A$14*U24 -> 0 | W24: =U24/V$45*V46 -> 0.066666667 | X24: 0 | Y24: =X24*(X$11/30) -> 0 | Z24: =X24/Y$45*$Y$46 -> 0 | AB24: #REF! | AC24: =AA24/$D$28*$D$46 -> 0 | AE24: #REF! | AF24: =AD24/$D$28*$D$46 -> 0 | AH24: #REF! | AI24: =AG24/$D$28*$D$46 -> 0 | AK24: #REF! | AL24: =AJ24/$D$28*$D$46 -> 0 | AN24: #REF! | AO24: =AM24/$D$28*$D$46 -> 0 | AQ24: 0 | AR24: =AP24/$D$28*$D$46 -> 0 | AS24: 0 | AT24: =AU24*AS$11*$A$14*AT$46 -> 0 | AU24: =AS24/AT$45 -> 0 | AV24: =ROUND(S24+V24+Y24+AT24,2) -> 0 | AW24: =AV24*1.19 -> 0
C25: 2.5 CONTABLE | D25: =D20 -> 45 | E25: 24 | I25: 1 | M25: 1 | Q25: 1 | R25: 0 | S25: =(R$11/30)*$A$14*R25 -> 0 | T25: =R25/S$45*$S$46 -> 0 | U25: 1 | V25: =($U$11/30)*$A$14*U25 -> 0 | W25: =U25/V$45*V46 -> 0.033333333 | X25: 0 | Y25: =X25*(X$11/30) -> 0 | Z25: =X25/Y$45*$Y$46 -> 0 | AB25: #REF! | AC25: =AA25/$D$28*$D$46 -> 0 | AE25: #REF! | AF25: =AD25/$D$28*$D$46 -> 0 | AH25: #REF! | AI25: =AG25/$D$28*$D$46 -> 0 | AK25: #REF! | AL25: =AJ25/$D$28*$D$46 -> 0 | AN25: #REF! | AO25: =AM25/$D$28*$D$46 -> 0 | AQ25: 0 | AR25: =AP25/$D$28*$D$46 -> 0 | AS25: 0 | AT25: =AU25*AS$11*$A$14 -> 0 | AU25: =AS25/AT$45*AT46 -> 0 | AV25: =ROUND(S25+V25+Y25+AT25,2) -> 0 | AW25: =AV25*1.19 -> 0
C26: 2.6 JURIDICA | D26: =D20 -> 45 | E26: 9 | I26: 1 | M26: 1 | Q26: 1 | R26: 0 | S26: =(R$11/30)*$A$14*R26 -> 0 | T26: =R26/S$45*$S$46 -> 0 | U26: 0 | V26: =($U$11/30)*$A$14*U26 -> 0 | W26: =U26/V$45*V46 -> 0 | X26: 0 | Y26: =X26*(X$11/30) -> 0 | Z26: =X26/Y$45*$Y$46 -> 0 | AB26: #REF! | AC26: =AA26/$D$28*$D$46 -> 0 | AE26: #REF! | AF26: =AD26/$D$28*$D$46 -> 0 | AH26: #REF! | AI26: =AG26/$D$28*$D$46 -> 0 | AK26: #REF! | AL26: =AJ26/$D$28*$D$46 -> 0 | AN26: #REF! | AO26: =AM26/$D$28*$D$46 -> 0 | AQ26: 0 | AR26: =AP26/$D$28*$D$46 -> 0 | AS26: 0 | AT26: =AU26*AS$11*$A$14*AT$46 -> 0 | AU26: =AS26/AT$45 -> 0 | AV26: =ROUND(S26+V26+Y26+AT26,2) -> 0 | AW26: =AV26*1.19 -> 0
F27: VALOR TOTAL MES-HOMBRE | R27: =R20+R14 -> 14.4 | S27: =S20+S14 -> 0 | T27: =T20+T14 -> 0.48 | U27: =U20+U14 -> 60 | V27: =V20+V14 -> 0 | W27: =W20+W14 -> 2 | X27: =X20+X14 -> 18 | Y27: =Y20+Y14 -> 0 | ... AU27: =AU20+AU14 -> 1 | AV27: =ROUND((AV20+AV14),0) -> 0 | AW27: =ROUND(AW20+AW14,0) -> 0
A28: | | C28: DÍAS PROYECTO | D28: =D14+D20 -> 60 | E28: =E14+E20 -> 582 | F28: DEDICACIÓN TOTAL PRESUPUESTO | R28: =R27 -> 14.4 | T28: =T27/S46 -> 0.24 | U28: =U27 -> 60 | W28: =W27/V46 -> 1 | X28: =X27 -> 18 | Z28: =Z27/Y46 -> 0.3 | AA28: =AA27 -> 0 | AC28: =AC27 -> 0 | AD28: =AD27 -> 0 | AF28: =AF27 -> 0 | AG28: =AG27 -> 0 | AI28: =AI27 -> 0 | AJ28: =AJ27 -> 0 | AL28: =AL27 -> 0 | AM28: =AM27 -> 0 | AO28: =AO27 -> 0 | AP28: =AP27 -> 0 | AR28: =AR27 -> 0 | AS28: =AS27 -> 2 | AU28: =AU27/AT46 -> 1
C29: NOTA: Las categorias y experiencia del personal se encuentran en el anexo técnico
C31: Elaboró: | L31: Revisó:
AQ32: =13*0.9 -> 11.7
C35: YEFERSON URIEL DAZA PALACIOS | N35: Arq. JUAN PABLO GARZON MORALES
C36: PROFECIONAL UNIVERSITARIO SINF | N36: SECRETARIO DE INFRAESTRUCTURA
S40: =+'PRESU GENERAL'!K10-S27 -> 0 | V40: ='PRESU GENERAL'!#REF!-V27 -> #REF! | Y40: ='PRESU GENERAL'!#REF!-Y27 -> #REF! | AB40: #REF! | AE40: #REF! | AH40: #REF! | AK40: #REF! | AN40: #REF! | AQ40: 0 | AT40: ='PRESU GENERAL'!#REF!-AT27 -> #REF!
C43: - Este programa debe ser concordante con las actividades de la obra física
C44: - El personal solicitado debe ser de calidad profesional igual o mejor que la solicitada para contratista de obra
S45: =+S46*30 -> 60 | V45: =+V46*30 -> 60 | W45: =+W46*30 -> 0 | Y45: =+Y46*30 -> 60 | AA45: =+AA46*30 -> #REF! | AB45: =+AB46*30 -> 390 | AC45: =+AC46*30 -> #REF! | AD45: =+AD46*30 -> #REF! | AE45: =+AE46*30 -> 390 | AF45: =+AF46*30 -> #REF! | AG45: =+AG46*30 -> #REF! | AH45: =+AH46*30 -> 390 | ... AR45: =+AR46*30 -> 0 | AT45: 2
C46: TIEMPO EJECUCIÓN | D46: 2 | R46: ='PRESU GENERAL'!H10 -> 0 | S46: =D46 -> 2 | T46: =+S46*R46*30 -> 0 | U46: ='PRESU GENERAL'!H11 -> 0 | V46: =D46 -> 2 | W46: =+V46*U46*30 -> 0 | X46: ='PRESU GENERAL'!H17 -> 1 | Y46: =D46 -> 2 | Z46: =+Y46*X46*30 -> 60 | AA46: ='PRESU GENERAL'!#REF! -> #REF! | AB46: 13 | AC46: =+AB46*AA46*30 -> #REF! | AD46: ='PRESU GENERAL'!#REF! -> #REF! | AE46: 13 | AF46: =+AE46*AD46*30 -> #REF! | AG46: ='PRESU GENERAL'!#REF! -> #REF! | AH46: 13 | AI46: =+AH46*AG46*30 -> #REF! | AJ46: ='PRESU GENERAL'!#REF! -> #REF! | AK46: 13 | AL46: =+AK46*AJ46*30 -> #REF! | AM46: ='PRESU GENERAL'!#REF! -> #REF! | AN46: 13 | AO46: =+AN46*AM46*30 -> #REF! | AS46: ='PRESU GENERAL'!H18 -> 0 | AT46: 1 | AU46: 2
S47: =+R46-T28 -> -0.24 | T47: =+T46-R27 -> -14.4 | W47: =+W46-U27 -> -60 | Y47: =+X46-Z28 -> 0.7 | Z47: =+Z46-X27 -> 42 | AB47: =+AA46-AC28 -> #REF! | AC47: =+AC46-AA27 -> #REF! | AE47: =+AD46-AF28 -> #REF! | AF47: =+AF46-AD27 -> #REF! | AH47: =+AG46-AI28 -> #REF! | AI47: =+AI46-AG27 -> #REF! | AK47: =+AJ46-AL28 -> #REF! | AL47: =+AL46-AJ27 -> #REF! | AN47: =+AM46-AO28 -> #REF! | AO47: =+AO46-AM27 -> #REF! | AT47: =AS46-AU28 -> -1 | AU47: =+AU46-AS27 -> 0

Sheet CRONOGRAMA PLAN CARGAS
B4: OBJETO : | C4: INTERVENTORIA TÉCNICA, AMBIENTAL, ADMINISTRATIVA, FINANCIERA, CONTABLE Y JURIDICA, CONSTRUCCIÓN DEL PUENTE VEHICULAR SOBRE LA QUEBRADA CAÑO GRANDE SECTOR BUGANVILES EN EL MUNICIPIO DE MONTERREY DEPARTAMENTO DE CASANARE
B6: CRONOGRAMA Y PLAN DE CARGAS
B9: ACTIVIDADES INTERVENTORIA | C9: MES | F9: 1 | G9: MES | J9: 2
C10: 1 | D10: 2 | E10: 3 | F10: 4 | G10: 1 | H10: 2 | I10: 3 | J10: 4 | K10: 1 | L10: 1 | M10: 1 | N10: 1
K11: ='PRESU GENERAL'!B10 -> 0 | L11: ='PRESU GENERAL'!B11 -> 0 | M11: ='PRESU GENERAL'!B17 -> Comisión de Topografía | N11: ='PRESU GENERAL'!B18 -> 0
B13: 1. ETAPA PRECONSTRUCTIVA: | K13: 1 | L13: =Plan_d_cargas_INTER!U14 -> 5 | M13: =Plan_d_cargas_INTER!X14 -> 0 | N13: =Plan_d_cargas_INTER!AU14 -> 0
C14: 1
B15: 2. ETAPA CONSTRUCTIVA: | K15: =SUM(K16:K21) -> 13.4 | L15: =SUM(L16:L21) -> 55 | M15: =SUM(M16:M21) -> 18 | N15: =SUM(N16:N21) -> 2
B16: 2.1 Interventoria Técnica | D16: 1 | E16: 1 | F16: 1 | G16: 1 | H16: 1 | I16: 1 | J16: 1 | K16: =Plan_d_cargas_INTER!R21 -> 10.4 | L16: =Plan_d_cargas_INTER!U21 -> 46 | M16: =Plan_d_cargas_INTER!X21 -> 17 | N16: 2
B17: 2.2 Interventoria Ambiental | D17: 1 | E17: 1 | F17: 1 | G17: 1 | H17: 1 | I17: 1 | J17: 1 | K17: =Plan_d_cargas_INTER!R22 -> 1 | L17: =Plan_d_cargas_INTER!U22 -> 3 | M17: =Plan_d_cargas_INTER!X22 -> 1 | N17: =Plan_d_cargas_INTER!AU22 -> 0
B18: 2.3 Interventoria Administrativa | D18: 1 | E18: 1 | F18: 1 | G18: 1 | H18: 1 | I18: 1 | J18: 1 | K18: =Plan_d_cargas_INTER!R23 -> 1 | L18: =Plan_d_cargas_INTER!U23 -> 3 | M18: =Plan_d_cargas_INTER!X23 -> 0 | N18: =Plan_d_cargas_INTER!AU23 -> 0
B19: 2.4 Interventoria Financiera | F19: 1 | J19: 1 | K19: =Plan_d_cargas_INTER!R24 -> 1 | L19: =Plan_d_cargas_INTER!U24 -> 2 | M19: =Plan_d_cargas_INTER!X24 -> 0 | N19: =Plan_d_cargas_INTER!AU24 -> 0
B20: 2.5 Interventoria Contable | F20: 1 | J20: 1 | K20: =Plan_d_cargas_INTER!R25 -> 0 | L20: =Plan_d_cargas_INTER!U25 -> 1 | M20: =Plan_d_cargas_INTER!X25 -> 0 | N20: =Plan_d_cargas_INTER!AU25 -> 0
B21: 2.6 Interventoria Juridica | F21: 1 | J21: 1 | K21: =Plan_d_cargas_INTER!R26 -> 0 | L21: =Plan_d_cargas_INTER!U26 -> 0 | M21: =Plan_d_cargas_INTER!X26 -> 0 | N21: =Plan_d_cargas_INTER!AU26 -> 0
C22: VALOR TOTAL HOMBRE - MES | K22: =K15+K13 -> 14.4 | L22: =+L13+L15 -> 60 | M22: =+M15+M13 -> 18 | N22: =+N13+N15 -> 2
C23: PORCENTAJE DE DEDICACIÓN | K23: =K22/Plan_d_cargas_INTER!S45 -> 0.24 | L23: =L22/Plan_d_cargas_INTER!V45 -> 1 | M23: =M22/Plan_d_cargas_INTER!Y45 -> 0.3 | N23: =N22/Plan_d_cargas_INTER!AT45 -> 1
B30: Elaboró:
B34: YEFERSON URIEL DAZA PALACIOS | K34: Arq. JUAN PABLO GARZON MORALES
B35: PROFECIONAL UNIVERSITARIO SINF | K35: SECRETARIO DE INFRAESTRUCTURA
